Workbook
Name CABECERA: Cruceros!$A$5:$F$6
Name CONCEPTO: 'Resumen general'!$A$6
Name LblRes00_Acum: 'Resumen general'!$F$6:$G$6
Name LblRes00_Mes: 'Resumen general'!$D$6:$E$6
Name LblRes00_Var: 'Resumen general'!$H$6:$I$6
Name LblRes01_1_Acum: 'Total presentación'!$D$5:$F$5
Name LblRes01_1_Mes: 'Total presentación'!$B$5:$C$5
Name LblRes01_Acum: 'Total tráfico'!$D$5:$F$5
Name LblRes01_Mes: 'Total tráfico'!$B$5:$C$5
Name LblRes02_Acum: Líquidos!$D$5:$F$5
Name LblRes02_Mes: Líquidos!$B$5:$C$5
Name LblRes03_Acum: Sólidos!$D$5:$F$5
Name LblRes03_Mes: Sólidos!$B$5:$C$5
Name LblRes04_Acum: 'Mercancía general'!$D$5:$F$5
Name LblRes04_Mes: 'Mercancía general'!$B$5:$C$5
Name LblRes05_Acum: Pesca!$D$5:$F$5
Name LblRes05_Mes: Pesca!$B$5:$C$5
Name LblRes06_Acum: Avituallamiento!$D$5:$F$5
Name LblRes06_Mes: Avituallamiento!$B$5:$C$5
Name LblRes07_1_Acum: 'Mercan. contene. tránsito'!$D$5:$F$5
Name LblRes07_1_Mes: 'Mercan. contene. tránsito'!$B$5:$C$5
Name LblRes07_Acum: 'Mercancías tránsito'!$D$5:$F$5
Name LblRes07_Mes: 'Mercancías tránsito'!$B$5:$C$5
Name LblRes08_Acum: 'Mercancías contenedores'!$D$5:$F$5
Name LblRes08_Mes: 'Mercancías contenedores'!$B$5:$C$5
Name LblRes09_Acum: 'Ro-Ro'!$D$5:$F$5
Name LblRes09_Mes: 'Ro-Ro'!$B$5:$C$5
Name LblRes10_1_Acum: 'TEUS tránsito'!$D$5:$F$5
Name LblRes10_1_Mes: 'TEUS tránsito'!$B$5:$C$5
Name LblRes10_2_Acum: #REF!
Name LblRes10_2_Mes: #REF!
Name LblRes10_3_Acum: #REF!
Name LblRes10_3_Mes: #REF!
Name LblRes10_4_Acum: #REF!
Name LblRes10_4_Mes: #REF!
Name LblRes10_Acum: TEUS!$D$5:$F$5
Name LblRes10_Mes: TEUS!$B$5:$C$5
Name LblRes11_1_Acum: 'Pasajeros crucero'!$D$5:$F$5
Name LblRes11_1_Mes: 'Pasajeros crucero'!$B$5:$C$5
Name LblRes11_2_Acum: 'Vehículos régimen pasaje'!$D$5:$F$5
Name LblRes11_2_Mes: 'Vehículos régimen pasaje'!$B$5:$C$5
Name LblRes11_Acum: 'Pasajeros total'!$D$5:$F$5
Name LblRes11_Mes: 'Pasajeros total'!$B$5:$C$5
Name LblRes12_1_Acum: 'Buques número'!$D$5:$F$5
Name LblRes12_1_Mes: 'Buques número'!$B$5:$C$5
Name LblRes12_2_Acum: 'Buques GT'!$D$5:$F$5
Name LblRes12_2_Mes: 'Buques GT'!$B$5:$C$5
Name LblRes12_3_Acum: Cruceros!$D$5:$F$5
Name LblRes12_3_Mes: Cruceros!$B$5:$C$5
Name PROVINCIAS: Cruceros!$A$5:$A$35
Name TxtFecha: Cruceros!$L$5

Sheet Resumen general
D1: 00. RESUMEN GENERAL DEL TRÁFICO PORTUARIO
I4: 39171
A6: CONCEPTO | D6: Mes Enero | F6: Acumulado desde Enero | H6: Variación
D7: 2006 | E7: 2007 | F7: 2006 | G7: 2007 | H7: Diferencia | I7: %
A8: MERCANCÍAS SEGÚN SU PRESENTACIÓN | B8: GRANELES | C8: LÍQUIDOS | D8: 12206667 | E8: 11673416 | F8: 12206667 | G8: 11673416 | H8: -533251 | I8: =((G8*100/F8)-100) -> -4.3685225
C9: SÓLIDOS | D9: 9459177 | E9: 8480020 | F9: 9459177 | G9: 8480020 | H9: -979157 | I9: =((G9*100/F9)-100) -> -10.351397
B10: MERCANCÍA GRAL. | C10: CONVENCIONAL | D10: 4114380 | E10: 4647899 | F10: 4114380 | G10: 4647899 | H10: 533519 | I10: =((G10*100/F10)-100) -> 12.967179
C11: EN CONTENEDORES | D11: 9137365 | E11: 10214222 | F11: 9137365 | G11: 10214222 | H11: 1076857 | I11: =((G11*100/F11)-100) -> 11.785203
C12: TOTAL | D12: 13251745 | E12: 14862121 | F12: 13251745 | G12: 14862121 | H12: 1610376 | I12: =((G12*100/F12)-100) -> 12.152181
C13: TOTAL | D13: 34917589 | E13: 35015557 | F13: 34917589 | G13: 35015557 | H13: 97968 | I13: =((G13*100/F13)-100) -> 0.2805692
A14: OTRAS MERCANCÍAS | B14: PESCA | C14: TOTAL PESCA | D14: 12367 | E14: 13126 | F14: 12367 | G14: 13126 | H14: 759 | I14: =((G14*100/F14)-100) -> 6.1373009
B15: AVITUALLAMIENTO | C15: PRODUCTOS PETROLÍFEROS | D15: 581249 | E15: 605743 | F15: 581249 | G15: 605743 | H15: 24494 | I15: =((G15*100/F15)-100) -> 4.2140288
C16: OTROS | D16: 199380 | E16: 220170 | F16: 199380 | G16: 220170 | H16: 20790 | I16: =((G16*100/F16)-100) -> 10.427325
B17: TRAFICO INTERIOR | C17: TOTAL TRAFICO INTERIOR | D17: 214303 | E17: 195931 | F17: 214303 | G17: 195931 | H17: -18372 | I17: =((G17*100/F17)-100) -> -8.5729085
C18: TOTAL | D18: 1007299 | E18: 1034970 | F18: 1007299 | G18: 1034970 | H18: 27671 | I18: =((G18*100/F18)-100) -> 2.7470493
C19: TOTAL TRÁFICO PORTUARIO | D19: =+D13+D18 -> 35924888 | E19: =+E13+E18 -> 36050527 | F19: =+F13+F18 -> 35924888 | G19: =+G13+G18 -> 36050527 | H19: =G19-F19 -> 125639 | I19: =((G19*100/F19)-100) -> 0.34972691
A21: OTRAS INFORMACIONES | B21: MERCANCÍAS | C21: EN TRÁNSITO | D21: 5477586 | E21: 6613658 | F21: 5477586 | G21: 6613658 | H21: 1136072 | I21: =((G21*100/F21)-100) -> 20.740377
C22: EN CONTENEDORES EN TRÁNSITO | D22: 5128043 | E22: 5914756 | F22: 5128043 | G22: 5914756 | H22: 786713 | I22: =((G22*100/F22)-100) -> 15.341389
B23: TRÁFICO RO-RO | C23: TOTAL TRÁFICO RO-RO | D23: 2928330 | E23: 3438924 | F23: 2928330 | G23: 3438924 | H23: 510594 | I23: =((G23*100/F23)-100) -> 17.436355
B24: CONTENEDORES (TEU) | C24: TOTAL CONTENEDORES (TEU) | D24: 881741 | E24: 978623.5 | F24: 881741 | G24: 978623.5 | H24: 96882.5 | I24: =((G24*100/F24)-100) -> 10.987637
C25: EN TRÁNSITO | D25: 390818 | E25: 490976 | F25: 390818 | G25: 490976 | H25: 100158 | I25: =((G25*100/F25)-100) -> 25.627786
B26: PASAJEROS | C26: REG. TRANSPORTE Y DE CRUCERO (nº) | D26: 1182149 | E26: 1255527 | F26: 1182149 | G26: 1255527 | H26: 73378 | I26: =((G26*100/F26)-100) -> 6.2071702
C27: DE CRUCERO (nº) | D27: 114277 | E27: 117621 | F27: 114277 | G27: 117621 | H27: 3344 | I27: =((G27*100/F27)-100) -> 2.9262231
B28: VEHÍCULOS | C28: EN RÉGIMEN DE PASAJE | D28: 212208 | E28: 235716 | F28: 212208 | G28: 235716 | H28: 23508 | I28: =((G28*100/F28)-100) -> 11.07781
B29: BUQUES MERCANTES | C29: TOTAL BUQUES MERCANTES | D29: 9020 | E29: 9831 | F29: 9020 | G29: 9831 | H29: 811 | I29: =((G29*100/F29)-100) -> 8.9911308
C30: UDS. ARQUEO BRUTO (G.T.) | D30: 103155645 | E30: 112532716 | F30: 103155645 | G30: 112532716 | H30: 9377071 | I30: =((G30*100/F30)-100) -> 9.0902161
C31: NÚMERO DE CRUCEROS | D31: 89 | E31: 78 | F31: 89 | G31: 78 | H31: -11 | I31: =((G31*100/F31)-100) -> -12.359551

Sheet Total tráfico
F1: 1. TRAFICO PORTUARIO (Toneladas)
A5: Autoridad Portuaria | B5: ='Resumen general'!D6 -> Mes Enero | D5: ='Resumen general'!F6 -> Acumulado desde Enero | L5: ='Resumen general'!I4 -> 39171
B6: ='Resumen general'!D7 -> 2006 | C6: ='Resumen general'!E7 -> 2007 | D6: ='Resumen general'!F7 -> 2006 | E6: ='Resumen general'!G7 -> 2007 | F6: Var. (%)
A7: A CORUÑA | B7: 1262114 | C7: 1141011 | D7: 1262114 | E7: 1141011 | F7: =((E7*100)/D7)-100 -> -9.5952505
A8: ALICANTE | B8: 307939 | C8: 402802 | D8: 307939 | E8: 402802 | F8: =((E8*100)/D8)-100 -> 30.805776
A9: ALMERIA | B9: 544746 | C9: 450527 | D9: 544746 | E9: 450527 | F9: =((E9*100)/D9)-100 -> -17.295951
A10: AVILES | B10: 516906 | C10: 399207 | D10: 516906 | E10: 399207 | F10: =((E10*100)/D10)-100 -> -22.769904
A11: BAHIA DE ALGECIRAS | B11: 5707721 | C11: 5669125 | D11: 5707721 | E11: 5669125 | F11: =((E11*100)/D11)-100 -> -0.67620684
A12: BAHIA DE CADIZ | B12: 566191 | C12: 428184 | D12: 566191 | E12: 428184 | F12: =((E12*100)/D12)-100 -> -24.374637
A13: BALEARES | B13: 909735 | C13: 1076045 | D13: 909735 | E13: 1076045 | F13: =((E13*100)/D13)-100 -> 18.281148
A14: BARCELONA | B14: 3648682 | C14: 4138963 | D14: 3648682 | E14: 4138963 | F14: =((E14*100)/D14)-100 -> 13.437208
A15: BILBAO | B15: 2574777 | C15: 2741014 | D15: 2574777 | E15: 2741014 | F15: =((E15*100)/D15)-100 -> 6.456365
A16: CARTAGENA | B16: 2299766 | C16: 1658627 | D16: 2299766 | E16: 1658627 | F16: =((E16*100)/D16)-100 -> -27.878445
A17: CASTELLON | B17: 1009849 | C17: 1145875 | D17: 1009849 | E17: 1145875 | F17: =((E17*100)/D17)-100 -> 13.469935
A18: CEUTA | B18: 198727 | C18: 219307 | D18: 198727 | E18: 219307 | F18: =((E18*100)/D18)-100 -> 10.355915
... A34: VILAGARCIA | B34: 107478 | C34: 100302 | D34: 107478 | E34: 100302 | F34: =((E34*100)/D34)-100 -> -6.6767152
A35: Total | B35: =SUM(B7:B34) -> 35924888 | C35: =SUM(C7:C34) -> 36050527 | D35: =SUM(D7:D34) -> 35924888 | E35: =SUM(E7:E34) -> 36050527 | F35: =((E35*100)/D35)-100 -> 0.34972691
B37: =E6 -> 2007 | C37: =D6 -> 2006 | F37: =B37 -> 2007 | G37: =C37 -> 2006
A38: =A7 -> A CORUÑA | B38: =E7 -> 1141011 | C38: =D7 -> 1262114 | D38: =_xlfn.RANK.EQ(B38,$B$38:$B$65)+COUNTIF($B$38:$B$65,B38)-1 -> 11 | E38: =INDEX($A$38:$B$65,MATCH(ROW()-37,$D$38:$D$65,0),1) -> BAHIA DE ALGECIRAS | F38: =LOOKUP(E38,$A$38:$A$65,$B$38:$B$65) -> 5669125 | G38: =LOOKUP(E38,$A$38:$A$65,$C$38:$C$65) -> 5707721
A39: =A8 -> ALICANTE | B39: =E8 -> 402802 | C39: =D8 -> 307939 | D39: =_xlfn.RANK.EQ(B39,$B$38:$B$65)+COUNTIF($B$38:$B$65,B39)-1 -> 20 | E39: =INDEX($A$38:$B$65,MATCH(ROW()-37,$D$38:$D$65,0),1) -> BARCELONA | F39: =LOOKUP(E39,$A$38:$A$65,$B$38:$B$65) -> 4138963 | G39: =LOOKUP(E39,$A$38:$A$65,$C$38:$C$65) -> 3648682
A40: =A9 -> ALMERIA | B40: =E9 -> 450527 | C40: =D9 -> 544746 | D40: =_xlfn.RANK.EQ(B40,$B$38:$B$65)+COUNTIF($B$38:$B$65,B40)-1 -> 16 | E40: =INDEX($A$38:$B$65,MATCH(ROW()-37,$D$38:$D$65,0),1) -> VALENCIA | F40: =LOOKUP(E40,$A$38:$A$65,$B$38:$B$65) -> 3951055 | G40: =LOOKUP(E40,$A$38:$A$65,$C$38:$C$65) -> 3452063
A41: =A10 -> AVILES | B41: =E10 -> 399207 | C41: =D10 -> 516906 | D41: =_xlfn.RANK.EQ(B41,$B$38:$B$65)+COUNTIF($B$38:$B$65,B41)-1 -> 21 | E41: =INDEX($A$38:$B$65,MATCH(ROW()-37,$D$38:$D$65,0),1) -> TARRAGONA | F41: =LOOKUP(E41,$A$38:$A$65,$B$38:$B$65) -> 3284028 | G41: =LOOKUP(E41,$A$38:$A$65,$C$38:$C$65) -> 2494428
A42: =A11 -> BAHIA DE ALGECIRAS | B42: =E11 -> 5669125 | C42: =D11 -> 5707721 | D42: =_xlfn.RANK.EQ(B42,$B$38:$B$65)+COUNTIF($B$38:$B$65,B42)-1 -> 1 | E42: =INDEX($A$38:$B$65,MATCH(ROW()-37,$D$38:$D$65,0),1) -> BILBAO | F42: =LOOKUP(E42,$A$38:$A$65,$B$38:$B$65) -> 2741014 | G42: =LOOKUP(E42,$A$38:$A$65,$C$38:$C$65) -> 2574777
A43: =A12 -> BAHIA DE CADIZ | B43: =E12 -> 428184 | C43: =D12 -> 566191 | D43: =_xlfn.RANK.EQ(B43,$B$38:$B$65)+COUNTIF($B$38:$B$65,B43)-1 -> 18 | E43: =INDEX($A$38:$B$65,MATCH(ROW()-37,$D$38:$D$65,0),1) -> LAS PALMAS | F43: =LOOKUP(E43,$A$38:$A$65,$B$38:$B$65) -> 2104555 | G43: =LOOKUP(E43,$A$38:$A$65,$C$38:$C$65) -> 2010489
A44: =A13 -> BALEARES | B44: =E13 -> 1076045 | C44: =D13 -> 909735 | D44: =_xlfn.RANK.EQ(B44,$B$38:$B$65)+COUNTIF($B$38:$B$65,B44)-1 -> 13 | E44: =INDEX($A$38:$B$65,MATCH(ROW()-37,$D$38:$D$65,0),1) -> CARTAGENA | F44: =LOOKUP(E44,$A$38:$A$65,$B$38:$B$65) -> 1658627 | G44: =LOOKUP(E44,$A$38:$A$65,$C$38:$C$65) -> 2299766
A45: =A14 -> BARCELONA | B45: =E14 -> 4138963 | C45: =D14 -> 3648682 | D45: =_xlfn.RANK.EQ(B45,$B$38:$B$65)+COUNTIF($B$38:$B$65,B45)-1 -> 2 | E45: =INDEX($A$38:$B$65,MATCH(ROW()-37,$D$38:$D$65,0),1) -> GIJON | F45: =LOOKUP(E45,$A$38:$A$65,$B$38:$B$65) -> 1451111 | G45: =LOOKUP(E45,$A$38:$A$65,$C$38:$C$65) -> 2033839
A46: =A15 -> BILBAO | B46: =E15 -> 2741014 | C46: =D15 -> 2574777 | D46: =_xlfn.RANK.EQ(B46,$B$38:$B$65)+COUNTIF($B$38:$B$65,B46)-1 -> 5 | E46: =INDEX($A$38:$B$65,MATCH(ROW()-37,$D$38:$D$65,0),1) -> SANTA CRUZ DE TENERIFE | F46: =LOOKUP(E46,$A$38:$A$65,$B$38:$B$65) -> 1435761 | G46: =LOOKUP(E46,$A$38:$A$65,$C$38:$C$65) -> 1603177
A47: =A16 -> CARTAGENA | B47: =E16 -> 1658627 | C47: =D16 -> 2299766 | D47: =_xlfn.RANK.EQ(B47,$B$38:$B$65)+COUNTIF($B$38:$B$65,B47)-1 -> 7 | E47: =INDEX($A$38:$B$65,MATCH(ROW()-37,$D$38:$D$65,0),1) -> CASTELLON | F47: =LOOKUP(E47,$A$38:$A$65,$B$38:$B$65) -> 1145875 | G47: =LOOKUP(E47,$A$38:$A$65,$C$38:$C$65) -> 1009849
A48: =A17 -> CASTELLON | B48: =E17 -> 1145875 | C48: =D17 -> 1009849 | D48: =_xlfn.RANK.EQ(B48,$B$38:$B$65)+COUNTIF($B$38:$B$65,B48)-1 -> 10 | E48: =INDEX($A$38:$B$65,MATCH(ROW()-37,$D$38:$D$65,0),1) -> A CORUÑA | F48: =LOOKUP(E48,$A$38:$A$65,$B$38:$B$65) -> 1141011 | G48: =LOOKUP(E48,$A$38:$A$65,$C$38:$C$65) -> 1262114
A49: =A18 -> CEUTA | B49: =E18 -> 219307 | C49: =D18 -> 198727 | D49: =_xlfn.RANK.EQ(B49,$B$38:$B$65)+COUNTIF($B$38:$B$65,B49)-1 -> 24 | E49: =INDEX($A$38:$B$65,MATCH(ROW()-37,$D$38:$D$65,0),1) -> HUELVA | F49: =LOOKUP(E49,$A$38:$A$65,$B$38:$B$65) -> 1125715 | G49: =LOOKUP(E49,$A$38:$A$65,$C$38:$C$65) -> 1193080
... A65: =A34 -> VILAGARCIA | B65: =E34 -> 100302 | C65: =D34 -> 107478 | D65: =_xlfn.RANK.EQ(B65,$B$38:$B$65)+COUNTIF($B$38:$B$65,B65)-1 -> 27 | E65: =INDEX($A$38:$B$65,MATCH(ROW()-37,$D$38:$D$65,0),1) -> MELILLA | F65: =LOOKUP(E65,$A$38:$A$65,$B$38:$B$65) -> 58282 | G65: =LOOKUP(E65,$A$38:$A$65,$C$38:$C$65) -> 63372

Sheet Total presentación
F1: 1.1. MERCANCÍAS SEGÚN SU FORMA DE PRESENTACIÓN
J2: (Toneladas)
A5: Autoridad Portuaria | B5: ='Resumen general'!D6 -> Mes Enero | D5: ='Resumen general'!F6 -> Acumulado desde Enero | L5: ='Resumen general'!I4 -> 39171
B6: ='Resumen general'!D7 -> 2006 | C6: ='Resumen general'!E7 -> 2007 | D6: ='Resumen general'!F7 -> 2006 | E6: ='Resumen general'!G7 -> 2007 | F6: Var. (%)
A7: A CORUÑA | B7: 1227381 | C7: 1106548 | D7: 1227381 | E7: 1106548 | F7: =((E7*100)/D7)-100 -> -9.8447833
A8: ALICANTE | B8: 304308 | C8: 397858 | D8: 304308 | E8: 397858 | F8: =((E8*100)/D8)-100 -> 30.74188
A9: ALMERIA | B9: 535701 | C9: 439464 | D9: 535701 | E9: 439464 | F9: =((E9*100)/D9)-100 -> -17.964686
A10: AVILES | B10: 510827 | C10: 394837 | D10: 510827 | E10: 394837 | F10: =((E10*100)/D10)-100 -> -22.706317
A11: BAHIA DE ALGECIRAS | B11: 5289838 | C11: 5237413 | D11: 5289838 | E11: 5237413 | F11: =((E11*100)/D11)-100 -> -0.99105114
A12: BAHIA DE CADIZ | B12: 556895 | C12: 422283 | D12: 556895 | E12: 422283 | F12: =((E12*100)/D12)-100 -> -24.171882
A13: BALEARES | B13: 899201 | C13: 1073977 | D13: 899201 | E13: 1073977 | F13: =((E13*100)/D13)-100 -> 19.436811
A14: BARCELONA | B14: 3578585 | C14: 4064309 | D14: 3578585 | E14: 4064309 | F14: =((E14*100)/D14)-100 -> 13.573074
A15: BILBAO | B15: 2564352 | C15: 2729971 | D15: 2564352 | E15: 2729971 | F15: =((E15*100)/D15)-100 -> 6.4585127
A16: CARTAGENA | B16: 2284552 | C16: 1654075 | D16: 2284552 | E16: 1654075 | F16: =((E16*100)/D16)-100 -> -27.597402
A17: CASTELLON | B17: 1006705 | C17: 1142003 | D17: 1006705 | E17: 1142003 | F17: =((E17*100)/D17)-100 -> 13.439687
A18: CEUTA | B18: 161191 | C18: 171244 | D18: 161191 | E18: 171244 | F18: =((E18*100)/D18)-100 -> 6.2367006
... A34: VILAGARCIA | B34: 107003 | C34: 99588 | D34: 107003 | E34: 99588 | F34: =((E34*100)/D34)-100 -> -6.9297123
A35: Total | B35: =SUM(B7:B34) -> 34917589 | C35: =SUM(C7:C34) -> 35015557 | D35: =SUM(D7:D34) -> 34917589 | E35: =SUM(E7:E34) -> 35015557 | F35: =((E35*100)/D35)-100 -> 0.2805692
B37: =E6 -> 2007 | C37: =D6 -> 2006 | F37: =B37 -> 2007 | G37: =C37 -> 2006
A38: =A7 -> A CORUÑA | B38: =E7 -> 1106548 | C38: =D7 -> 1227381 | D38: =_xlfn.RANK.EQ(B38,$B$38:$B$65)+COUNTIF($B$38:$B$65,B38)-1 -> 12 | E38: =INDEX($A$38:$B$65,MATCH(ROW()-37,$D$38:$D$65,0),1) -> BAHIA DE ALGECIRAS | F38: =LOOKUP(E38,$A$38:$A$65,$B$38:$B$65) -> 5237413 | G38: =LOOKUP(E38,$A$38:$A$65,$C$38:$C$65) -> 5289838
A39: =A8 -> ALICANTE | B39: =E8 -> 397858 | C39: =D8 -> 304308 | D39: =_xlfn.RANK.EQ(B39,$B$38:$B$65)+COUNTIF($B$38:$B$65,B39)-1 -> 19 | E39: =INDEX($A$38:$B$65,MATCH(ROW()-37,$D$38:$D$65,0),1) -> BARCELONA | F39: =LOOKUP(E39,$A$38:$A$65,$B$38:$B$65) -> 4064309 | G39: =LOOKUP(E39,$A$38:$A$65,$C$38:$C$65) -> 3578585
A40: =A9 -> ALMERIA | B40: =E9 -> 439464 | C40: =D9 -> 535701 | D40: =_xlfn.RANK.EQ(B40,$B$38:$B$65)+COUNTIF($B$38:$B$65,B40)-1 -> 17 | E40: =INDEX($A$38:$B$65,MATCH(ROW()-37,$D$38:$D$65,0),1) -> VALENCIA | F40: =LOOKUP(E40,$A$38:$A$65,$B$38:$B$65) -> 3929438 | G40: =LOOKUP(E40,$A$38:$A$65,$C$38:$C$65) -> 3433922
A41: =A10 -> AVILES | B41: =E10 -> 394837 | C41: =D10 -> 510827 | D41: =_xlfn.RANK.EQ(B41,$B$38:$B$65)+COUNTIF($B$38:$B$65,B41)-1 -> 20 | E41: =INDEX($A$38:$B$65,MATCH(ROW()-37,$D$38:$D$65,0),1) -> TARRAGONA | F41: =LOOKUP(E41,$A$38:$A$65,$B$38:$B$65) -> 3265301 | G41: =LOOKUP(E41,$A$38:$A$65,$C$38:$C$65) -> 2475168
A42: =A11 -> BAHIA DE ALGECIRAS | B42: =E11 -> 5237413 | C42: =D11 -> 5289838 | D42: =_xlfn.RANK.EQ(B42,$B$38:$B$65)+COUNTIF($B$38:$B$65,B42)-1 -> 1 | E42: =INDEX($A$38:$B$65,MATCH(ROW()-37,$D$38:$D$65,0),1) -> BILBAO | F42: =LOOKUP(E42,$A$38:$A$65,$B$38:$B$65) -> 2729971 | G42: =LOOKUP(E42,$A$38:$A$65,$C$38:$C$65) -> 2564352
A43: =A12 -> BAHIA DE CADIZ | B43: =E12 -> 422283 | C43: =D12 -> 556895 | D43: =_xlfn.RANK.EQ(B43,$B$38:$B$65)+COUNTIF($B$38:$B$65,B43)-1 -> 18 | E43: =INDEX($A$38:$B$65,MATCH(ROW()-37,$D$38:$D$65,0),1) -> LAS PALMAS | F43: =LOOKUP(E43,$A$38:$A$65,$B$38:$B$65) -> 1938284 | G43: =LOOKUP(E43,$A$38:$A$65,$C$38:$C$65) -> 1838230
A44: =A13 -> BALEARES | B44: =E13 -> 1073977 | C44: =D13 -> 899201 | D44: =_xlfn.RANK.EQ(B44,$B$38:$B$65)+COUNTIF($B$38:$B$65,B44)-1 -> 13 | E44: =INDEX($A$38:$B$65,MATCH(ROW()-37,$D$38:$D$65,0),1) -> CARTAGENA | F44: =LOOKUP(E44,$A$38:$A$65,$B$38:$B$65) -> 1654075 | G44: =LOOKUP(E44,$A$38:$A$65,$C$38:$C$65) -> 2284552
A45: =A14 -> BARCELONA | B45: =E14 -> 4064309 | C45: =D14 -> 3578585 | D45: =_xlfn.RANK.EQ(B45,$B$38:$B$65)+COUNTIF($B$38:$B$65,B45)-1 -> 2 | E45: =INDEX($A$38:$B$65,MATCH(ROW()-37,$D$38:$D$65,0),1) -> GIJON | F45: =LOOKUP(E45,$A$38:$A$65,$B$38:$B$65) -> 1425108 | G45: =LOOKUP(E45,$A$38:$A$65,$C$38:$C$65) -> 2008748
A46: =A15 -> BILBAO | B46: =E15 -> 2729971 | C46: =D15 -> 2564352 | D46: =_xlfn.RANK.EQ(B46,$B$38:$B$65)+COUNTIF($B$38:$B$65,B46)-1 -> 5 | E46: =INDEX($A$38:$B$65,MATCH(ROW()-37,$D$38:$D$65,0),1) -> SANTA CRUZ DE TENERIFE | F46: =LOOKUP(E46,$A$38:$A$65,$B$38:$B$65) -> 1341924 | G46: =LOOKUP(E46,$A$38:$A$65,$C$38:$C$65) -> 1530375
A47: =A16 -> CARTAGENA | B47: =E16 -> 1654075 | C47: =D16 -> 2284552 | D47: =_xlfn.RANK.EQ(B47,$B$38:$B$65)+COUNTIF($B$38:$B$65,B47)-1 -> 7 | E47: =INDEX($A$38:$B$65,MATCH(ROW()-37,$D$38:$D$65,0),1) -> CASTELLON | F47: =LOOKUP(E47,$A$38:$A$65,$B$38:$B$65) -> 1142003 | G47: =LOOKUP(E47,$A$38:$A$65,$C$38:$C$65) -> 1006705
A48: =A17 -> CASTELLON | B48: =E17 -> 1142003 | C48: =D17 -> 1006705 | D48: =_xlfn.RANK.EQ(B48,$B$38:$B$65)+COUNTIF($B$38:$B$65,B48)-1 -> 10 | E48: =INDEX($A$38:$B$65,MATCH(ROW()-37,$D$38:$D$65,0),1) -> HUELVA | F48: =LOOKUP(E48,$A$38:$A$65,$B$38:$B$65) -> 1119453 | G48: =LOOKUP(E48,$A$38:$A$65,$C$38:$C$65) -> 1181250
A49: =A18 -> CEUTA | B49: =E18 -> 171244 | C49: =D18 -> 161191 | D49: =_xlfn.RANK.EQ(B49,$B$38:$B$65)+COUNTIF($B$38:$B$65,B49)-1 -> 25 | E49: =INDEX($A$38:$B$65,MATCH(ROW()-37,$D$38:$D$65,0),1) -> A CORUÑA | F49: =LOOKUP(E49,$A$38:$A$65,$B$38:$B$65) -> 1106548 | G49: =LOOKUP(E49,$A$38:$A$65,$C$38:$C$65) -> 1227381
... A65: =A34 -> VILAGARCIA | B65: =E34 -> 99588 | C65: =D34 -> 107003 | D65: =_xlfn.RANK.EQ(B65,$B$38:$B$65)+COUNTIF($B$38:$B$65,B65)-1 -> 27 | E65: =INDEX($A$38:$B$65,MATCH(ROW()-37,$D$38:$D$65,0),1) -> MELILLA | F65: =LOOKUP(E65,$A$38:$A$65,$B$38:$B$65) -> 58282 | G65: =LOOKUP(E65,$A$38:$A$65,$C$38:$C$65) -> 62405

Sheet Líquidos
F1: 2. GRANELES LÍQUIDOS (Toneladas)
A5: Autoridad Portuaria | B5: ='Resumen general'!D6 -> Mes Enero | D5: ='Resumen general'!F6 -> Acumulado desde Enero | L5: ='Resumen general'!I4 -> 39171
B6: ='Resumen general'!D7 -> 2006 | C6: ='Resumen general'!E7 -> 2007 | D6: ='Resumen general'!F7 -> 2006 | E6: ='Resumen general'!G7 -> 2007 | F6: Var. (%)
A7: A CORUÑA | B7: 754341 | C7: 670522 | D7: 754341 | E7: 670522 | F7: =((E7*100)/D7)-100 -> -11.111553
A8: ALICANTE | B8: 15073 | C8: 10102 | D8: 15073 | E8: 10102 | F8: =((E8*100)/D8)-100 -> -32.9795
A9: ALMERIA | B9: 0 | C9: 0 | D9: 0 | E9: 0 | F9: =((E9*100)/D9)-100 -> #DIV/0!
A10: AVILES | B10: 59266 | C10: 55592 | D10: 59266 | E10: 55592 | F10: =((E10*100)/D10)-100 -> -6.1991698
A11: BAHIA DE ALGECIRAS | B11: 1927934 | C11: 1459774 | D11: 1927934 | E11: 1459774 | F11: =((E11*100)/D11)-100 -> -24.282989
A12: BAHIA DE CADIZ | B12: 7406 | C12: 7716 | D12: 7406 | E12: 7716 | F12: =((E12*100)/D12)-100 -> 4.1857953
A13: BALEARES | B13: 123733 | C13: 147134 | D13: 123733 | E13: 147134 | F13: =((E13*100)/D13)-100 -> 18.912497
A14: BARCELONA | B14: 1017838 | C14: 1072392 | D14: 1017838 | E14: 1072392 | F14: =((E14*100)/D14)-100 -> 5.359792
A15: BILBAO | B15: 1749644 | C15: 1844820 | D15: 1749644 | E15: 1844820 | F15: =((E15*100)/D15)-100 -> 5.4397352
A16: CARTAGENA | B16: 1706353 | C16: 1197140 | D16: 1706353 | E16: 1197140 | F16: =((E16*100)/D16)-100 -> -29.842184
A17: CASTELLON | B17: 705318 | C17: 675711 | D17: 705318 | E17: 675711 | F17: =((E17*100)/D17)-100 -> -4.197681
A18: CEUTA | B18: 92104 | C18: 86132 | D18: 92104 | E18: 86132 | F18: =((E18*100)/D18)-100 -> -6.4839746
... A34: VILAGARCIA | B34: 32166 | C34: 47705 | D34: 32166 | E34: 47705 | F34: =((E34*100)/D34)-100 -> 48.308773
A35: Total | B35: =SUM(B7:B34) -> 12206667 | C35: =SUM(C7:C34) -> 11673416 | D35: =SUM(D7:D34) -> 12206667 | E35: =SUM(E7:E34) -> 11673416 | F35: =((E35*100)/D35)-100 -> -4.3685225
B37: =E6 -> 2007 | C37: =D6 -> 2006 | F37: =B37 -> 2007 | G37: =C37 -> 2006
A38: =A7 -> A CORUÑA | B38: =E7 -> 670522 | C38: =D7 -> 754341 | D38: =_xlfn.RANK.EQ(B38,$B$38:$B$65)+COUNTIF($B$38:$B$65,B38)-1 -> 8 | E38: =INDEX($A$38:$B$65,MATCH(ROW()-37,$D$38:$D$65,0),1) -> BILBAO | F38: =LOOKUP(E38,$A$38:$A$65,$B$38:$B$65) -> 1844820 | G38: =LOOKUP(E38,$A$38:$A$65,$C$38:$C$65) -> 1749644
A39: =A8 -> ALICANTE | B39: =E8 -> 10102 | C39: =D8 -> 15073 | D39: =_xlfn.RANK.EQ(B39,$B$38:$B$65)+COUNTIF($B$38:$B$65,B39)-1 -> 21 | E39: =INDEX($A$38:$B$65,MATCH(ROW()-37,$D$38:$D$65,0),1) -> TARRAGONA | F39: =LOOKUP(E39,$A$38:$A$65,$B$38:$B$65) -> 1751430 | G39: =LOOKUP(E39,$A$38:$A$65,$C$38:$C$65) -> 1400347
A40: =A9 -> ALMERIA | B40: =E9 -> 0 | C40: =D9 -> 0 | D40: =_xlfn.RANK.EQ(B40,$B$38:$B$65)+COUNTIF($B$38:$B$65,B40)-1 -> 28 | E40: =INDEX($A$38:$B$65,MATCH(ROW()-37,$D$38:$D$65,0),1) -> BAHIA DE ALGECIRAS | F40: =LOOKUP(E40,$A$38:$A$65,$B$38:$B$65) -> 1459774 | G40: =LOOKUP(E40,$A$38:$A$65,$C$38:$C$65) -> 1927934
A41: =A10 -> AVILES | B41: =E10 -> 55592 | C41: =D10 -> 59266 | D41: =_xlfn.RANK.EQ(B41,$B$38:$B$65)+COUNTIF($B$38:$B$65,B41)-1 -> 17 | E41: =INDEX($A$38:$B$65,MATCH(ROW()-37,$D$38:$D$65,0),1) -> CARTAGENA | F41: =LOOKUP(E41,$A$38:$A$65,$B$38:$B$65) -> 1197140 | G41: =LOOKUP(E41,$A$38:$A$65,$C$38:$C$65) -> 1706353
A42: =A11 -> BAHIA DE ALGECIRAS | B42: =E11 -> 1459774 | C42: =D11 -> 1927934 | D42: =_xlfn.RANK.EQ(B42,$B$38:$B$65)+COUNTIF($B$38:$B$65,B42)-1 -> 3 | E42: =INDEX($A$38:$B$65,MATCH(ROW()-37,$D$38:$D$65,0),1) -> BARCELONA | F42: =LOOKUP(E42,$A$38:$A$65,$B$38:$B$65) -> 1072392 | G42: =LOOKUP(E42,$A$38:$A$65,$C$38:$C$65) -> 1017838
A43: =A12 -> BAHIA DE CADIZ | B43: =E12 -> 7716 | C43: =D12 -> 7406 | D43: =_xlfn.RANK.EQ(B43,$B$38:$B$65)+COUNTIF($B$38:$B$65,B43)-1 -> 22 | E43: =INDEX($A$38:$B$65,MATCH(ROW()-37,$D$38:$D$65,0),1) -> HUELVA | F43: =LOOKUP(E43,$A$38:$A$65,$B$38:$B$65) -> 781055 | G43: =LOOKUP(E43,$A$38:$A$65,$C$38:$C$65) -> 756255
A44: =A13 -> BALEARES | B44: =E13 -> 147134 | C44: =D13 -> 123733 | D44: =_xlfn.RANK.EQ(B44,$B$38:$B$65)+COUNTIF($B$38:$B$65,B44)-1 -> 13 | E44: =INDEX($A$38:$B$65,MATCH(ROW()-37,$D$38:$D$65,0),1) -> CASTELLON | F44: =LOOKUP(E44,$A$38:$A$65,$B$38:$B$65) -> 675711 | G44: =LOOKUP(E44,$A$38:$A$65,$C$38:$C$65) -> 705318
A45: =A14 -> BARCELONA | B45: =E14 -> 1072392 | C45: =D14 -> 1017838 | D45: =_xlfn.RANK.EQ(B45,$B$38:$B$65)+COUNTIF($B$38:$B$65,B45)-1 -> 5 | E45: =INDEX($A$38:$B$65,MATCH(ROW()-37,$D$38:$D$65,0),1) -> A CORUÑA | F45: =LOOKUP(E45,$A$38:$A$65,$B$38:$B$65) -> 670522 | G45: =LOOKUP(E45,$A$38:$A$65,$C$38:$C$65) -> 754341
A46: =A15 -> BILBAO | B46: =E15 -> 1844820 | C46: =D15 -> 1749644 | D46: =_xlfn.RANK.EQ(B46,$B$38:$B$65)+COUNTIF($B$38:$B$65,B46)-1 -> 1 | E46: =INDEX($A$38:$B$65,MATCH(ROW()-37,$D$38:$D$65,0),1) -> SANTA CRUZ DE TENERIFE | F46: =LOOKUP(E46,$A$38:$A$65,$B$38:$B$65) -> 658160 | G46: =LOOKUP(E46,$A$38:$A$65,$C$38:$C$65) -> 867255
A47: =A16 -> CARTAGENA | B47: =E16 -> 1197140 | C47: =D16 -> 1706353 | D47: =_xlfn.RANK.EQ(B47,$B$38:$B$65)+COUNTIF($B$38:$B$65,B47)-1 -> 4 | E47: =INDEX($A$38:$B$65,MATCH(ROW()-37,$D$38:$D$65,0),1) -> LAS PALMAS | F47: =LOOKUP(E47,$A$38:$A$65,$B$38:$B$65) -> 392767 | G47: =LOOKUP(E47,$A$38:$A$65,$C$38:$C$65) -> 403509
A48: =A17 -> CASTELLON | B48: =E17 -> 675711 | C48: =D17 -> 705318 | D48: =_xlfn.RANK.EQ(B48,$B$38:$B$65)+COUNTIF($B$38:$B$65,B48)-1 -> 7 | E48: =INDEX($A$38:$B$65,MATCH(ROW()-37,$D$38:$D$65,0),1) -> VALENCIA | F48: =LOOKUP(E48,$A$38:$A$65,$B$38:$B$65) -> 385595 | G48: =LOOKUP(E48,$A$38:$A$65,$C$38:$C$65) -> 143683
A49: =A18 -> CEUTA | B49: =E18 -> 86132 | C49: =D18 -> 92104 | D49: =_xlfn.RANK.EQ(B49,$B$38:$B$65)+COUNTIF($B$38:$B$65,B49)-1 -> 15 | E49: =INDEX($A$38:$B$65,MATCH(ROW()-37,$D$38:$D$65,0),1) -> GIJON | F49: =LOOKUP(E49,$A$38:$A$65,$B$38:$B$65) -> 167490 | G49: =LOOKUP(E49,$A$38:$A$65,$C$38:$C$65) -> 146505
... A65: =A34 -> VILAGARCIA | B65: =E34 -> 47705 | C65: =D34 -> 32166 | D65: =_xlfn.RANK.EQ(B65,$B$38:$B$65)+COUNTIF($B$38:$B$65,B65)-1 -> 18 | E65: =INDEX($A$38:$B$65,MATCH(ROW()-37,$D$38:$D$65,0),1) -> ALMERIA | F65: =LOOKUP(E65,$A$38:$A$65,$B$38:$B$65) -> 0 | G65: =LOOKUP(E65,$A$38:$A$65,$C$38:$C$65) -> 0

Sheet Sólidos
F1: 3. GRANELES SÓLIDOS (Toneladas)
A5: Autoridad Portuaria | B5: ='Resumen general'!D6 -> Mes Enero | D5: ='Resumen general'!F6 -> Acumulado desde Enero | L5: ='Resumen general'!I4 -> 39171
B6: ='Resumen general'!D7 -> 2006 | C6: ='Resumen general'!E7 -> 2007 | D6: ='Resumen general'!F7 -> 2006 | E6: ='Resumen general'!G7 -> 2007 | F6: Var. (%)
A7: A CORUÑA | B7: 377049 | C7: 339125 | D7: 377049 | E7: 339125 | F7: =((E7*100)/D7)-100 -> -10.058109
A8: ALICANTE | B8: 170494 | C8: 192786 | D8: 170494 | E8: 192786 | F8: =((E8*100)/D8)-100 -> 13.074947
A9: ALMERIA | B9: 490689 | C9: 385444 | D9: 490689 | E9: 385444 | F9: =((E9*100)/D9)-100 -> -21.448412
A10: AVILES | B10: 364410 | C10: 253100 | D10: 364410 | E10: 253100 | F10: =((E10*100)/D10)-100 -> -30.545265
A11: BAHIA DE ALGECIRAS | B11: 262243 | C11: 263029 | D11: 262243 | E11: 263029 | F11: =((E11*100)/D11)-100 -> 0.29972201
A12: BAHIA DE CADIZ | B12: 289056 | C12: 201094 | D12: 289056 | E12: 201094 | F12: =((E12*100)/D12)-100 -> -30.430782
A13: BALEARES | B13: 181651 | C13: 201900 | D13: 181651 | E13: 201900 | F13: =((E13*100)/D13)-100 -> 11.1472
A14: BARCELONA | B14: 333779 | C14: 356547 | D14: 333779 | E14: 356547 | F14: =((E14*100)/D14)-100 -> 6.8212799
A15: BILBAO | B15: 303066 | C15: 304705 | D15: 303066 | E15: 304705 | F15: =((E15*100)/D15)-100 -> 0.54080629
A16: CARTAGENA | B16: 491572 | C16: 391848 | D16: 491572 | E16: 391848 | F16: =((E16*100)/D16)-100 -> -20.286754
A17: CASTELLON | B17: 206115 | C17: 328544 | D17: 206115 | E17: 328544 | F17: =((E17*100)/D17)-100 -> 59.398394
A18: CEUTA | B18: 4863 | C18: 4504 | D18: 4863 | E18: 4504 | F18: =((E18*100)/D18)-100 -> -7.3822743
... A34: VILAGARCIA | B34: 59126 | C34: 40013 | D34: 59126 | E34: 40013 | F34: =((E34*100)/D34)-100 -> -32.32588
A35: Total | B35: =SUM(B7:B34) -> 9459177 | C35: =SUM(C7:C34) -> 8480020 | D35: =SUM(D7:D34) -> 9459177 | E35: =SUM(E7:E34) -> 8480020 | F35: =((E35*100)/D35)-100 -> -10.351397
B37: =E6 -> 2007 | C37: =D6 -> 2006 | F37: =B37 -> 2007 | G37: =C37 -> 2006
A38: =A7 -> A CORUÑA | B38: =E7 -> 339125 | C38: =D7 -> 377049 | D38: =_xlfn.RANK.EQ(B38,$B$38:$B$65)+COUNTIF($B$38:$B$65,B38)-1 -> 8 | E38: =INDEX($A$38:$B$65,MATCH(ROW()-37,$D$38:$D$65,0),1) -> TARRAGONA | F38: =LOOKUP(E38,$A$38:$A$65,$B$38:$B$65) -> 1395457 | G38: =LOOKUP(E38,$A$38:$A$65,$C$38:$C$65) -> 973108
A39: =A8 -> ALICANTE | B39: =E8 -> 192786 | C39: =D8 -> 170494 | D39: =_xlfn.RANK.EQ(B39,$B$38:$B$65)+COUNTIF($B$38:$B$65,B39)-1 -> 18 | E39: =INDEX($A$38:$B$65,MATCH(ROW()-37,$D$38:$D$65,0),1) -> GIJON | F39: =LOOKUP(E39,$A$38:$A$65,$B$38:$B$65) -> 1186797 | G39: =LOOKUP(E39,$A$38:$A$65,$C$38:$C$65) -> 1820113
A40: =A9 -> ALMERIA | B40: =E9 -> 385444 | C40: =D9 -> 490689 | D40: =_xlfn.RANK.EQ(B40,$B$38:$B$65)+COUNTIF($B$38:$B$65,B40)-1 -> 6 | E40: =INDEX($A$38:$B$65,MATCH(ROW()-37,$D$38:$D$65,0),1) -> FERROL-SAN CIBRAO | F40: =LOOKUP(E40,$A$38:$A$65,$B$38:$B$65) -> 655474 | G40: =LOOKUP(E40,$A$38:$A$65,$C$38:$C$65) -> 806030
A41: =A10 -> AVILES | B41: =E10 -> 253100 | C41: =D10 -> 364410 | D41: =_xlfn.RANK.EQ(B41,$B$38:$B$65)+COUNTIF($B$38:$B$65,B41)-1 -> 14 | E41: =INDEX($A$38:$B$65,MATCH(ROW()-37,$D$38:$D$65,0),1) -> VALENCIA | F41: =LOOKUP(E41,$A$38:$A$65,$B$38:$B$65) -> 502206 | G41: =LOOKUP(E41,$A$38:$A$65,$C$38:$C$65) -> 544082
A42: =A11 -> BAHIA DE ALGECIRAS | B42: =E11 -> 263029 | C42: =D11 -> 262243 | D42: =_xlfn.RANK.EQ(B42,$B$38:$B$65)+COUNTIF($B$38:$B$65,B42)-1 -> 13 | E42: =INDEX($A$38:$B$65,MATCH(ROW()-37,$D$38:$D$65,0),1) -> CARTAGENA | F42: =LOOKUP(E42,$A$38:$A$65,$B$38:$B$65) -> 391848 | G42: =LOOKUP(E42,$A$38:$A$65,$C$38:$C$65) -> 491572
A43: =A12 -> BAHIA DE CADIZ | B43: =E12 -> 201094 | C43: =D12 -> 289056 | D43: =_xlfn.RANK.EQ(B43,$B$38:$B$65)+COUNTIF($B$38:$B$65,B43)-1 -> 17 | E43: =INDEX($A$38:$B$65,MATCH(ROW()-37,$D$38:$D$65,0),1) -> ALMERIA | F43: =LOOKUP(E43,$A$38:$A$65,$B$38:$B$65) -> 385444 | G43: =LOOKUP(E43,$A$38:$A$65,$C$38:$C$65) -> 490689
A44: =A13 -> BALEARES | B44: =E13 -> 201900 | C44: =D13 -> 181651 | D44: =_xlfn.RANK.EQ(B44,$B$38:$B$65)+COUNTIF($B$38:$B$65,B44)-1 -> 16 | E44: =INDEX($A$38:$B$65,MATCH(ROW()-37,$D$38:$D$65,0),1) -> BARCELONA | F44: =LOOKUP(E44,$A$38:$A$65,$B$38:$B$65) -> 356547 | G44: =LOOKUP(E44,$A$38:$A$65,$C$38:$C$65) -> 333779
A45: =A14 -> BARCELONA | B45: =E14 -> 356547 | C45: =D14 -> 333779 | D45: =_xlfn.RANK.EQ(B45,$B$38:$B$65)+COUNTIF($B$38:$B$65,B45)-1 -> 7 | E45: =INDEX($A$38:$B$65,MATCH(ROW()-37,$D$38:$D$65,0),1) -> A CORUÑA | F45: =LOOKUP(E45,$A$38:$A$65,$B$38:$B$65) -> 339125 | G45: =LOOKUP(E45,$A$38:$A$65,$C$38:$C$65) -> 377049
A46: =A15 -> BILBAO | B46: =E15 -> 304705 | C46: =D15 -> 303066 | D46: =_xlfn.RANK.EQ(B46,$B$38:$B$65)+COUNTIF($B$38:$B$65,B46)-1 -> 11 | E46: =INDEX($A$38:$B$65,MATCH(ROW()-37,$D$38:$D$65,0),1) -> CASTELLON | F46: =LOOKUP(E46,$A$38:$A$65,$B$38:$B$65) -> 328544 | G46: =LOOKUP(E46,$A$38:$A$65,$C$38:$C$65) -> 206115
A47: =A16 -> CARTAGENA | B47: =E16 -> 391848 | C47: =D16 -> 491572 | D47: =_xlfn.RANK.EQ(B47,$B$38:$B$65)+COUNTIF($B$38:$B$65,B47)-1 -> 5 | E47: =INDEX($A$38:$B$65,MATCH(ROW()-37,$D$38:$D$65,0),1) -> HUELVA | F47: =LOOKUP(E47,$A$38:$A$65,$B$38:$B$65) -> 320369 | G47: =LOOKUP(E47,$A$38:$A$65,$C$38:$C$65) -> 404269
A48: =A17 -> CASTELLON | B48: =E17 -> 328544 | C48: =D17 -> 206115 | D48: =_xlfn.RANK.EQ(B48,$B$38:$B$65)+COUNTIF($B$38:$B$65,B48)-1 -> 9 | E48: =INDEX($A$38:$B$65,MATCH(ROW()-37,$D$38:$D$65,0),1) -> BILBAO | F48: =LOOKUP(E48,$A$38:$A$65,$B$38:$B$65) -> 304705 | G48: =LOOKUP(E48,$A$38:$A$65,$C$38:$C$65) -> 303066
A49: =A18 -> CEUTA | B49: =E18 -> 4504 | C49: =D18 -> 4863 | D49: =_xlfn.RANK.EQ(B49,$B$38:$B$65)+COUNTIF($B$38:$B$65,B49)-1 -> 27 | E49: =INDEX($A$38:$B$65,MATCH(ROW()-37,$D$38:$D$65,0),1) -> SANTANDER | F49: =LOOKUP(E49,$A$38:$A$65,$B$38:$B$65) -> 289229 | G49: =LOOKUP(E49,$A$38:$A$65,$C$38:$C$65) -> 332637
... A65: =A34 -> VILAGARCIA | B65: =E34 -> 40013 | C65: =D34 -> 59126 | D65: =_xlfn.RANK.EQ(B65,$B$38:$B$65)+COUNTIF($B$38:$B$65,B65)-1 -> 26 | E65: =INDEX($A$38:$B$65,MATCH(ROW()-37,$D$38:$D$65,0),1) -> MELILLA | F65: =LOOKUP(E65,$A$38:$A$65,$B$38:$B$65) -> 1938 | G65: =LOOKUP(E65,$A$38:$A$65,$C$38:$C$65) -> 2953

Sheet Mercancía general
F1: 4. MERCANCÍA GENERAL (Toneladas)
A5: Autoridad Portuaria | B5: ='Resumen general'!D6 -> Mes Enero | D5: ='Resumen general'!F6 -> Acumulado desde Enero | L5: ='Resumen general'!I4 -> 39171
B6: ='Resumen general'!D7 -> 2006 | C6: ='Resumen general'!E7 -> 2007 | D6: ='Resumen general'!F7 -> 2006 | E6: ='Resumen general'!G7 -> 2007 | F6: Var. (%)
A7: A CORUÑA | B7: 95991 | C7: 96901 | D7: 95991 | E7: 96901 | F7: =((E7*100)/D7)-100 -> 0.94800554
A8: ALICANTE | B8: 118741 | C8: 194970 | D8: 118741 | E8: 194970 | F8: =((E8*100)/D8)-100 -> 64.197708
A9: ALMERIA | B9: 45012 | C9: 54020 | D9: 45012 | E9: 54020 | F9: =((E9*100)/D9)-100 -> 20.012441
A10: AVILES | B10: 87151 | C10: 86145 | D10: 87151 | E10: 86145 | F10: =((E10*100)/D10)-100 -> -1.1543184
A11: BAHIA DE ALGECIRAS | B11: 3099661 | C11: 3514610 | D11: 3099661 | E11: 3514610 | F11: =((E11*100)/D11)-100 -> 13.386916
A12: BAHIA DE CADIZ | B12: 260433 | C12: 213473 | D12: 260433 | E12: 213473 | F12: =((E12*100)/D12)-100 -> -18.031509
A13: BALEARES | B13: 593817 | C13: 724943 | D13: 593817 | E13: 724943 | F13: =((E13*100)/D13)-100 -> 22.081887
A14: BARCELONA | B14: 2226968 | C14: 2635370 | D14: 2226968 | E14: 2635370 | F14: =((E14*100)/D14)-100 -> 18.338925
A15: BILBAO | B15: 511642 | C15: 580446 | D15: 511642 | E15: 580446 | F15: =((E15*100)/D15)-100 -> 13.447684
A16: CARTAGENA | B16: 86627 | C16: 65087 | D16: 86627 | E16: 65087 | F16: =((E16*100)/D16)-100 -> -24.865227
A17: CASTELLON | B17: 95272 | C17: 137748 | D17: 95272 | E17: 137748 | F17: =((E17*100)/D17)-100 -> 44.583928
A18: CEUTA | B18: 64224 | C18: 80608 | D18: 64224 | E18: 80608 | F18: =((E18*100)/D18)-100 -> 25.510713
... A34: VILAGARCIA | B34: 15711 | C34: 11870 | D34: 15711 | E34: 11870 | F34: =((E34*100)/D34)-100 -> -24.447839
A35: Total | B35: =SUM(B7:B34) -> 13251745 | C35: =SUM(C7:C34) -> 14862121 | D35: =SUM(D7:D34) -> 13251745 | E35: =SUM(E7:E34) -> 14862121 | F35: =((E35*100)/D35)-100 -> 12.152181
B37: =E6 -> 2007 | C37: =D6 -> 2006 | F37: =B37 -> 2007 | G37: =C37 -> 2006
A38: =A7 -> A CORUÑA | B38: =E7 -> 96901 | C38: =D7 -> 95991 | D38: =_xlfn.RANK.EQ(B38,$B$38:$B$65)+COUNTIF($B$38:$B$65,B38)-1 -> 17 | E38: =INDEX($A$38:$B$65,MATCH(ROW()-37,$D$38:$D$65,0),1) -> BAHIA DE ALGECIRAS | F38: =LOOKUP(E38,$A$38:$A$65,$B$38:$B$65) -> 3514610 | G38: =LOOKUP(E38,$A$38:$A$65,$C$38:$C$65) -> 3099661
A39: =A8 -> ALICANTE | B39: =E8 -> 194970 | C39: =D8 -> 118741 | D39: =_xlfn.RANK.EQ(B39,$B$38:$B$65)+COUNTIF($B$38:$B$65,B39)-1 -> 11 | E39: =INDEX($A$38:$B$65,MATCH(ROW()-37,$D$38:$D$65,0),1) -> VALENCIA | F39: =LOOKUP(E39,$A$38:$A$65,$B$38:$B$65) -> 3041637 | G39: =LOOKUP(E39,$A$38:$A$65,$C$38:$C$65) -> 2746157
A40: =A9 -> ALMERIA | B40: =E9 -> 54020 | C40: =D9 -> 45012 | D40: =_xlfn.RANK.EQ(B40,$B$38:$B$65)+COUNTIF($B$38:$B$65,B40)-1 -> 24 | E40: =INDEX($A$38:$B$65,MATCH(ROW()-37,$D$38:$D$65,0),1) -> BARCELONA | F40: =LOOKUP(E40,$A$38:$A$65,$B$38:$B$65) -> 2635370 | G40: =LOOKUP(E40,$A$38:$A$65,$C$38:$C$65) -> 2226968
A41: =A10 -> AVILES | B41: =E10 -> 86145 | C41: =D10 -> 87151 | D41: =_xlfn.RANK.EQ(B41,$B$38:$B$65)+COUNTIF($B$38:$B$65,B41)-1 -> 18 | E41: =INDEX($A$38:$B$65,MATCH(ROW()-37,$D$38:$D$65,0),1) -> LAS PALMAS | F41: =LOOKUP(E41,$A$38:$A$65,$B$38:$B$65) -> 1409928 | G41: =LOOKUP(E41,$A$38:$A$65,$C$38:$C$65) -> 1321405
A42: =A11 -> BAHIA DE ALGECIRAS | B42: =E11 -> 3514610 | C42: =D11 -> 3099661 | D42: =_xlfn.RANK.EQ(B42,$B$38:$B$65)+COUNTIF($B$38:$B$65,B42)-1 -> 1 | E42: =INDEX($A$38:$B$65,MATCH(ROW()-37,$D$38:$D$65,0),1) -> BALEARES | F42: =LOOKUP(E42,$A$38:$A$65,$B$38:$B$65) -> 724943 | G42: =LOOKUP(E42,$A$38:$A$65,$C$38:$C$65) -> 593817
A43: =A12 -> BAHIA DE CADIZ | B43: =E12 -> 213473 | C43: =D12 -> 260433 | D43: =_xlfn.RANK.EQ(B43,$B$38:$B$65)+COUNTIF($B$38:$B$65,B43)-1 -> 10 | E43: =INDEX($A$38:$B$65,MATCH(ROW()-37,$D$38:$D$65,0),1) -> SANTA CRUZ DE TENERIFE | F43: =LOOKUP(E43,$A$38:$A$65,$B$38:$B$65) -> 593570 | G43: =LOOKUP(E43,$A$38:$A$65,$C$38:$C$65) -> 558211
A44: =A13 -> BALEARES | B44: =E13 -> 724943 | C44: =D13 -> 593817 | D44: =_xlfn.RANK.EQ(B44,$B$38:$B$65)+COUNTIF($B$38:$B$65,B44)-1 -> 5 | E44: =INDEX($A$38:$B$65,MATCH(ROW()-37,$D$38:$D$65,0),1) -> BILBAO | F44: =LOOKUP(E44,$A$38:$A$65,$B$38:$B$65) -> 580446 | G44: =LOOKUP(E44,$A$38:$A$65,$C$38:$C$65) -> 511642
A45: =A14 -> BARCELONA | B45: =E14 -> 2635370 | C45: =D14 -> 2226968 | D45: =_xlfn.RANK.EQ(B45,$B$38:$B$65)+COUNTIF($B$38:$B$65,B45)-1 -> 3 | E45: =INDEX($A$38:$B$65,MATCH(ROW()-37,$D$38:$D$65,0),1) -> VIGO | F45: =LOOKUP(E45,$A$38:$A$65,$B$38:$B$65) -> 322921 | G45: =LOOKUP(E45,$A$38:$A$65,$C$38:$C$65) -> 292028
A46: =A15 -> BILBAO | B46: =E15 -> 580446 | C46: =D15 -> 511642 | D46: =_xlfn.RANK.EQ(B46,$B$38:$B$65)+COUNTIF($B$38:$B$65,B46)-1 -> 7 | E46: =INDEX($A$38:$B$65,MATCH(ROW()-37,$D$38:$D$65,0),1) -> MALAGA | F46: =LOOKUP(E46,$A$38:$A$65,$B$38:$B$65) -> 273377 | G46: =LOOKUP(E46,$A$38:$A$65,$C$38:$C$65) -> 245644
A47: =A16 -> CARTAGENA | B47: =E16 -> 65087 | C47: =D16 -> 86627 | D47: =_xlfn.RANK.EQ(B47,$B$38:$B$65)+COUNTIF($B$38:$B$65,B47)-1 -> 23 | E47: =INDEX($A$38:$B$65,MATCH(ROW()-37,$D$38:$D$65,0),1) -> BAHIA DE CADIZ | F47: =LOOKUP(E47,$A$38:$A$65,$B$38:$B$65) -> 213473 | G47: =LOOKUP(E47,$A$38:$A$65,$C$38:$C$65) -> 260433
A48: =A17 -> CASTELLON | B48: =E17 -> 137748 | C48: =D17 -> 95272 | D48: =_xlfn.RANK.EQ(B48,$B$38:$B$65)+COUNTIF($B$38:$B$65,B48)-1 -> 13 | E48: =INDEX($A$38:$B$65,MATCH(ROW()-37,$D$38:$D$65,0),1) -> ALICANTE | F48: =LOOKUP(E48,$A$38:$A$65,$B$38:$B$65) -> 194970 | G48: =LOOKUP(E48,$A$38:$A$65,$C$38:$C$65) -> 118741
A49: =A18 -> CEUTA | B49: =E18 -> 80608 | C49: =D18 -> 64224 | D49: =_xlfn.RANK.EQ(B49,$B$38:$B$65)+COUNTIF($B$38:$B$65,B49)-1 -> 19 | E49: =INDEX($A$38:$B$65,MATCH(ROW()-37,$D$38:$D$65,0),1) -> SEVILLA | F49: =LOOKUP(E49,$A$38:$A$65,$B$38:$B$65) -> 158413 | G49: =LOOKUP(E49,$A$38:$A$65,$C$38:$C$65) -> 171393
... A65: =A34 -> VILAGARCIA | B65: =E34 -> 11870 | C65: =D34 -> 15711 | D65: =_xlfn.RANK.EQ(B65,$B$38:$B$65)+COUNTIF($B$38:$B$65,B65)-1 -> 28 | E65: =INDEX($A$38:$B$65,MATCH(ROW()-37,$D$38:$D$65,0),1) -> VILAGARCIA | F65: =LOOKUP(E65,$A$38:$A$65,$B$38:$B$65) -> 11870 | G65: =LOOKUP(E65,$A$38:$A$65,$C$38:$C$65) -> 15711

Sheet Pesca
F1: 5. PESCA (Toneladas)
A5: Autoridad Portuaria | B5: ='Resumen general'!D6 -> Mes Enero | D5: ='Resumen general'!F6 -> Acumulado desde Enero | L5: ='Resumen general'!I4 -> 39171
B6: ='Resumen general'!D7 -> 2006 | C6: ='Resumen general'!E7 -> 2007 | D6: ='Resumen general'!F7 -> 2006 | E6: ='Resumen general'!G7 -> 2007 | F6: Var. (%)
A7: A CORUÑA | B7: 2068 | C7: 2250 | D7: 2068 | E7: 2250 | F7: =((E7*100)/D7)-100 -> 8.8007737
A8: ALICANTE | B8: 147 | C8: 0 | D8: 147 | E8: 0 | F8: =((E8*100)/D8)-100 -> -100
A9: ALMERIA | B9: 112 | C9: 135 | D9: 112 | E9: 135 | F9: =((E9*100)/D9)-100 -> 20.535714
A10: AVILES | B10: 842 | C10: 478 | D10: 842 | E10: 478 | F10: =((E10*100)/D10)-100 -> -43.230404
A11: BAHIA DE ALGECIRAS | B11: 86 | C11: 72 | D11: 86 | E11: 72 | F11: =((E11*100)/D11)-100 -> -16.27907
A12: BAHIA DE CADIZ | B12: 1945 | C12: 1959 | D12: 1945 | E12: 1959 | F12: =((E12*100)/D12)-100 -> 0.71979434
A13: BALEARES | B13: 229 | C13: 231 | D13: 229 | E13: 231 | F13: =((E13*100)/D13)-100 -> 0.87336245
A14: BARCELONA | B14: 361 | C14: 79 | D14: 361 | E14: 79 | F14: =((E14*100)/D14)-100 -> -78.116343
A15: BILBAO | B15: 0 | C15: 0 | D15: 0 | E15: 0 | F15: =((E15*100)/D15)-100 -> #DIV/0!
A16: CARTAGENA | B16: 90 | C16: 112 | D16: 90 | E16: 112 | F16: =((E16*100)/D16)-100 -> 24.444444
A17: CASTELLON | B17: 208 | C17: 241 | D17: 208 | E17: 241 | F17: =((E17*100)/D17)-100 -> 15.865385
A18: CEUTA | B18: 12 | C18: 6 | D18: 12 | E18: 6 | F18: =((E18*100)/D18)-100 -> -50
... A34: VILAGARCIA | B34: 0 | C34: 0 | D34: 0 | E34: 0 | F34: =((E34*100)/D34)-100 -> #DIV/0!
A35: Total | B35: =SUM(B7:B34) -> 12367 | C35: =SUM(C7:C34) -> 13126 | D35: =SUM(D7:D34) -> 12367 | E35: =SUM(E7:E34) -> 13126 | F35: =((E35*100)/D35)-100 -> 6.1373009
B37: =E6 -> 2007 | C37: =D6 -> 2006 | F37: =B37 -> 2007 | G37: =C37 -> 2006
A38: =A7 -> A CORUÑA | B38: =E7 -> 2250 | C38: =D7 -> 2068 | D38: =_xlfn.RANK.EQ(B38,$B$38:$B$65)+COUNTIF($B$38:$B$65,B38)-1 -> 2 | E38: =INDEX($A$38:$B$65,MATCH(ROW()-37,$D$38:$D$65,0),1) -> VIGO | F38: =LOOKUP(E38,$A$38:$A$65,$B$38:$B$65) -> 4293 | G38: =LOOKUP(E38,$A$38:$A$65,$C$38:$C$65) -> 3905
A39: =A8 -> ALICANTE | B39: =E8 -> 0 | C39: =D8 -> 147 | D39: =_xlfn.RANK.EQ(B39,$B$38:$B$65)+COUNTIF($B$38:$B$65,B39)-1 -> 28 | E39: =INDEX($A$38:$B$65,MATCH(ROW()-37,$D$38:$D$65,0),1) -> A CORUÑA | F39: =LOOKUP(E39,$A$38:$A$65,$B$38:$B$65) -> 2250 | G39: =LOOKUP(E39,$A$38:$A$65,$C$38:$C$65) -> 2068
A40: =A9 -> ALMERIA | B40: =E9 -> 135 | C40: =D9 -> 112 | D40: =_xlfn.RANK.EQ(B40,$B$38:$B$65)+COUNTIF($B$38:$B$65,B40)-1 -> 15 | E40: =INDEX($A$38:$B$65,MATCH(ROW()-37,$D$38:$D$65,0),1) -> BAHIA DE CADIZ | F40: =LOOKUP(E40,$A$38:$A$65,$B$38:$B$65) -> 1959 | G40: =LOOKUP(E40,$A$38:$A$65,$C$38:$C$65) -> 1945
A41: =A10 -> AVILES | B41: =E10 -> 478 | C41: =D10 -> 842 | D41: =_xlfn.RANK.EQ(B41,$B$38:$B$65)+COUNTIF($B$38:$B$65,B41)-1 -> 6 | E41: =INDEX($A$38:$B$65,MATCH(ROW()-37,$D$38:$D$65,0),1) -> PASAIA | F41: =LOOKUP(E41,$A$38:$A$65,$B$38:$B$65) -> 689 | G41: =LOOKUP(E41,$A$38:$A$65,$C$38:$C$65) -> 761
A42: =A11 -> BAHIA DE ALGECIRAS | B42: =E11 -> 72 | C42: =D11 -> 86 | D42: =_xlfn.RANK.EQ(B42,$B$38:$B$65)+COUNTIF($B$38:$B$65,B42)-1 -> 20 | E42: =INDEX($A$38:$B$65,MATCH(ROW()-37,$D$38:$D$65,0),1) -> GIJON | F42: =LOOKUP(E42,$A$38:$A$65,$B$38:$B$65) -> 623 | G42: =LOOKUP(E42,$A$38:$A$65,$C$38:$C$65) -> 101
A43: =A12 -> BAHIA DE CADIZ | B43: =E12 -> 1959 | C43: =D12 -> 1945 | D43: =_xlfn.RANK.EQ(B43,$B$38:$B$65)+COUNTIF($B$38:$B$65,B43)-1 -> 3 | E43: =INDEX($A$38:$B$65,MATCH(ROW()-37,$D$38:$D$65,0),1) -> AVILES | F43: =LOOKUP(E43,$A$38:$A$65,$B$38:$B$65) -> 478 | G43: =LOOKUP(E43,$A$38:$A$65,$C$38:$C$65) -> 842
A44: =A13 -> BALEARES | B44: =E13 -> 231 | C44: =D13 -> 229 | D44: =_xlfn.RANK.EQ(B44,$B$38:$B$65)+COUNTIF($B$38:$B$65,B44)-1 -> 12 | E44: =INDEX($A$38:$B$65,MATCH(ROW()-37,$D$38:$D$65,0),1) -> LAS PALMAS | F44: =LOOKUP(E44,$A$38:$A$65,$B$38:$B$65) -> 357 | G44: =LOOKUP(E44,$A$38:$A$65,$C$38:$C$65) -> 311
A45: =A14 -> BARCELONA | B45: =E14 -> 79 | C45: =D14 -> 361 | D45: =_xlfn.RANK.EQ(B45,$B$38:$B$65)+COUNTIF($B$38:$B$65,B45)-1 -> 19 | E45: =INDEX($A$38:$B$65,MATCH(ROW()-37,$D$38:$D$65,0),1) -> HUELVA | F45: =LOOKUP(E45,$A$38:$A$65,$B$38:$B$65) -> 354 | G45: =LOOKUP(E45,$A$38:$A$65,$C$38:$C$65) -> 134
A46: =A15 -> BILBAO | B46: =E15 -> 0 | C46: =D15 -> 0 | D46: =_xlfn.RANK.EQ(B46,$B$38:$B$65)+COUNTIF($B$38:$B$65,B46)-1 -> 28 | E46: =INDEX($A$38:$B$65,MATCH(ROW()-37,$D$38:$D$65,0),1) -> SANTANDER | F46: =LOOKUP(E46,$A$38:$A$65,$B$38:$B$65) -> 335 | G46: =LOOKUP(E46,$A$38:$A$65,$C$38:$C$65) -> 221
A47: =A16 -> CARTAGENA | B47: =E16 -> 112 | C47: =D16 -> 90 | D47: =_xlfn.RANK.EQ(B47,$B$38:$B$65)+COUNTIF($B$38:$B$65,B47)-1 -> 17 | E47: =INDEX($A$38:$B$65,MATCH(ROW()-37,$D$38:$D$65,0),1) -> MARIN Y RIA DE PONTEVEDRA | F47: =LOOKUP(E47,$A$38:$A$65,$B$38:$B$65) -> 288 | G47: =LOOKUP(E47,$A$38:$A$65,$C$38:$C$65) -> 292
A48: =A17 -> CASTELLON | B48: =E17 -> 241 | C48: =D17 -> 208 | D48: =_xlfn.RANK.EQ(B48,$B$38:$B$65)+COUNTIF($B$38:$B$65,B48)-1 -> 11 | E48: =INDEX($A$38:$B$65,MATCH(ROW()-37,$D$38:$D$65,0),1) -> CASTELLON | F48: =LOOKUP(E48,$A$38:$A$65,$B$38:$B$65) -> 241 | G48: =LOOKUP(E48,$A$38:$A$65,$C$38:$C$65) -> 208
A49: =A18 -> CEUTA | B49: =E18 -> 6 | C49: =D18 -> 12 | D49: =_xlfn.RANK.EQ(B49,$B$38:$B$65)+COUNTIF($B$38:$B$65,B49)-1 -> 22 | E49: =INDEX($A$38:$B$65,MATCH(ROW()-37,$D$38:$D$65,0),1) -> BALEARES | F49: =LOOKUP(E49,$A$38:$A$65,$B$38:$B$65) -> 231 | G49: =LOOKUP(E49,$A$38:$A$65,$C$38:$C$65) -> 229
... A65: =A34 -> VILAGARCIA | B65: =E34 -> 0 | C65: =D34 -> 0 | D65: =_xlfn.RANK.EQ(B65,$B$38:$B$65)+COUNTIF($B$38:$B$65,B65)-1 -> 28 | E65: =INDEX($A$38:$B$65,MATCH(ROW()-37,$D$38:$D$65,0),1) -> ALICANTE | F65: =LOOKUP(E65,$A$38:$A$65,$B$38:$B$65) -> 0 | G65: =LOOKUP(E65,$A$38:$A$65,$C$38:$C$65) -> 147

Sheet Avituallamiento
F1: 6. AVITUALLAMIENTO (Toneladas)
A5: Autoridad Portuaria | B5: ='Resumen general'!D6 -> Mes Enero | D5: ='Resumen general'!F6 -> Acumulado desde Enero | L5: ='Resumen general'!I4 -> 39171
B6: ='Resumen general'!D7 -> 2006 | C6: ='Resumen general'!E7 -> 2007 | D6: ='Resumen general'!F7 -> 2006 | E6: ='Resumen general'!G7 -> 2007 | F6: Var. (%)
A7: A CORUÑA | B7: 3963 | C7: 5295 | D7: 3963 | E7: 5295 | F7: =((E7*100)/D7)-100 -> 33.610901
A8: ALICANTE | B8: 3484 | C8: 4944 | D8: 3484 | E8: 4944 | F8: =((E8*100)/D8)-100 -> 41.905855
A9: ALMERIA | B9: 8933 | C9: 10928 | D9: 8933 | E9: 10928 | F9: =((E9*100)/D9)-100 -> 22.332923
A10: AVILES | B10: 5237 | C10: 3892 | D10: 5237 | E10: 3892 | F10: =((E10*100)/D10)-100 -> -25.682643
A11: BAHIA DE ALGECIRAS | B11: 241649 | C11: 271889 | D11: 241649 | E11: 271889 | F11: =((E11*100)/D11)-100 -> 12.514018
A12: BAHIA DE CADIZ | B12: 7351 | C12: 3942 | D12: 7351 | E12: 3942 | F12: =((E12*100)/D12)-100 -> -46.374643
A13: BALEARES | B13: 1058 | C13: 882 | D13: 1058 | E13: 882 | F13: =((E13*100)/D13)-100 -> -16.635161
A14: BARCELONA | B14: 69736 | C14: 74575 | D14: 69736 | E14: 74575 | F14: =((E14*100)/D14)-100 -> 6.9390272
A15: BILBAO | B15: 10425 | C15: 11043 | D15: 10425 | E15: 11043 | F15: =((E15*100)/D15)-100 -> 5.9280576
A16: CARTAGENA | B16: 15050 | C16: 4440 | D16: 15050 | E16: 4440 | F16: =((E16*100)/D16)-100 -> -70.498339
A17: CASTELLON | B17: 2936 | C17: 3631 | D17: 2936 | E17: 3631 | F17: =((E17*100)/D17)-100 -> 23.671662
A18: CEUTA | B18: 37524 | C18: 48057 | D18: 37524 | E18: 48057 | F18: =((E18*100)/D18)-100 -> 28.070035
... A34: VILAGARCIA | B34: 475 | C34: 714 | D34: 475 | E34: 714 | F34: =((E34*100)/D34)-100 -> 50.315789
A35: Total | B35: =SUM(B7:B34) -> 780629 | C35: =SUM(C7:C34) -> 825913 | D35: =SUM(D7:D34) -> 780629 | E35: =SUM(E7:E34) -> 825913 | F35: =((E35*100)/D35)-100 -> 5.8009631
B37: =E6 -> 2007 | C37: =D6 -> 2006 | F37: =B37 -> 2007 | G37: =C37 -> 2006
A38: =A7 -> A CORUÑA | B38: =E7 -> 5295 | C38: =D7 -> 3963 | D38: =_xlfn.RANK.EQ(B38,$B$38:$B$65)+COUNTIF($B$38:$B$65,B38)-1 -> 15 | E38: =INDEX($A$38:$B$65,MATCH(ROW()-37,$D$38:$D$65,0),1) -> BAHIA DE ALGECIRAS | F38: =LOOKUP(E38,$A$38:$A$65,$B$38:$B$65) -> 271889 | G38: =LOOKUP(E38,$A$38:$A$65,$C$38:$C$65) -> 241649
A39: =A8 -> ALICANTE | B39: =E8 -> 4944 | C39: =D8 -> 3484 | D39: =_xlfn.RANK.EQ(B39,$B$38:$B$65)+COUNTIF($B$38:$B$65,B39)-1 -> 16 | E39: =INDEX($A$38:$B$65,MATCH(ROW()-37,$D$38:$D$65,0),1) -> LAS PALMAS | F39: =LOOKUP(E39,$A$38:$A$65,$B$38:$B$65) -> 165914 | G39: =LOOKUP(E39,$A$38:$A$65,$C$38:$C$65) -> 171948
A40: =A9 -> ALMERIA | B40: =E9 -> 10928 | C40: =D9 -> 8933 | D40: =_xlfn.RANK.EQ(B40,$B$38:$B$65)+COUNTIF($B$38:$B$65,B40)-1 -> 11 | E40: =INDEX($A$38:$B$65,MATCH(ROW()-37,$D$38:$D$65,0),1) -> SANTA CRUZ DE TENERIFE | F40: =LOOKUP(E40,$A$38:$A$65,$B$38:$B$65) -> 85379 | G40: =LOOKUP(E40,$A$38:$A$65,$C$38:$C$65) -> 72753
A41: =A10 -> AVILES | B41: =E10 -> 3892 | C41: =D10 -> 5237 | D41: =_xlfn.RANK.EQ(B41,$B$38:$B$65)+COUNTIF($B$38:$B$65,B41)-1 -> 20 | E41: =INDEX($A$38:$B$65,MATCH(ROW()-37,$D$38:$D$65,0),1) -> BARCELONA | F41: =LOOKUP(E41,$A$38:$A$65,$B$38:$B$65) -> 74575 | G41: =LOOKUP(E41,$A$38:$A$65,$C$38:$C$65) -> 69736
A42: =A11 -> BAHIA DE ALGECIRAS | B42: =E11 -> 271889 | C42: =D11 -> 241649 | D42: =_xlfn.RANK.EQ(B42,$B$38:$B$65)+COUNTIF($B$38:$B$65,B42)-1 -> 1 | E42: =INDEX($A$38:$B$65,MATCH(ROW()-37,$D$38:$D$65,0),1) -> CEUTA | F42: =LOOKUP(E42,$A$38:$A$65,$B$38:$B$65) -> 48057 | G42: =LOOKUP(E42,$A$38:$A$65,$C$38:$C$65) -> 37524
A43: =A12 -> BAHIA DE CADIZ | B43: =E12 -> 3942 | C43: =D12 -> 7351 | D43: =_xlfn.RANK.EQ(B43,$B$38:$B$65)+COUNTIF($B$38:$B$65,B43)-1 -> 19 | E43: =INDEX($A$38:$B$65,MATCH(ROW()-37,$D$38:$D$65,0),1) -> VIGO | F43: =LOOKUP(E43,$A$38:$A$65,$B$38:$B$65) -> 34495 | G43: =LOOKUP(E43,$A$38:$A$65,$C$38:$C$65) -> 31547
A44: =A13 -> BALEARES | B44: =E13 -> 882 | C44: =D13 -> 1058 | D44: =_xlfn.RANK.EQ(B44,$B$38:$B$65)+COUNTIF($B$38:$B$65,B44)-1 -> 25 | E44: =INDEX($A$38:$B$65,MATCH(ROW()-37,$D$38:$D$65,0),1) -> GIJON | F44: =LOOKUP(E44,$A$38:$A$65,$B$38:$B$65) -> 25380 | G44: =LOOKUP(E44,$A$38:$A$65,$C$38:$C$65) -> 24990
A45: =A14 -> BARCELONA | B45: =E14 -> 74575 | C45: =D14 -> 69736 | D45: =_xlfn.RANK.EQ(B45,$B$38:$B$65)+COUNTIF($B$38:$B$65,B45)-1 -> 4 | E45: =INDEX($A$38:$B$65,MATCH(ROW()-37,$D$38:$D$65,0),1) -> VALENCIA | F45: =LOOKUP(E45,$A$38:$A$65,$B$38:$B$65) -> 21505 | G45: =LOOKUP(E45,$A$38:$A$65,$C$38:$C$65) -> 18041
A46: =A15 -> BILBAO | B46: =E15 -> 11043 | C46: =D15 -> 10425 | D46: =_xlfn.RANK.EQ(B46,$B$38:$B$65)+COUNTIF($B$38:$B$65,B46)-1 -> 10 | E46: =INDEX($A$38:$B$65,MATCH(ROW()-37,$D$38:$D$65,0),1) -> TARRAGONA | F46: =LOOKUP(E46,$A$38:$A$65,$B$38:$B$65) -> 18555 | G46: =LOOKUP(E46,$A$38:$A$65,$C$38:$C$65) -> 19125
A47: =A16 -> CARTAGENA | B47: =E16 -> 4440 | C47: =D16 -> 15050 | D47: =_xlfn.RANK.EQ(B47,$B$38:$B$65)+COUNTIF($B$38:$B$65,B47)-1 -> 17 | E47: =INDEX($A$38:$B$65,MATCH(ROW()-37,$D$38:$D$65,0),1) -> BILBAO | F47: =LOOKUP(E47,$A$38:$A$65,$B$38:$B$65) -> 11043 | G47: =LOOKUP(E47,$A$38:$A$65,$C$38:$C$65) -> 10425
A48: =A17 -> CASTELLON | B48: =E17 -> 3631 | C48: =D17 -> 2936 | D48: =_xlfn.RANK.EQ(B48,$B$38:$B$65)+COUNTIF($B$38:$B$65,B48)-1 -> 21 | E48: =INDEX($A$38:$B$65,MATCH(ROW()-37,$D$38:$D$65,0),1) -> ALMERIA | F48: =LOOKUP(E48,$A$38:$A$65,$B$38:$B$65) -> 10928 | G48: =LOOKUP(E48,$A$38:$A$65,$C$38:$C$65) -> 8933
A49: =A18 -> CEUTA | B49: =E18 -> 48057 | C49: =D18 -> 37524 | D49: =_xlfn.RANK.EQ(B49,$B$38:$B$65)+COUNTIF($B$38:$B$65,B49)-1 -> 5 | E49: =INDEX($A$38:$B$65,MATCH(ROW()-37,$D$38:$D$65,0),1) -> MARIN Y RIA DE PONTEVEDRA | F49: =LOOKUP(E49,$A$38:$A$65,$B$38:$B$65) -> 7763 | G49: =LOOKUP(E49,$A$38:$A$65,$C$38:$C$65) -> 7089
... A65: =A34 -> VILAGARCIA | B65: =E34 -> 714 | C65: =D34 -> 475 | D65: =_xlfn.RANK.EQ(B65,$B$38:$B$65)+COUNTIF($B$38:$B$65,B65)-1 -> 26 | E65: =INDEX($A$38:$B$65,MATCH(ROW()-37,$D$38:$D$65,0),1) -> MELILLA | F65: =LOOKUP(E65,$A$38:$A$65,$B$38:$B$65) -> 0 | G65: =LOOKUP(E65,$A$38:$A$65,$C$38:$C$65) -> 967

Sheet Mercancías tránsito
F1: 7. MERCANCÍAS EN TRÁNSITO (Toneladas)
A5: Autoridad Portuaria | B5: ='Resumen general'!D6 -> Mes Enero | D5: ='Resumen general'!F6 -> Acumulado desde Enero | L5: ='Resumen general'!I4 -> 39171
B6: ='Resumen general'!D7 -> 2006 | C6: ='Resumen general'!E7 -> 2007 | D6: ='Resumen general'!F7 -> 2006 | E6: ='Resumen general'!G7 -> 2007 | F6: Var. (%)
A7: A CORUÑA | B7: 0 | C7: 0 | D7: 0 | E7: 0 | F7: =((E7*100)/D7)-100 -> #DIV/0!
A8: ALICANTE | B8: 0 | C8: 0 | D8: 0 | E8: 0 | F8: =((E8*100)/D8)-100 -> #DIV/0!
A9: ALMERIA | B9: 0 | C9: 0 | D9: 0 | E9: 0 | F9: =((E9*100)/D9)-100 -> #DIV/0!
A10: AVILES | B10: 0 | C10: 1978 | D10: 0 | E10: 1978 | F10: =((E10*100)/D10)-100 -> #DIV/0!
A11: BAHIA DE ALGECIRAS | B11: 2478498 | C11: 2950080 | D11: 2478498 | E11: 2950080 | F11: =((E11*100)/D11)-100 -> 19.026927
A12: BAHIA DE CADIZ | B12: 26451 | C12: 15331 | D12: 26451 | E12: 15331 | F12: =((E12*100)/D12)-100 -> -42.039998
A13: BALEARES | B13: 1584 | C13: 1547 | D13: 1584 | E13: 1547 | F13: =((E13*100)/D13)-100 -> -2.3358586
A14: BARCELONA | B14: 749022 | C14: 916439 | D14: 749022 | E14: 916439 | F14: =((E14*100)/D14)-100 -> 22.351413
A15: BILBAO | B15: 38163 | C15: 10636 | D15: 38163 | E15: 10636 | F15: =((E15*100)/D15)-100 -> -72.130074
A16: CARTAGENA | B16: 0 | C16: 0 | D16: 0 | E16: 0 | F16: =((E16*100)/D16)-100 -> #DIV/0!
A17: CASTELLON | B17: 94 | C17: 0 | D17: 94 | E17: 0 | F17: =((E17*100)/D17)-100 -> -100
A18: CEUTA | B18: 58792 | C18: 78148 | D18: 58792 | E18: 78148 | F18: =((E18*100)/D18)-100 -> 32.922847
... A34: VILAGARCIA | B34: 0 | C34: 10003 | D34: 0 | E34: 10003 | F34: =((E34*100)/D34)-100 -> #DIV/0!
A35: Total | B35: =SUM(B7:B34) -> 5477586 | C35: =SUM(C7:C34) -> 6613658 | D35: =SUM(D7:D34) -> 5477586 | E35: =SUM(E7:E34) -> 6613658 | F35: =((E35*100)/D35)-100 -> 20.740377
B37: =E6 -> 2007 | C37: =D6 -> 2006 | F37: =B37 -> 2007 | G37: =C37 -> 2006
A38: =A7 -> A CORUÑA | B38: =E7 -> 0 | C38: =D7 -> 0 | D38: =_xlfn.RANK.EQ(B38,$B$38:$B$65)+COUNTIF($B$38:$B$65,B38)-1 -> 28 | E38: =INDEX($A$38:$B$65,MATCH(ROW()-37,$D$38:$D$65,0),1) -> BAHIA DE ALGECIRAS | F38: =LOOKUP(E38,$A$38:$A$65,$B$38:$B$65) -> 2950080 | G38: =LOOKUP(E38,$A$38:$A$65,$C$38:$C$65) -> 2478498
A39: =A8 -> ALICANTE | B39: =E8 -> 0 | C39: =D8 -> 0 | D39: =_xlfn.RANK.EQ(B39,$B$38:$B$65)+COUNTIF($B$38:$B$65,B39)-1 -> 28 | E39: =INDEX($A$38:$B$65,MATCH(ROW()-37,$D$38:$D$65,0),1) -> VALENCIA | F39: =LOOKUP(E39,$A$38:$A$65,$B$38:$B$65) -> 1013872 | G39: =LOOKUP(E39,$A$38:$A$65,$C$38:$C$65) -> 896424
A40: =A9 -> ALMERIA | B40: =E9 -> 0 | C40: =D9 -> 0 | D40: =_xlfn.RANK.EQ(B40,$B$38:$B$65)+COUNTIF($B$38:$B$65,B40)-1 -> 28 | E40: =INDEX($A$38:$B$65,MATCH(ROW()-37,$D$38:$D$65,0),1) -> BARCELONA | F40: =LOOKUP(E40,$A$38:$A$65,$B$38:$B$65) -> 916439 | G40: =LOOKUP(E40,$A$38:$A$65,$C$38:$C$65) -> 749022
A41: =A10 -> AVILES | B41: =E10 -> 1978 | C41: =D10 -> 0 | D41: =_xlfn.RANK.EQ(B41,$B$38:$B$65)+COUNTIF($B$38:$B$65,B41)-1 -> 14 | E41: =INDEX($A$38:$B$65,MATCH(ROW()-37,$D$38:$D$65,0),1) -> LAS PALMAS | F41: =LOOKUP(E41,$A$38:$A$65,$B$38:$B$65) -> 860357 | G41: =LOOKUP(E41,$A$38:$A$65,$C$38:$C$65) -> 777941
A42: =A11 -> BAHIA DE ALGECIRAS | B42: =E11 -> 2950080 | C42: =D11 -> 2478498 | D42: =_xlfn.RANK.EQ(B42,$B$38:$B$65)+COUNTIF($B$38:$B$65,B42)-1 -> 1 | E42: =INDEX($A$38:$B$65,MATCH(ROW()-37,$D$38:$D$65,0),1) -> TARRAGONA | F42: =LOOKUP(E42,$A$38:$A$65,$B$38:$B$65) -> 524344 | G42: =LOOKUP(E42,$A$38:$A$65,$C$38:$C$65) -> 195693
A43: =A12 -> BAHIA DE CADIZ | B43: =E12 -> 15331 | C43: =D12 -> 26451 | D43: =_xlfn.RANK.EQ(B43,$B$38:$B$65)+COUNTIF($B$38:$B$65,B43)-1 -> 10 | E43: =INDEX($A$38:$B$65,MATCH(ROW()-37,$D$38:$D$65,0),1) -> MALAGA | F43: =LOOKUP(E43,$A$38:$A$65,$B$38:$B$65) -> 177447 | G43: =LOOKUP(E43,$A$38:$A$65,$C$38:$C$65) -> 203826
A44: =A13 -> BALEARES | B44: =E13 -> 1547 | C44: =D13 -> 1584 | D44: =_xlfn.RANK.EQ(B44,$B$38:$B$65)+COUNTIF($B$38:$B$65,B44)-1 -> 15 | E44: =INDEX($A$38:$B$65,MATCH(ROW()-37,$D$38:$D$65,0),1) -> CEUTA | F44: =LOOKUP(E44,$A$38:$A$65,$B$38:$B$65) -> 78148 | G44: =LOOKUP(E44,$A$38:$A$65,$C$38:$C$65) -> 58792
A45: =A14 -> BARCELONA | B45: =E14 -> 916439 | C45: =D14 -> 749022 | D45: =_xlfn.RANK.EQ(B45,$B$38:$B$65)+COUNTIF($B$38:$B$65,B45)-1 -> 3 | E45: =INDEX($A$38:$B$65,MATCH(ROW()-37,$D$38:$D$65,0),1) -> SANTA CRUZ DE TENERIFE | F45: =LOOKUP(E45,$A$38:$A$65,$B$38:$B$65) -> 24998 | G45: =LOOKUP(E45,$A$38:$A$65,$C$38:$C$65) -> 25025
A46: =A15 -> BILBAO | B46: =E15 -> 10636 | C46: =D15 -> 38163 | D46: =_xlfn.RANK.EQ(B46,$B$38:$B$65)+COUNTIF($B$38:$B$65,B46)-1 -> 11 | E46: =INDEX($A$38:$B$65,MATCH(ROW()-37,$D$38:$D$65,0),1) -> GIJON | F46: =LOOKUP(E46,$A$38:$A$65,$B$38:$B$65) -> 17550 | G46: =LOOKUP(E46,$A$38:$A$65,$C$38:$C$65) -> 17491
A47: =A16 -> CARTAGENA | B47: =E16 -> 0 | C47: =D16 -> 0 | D47: =_xlfn.RANK.EQ(B47,$B$38:$B$65)+COUNTIF($B$38:$B$65,B47)-1 -> 28 | E47: =INDEX($A$38:$B$65,MATCH(ROW()-37,$D$38:$D$65,0),1) -> BAHIA DE CADIZ | F47: =LOOKUP(E47,$A$38:$A$65,$B$38:$B$65) -> 15331 | G47: =LOOKUP(E47,$A$38:$A$65,$C$38:$C$65) -> 26451
A48: =A17 -> CASTELLON | B48: =E17 -> 0 | C48: =D17 -> 94 | D48: =_xlfn.RANK.EQ(B48,$B$38:$B$65)+COUNTIF($B$38:$B$65,B48)-1 -> 28 | E48: =INDEX($A$38:$B$65,MATCH(ROW()-37,$D$38:$D$65,0),1) -> BILBAO | F48: =LOOKUP(E48,$A$38:$A$65,$B$38:$B$65) -> 10636 | G48: =LOOKUP(E48,$A$38:$A$65,$C$38:$C$65) -> 38163
A49: =A18 -> CEUTA | B49: =E18 -> 78148 | C49: =D18 -> 58792 | D49: =_xlfn.RANK.EQ(B49,$B$38:$B$65)+COUNTIF($B$38:$B$65,B49)-1 -> 7 | E49: =INDEX($A$38:$B$65,MATCH(ROW()-37,$D$38:$D$65,0),1) -> VIGO | F49: =LOOKUP(E49,$A$38:$A$65,$B$38:$B$65) -> 10117 | G49: =LOOKUP(E49,$A$38:$A$65,$C$38:$C$65) -> 7607
... A65: =A34 -> VILAGARCIA | B65: =E34 -> 10003 | C65: =D34 -> 0 | D65: =_xlfn.RANK.EQ(B65,$B$38:$B$65)+COUNTIF($B$38:$B$65,B65)-1 -> 13 | E65: =INDEX($A$38:$B$65,MATCH(ROW()-37,$D$38:$D$65,0),1) -> A CORUÑA | F65: =LOOKUP(E65,$A$38:$A$65,$B$38:$B$65) -> 0 | G65: =LOOKUP(E65,$A$38:$A$65,$C$38:$C$65) -> 0

Sheet Mercan. contene. tránsito
F1: 7.1. MERCANCÍAS EN CONTENEDORES EN TRÁNSITO (Toneladas)
A5: Autoridad Portuaria | B5: ='Resumen general'!D6 -> Mes Enero | D5: ='Resumen general'!F6 -> Acumulado desde Enero | L5: ='Resumen general'!I4 -> 39171
B6: ='Resumen general'!D7 -> 2006 | C6: ='Resumen general'!E7 -> 2007 | D6: ='Resumen general'!F7 -> 2006 | E6: ='Resumen general'!G7 -> 2007 | F6: Var. (%)
A7: A CORUÑA | B7: 0 | C7: 0 | D7: 0 | E7: 0 | F7: =((E7*100)/D7)-100 -> #DIV/0!
A8: ALICANTE | B8: 0 | C8: 0 | D8: 0 | E8: 0 | F8: =((E8*100)/D8)-100 -> #DIV/0!
A9: ALMERIA | B9: 0 | C9: 0 | D9: 0 | E9: 0 | F9: =((E9*100)/D9)-100 -> #DIV/0!
A10: AVILES | B10: 0 | C10: 0 | D10: 0 | E10: 0 | F10: =((E10*100)/D10)-100 -> #DIV/0!
A11: BAHIA DE ALGECIRAS | B11: 2476896 | C11: 2949870 | D11: 2476896 | E11: 2949870 | F11: =((E11*100)/D11)-100 -> 19.095432
A12: BAHIA DE CADIZ | B12: 26451 | C12: 4090 | D12: 26451 | E12: 4090 | F12: =((E12*100)/D12)-100 -> -84.537447
A13: BALEARES | B13: 794 | C13: 244 | D13: 794 | E13: 244 | F13: =((E13*100)/D13)-100 -> -69.269521
A14: BARCELONA | B14: 725213 | C14: 896523 | D14: 725213 | E14: 896523 | F14: =((E14*100)/D14)-100 -> 23.622026
A15: BILBAO | B15: 10759 | C15: 6236 | D15: 10759 | E15: 6236 | F15: =((E15*100)/D15)-100 -> -42.039223
A16: CARTAGENA | B16: 0 | C16: 0 | D16: 0 | E16: 0 | F16: =((E16*100)/D16)-100 -> #DIV/0!
A17: CASTELLON | B17: 94 | C17: 0 | D17: 94 | E17: 0 | F17: =((E17*100)/D17)-100 -> -100
A18: CEUTA | B18: 0 | C18: 0 | D18: 0 | E18: 0 | F18: =((E18*100)/D18)-100 -> #DIV/0!
... A34: VILAGARCIA | B34: 0 | C34: 0 | D34: 0 | E34: 0 | F34: =((E34*100)/D34)-100 -> #DIV/0!
A35: Total | B35: =SUM(B7:B34) -> 5128043 | C35: =SUM(C7:C34) -> 5914756 | D35: =SUM(D7:D34) -> 5128043 | E35: =SUM(E7:E34) -> 5914756 | F35: =((E35*100)/D35)-100 -> 15.341389
B37: =E6 -> 2007 | C37: =D6 -> 2006 | F37: =B37 -> 2007 | G37: =C37 -> 2006
A38: =A7 -> A CORUÑA | B38: =E7 -> 0 | C38: =D7 -> 0 | D38: =_xlfn.RANK.EQ(B38,$B$38:$B$65)+COUNTIF($B$38:$B$65,B38)-1 -> 28 | E38: =INDEX($A$38:$B$65,MATCH(ROW()-37,$D$38:$D$65,0),1) -> BAHIA DE ALGECIRAS | F38: =LOOKUP(E38,$A$38:$A$65,$B$38:$B$65) -> 2949870 | G38: =LOOKUP(E38,$A$38:$A$65,$C$38:$C$65) -> 2476896
A39: =A8 -> ALICANTE | B39: =E8 -> 0 | C39: =D8 -> 0 | D39: =_xlfn.RANK.EQ(B39,$B$38:$B$65)+COUNTIF($B$38:$B$65,B39)-1 -> 28 | E39: =INDEX($A$38:$B$65,MATCH(ROW()-37,$D$38:$D$65,0),1) -> VALENCIA | F39: =LOOKUP(E39,$A$38:$A$65,$B$38:$B$65) -> 1004507 | G39: =LOOKUP(E39,$A$38:$A$65,$C$38:$C$65) -> 889617
A40: =A9 -> ALMERIA | B40: =E9 -> 0 | C40: =D9 -> 0 | D40: =_xlfn.RANK.EQ(B40,$B$38:$B$65)+COUNTIF($B$38:$B$65,B40)-1 -> 28 | E40: =INDEX($A$38:$B$65,MATCH(ROW()-37,$D$38:$D$65,0),1) -> BARCELONA | F40: =LOOKUP(E40,$A$38:$A$65,$B$38:$B$65) -> 896523 | G40: =LOOKUP(E40,$A$38:$A$65,$C$38:$C$65) -> 725213
A41: =A10 -> AVILES | B41: =E10 -> 0 | C41: =D10 -> 0 | D41: =_xlfn.RANK.EQ(B41,$B$38:$B$65)+COUNTIF($B$38:$B$65,B41)-1 -> 28 | E41: =INDEX($A$38:$B$65,MATCH(ROW()-37,$D$38:$D$65,0),1) -> LAS PALMAS | F41: =LOOKUP(E41,$A$38:$A$65,$B$38:$B$65) -> 851714 | G41: =LOOKUP(E41,$A$38:$A$65,$C$38:$C$65) -> 767160
A42: =A11 -> BAHIA DE ALGECIRAS | B42: =E11 -> 2949870 | C42: =D11 -> 2476896 | D42: =_xlfn.RANK.EQ(B42,$B$38:$B$65)+COUNTIF($B$38:$B$65,B42)-1 -> 1 | E42: =INDEX($A$38:$B$65,MATCH(ROW()-37,$D$38:$D$65,0),1) -> MALAGA | F42: =LOOKUP(E42,$A$38:$A$65,$B$38:$B$65) -> 177447 | G42: =LOOKUP(E42,$A$38:$A$65,$C$38:$C$65) -> 203826
A43: =A12 -> BAHIA DE CADIZ | B43: =E12 -> 4090 | C43: =D12 -> 26451 | D43: =_xlfn.RANK.EQ(B43,$B$38:$B$65)+COUNTIF($B$38:$B$65,B43)-1 -> 8 | E43: =INDEX($A$38:$B$65,MATCH(ROW()-37,$D$38:$D$65,0),1) -> SANTA CRUZ DE TENERIFE | F43: =LOOKUP(E43,$A$38:$A$65,$B$38:$B$65) -> 20630 | G43: =LOOKUP(E43,$A$38:$A$65,$C$38:$C$65) -> 23065
A44: =A13 -> BALEARES | B44: =E13 -> 244 | C44: =D13 -> 794 | D44: =_xlfn.RANK.EQ(B44,$B$38:$B$65)+COUNTIF($B$38:$B$65,B44)-1 -> 10 | E44: =INDEX($A$38:$B$65,MATCH(ROW()-37,$D$38:$D$65,0),1) -> BILBAO | F44: =LOOKUP(E44,$A$38:$A$65,$B$38:$B$65) -> 6236 | G44: =LOOKUP(E44,$A$38:$A$65,$C$38:$C$65) -> 10759
A45: =A14 -> BARCELONA | B45: =E14 -> 896523 | C45: =D14 -> 725213 | D45: =_xlfn.RANK.EQ(B45,$B$38:$B$65)+COUNTIF($B$38:$B$65,B45)-1 -> 3 | E45: =INDEX($A$38:$B$65,MATCH(ROW()-37,$D$38:$D$65,0),1) -> BAHIA DE CADIZ | F45: =LOOKUP(E45,$A$38:$A$65,$B$38:$B$65) -> 4090 | G45: =LOOKUP(E45,$A$38:$A$65,$C$38:$C$65) -> 26451
A46: =A15 -> BILBAO | B46: =E15 -> 6236 | C46: =D15 -> 10759 | D46: =_xlfn.RANK.EQ(B46,$B$38:$B$65)+COUNTIF($B$38:$B$65,B46)-1 -> 7 | E46: =INDEX($A$38:$B$65,MATCH(ROW()-37,$D$38:$D$65,0),1) -> VIGO | F46: =LOOKUP(E46,$A$38:$A$65,$B$38:$B$65) -> 3490 | G46: =LOOKUP(E46,$A$38:$A$65,$C$38:$C$65) -> 4087
A47: =A16 -> CARTAGENA | B47: =E16 -> 0 | C47: =D16 -> 0 | D47: =_xlfn.RANK.EQ(B47,$B$38:$B$65)+COUNTIF($B$38:$B$65,B47)-1 -> 28 | E47: =INDEX($A$38:$B$65,MATCH(ROW()-37,$D$38:$D$65,0),1) -> BALEARES | F47: =LOOKUP(E47,$A$38:$A$65,$B$38:$B$65) -> 244 | G47: =LOOKUP(E47,$A$38:$A$65,$C$38:$C$65) -> 794
