Workbook
Name CABECERA: Cruceros!$A$5:$F$6
Name CONCEPTO: 'Resumen general'!$A$6
Name LblRes00_Acum: 'Resumen general'!$F$6:$G$6
Name LblRes00_Mes: 'Resumen general'!$D$6:$E$6
Name LblRes00_Var: 'Resumen general'!$H$6:$I$6
Name LblRes01_1_Acum: 'Total presentación'!$D$5:$F$5
Name LblRes01_1_Mes: 'Total presentación'!$B$5:$C$5
Name LblRes01_Acum: 'Total tráfico'!$D$5:$F$5
Name LblRes01_Mes: 'Total tráfico'!$B$5:$C$5
Name LblRes02_Acum: Líquidos!$D$5:$F$5
Name LblRes02_Mes: Líquidos!$B$5:$C$5
Name LblRes03_Acum: Sólidos!$D$5:$F$5
Name LblRes03_Mes: Sólidos!$B$5:$C$5
Name LblRes04_Acum: 'Mercancía general'!$D$5:$F$5
Name LblRes04_Mes: 'Mercancía general'!$B$5:$C$5
Name LblRes05_Acum: Pesca!$D$5:$F$5
Name LblRes05_Mes: Pesca!$B$5:$C$5
Name LblRes06_Acum: Avituallamiento!$D$5:$F$5
Name LblRes06_Mes: Avituallamiento!$B$5:$C$5
Name LblRes07_1_Acum: 'Mercan. contene. tránsito'!$D$5:$F$5
Name LblRes07_1_Mes: 'Mercan. contene. tránsito'!$B$5:$C$5
Name LblRes07_Acum: 'Mercancías tránsito'!$D$5:$F$5
Name LblRes07_Mes: 'Mercancías tránsito'!$B$5:$C$5
Name LblRes08_Acum: 'Mercancías contenedores'!$D$5:$F$5
Name LblRes08_Mes: 'Mercancías contenedores'!$B$5:$C$5
Name LblRes09_Acum: 'Ro-Ro'!$D$5:$F$5
Name LblRes09_Mes: 'Ro-Ro'!$B$5:$C$5
Name LblRes10_1_Acum: 'TEUS tránsito'!$D$5:$F$5
Name LblRes10_1_Mes: 'TEUS tránsito'!$B$5:$C$5
Name LblRes10_2_Acum: #REF!
Name LblRes10_2_Mes: #REF!
Name LblRes10_3_Acum: #REF!
Name LblRes10_3_Mes: #REF!
Name LblRes10_4_Acum: #REF!
Name LblRes10_4_Mes: #REF!
Name LblRes10_Acum: TEUS!$D$5:$F$5
Name LblRes10_Mes: TEUS!$B$5:$C$5
Name LblRes11_1_Acum: 'Pasajeros crucero'!$D$5:$F$5
Name LblRes11_1_Mes: 'Pasajeros crucero'!$B$5:$C$5
Name LblRes11_2_Acum: 'Vehículos régimen pasaje'!$D$5:$F$5
Name LblRes11_2_Mes: 'Vehículos régimen pasaje'!$B$5:$C$5
Name LblRes11_Acum: 'Pasajeros total'!$D$5:$F$5
Name LblRes11_Mes: 'Pasajeros total'!$B$5:$C$5
Name LblRes12_1_Acum: 'Buques número'!$D$5:$F$5
Name LblRes12_1_Mes: 'Buques número'!$B$5:$C$5
Name LblRes12_2_Acum: 'Buques GT'!$D$5:$F$5
Name LblRes12_2_Mes: 'Buques GT'!$B$5:$C$5
Name LblRes12_3_Acum: Cruceros!$D$5:$F$5
Name LblRes12_3_Mes: Cruceros!$B$5:$C$5
Name PROVINCIAS: Cruceros!$A$5:$A$35
Name TxtFecha: Cruceros!$L$5

Sheet Resumen general
D1: 00. RESUMEN GENERAL DEL TRÁFICO PORTUARIO
I4: 40120
A6: CONCEPTO | D6: Mes Septiembre | F6: Acumulado desde Enero | H6: Variación
D7: 2008 | E7: 2009 | F7: 2008 | G7: 2009 | H7: Diferencia | I7: %
A8: MERCANCÍAS SEGÚN SU PRESENTACIÓN | B8: GRANELES | C8: LÍQUIDOS | D8: 12215718 | E8: 11299162 | F8: 116859089 | G8: 108059907 | H8: -8799182 | I8: =((G8*100/F8)-100) -> -7.5297369
C9: SÓLIDOS | D9: 7526341 | E9: 7087240 | F9: 79346364 | G9: 57405321 | H9: -21941043 | I9: =((G9*100/F9)-100) -> -27.652235
B10: MERCANCÍA GRAL. | C10: CONVENCIONAL | D10: 4616431 | E10: 3881000 | F10: 45120139 | G10: 36017211 | H10: -9102928 | I10: =((G10*100/F10)-100) -> -20.174867
C11: EN CONTENEDORES | D11: 12215667 | E11: 10726461 | F11: 110769647 | G11: 94509707 | H11: -16259940 | I11: =((G11*100/F11)-100) -> -14.679057
C12: TOTAL | D12: 16832098 | E12: 14607461 | F12: 155889786 | G12: 130526918 | H12: -25362868 | I12: =((G12*100/F12)-100) -> -16.269743
C13: TOTAL | D13: 36574157 | E13: 32993863 | F13: 352095239 | G13: 295992146 | H13: -56103093 | I13: =((G13*100/F13)-100) -> -15.934067
A14: OTRAS MERCANCÍAS | B14: PESCA | C14: TOTAL PESCA | D14: 20696 | E14: 20222 | F14: 163741 | G14: 183702 | H14: 19961 | I14: =((G14*100/F14)-100) -> 12.190594
B15: AVITUALLAMIENTO | C15: PRODUCTOS PETROLÍFEROS | D15: 602921 | E15: 546824 | F15: 5548211 | G15: 5590785 | H15: 42574 | I15: =((G15*100/F15)-100) -> 0.76734645
C16: OTROS | D16: 300584 | E16: 244728 | F16: 2360732 | G16: 1980119 | H16: -380613 | I16: =((G16*100/F16)-100) -> -16.122669
B17: TRAFICO INTERIOR | C17: TOTAL TRAFICO INTERIOR | D17: 336935 | E17: 294563 | F17: 2408718 | G17: 2373687 | H17: -35031 | I17: =((G17*100/F17)-100) -> -1.4543421
C18: TOTAL | D18: 1261136 | E18: 1106337 | F18: 10481402 | G18: 10128293 | H18: -353109 | I18: =((G18*100/F18)-100) -> -3.36891
C19: TOTAL TRÁFICO PORTUARIO | D19: =+D13+D18 -> 37835293 | E19: =+E13+E18 -> 34100200 | F19: =+F13+F18 -> 362576641 | G19: =+G13+G18 -> 306120439 | H19: =G19-F19 -> -56456202 | I19: =((G19*100/F19)-100) -> -15.570833
A21: OTRAS INFORMACIONES | B21: MERCANCÍAS | C21: EN TRÁNSITO | D21: 8312185 | E21: 7442573 | F21: 74123546 | G21: 65724721 | H21: -8398825 | I21: =((G21*100/F21)-100) -> -11.330846
C22: EN CONTENEDORES EN TRÁNSITO | D22: 7723726 | E22: 6715933 | F22: 68101051 | G22: 59781699 | H22: -8319352 | I22: =((G22*100/F22)-100) -> -12.216187
B23: TRÁFICO RO-RO | C23: TOTAL TRÁFICO RO-RO | D23: 3334701 | E23: 3060806 | F23: 33494049 | G23: 28543287 | H23: -4950762 | I23: =((G23*100/F23)-100) -> -14.78102
B24: CONTENEDORES (TEU) | C24: TOTAL CONTENEDORES (TEU) | D24: 1131706.5 | E24: 993521.75 | F24: 10143586 | G24: 8682772.5 | H24: -1460813.8 | I24: =((G24*100/F24)-100) -> -14.401354
C25: EN TRÁNSITO | D25: 606860 | E25: 528869.25 | F25: 5275567.8 | G25: 4701518.2 | H25: -574049.5 | I25: =((G25*100/F25)-100) -> -10.881284
C26: ENTRADAS-SALIDAS NACIONAL | D26: 158626.25 | E26: 135215.25 | F26: 1528494.2 | G26: 1233335 | H26: -295159.25 | I26: =((G26*100/F26)-100) -> -19.310459
C27: IMPORT-EXPORT EXTERIOR | D27: 366218.25 | E27: 329437.25 | F27: 3339433.2 | G27: 2747912.2 | H27: -591521 | I27: =((G27*100/F27)-100) -> -17.713215
B28: PASAJEROS | C28: REG. TRANSPORTE Y DE CRUCERO (nº) | D28: 2465826 | E28: 2483482 | F28: 21983536 | G28: 20601550 | H28: -1381986 | I28: =((G28*100/F28)-100) -> -6.2864591
C29: DE CRUCERO (nº) | D29: 684101 | E29: 719028 | F29: 4242795 | G29: 4282054 | H29: 39259 | I29: =((G29*100/F29)-100) -> 0.92530985
B30: VEHÍCULOS | C30: EN RÉGIMEN DE PASAJE | D30: 323264 | E30: 328512 | F30: 3447917 | G30: 3138998 | H30: -308919 | I30: =((G30*100/F30)-100) -> -8.9595834
B31: BUQUES MERCANTES | C31: TOTAL BUQUES MERCANTES | D31: 10354 | E31: 9936 | F31: 94308 | G31: 86483 | H31: -7825 | I31: =((G31*100/F31)-100) -> -8.2972812
C32: UDS. ARQUEO BRUTO (G.T.) | D32: 141185261 | E32: 138214364 | F32: 1224275848 | G32: 1202609555 | H32: -21666293 | I32: =((G32*100/F32)-100) -> -1.7697231
C33: NÚMERO DE CRUCEROS | D33: 396 | E33: 397 | F33: 2554 | G33: 2367 | H33: -187 | I33: =((G33*100/F33)-100) -> -7.3218481

Sheet Total tráfico
F1: 1. TRAFICO PORTUARIO (Toneladas)
A5: Autoridad Portuaria | B5: ='Resumen general'!D6 -> Mes Septiembre | D5: ='Resumen general'!F6 -> Acumulado desde Enero | L5: ='Resumen general'!I4 -> 40120
B6: ='Resumen general'!D7 -> 2008 | C6: ='Resumen general'!E7 -> 2009 | D6: ='Resumen general'!F7 -> 2008 | E6: ='Resumen general'!G7 -> 2009 | F6: Var. (%)
A7: A CORUÑA | B7: 1007700 | C7: 1038309 | D7: 9923906 | E7: 8797610 | F7: =((E7*100)/D7)-100 -> -11.349322
A8: ALICANTE | B8: 198435 | C8: 290939 | D8: 2241276 | E8: 1820156 | F8: =((E8*100)/D8)-100 -> -18.789297
A9: ALMERIA | B9: 289528 | C9: 129920 | D9: 4172023 | E9: 3092372 | F9: =((E9*100)/D9)-100 -> -25.878357
A10: AVILES | B10: 423574 | C10: 386652 | D10: 3856448 | E10: 2988813 | F10: =((E10*100)/D10)-100 -> -22.498294
A11: BAHIA DE ALGECIRAS | B11: 5909528 | C11: 5746299 | D11: 55991254 | E11: 51520932 | F11: =((E11*100)/D11)-100 -> -7.9839648
A12: BAHIA DE CADIZ | B12: 478793 | C12: 386880 | D12: 3882516 | E12: 2916748 | F12: =((E12*100)/D12)-100 -> -24.874798
A13: BALEARES | B13: 1135358 | C13: 1041268 | D13: 10725138 | E13: 9274814 | F13: =((E13*100)/D13)-100 -> -13.522661
A14: BARCELONA | B14: 3954015 | C14: 3463980 | D14: 40362921 | E14: 32027356 | F14: =((E14*100)/D14)-100 -> -20.651541
A15: BILBAO | B15: 3645269 | C15: 2663823 | D15: 29955636 | E15: 24067707 | F15: =((E15*100)/D15)-100 -> -19.655497
A16: CARTAGENA | B16: 1833846 | C16: 1557565 | D16: 20158233 | E16: 16157158 | F16: =((E16*100)/D16)-100 -> -19.848342
A17: CASTELLON | B17: 1116010 | C17: 636020 | D17: 10516640 | E17: 8159571 | F17: =((E17*100)/D17)-100 -> -22.412757
A18: CEUTA | B18: 206663 | C18: 118911 | D18: 2039156 | E18: 1694658 | F18: =((E18*100)/D18)-100 -> -16.894146
... A34: VILAGARCIA | B34: 85745 | C34: 87822 | D34: 847720 | E34: 722091 | F34: =((E34*100)/D34)-100 -> -14.819634
A35: Total | B35: =SUM(B7:B34) -> 37835293 | C35: =SUM(C7:C34) -> 34100200 | D35: =SUM(D7:D34) -> 362576641 | E35: =SUM(E7:E34) -> 306120439 | F35: =((E35*100)/D35)-100 -> -15.570833
B37: =E6 -> 2009 | C37: =D6 -> 2008 | F37: =B37 -> 2009 | G37: =C37 -> 2008
A38: =A7 -> A CORUÑA | B38: =E7 -> 8797610 | C38: =D7 -> 9923906 | D38: =_xlfn.RANK.EQ(B38,$B$38:$B$65)+COUNTIF($B$38:$B$65,B38)-1 -> 12 | E38: =INDEX($A$38:$B$65,MATCH(ROW()-37,$D$38:$D$65,0),1) -> BAHIA DE ALGECIRAS | F38: =LOOKUP(E38,$A$38:$A$65,$B$38:$B$65) -> 51520932 | G38: =LOOKUP(E38,$A$38:$A$65,$C$38:$C$65) -> 55991254
A39: =A8 -> ALICANTE | B39: =E8 -> 1820156 | C39: =D8 -> 2241276 | D39: =_xlfn.RANK.EQ(B39,$B$38:$B$65)+COUNTIF($B$38:$B$65,B39)-1 -> 22 | E39: =INDEX($A$38:$B$65,MATCH(ROW()-37,$D$38:$D$65,0),1) -> VALENCIA | F39: =LOOKUP(E39,$A$38:$A$65,$B$38:$B$65) -> 43076116 | G39: =LOOKUP(E39,$A$38:$A$65,$C$38:$C$65) -> 45645393
A40: =A9 -> ALMERIA | B40: =E9 -> 3092372 | C40: =D9 -> 4172023 | D40: =_xlfn.RANK.EQ(B40,$B$38:$B$65)+COUNTIF($B$38:$B$65,B40)-1 -> 17 | E40: =INDEX($A$38:$B$65,MATCH(ROW()-37,$D$38:$D$65,0),1) -> BARCELONA | F40: =LOOKUP(E40,$A$38:$A$65,$B$38:$B$65) -> 32027356 | G40: =LOOKUP(E40,$A$38:$A$65,$C$38:$C$65) -> 40362921
A41: =A10 -> AVILES | B41: =E10 -> 2988813 | C41: =D10 -> 3856448 | D41: =_xlfn.RANK.EQ(B41,$B$38:$B$65)+COUNTIF($B$38:$B$65,B41)-1 -> 18 | E41: =INDEX($A$38:$B$65,MATCH(ROW()-37,$D$38:$D$65,0),1) -> BILBAO | F41: =LOOKUP(E41,$A$38:$A$65,$B$38:$B$65) -> 24067707 | G41: =LOOKUP(E41,$A$38:$A$65,$C$38:$C$65) -> 29955636
A42: =A11 -> BAHIA DE ALGECIRAS | B42: =E11 -> 51520932 | C42: =D11 -> 55991254 | D42: =_xlfn.RANK.EQ(B42,$B$38:$B$65)+COUNTIF($B$38:$B$65,B42)-1 -> 1 | E42: =INDEX($A$38:$B$65,MATCH(ROW()-37,$D$38:$D$65,0),1) -> TARRAGONA | F42: =LOOKUP(E42,$A$38:$A$65,$B$38:$B$65) -> 23235119 | G42: =LOOKUP(E42,$A$38:$A$65,$C$38:$C$65) -> 25781383
A43: =A12 -> BAHIA DE CADIZ | B43: =E12 -> 2916748 | C43: =D12 -> 3882516 | D43: =_xlfn.RANK.EQ(B43,$B$38:$B$65)+COUNTIF($B$38:$B$65,B43)-1 -> 19 | E43: =INDEX($A$38:$B$65,MATCH(ROW()-37,$D$38:$D$65,0),1) -> CARTAGENA | F43: =LOOKUP(E43,$A$38:$A$65,$B$38:$B$65) -> 16157158 | G43: =LOOKUP(E43,$A$38:$A$65,$C$38:$C$65) -> 20158233
A44: =A13 -> BALEARES | B44: =E13 -> 9274814 | C44: =D13 -> 10725138 | D44: =_xlfn.RANK.EQ(B44,$B$38:$B$65)+COUNTIF($B$38:$B$65,B44)-1 -> 11 | E44: =INDEX($A$38:$B$65,MATCH(ROW()-37,$D$38:$D$65,0),1) -> LAS PALMAS | F44: =LOOKUP(E44,$A$38:$A$65,$B$38:$B$65) -> 15724664 | G44: =LOOKUP(E44,$A$38:$A$65,$C$38:$C$65) -> 19640223
A45: =A14 -> BARCELONA | B45: =E14 -> 32027356 | C45: =D14 -> 40362921 | D45: =_xlfn.RANK.EQ(B45,$B$38:$B$65)+COUNTIF($B$38:$B$65,B45)-1 -> 3 | E45: =INDEX($A$38:$B$65,MATCH(ROW()-37,$D$38:$D$65,0),1) -> HUELVA | F45: =LOOKUP(E45,$A$38:$A$65,$B$38:$B$65) -> 12881957 | G45: =LOOKUP(E45,$A$38:$A$65,$C$38:$C$65) -> 14997518
A46: =A15 -> BILBAO | B46: =E15 -> 24067707 | C46: =D15 -> 29955636 | D46: =_xlfn.RANK.EQ(B46,$B$38:$B$65)+COUNTIF($B$38:$B$65,B46)-1 -> 4 | E46: =INDEX($A$38:$B$65,MATCH(ROW()-37,$D$38:$D$65,0),1) -> SANTA CRUZ DE TENERIFE | F46: =LOOKUP(E46,$A$38:$A$65,$B$38:$B$65) -> 12121384 | G46: =LOOKUP(E46,$A$38:$A$65,$C$38:$C$65) -> 13852022
A47: =A16 -> CARTAGENA | B47: =E16 -> 16157158 | C47: =D16 -> 20158233 | D47: =_xlfn.RANK.EQ(B47,$B$38:$B$65)+COUNTIF($B$38:$B$65,B47)-1 -> 6 | E47: =INDEX($A$38:$B$65,MATCH(ROW()-37,$D$38:$D$65,0),1) -> GIJON | F47: =LOOKUP(E47,$A$38:$A$65,$B$38:$B$65) -> 10293561 | G47: =LOOKUP(E47,$A$38:$A$65,$C$38:$C$65) -> 15019457
A48: =A17 -> CASTELLON | B48: =E17 -> 8159571 | C48: =D17 -> 10516640 | D48: =_xlfn.RANK.EQ(B48,$B$38:$B$65)+COUNTIF($B$38:$B$65,B48)-1 -> 14 | E48: =INDEX($A$38:$B$65,MATCH(ROW()-37,$D$38:$D$65,0),1) -> BALEARES | F48: =LOOKUP(E48,$A$38:$A$65,$B$38:$B$65) -> 9274814 | G48: =LOOKUP(E48,$A$38:$A$65,$C$38:$C$65) -> 10725138
A49: =A18 -> CEUTA | B49: =E18 -> 1694658 | C49: =D18 -> 2039156 | D49: =_xlfn.RANK.EQ(B49,$B$38:$B$65)+COUNTIF($B$38:$B$65,B49)-1 -> 23 | E49: =INDEX($A$38:$B$65,MATCH(ROW()-37,$D$38:$D$65,0),1) -> A CORUÑA | F49: =LOOKUP(E49,$A$38:$A$65,$B$38:$B$65) -> 8797610 | G49: =LOOKUP(E49,$A$38:$A$65,$C$38:$C$65) -> 9923906
... A65: =A34 -> VILAGARCIA | B65: =E34 -> 722091 | C65: =D34 -> 847720 | D65: =_xlfn.RANK.EQ(B65,$B$38:$B$65)+COUNTIF($B$38:$B$65,B65)-1 -> 27 | E65: =INDEX($A$38:$B$65,MATCH(ROW()-37,$D$38:$D$65,0),1) -> MELILLA | F65: =LOOKUP(E65,$A$38:$A$65,$B$38:$B$65) -> 614313 | G65: =LOOKUP(E65,$A$38:$A$65,$C$38:$C$65) -> 587614

Sheet Total presentación
F1: 1.1. MERCANCÍAS SEGÚN SU FORMA DE PRESENTACIÓN
J2: (Toneladas)
A5: Autoridad Portuaria | B5: ='Resumen general'!D6 -> Mes Septiembre | D5: ='Resumen general'!F6 -> Acumulado desde Enero | L5: ='Resumen general'!I4 -> 40120
B6: ='Resumen general'!D7 -> 2008 | C6: ='Resumen general'!E7 -> 2009 | D6: ='Resumen general'!F7 -> 2008 | E6: ='Resumen general'!G7 -> 2009 | F6: Var. (%)
A7: A CORUÑA | B7: 981289 | C7: 1003350 | D7: 9647604 | E7: 8513282 | F7: =((E7*100)/D7)-100 -> -11.757551
A8: ALICANTE | B8: 196784 | C8: 289493 | D8: 2212031 | E8: 1800507 | F8: =((E8*100)/D8)-100 -> -18.603898
A9: ALMERIA | B9: 274632 | C9: 121004 | D9: 3977081 | E9: 2989723 | F9: =((E9*100)/D9)-100 -> -24.826198
A10: AVILES | B10: 416570 | C10: 383558 | D10: 3806604 | E10: 2950319 | F10: =((E10*100)/D10)-100 -> -22.494722
A11: BAHIA DE ALGECIRAS | B11: 5452983 | C11: 5261615 | D11: 52274051 | E11: 47247781 | F11: =((E11*100)/D11)-100 -> -9.6152296
A12: BAHIA DE CADIZ | B12: 463442 | C12: 371668 | D12: 3789409 | E12: 2817199 | F12: =((E12*100)/D12)-100 -> -25.65598
A13: BALEARES | B13: 1101983 | C13: 1017752 | D13: 10532407 | E13: 9147198 | F13: =((E13*100)/D13)-100 -> -13.151875
A14: BARCELONA | B14: 3862909 | C14: 3352759 | D14: 39409531 | E14: 31099720 | F14: =((E14*100)/D14)-100 -> -21.08579
A15: BILBAO | B15: 3483608 | C15: 2624287 | D15: 29158180 | E15: 23711742 | F15: =((E15*100)/D15)-100 -> -18.678937
A16: CARTAGENA | B16: 1823579 | C16: 1552530 | D16: 20077849 | E16: 16111222 | F16: =((E16*100)/D16)-100 -> -19.756235
A17: CASTELLON | B17: 1111456 | C17: 632633 | D17: 10469934 | E17: 8128836 | F17: =((E17*100)/D17)-100 -> -22.360198
A18: CEUTA | B18: 153841 | C18: 116802 | D18: 1570559 | E18: 1361570 | F18: =((E18*100)/D18)-100 -> -13.306663
... A34: VILAGARCIA | B34: 84634 | C34: 86234 | D34: 843975 | E34: 716151 | F34: =((E34*100)/D34)-100 -> -15.145472
A35: Total | B35: =SUM(B7:B34) -> 36574157 | C35: =SUM(C7:C34) -> 32993863 | D35: =SUM(D7:D34) -> 352095239 | E35: =SUM(E7:E34) -> 295992146 | F35: =((E35*100)/D35)-100 -> -15.934067
B37: =E6 -> 2009 | C37: =D6 -> 2008 | F37: =B37 -> 2009 | G37: =C37 -> 2008
A38: =A7 -> A CORUÑA | B38: =E7 -> 8513282 | C38: =D7 -> 9647604 | D38: =_xlfn.RANK.EQ(B38,$B$38:$B$65)+COUNTIF($B$38:$B$65,B38)-1 -> 13 | E38: =INDEX($A$38:$B$65,MATCH(ROW()-37,$D$38:$D$65,0),1) -> BAHIA DE ALGECIRAS | F38: =LOOKUP(E38,$A$38:$A$65,$B$38:$B$65) -> 47247781 | G38: =LOOKUP(E38,$A$38:$A$65,$C$38:$C$65) -> 52274051
A39: =A8 -> ALICANTE | B39: =E8 -> 1800507 | C39: =D8 -> 2212031 | D39: =_xlfn.RANK.EQ(B39,$B$38:$B$65)+COUNTIF($B$38:$B$65,B39)-1 -> 22 | E39: =INDEX($A$38:$B$65,MATCH(ROW()-37,$D$38:$D$65,0),1) -> VALENCIA | F39: =LOOKUP(E39,$A$38:$A$65,$B$38:$B$65) -> 42859723 | G39: =LOOKUP(E39,$A$38:$A$65,$C$38:$C$65) -> 45405782
A40: =A9 -> ALMERIA | B40: =E9 -> 2989723 | C40: =D9 -> 3977081 | D40: =_xlfn.RANK.EQ(B40,$B$38:$B$65)+COUNTIF($B$38:$B$65,B40)-1 -> 17 | E40: =INDEX($A$38:$B$65,MATCH(ROW()-37,$D$38:$D$65,0),1) -> BARCELONA | F40: =LOOKUP(E40,$A$38:$A$65,$B$38:$B$65) -> 31099720 | G40: =LOOKUP(E40,$A$38:$A$65,$C$38:$C$65) -> 39409531
A41: =A10 -> AVILES | B41: =E10 -> 2950319 | C41: =D10 -> 3806604 | D41: =_xlfn.RANK.EQ(B41,$B$38:$B$65)+COUNTIF($B$38:$B$65,B41)-1 -> 18 | E41: =INDEX($A$38:$B$65,MATCH(ROW()-37,$D$38:$D$65,0),1) -> BILBAO | F41: =LOOKUP(E41,$A$38:$A$65,$B$38:$B$65) -> 23711742 | G41: =LOOKUP(E41,$A$38:$A$65,$C$38:$C$65) -> 29158180
A42: =A11 -> BAHIA DE ALGECIRAS | B42: =E11 -> 47247781 | C42: =D11 -> 52274051 | D42: =_xlfn.RANK.EQ(B42,$B$38:$B$65)+COUNTIF($B$38:$B$65,B42)-1 -> 1 | E42: =INDEX($A$38:$B$65,MATCH(ROW()-37,$D$38:$D$65,0),1) -> TARRAGONA | F42: =LOOKUP(E42,$A$38:$A$65,$B$38:$B$65) -> 22949563 | G42: =LOOKUP(E42,$A$38:$A$65,$C$38:$C$65) -> 25629878
A43: =A12 -> BAHIA DE CADIZ | B43: =E12 -> 2817199 | C43: =D12 -> 3789409 | D43: =_xlfn.RANK.EQ(B43,$B$38:$B$65)+COUNTIF($B$38:$B$65,B43)-1 -> 19 | E43: =INDEX($A$38:$B$65,MATCH(ROW()-37,$D$38:$D$65,0),1) -> CARTAGENA | F43: =LOOKUP(E43,$A$38:$A$65,$B$38:$B$65) -> 16111222 | G43: =LOOKUP(E43,$A$38:$A$65,$C$38:$C$65) -> 20077849
A44: =A13 -> BALEARES | B44: =E13 -> 9147198 | C44: =D13 -> 10532407 | D44: =_xlfn.RANK.EQ(B44,$B$38:$B$65)+COUNTIF($B$38:$B$65,B44)-1 -> 11 | E44: =INDEX($A$38:$B$65,MATCH(ROW()-37,$D$38:$D$65,0),1) -> LAS PALMAS | F44: =LOOKUP(E44,$A$38:$A$65,$B$38:$B$65) -> 14118502 | G44: =LOOKUP(E44,$A$38:$A$65,$C$38:$C$65) -> 18022196
A45: =A14 -> BARCELONA | B45: =E14 -> 31099720 | C45: =D14 -> 39409531 | D45: =_xlfn.RANK.EQ(B45,$B$38:$B$65)+COUNTIF($B$38:$B$65,B45)-1 -> 3 | E45: =INDEX($A$38:$B$65,MATCH(ROW()-37,$D$38:$D$65,0),1) -> HUELVA | F45: =LOOKUP(E45,$A$38:$A$65,$B$38:$B$65) -> 12847798 | G45: =LOOKUP(E45,$A$38:$A$65,$C$38:$C$65) -> 14953598
A46: =A15 -> BILBAO | B46: =E15 -> 23711742 | C46: =D15 -> 29158180 | D46: =_xlfn.RANK.EQ(B46,$B$38:$B$65)+COUNTIF($B$38:$B$65,B46)-1 -> 4 | E46: =INDEX($A$38:$B$65,MATCH(ROW()-37,$D$38:$D$65,0),1) -> SANTA CRUZ DE TENERIFE | F46: =LOOKUP(E46,$A$38:$A$65,$B$38:$B$65) -> 11382931 | G46: =LOOKUP(E46,$A$38:$A$65,$C$38:$C$65) -> 13012858
A47: =A16 -> CARTAGENA | B47: =E16 -> 16111222 | C47: =D16 -> 20077849 | D47: =_xlfn.RANK.EQ(B47,$B$38:$B$65)+COUNTIF($B$38:$B$65,B47)-1 -> 6 | E47: =INDEX($A$38:$B$65,MATCH(ROW()-37,$D$38:$D$65,0),1) -> GIJON | F47: =LOOKUP(E47,$A$38:$A$65,$B$38:$B$65) -> 10198155 | G47: =LOOKUP(E47,$A$38:$A$65,$C$38:$C$65) -> 14916967
A48: =A17 -> CASTELLON | B48: =E17 -> 8128836 | C48: =D17 -> 10469934 | D48: =_xlfn.RANK.EQ(B48,$B$38:$B$65)+COUNTIF($B$38:$B$65,B48)-1 -> 14 | E48: =INDEX($A$38:$B$65,MATCH(ROW()-37,$D$38:$D$65,0),1) -> BALEARES | F48: =LOOKUP(E48,$A$38:$A$65,$B$38:$B$65) -> 9147198 | G48: =LOOKUP(E48,$A$38:$A$65,$C$38:$C$65) -> 10532407
A49: =A18 -> CEUTA | B49: =E18 -> 1361570 | C49: =D18 -> 1570559 | D49: =_xlfn.RANK.EQ(B49,$B$38:$B$65)+COUNTIF($B$38:$B$65,B49)-1 -> 25 | E49: =INDEX($A$38:$B$65,MATCH(ROW()-37,$D$38:$D$65,0),1) -> FERROL-SAN CIBRAO | F49: =LOOKUP(E49,$A$38:$A$65,$B$38:$B$65) -> 8783211 | G49: =LOOKUP(E49,$A$38:$A$65,$C$38:$C$65) -> 9918482
... A65: =A34 -> VILAGARCIA | B65: =E34 -> 716151 | C65: =D34 -> 843975 | D65: =_xlfn.RANK.EQ(B65,$B$38:$B$65)+COUNTIF($B$38:$B$65,B65)-1 -> 27 | E65: =INDEX($A$38:$B$65,MATCH(ROW()-37,$D$38:$D$65,0),1) -> MELILLA | F65: =LOOKUP(E65,$A$38:$A$65,$B$38:$B$65) -> 612532 | G65: =LOOKUP(E65,$A$38:$A$65,$C$38:$C$65) -> 567991

Sheet Líquidos
F1: 2. GRANELES LÍQUIDOS (Toneladas)
A5: Autoridad Portuaria | B5: ='Resumen general'!D6 -> Mes Septiembre | D5: ='Resumen general'!F6 -> Acumulado desde Enero | L5: ='Resumen general'!I4 -> 40120
B6: ='Resumen general'!D7 -> 2008 | C6: ='Resumen general'!E7 -> 2009 | D6: ='Resumen general'!F7 -> 2008 | E6: ='Resumen general'!G7 -> 2009 | F6: Var. (%)
A7: A CORUÑA | B7: 519563 | C7: 546563 | D7: 5808952 | E7: 4993943 | F7: =((E7*100)/D7)-100 -> -14.030224
A8: ALICANTE | B8: 3000 | C8: 15291 | D8: 81566 | E8: 88288 | F8: =((E8*100)/D8)-100 -> 8.2411789
A9: ALMERIA | B9: 0 | C9: 0 | D9: 1700 | E9: 0 | F9: =((E9*100)/D9)-100 -> -100
A10: AVILES | B10: 50905 | C10: 70909 | D10: 425096 | E10: 508179 | F10: =((E10*100)/D10)-100 -> 19.544526
A11: BAHIA DE ALGECIRAS | B11: 1748456 | C11: 1573600 | D11: 15251802 | E11: 14510583 | F11: =((E11*100)/D11)-100 -> -4.8598782
A12: BAHIA DE CADIZ | B12: 10711 | C12: 13123 | D12: 147028 | E12: 102304 | F12: =((E12*100)/D12)-100 -> -30.418696
A13: BALEARES | B13: 247042 | C13: 210835 | D13: 1659282 | E13: 1621551 | F13: =((E13*100)/D13)-100 -> -2.2739354
A14: BARCELONA | B14: 742820 | C14: 904566 | D14: 9159978 | E14: 8760570 | F14: =((E14*100)/D14)-100 -> -4.3603598
A15: BILBAO | B15: 2126514 | C15: 1552074 | D15: 17552487 | E15: 15894007 | F15: =((E15*100)/D15)-100 -> -9.4486895
A16: CARTAGENA | B16: 1550657 | C16: 1150899 | D16: 15605508 | E16: 12884758 | F16: =((E16*100)/D16)-100 -> -17.434549
A17: CASTELLON | B17: 654693 | C17: 397243 | D17: 5866709 | E17: 5846523 | F17: =((E17*100)/D17)-100 -> -0.34407706
A18: CEUTA | B18: 58532 | C18: 37446 | D18: 784149 | E18: 609047 | F18: =((E18*100)/D18)-100 -> -22.330195
... A34: VILAGARCIA | B34: 9833 | C34: 18642 | D34: 238534 | E34: 174199 | F34: =((E34*100)/D34)-100 -> -26.970998
A35: Total | B35: =SUM(B7:B34) -> 12215718 | C35: =SUM(C7:C34) -> 11299162 | D35: =SUM(D7:D34) -> 116859089 | E35: =SUM(E7:E34) -> 108059907 | F35: =((E35*100)/D35)-100 -> -7.5297369
B37: =E6 -> 2009 | C37: =D6 -> 2008 | F37: =B37 -> 2009 | G37: =C37 -> 2008
A38: =A7 -> A CORUÑA | B38: =E7 -> 4993943 | C38: =D7 -> 5808952 | D38: =_xlfn.RANK.EQ(B38,$B$38:$B$65)+COUNTIF($B$38:$B$65,B38)-1 -> 9 | E38: =INDEX($A$38:$B$65,MATCH(ROW()-37,$D$38:$D$65,0),1) -> BILBAO | F38: =LOOKUP(E38,$A$38:$A$65,$B$38:$B$65) -> 15894007 | G38: =LOOKUP(E38,$A$38:$A$65,$C$38:$C$65) -> 17552487
A39: =A8 -> ALICANTE | B39: =E8 -> 88288 | C39: =D8 -> 81566 | D39: =_xlfn.RANK.EQ(B39,$B$38:$B$65)+COUNTIF($B$38:$B$65,B39)-1 -> 22 | E39: =INDEX($A$38:$B$65,MATCH(ROW()-37,$D$38:$D$65,0),1) -> BAHIA DE ALGECIRAS | F39: =LOOKUP(E39,$A$38:$A$65,$B$38:$B$65) -> 14510583 | G39: =LOOKUP(E39,$A$38:$A$65,$C$38:$C$65) -> 15251802
A40: =A9 -> ALMERIA | B40: =E9 -> 0 | C40: =D9 -> 1700 | D40: =_xlfn.RANK.EQ(B40,$B$38:$B$65)+COUNTIF($B$38:$B$65,B40)-1 -> 28 | E40: =INDEX($A$38:$B$65,MATCH(ROW()-37,$D$38:$D$65,0),1) -> TARRAGONA | F40: =LOOKUP(E40,$A$38:$A$65,$B$38:$B$65) -> 13731946 | G40: =LOOKUP(E40,$A$38:$A$65,$C$38:$C$65) -> 14707517
A41: =A10 -> AVILES | B41: =E10 -> 508179 | C41: =D10 -> 425096 | D41: =_xlfn.RANK.EQ(B41,$B$38:$B$65)+COUNTIF($B$38:$B$65,B41)-1 -> 17 | E41: =INDEX($A$38:$B$65,MATCH(ROW()-37,$D$38:$D$65,0),1) -> CARTAGENA | F41: =LOOKUP(E41,$A$38:$A$65,$B$38:$B$65) -> 12884758 | G41: =LOOKUP(E41,$A$38:$A$65,$C$38:$C$65) -> 15605508
A42: =A11 -> BAHIA DE ALGECIRAS | B42: =E11 -> 14510583 | C42: =D11 -> 15251802 | D42: =_xlfn.RANK.EQ(B42,$B$38:$B$65)+COUNTIF($B$38:$B$65,B42)-1 -> 2 | E42: =INDEX($A$38:$B$65,MATCH(ROW()-37,$D$38:$D$65,0),1) -> HUELVA | F42: =LOOKUP(E42,$A$38:$A$65,$B$38:$B$65) -> 9629354 | G42: =LOOKUP(E42,$A$38:$A$65,$C$38:$C$65) -> 9928874
A43: =A12 -> BAHIA DE CADIZ | B43: =E12 -> 102304 | C43: =D12 -> 147028 | D43: =_xlfn.RANK.EQ(B43,$B$38:$B$65)+COUNTIF($B$38:$B$65,B43)-1 -> 21 | E43: =INDEX($A$38:$B$65,MATCH(ROW()-37,$D$38:$D$65,0),1) -> BARCELONA | F43: =LOOKUP(E43,$A$38:$A$65,$B$38:$B$65) -> 8760570 | G43: =LOOKUP(E43,$A$38:$A$65,$C$38:$C$65) -> 9159978
A44: =A13 -> BALEARES | B44: =E13 -> 1621551 | C44: =D13 -> 1659282 | D44: =_xlfn.RANK.EQ(B44,$B$38:$B$65)+COUNTIF($B$38:$B$65,B44)-1 -> 13 | E44: =INDEX($A$38:$B$65,MATCH(ROW()-37,$D$38:$D$65,0),1) -> SANTA CRUZ DE TENERIFE | F44: =LOOKUP(E44,$A$38:$A$65,$B$38:$B$65) -> 6474815 | G44: =LOOKUP(E44,$A$38:$A$65,$C$38:$C$65) -> 6997195
A45: =A14 -> BARCELONA | B45: =E14 -> 8760570 | C45: =D14 -> 9159978 | D45: =_xlfn.RANK.EQ(B45,$B$38:$B$65)+COUNTIF($B$38:$B$65,B45)-1 -> 6 | E45: =INDEX($A$38:$B$65,MATCH(ROW()-37,$D$38:$D$65,0),1) -> CASTELLON | F45: =LOOKUP(E45,$A$38:$A$65,$B$38:$B$65) -> 5846523 | G45: =LOOKUP(E45,$A$38:$A$65,$C$38:$C$65) -> 5866709
A46: =A15 -> BILBAO | B46: =E15 -> 15894007 | C46: =D15 -> 17552487 | D46: =_xlfn.RANK.EQ(B46,$B$38:$B$65)+COUNTIF($B$38:$B$65,B46)-1 -> 1 | E46: =INDEX($A$38:$B$65,MATCH(ROW()-37,$D$38:$D$65,0),1) -> A CORUÑA | F46: =LOOKUP(E46,$A$38:$A$65,$B$38:$B$65) -> 4993943 | G46: =LOOKUP(E46,$A$38:$A$65,$C$38:$C$65) -> 5808952
A47: =A16 -> CARTAGENA | B47: =E16 -> 12884758 | C47: =D16 -> 15605508 | D47: =_xlfn.RANK.EQ(B47,$B$38:$B$65)+COUNTIF($B$38:$B$65,B47)-1 -> 4 | E47: =INDEX($A$38:$B$65,MATCH(ROW()-37,$D$38:$D$65,0),1) -> VALENCIA | F47: =LOOKUP(E47,$A$38:$A$65,$B$38:$B$65) -> 4510975 | G47: =LOOKUP(E47,$A$38:$A$65,$C$38:$C$65) -> 4542542
A48: =A17 -> CASTELLON | B48: =E17 -> 5846523 | C48: =D17 -> 5866709 | D48: =_xlfn.RANK.EQ(B48,$B$38:$B$65)+COUNTIF($B$38:$B$65,B48)-1 -> 8 | E48: =INDEX($A$38:$B$65,MATCH(ROW()-37,$D$38:$D$65,0),1) -> LAS PALMAS | F48: =LOOKUP(E48,$A$38:$A$65,$B$38:$B$65) -> 3411489 | G48: =LOOKUP(E48,$A$38:$A$65,$C$38:$C$65) -> 3587074
A49: =A18 -> CEUTA | B49: =E18 -> 609047 | C49: =D18 -> 784149 | D49: =_xlfn.RANK.EQ(B49,$B$38:$B$65)+COUNTIF($B$38:$B$65,B49)-1 -> 16 | E49: =INDEX($A$38:$B$65,MATCH(ROW()-37,$D$38:$D$65,0),1) -> FERROL-SAN CIBRAO | F49: =LOOKUP(E49,$A$38:$A$65,$B$38:$B$65) -> 1738615 | G49: =LOOKUP(E49,$A$38:$A$65,$C$38:$C$65) -> 1698706
... A65: =A34 -> VILAGARCIA | B65: =E34 -> 174199 | C65: =D34 -> 238534 | D65: =_xlfn.RANK.EQ(B65,$B$38:$B$65)+COUNTIF($B$38:$B$65,B65)-1 -> 19 | E65: =INDEX($A$38:$B$65,MATCH(ROW()-37,$D$38:$D$65,0),1) -> ALMERIA | F65: =LOOKUP(E65,$A$38:$A$65,$B$38:$B$65) -> 0 | G65: =LOOKUP(E65,$A$38:$A$65,$C$38:$C$65) -> 1700

Sheet Sólidos
F1: 3. GRANELES SÓLIDOS (Toneladas)
A5: Autoridad Portuaria | B5: ='Resumen general'!D6 -> Mes Septiembre | D5: ='Resumen general'!F6 -> Acumulado desde Enero | L5: ='Resumen general'!I4 -> 40120
B6: ='Resumen general'!D7 -> 2008 | C6: ='Resumen general'!E7 -> 2009 | D6: ='Resumen general'!F7 -> 2008 | E6: ='Resumen general'!G7 -> 2009 | F6: Var. (%)
A7: A CORUÑA | B7: 311544 | C7: 375167 | D7: 2597543 | E7: 2334517 | F7: =((E7*100)/D7)-100 -> -10.125954
A8: ALICANTE | B8: 73422 | C8: 163084 | D8: 912118 | E8: 762833 | F8: =((E8*100)/D8)-100 -> -16.366852
A9: ALMERIA | B9: 206165 | C9: 76212 | D9: 3465797 | E9: 2591614 | F9: =((E9*100)/D9)-100 -> -25.223145
A10: AVILES | B10: 275140 | C10: 253724 | D10: 2419980 | E10: 1746444 | F10: =((E10*100)/D10)-100 -> -27.832296
A11: BAHIA DE ALGECIRAS | B11: 51489 | C11: 259425 | D11: 1223227 | E11: 1364322 | F11: =((E11*100)/D11)-100 -> 11.534654
A12: BAHIA DE CADIZ | B12: 249811 | C12: 201664 | D12: 1642795 | E12: 1168666 | F12: =((E12*100)/D12)-100 -> -28.861118
A13: BALEARES | B13: 161163 | C13: 146720 | D13: 1651659 | E13: 1309374 | F13: =((E13*100)/D13)-100 -> -20.723709
A14: BARCELONA | B14: 361836 | C14: 311477 | D14: 2742324 | E14: 2936376 | F14: =((E14*100)/D14)-100 -> 7.0761879
A15: BILBAO | B15: 504759 | C15: 472818 | D15: 4245366 | E15: 2661141 | F15: =((E15*100)/D15)-100 -> -37.316571
A16: CARTAGENA | B16: 208610 | C16: 333790 | D16: 3747955 | E16: 2691899 | F16: =((E16*100)/D16)-100 -> -28.176859
A17: CASTELLON | B17: 325044 | C17: 139339 | D17: 3271616 | E17: 1316687 | F17: =((E17*100)/D17)-100 -> -59.754232
A18: CEUTA | B18: 5771 | C18: 6211 | D18: 51715 | E18: 52871 | F18: =((E18*100)/D18)-100 -> 2.2353282
... A34: VILAGARCIA | B34: 34614 | C34: 49222 | D34: 382826 | E34: 339715 | F34: =((E34*100)/D34)-100 -> -11.261252
A35: Total | B35: =SUM(B7:B34) -> 7526341 | C35: =SUM(C7:C34) -> 7087240 | D35: =SUM(D7:D34) -> 79346364 | E35: =SUM(E7:E34) -> 57405321 | F35: =((E35*100)/D35)-100 -> -27.652235
B37: =E6 -> 2009 | C37: =D6 -> 2008 | F37: =B37 -> 2009 | G37: =C37 -> 2008
A38: =A7 -> A CORUÑA | B38: =E7 -> 2334517 | C38: =D7 -> 2597543 | D38: =_xlfn.RANK.EQ(B38,$B$38:$B$65)+COUNTIF($B$38:$B$65,B38)-1 -> 10 | E38: =INDEX($A$38:$B$65,MATCH(ROW()-37,$D$38:$D$65,0),1) -> GIJON | F38: =LOOKUP(E38,$A$38:$A$65,$B$38:$B$65) -> 8741394 | G38: =LOOKUP(E38,$A$38:$A$65,$C$38:$C$65) -> 13153984
A39: =A8 -> ALICANTE | B39: =E8 -> 762833 | C39: =D8 -> 912118 | D39: =_xlfn.RANK.EQ(B39,$B$38:$B$65)+COUNTIF($B$38:$B$65,B39)-1 -> 19 | E39: =INDEX($A$38:$B$65,MATCH(ROW()-37,$D$38:$D$65,0),1) -> TARRAGONA | F39: =LOOKUP(E39,$A$38:$A$65,$B$38:$B$65) -> 7194059 | G39: =LOOKUP(E39,$A$38:$A$65,$C$38:$C$65) -> 9713105
A40: =A9 -> ALMERIA | B40: =E9 -> 2591614 | C40: =D9 -> 3465797 | D40: =_xlfn.RANK.EQ(B40,$B$38:$B$65)+COUNTIF($B$38:$B$65,B40)-1 -> 8 | E40: =INDEX($A$38:$B$65,MATCH(ROW()-37,$D$38:$D$65,0),1) -> FERROL-SAN CIBRAO | F40: =LOOKUP(E40,$A$38:$A$65,$B$38:$B$65) -> 6633037 | G40: =LOOKUP(E40,$A$38:$A$65,$C$38:$C$65) -> 7593925
A41: =A10 -> AVILES | B41: =E10 -> 1746444 | C41: =D10 -> 2419980 | D41: =_xlfn.RANK.EQ(B41,$B$38:$B$65)+COUNTIF($B$38:$B$65,B41)-1 -> 12 | E41: =INDEX($A$38:$B$65,MATCH(ROW()-37,$D$38:$D$65,0),1) -> HUELVA | F41: =LOOKUP(E41,$A$38:$A$65,$B$38:$B$65) -> 3006218 | G41: =LOOKUP(E41,$A$38:$A$65,$C$38:$C$65) -> 4721286
A42: =A11 -> BAHIA DE ALGECIRAS | B42: =E11 -> 1364322 | C42: =D11 -> 1223227 | D42: =_xlfn.RANK.EQ(B42,$B$38:$B$65)+COUNTIF($B$38:$B$65,B42)-1 -> 14 | E42: =INDEX($A$38:$B$65,MATCH(ROW()-37,$D$38:$D$65,0),1) -> BARCELONA | F42: =LOOKUP(E42,$A$38:$A$65,$B$38:$B$65) -> 2936376 | G42: =LOOKUP(E42,$A$38:$A$65,$C$38:$C$65) -> 2742324
A43: =A12 -> BAHIA DE CADIZ | B43: =E12 -> 1168666 | C43: =D12 -> 1642795 | D43: =_xlfn.RANK.EQ(B43,$B$38:$B$65)+COUNTIF($B$38:$B$65,B43)-1 -> 18 | E43: =INDEX($A$38:$B$65,MATCH(ROW()-37,$D$38:$D$65,0),1) -> CARTAGENA | F43: =LOOKUP(E43,$A$38:$A$65,$B$38:$B$65) -> 2691899 | G43: =LOOKUP(E43,$A$38:$A$65,$C$38:$C$65) -> 3747955
A44: =A13 -> BALEARES | B44: =E13 -> 1309374 | C44: =D13 -> 1651659 | D44: =_xlfn.RANK.EQ(B44,$B$38:$B$65)+COUNTIF($B$38:$B$65,B44)-1 -> 16 | E44: =INDEX($A$38:$B$65,MATCH(ROW()-37,$D$38:$D$65,0),1) -> BILBAO | F44: =LOOKUP(E44,$A$38:$A$65,$B$38:$B$65) -> 2661141 | G44: =LOOKUP(E44,$A$38:$A$65,$C$38:$C$65) -> 4245366
A45: =A14 -> BARCELONA | B45: =E14 -> 2936376 | C45: =D14 -> 2742324 | D45: =_xlfn.RANK.EQ(B45,$B$38:$B$65)+COUNTIF($B$38:$B$65,B45)-1 -> 5 | E45: =INDEX($A$38:$B$65,MATCH(ROW()-37,$D$38:$D$65,0),1) -> ALMERIA | F45: =LOOKUP(E45,$A$38:$A$65,$B$38:$B$65) -> 2591614 | G45: =LOOKUP(E45,$A$38:$A$65,$C$38:$C$65) -> 3465797
A46: =A15 -> BILBAO | B46: =E15 -> 2661141 | C46: =D15 -> 4245366 | D46: =_xlfn.RANK.EQ(B46,$B$38:$B$65)+COUNTIF($B$38:$B$65,B46)-1 -> 7 | E46: =INDEX($A$38:$B$65,MATCH(ROW()-37,$D$38:$D$65,0),1) -> VALENCIA | F46: =LOOKUP(E46,$A$38:$A$65,$B$38:$B$65) -> 2541372 | G46: =LOOKUP(E46,$A$38:$A$65,$C$38:$C$65) -> 4264525
A47: =A16 -> CARTAGENA | B47: =E16 -> 2691899 | C47: =D16 -> 3747955 | D47: =_xlfn.RANK.EQ(B47,$B$38:$B$65)+COUNTIF($B$38:$B$65,B47)-1 -> 6 | E47: =INDEX($A$38:$B$65,MATCH(ROW()-37,$D$38:$D$65,0),1) -> A CORUÑA | F47: =LOOKUP(E47,$A$38:$A$65,$B$38:$B$65) -> 2334517 | G47: =LOOKUP(E47,$A$38:$A$65,$C$38:$C$65) -> 2597543
A48: =A17 -> CASTELLON | B48: =E17 -> 1316687 | C48: =D17 -> 3271616 | D48: =_xlfn.RANK.EQ(B48,$B$38:$B$65)+COUNTIF($B$38:$B$65,B48)-1 -> 15 | E48: =INDEX($A$38:$B$65,MATCH(ROW()-37,$D$38:$D$65,0),1) -> SANTANDER | F48: =LOOKUP(E48,$A$38:$A$65,$B$38:$B$65) -> 2125948 | G48: =LOOKUP(E48,$A$38:$A$65,$C$38:$C$65) -> 2951811
A49: =A18 -> CEUTA | B49: =E18 -> 52871 | C49: =D18 -> 51715 | D49: =_xlfn.RANK.EQ(B49,$B$38:$B$65)+COUNTIF($B$38:$B$65,B49)-1 -> 27 | E49: =INDEX($A$38:$B$65,MATCH(ROW()-37,$D$38:$D$65,0),1) -> AVILES | F49: =LOOKUP(E49,$A$38:$A$65,$B$38:$B$65) -> 1746444 | G49: =LOOKUP(E49,$A$38:$A$65,$C$38:$C$65) -> 2419980
... A65: =A34 -> VILAGARCIA | B65: =E34 -> 339715 | C65: =D34 -> 382826 | D65: =_xlfn.RANK.EQ(B65,$B$38:$B$65)+COUNTIF($B$38:$B$65,B65)-1 -> 25 | E65: =INDEX($A$38:$B$65,MATCH(ROW()-37,$D$38:$D$65,0),1) -> MELILLA | F65: =LOOKUP(E65,$A$38:$A$65,$B$38:$B$65) -> 22862 | G65: =LOOKUP(E65,$A$38:$A$65,$C$38:$C$65) -> 28208

Sheet Mercancía general
F1: 4. MERCANCÍA GENERAL (Toneladas)
A5: Autoridad Portuaria | B5: ='Resumen general'!D6 -> Mes Septiembre | D5: ='Resumen general'!F6 -> Acumulado desde Enero | L5: ='Resumen general'!I4 -> 40120
B6: ='Resumen general'!D7 -> 2008 | C6: ='Resumen general'!E7 -> 2009 | D6: ='Resumen general'!F7 -> 2008 | E6: ='Resumen general'!G7 -> 2009 | F6: Var. (%)
A7: A CORUÑA | B7: 150182 | C7: 81620 | D7: 1241109 | E7: 1184822 | F7: =((E7*100)/D7)-100 -> -4.5352181
A8: ALICANTE | B8: 120362 | C8: 111118 | D8: 1218347 | E8: 949386 | F8: =((E8*100)/D8)-100 -> -22.075895
A9: ALMERIA | B9: 68467 | C9: 44792 | D9: 509584 | E9: 398109 | F9: =((E9*100)/D9)-100 -> -21.875687
A10: AVILES | B10: 90525 | C10: 58925 | D10: 961528 | E10: 695696 | F10: =((E10*100)/D10)-100 -> -27.646829
A11: BAHIA DE ALGECIRAS | B11: 3653038 | C11: 3428590 | D11: 35799022 | E11: 31372876 | F11: =((E11*100)/D11)-100 -> -12.363874
A12: BAHIA DE CADIZ | B12: 202920 | C12: 156881 | D12: 1999586 | E12: 1546229 | F12: =((E12*100)/D12)-100 -> -22.672543
A13: BALEARES | B13: 693778 | C13: 660197 | D13: 7221466 | E13: 6216273 | F13: =((E13*100)/D13)-100 -> -13.919514
A14: BARCELONA | B14: 2758253 | C14: 2136716 | D14: 27507229 | E14: 19402774 | F14: =((E14*100)/D14)-100 -> -29.463
A15: BILBAO | B15: 852335 | C15: 599395 | D15: 7360327 | E15: 5156594 | F15: =((E15*100)/D15)-100 -> -29.940694
A16: CARTAGENA | B16: 64312 | C16: 67841 | D16: 724386 | E16: 534565 | F16: =((E16*100)/D16)-100 -> -26.204399
A17: CASTELLON | B17: 131719 | C17: 96051 | D17: 1331609 | E17: 965626 | F17: =((E17*100)/D17)-100 -> -27.484269
A18: CEUTA | B18: 89538 | C18: 73145 | D18: 734695 | E18: 699652 | F18: =((E18*100)/D18)-100 -> -4.7697344
... A34: VILAGARCIA | B34: 40187 | C34: 18370 | D34: 222615 | E34: 202237 | F34: =((E34*100)/D34)-100 -> -9.1539204
A35: Total | B35: =SUM(B7:B34) -> 16832098 | C35: =SUM(C7:C34) -> 14607461 | D35: =SUM(D7:D34) -> 155889786 | E35: =SUM(E7:E34) -> 130526918 | F35: =((E35*100)/D35)-100 -> -16.269743
B37: =E6 -> 2009 | C37: =D6 -> 2008 | F37: =B37 -> 2009 | G37: =C37 -> 2008
A38: =A7 -> A CORUÑA | B38: =E7 -> 1184822 | C38: =D7 -> 1241109 | D38: =_xlfn.RANK.EQ(B38,$B$38:$B$65)+COUNTIF($B$38:$B$65,B38)-1 -> 13 | E38: =INDEX($A$38:$B$65,MATCH(ROW()-37,$D$38:$D$65,0),1) -> VALENCIA | F38: =LOOKUP(E38,$A$38:$A$65,$B$38:$B$65) -> 35807376 | G38: =LOOKUP(E38,$A$38:$A$65,$C$38:$C$65) -> 36598715
A39: =A8 -> ALICANTE | B39: =E8 -> 949386 | C39: =D8 -> 1218347 | D39: =_xlfn.RANK.EQ(B39,$B$38:$B$65)+COUNTIF($B$38:$B$65,B39)-1 -> 15 | E39: =INDEX($A$38:$B$65,MATCH(ROW()-37,$D$38:$D$65,0),1) -> BAHIA DE ALGECIRAS | F39: =LOOKUP(E39,$A$38:$A$65,$B$38:$B$65) -> 31372876 | G39: =LOOKUP(E39,$A$38:$A$65,$C$38:$C$65) -> 35799022
A40: =A9 -> ALMERIA | B40: =E9 -> 398109 | C40: =D9 -> 509584 | D40: =_xlfn.RANK.EQ(B40,$B$38:$B$65)+COUNTIF($B$38:$B$65,B40)-1 -> 25 | E40: =INDEX($A$38:$B$65,MATCH(ROW()-37,$D$38:$D$65,0),1) -> BARCELONA | F40: =LOOKUP(E40,$A$38:$A$65,$B$38:$B$65) -> 19402774 | G40: =LOOKUP(E40,$A$38:$A$65,$C$38:$C$65) -> 27507229
A41: =A10 -> AVILES | B41: =E10 -> 695696 | C41: =D10 -> 961528 | D41: =_xlfn.RANK.EQ(B41,$B$38:$B$65)+COUNTIF($B$38:$B$65,B41)-1 -> 19 | E41: =INDEX($A$38:$B$65,MATCH(ROW()-37,$D$38:$D$65,0),1) -> LAS PALMAS | F41: =LOOKUP(E41,$A$38:$A$65,$B$38:$B$65) -> 10161354 | G41: =LOOKUP(E41,$A$38:$A$65,$C$38:$C$65) -> 13493478
A42: =A11 -> BAHIA DE ALGECIRAS | B42: =E11 -> 31372876 | C42: =D11 -> 35799022 | D42: =_xlfn.RANK.EQ(B42,$B$38:$B$65)+COUNTIF($B$38:$B$65,B42)-1 -> 2 | E42: =INDEX($A$38:$B$65,MATCH(ROW()-37,$D$38:$D$65,0),1) -> BALEARES | F42: =LOOKUP(E42,$A$38:$A$65,$B$38:$B$65) -> 6216273 | G42: =LOOKUP(E42,$A$38:$A$65,$C$38:$C$65) -> 7221466
A43: =A12 -> BAHIA DE CADIZ | B43: =E12 -> 1546229 | C43: =D12 -> 1999586 | D43: =_xlfn.RANK.EQ(B43,$B$38:$B$65)+COUNTIF($B$38:$B$65,B43)-1 -> 10 | E43: =INDEX($A$38:$B$65,MATCH(ROW()-37,$D$38:$D$65,0),1) -> BILBAO | F43: =LOOKUP(E43,$A$38:$A$65,$B$38:$B$65) -> 5156594 | G43: =LOOKUP(E43,$A$38:$A$65,$C$38:$C$65) -> 7360327
A44: =A13 -> BALEARES | B44: =E13 -> 6216273 | C44: =D13 -> 7221466 | D44: =_xlfn.RANK.EQ(B44,$B$38:$B$65)+COUNTIF($B$38:$B$65,B44)-1 -> 5 | E44: =INDEX($A$38:$B$65,MATCH(ROW()-37,$D$38:$D$65,0),1) -> SANTA CRUZ DE TENERIFE | F44: =LOOKUP(E44,$A$38:$A$65,$B$38:$B$65) -> 4272092 | G44: =LOOKUP(E44,$A$38:$A$65,$C$38:$C$65) -> 4894063
A45: =A14 -> BARCELONA | B45: =E14 -> 19402774 | C45: =D14 -> 27507229 | D45: =_xlfn.RANK.EQ(B45,$B$38:$B$65)+COUNTIF($B$38:$B$65,B45)-1 -> 3 | E45: =INDEX($A$38:$B$65,MATCH(ROW()-37,$D$38:$D$65,0),1) -> VIGO | F45: =LOOKUP(E45,$A$38:$A$65,$B$38:$B$65) -> 2277758 | G45: =LOOKUP(E45,$A$38:$A$65,$C$38:$C$65) -> 3209577
A46: =A15 -> BILBAO | B46: =E15 -> 5156594 | C46: =D15 -> 7360327 | D46: =_xlfn.RANK.EQ(B46,$B$38:$B$65)+COUNTIF($B$38:$B$65,B46)-1 -> 6 | E46: =INDEX($A$38:$B$65,MATCH(ROW()-37,$D$38:$D$65,0),1) -> TARRAGONA | F46: =LOOKUP(E46,$A$38:$A$65,$B$38:$B$65) -> 2023558 | G46: =LOOKUP(E46,$A$38:$A$65,$C$38:$C$65) -> 1209256
A47: =A16 -> CARTAGENA | B47: =E16 -> 534565 | C47: =D16 -> 724386 | D47: =_xlfn.RANK.EQ(B47,$B$38:$B$65)+COUNTIF($B$38:$B$65,B47)-1 -> 21 | E47: =INDEX($A$38:$B$65,MATCH(ROW()-37,$D$38:$D$65,0),1) -> BAHIA DE CADIZ | F47: =LOOKUP(E47,$A$38:$A$65,$B$38:$B$65) -> 1546229 | G47: =LOOKUP(E47,$A$38:$A$65,$C$38:$C$65) -> 1999586
A48: =A17 -> CASTELLON | B48: =E17 -> 965626 | C48: =D17 -> 1331609 | D48: =_xlfn.RANK.EQ(B48,$B$38:$B$65)+COUNTIF($B$38:$B$65,B48)-1 -> 14 | E48: =INDEX($A$38:$B$65,MATCH(ROW()-37,$D$38:$D$65,0),1) -> SEVILLA | F48: =LOOKUP(E48,$A$38:$A$65,$B$38:$B$65) -> 1399830 | G48: =LOOKUP(E48,$A$38:$A$65,$C$38:$C$65) -> 1521228
A49: =A18 -> CEUTA | B49: =E18 -> 699652 | C49: =D18 -> 734695 | D49: =_xlfn.RANK.EQ(B49,$B$38:$B$65)+COUNTIF($B$38:$B$65,B49)-1 -> 18 | E49: =INDEX($A$38:$B$65,MATCH(ROW()-37,$D$38:$D$65,0),1) -> PASAIA | F49: =LOOKUP(E49,$A$38:$A$65,$B$38:$B$65) -> 1255307 | G49: =LOOKUP(E49,$A$38:$A$65,$C$38:$C$65) -> 1766344
... A65: =A34 -> VILAGARCIA | B65: =E34 -> 202237 | C65: =D34 -> 222615 | D65: =_xlfn.RANK.EQ(B65,$B$38:$B$65)+COUNTIF($B$38:$B$65,B65)-1 -> 27 | E65: =INDEX($A$38:$B$65,MATCH(ROW()-37,$D$38:$D$65,0),1) -> MOTRIL | F65: =LOOKUP(E65,$A$38:$A$65,$B$38:$B$65) -> 115968 | G65: =LOOKUP(E65,$A$38:$A$65,$C$38:$C$65) -> 154975

Sheet Pesca
F1: 5. PESCA (Toneladas)
A5: Autoridad Portuaria | B5: ='Resumen general'!D6 -> Mes Septiembre | D5: ='Resumen general'!F6 -> Acumulado desde Enero | L5: ='Resumen general'!I4 -> 40120
B6: ='Resumen general'!D7 -> 2008 | C6: ='Resumen general'!E7 -> 2009 | D6: ='Resumen general'!F7 -> 2008 | E6: ='Resumen general'!G7 -> 2009 | F6: Var. (%)
A7: A CORUÑA | B7: 3432 | C7: 4429 | D7: 24828 | E7: 34606 | F7: =((E7*100)/D7)-100 -> 39.382955
A8: ALICANTE | B8: 65 | C8: 38 | D8: 555 | E8: 403 | F8: =((E8*100)/D8)-100 -> -27.387387
A9: ALMERIA | B9: 582 | C9: 286 | D9: 3374 | E9: 2228 | F9: =((E9*100)/D9)-100 -> -33.965619
A10: AVILES | B10: 965 | C10: 836 | D10: 10270 | E10: 11704 | F10: =((E10*100)/D10)-100 -> 13.962999
A11: BAHIA DE ALGECIRAS | B11: 266 | C11: 168 | D11: 1763 | E11: 1667 | F11: =((E11*100)/D11)-100 -> -5.4452638
A12: BAHIA DE CADIZ | B12: 1767 | C12: 1636 | D12: 13495 | E12: 15543 | F12: =((E12*100)/D12)-100 -> 15.175991
A13: BALEARES | B13: 254 | C13: 34 | D13: 2323 | E13: 846 | F13: =((E13*100)/D13)-100 -> -63.581576
A14: BARCELONA | B14: 0 | C14: 0 | D14: 509 | E14: 439 | F14: =((E14*100)/D14)-100 -> -13.752456
A15: BILBAO | B15: 0 | C15: 0 | D15: 0 | E15: 0 | F15: =((E15*100)/D15)-100 -> #DIV/0!
A16: CARTAGENA | B16: 91 | C16: 97 | D16: 940 | E16: 747 | F16: =((E16*100)/D16)-100 -> -20.531915
A17: CASTELLON | B17: 640 | C17: 577 | D17: 3412 | E17: 3981 | F17: =((E17*100)/D17)-100 -> 16.676436
A18: CEUTA | B18: 11 | C18: 28 | D18: 68 | E18: 56 | F18: =((E18*100)/D18)-100 -> -17.647059
... A34: VILAGARCIA | B34: 0 | C34: 0 | D34: 0 | E34: 0 | F34: =((E34*100)/D34)-100 -> #DIV/0!
A35: Total | B35: =SUM(B7:B34) -> 20696 | C35: =SUM(C7:C34) -> 20222 | D35: =SUM(D7:D34) -> 163741 | E35: =SUM(E7:E34) -> 183702 | F35: =((E35*100)/D35)-100 -> 12.190594
B37: =E6 -> 2009 | C37: =D6 -> 2008 | F37: =B37 -> 2009 | G37: =C37 -> 2008
A38: =A7 -> A CORUÑA | B38: =E7 -> 34606 | C38: =D7 -> 24828 | D38: =_xlfn.RANK.EQ(B38,$B$38:$B$65)+COUNTIF($B$38:$B$65,B38)-1 -> 2 | E38: =INDEX($A$38:$B$65,MATCH(ROW()-37,$D$38:$D$65,0),1) -> VIGO | F38: =LOOKUP(E38,$A$38:$A$65,$B$38:$B$65) -> 62902 | G38: =LOOKUP(E38,$A$38:$A$65,$C$38:$C$65) -> 63677
A39: =A8 -> ALICANTE | B39: =E8 -> 403 | C39: =D8 -> 555 | D39: =_xlfn.RANK.EQ(B39,$B$38:$B$65)+COUNTIF($B$38:$B$65,B39)-1 -> 22 | E39: =INDEX($A$38:$B$65,MATCH(ROW()-37,$D$38:$D$65,0),1) -> A CORUÑA | F39: =LOOKUP(E39,$A$38:$A$65,$B$38:$B$65) -> 34606 | G39: =LOOKUP(E39,$A$38:$A$65,$C$38:$C$65) -> 24828
A40: =A9 -> ALMERIA | B40: =E9 -> 2228 | C40: =D9 -> 3374 | D40: =_xlfn.RANK.EQ(B40,$B$38:$B$65)+COUNTIF($B$38:$B$65,B40)-1 -> 11 | E40: =INDEX($A$38:$B$65,MATCH(ROW()-37,$D$38:$D$65,0),1) -> BAHIA DE CADIZ | F40: =LOOKUP(E40,$A$38:$A$65,$B$38:$B$65) -> 15543 | G40: =LOOKUP(E40,$A$38:$A$65,$C$38:$C$65) -> 13495
A41: =A10 -> AVILES | B41: =E10 -> 11704 | C41: =D10 -> 10270 | D41: =_xlfn.RANK.EQ(B41,$B$38:$B$65)+COUNTIF($B$38:$B$65,B41)-1 -> 4 | E41: =INDEX($A$38:$B$65,MATCH(ROW()-37,$D$38:$D$65,0),1) -> AVILES | F41: =LOOKUP(E41,$A$38:$A$65,$B$38:$B$65) -> 11704 | G41: =LOOKUP(E41,$A$38:$A$65,$C$38:$C$65) -> 10270
A42: =A11 -> BAHIA DE ALGECIRAS | B42: =E11 -> 1667 | C42: =D11 -> 1763 | D42: =_xlfn.RANK.EQ(B42,$B$38:$B$65)+COUNTIF($B$38:$B$65,B42)-1 -> 16 | E42: =INDEX($A$38:$B$65,MATCH(ROW()-37,$D$38:$D$65,0),1) -> PASAIA | F42: =LOOKUP(E42,$A$38:$A$65,$B$38:$B$65) -> 11661 | G42: =LOOKUP(E42,$A$38:$A$65,$C$38:$C$65) -> 8610
A43: =A12 -> BAHIA DE CADIZ | B43: =E12 -> 15543 | C43: =D12 -> 13495 | D43: =_xlfn.RANK.EQ(B43,$B$38:$B$65)+COUNTIF($B$38:$B$65,B43)-1 -> 3 | E43: =INDEX($A$38:$B$65,MATCH(ROW()-37,$D$38:$D$65,0),1) -> SANTANDER | F43: =LOOKUP(E43,$A$38:$A$65,$B$38:$B$65) -> 10698 | G43: =LOOKUP(E43,$A$38:$A$65,$C$38:$C$65) -> 6490
A44: =A13 -> BALEARES | B44: =E13 -> 846 | C44: =D13 -> 2323 | D44: =_xlfn.RANK.EQ(B44,$B$38:$B$65)+COUNTIF($B$38:$B$65,B44)-1 -> 18 | E44: =INDEX($A$38:$B$65,MATCH(ROW()-37,$D$38:$D$65,0),1) -> GIJON | F44: =LOOKUP(E44,$A$38:$A$65,$B$38:$B$65) -> 9538 | G44: =LOOKUP(E44,$A$38:$A$65,$C$38:$C$65) -> 5416
A45: =A14 -> BARCELONA | B45: =E14 -> 439 | C45: =D14 -> 509 | D45: =_xlfn.RANK.EQ(B45,$B$38:$B$65)+COUNTIF($B$38:$B$65,B45)-1 -> 21 | E45: =INDEX($A$38:$B$65,MATCH(ROW()-37,$D$38:$D$65,0),1) -> CASTELLON | F45: =LOOKUP(E45,$A$38:$A$65,$B$38:$B$65) -> 3981 | G45: =LOOKUP(E45,$A$38:$A$65,$C$38:$C$65) -> 3412
A46: =A15 -> BILBAO | B46: =E15 -> 0 | C46: =D15 -> 0 | D46: =_xlfn.RANK.EQ(B46,$B$38:$B$65)+COUNTIF($B$38:$B$65,B46)-1 -> 28 | E46: =INDEX($A$38:$B$65,MATCH(ROW()-37,$D$38:$D$65,0),1) -> SANTA CRUZ DE TENERIFE | F46: =LOOKUP(E46,$A$38:$A$65,$B$38:$B$65) -> 3483 | G46: =LOOKUP(E46,$A$38:$A$65,$C$38:$C$65) -> 4480
A47: =A16 -> CARTAGENA | B47: =E16 -> 747 | C47: =D16 -> 940 | D47: =_xlfn.RANK.EQ(B47,$B$38:$B$65)+COUNTIF($B$38:$B$65,B47)-1 -> 20 | E47: =INDEX($A$38:$B$65,MATCH(ROW()-37,$D$38:$D$65,0),1) -> TARRAGONA | F47: =LOOKUP(E47,$A$38:$A$65,$B$38:$B$65) -> 3091 | G47: =LOOKUP(E47,$A$38:$A$65,$C$38:$C$65) -> 2640
A48: =A17 -> CASTELLON | B48: =E17 -> 3981 | C48: =D17 -> 3412 | D48: =_xlfn.RANK.EQ(B48,$B$38:$B$65)+COUNTIF($B$38:$B$65,B48)-1 -> 8 | E48: =INDEX($A$38:$B$65,MATCH(ROW()-37,$D$38:$D$65,0),1) -> ALMERIA | F48: =LOOKUP(E48,$A$38:$A$65,$B$38:$B$65) -> 2228 | G48: =LOOKUP(E48,$A$38:$A$65,$C$38:$C$65) -> 3374
A49: =A18 -> CEUTA | B49: =E18 -> 56 | C49: =D18 -> 68 | D49: =_xlfn.RANK.EQ(B49,$B$38:$B$65)+COUNTIF($B$38:$B$65,B49)-1 -> 24 | E49: =INDEX($A$38:$B$65,MATCH(ROW()-37,$D$38:$D$65,0),1) -> MARIN Y RIA DE PONTEVEDRA | F49: =LOOKUP(E49,$A$38:$A$65,$B$38:$B$65) -> 2091 | G49: =LOOKUP(E49,$A$38:$A$65,$C$38:$C$65) -> 2516
... A65: =A34 -> VILAGARCIA | B65: =E34 -> 0 | C65: =D34 -> 0 | D65: =_xlfn.RANK.EQ(B65,$B$38:$B$65)+COUNTIF($B$38:$B$65,B65)-1 -> 28 | E65: =INDEX($A$38:$B$65,MATCH(ROW()-37,$D$38:$D$65,0),1) -> BILBAO | F65: =LOOKUP(E65,$A$38:$A$65,$B$38:$B$65) -> 0 | G65: =LOOKUP(E65,$A$38:$A$65,$C$38:$C$65) -> 0

Sheet Avituallamiento
F1: 6. AVITUALLAMIENTO (Toneladas)
A5: Autoridad Portuaria | B5: ='Resumen general'!D6 -> Mes Septiembre | D5: ='Resumen general'!F6 -> Acumulado desde Enero | L5: ='Resumen general'!I4 -> 40120
B6: ='Resumen general'!D7 -> 2008 | C6: ='Resumen general'!E7 -> 2009 | D6: ='Resumen general'!F7 -> 2008 | E6: ='Resumen general'!G7 -> 2009 | F6: Var. (%)
A7: A CORUÑA | B7: 4086 | C7: 3964 | D7: 54313 | E7: 40906 | F7: =((E7*100)/D7)-100 -> -24.684698
A8: ALICANTE | B8: 1586 | C8: 1408 | D8: 28690 | E8: 19246 | F8: =((E8*100)/D8)-100 -> -32.917393
A9: ALMERIA | B9: 14314 | C9: 8630 | D9: 127139 | E9: 100421 | F9: =((E9*100)/D9)-100 -> -21.014795
A10: AVILES | B10: 6039 | C10: 2258 | D10: 39574 | E10: 26790 | F10: =((E10*100)/D10)-100 -> -32.304038
A11: BAHIA DE ALGECIRAS | B11: 291710 | C11: 264367 | D11: 2327153 | E11: 2552057 | F11: =((E11*100)/D11)-100 -> 9.6643409
A12: BAHIA DE CADIZ | B12: 13584 | C12: 13568 | D12: 79612 | E12: 83892 | F12: =((E12*100)/D12)-100 -> 5.376074
A13: BALEARES | B13: 33072 | C13: 23482 | D13: 190359 | E13: 125990 | F13: =((E13*100)/D13)-100 -> -33.814529
A14: BARCELONA | B14: 91106 | C14: 111221 | D14: 952881 | E14: 927197 | F14: =((E14*100)/D14)-100 -> -2.6954048
A15: BILBAO | B15: 12565 | C15: 10930 | D15: 118126 | E15: 94895 | F15: =((E15*100)/D15)-100 -> -19.666289
A16: CARTAGENA | B16: 10176 | C16: 4468 | D16: 76294 | E16: 38465 | F16: =((E16*100)/D16)-100 -> -49.583191
A17: CASTELLON | B17: 3914 | C17: 2810 | D17: 43294 | E17: 26754 | F17: =((E17*100)/D17)-100 -> -38.203908
A18: CEUTA | B18: 52811 | C18: 1910 | D18: 468228 | E18: 332424 | F18: =((E18*100)/D18)-100 -> -29.003819
... A34: VILAGARCIA | B34: 1071 | C34: 1588 | D34: 3700 | E34: 5940 | F34: =((E34*100)/D34)-100 -> 60.540541
A35: Total | B35: =SUM(B7:B34) -> 903505 | C35: =SUM(C7:C34) -> 791552 | D35: =SUM(D7:D34) -> 7908943 | E35: =SUM(E7:E34) -> 7570904 | F35: =((E35*100)/D35)-100 -> -4.2741363
B37: =E6 -> 2009 | C37: =D6 -> 2008 | F37: =B37 -> 2009 | G37: =C37 -> 2008
A38: =A7 -> A CORUÑA | B38: =E7 -> 40906 | C38: =D7 -> 54313 | D38: =_xlfn.RANK.EQ(B38,$B$38:$B$65)+COUNTIF($B$38:$B$65,B38)-1 -> 15 | E38: =INDEX($A$38:$B$65,MATCH(ROW()-37,$D$38:$D$65,0),1) -> BAHIA DE ALGECIRAS | F38: =LOOKUP(E38,$A$38:$A$65,$B$38:$B$65) -> 2552057 | G38: =LOOKUP(E38,$A$38:$A$65,$C$38:$C$65) -> 2327153
A39: =A8 -> ALICANTE | B39: =E8 -> 19246 | C39: =D8 -> 28690 | D39: =_xlfn.RANK.EQ(B39,$B$38:$B$65)+COUNTIF($B$38:$B$65,B39)-1 -> 23 | E39: =INDEX($A$38:$B$65,MATCH(ROW()-37,$D$38:$D$65,0),1) -> LAS PALMAS | F39: =LOOKUP(E39,$A$38:$A$65,$B$38:$B$65) -> 1604332 | G39: =LOOKUP(E39,$A$38:$A$65,$C$38:$C$65) -> 1615932
A40: =A9 -> ALMERIA | B40: =E9 -> 100421 | C40: =D9 -> 127139 | D40: =_xlfn.RANK.EQ(B40,$B$38:$B$65)+COUNTIF($B$38:$B$65,B40)-1 -> 10 | E40: =INDEX($A$38:$B$65,MATCH(ROW()-37,$D$38:$D$65,0),1) -> BARCELONA | F40: =LOOKUP(E40,$A$38:$A$65,$B$38:$B$65) -> 927197 | G40: =LOOKUP(E40,$A$38:$A$65,$C$38:$C$65) -> 952881
A41: =A10 -> AVILES | B41: =E10 -> 26790 | C41: =D10 -> 39574 | D41: =_xlfn.RANK.EQ(B41,$B$38:$B$65)+COUNTIF($B$38:$B$65,B41)-1 -> 20 | E41: =INDEX($A$38:$B$65,MATCH(ROW()-37,$D$38:$D$65,0),1) -> SANTA CRUZ DE TENERIFE | F41: =LOOKUP(E41,$A$38:$A$65,$B$38:$B$65) -> 733451 | G41: =LOOKUP(E41,$A$38:$A$65,$C$38:$C$65) -> 770724
A42: =A11 -> BAHIA DE ALGECIRAS | B42: =E11 -> 2552057 | C42: =D11 -> 2327153 | D42: =_xlfn.RANK.EQ(B42,$B$38:$B$65)+COUNTIF($B$38:$B$65,B42)-1 -> 1 | E42: =INDEX($A$38:$B$65,MATCH(ROW()-37,$D$38:$D$65,0),1) -> CEUTA | F42: =LOOKUP(E42,$A$38:$A$65,$B$38:$B$65) -> 332424 | G42: =LOOKUP(E42,$A$38:$A$65,$C$38:$C$65) -> 468228
A43: =A12 -> BAHIA DE CADIZ | B43: =E12 -> 83892 | C43: =D12 -> 79612 | D43: =_xlfn.RANK.EQ(B43,$B$38:$B$65)+COUNTIF($B$38:$B$65,B43)-1 -> 13 | E43: =INDEX($A$38:$B$65,MATCH(ROW()-37,$D$38:$D$65,0),1) -> VIGO | F43: =LOOKUP(E43,$A$38:$A$65,$B$38:$B$65) -> 250462 | G43: =LOOKUP(E43,$A$38:$A$65,$C$38:$C$65) -> 274110
A44: =A13 -> BALEARES | B44: =E13 -> 125990 | C44: =D13 -> 190359 | D44: =_xlfn.RANK.EQ(B44,$B$38:$B$65)+COUNTIF($B$38:$B$65,B44)-1 -> 8 | E44: =INDEX($A$38:$B$65,MATCH(ROW()-37,$D$38:$D$65,0),1) -> VALENCIA | F44: =LOOKUP(E44,$A$38:$A$65,$B$38:$B$65) -> 215214 | G44: =LOOKUP(E44,$A$38:$A$65,$C$38:$C$65) -> 238556
A45: =A14 -> BARCELONA | B45: =E14 -> 927197 | C45: =D14 -> 952881 | D45: =_xlfn.RANK.EQ(B45,$B$38:$B$65)+COUNTIF($B$38:$B$65,B45)-1 -> 3 | E45: =INDEX($A$38:$B$65,MATCH(ROW()-37,$D$38:$D$65,0),1) -> BALEARES | F45: =LOOKUP(E45,$A$38:$A$65,$B$38:$B$65) -> 125990 | G45: =LOOKUP(E45,$A$38:$A$65,$C$38:$C$65) -> 190359
A46: =A15 -> BILBAO | B46: =E15 -> 94895 | C46: =D15 -> 118126 | D46: =_xlfn.RANK.EQ(B46,$B$38:$B$65)+COUNTIF($B$38:$B$65,B46)-1 -> 11 | E46: =INDEX($A$38:$B$65,MATCH(ROW()-37,$D$38:$D$65,0),1) -> TARRAGONA | F46: =LOOKUP(E46,$A$38:$A$65,$B$38:$B$65) -> 113474 | G46: =LOOKUP(E46,$A$38:$A$65,$C$38:$C$65) -> 148865
A47: =A16 -> CARTAGENA | B47: =E16 -> 38465 | C47: =D16 -> 76294 | D47: =_xlfn.RANK.EQ(B47,$B$38:$B$65)+COUNTIF($B$38:$B$65,B47)-1 -> 16 | E47: =INDEX($A$38:$B$65,MATCH(ROW()-37,$D$38:$D$65,0),1) -> ALMERIA | F47: =LOOKUP(E47,$A$38:$A$65,$B$38:$B$65) -> 100421 | G47: =LOOKUP(E47,$A$38:$A$65,$C$38:$C$65) -> 127139
A48: =A17 -> CASTELLON | B48: =E17 -> 26754 | C48: =D17 -> 43294 | D48: =_xlfn.RANK.EQ(B48,$B$38:$B$65)+COUNTIF($B$38:$B$65,B48)-1 -> 21 | E48: =INDEX($A$38:$B$65,MATCH(ROW()-37,$D$38:$D$65,0),1) -> BILBAO | F48: =LOOKUP(E48,$A$38:$A$65,$B$38:$B$65) -> 94895 | G48: =LOOKUP(E48,$A$38:$A$65,$C$38:$C$65) -> 118126
A49: =A18 -> CEUTA | B49: =E18 -> 332424 | C49: =D18 -> 468228 | D49: =_xlfn.RANK.EQ(B49,$B$38:$B$65)+COUNTIF($B$38:$B$65,B49)-1 -> 5 | E49: =INDEX($A$38:$B$65,MATCH(ROW()-37,$D$38:$D$65,0),1) -> GIJON | F49: =LOOKUP(E49,$A$38:$A$65,$B$38:$B$65) -> 84850 | G49: =LOOKUP(E49,$A$38:$A$65,$C$38:$C$65) -> 97074
... A65: =A34 -> VILAGARCIA | B65: =E34 -> 5940 | C65: =D34 -> 3700 | D65: =_xlfn.RANK.EQ(B65,$B$38:$B$65)+COUNTIF($B$38:$B$65,B65)-1 -> 26 | E65: =INDEX($A$38:$B$65,MATCH(ROW()-37,$D$38:$D$65,0),1) -> SEVILLA | F65: =LOOKUP(E65,$A$38:$A$65,$B$38:$B$65) -> 0 | G65: =LOOKUP(E65,$A$38:$A$65,$C$38:$C$65) -> 0

Sheet Mercancías tránsito
F1: 7. MERCANCÍAS EN TRÁNSITO (Toneladas)
A5: Autoridad Portuaria | B5: ='Resumen general'!D6 -> Mes Septiembre | D5: ='Resumen general'!F6 -> Acumulado desde Enero | L5: ='Resumen general'!I4 -> 40120
B6: ='Resumen general'!D7 -> 2008 | C6: ='Resumen general'!E7 -> 2009 | D6: ='Resumen general'!F7 -> 2008 | E6: ='Resumen general'!G7 -> 2009 | F6: Var. (%)
A7: A CORUÑA | B7: 0 | C7: 0 | D7: 19259 | E7: 0 | F7: =((E7*100)/D7)-100 -> -100
A8: ALICANTE | B8: 0 | C8: 0 | D8: 0 | E8: 931 | F8: =((E8*100)/D8)-100 -> #DIV/0!
A9: ALMERIA | B9: 0 | C9: 0 | D9: 0 | E9: 0 | F9: =((E9*100)/D9)-100 -> #DIV/0!
A10: AVILES | B10: 0 | C10: 0 | D10: 0 | E10: 0 | F10: =((E10*100)/D10)-100 -> #DIV/0!
A11: BAHIA DE ALGECIRAS | B11: 3240562 | C11: 3010069 | D11: 30888657 | E11: 27730323 | F11: =((E11*100)/D11)-100 -> -10.224899
A12: BAHIA DE CADIZ | B12: 14729 | C12: 548 | D12: 138767 | E12: 84832 | F12: =((E12*100)/D12)-100 -> -38.86731
A13: BALEARES | B13: 1031 | C13: 5947 | D13: 6034 | E13: 12320 | F13: =((E13*100)/D13)-100 -> 104.17633
A14: BARCELONA | B14: 892727 | C14: 586214 | D14: 9885270 | E14: 5536323 | F14: =((E14*100)/D14)-100 -> -43.994216
A15: BILBAO | B15: 40230 | C15: 161735 | D15: 520617 | E15: 569538 | F15: =((E15*100)/D15)-100 -> 9.396735
A16: CARTAGENA | B16: 0 | C16: 0 | D16: 127657 | E16: 4212 | F16: =((E16*100)/D16)-100 -> -96.700533
A17: CASTELLON | B17: 0 | C17: 52 | D17: 8068 | E17: 90 | F17: =((E17*100)/D17)-100 -> -98.884482
A18: CEUTA | B18: 51412 | C18: 19431 | D18: 713672 | E18: 543505 | F18: =((E18*100)/D18)-100 -> -23.843867
... A34: VILAGARCIA | B34: 1442 | C34: 4002 | D34: 15567 | E34: 24768 | F34: =((E34*100)/D34)-100 -> 59.105801
A35: Total | B35: =SUM(B7:B34) -> 8312185 | C35: =SUM(C7:C34) -> 7442573 | D35: =SUM(D7:D34) -> 74123546 | E35: =SUM(E7:E34) -> 65724721 | F35: =((E35*100)/D35)-100 -> -11.330846
B37: =E6 -> 2009 | C37: =D6 -> 2008 | F37: =B37 -> 2009 | G37: =C37 -> 2008
A38: =A7 -> A CORUÑA | B38: =E7 -> 0 | C38: =D7 -> 19259 | D38: =_xlfn.RANK.EQ(B38,$B$38:$B$65)+COUNTIF($B$38:$B$65,B38)-1 -> 28 | E38: =INDEX($A$38:$B$65,MATCH(ROW()-37,$D$38:$D$65,0),1) -> BAHIA DE ALGECIRAS | F38: =LOOKUP(E38,$A$38:$A$65,$B$38:$B$65) -> 27730323 | G38: =LOOKUP(E38,$A$38:$A$65,$C$38:$C$65) -> 30888657
A39: =A8 -> ALICANTE | B39: =E8 -> 931 | C39: =D8 -> 0 | D39: =_xlfn.RANK.EQ(B39,$B$38:$B$65)+COUNTIF($B$38:$B$65,B39)-1 -> 20 | E39: =INDEX($A$38:$B$65,MATCH(ROW()-37,$D$38:$D$65,0),1) -> VALENCIA | F39: =LOOKUP(E39,$A$38:$A$65,$B$38:$B$65) -> 20313312 | G39: =LOOKUP(E39,$A$38:$A$65,$C$38:$C$65) -> 17124339
A40: =A9 -> ALMERIA | B40: =E9 -> 0 | C40: =D9 -> 0 | D40: =_xlfn.RANK.EQ(B40,$B$38:$B$65)+COUNTIF($B$38:$B$65,B40)-1 -> 28 | E40: =INDEX($A$38:$B$65,MATCH(ROW()-37,$D$38:$D$65,0),1) -> LAS PALMAS | F40: =LOOKUP(E40,$A$38:$A$65,$B$38:$B$65) -> 5989399 | G40: =LOOKUP(E40,$A$38:$A$65,$C$38:$C$65) -> 8576615
A41: =A10 -> AVILES | B41: =E10 -> 0 | C41: =D10 -> 0 | D41: =_xlfn.RANK.EQ(B41,$B$38:$B$65)+COUNTIF($B$38:$B$65,B41)-1 -> 28 | E41: =INDEX($A$38:$B$65,MATCH(ROW()-37,$D$38:$D$65,0),1) -> BARCELONA | F41: =LOOKUP(E41,$A$38:$A$65,$B$38:$B$65) -> 5536323 | G41: =LOOKUP(E41,$A$38:$A$65,$C$38:$C$65) -> 9885270
A42: =A11 -> BAHIA DE ALGECIRAS | B42: =E11 -> 27730323 | C42: =D11 -> 30888657 | D42: =_xlfn.RANK.EQ(B42,$B$38:$B$65)+COUNTIF($B$38:$B$65,B42)-1 -> 1 | E42: =INDEX($A$38:$B$65,MATCH(ROW()-37,$D$38:$D$65,0),1) -> TARRAGONA | F42: =LOOKUP(E42,$A$38:$A$65,$B$38:$B$65) -> 3895321 | G42: =LOOKUP(E42,$A$38:$A$65,$C$38:$C$65) -> 3263037
A43: =A12 -> BAHIA DE CADIZ | B43: =E12 -> 84832 | C43: =D12 -> 138767 | D43: =_xlfn.RANK.EQ(B43,$B$38:$B$65)+COUNTIF($B$38:$B$65,B43)-1 -> 12 | E43: =INDEX($A$38:$B$65,MATCH(ROW()-37,$D$38:$D$65,0),1) -> BILBAO | F43: =LOOKUP(E43,$A$38:$A$65,$B$38:$B$65) -> 569538 | G43: =LOOKUP(E43,$A$38:$A$65,$C$38:$C$65) -> 520617
A44: =A13 -> BALEARES | B44: =E13 -> 12320 | C44: =D13 -> 6034 | D44: =_xlfn.RANK.EQ(B44,$B$38:$B$65)+COUNTIF($B$38:$B$65,B44)-1 -> 14 | E44: =INDEX($A$38:$B$65,MATCH(ROW()-37,$D$38:$D$65,0),1) -> CEUTA | F44: =LOOKUP(E44,$A$38:$A$65,$B$38:$B$65) -> 543505 | G44: =LOOKUP(E44,$A$38:$A$65,$C$38:$C$65) -> 713672
A45: =A14 -> BARCELONA | B45: =E14 -> 5536323 | C45: =D14 -> 9885270 | D45: =_xlfn.RANK.EQ(B45,$B$38:$B$65)+COUNTIF($B$38:$B$65,B45)-1 -> 4 | E45: =INDEX($A$38:$B$65,MATCH(ROW()-37,$D$38:$D$65,0),1) -> MALAGA | F45: =LOOKUP(E45,$A$38:$A$65,$B$38:$B$65) -> 430923 | G45: =LOOKUP(E45,$A$38:$A$65,$C$38:$C$65) -> 2066536
A46: =A15 -> BILBAO | B46: =E15 -> 569538 | C46: =D15 -> 520617 | D46: =_xlfn.RANK.EQ(B46,$B$38:$B$65)+COUNTIF($B$38:$B$65,B46)-1 -> 6 | E46: =INDEX($A$38:$B$65,MATCH(ROW()-37,$D$38:$D$65,0),1) -> SANTA CRUZ DE TENERIFE | F46: =LOOKUP(E46,$A$38:$A$65,$B$38:$B$65) -> 225166 | G46: =LOOKUP(E46,$A$38:$A$65,$C$38:$C$65) -> 128398
A47: =A16 -> CARTAGENA | B47: =E16 -> 4212 | C47: =D16 -> 127657 | D47: =_xlfn.RANK.EQ(B47,$B$38:$B$65)+COUNTIF($B$38:$B$65,B47)-1 -> 16 | E47: =INDEX($A$38:$B$65,MATCH(ROW()-37,$D$38:$D$65,0),1) -> GIJON | F47: =LOOKUP(E47,$A$38:$A$65,$B$38:$B$65) -> 204534 | G47: =LOOKUP(E47,$A$38:$A$65,$C$38:$C$65) -> 394483
A48: =A17 -> CASTELLON | B48: =E17 -> 90 | C48: =D17 -> 8068 | D48: =_xlfn.RANK.EQ(B48,$B$38:$B$65)+COUNTIF($B$38:$B$65,B48)-1 -> 22 | E48: =INDEX($A$38:$B$65,MATCH(ROW()-37,$D$38:$D$65,0),1) -> VIGO | F48: =LOOKUP(E48,$A$38:$A$65,$B$38:$B$65) -> 141965 | G48: =LOOKUP(E48,$A$38:$A$65,$C$38:$C$65) -> 171322
A49: =A18 -> CEUTA | B49: =E18 -> 543505 | C49: =D18 -> 713672 | D49: =_xlfn.RANK.EQ(B49,$B$38:$B$65)+COUNTIF($B$38:$B$65,B49)-1 -> 7 | E49: =INDEX($A$38:$B$65,MATCH(ROW()-37,$D$38:$D$65,0),1) -> BAHIA DE CADIZ | F49: =LOOKUP(E49,$A$38:$A$65,$B$38:$B$65) -> 84832 | G49: =LOOKUP(E49,$A$38:$A$65,$C$38:$C$65) -> 138767
... A65: =A34 -> VILAGARCIA | B65: =E34 -> 24768 | C65: =D34 -> 15567 | D65: =_xlfn.RANK.EQ(B65,$B$38:$B$65)+COUNTIF($B$38:$B$65,B65)-1 -> 13 | E65: =INDEX($A$38:$B$65,MATCH(ROW()-37,$D$38:$D$65,0),1) -> A CORUÑA | F65: =LOOKUP(E65,$A$38:$A$65,$B$38:$B$65) -> 0 | G65: =LOOKUP(E65,$A$38:$A$65,$C$38:$C$65) -> 19259

Sheet Mercan. contene. tránsito
F1: 7.1. MERCANCÍAS EN CONTENEDORES EN TRÁNSITO (Toneladas)
A5: Autoridad Portuaria | B5: ='Resumen general'!D6 -> Mes Septiembre | D5: ='Resumen general'!F6 -> Acumulado desde Enero | L5: ='Resumen general'!I4 -> 40120
B6: ='Resumen general'!D7 -> 2008 | C6: ='Resumen general'!E7 -> 2009 | D6: ='Resumen general'!F7 -> 2008 | E6: ='Resumen general'!G7 -> 2009 | F6: Var. (%)
A7: A CORUÑA | B7: 0 | C7: 0 | D7: 0 | E7: 0 | F7: =((E7*100)/D7)-100 -> #DIV/0!
A8: ALICANTE | B8: 0 | C8: 0 | D8: 0 | E8: 931 | F8: =((E8*100)/D8)-100 -> #DIV/0!
A9: ALMERIA | B9: 0 | C9: 0 | D9: 0 | E9: 0 | F9: =((E9*100)/D9)-100 -> #DIV/0!
A10: AVILES | B10: 0 | C10: 0 | D10: 0 | E10: 0 | F10: =((E10*100)/D10)-100 -> #DIV/0!
A11: BAHIA DE ALGECIRAS | B11: 3239634 | C11: 3009783 | D11: 30792845 | E11: 26678093 | F11: =((E11*100)/D11)-100 -> -13.362689
A12: BAHIA DE CADIZ | B12: 213 | C12: 484 | D12: 5086 | E12: 11571 | F12: =((E12*100)/D12)-100 -> 127.50688
A13: BALEARES | B13: 97 | C13: 1014 | D13: 544 | E13: 1324 | F13: =((E13*100)/D13)-100 -> 143.38235
A14: BARCELONA | B14: 849538 | C14: 495653 | D14: 9371989 | E14: 5107550 | F14: =((E14*100)/D14)-100 -> -45.501963
A15: BILBAO | B15: 18299 | C15: 6396 | D15: 179475 | E15: 59280 | F15: =((E15*100)/D15)-100 -> -66.97033
A16: CARTAGENA | B16: 0 | C16: 0 | D16: 280 | E16: 620 | F16: =((E16*100)/D16)-100 -> 121.42857
A17: CASTELLON | B17: 0 | C17: 52 | D17: 5044 | E17: 75 | F17: =((E17*100)/D17)-100 -> -98.513085
A18: CEUTA | B18: 0 | C18: 0 | D18: 0 | E18: 18 | F18: =((E18*100)/D18)-100 -> #DIV/0!
... A34: VILAGARCIA | B34: 1442 | C34: 0 | D34: 2034 | E34: 9689 | F34: =((E34*100)/D34)-100 -> 376.35202
A35: Total | B35: =SUM(B7:B34) -> 7723726 | C35: =SUM(C7:C34) -> 6715933 | D35: =SUM(D7:D34) -> 68101051 | E35: =SUM(E7:E34) -> 59781699 | F35: =((E35*100)/D35)-100 -> -12.216187
B37: =E6 -> 2009 | C37: =D6 -> 2008 | F37: =B37 -> 2009 | G37: =C37 -> 2008
A38: =A7 -> A CORUÑA | B38: =E7 -> 0 | C38: =D7 -> 0 | D38: =_xlfn.RANK.EQ(B38,$B$38:$B$65)+COUNTIF($B$38:$B$65,B38)-1 -> 28 | E38: =INDEX($A$38:$B$65,MATCH(ROW()-37,$D$38:$D$65,0),1) -> BAHIA DE ALGECIRAS | F38: =LOOKUP(E38,$A$38:$A$65,$B$38:$B$65) -> 26678093 | G38: =LOOKUP(E38,$A$38:$A$65,$C$38:$C$65) -> 30792845
A39: =A8 -> ALICANTE | B39: =E8 -> 931 | C39: =D8 -> 0 | D39: =_xlfn.RANK.EQ(B39,$B$38:$B$65)+COUNTIF($B$38:$B$65,B39)-1 -> 13 | E39: =INDEX($A$38:$B$65,MATCH(ROW()-37,$D$38:$D$65,0),1) -> VALENCIA | F39: =LOOKUP(E39,$A$38:$A$65,$B$38:$B$65) -> 20304172 | G39: =LOOKUP(E39,$A$38:$A$65,$C$38:$C$65) -> 17082876
A40: =A9 -> ALMERIA | B40: =E9 -> 0 | C40: =D9 -> 0 | D40: =_xlfn.RANK.EQ(B40,$B$38:$B$65)+COUNTIF($B$38:$B$65,B40)-1 -> 28 | E40: =INDEX($A$38:$B$65,MATCH(ROW()-37,$D$38:$D$65,0),1) -> LAS PALMAS | F40: =LOOKUP(E40,$A$38:$A$65,$B$38:$B$65) -> 5852018 | G40: =LOOKUP(E40,$A$38:$A$65,$C$38:$C$65) -> 8470077
A41: =A10 -> AVILES | B41: =E10 -> 0 | C41: =D10 -> 0 | D41: =_xlfn.RANK.EQ(B41,$B$38:$B$65)+COUNTIF($B$38:$B$65,B41)-1 -> 28 | E41: =INDEX($A$38:$B$65,MATCH(ROW()-37,$D$38:$D$65,0),1) -> BARCELONA | F41: =LOOKUP(E41,$A$38:$A$65,$B$38:$B$65) -> 5107550 | G41: =LOOKUP(E41,$A$38:$A$65,$C$38:$C$65) -> 9371989
A42: =A11 -> BAHIA DE ALGECIRAS | B42: =E11 -> 26678093 | C42: =D11 -> 30792845 | D42: =_xlfn.RANK.EQ(B42,$B$38:$B$65)+COUNTIF($B$38:$B$65,B42)-1 -> 1 | E42: =INDEX($A$38:$B$65,MATCH(ROW()-37,$D$38:$D$65,0),1) -> TARRAGONA | F42: =LOOKUP(E42,$A$38:$A$65,$B$38:$B$65) -> 1069271 | G42: =LOOKUP(E42,$A$38:$A$65,$C$38:$C$65) -> 1447
A43: =A12 -> BAHIA DE CADIZ | B43: =E12 -> 11571 | C43: =D12 -> 5086 | D43: =_xlfn.RANK.EQ(B43,$B$38:$B$65)+COUNTIF($B$38:$B$65,B43)-1 -> 10 | E43: =INDEX($A$38:$B$65,MATCH(ROW()-37,$D$38:$D$65,0),1) -> MALAGA | F43: =LOOKUP(E43,$A$38:$A$65,$B$38:$B$65) -> 430809 | G43: =LOOKUP(E43,$A$38:$A$65,$C$38:$C$65) -> 2064952
A44: =A13 -> BALEARES | B44: =E13 -> 1324 | C44: =D13 -> 544 | D44: =_xlfn.RANK.EQ(B44,$B$38:$B$65)+COUNTIF($B$38:$B$65,B44)-1 -> 12 | E44: =INDEX($A$38:$B$65,MATCH(ROW()-37,$D$38:$D$65,0),1) -> SANTA CRUZ DE TENERIFE | F44: =LOOKUP(E44,$A$38:$A$65,$B$38:$B$65) -> 178131 | G44: =LOOKUP(E44,$A$38:$A$65,$C$38:$C$65) -> 89081
A45: =A14 -> BARCELONA | B45: =E14 -> 5107550 | C45: =D14 -> 9371989 | D45: =_xlfn.RANK.EQ(B45,$B$38:$B$65)+COUNTIF($B$38:$B$65,B45)-1 -> 4 | E45: =INDEX($A$38:$B$65,MATCH(ROW()-37,$D$38:$D$65,0),1) -> VIGO | F45: =LOOKUP(E45,$A$38:$A$65,$B$38:$B$65) -> 77713 | G45: =LOOKUP(E45,$A$38:$A$65,$C$38:$C$65) -> 31711
A46: =A15 -> BILBAO | B46: =E15 -> 59280 | C46: =D15 -> 179475 | D46: =_xlfn.RANK.EQ(B46,$B$38:$B$65)+COUNTIF($B$38:$B$65,B46)-1 -> 9 | E46: =INDEX($A$38:$B$65,MATCH(ROW()-37,$D$38:$D$65,0),1) -> BILBAO | F46: =LOOKUP(E46,$A$38:$A$65,$B$38:$B$65) -> 59280 | G46: =LOOKUP(E46,$A$38:$A$65,$C$38:$C$65) -> 179475
A47: =A16 -> CARTAGENA | B47: =E16 -> 620 | C47: =D16 -> 280 | D47: =_xlfn.RANK.EQ(B47,$B$38:$B$65)+COUNTIF($B$38:$B$65,B47)-1 -> 14 | E47: =INDEX($A$38:$B$65,MATCH(ROW()-37,$D$38:$D$65,0),1) -> BAHIA DE CADIZ | F47: =LOOKUP(E47,$A$38:$A$65,$B$38:$B$65) -> 11571 | G47: =LOOKUP(E47,$A$38:$A$65,$C$38:$C$65) -> 5086
A48: =A17 -> CASTELLON | B48: =E17 -> 75 | C48: =D17 -> 5044 | D48: =_xlfn.RANK.EQ(B48,$B$38:$B$65)+COUNTIF($B$38:$B$65,B48)-1 -> 17 | E48: =INDEX($A$38:$B$65,MATCH(ROW()-37,$D$38:$D$65,0),1) -> VILAGARCIA | F48: =LOOKUP(E48,$A$38:$A$65,$B$38:$B$65) -> 9689 | G48: =LOOKUP(E48,$A$38:$A$65,$C$38:$C$65) -> 2034
A49: =A18 -> CEUTA | B49: =E18 -> 18 | C49: =D18 -> 0 | D49: =_xlfn.RANK.EQ(B49,$B$38:$B$65)+COUNTIF($B$38:$B$65,B49)-1 -> 19 | E49: =INDEX($A$38:$B$65,MATCH(ROW()-37,$D$38:$D$65,0),1) -> BALEARES | F49: =LOOKUP(E49,$A$38:$A$65,$B$38:$B$65) -> 1324 | G49: =LOOKUP(E49,$A$38:$A$65,$C$38:$C$65) -> 544
... A65: =A34 -> VILAGARCIA | B65: =E34 -> 9689 | C65: =D34 -> 2034 | D65: =_xlfn.RANK.EQ(B65,$B$38:$B$65)+COUNTIF($B$38:$B$65,B65)-1 -> 11 | E65: =INDEX($A$38:$B$65,MATCH(ROW()-37,$D$38:$D$65,0),1) -> A CORUÑA | F65: =LOOKUP(E65,$A$38:$A$65,$B$38:$B$65) -> 0 | G65: =LOOKUP(E65,$A$38:$A$65,$C$38:$C$65) -> 0

Sheet Mercancías contenedores
F1: 8. MERCANCÍAS EN CONTENEDORES (Toneladas)
A5: Autoridad Portuaria | B5: ='Resumen general'!D6 -> Mes Septiembre | D5: ='Resumen general'!F6 -> Acumulado desde Enero | L5: ='Resumen general'!I4 -> 40120
B6: ='Resumen general'!D7 -> 2008 | C6: ='Resumen general'!E7 -> 2009 | D6: ='Resumen general'!F7 -> 2008 | E6: ='Resumen general'!G7 -> 2009 | F6: Var. (%)
A7: A CORUÑA | B7: 9289 | C7: 10937 | D7: 90726 | E7: 98360 | F7: =((E7*100)/D7)-100 -> 8.4143465
A8: ALICANTE | B8: 79417 | C8: 90219 | D8: 820882 | E8: 691136 | F8: =((E8*100)/D8)-100 -> -15.805682
A9: ALMERIA | B9: 4 | C9: 2639 | D9: 717 | E9: 6457 | F9: =((E9*100)/D9)-100 -> 800.55788
A10: AVILES | B10: 4479 | C10: 0 | D10: 46624 | E10: 21647 | F10: =((E10*100)/D10)-100 -> -53.571122
A11: BAHIA DE ALGECIRAS | B11: 3370704 | C11: 3173478 | D11: 32271745 | E11: 28058649 | F11: =((E11*100)/D11)-100 -> -13.055061
A12: BAHIA DE CADIZ | B12: 97139 | C12: 84817 | D12: 985712 | E12: 771147 | F12: =((E12*100)/D12)-100 -> -21.767514
A13: BALEARES | B13: 53608 | C13: 52655 | D13: 626667 | E13: 470479 | F13: =((E13*100)/D13)-100 -> -24.923604
A14: BARCELONA | B14: 1990990 | C14: 1416367 | D14: 19874478 | E14: 12991527 | F14: =((E14*100)/D14)-100 -> -34.63211
A15: BILBAO | B15: 502401 | C15: 412557 | D15: 4627112 | E15: 3434007 | F15: =((E15*100)/D15)-100 -> -25.78509
A16: CARTAGENA | B16: 36344 | C16: 60957 | D16: 352011 | E16: 426555 | F16: =((E16*100)/D16)-100 -> 21.176611
A17: CASTELLON | B17: 98183 | C17: 66890 | D17: 969394 | E17: 622368 | F17: =((E17*100)/D17)-100 -> -35.798241
A18: CEUTA | B18: 9878 | C18: 3805 | D18: 57634 | E18: 46009 | F18: =((E18*100)/D18)-100 -> -20.170386
... A34: VILAGARCIA | B34: 23888 | C34: 3093 | D34: 85673 | E34: 118095 | F34: =((E34*100)/D34)-100 -> 37.843895
A35: Total | B35: =SUM(B7:B34) -> 12215667 | C35: =SUM(C7:C34) -> 10726461 | D35: =SUM(D7:D34) -> 110769647 | E35: =SUM(E7:E34) -> 94509707 | F35: =((E35*100)/D35)-100 -> -14.679057
B37: =E6 -> 2009 | C37: =D6 -> 2008 | F37: =B37 -> 2009 | G37: =C37 -> 2008
A38: =A7 -> A CORUÑA | B38: =E7 -> 98360 | C38: =D7 -> 90726 | D38: =_xlfn.RANK.EQ(B38,$B$38:$B$65)+COUNTIF($B$38:$B$65,B38)-1 -> 20 | E38: =INDEX($A$38:$B$65,MATCH(ROW()-37,$D$38:$D$65,0),1) -> VALENCIA | F38: =LOOKUP(E38,$A$38:$A$65,$B$38:$B$65) -> 31720189 | G38: =LOOKUP(E38,$A$38:$A$65,$C$38:$C$65) -> 30845767
A39: =A8 -> ALICANTE | B39: =E8 -> 691136 | C39: =D8 -> 820882 | D39: =_xlfn.RANK.EQ(B39,$B$38:$B$65)+COUNTIF($B$38:$B$65,B39)-1 -> 11 | E39: =INDEX($A$38:$B$65,MATCH(ROW()-37,$D$38:$D$65,0),1) -> BAHIA DE ALGECIRAS | F39: =LOOKUP(E39,$A$38:$A$65,$B$38:$B$65) -> 28058649 | G39: =LOOKUP(E39,$A$38:$A$65,$C$38:$C$65) -> 32271745
A40: =A9 -> ALMERIA | B40: =E9 -> 6457 | C40: =D9 -> 717 | D40: =_xlfn.RANK.EQ(B40,$B$38:$B$65)+COUNTIF($B$38:$B$65,B40)-1 -> 24 | E40: =INDEX($A$38:$B$65,MATCH(ROW()-37,$D$38:$D$65,0),1) -> BARCELONA | F40: =LOOKUP(E40,$A$38:$A$65,$B$38:$B$65) -> 12991527 | G40: =LOOKUP(E40,$A$38:$A$65,$C$38:$C$65) -> 19874478
A41: =A10 -> AVILES | B41: =E10 -> 21647 | C41: =D10 -> 46624 | D41: =_xlfn.RANK.EQ(B41,$B$38:$B$65)+COUNTIF($B$38:$B$65,B41)-1 -> 22 | E41: =INDEX($A$38:$B$65,MATCH(ROW()-37,$D$38:$D$65,0),1) -> LAS PALMAS | F41: =LOOKUP(E41,$A$38:$A$65,$B$38:$B$65) -> 8167127 | G41: =LOOKUP(E41,$A$38:$A$65,$C$38:$C$65) -> 11139718
A42: =A11 -> BAHIA DE ALGECIRAS | B42: =E11 -> 28058649 | C42: =D11 -> 32271745 | D42: =_xlfn.RANK.EQ(B42,$B$38:$B$65)+COUNTIF($B$38:$B$65,B42)-1 -> 2 | E42: =INDEX($A$38:$B$65,MATCH(ROW()-37,$D$38:$D$65,0),1) -> BILBAO | F42: =LOOKUP(E42,$A$38:$A$65,$B$38:$B$65) -> 3434007 | G42: =LOOKUP(E42,$A$38:$A$65,$C$38:$C$65) -> 4627112
A43: =A12 -> BAHIA DE CADIZ | B43: =E12 -> 771147 | C43: =D12 -> 985712 | D43: =_xlfn.RANK.EQ(B43,$B$38:$B$65)+COUNTIF($B$38:$B$65,B43)-1 -> 9 | E43: =INDEX($A$38:$B$65,MATCH(ROW()-37,$D$38:$D$65,0),1) -> SANTA CRUZ DE TENERIFE | F43: =LOOKUP(E43,$A$38:$A$65,$B$38:$B$65) -> 2050994 | G43: =LOOKUP(E43,$A$38:$A$65,$C$38:$C$65) -> 2352918
A44: =A13 -> BALEARES | B44: =E13 -> 470479 | C44: =D13 -> 626667 | D44: =_xlfn.RANK.EQ(B44,$B$38:$B$65)+COUNTIF($B$38:$B$65,B44)-1 -> 14 | E44: =INDEX($A$38:$B$65,MATCH(ROW()-37,$D$38:$D$65,0),1) -> TARRAGONA | F44: =LOOKUP(E44,$A$38:$A$65,$B$38:$B$65) -> 1553411 | G44: =LOOKUP(E44,$A$38:$A$65,$C$38:$C$65) -> 330217
A45: =A14 -> BARCELONA | B45: =E14 -> 12991527 | C45: =D14 -> 19874478 | D45: =_xlfn.RANK.EQ(B45,$B$38:$B$65)+COUNTIF($B$38:$B$65,B45)-1 -> 3 | E45: =INDEX($A$38:$B$65,MATCH(ROW()-37,$D$38:$D$65,0),1) -> VIGO | F45: =LOOKUP(E45,$A$38:$A$65,$B$38:$B$65) -> 1468858 | G45: =LOOKUP(E45,$A$38:$A$65,$C$38:$C$65) -> 1842307
A46: =A15 -> BILBAO | B46: =E15 -> 3434007 | C46: =D15 -> 4627112 | D46: =_xlfn.RANK.EQ(B46,$B$38:$B$65)+COUNTIF($B$38:$B$65,B46)-1 -> 5 | E46: =INDEX($A$38:$B$65,MATCH(ROW()-37,$D$38:$D$65,0),1) -> BAHIA DE CADIZ | F46: =LOOKUP(E46,$A$38:$A$65,$B$38:$B$65) -> 771147 | G46: =LOOKUP(E46,$A$38:$A$65,$C$38:$C$65) -> 985712
A47: =A16 -> CARTAGENA | B47: =E16 -> 426555 | C47: =D16 -> 352011 | D47: =_xlfn.RANK.EQ(B47,$B$38:$B$65)+COUNTIF($B$38:$B$65,B47)-1 -> 15 | E47: =INDEX($A$38:$B$65,MATCH(ROW()-37,$D$38:$D$65,0),1) -> SEVILLA | F47: =LOOKUP(E47,$A$38:$A$65,$B$38:$B$65) -> 710770 | G47: =LOOKUP(E47,$A$38:$A$65,$C$38:$C$65) -> 732944
A48: =A17 -> CASTELLON | B48: =E17 -> 622368 | C48: =D17 -> 969394 | D48: =_xlfn.RANK.EQ(B48,$B$38:$B$65)+COUNTIF($B$38:$B$65,B48)-1 -> 12 | E48: =INDEX($A$38:$B$65,MATCH(ROW()-37,$D$38:$D$65,0),1) -> ALICANTE | F48: =LOOKUP(E48,$A$38:$A$65,$B$38:$B$65) -> 691136 | G48: =LOOKUP(E48,$A$38:$A$65,$C$38:$C$65) -> 820882
A49: =A18 -> CEUTA | B49: =E18 -> 46009 | C49: =D18 -> 57634 | D49: =_xlfn.RANK.EQ(B49,$B$38:$B$65)+COUNTIF($B$38:$B$65,B49)-1 -> 21 | E49: =INDEX($A$38:$B$65,MATCH(ROW()-37,$D$38:$D$65,0),1) -> CASTELLON | F49: =LOOKUP(E49,$A$38:$A$65,$B$38:$B$65) -> 622368 | G49: =LOOKUP(E49,$A$38:$A$65,$C$38:$C$65) -> 969394
... A65: =A34 -> VILAGARCIA | B65: =E34 -> 118095 | C65: =D34 -> 85673 | D65: =_xlfn.RANK.EQ(B65,$B$38:$B$65)+COUNTIF($B$38:$B$65,B65)-1 -> 19 | E65: =INDEX($A$38:$B$65,MATCH(ROW()-37,$D$38:$D$65,0),1) -> HUELVA | F65: =LOOKUP(E65,$A$38:$A$65,$B$38:$B$65) -> 0 | G65: =LOOKUP(E65,$A$38:$A$65,$C$38:$C$65) -> 0

Sheet Ro-Ro
F1: 9. TRÁFICO RO-RO (Toneladas)
A5: Autoridad Portuaria | B5: ='Resumen general'!D6 -> Mes Septiembre | D5: ='Resumen general'!F6 -> Acumulado desde Enero | L5: ='Resumen general'!I4 -> 40120
B6: ='Resumen general'!D7 -> 2008 | C6: ='Resumen general'!E7 -> 2009 | D6: ='Resumen general'!F7 -> 2008 | E6: ='Resumen general'!G7 -> 2009 | F6: Var. (%)
A7: A CORUÑA | B7: 0 | C7: 0 | F7: =((E7*100)/D7)-100 -> #DIV/0!
A8: ALICANTE | B8: 28338 | C8: 16662 | D8: 0 | E8: 0 | F8: =((E8*100)/D8)-100 -> #DIV/0!
A9: ALMERIA | B9: 33936 | C9: 30958 | D9: 263041 | E9: 135389 | F9: =((E9*100)/D9)-100 -> -48.529317
A10: AVILES | B10: 0 | C10: 0 | D10: 296836 | E10: 306192 | F10: =((E10*100)/D10)-100 -> 3.1519088
A11: BAHIA DE ALGECIRAS | B11: 256263 | C11: 222993 | D11: 0 | E11: 0 | F11: =((E11*100)/D11)-100 -> #DIV/0!
A12: BAHIA DE CADIZ | B12: 109567 | C12: 90055 | D12: 3297173 | E12: 3193634 | F12: =((E12*100)/D12)-100 -> -3.1402356
A13: BALEARES | B13: 684397 | C13: 647288 | D13: 1052434 | E13: 891183 | F13: =((E13*100)/D13)-100 -> -15.321721
A14: BARCELONA | B14: 799291 | C14: 716493 | D14: 7126581 | E14: 6143680 | F14: =((E14*100)/D14)-100 -> -13.792041
A15: BILBAO | B15: 57870 | C15: 64756 | D15: 8005564 | E15: 6282724 | F15: =((E15*100)/D15)-100 -> -21.520532
A16: CARTAGENA | B16: 0 | C16: 355 | D16: 465334 | E16: 534644 | F16: =((E16*100)/D16)-100 -> 14.894678
A17: CASTELLON | B17: 9902 | C17: 17601 | D17: 0 | E17: 2330 | F17: =((E17*100)/D17)-100 -> #DIV/0!
A18: CEUTA | B18: 84990 | C18: 72538 | D18: 113115 | E18: 203395 | F18: =((E18*100)/D18)-100 -> 79.81258
A19: FERROL-SAN CIBRAO | B19: 17374 | C19: 11913 | D19: 715664 | E19: 692894 | F19: =((E19*100)/D19)-100 -> -3.1816607
... A34: VILAGARCIA | B34: 0 | C34: 0 | D34: 1070559 | E34: 655635 | F34: =((E34*100)/D34)-100 -> -38.757696
A35: Total | B35: =SUM(B7:B34) -> 3334701 | C35: =SUM(C7:C34) -> 3060806 | D35: 0 | E35: 0 | F35: =((E35*100)/D35)-100 -> #DIV/0!
B37: =E6 -> 2009 | C37: =D6 -> 2008 | F37: =B37 -> 2009 | G37: =C37 -> 2008
A38: =A7 -> A CORUÑA | B38: =E7 -> 0 | C38: =D7 -> 0 | D38: =_xlfn.RANK.EQ(B38,$B$38:$B$65)+COUNTIF($B$38:$B$65,B38)-1 -> 28 | E38: =INDEX($A$38:$B$65,MATCH(ROW()-37,$D$38:$D$65,0),1) -> BILBAO | F38: =LOOKUP(E38,$A$38:$A$65,$B$38:$B$65) -> 6282724 | G38: =LOOKUP(E38,$A$38:$A$65,$C$38:$C$65) -> 8005564
A39: =A8 -> ALICANTE | B39: =E8 -> 0 | C39: =D8 -> 0 | D39: =_xlfn.RANK.EQ(B39,$B$38:$B$65)+COUNTIF($B$38:$B$65,B39)-1 -> 28 | E39: =INDEX($A$38:$B$65,MATCH(ROW()-37,$D$38:$D$65,0),1) -> BARCELONA | F39: =LOOKUP(E39,$A$38:$A$65,$B$38:$B$65) -> 6143680 | G39: =LOOKUP(E39,$A$38:$A$65,$C$38:$C$65) -> 7126581
A40: =A9 -> ALMERIA | B40: =E9 -> 135389 | C40: =D9 -> 263041 | D40: =_xlfn.RANK.EQ(B40,$B$38:$B$65)+COUNTIF($B$38:$B$65,B40)-1 -> 18 | E40: =INDEX($A$38:$B$65,MATCH(ROW()-37,$D$38:$D$65,0),1) -> VIGO | F40: =LOOKUP(E40,$A$38:$A$65,$B$38:$B$65) -> 3316270 | G40: =LOOKUP(E40,$A$38:$A$65,$C$38:$C$65) -> 3724591
A41: =A10 -> AVILES | B41: =E10 -> 306192 | C41: =D10 -> 296836 | D41: =_xlfn.RANK.EQ(B41,$B$38:$B$65)+COUNTIF($B$38:$B$65,B41)-1 -> 14 | E41: =INDEX($A$38:$B$65,MATCH(ROW()-37,$D$38:$D$65,0),1) -> BAHIA DE CADIZ | F41: =LOOKUP(E41,$A$38:$A$65,$B$38:$B$65) -> 3193634 | G41: =LOOKUP(E41,$A$38:$A$65,$C$38:$C$65) -> 3297173
A42: =A11 -> BAHIA DE ALGECIRAS | B42: =E11 -> 0 | C42: =D11 -> 0 | D42: =_xlfn.RANK.EQ(B42,$B$38:$B$65)+COUNTIF($B$38:$B$65,B42)-1 -> 28 | E42: =INDEX($A$38:$B$65,MATCH(ROW()-37,$D$38:$D$65,0),1) -> SANTANDER | F42: =LOOKUP(E42,$A$38:$A$65,$B$38:$B$65) -> 2445644 | G42: =LOOKUP(E42,$A$38:$A$65,$C$38:$C$65) -> 2699505
A43: =A12 -> BAHIA DE CADIZ | B43: =E12 -> 3193634 | C43: =D12 -> 3297173 | D43: =_xlfn.RANK.EQ(B43,$B$38:$B$65)+COUNTIF($B$38:$B$65,B43)-1 -> 4 | E43: =INDEX($A$38:$B$65,MATCH(ROW()-37,$D$38:$D$65,0),1) -> MALAGA | F43: =LOOKUP(E43,$A$38:$A$65,$B$38:$B$65) -> 1670025 | G43: =LOOKUP(E43,$A$38:$A$65,$C$38:$C$65) -> 1974777
A44: =A13 -> BALEARES | B44: =E13 -> 891183 | C44: =D13 -> 1052434 | D44: =_xlfn.RANK.EQ(B44,$B$38:$B$65)+COUNTIF($B$38:$B$65,B44)-1 -> 7 | E44: =INDEX($A$38:$B$65,MATCH(ROW()-37,$D$38:$D$65,0),1) -> BALEARES | F44: =LOOKUP(E44,$A$38:$A$65,$B$38:$B$65) -> 891183 | G44: =LOOKUP(E44,$A$38:$A$65,$C$38:$C$65) -> 1052434
A45: =A14 -> BARCELONA | B45: =E14 -> 6143680 | C45: =D14 -> 7126581 | D45: =_xlfn.RANK.EQ(B45,$B$38:$B$65)+COUNTIF($B$38:$B$65,B45)-1 -> 2 | E45: =INDEX($A$38:$B$65,MATCH(ROW()-37,$D$38:$D$65,0),1) -> FERROL-SAN CIBRAO | F45: =LOOKUP(E45,$A$38:$A$65,$B$38:$B$65) -> 692894 | G45: =LOOKUP(E45,$A$38:$A$65,$C$38:$C$65) -> 715664
A46: =A15 -> BILBAO | B46: =E15 -> 6282724 | C46: =D15 -> 8005564 | D46: =_xlfn.RANK.EQ(B46,$B$38:$B$65)+COUNTIF($B$38:$B$65,B46)-1 -> 1 | E46: =INDEX($A$38:$B$65,MATCH(ROW()-37,$D$38:$D$65,0),1) -> VILAGARCIA | F46: =LOOKUP(E46,$A$38:$A$65,$B$38:$B$65) -> 655635 | G46: =LOOKUP(E46,$A$38:$A$65,$C$38:$C$65) -> 1070559
A47: =A16 -> CARTAGENA | B47: =E16 -> 534644 | C47: =D16 -> 465334 | D47: =_xlfn.RANK.EQ(B47,$B$38:$B$65)+COUNTIF($B$38:$B$65,B47)-1 -> 11 | E47: =INDEX($A$38:$B$65,MATCH(ROW()-37,$D$38:$D$65,0),1) -> SEVILLA | F47: =LOOKUP(E47,$A$38:$A$65,$B$38:$B$65) -> 546962 | G47: =LOOKUP(E47,$A$38:$A$65,$C$38:$C$65) -> 783378
A48: =A17 -> CASTELLON | B48: =E17 -> 2330 | C48: =D17 -> 0 | D48: =_xlfn.RANK.EQ(B48,$B$38:$B$65)+COUNTIF($B$38:$B$65,B48)-1 -> 23 | E48: =INDEX($A$38:$B$65,MATCH(ROW()-37,$D$38:$D$65,0),1) -> CARTAGENA | F48: =LOOKUP(E48,$A$38:$A$65,$B$38:$B$65) -> 534644 | G48: =LOOKUP(E48,$A$38:$A$65,$C$38:$C$65) -> 465334
A49: =A18 -> CEUTA | B49: =E18 -> 203395 | C49: =D18 -> 113115 | D49: =_xlfn.RANK.EQ(B49,$B$38:$B$65)+COUNTIF($B$38:$B$65,B49)-1 -> 16 | E49: =INDEX($A$38:$B$65,MATCH(ROW()-37,$D$38:$D$65,0),1) -> MOTRIL | F49: =LOOKUP(E49,$A$38:$A$65,$B$38:$B$65) -> 411540 | G49: =LOOKUP(E49,$A$38:$A$65,$C$38:$C$65) -> 384223
... A65: =A34 -> VILAGARCIA | B65: =E34 -> 655635 | C65: =D34 -> 1070559 | D65: =_xlfn.RANK.EQ(B65,$B$38:$B$65)+COUNTIF($B$38:$B$65,B65)-1 -> 9 | E65: =INDEX($A$38:$B$65,MATCH(ROW()-37,$D$38:$D$65,0),1) -> A CORUÑA | F65: =LOOKUP(E65,$A$38:$A$65,$B$38:$B$65) -> 0 | G65: =LOOKUP(E65,$A$38:$A$65,$C$38:$C$65) -> 0

Sheet TEUS
F1: 10. CONTENEDORES (TEUS)
A5: Autoridad Portuaria | B5: ='Resumen general'!D6 -> Mes Septiembre | D5: ='Resumen general'!F6 -> Acumulado desde Enero | L5: ='Resumen general'!I4 -> 40120
B6: ='Resumen general'!D7 -> 2008 | C6: ='Resumen general'!E7 -> 2009 | D6: ='Resumen general'!F7 -> 2008 | E6: ='Resumen general'!G7 -> 2009 | F6: Var. (%)
A7: A CORUÑA | B7: 647 | C7: 751 | D7: 5725 | E7: 6155 | F7: =((E7*100)/D7)-100 -> 7.510917
A8: ALICANTE | B8: 11087 | C8: 12249 | D8: 117968 | E8: 94210 | F8: =((E8*100)/D8)-100 -> -20.13936
A9: ALMERIA | B9: 2 | C9: 192 | D9: 101 | E9: 682.5 | F9: =((E9*100)/D9)-100 -> 575.74257
A10: AVILES | B10: 600 | C10: 0 | D10: 5921 | E10: 2575 | F10: =((E10*100)/D10)-100 -> -56.510725
A11: BAHIA DE ALGECIRAS | B11: 264947 | C11: 253006 | D11: 2475910 | E11: 2250313 | F11: =((E11*100)/D11)-100 -> -9.1116801
A12: BAHIA DE CADIZ | B12: 9855 | C12: 9099 | D12: 98442.5 | E12: 78601.5 | F12: =((E12*100)/D12)-100 -> -20.154913
A13: BALEARES | B13: 13728 | C13: 9682 | D13: 143004 | E13: 107453 | F13: =((E13*100)/D13)-100 -> -24.860144
A14: BARCELONA | B14: 208904 | C14: 145719 | D14: 2022509 | E14: 1345480 | F14: =((E14*100)/D14)-100 -> -33.474709
A15: BILBAO | B15: 44744.5 | C15: 36785.75 | D15: 421434.25 | E15: 322075.5 | F15: =((E15*100)/D15)-100 -> -23.576335
A16: CARTAGENA | B16: 3554 | C16: 6000 | D16: 35533 | E16: 42650 | F16: =((E16*100)/D16)-100 -> 20.029269
A17: CASTELLON | B17: 7338 | C17: 4965 | D17: 70363 | E17: 48100 | F17: =((E17*100)/D17)-100 -> -31.640209
A18: CEUTA | B18: 1472 | C18: 878 | D18: 11703 | E18: 10263 | F18: =((E18*100)/D18)-100 -> -12.304537
... A34: VILAGARCIA | B34: 3159 | C34: 684 | D34: 10525 | E34: 15289 | F34: =((E34*100)/D34)-100 -> 45.263658
A35: Total | B35: =SUM(B7:B34) -> 1131706.5 | C35: =SUM(C7:C34) -> 993521.75 | D35: =SUM(D7:D34) -> 10143586 | E35: =SUM(E7:E34) -> 8682772.5 | F35: =((E35*100)/D35)-100 -> -14.401354
B37: =E6 -> 2009 | C37: =D6 -> 2008 | F37: =B37 -> 2009 | G37: =C37 -> 2008
A38: =A7 -> A CORUÑA | B38: =E7 -> 6155 | C38: =D7 -> 5725 | D38: =_xlfn.RANK.EQ(B38,$B$38:$B$65)+COUNTIF($B$38:$B$65,B38)-1 -> 21 | E38: =INDEX($A$38:$B$65,MATCH(ROW()-37,$D$38:$D$65,0),1) -> VALENCIA | F38: =LOOKUP(E38,$A$38:$A$65,$B$38:$B$65) -> 2725470 | G38: =LOOKUP(E38,$A$38:$A$65,$C$38:$C$65) -> 2725486
A39: =A8 -> ALICANTE | B39: =E8 -> 94210 | C39: =D8 -> 117968 | D39: =_xlfn.RANK.EQ(B39,$B$38:$B$65)+COUNTIF($B$38:$B$65,B39)-1 -> 11 | E39: =INDEX($A$38:$B$65,MATCH(ROW()-37,$D$38:$D$65,0),1) -> BAHIA DE ALGECIRAS | F39: =LOOKUP(E39,$A$38:$A$65,$B$38:$B$65) -> 2250313 | G39: =LOOKUP(E39,$A$38:$A$65,$C$38:$C$65) -> 2475910
A40: =A9 -> ALMERIA | B40: =E9 -> 682.5 | C40: =D9 -> 101 | D40: =_xlfn.RANK.EQ(B40,$B$38:$B$65)+COUNTIF($B$38:$B$65,B40)-1 -> 24 | E40: =INDEX($A$38:$B$65,MATCH(ROW()-37,$D$38:$D$65,0),1) -> BARCELONA | F40: =LOOKUP(E40,$A$38:$A$65,$B$38:$B$65) -> 1345480 | G40: =LOOKUP(E40,$A$38:$A$65,$C$38:$C$65) -> 2022509
A41: =A10 -> AVILES | B41: =E10 -> 2575 | C41: =D10 -> 5921 | D41: =_xlfn.RANK.EQ(B41,$B$38:$B$65)+COUNTIF($B$38:$B$65,B41)-1 -> 22 | E41: =INDEX($A$38:$B$65,MATCH(ROW()-37,$D$38:$D$65,0),1) -> LAS PALMAS | F41: =LOOKUP(E41,$A$38:$A$65,$B$38:$B$65) -> 745013 | G41: =LOOKUP(E41,$A$38:$A$65,$C$38:$C$65) -> 990138
A42: =A11 -> BAHIA DE ALGECIRAS | B42: =E11 -> 2250313 | C42: =D11 -> 2475910 | D42: =_xlfn.RANK.EQ(B42,$B$38:$B$65)+COUNTIF($B$38:$B$65,B42)-1 -> 2 | E42: =INDEX($A$38:$B$65,MATCH(ROW()-37,$D$38:$D$65,0),1) -> BILBAO | F42: =LOOKUP(E42,$A$38:$A$65,$B$38:$B$65) -> 322075.5 | G42: =LOOKUP(E42,$A$38:$A$65,$C$38:$C$65) -> 421434.25
A43: =A12 -> BAHIA DE CADIZ | B43: =E12 -> 78601.5 | C43: =D12 -> 98442.5 | D43: =_xlfn.RANK.EQ(B43,$B$38:$B$65)+COUNTIF($B$38:$B$65,B43)-1 -> 13 | E43: =INDEX($A$38:$B$65,MATCH(ROW()-37,$D$38:$D$65,0),1) -> SANTA CRUZ DE TENERIFE | F43: =LOOKUP(E43,$A$38:$A$65,$B$38:$B$65) -> 253128 | G43: =LOOKUP(E43,$A$38:$A$65,$C$38:$C$65) -> 306517
A44: =A13 -> BALEARES | B44: =E13 -> 107453 | C44: =D13 -> 143004 | D44: =_xlfn.RANK.EQ(B44,$B$38:$B$65)+COUNTIF($B$38:$B$65,B44)-1 -> 10 | E44: =INDEX($A$38:$B$65,MATCH(ROW()-37,$D$38:$D$65,0),1) -> MALAGA | F44: =LOOKUP(E44,$A$38:$A$65,$B$38:$B$65) -> 196402 | G44: =LOOKUP(E44,$A$38:$A$65,$C$38:$C$65) -> 314883
A45: =A14 -> BARCELONA | B45: =E14 -> 1345480 | C45: =D14 -> 2022509 | D45: =_xlfn.RANK.EQ(B45,$B$38:$B$65)+COUNTIF($B$38:$B$65,B45)-1 -> 3 | E45: =INDEX($A$38:$B$65,MATCH(ROW()-37,$D$38:$D$65,0),1) -> VIGO | F45: =LOOKUP(E45,$A$38:$A$65,$B$38:$B$65) -> 144571 | G45: =LOOKUP(E45,$A$38:$A$65,$C$38:$C$65) -> 195104
A46: =A15 -> BILBAO | B46: =E15 -> 322075.5 | C46: =D15 -> 421434.25 | D46: =_xlfn.RANK.EQ(B46,$B$38:$B$65)+COUNTIF($B$38:$B$65,B46)-1 -> 5 | E46: =INDEX($A$38:$B$65,MATCH(ROW()-37,$D$38:$D$65,0),1) -> TARRAGONA | F46: =LOOKUP(E46,$A$38:$A$65,$B$38:$B$65) -> 142230 | G46: =LOOKUP(E46,$A$38:$A$65,$C$38:$C$65) -> 36860
A47: =A16 -> CARTAGENA | B47: =E16 -> 42650 | C47: =D16 -> 35533 | D47: =_xlfn.RANK.EQ(B47,$B$38:$B$65)+COUNTIF($B$38:$B$65,B47)-1 -> 15 | E47: =INDEX($A$38:$B$65,MATCH(ROW()-37,$D$38:$D$65,0),1) -> BALEARES | F47: =LOOKUP(E47,$A$38:$A$65,$B$38:$B$65) -> 107453 | G47: =LOOKUP(E47,$A$38:$A$65,$C$38:$C$65) -> 143004
A48: =A17 -> CASTELLON | B48: =E17 -> 48100 | C48: =D17 -> 70363 | D48: =_xlfn.RANK.EQ(B48,$B$38:$B$65)+COUNTIF($B$38:$B$65,B48)-1 -> 14 | E48: =INDEX($A$38:$B$65,MATCH(ROW()-37,$D$38:$D$65,0),1) -> ALICANTE | F48: =LOOKUP(E48,$A$38:$A$65,$B$38:$B$65) -> 94210 | G48: =LOOKUP(E48,$A$38:$A$65,$C$38:$C$65) -> 117968
A49: =A18 -> CEUTA | B49: =E18 -> 10263 | C49: =D18 -> 11703 | D49: =_xlfn.RANK.EQ(B49,$B$38:$B$65)+COUNTIF($B$38:$B$65,B49)-1 -> 20 | E49: =INDEX($A$38:$B$65,MATCH(ROW()-37,$D$38:$D$65,0),1) -> SEVILLA | F49: =LOOKUP(E49,$A$38:$A$65,$B$38:$B$65) -> 92566 | G49: =LOOKUP(E49,$A$38:$A$65,$C$38:$C$65) -> 96254
... A65: =A34 -> VILAGARCIA | B65: =E34 -> 15289 | C65: =D34 -> 10525 | D65: =_xlfn.RANK.EQ(B65,$B$38:$B$65)+COUNTIF($B$38:$B$65,B65)-1 -> 19 | E65: =INDEX($A$38:$B$65,MATCH(ROW()-37,$D$38:$D$65,0),1) -> HUELVA | F65: =LOOKUP(E65,$A$38:$A$65,$B$38:$B$65) -> 0 | G65: =LOOKUP(E65,$A$38:$A$65,$C$38:$C$65) -> 0

Sheet TEUS tránsito
F1: 10.1. CONTENEDORES EN TRÁNSITO (TEUS)
A5: Autoridad Portuaria | B5: ='Resumen general'!D6 -> Mes Septiembre | D5: ='Resumen general'!F6 -> Acumulado desde Enero | L5: ='Resumen general'!I4 -> 40120
B6: ='Resumen general'!D7 -> 2008 | C6: ='Resumen general'!E7 -> 2009 | D6: ='Resumen general'!F7 -> 2008 | E6: ='Resumen general'!G7 -> 2009 | F6: Var. (%)
A7: A CORUÑA | B7: 0 | C7: 0 | D7: 0 | E7: 0 | F7: =((E7*100)/D7)-100 -> #DIV/0!
A8: ALICANTE | B8: 0 | C8: 0 | D8: 0 | E8: 76 | F8: =((E8*100)/D8)-100 -> #DIV/0!
A9: ALMERIA | B9: 0 | C9: 0 | D9: 0 | E9: 0 | F9: =((E9*100)/D9)-100 -> #DIV/0!
A10: AVILES | B10: 0 | C10: 0 | D10: 0 | E10: 0 | F10: =((E10*100)/D10)-100 -> #DIV/0!
A11: BAHIA DE ALGECIRAS | B11: 252776 | C11: 241115 | D11: 2355665 | E11: 2141268 | F11: =((E11*100)/D11)-100 -> -9.1013366
A12: BAHIA DE CADIZ | B12: 12 | C12: 40 | D12: 884 | E12: 1003 | F12: =((E12*100)/D12)-100 -> 13.461538
A13: BALEARES | B13: 44 | C13: 206 | D13: 179 | E13: 335 | F13: =((E13*100)/D13)-100 -> 87.150838
A14: BARCELONA | B14: 75611 | C14: 40333 | D14: 802930.5 | E14: 450552 | F14: =((E14*100)/D14)-100 -> -43.886551
A15: BILBAO | B15: 1094 | C15: 423.25 | D15: 11313.25 | E15: 3559.25 | F15: =((E15*100)/D15)-100 -> -68.539102
A16: CARTAGENA | B16: 0 | C16: 0 | D16: 12 | E16: 310 | F16: =((E16*100)/D16)-100 -> 2483.3333
A17: CASTELLON | B17: 0 | C17: 2 | D17: 297 | E17: 4 | F17: =((E17*100)/D17)-100 -> -98.653199
A18: CEUTA | B18: 0 | C18: 0 | D18: 0 | E18: 4 | F18: =((E18*100)/D18)-100 -> #DIV/0!
... A34: VILAGARCIA | B34: 288 | C34: 0 | D34: 313 | E34: 619 | F34: =((E34*100)/D34)-100 -> 97.763578
A35: Total | B35: =SUM(B7:B34) -> 606860 | C35: =SUM(C7:C34) -> 528869.25 | D35: =SUM(D7:D34) -> 5275567.8 | E35: =SUM(E7:E34) -> 4701518.2 | F35: =((E35*100)/D35)-100 -> -10.881284
B37: =E6 -> 2009 | C37: =D6 -> 2008 | F37: =B37 -> 2009 | G37: =C37 -> 2008
A38: =A7 -> A CORUÑA | B38: =E7 -> 0 | C38: =D7 -> 0 | D38: =_xlfn.RANK.EQ(B38,$B$38:$B$65)+COUNTIF($B$38:$B$65,B38)-1 -> 28 | E38: =INDEX($A$38:$B$65,MATCH(ROW()-37,$D$38:$D$65,0),1) -> BAHIA DE ALGECIRAS | F38: =LOOKUP(E38,$A$38:$A$65,$B$38:$B$65) -> 2141268 | G38: =LOOKUP(E38,$A$38:$A$65,$C$38:$C$65) -> 2355665
A39: =A8 -> ALICANTE | B39: =E8 -> 76 | C39: =D8 -> 0 | D39: =_xlfn.RANK.EQ(B39,$B$38:$B$65)+COUNTIF($B$38:$B$65,B39)-1 -> 14 | E39: =INDEX($A$38:$B$65,MATCH(ROW()-37,$D$38:$D$65,0),1) -> VALENCIA | F39: =LOOKUP(E39,$A$38:$A$65,$B$38:$B$65) -> 1368002 | G39: =LOOKUP(E39,$A$38:$A$65,$C$38:$C$65) -> 1163320
A40: =A9 -> ALMERIA | B40: =E9 -> 0 | C40: =D9 -> 0 | D40: =_xlfn.RANK.EQ(B40,$B$38:$B$65)+COUNTIF($B$38:$B$65,B40)-1 -> 28 | E40: =INDEX($A$38:$B$65,MATCH(ROW()-37,$D$38:$D$65,0),1) -> BARCELONA | F40: =LOOKUP(E40,$A$38:$A$65,$B$38:$B$65) -> 450552 | G40: =LOOKUP(E40,$A$38:$A$65,$C$38:$C$65) -> 802930.5
A41: =A10 -> AVILES | B41: =E10 -> 0 | C41: =D10 -> 0 | D41: =_xlfn.RANK.EQ(B41,$B$38:$B$65)+COUNTIF($B$38:$B$65,B41)-1 -> 28 | E41: =INDEX($A$38:$B$65,MATCH(ROW()-37,$D$38:$D$65,0),1) -> LAS PALMAS | F41: =LOOKUP(E41,$A$38:$A$65,$B$38:$B$65) -> 440020 | G41: =LOOKUP(E41,$A$38:$A$65,$C$38:$C$65) -> 628765
A42: =A11 -> BAHIA DE ALGECIRAS | B42: =E11 -> 2141268 | C42: =D11 -> 2355665 | D42: =_xlfn.RANK.EQ(B42,$B$38:$B$65)+COUNTIF($B$38:$B$65,B42)-1 -> 1 | E42: =INDEX($A$38:$B$65,MATCH(ROW()-37,$D$38:$D$65,0),1) -> MALAGA | F42: =LOOKUP(E42,$A$38:$A$65,$B$38:$B$65) -> 184075 | G42: =LOOKUP(E42,$A$38:$A$65,$C$38:$C$65) -> 301310
A43: =A12 -> BAHIA DE CADIZ | B43: =E12 -> 1003 | C43: =D12 -> 884 | D43: =_xlfn.RANK.EQ(B43,$B$38:$B$65)+COUNTIF($B$38:$B$65,B43)-1 -> 10 | E43: =INDEX($A$38:$B$65,MATCH(ROW()-37,$D$38:$D$65,0),1) -> TARRAGONA | F43: =LOOKUP(E43,$A$38:$A$65,$B$38:$B$65) -> 93944 | G43: =LOOKUP(E43,$A$38:$A$65,$C$38:$C$65) -> 594
A44: =A13 -> BALEARES | B44: =E13 -> 335 | C44: =D13 -> 179 | D44: =_xlfn.RANK.EQ(B44,$B$38:$B$65)+COUNTIF($B$38:$B$65,B44)-1 -> 12 | E44: =INDEX($A$38:$B$65,MATCH(ROW()-37,$D$38:$D$65,0),1) -> SANTA CRUZ DE TENERIFE | F44: =LOOKUP(E44,$A$38:$A$65,$B$38:$B$65) -> 12575 | G44: =LOOKUP(E44,$A$38:$A$65,$C$38:$C$65) -> 7275
A45: =A14 -> BARCELONA | B45: =E14 -> 450552 | C45: =D14 -> 802930.5 | D45: =_xlfn.RANK.EQ(B45,$B$38:$B$65)+COUNTIF($B$38:$B$65,B45)-1 -> 3 | E45: =INDEX($A$38:$B$65,MATCH(ROW()-37,$D$38:$D$65,0),1) -> VIGO | F45: =LOOKUP(E45,$A$38:$A$65,$B$38:$B$65) -> 5081 | G45: =LOOKUP(E45,$A$38:$A$65,$C$38:$C$65) -> 2471
A46: =A15 -> BILBAO | B46: =E15 -> 3559.25 | C46: =D15 -> 11313.25 | D46: =_xlfn.RANK.EQ(B46,$B$38:$B$65)+COUNTIF($B$38:$B$65,B46)-1 -> 9 | E46: =INDEX($A$38:$B$65,MATCH(ROW()-37,$D$38:$D$65,0),1) -> BILBAO | F46: =LOOKUP(E46,$A$38:$A$65,$B$38:$B$65) -> 3559.25 | G46: =LOOKUP(E46,$A$38:$A$65,$C$38:$C$65) -> 11313.25
A47: =A16 -> CARTAGENA | B47: =E16 -> 310 | C47: =D16 -> 12 | D47: =_xlfn.RANK.EQ(B47,$B$38:$B$65)+COUNTIF($B$38:$B$65,B47)-1 -> 13 | E47: =INDEX($A$38:$B$65,MATCH(ROW()-37,$D$38:$D$65,0),1) -> BAHIA DE CADIZ | F47: =LOOKUP(E47,$A$38:$A$65,$B$38:$B$65) -> 1003 | G47: =LOOKUP(E47,$A$38:$A$65,$C$38:$C$65) -> 884
A48: =A17 -> CASTELLON | B48: =E17 -> 4 | C48: =D17 -> 297 | D48: =_xlfn.RANK.EQ(B48,$B$38:$B$65)+COUNTIF($B$38:$B$65,B48)-1 -> 19 | E48: =INDEX($A$38:$B$65,MATCH(ROW()-37,$D$38:$D$65,0),1) -> VILAGARCIA | F48: =LOOKUP(E48,$A$38:$A$65,$B$38:$B$65) -> 619 | G48: =LOOKUP(E48,$A$38:$A$65,$C$38:$C$65) -> 313
A49: =A18 -> CEUTA | B49: =E18 -> 4 | C49: =D18 -> 0 | D49: =_xlfn.RANK.EQ(B49,$B$38:$B$65)+COUNTIF($B$38:$B$65,B49)-1 -> 19 | E49: =INDEX($A$38:$B$65,MATCH(ROW()-37,$D$38:$D$65,0),1) -> BALEARES | F49: =LOOKUP(E49,$A$38:$A$65,$B$38:$B$65) -> 335 | G49: =LOOKUP(E49,$A$38:$A$65,$C$38:$C$65) -> 179
... A65: =A34 -> VILAGARCIA | B65: =E34 -> 619 | C65: =D34 -> 313 | D65: =_xlfn.RANK.EQ(B65,$B$38:$B$65)+COUNTIF($B$38:$B$65,B65)-1 -> 11 | E65: =INDEX($A$38:$B$65,MATCH(ROW()-37,$D$38:$D$65,0),1) -> A CORUÑA | F65: =LOOKUP(E65,$A$38:$A$65,$B$38:$B$65) -> 0 | G65: =LOOKUP(E65,$A$38:$A$65,$C$38:$C$65) -> 0

Sheet TEUS nacional
F1: 10.2. CONTENEDORES ENTRADA-SALIDA NACIONAL (TEUS)
A5: Autoridad Portuaria | B5: ='Resumen general'!D6 -> Mes Septiembre | D5: Acumulado desde Enero | L5: ='Resumen general'!I4 -> 40120
B6: ='Resumen general'!D7 -> 2008 | C6: ='Resumen general'!E7 -> 2009 | D6: ='Resumen general'!F7 -> 2008 | E6: ='Resumen general'!G7 -> 2009 | F6: Var. (%)
A7: A CORUÑA | B7: 48 | C7: 141 | D7: 228 | E7: 444 | F7: =((E7*100)/D7)-100 -> 94.736842
A8: ALICANTE | B8: 10392 | C8: 10846 | D8: 109361 | E8: 86220 | F8: =((E8*100)/D8)-100 -> -21.160194
A9: ALMERIA | B9: 2 | C9: 21 | D9: 100 | E9: 164 | F9: =((E9*100)/D9)-100 -> 64
A10: AVILES | B10: 578 | C10: 0 | D10: 5702 | E10: 2384 | F10: =((E10*100)/D10)-100 -> -58.190109
A11: BAHIA DE ALGECIRAS | B11: 1154 | C11: 667 | D11: 9427 | E11: 7976 | F11: =((E11*100)/D11)-100 -> -15.391959
A12: BAHIA DE CADIZ | B12: 5201 | C12: 5593 | D12: 46448.5 | E12: 43052.5 | F12: =((E12*100)/D12)-100 -> -7.3113233
A13: BALEARES | B13: 13684 | C13: 9476 | D13: 142775 | E13: 107116 | F13: =((E13*100)/D13)-100 -> -24.975661
A14: BARCELONA | B14: 23097.5 | C14: 16860.5 | D14: 237661.5 | E14: 172588 | F14: =((E14*100)/D14)-100 -> -27.38075
A15: BILBAO | B15: 5593.75 | C15: 3983.75 | D15: 59299.25 | E15: 41625.5 | F15: =((E15*100)/D15)-100 -> -29.80434
A16: CARTAGENA | B16: 1514 | C16: 2874 | D16: 15456 | E16: 19627 | F16: =((E16*100)/D16)-100 -> 26.986284
A17: CASTELLON | B17: 70 | C17: 13 | D17: 1438 | E17: 338 | F17: =((E17*100)/D17)-100 -> -76.495132
A18: CEUTA | B18: 1229 | C18: 816 | D18: 10684 | E18: 9631 | F18: =((E18*100)/D18)-100 -> -9.8558592
... A34: VILAGARCIA | B34: 2557 | C34: 0 | D34: 8725 | E34: 10331 | F34: =((E34*100)/D34)-100 -> 18.406877
A35: Total | B35: =SUM(B7:B34) -> 158626.25 | C35: =SUM(C7:C34) -> 135215.25 | D35: =SUM(D7:D34) -> 1528494.2 | E35: =SUM(E7:E34) -> 1233335 | F35: =((E35*100)/D35)-100 -> -19.310459
B37: =E6 -> 2009 | C37: =D6 -> 2008 | F37: =B37 -> 2009 | G37: =C37 -> 2008
A38: =A7 -> A CORUÑA | B38: =E7 -> 444 | C38: =D7 -> 228 | D38: =_xlfn.RANK.EQ(B38,$B$38:$B$65)+COUNTIF($B$38:$B$65,B38)-1 -> 21 | E38: =INDEX($A$38:$B$65,MATCH(ROW()-37,$D$38:$D$65,0),1) -> LAS PALMAS | F38: =LOOKUP(E38,$A$38:$A$65,$B$38:$B$65) -> 239638 | G38: =LOOKUP(E38,$A$38:$A$65,$C$38:$C$65) -> 290889
A39: =A8 -> ALICANTE | B39: =E8 -> 86220 | C39: =D8 -> 109361 | D39: =_xlfn.RANK.EQ(B39,$B$38:$B$65)+COUNTIF($B$38:$B$65,B39)-1 -> 6 | E39: =INDEX($A$38:$B$65,MATCH(ROW()-37,$D$38:$D$65,0),1) -> SANTA CRUZ DE TENERIFE | F39: =LOOKUP(E39,$A$38:$A$65,$B$38:$B$65) -> 211311 | G39: =LOOKUP(E39,$A$38:$A$65,$C$38:$C$65) -> 263177
A40: =A9 -> ALMERIA | B40: =E9 -> 164 | C40: =D9 -> 100 | D40: =_xlfn.RANK.EQ(B40,$B$38:$B$65)+COUNTIF($B$38:$B$65,B40)-1 -> 23 | E40: =INDEX($A$38:$B$65,MATCH(ROW()-37,$D$38:$D$65,0),1) -> BARCELONA | F40: =LOOKUP(E40,$A$38:$A$65,$B$38:$B$65) -> 172588 | G40: =LOOKUP(E40,$A$38:$A$65,$C$38:$C$65) -> 237661.5
A41: =A10 -> AVILES | B41: =E10 -> 2384 | C41: =D10 -> 5702 | D41: =_xlfn.RANK.EQ(B41,$B$38:$B$65)+COUNTIF($B$38:$B$65,B41)-1 -> 20 | E41: =INDEX($A$38:$B$65,MATCH(ROW()-37,$D$38:$D$65,0),1) -> VALENCIA | F41: =LOOKUP(E41,$A$38:$A$65,$B$38:$B$65) -> 119003 | G41: =LOOKUP(E41,$A$38:$A$65,$C$38:$C$65) -> 139547
A42: =A11 -> BAHIA DE ALGECIRAS | B42: =E11 -> 7976 | C42: =D11 -> 9427 | D42: =_xlfn.RANK.EQ(B42,$B$38:$B$65)+COUNTIF($B$38:$B$65,B42)-1 -> 18 | E42: =INDEX($A$38:$B$65,MATCH(ROW()-37,$D$38:$D$65,0),1) -> BALEARES | F42: =LOOKUP(E42,$A$38:$A$65,$B$38:$B$65) -> 107116 | G42: =LOOKUP(E42,$A$38:$A$65,$C$38:$C$65) -> 142775
A43: =A12 -> BAHIA DE CADIZ | B43: =E12 -> 43052.5 | C43: =D12 -> 46448.5 | D43: =_xlfn.RANK.EQ(B43,$B$38:$B$65)+COUNTIF($B$38:$B$65,B43)-1 -> 8 | E43: =INDEX($A$38:$B$65,MATCH(ROW()-37,$D$38:$D$65,0),1) -> ALICANTE | F43: =LOOKUP(E43,$A$38:$A$65,$B$38:$B$65) -> 86220 | G43: =LOOKUP(E43,$A$38:$A$65,$C$38:$C$65) -> 109361
A44: =A13 -> BALEARES | B44: =E13 -> 107116 | C44: =D13 -> 142775 | D44: =_xlfn.RANK.EQ(B44,$B$38:$B$65)+COUNTIF($B$38:$B$65,B44)-1 -> 5 | E44: =INDEX($A$38:$B$65,MATCH(ROW()-37,$D$38:$D$65,0),1) -> SEVILLA | F44: =LOOKUP(E44,$A$38:$A$65,$B$38:$B$65) -> 79356 | G44: =LOOKUP(E44,$A$38:$A$65,$C$38:$C$65) -> 83115
A45: =A14 -> BARCELONA | B45: =E14 -> 172588 | C45: =D14 -> 237661.5 | D45: =_xlfn.RANK.EQ(B45,$B$38:$B$65)+COUNTIF($B$38:$B$65,B45)-1 -> 3 | E45: =INDEX($A$38:$B$65,MATCH(ROW()-37,$D$38:$D$65,0),1) -> BAHIA DE CADIZ | F45: =LOOKUP(E45,$A$38:$A$65,$B$38:$B$65) -> 43052.5 | G45: =LOOKUP(E45,$A$38:$A$65,$C$38:$C$65) -> 46448.5
A46: =A15 -> BILBAO | B46: =E15 -> 41625.5 | C46: =D15 -> 59299.25 | D46: =_xlfn.RANK.EQ(B46,$B$38:$B$65)+COUNTIF($B$38:$B$65,B46)-1 -> 9 | E46: =INDEX($A$38:$B$65,MATCH(ROW()-37,$D$38:$D$65,0),1) -> BILBAO | F46: =LOOKUP(E46,$A$38:$A$65,$B$38:$B$65) -> 41625.5 | G46: =LOOKUP(E46,$A$38:$A$65,$C$38:$C$65) -> 59299.25
A47: =A16 -> CARTAGENA | B47: =E16 -> 19627 | C47: =D16 -> 15456 | D47: =_xlfn.RANK.EQ(B47,$B$38:$B$65)+COUNTIF($B$38:$B$65,B47)-1 -> 11 | E47: =INDEX($A$38:$B$65,MATCH(ROW()-37,$D$38:$D$65,0),1) -> VIGO | F47: =LOOKUP(E47,$A$38:$A$65,$B$38:$B$65) -> 35913 | G47: =LOOKUP(E47,$A$38:$A$65,$C$38:$C$65) -> 44040
A48: =A17 -> CASTELLON | B48: =E17 -> 338 | C48: =D17 -> 1438 | D48: =_xlfn.RANK.EQ(B48,$B$38:$B$65)+COUNTIF($B$38:$B$65,B48)-1 -> 22 | E48: =INDEX($A$38:$B$65,MATCH(ROW()-37,$D$38:$D$65,0),1) -> CARTAGENA | F48: =LOOKUP(E48,$A$38:$A$65,$B$38:$B$65) -> 19627 | G48: =LOOKUP(E48,$A$38:$A$65,$C$38:$C$65) -> 15456
A49: =A18 -> CEUTA | B49: =E18 -> 9631 | C49: =D18 -> 10684 | D49: =_xlfn.RANK.EQ(B49,$B$38:$B$65)+COUNTIF($B$38:$B$65,B49)-1 -> 14 | E49: =INDEX($A$38:$B$65,MATCH(ROW()-37,$D$38:$D$65,0),1) -> TARRAGONA | F49: =LOOKUP(E49,$A$38:$A$65,$B$38:$B$65) -> 11299 | G49: =LOOKUP(E49,$A$38:$A$65,$C$38:$C$65) -> 16201
... A65: =A34 -> VILAGARCIA | B65: =E34 -> 10331 | C65: =D34 -> 8725 | D65: =_xlfn.RANK.EQ(B65,$B$38:$B$65)+COUNTIF($B$38:$B$65,B65)-1 -> 13 | E65: =INDEX($A$38:$B$65,MATCH(ROW()-37,$D$38:$D$65,0),1) -> FERROL-SAN CIBRAO | F65: =LOOKUP(E65,$A$38:$A$65,$B$38:$B$65) -> 0 | G65: =LOOKUP(E65,$A$38:$A$65,$C$38:$C$65) -> 221

Sheet TEUS exterior
F1: 10.3. CONTENEDORES IMPORTACIÓN-EXPORTACIÓN EXTERIOR (TEUS)
A5: Autoridad Portuaria | B5: ='Resumen general'!D6 -> Mes Septiembre | D5: Acumulado desde Enero | L5: ='Resumen general'!I4 -> 40120
B6: ='Resumen general'!D7 -> 2008 | C6: ='Resumen general'!E7 -> 2009 | D6: ='Resumen general'!F7 -> 2008 | E6: ='Resumen general'!G7 -> 2009 | F6: Var. (%)
A7: A CORUÑA | B7: 599 | C7: 610 | D7: 5497 | E7: 5711 | F7: =((E7*100)/D7)-100 -> 3.8930326
A8: ALICANTE | B8: 695 | C8: 1403 | D8: 8607 | E8: 7914 | F8: =((E8*100)/D8)-100 -> -8.0515859
A9: ALMERIA | B9: 0 | C9: 171 | D9: 1 | E9: 518.5 | F9: =((E9*100)/D9)-100 -> 51750
A10: AVILES | B10: 22 | C10: 0 | D10: 219 | E10: 191 | F10: =((E10*100)/D10)-100 -> -12.785388
A11: BAHIA DE ALGECIRAS | B11: 11017 | C11: 11224 | D11: 110818 | E11: 101063 | F11: =((E11*100)/D11)-100 -> -8.8027216
A12: BAHIA DE CADIZ | B12: 4642 | C12: 3466 | D12: 51110 | E12: 34546 | F12: =((E12*100)/D12)-100 -> -32.408531
A13: BALEARES | B13: 0 | C13: 0 | D13: 50 | E13: 2 | F13: =((E13*100)/D13)-100 -> -96
A14: BARCELONA | B14: 110193.5 | C14: 88525.5 | D14: 981915 | E14: 722340 | F14: =((E14*100)/D14)-100 -> -26.435588
A15: BILBAO | B15: 38056.75 | C15: 32378.75 | D15: 350821.75 | E15: 276890.75 | F15: =((E15*100)/D15)-100 -> -21.073665
A16: CARTAGENA | B16: 2040 | C16: 3126 | D16: 20065 | E16: 22713 | F16: =((E16*100)/D16)-100 -> 13.197109
A17: CASTELLON | B17: 7268 | C17: 4950 | D17: 68628 | E17: 47758 | F17: =((E17*100)/D17)-100 -> -30.410328
A18: CEUTA | B18: 243 | C18: 62 | D18: 1019 | E18: 628 | F18: =((E18*100)/D18)-100 -> -38.370952
... A34: VILAGARCIA | B34: 314 | C34: 684 | D34: 1487 | E34: 4339 | F34: =((E34*100)/D34)-100 -> 191.79556
A35: Total | B35: =SUM(B7:B34) -> 366218.25 | C35: =SUM(C7:C34) -> 329437.25 | D35: =SUM(D7:D34) -> 3339433.2 | E35: =SUM(E7:E34) -> 2747912.2 | F35: =((E35*100)/D35)-100 -> -17.713215
B37: =E6 -> 2009 | C37: =D6 -> 2008 | F37: =B37 -> 2009 | G37: =C37 -> 2008
A38: =A7 -> A CORUÑA | B38: =E7 -> 5711 | C38: =D7 -> 5497 | D38: =_xlfn.RANK.EQ(B38,$B$38:$B$65)+COUNTIF($B$38:$B$65,B38)-1 -> 17 | E38: =INDEX($A$38:$B$65,MATCH(ROW()-37,$D$38:$D$65,0),1) -> VALENCIA | F38: =LOOKUP(E38,$A$38:$A$65,$B$38:$B$65) -> 1238465 | G38: =LOOKUP(E38,$A$38:$A$65,$C$38:$C$65) -> 1422619
A39: =A8 -> ALICANTE | B39: =E8 -> 7914 | C39: =D8 -> 8607 | D39: =_xlfn.RANK.EQ(B39,$B$38:$B$65)+COUNTIF($B$38:$B$65,B39)-1 -> 16 | E39: =INDEX($A$38:$B$65,MATCH(ROW()-37,$D$38:$D$65,0),1) -> BARCELONA | F39: =LOOKUP(E39,$A$38:$A$65,$B$38:$B$65) -> 722340 | G39: =LOOKUP(E39,$A$38:$A$65,$C$38:$C$65) -> 981915
A40: =A9 -> ALMERIA | B40: =E9 -> 518.5 | C40: =D9 -> 1 | D40: =_xlfn.RANK.EQ(B40,$B$38:$B$65)+COUNTIF($B$38:$B$65,B40)-1 -> 22 | E40: =INDEX($A$38:$B$65,MATCH(ROW()-37,$D$38:$D$65,0),1) -> BILBAO | F40: =LOOKUP(E40,$A$38:$A$65,$B$38:$B$65) -> 276890.75 | G40: =LOOKUP(E40,$A$38:$A$65,$C$38:$C$65) -> 350821.75
A41: =A10 -> AVILES | B41: =E10 -> 191 | C41: =D10 -> 219 | D41: =_xlfn.RANK.EQ(B41,$B$38:$B$65)+COUNTIF($B$38:$B$65,B41)-1 -> 24 | E41: =INDEX($A$38:$B$65,MATCH(ROW()-37,$D$38:$D$65,0),1) -> VIGO | F41: =LOOKUP(E41,$A$38:$A$65,$B$38:$B$65) -> 103577 | G41: =LOOKUP(E41,$A$38:$A$65,$C$38:$C$65) -> 148593
A42: =A11 -> BAHIA DE ALGECIRAS | B42: =E11 -> 101063 | C42: =D11 -> 110818 | D42: =_xlfn.RANK.EQ(B42,$B$38:$B$65)+COUNTIF($B$38:$B$65,B42)-1 -> 5 | E42: =INDEX($A$38:$B$65,MATCH(ROW()-37,$D$38:$D$65,0),1) -> BAHIA DE ALGECIRAS | F42: =LOOKUP(E42,$A$38:$A$65,$B$38:$B$65) -> 101063 | G42: =LOOKUP(E42,$A$38:$A$65,$C$38:$C$65) -> 110818
A43: =A12 -> BAHIA DE CADIZ | B43: =E12 -> 34546 | C43: =D12 -> 51110 | D43: =_xlfn.RANK.EQ(B43,$B$38:$B$65)+COUNTIF($B$38:$B$65,B43)-1 -> 9 | E43: =INDEX($A$38:$B$65,MATCH(ROW()-37,$D$38:$D$65,0),1) -> LAS PALMAS | F43: =LOOKUP(E43,$A$38:$A$65,$B$38:$B$65) -> 65354 | G43: =LOOKUP(E43,$A$38:$A$65,$C$38:$C$65) -> 70395
A44: =A13 -> BALEARES | B44: =E13 -> 2 | C44: =D13 -> 50 | D44: =_xlfn.RANK.EQ(B44,$B$38:$B$65)+COUNTIF($B$38:$B$65,B44)-1 -> 26 | E44: =INDEX($A$38:$B$65,MATCH(ROW()-37,$D$38:$D$65,0),1) -> CASTELLON | F44: =LOOKUP(E44,$A$38:$A$65,$B$38:$B$65) -> 47758 | G44: =LOOKUP(E44,$A$38:$A$65,$C$38:$C$65) -> 68628
A45: =A14 -> BARCELONA | B45: =E14 -> 722340 | C45: =D14 -> 981915 | D45: =_xlfn.RANK.EQ(B45,$B$38:$B$65)+COUNTIF($B$38:$B$65,B45)-1 -> 2 | E45: =INDEX($A$38:$B$65,MATCH(ROW()-37,$D$38:$D$65,0),1) -> TARRAGONA | F45: =LOOKUP(E45,$A$38:$A$65,$B$38:$B$65) -> 36987 | G45: =LOOKUP(E45,$A$38:$A$65,$C$38:$C$65) -> 20065
A46: =A15 -> BILBAO | B46: =E15 -> 276890.75 | C46: =D15 -> 350821.75 | D46: =_xlfn.RANK.EQ(B46,$B$38:$B$65)+COUNTIF($B$38:$B$65,B46)-1 -> 3 | E46: =INDEX($A$38:$B$65,MATCH(ROW()-37,$D$38:$D$65,0),1) -> BAHIA DE CADIZ | F46: =LOOKUP(E46,$A$38:$A$65,$B$38:$B$65) -> 34546 | G46: =LOOKUP(E46,$A$38:$A$65,$C$38:$C$65) -> 51110
A47: =A16 -> CARTAGENA | B47: =E16 -> 22713 | C47: =D16 -> 20065 | D47: =_xlfn.RANK.EQ(B47,$B$38:$B$65)+COUNTIF($B$38:$B$65,B47)-1 -> 11 | E47: =INDEX($A$38:$B$65,MATCH(ROW()-37,$D$38:$D$65,0),1) -> SANTA CRUZ DE TENERIFE | F47: =LOOKUP(E47,$A$38:$A$65,$B$38:$B$65) -> 29242 | G47: =LOOKUP(E47,$A$38:$A$65,$C$38:$C$65) -> 36065
A48: =A17 -> CASTELLON | B48: =E17 -> 47758 | C48: =D17 -> 68628 | D48: =_xlfn.RANK.EQ(B48,$B$38:$B$65)+COUNTIF($B$38:$B$65,B48)-1 -> 7 | E48: =INDEX($A$38:$B$65,MATCH(ROW()-37,$D$38:$D$65,0),1) -> CARTAGENA | F48: =LOOKUP(E48,$A$38:$A$65,$B$38:$B$65) -> 22713 | G48: =LOOKUP(E48,$A$38:$A$65,$C$38:$C$65) -> 20065
A49: =A18 -> CEUTA | B49: =E18 -> 628 | C49: =D18 -> 1019 | D49: =_xlfn.RANK.EQ(B49,$B$38:$B$65)+COUNTIF($B$38:$B$65,B49)-1 -> 21 | E49: =INDEX($A$38:$B$65,MATCH(ROW()-37,$D$38:$D$65,0),1) -> SEVILLA | F49: =LOOKUP(E49,$A$38:$A$65,$B$38:$B$65) -> 13206 | G49: =LOOKUP(E49,$A$38:$A$65,$C$38:$C$65) -> 13139
... A65: =A34 -> VILAGARCIA | B65: =E34 -> 4339 | C65: =D34 -> 1487 | D65: =_xlfn.RANK.EQ(B65,$B$38:$B$65)+COUNTIF($B$38:$B$65,B65)-1 -> 18 | E65: =INDEX($A$38:$B$65,MATCH(ROW()-37,$D$38:$D$65,0),1) -> HUELVA | F65: =LOOKUP(E65,$A$38:$A$65,$B$38:$B$65) -> 0 | G65: =LOOKUP(E65,$A$38:$A$65,$C$38:$C$65) -> 0

Sheet Pasajeros total
F1: 11. PASAJEROS EN RÉGIMEN DE TRANSPORTE Y DE CRUCERO (Nº)
A5: Autoridad Portuaria | B5: ='Resumen general'!D6 -> Mes Septiembre | D5: ='Resumen general'!F6 -> Acumulado desde Enero | L5: ='Resumen general'!I4 -> 40120
B6: ='Resumen general'!D7 -> 2008 | C6: ='Resumen general'!E7 -> 2009 | D6: ='Resumen general'!F7 -> 2008 | E6: ='Resumen general'!G7 -> 2009 | F6: Var. (%)
A7: A CORUÑA | B7: 20735 | C7: 14668 | D7: 54412 | E7: 45230 | F7: =((E7*100)/D7)-100 -> -16.874954
A8: ALICANTE | B8: 25373 | C8: 31708 | D8: 278525 | E8: 235252 | F8: =((E8*100)/D8)-100 -> -15.536487
A9: ALMERIA | B9: 69255 | C9: 73329 | D9: 984717 | E9: 1009082 | F9: =((E9*100)/D9)-100 -> 2.474315
A10: AVILES | B10: 0 | C10: 0 | D10: 0 | E10: 0 | F10: =((E10*100)/D10)-100 -> #DIV/0!
A11: BAHIA DE ALGECIRAS | B11: 336117 | C11: 336929 | D11: 4046077 | E11: 3799578 | F11: =((E11*100)/D11)-100 -> -6.0922963
A12: BAHIA DE CADIZ | B12: 34762 | C12: 39567 | D12: 185994 | E12: 188588 | F12: =((E12*100)/D12)-100 -> 1.3946686
A13: BALEARES | B13: 623022 | C13: 611859 | D13: 4961715 | E13: 4276218 | F13: =((E13*100)/D13)-100 -> -13.815727
A14: BARCELONA | B14: 387725 | C14: 380560 | D14: 2575236 | E14: 2576599 | F14: =((E14*100)/D14)-100 -> 0.052927188
A15: BILBAO | B15: 22324 | C15: 18361 | D15: 142623 | E15: 132440 | F15: =((E15*100)/D15)-100 -> -7.1398021
A16: CARTAGENA | B16: 7273 | C16: 4959 | D16: 18136 | E16: 45618 | F16: =((E16*100)/D16)-100 -> 151.53286
A17: CASTELLON | B17: 0 | C17: 0 | D17: 0 | E17: 0 | F17: =((E17*100)/D17)-100 -> #DIV/0!
A18: CEUTA | B18: 162466 | C18: 154943 | D18: 1925958 | E18: 1672332 | F18: =((E18*100)/D18)-100 -> -13.168823
... A34: VILAGARCIA | B34: 2340 | C34: 1208 | D34: 4490 | E34: 3203 | F34: =((E34*100)/D34)-100 -> -28.663697
A35: Total | B35: =SUM(B7:B34) -> 2465826 | C35: =SUM(C7:C34) -> 2483482 | D35: =SUM(D7:D34) -> 21983536 | E35: =SUM(E7:E34) -> 20601550 | F35: =((E35*100)/D35)-100 -> -6.2864591
B37: =E6 -> 2009 | C37: =D6 -> 2008 | F37: =B37 -> 2009 | G37: =C37 -> 2008
A38: =A7 -> A CORUÑA | B38: =E7 -> 45230 | C38: =D7 -> 54412 | D38: =_xlfn.RANK.EQ(B38,$B$38:$B$65)+COUNTIF($B$38:$B$65,B38)-1 -> 18 | E38: =INDEX($A$38:$B$65,MATCH(ROW()-37,$D$38:$D$65,0),1) -> BALEARES | F38: =LOOKUP(E38,$A$38:$A$65,$B$38:$B$65) -> 4276218 | G38: =LOOKUP(E38,$A$38:$A$65,$C$38:$C$65) -> 4961715
A39: =A8 -> ALICANTE | B39: =E8 -> 235252 | C39: =D8 -> 278525 | D39: =_xlfn.RANK.EQ(B39,$B$38:$B$65)+COUNTIF($B$38:$B$65,B39)-1 -> 12 | E39: =INDEX($A$38:$B$65,MATCH(ROW()-37,$D$38:$D$65,0),1) -> BAHIA DE ALGECIRAS | F39: =LOOKUP(E39,$A$38:$A$65,$B$38:$B$65) -> 3799578 | G39: =LOOKUP(E39,$A$38:$A$65,$C$38:$C$65) -> 4046077
A40: =A9 -> ALMERIA | B40: =E9 -> 1009082 | C40: =D9 -> 984717 | D40: =_xlfn.RANK.EQ(B40,$B$38:$B$65)+COUNTIF($B$38:$B$65,B40)-1 -> 6 | E40: =INDEX($A$38:$B$65,MATCH(ROW()-37,$D$38:$D$65,0),1) -> SANTA CRUZ DE TENERIFE | F40: =LOOKUP(E40,$A$38:$A$65,$B$38:$B$65) -> 3132516 | G40: =LOOKUP(E40,$A$38:$A$65,$C$38:$C$65) -> 3508304
A41: =A10 -> AVILES | B41: =E10 -> 0 | C41: =D10 -> 0 | D41: =_xlfn.RANK.EQ(B41,$B$38:$B$65)+COUNTIF($B$38:$B$65,B41)-1 -> 28 | E41: =INDEX($A$38:$B$65,MATCH(ROW()-37,$D$38:$D$65,0),1) -> BARCELONA | F41: =LOOKUP(E41,$A$38:$A$65,$B$38:$B$65) -> 2576599 | G41: =LOOKUP(E41,$A$38:$A$65,$C$38:$C$65) -> 2575236
A42: =A11 -> BAHIA DE ALGECIRAS | B42: =E11 -> 3799578 | C42: =D11 -> 4046077 | D42: =_xlfn.RANK.EQ(B42,$B$38:$B$65)+COUNTIF($B$38:$B$65,B42)-1 -> 2 | E42: =INDEX($A$38:$B$65,MATCH(ROW()-37,$D$38:$D$65,0),1) -> CEUTA | F42: =LOOKUP(E42,$A$38:$A$65,$B$38:$B$65) -> 1672332 | G42: =LOOKUP(E42,$A$38:$A$65,$C$38:$C$65) -> 1925958
A43: =A12 -> BAHIA DE CADIZ | B43: =E12 -> 188588 | C43: =D12 -> 185994 | D43: =_xlfn.RANK.EQ(B43,$B$38:$B$65)+COUNTIF($B$38:$B$65,B43)-1 -> 13 | E43: =INDEX($A$38:$B$65,MATCH(ROW()-37,$D$38:$D$65,0),1) -> ALMERIA | F43: =LOOKUP(E43,$A$38:$A$65,$B$38:$B$65) -> 1009082 | G43: =LOOKUP(E43,$A$38:$A$65,$C$38:$C$65) -> 984717
A44: =A13 -> BALEARES | B44: =E13 -> 4276218 | C44: =D13 -> 4961715 | D44: =_xlfn.RANK.EQ(B44,$B$38:$B$65)+COUNTIF($B$38:$B$65,B44)-1 -> 1 | E44: =INDEX($A$38:$B$65,MATCH(ROW()-37,$D$38:$D$65,0),1) -> VIGO | F44: =LOOKUP(E44,$A$38:$A$65,$B$38:$B$65) -> 963201 | G44: =LOOKUP(E44,$A$38:$A$65,$C$38:$C$65) -> 1027473
A45: =A14 -> BARCELONA | B45: =E14 -> 2576599 | C45: =D14 -> 2575236 | D45: =_xlfn.RANK.EQ(B45,$B$38:$B$65)+COUNTIF($B$38:$B$65,B45)-1 -> 4 | E45: =INDEX($A$38:$B$65,MATCH(ROW()-37,$D$38:$D$65,0),1) -> LAS PALMAS | F45: =LOOKUP(E45,$A$38:$A$65,$B$38:$B$65) -> 957888 | G45: =LOOKUP(E45,$A$38:$A$65,$C$38:$C$65) -> 857546
A46: =A15 -> BILBAO | B46: =E15 -> 132440 | C46: =D15 -> 142623 | D46: =_xlfn.RANK.EQ(B46,$B$38:$B$65)+COUNTIF($B$38:$B$65,B46)-1 -> 14 | E46: =INDEX($A$38:$B$65,MATCH(ROW()-37,$D$38:$D$65,0),1) -> MALAGA | F46: =LOOKUP(E46,$A$38:$A$65,$B$38:$B$65) -> 530441 | G46: =LOOKUP(E46,$A$38:$A$65,$C$38:$C$65) -> 451227
A47: =A16 -> CARTAGENA | B47: =E16 -> 45618 | C47: =D16 -> 18136 | D47: =_xlfn.RANK.EQ(B47,$B$38:$B$65)+COUNTIF($B$38:$B$65,B47)-1 -> 17 | E47: =INDEX($A$38:$B$65,MATCH(ROW()-37,$D$38:$D$65,0),1) -> MELILLA | F47: =LOOKUP(E47,$A$38:$A$65,$B$38:$B$65) -> 456495 | G47: =LOOKUP(E47,$A$38:$A$65,$C$38:$C$65) -> 427980
A48: =A17 -> CASTELLON | B48: =E17 -> 0 | C48: =D17 -> 0 | D48: =_xlfn.RANK.EQ(B48,$B$38:$B$65)+COUNTIF($B$38:$B$65,B48)-1 -> 28 | E48: =INDEX($A$38:$B$65,MATCH(ROW()-37,$D$38:$D$65,0),1) -> VALENCIA | F48: =LOOKUP(E48,$A$38:$A$65,$B$38:$B$65) -> 355754 | G48: =LOOKUP(E48,$A$38:$A$65,$C$38:$C$65) -> 370791
A49: =A18 -> CEUTA | B49: =E18 -> 1672332 | C49: =D18 -> 1925958 | D49: =_xlfn.RANK.EQ(B49,$B$38:$B$65)+COUNTIF($B$38:$B$65,B49)-1 -> 5 | E49: =INDEX($A$38:$B$65,MATCH(ROW()-37,$D$38:$D$65,0),1) -> ALICANTE | F49: =LOOKUP(E49,$A$38:$A$65,$B$38:$B$65) -> 235252 | G49: =LOOKUP(E49,$A$38:$A$65,$C$38:$C$65) -> 278525
... A65: =A34 -> VILAGARCIA | B65: =E34 -> 3203 | C65: =D34 -> 4490 | D65: =_xlfn.RANK.EQ(B65,$B$38:$B$65)+COUNTIF($B$38:$B$65,B65)-1 -> 20 | E65: =INDEX($A$38:$B$65,MATCH(ROW()-37,$D$38:$D$65,0),1) -> AVILES | F65: =LOOKUP(E65,$A$38:$A$65,$B$38:$B$65) -> 0 | G65: =LOOKUP(E65,$A$38:$A$65,$C$38:$C$65) -> 0

Sheet Pasajeros crucero
F1: 11.1. PASAJEROS DE CRUCERO (Nº)
A5: Autoridad Portuaria | B5: ='Resumen general'!D6 -> Mes Septiembre | D5: ='Resumen general'!F6 -> Acumulado desde Enero | L5: ='Resumen general'!I4 -> 40120
B6: ='Resumen general'!D7 -> 2008 | C6: ='Resumen general'!E7 -> 2009 | D6: ='Resumen general'!F7 -> 2008 | E6: ='Resumen general'!G7 -> 2009 | F6: Var. (%)
A7: A CORUÑA | B7: 20691 | C7: 14668 | D7: 47198 | E7: 45230 | F7: =((E7*100)/D7)-100 -> -4.1696682
A8: ALICANTE | B8: 3516 | C8: 13216 | D8: 52009 | E8: 48992 | F8: =((E8*100)/D8)-100 -> -5.8009191
A9: ALMERIA | B9: 6511 | C9: 6556 | D9: 46020 | E9: 28150 | F9: =((E9*100)/D9)-100 -> -38.830943
A10: AVILES | B10: 0 | C10: 0 | D10: 0 | E10: 0 | F10: =((E10*100)/D10)-100 -> #DIV/0!
A11: BAHIA DE ALGECIRAS | B11: 0 | C11: 0 | D11: 162 | E11: 0 | F11: =((E11*100)/D11)-100 -> -100
A12: BAHIA DE CADIZ | B12: 31343 | C12: 37065 | D12: 162709 | E12: 171890 | F12: =((E12*100)/D12)-100 -> 5.6425889
A13: BALEARES | B13: 170496 | C13: 187170 | D13: 1056372 | E13: 983195 | F13: =((E13*100)/D13)-100 -> -6.9271999
A14: BARCELONA | B14: 273176 | C14: 276064 | D14: 1562096 | E14: 1613949 | F14: =((E14*100)/D14)-100 -> 3.3194503
A15: BILBAO | B15: 6286 | C15: 1345 | D15: 33738 | E15: 25494 | F15: =((E15*100)/D15)-100 -> -24.435355
A16: CARTAGENA | B16: 7273 | C16: 4959 | D16: 18136 | E16: 45618 | F16: =((E16*100)/D16)-100 -> 151.53286
A17: CASTELLON | B17: 0 | C17: 0 | D17: 0 | E17: 0 | F17: =((E17*100)/D17)-100 -> #DIV/0!
A18: CEUTA | B18: 5324 | C18: 3446 | D18: 21948 | E18: 6022 | F18: =((E18*100)/D18)-100 -> -72.56242
... A34: VILAGARCIA | B34: 2340 | C34: 1208 | D34: 4490 | E34: 3203 | F34: =((E34*100)/D34)-100 -> -28.663697
A35: Total | B35: =SUM(B7:B34) -> 684101 | C35: =SUM(C7:C34) -> 719028 | D35: =SUM(D7:D34) -> 4242795 | E35: =SUM(E7:E34) -> 4282054 | F35: =((E35*100)/D35)-100 -> 0.92530985
B37: =E6 -> 2009 | C37: =D6 -> 2008 | F37: =B37 -> 2009 | G37: =C37 -> 2008
A38: =A7 -> A CORUÑA | B38: =E7 -> 45230 | C38: =D7 -> 47198 | D38: =_xlfn.RANK.EQ(B38,$B$38:$B$65)+COUNTIF($B$38:$B$65,B38)-1 -> 11 | E38: =INDEX($A$38:$B$65,MATCH(ROW()-37,$D$38:$D$65,0),1) -> BARCELONA | F38: =LOOKUP(E38,$A$38:$A$65,$B$38:$B$65) -> 1613949 | G38: =LOOKUP(E38,$A$38:$A$65,$C$38:$C$65) -> 1562096
A39: =A8 -> ALICANTE | B39: =E8 -> 48992 | C39: =D8 -> 52009 | D39: =_xlfn.RANK.EQ(B39,$B$38:$B$65)+COUNTIF($B$38:$B$65,B39)-1 -> 9 | E39: =INDEX($A$38:$B$65,MATCH(ROW()-37,$D$38:$D$65,0),1) -> BALEARES | F39: =LOOKUP(E39,$A$38:$A$65,$B$38:$B$65) -> 983195 | G39: =LOOKUP(E39,$A$38:$A$65,$C$38:$C$65) -> 1056372
A40: =A9 -> ALMERIA | B40: =E9 -> 28150 | C40: =D9 -> 46020 | D40: =_xlfn.RANK.EQ(B40,$B$38:$B$65)+COUNTIF($B$38:$B$65,B40)-1 -> 12 | E40: =INDEX($A$38:$B$65,MATCH(ROW()-37,$D$38:$D$65,0),1) -> LAS PALMAS | F40: =LOOKUP(E40,$A$38:$A$65,$B$38:$B$65) -> 350569 | G40: =LOOKUP(E40,$A$38:$A$65,$C$38:$C$65) -> 309187
A41: =A10 -> AVILES | B41: =E10 -> 0 | C41: =D10 -> 0 | D41: =_xlfn.RANK.EQ(B41,$B$38:$B$65)+COUNTIF($B$38:$B$65,B41)-1 -> 28 | E41: =INDEX($A$38:$B$65,MATCH(ROW()-37,$D$38:$D$65,0),1) -> SANTA CRUZ DE TENERIFE | F41: =LOOKUP(E41,$A$38:$A$65,$B$38:$B$65) -> 299271 | G41: =LOOKUP(E41,$A$38:$A$65,$C$38:$C$65) -> 336741
A42: =A11 -> BAHIA DE ALGECIRAS | B42: =E11 -> 0 | C42: =D11 -> 162 | D42: =_xlfn.RANK.EQ(B42,$B$38:$B$65)+COUNTIF($B$38:$B$65,B42)-1 -> 28 | E42: =INDEX($A$38:$B$65,MATCH(ROW()-37,$D$38:$D$65,0),1) -> MALAGA | F42: =LOOKUP(E42,$A$38:$A$65,$B$38:$B$65) -> 294769 | G42: =LOOKUP(E42,$A$38:$A$65,$C$38:$C$65) -> 217790
A43: =A12 -> BAHIA DE CADIZ | B43: =E12 -> 171890 | C43: =D12 -> 162709 | D43: =_xlfn.RANK.EQ(B43,$B$38:$B$65)+COUNTIF($B$38:$B$65,B43)-1 -> 7 | E43: =INDEX($A$38:$B$65,MATCH(ROW()-37,$D$38:$D$65,0),1) -> VIGO | F43: =LOOKUP(E43,$A$38:$A$65,$B$38:$B$65) -> 178255 | G43: =LOOKUP(E43,$A$38:$A$65,$C$38:$C$65) -> 167693
A44: =A13 -> BALEARES | B44: =E13 -> 983195 | C44: =D13 -> 1056372 | D44: =_xlfn.RANK.EQ(B44,$B$38:$B$65)+COUNTIF($B$38:$B$65,B44)-1 -> 2 | E44: =INDEX($A$38:$B$65,MATCH(ROW()-37,$D$38:$D$65,0),1) -> BAHIA DE CADIZ | F44: =LOOKUP(E44,$A$38:$A$65,$B$38:$B$65) -> 171890 | G44: =LOOKUP(E44,$A$38:$A$65,$C$38:$C$65) -> 162709
A45: =A14 -> BARCELONA | B45: =E14 -> 1613949 | C45: =D14 -> 1562096 | D45: =_xlfn.RANK.EQ(B45,$B$38:$B$65)+COUNTIF($B$38:$B$65,B45)-1 -> 1 | E45: =INDEX($A$38:$B$65,MATCH(ROW()-37,$D$38:$D$65,0),1) -> VALENCIA | F45: =LOOKUP(E45,$A$38:$A$65,$B$38:$B$65) -> 149344 | G45: =LOOKUP(E45,$A$38:$A$65,$C$38:$C$65) -> 166302
A46: =A15 -> BILBAO | B46: =E15 -> 25494 | C46: =D15 -> 33738 | D46: =_xlfn.RANK.EQ(B46,$B$38:$B$65)+COUNTIF($B$38:$B$65,B46)-1 -> 13 | E46: =INDEX($A$38:$B$65,MATCH(ROW()-37,$D$38:$D$65,0),1) -> ALICANTE | F46: =LOOKUP(E46,$A$38:$A$65,$B$38:$B$65) -> 48992 | G46: =LOOKUP(E46,$A$38:$A$65,$C$38:$C$65) -> 52009
A47: =A16 -> CARTAGENA | B47: =E16 -> 45618 | C47: =D16 -> 18136 | D47: =_xlfn.RANK.EQ(B47,$B$38:$B$65)+COUNTIF($B$38:$B$65,B47)-1 -> 10 | E47: =INDEX($A$38:$B$65,MATCH(ROW()-37,$D$38:$D$65,0),1) -> CARTAGENA | F47: =LOOKUP(E47,$A$38:$A$65,$B$38:$B$65) -> 45618 | G47: =LOOKUP(E47,$A$38:$A$65,$C$38:$C$65) -> 18136
A48: =A17 -> CASTELLON | B48: =E17 -> 0 | C48: =D17 -> 0 | D48: =_xlfn.RANK.EQ(B48,$B$38:$B$65)+COUNTIF($B$38:$B$65,B48)-1 -> 28 | E48: =INDEX($A$38:$B$65,MATCH(ROW()-37,$D$38:$D$65,0),1) -> A CORUÑA | F48: =LOOKUP(E48,$A$38:$A$65,$B$38:$B$65) -> 45230 | G48: =LOOKUP(E48,$A$38:$A$65,$C$38:$C$65) -> 47198
A49: =A18 -> CEUTA | B49: =E18 -> 6022 | C49: =D18 -> 21948 | D49: =_xlfn.RANK.EQ(B49,$B$38:$B$65)+COUNTIF($B$38:$B$65,B49)-1 -> 16 | E49: =INDEX($A$38:$B$65,MATCH(ROW()-37,$D$38:$D$65,0),1) -> ALMERIA | F49: =LOOKUP(E49,$A$38:$A$65,$B$38:$B$65) -> 28150 | G49: =LOOKUP(E49,$A$38:$A$65,$C$38:$C$65) -> 46020
... A65: =A34 -> VILAGARCIA | B65: =E34 -> 3203 | C65: =D34 -> 4490 | D65: =_xlfn.RANK.EQ(B65,$B$38:$B$65)+COUNTIF($B$38:$B$65,B65)-1 -> 18 | E65: =INDEX($A$38:$B$65,MATCH(ROW()-37,$D$38:$D$65,0),1) -> AVILES | F65: =LOOKUP(E65,$A$38:$A$65,$B$38:$B$65) -> 0 | G65: =LOOKUP(E65,$A$38:$A$65,$C$38:$C$65) -> 0

Sheet Vehículos régimen pasaje
F1: 11.2. VEHICULOS DE TURISMO EN RÉGIMEN DE PASAJE (Nº)
A5: Autoridad Portuaria | B5: ='Resumen general'!D6 -> Mes Septiembre | D5: ='Resumen general'!F6 -> Acumulado desde Enero | L5: ='Resumen general'!I4 -> 40120
B6: ='Resumen general'!D7 -> 2008 | C6: ='Resumen general'!E7 -> 2009 | D6: ='Resumen general'!F7 -> 2008 | E6: ='Resumen general'!G7 -> 2009 | F6: Var. (%)
A7: A CORUÑA | B7: 0 | C7: 0 | D7: 0 | E7: 0 | F7: =((E7*100)/D7)-100 -> #DIV/0!
A8: ALICANTE | B8: 5414 | C8: 4589 | D8: 51272 | E8: 42412 | F8: =((E8*100)/D8)-100 -> -17.280387
A9: ALMERIA | B9: 13289 | C9: 12844 | D9: 206957 | E9: 217097 | F9: =((E9*100)/D9)-100 -> 4.8995685
A10: AVILES | B10: 0 | C10: 0 | D10: 0 | E10: 0 | F10: =((E10*100)/D10)-100 -> #DIV/0!
A11: BAHIA DE ALGECIRAS | B11: 78626 | C11: 81427 | D11: 1060292 | E11: 958464 | F11: =((E11*100)/D11)-100 -> -9.6037695
A12: BAHIA DE CADIZ | B12: 2106 | C12: 1536 | D12: 14610 | E12: 10437 | F12: =((E12*100)/D12)-100 -> -28.562628
A13: BALEARES | B13: 49141 | C13: 42152 | D13: 418442 | E13: 356982 | F13: =((E13*100)/D13)-100 -> -14.687818
A14: BARCELONA | B14: 27872 | C14: 28160 | D14: 230697 | E14: 228140 | F14: =((E14*100)/D14)-100 -> -1.1083803
A15: BILBAO | B15: 3994 | C15: 4675 | D15: 27157 | E15: 28785 | F15: =((E15*100)/D15)-100 -> 5.9947711
A16: CARTAGENA | B16: 0 | C16: 0 | D16: 0 | E16: 0 | F16: =((E16*100)/D16)-100 -> #DIV/0!
A17: CASTELLON | B17: 0 | C17: 0 | D17: 0 | E17: 0 | F17: =((E17*100)/D17)-100 -> #DIV/0!
A18: CEUTA | B18: 32384 | C18: 29846 | D18: 507925 | E18: 369250 | F18: =((E18*100)/D18)-100 -> -27.302259
... A34: VILAGARCIA | B34: 0 | C34: 0 | D34: 0 | E34: 0 | F34: =((E34*100)/D34)-100 -> #DIV/0!
A35: Total | B35: =SUM(B7:B34) -> 323264 | C35: =SUM(C7:C34) -> 328512 | D35: =SUM(D7:D34) -> 3447917 | E35: =SUM(E7:E34) -> 3138998 | F35: =((E35*100)/D35)-100 -> -8.9595834
B37: =E6 -> 2009 | C37: =D6 -> 2008 | F37: =B37 -> 2009 | G37: =C37 -> 2008
A38: =A7 -> A CORUÑA | B38: =E7 -> 0 | C38: =D7 -> 0 | D38: =_xlfn.RANK.EQ(B38,$B$38:$B$65)+COUNTIF($B$38:$B$65,B38)-1 -> 28 | E38: =INDEX($A$38:$B$65,MATCH(ROW()-37,$D$38:$D$65,0),1) -> BAHIA DE ALGECIRAS | F38: =LOOKUP(E38,$A$38:$A$65,$B$38:$B$65) -> 958464 | G38: =LOOKUP(E38,$A$38:$A$65,$C$38:$C$65) -> 1060292
A39: =A8 -> ALICANTE | B39: =E8 -> 42412 | C39: =D8 -> 51272 | D39: =_xlfn.RANK.EQ(B39,$B$38:$B$65)+COUNTIF($B$38:$B$65,B39)-1 -> 11 | E39: =INDEX($A$38:$B$65,MATCH(ROW()-37,$D$38:$D$65,0),1) -> SANTA CRUZ DE TENERIFE | F39: =LOOKUP(E39,$A$38:$A$65,$B$38:$B$65) -> 553421 | G39: =LOOKUP(E39,$A$38:$A$65,$C$38:$C$65) -> 553192
A40: =A9 -> ALMERIA | B40: =E9 -> 217097 | C40: =D9 -> 206957 | D40: =_xlfn.RANK.EQ(B40,$B$38:$B$65)+COUNTIF($B$38:$B$65,B40)-1 -> 6 | E40: =INDEX($A$38:$B$65,MATCH(ROW()-37,$D$38:$D$65,0),1) -> CEUTA | F40: =LOOKUP(E40,$A$38:$A$65,$B$38:$B$65) -> 369250 | G40: =LOOKUP(E40,$A$38:$A$65,$C$38:$C$65) -> 507925
A41: =A10 -> AVILES | B41: =E10 -> 0 | C41: =D10 -> 0 | D41: =_xlfn.RANK.EQ(B41,$B$38:$B$65)+COUNTIF($B$38:$B$65,B41)-1 -> 28 | E41: =INDEX($A$38:$B$65,MATCH(ROW()-37,$D$38:$D$65,0),1) -> BALEARES | F41: =LOOKUP(E41,$A$38:$A$65,$B$38:$B$65) -> 356982 | G41: =LOOKUP(E41,$A$38:$A$65,$C$38:$C$65) -> 418442
A42: =A11 -> BAHIA DE ALGECIRAS | B42: =E11 -> 958464 | C42: =D11 -> 1060292 | D42: =_xlfn.RANK.EQ(B42,$B$38:$B$65)+COUNTIF($B$38:$B$65,B42)-1 -> 1 | E42: =INDEX($A$38:$B$65,MATCH(ROW()-37,$D$38:$D$65,0),1) -> BARCELONA | F42: =LOOKUP(E42,$A$38:$A$65,$B$38:$B$65) -> 228140 | G42: =LOOKUP(E42,$A$38:$A$65,$C$38:$C$65) -> 230697
A43: =A12 -> BAHIA DE CADIZ | B43: =E12 -> 10437 | C43: =D12 -> 14610 | D43: =_xlfn.RANK.EQ(B43,$B$38:$B$65)+COUNTIF($B$38:$B$65,B43)-1 -> 14 | E43: =INDEX($A$38:$B$65,MATCH(ROW()-37,$D$38:$D$65,0),1) -> ALMERIA | F43: =LOOKUP(E43,$A$38:$A$65,$B$38:$B$65) -> 217097 | G43: =LOOKUP(E43,$A$38:$A$65,$C$38:$C$65) -> 206957
A44: =A13 -> BALEARES | B44: =E13 -> 356982 | C44: =D13 -> 418442 | D44: =_xlfn.RANK.EQ(B44,$B$38:$B$65)+COUNTIF($B$38:$B$65,B44)-1 -> 4 | E44: =INDEX($A$38:$B$65,MATCH(ROW()-37,$D$38:$D$65,0),1) -> LAS PALMAS | F44: =LOOKUP(E44,$A$38:$A$65,$B$38:$B$65) -> 164316 | G44: =LOOKUP(E44,$A$38:$A$65,$C$38:$C$65) -> 168873
A45: =A14 -> BARCELONA | B45: =E14 -> 228140 | C45: =D14 -> 230697 | D45: =_xlfn.RANK.EQ(B45,$B$38:$B$65)+COUNTIF($B$38:$B$65,B45)-1 -> 5 | E45: =INDEX($A$38:$B$65,MATCH(ROW()-37,$D$38:$D$65,0),1) -> MELILLA | F45: =LOOKUP(E45,$A$38:$A$65,$B$38:$B$65) -> 74616 | G45: =LOOKUP(E45,$A$38:$A$65,$C$38:$C$65) -> 72395
A46: =A15 -> BILBAO | B46: =E15 -> 28785 | C46: =D15 -> 27157 | D46: =_xlfn.RANK.EQ(B46,$B$38:$B$65)+COUNTIF($B$38:$B$65,B46)-1 -> 13 | E46: =INDEX($A$38:$B$65,MATCH(ROW()-37,$D$38:$D$65,0),1) -> VALENCIA | F46: =LOOKUP(E46,$A$38:$A$65,$B$38:$B$65) -> 60833 | G46: =LOOKUP(E46,$A$38:$A$65,$C$38:$C$65) -> 59468
A47: =A16 -> CARTAGENA | B47: =E16 -> 0 | C47: =D16 -> 0 | D47: =_xlfn.RANK.EQ(B47,$B$38:$B$65)+COUNTIF($B$38:$B$65,B47)-1 -> 28 | E47: =INDEX($A$38:$B$65,MATCH(ROW()-37,$D$38:$D$65,0),1) -> SANTANDER | F47: =LOOKUP(E47,$A$38:$A$65,$B$38:$B$65) -> 44236 | G47: =LOOKUP(E47,$A$38:$A$65,$C$38:$C$65) -> 43762
A48: =A17 -> CASTELLON | B48: =E17 -> 0 | C48: =D17 -> 0 | D48: =_xlfn.RANK.EQ(B48,$B$38:$B$65)+COUNTIF($B$38:$B$65,B48)-1 -> 28 | E48: =INDEX($A$38:$B$65,MATCH(ROW()-37,$D$38:$D$65,0),1) -> ALICANTE | F48: =LOOKUP(E48,$A$38:$A$65,$B$38:$B$65) -> 42412 | G48: =LOOKUP(E48,$A$38:$A$65,$C$38:$C$65) -> 51272
A49: =A18 -> CEUTA | B49: =E18 -> 369250 | C49: =D18 -> 507925 | D49: =_xlfn.RANK.EQ(B49,$B$38:$B$65)+COUNTIF($B$38:$B$65,B49)-1 -> 3 | E49: =INDEX($A$38:$B$65,MATCH(ROW()-37,$D$38:$D$65,0),1) -> MALAGA | F49: =LOOKUP(E49,$A$38:$A$65,$B$38:$B$65) -> 29973 | G49: =LOOKUP(E49,$A$38:$A$65,$C$38:$C$65) -> 32787
... A65: =A34 -> VILAGARCIA | B65: =E34 -> 0 | C65: =D34 -> 0 | D65: =_xlfn.RANK.EQ(B65,$B$38:$B$65)+COUNTIF($B$38:$B$65,B65)-1 -> 28 | E65: =INDEX($A$38:$B$65,MATCH(ROW()-37,$D$38:$D$65,0),1) -> A CORUÑA | F65: =LOOKUP(E65,$A$38:$A$65,$B$38:$B$65) -> 0 | G65: =LOOKUP(E65,$A$38:$A$65,$C$38:$C$65) -> 0

Sheet Buques número
F1: 12.1. BUQUES MERCANTES (Nº)
A5: Autoridad Portuaria | B5: ='Resumen general'!D6 -> Mes Septiembre | D5: ='Resumen general'!F6 -> Acumulado desde Enero | L5: ='Resumen general'!I4 -> 40120
B6: ='Resumen general'!D7 -> 2008 | C6: ='Resumen general'!E7 -> 2009 | D6: ='Resumen general'!F7 -> 2008 | E6: ='Resumen general'!G7 -> 2009 | F6: Var. (%)
A7: A CORUÑA | B7: 136 | C7: 126 | D7: 1168 | E7: 1045 | F7: =((E7*100)/D7)-100 -> -10.530822
A8: ALICANTE | B8: 103 | C8: 85 | D8: 909 | E8: 740 | F8: =((E8*100)/D8)-100 -> -18.591859
A9: ALMERIA | B9: 221 | C9: 159 | D9: 1954 | E9: 1640 | F9: =((E9*100)/D9)-100 -> -16.069601
A10: AVILES | B10: 77 | C10: 68 | D10: 727 | E10: 516 | F10: =((E10*100)/D10)-100 -> -29.023384
A11: BAHIA DE ALGECIRAS | B11: 1987 | C11: 1976 | D11: 18202 | E11: 18679 | F11: =((E11*100)/D11)-100 -> 2.6205911
A12: BAHIA DE CADIZ | B12: 158 | C12: 161 | D12: 1317 | E12: 1294 | F12: =((E12*100)/D12)-100 -> -1.7463933
A13: BALEARES | B13: 853 | C13: 738 | D13: 7778 | E13: 6142 | F13: =((E13*100)/D13)-100 -> -21.033685
A14: BARCELONA | B14: 834 | C14: 771 | D14: 7473 | E14: 6423 | F14: =((E14*100)/D14)-100 -> -14.050582
A15: BILBAO | B15: 297 | C15: 258 | D15: 2802 | E15: 2230 | F15: =((E15*100)/D15)-100 -> -20.41399
A16: CARTAGENA | B16: 98 | C16: 137 | D16: 1020 | E16: 1067 | F16: =((E16*100)/D16)-100 -> 4.6078431
A17: CASTELLON | B17: 107 | C17: 87 | D17: 1071 | E17: 887 | F17: =((E17*100)/D17)-100 -> -17.180205
A18: CEUTA | B18: 1047 | C18: 1003 | D18: 9319 | E18: 9431 | F18: =((E18*100)/D18)-100 -> 1.2018457
... A34: VILAGARCIA | B34: 34 | C34: 31 | D34: 234 | E34: 226 | F34: =((E34*100)/D34)-100 -> -3.4188034
A35: Total | B35: =SUM(B7:B34) -> 10354 | C35: =SUM(C7:C34) -> 9936 | D35: =SUM(D7:D34) -> 94308 | E35: =SUM(E7:E34) -> 86483 | F35: =((E35*100)/D35)-100 -> -8.2972812
B37: =E6 -> 2009 | C37: =D6 -> 2008 | F37: =B37 -> 2009 | G37: =C37 -> 2008
A38: =A7 -> A CORUÑA | B38: =E7 -> 1045 | C38: =D7 -> 1168 | D38: =_xlfn.RANK.EQ(B38,$B$38:$B$65)+COUNTIF($B$38:$B$65,B38)-1 -> 16 | E38: =INDEX($A$38:$B$65,MATCH(ROW()-37,$D$38:$D$65,0),1) -> BAHIA DE ALGECIRAS | F38: =LOOKUP(E38,$A$38:$A$65,$B$38:$B$65) -> 18679 | G38: =LOOKUP(E38,$A$38:$A$65,$C$38:$C$65) -> 18202
A39: =A8 -> ALICANTE | B39: =E8 -> 740 | C39: =D8 -> 909 | D39: =_xlfn.RANK.EQ(B39,$B$38:$B$65)+COUNTIF($B$38:$B$65,B39)-1 -> 22 | E39: =INDEX($A$38:$B$65,MATCH(ROW()-37,$D$38:$D$65,0),1) -> SANTA CRUZ DE TENERIFE | F39: =LOOKUP(E39,$A$38:$A$65,$B$38:$B$65) -> 11305 | G39: =LOOKUP(E39,$A$38:$A$65,$C$38:$C$65) -> 13508
A40: =A9 -> ALMERIA | B40: =E9 -> 1640 | C40: =D9 -> 1954 | D40: =_xlfn.RANK.EQ(B40,$B$38:$B$65)+COUNTIF($B$38:$B$65,B40)-1 -> 10 | E40: =INDEX($A$38:$B$65,MATCH(ROW()-37,$D$38:$D$65,0),1) -> CEUTA | F40: =LOOKUP(E40,$A$38:$A$65,$B$38:$B$65) -> 9431 | G40: =LOOKUP(E40,$A$38:$A$65,$C$38:$C$65) -> 9319
A41: =A10 -> AVILES | B41: =E10 -> 516 | C41: =D10 -> 727 | D41: =_xlfn.RANK.EQ(B41,$B$38:$B$65)+COUNTIF($B$38:$B$65,B41)-1 -> 26 | E41: =INDEX($A$38:$B$65,MATCH(ROW()-37,$D$38:$D$65,0),1) -> LAS PALMAS | F41: =LOOKUP(E41,$A$38:$A$65,$B$38:$B$65) -> 7670 | G41: =LOOKUP(E41,$A$38:$A$65,$C$38:$C$65) -> 7866
A42: =A11 -> BAHIA DE ALGECIRAS | B42: =E11 -> 18679 | C42: =D11 -> 18202 | D42: =_xlfn.RANK.EQ(B42,$B$38:$B$65)+COUNTIF($B$38:$B$65,B42)-1 -> 1 | E42: =INDEX($A$38:$B$65,MATCH(ROW()-37,$D$38:$D$65,0),1) -> BARCELONA | F42: =LOOKUP(E42,$A$38:$A$65,$B$38:$B$65) -> 6423 | G42: =LOOKUP(E42,$A$38:$A$65,$C$38:$C$65) -> 7473
A43: =A12 -> BAHIA DE CADIZ | B43: =E12 -> 1294 | C43: =D12 -> 1317 | D43: =_xlfn.RANK.EQ(B43,$B$38:$B$65)+COUNTIF($B$38:$B$65,B43)-1 -> 13 | E43: =INDEX($A$38:$B$65,MATCH(ROW()-37,$D$38:$D$65,0),1) -> BALEARES | F43: =LOOKUP(E43,$A$38:$A$65,$B$38:$B$65) -> 6142 | G43: =LOOKUP(E43,$A$38:$A$65,$C$38:$C$65) -> 7778
A44: =A13 -> BALEARES | B44: =E13 -> 6142 | C44: =D13 -> 7778 | D44: =_xlfn.RANK.EQ(B44,$B$38:$B$65)+COUNTIF($B$38:$B$65,B44)-1 -> 6 | E44: =INDEX($A$38:$B$65,MATCH(ROW()-37,$D$38:$D$65,0),1) -> VALENCIA | F44: =LOOKUP(E44,$A$38:$A$65,$B$38:$B$65) -> 5002 | G44: =LOOKUP(E44,$A$38:$A$65,$C$38:$C$65) -> 5381
A45: =A14 -> BARCELONA | B45: =E14 -> 6423 | C45: =D14 -> 7473 | D45: =_xlfn.RANK.EQ(B45,$B$38:$B$65)+COUNTIF($B$38:$B$65,B45)-1 -> 5 | E45: =INDEX($A$38:$B$65,MATCH(ROW()-37,$D$38:$D$65,0),1) -> BILBAO | F45: =LOOKUP(E45,$A$38:$A$65,$B$38:$B$65) -> 2230 | G45: =LOOKUP(E45,$A$38:$A$65,$C$38:$C$65) -> 2802
A46: =A15 -> BILBAO | B46: =E15 -> 2230 | C46: =D15 -> 2802 | D46: =_xlfn.RANK.EQ(B46,$B$38:$B$65)+COUNTIF($B$38:$B$65,B46)-1 -> 8 | E46: =INDEX($A$38:$B$65,MATCH(ROW()-37,$D$38:$D$65,0),1) -> TARRAGONA | F46: =LOOKUP(E46,$A$38:$A$65,$B$38:$B$65) -> 2227 | G46: =LOOKUP(E46,$A$38:$A$65,$C$38:$C$65) -> 2087
A47: =A16 -> CARTAGENA | B47: =E16 -> 1067 | C47: =D16 -> 1020 | D47: =_xlfn.RANK.EQ(B47,$B$38:$B$65)+COUNTIF($B$38:$B$65,B47)-1 -> 15 | E47: =INDEX($A$38:$B$65,MATCH(ROW()-37,$D$38:$D$65,0),1) -> ALMERIA | F47: =LOOKUP(E47,$A$38:$A$65,$B$38:$B$65) -> 1640 | G47: =LOOKUP(E47,$A$38:$A$65,$C$38:$C$65) -> 1954
A48: =A17 -> CASTELLON | B48: =E17 -> 887 | C48: =D17 -> 1071 | D48: =_xlfn.RANK.EQ(B48,$B$38:$B$65)+COUNTIF($B$38:$B$65,B48)-1 -> 20 | E48: =INDEX($A$38:$B$65,MATCH(ROW()-37,$D$38:$D$65,0),1) -> VIGO | F48: =LOOKUP(E48,$A$38:$A$65,$B$38:$B$65) -> 1630 | G48: =LOOKUP(E48,$A$38:$A$65,$C$38:$C$65) -> 1909
A49: =A18 -> CEUTA | B49: =E18 -> 9431 | C49: =D18 -> 9319 | D49: =_xlfn.RANK.EQ(B49,$B$38:$B$65)+COUNTIF($B$38:$B$65,B49)-1 -> 3 | E49: =INDEX($A$38:$B$65,MATCH(ROW()-37,$D$38:$D$65,0),1) -> MALAGA | F49: =LOOKUP(E49,$A$38:$A$65,$B$38:$B$65) -> 1331 | G49: =LOOKUP(E49,$A$38:$A$65,$C$38:$C$65) -> 1462
... A65: =A34 -> VILAGARCIA | B65: =E34 -> 226 | C65: =D34 -> 234 | D65: =_xlfn.RANK.EQ(B65,$B$38:$B$65)+COUNTIF($B$38:$B$65,B65)-1 -> 28 | E65: =INDEX($A$38:$B$65,MATCH(ROW()-37,$D$38:$D$65,0),1) -> VILAGARCIA | F65: =LOOKUP(E65,$A$38:$A$65,$B$38:$B$65) -> 226 | G65: =LOOKUP(E65,$A$38:$A$65,$C$38:$C$65) -> 234

Sheet Buques GT
F1: 12.2. BUQUES MERCANTES (Unidades de arqueo bruto)
A5: Autoridad Portuaria | B5: ='Resumen general'!D6 -> Mes Septiembre | D5: ='Resumen general'!F6 -> Acumulado desde Enero | L5: ='Resumen general'!I4 -> 40120
B6: ='Resumen general'!D7 -> 2008 | C6: ='Resumen general'!E7 -> 2009 | D6: ='Resumen general'!F7 -> 2008 | E6: ='Resumen general'!G7 -> 2009 | F6: Var. (%)
A7: A CORUÑA | B7: 1736894 | C7: 1455867 | D7: 11217216 | E7: 9787849 | F7: =((E7*100)/D7)-100 -> -12.742618
A8: ALICANTE | B8: 1108287 | C8: 1528502 | D8: 11068735 | E8: 10326487 | F8: =((E8*100)/D8)-100 -> -6.7058069
A9: ALMERIA | B9: 2836249 | C9: 1932545 | D9: 25876424 | E9: 22925551 | F9: =((E9*100)/D9)-100 -> -11.403713
A10: AVILES | B10: 501847 | C10: 445265 | D10: 4125780 | E10: 3399175 | F10: =((E10*100)/D10)-100 -> -17.611337
A11: BAHIA DE ALGECIRAS | B11: 21017424 | C11: 21123600 | D11: 194148419 | E11: 205488828 | F11: =((E11*100)/D11)-100 -> 5.8411029
A12: BAHIA DE CADIZ | B12: 2640824 | C12: 2680945 | D12: 18495372 | E12: 18676295 | F12: =((E12*100)/D12)-100 -> 0.97820687
A13: BALEARES | B13: 13232362 | C13: 13813689 | D13: 106790302 | E13: 104972228 | F13: =((E13*100)/D13)-100 -> -1.7024711
A14: BARCELONA | B14: 23514060 | C14: 22908632 | D14: 193798466 | E14: 185344634 | F14: =((E14*100)/D14)-100 -> -4.3621769
A15: BILBAO | B15: 4384649 | C15: 3395956 | D15: 37574134 | E15: 32187739 | F15: =((E15*100)/D15)-100 -> -14.33538
A16: CARTAGENA | B16: 2227811 | C16: 2089599 | D16: 21000953 | E16: 19727242 | F16: =((E16*100)/D16)-100 -> -6.0650152
A17: CASTELLON | B17: 1204175 | C17: 883381 | D17: 10810943 | E17: 9775354 | F17: =((E17*100)/D17)-100 -> -9.5790811
A18: CEUTA | B18: 5526244 | C18: 5001176 | D18: 50569122 | E18: 47615187 | F18: =((E18*100)/D18)-100 -> -5.8413808
... A34: VILAGARCIA | B34: 256721 | C34: 188232 | D34: 1442034 | E34: 1396389 | F34: =((E34*100)/D34)-100 -> -3.1653207
A35: Total | B35: =SUM(B7:B34) -> 141185261 | C35: =SUM(C7:C34) -> 138214364 | D35: =SUM(D7:D34) -> 1224275848 | E35: =SUM(E7:E34) -> 1202609555 | F35: =((E35*100)/D35)-100 -> -1.7697231
B37: =E6 -> 2009 | C37: =D6 -> 2008 | F37: =B37 -> 2009 | G37: =C37 -> 2008
A38: =A7 -> A CORUÑA | B38: =E7 -> 9787849 | C38: =D7 -> 11217216 | D38: =_xlfn.RANK.EQ(B38,$B$38:$B$65)+COUNTIF($B$38:$B$65,B38)-1 -> 20 | E38: =INDEX($A$38:$B$65,MATCH(ROW()-37,$D$38:$D$65,0),1) -> BAHIA DE ALGECIRAS | F38: =LOOKUP(E38,$A$38:$A$65,$B$38:$B$65) -> 205488828 | G38: =LOOKUP(E38,$A$38:$A$65,$C$38:$C$65) -> 194148419
A39: =A8 -> ALICANTE | B39: =E8 -> 10326487 | C39: =D8 -> 11068735 | D39: =_xlfn.RANK.EQ(B39,$B$38:$B$65)+COUNTIF($B$38:$B$65,B39)-1 -> 18 | E39: =INDEX($A$38:$B$65,MATCH(ROW()-37,$D$38:$D$65,0),1) -> BARCELONA | F39: =LOOKUP(E39,$A$38:$A$65,$B$38:$B$65) -> 185344634 | G39: =LOOKUP(E39,$A$38:$A$65,$C$38:$C$65) -> 193798466
A40: =A9 -> ALMERIA | B40: =E9 -> 22925551 | C40: =D9 -> 25876424 | D40: =_xlfn.RANK.EQ(B40,$B$38:$B$65)+COUNTIF($B$38:$B$65,B40)-1 -> 12 | E40: =INDEX($A$38:$B$65,MATCH(ROW()-37,$D$38:$D$65,0),1) -> SANTA CRUZ DE TENERIFE | F40: =LOOKUP(E40,$A$38:$A$65,$B$38:$B$65) -> 131475850 | G40: =LOOKUP(E40,$A$38:$A$65,$C$38:$C$65) -> 133725264
A41: =A10 -> AVILES | B41: =E10 -> 3399175 | C41: =D10 -> 4125780 | D41: =_xlfn.RANK.EQ(B41,$B$38:$B$65)+COUNTIF($B$38:$B$65,B41)-1 -> 25 | E41: =INDEX($A$38:$B$65,MATCH(ROW()-37,$D$38:$D$65,0),1) -> VALENCIA | F41: =LOOKUP(E41,$A$38:$A$65,$B$38:$B$65) -> 127545050 | G41: =LOOKUP(E41,$A$38:$A$65,$C$38:$C$65) -> 122609946
A42: =A11 -> BAHIA DE ALGECIRAS | B42: =E11 -> 205488828 | C42: =D11 -> 194148419 | D42: =_xlfn.RANK.EQ(B42,$B$38:$B$65)+COUNTIF($B$38:$B$65,B42)-1 -> 1 | E42: =INDEX($A$38:$B$65,MATCH(ROW()-37,$D$38:$D$65,0),1) -> LAS PALMAS | F42: =LOOKUP(E42,$A$38:$A$65,$B$38:$B$65) -> 119719353 | G42: =LOOKUP(E42,$A$38:$A$65,$C$38:$C$65) -> 113111206
A43: =A12 -> BAHIA DE CADIZ | B43: =E12 -> 18676295 | C43: =D12 -> 18495372 | D43: =_xlfn.RANK.EQ(B43,$B$38:$B$65)+COUNTIF($B$38:$B$65,B43)-1 -> 14 | E43: =INDEX($A$38:$B$65,MATCH(ROW()-37,$D$38:$D$65,0),1) -> BALEARES | F43: =LOOKUP(E43,$A$38:$A$65,$B$38:$B$65) -> 104972228 | G43: =LOOKUP(E43,$A$38:$A$65,$C$38:$C$65) -> 106790302
A44: =A13 -> BALEARES | B44: =E13 -> 104972228 | C44: =D13 -> 106790302 | D44: =_xlfn.RANK.EQ(B44,$B$38:$B$65)+COUNTIF($B$38:$B$65,B44)-1 -> 6 | E44: =INDEX($A$38:$B$65,MATCH(ROW()-37,$D$38:$D$65,0),1) -> CEUTA | F44: =LOOKUP(E44,$A$38:$A$65,$B$38:$B$65) -> 47615187 | G44: =LOOKUP(E44,$A$38:$A$65,$C$38:$C$65) -> 50569122
A45: =A14 -> BARCELONA | B45: =E14 -> 185344634 | C45: =D14 -> 193798466 | D45: =_xlfn.RANK.EQ(B45,$B$38:$B$65)+COUNTIF($B$38:$B$65,B45)-1 -> 2 | E45: =INDEX($A$38:$B$65,MATCH(ROW()-37,$D$38:$D$65,0),1) -> BILBAO | F45: =LOOKUP(E45,$A$38:$A$65,$B$38:$B$65) -> 32187739 | G45: =LOOKUP(E45,$A$38:$A$65,$C$38:$C$65) -> 37574134
A46: =A15 -> BILBAO | B46: =E15 -> 32187739 | C46: =D15 -> 37574134 | D46: =_xlfn.RANK.EQ(B46,$B$38:$B$65)+COUNTIF($B$38:$B$65,B46)-1 -> 8 | E46: =INDEX($A$38:$B$65,MATCH(ROW()-37,$D$38:$D$65,0),1) -> TARRAGONA | F46: =LOOKUP(E46,$A$38:$A$65,$B$38:$B$65) -> 31825527 | G46: =LOOKUP(E46,$A$38:$A$65,$C$38:$C$65) -> 28773426
A47: =A16 -> CARTAGENA | B47: =E16 -> 19727242 | C47: =D16 -> 21000953 | D47: =_xlfn.RANK.EQ(B47,$B$38:$B$65)+COUNTIF($B$38:$B$65,B47)-1 -> 13 | E47: =INDEX($A$38:$B$65,MATCH(ROW()-37,$D$38:$D$65,0),1) -> MALAGA | F47: =LOOKUP(E47,$A$38:$A$65,$B$38:$B$65) -> 25382580 | G47: =LOOKUP(E47,$A$38:$A$65,$C$38:$C$65) -> 27979218
A48: =A17 -> CASTELLON | B48: =E17 -> 9775354 | C48: =D17 -> 10810943 | D48: =_xlfn.RANK.EQ(B48,$B$38:$B$65)+COUNTIF($B$38:$B$65,B48)-1 -> 21 | E48: =INDEX($A$38:$B$65,MATCH(ROW()-37,$D$38:$D$65,0),1) -> VIGO | F48: =LOOKUP(E48,$A$38:$A$65,$B$38:$B$65) -> 25018974 | G48: =LOOKUP(E48,$A$38:$A$65,$C$38:$C$65) -> 29057534
A49: =A18 -> CEUTA | B49: =E18 -> 47615187 | C49: =D18 -> 50569122 | D49: =_xlfn.RANK.EQ(B49,$B$38:$B$65)+COUNTIF($B$38:$B$65,B49)-1 -> 7 | E49: =INDEX($A$38:$B$65,MATCH(ROW()-37,$D$38:$D$65,0),1) -> ALMERIA | F49: =LOOKUP(E49,$A$38:$A$65,$B$38:$B$65) -> 22925551 | G49: =LOOKUP(E49,$A$38:$A$65,$C$38:$C$65) -> 25876424
... A65: =A34 -> VILAGARCIA | B65: =E34 -> 1396389 | C65: =D34 -> 1442034 | D65: =_xlfn.RANK.EQ(B65,$B$38:$B$65)+COUNTIF($B$38:$B$65,B65)-1 -> 28 | E65: =INDEX($A$38:$B$65,MATCH(ROW()-37,$D$38:$D$65,0),1) -> VILAGARCIA | F65: =LOOKUP(E65,$A$38:$A$65,$B$38:$B$65) -> 1396389 | G65: =LOOKUP(E65,$A$38:$A$65,$C$38:$C$65) -> 1442034

Sheet Cruceros
F1: 12.3. CRUCEROS (Nº)
A5: Autoridad Portuaria | B5: ='Resumen general'!D6 -> Mes Septiembre | D5: ='Resumen general'!F6 -> Acumulado desde Enero | L5: ='Resumen general'!I4 -> 40120
B6: ='Resumen general'!D7 -> 2008 | C6: ='Resumen general'!E7 -> 2009 | D6: ='Resumen general'!F7 -> 2008 | E6: ='Resumen general'!G7 -> 2009 | F6: Var. (%)
A7: A CORUÑA | B7: 16 | C7: 12 | D7: 44 | E7: 46 | F7: =((E7*100)/D7)-100 -> 4.5454545
A8: ALICANTE | B8: 2 | C8: 6 | D8: 39 | E8: 30 | F8: =((E8*100)/D8)-100 -> -23.076923
A9: ALMERIA | B9: 10 | C9: 11 | D9: 51 | E9: 40 | F9: =((E9*100)/D9)-100 -> -21.568627
A10: AVILES | B10: 0 | C10: 0 | D10: 0 | E10: 0 | F10: =((E10*100)/D10)-100 -> #DIV/0!
A11: BAHIA DE ALGECIRAS | B11: 0 | C11: 0 | D11: 2 | E11: 0 | F11: =((E11*100)/D11)-100 -> -100
A12: BAHIA DE CADIZ | B12: 33 | C12: 35 | D12: 184 | E12: 170 | F12: =((E12*100)/D12)-100 -> -7.6086957
A13: BALEARES | B13: 87 | C13: 90 | D13: 577 | E13: 506 | F13: =((E13*100)/D13)-100 -> -12.305026
A14: BARCELONA | B14: 111 | C14: 101 | D14: 662 | E14: 589 | F14: =((E14*100)/D14)-100 -> -11.02719
A15: BILBAO | B15: 9 | C15: 3 | D15: 36 | E15: 24 | F15: =((E15*100)/D15)-100 -> -33.333333
A16: CARTAGENA | B16: 6 | C16: 4 | D16: 27 | E16: 32 | F16: =((E16*100)/D16)-100 -> 18.518519
A17: CASTELLON | B17: 0 | C17: 0 | D17: 0 | E17: 0 | F17: =((E17*100)/D17)-100 -> #DIV/0!
A18: CEUTA | B18: 2 | C18: 3 | D18: 10 | E18: 7 | F18: =((E18*100)/D18)-100 -> -30
... A34: VILAGARCIA | B34: 7 | C34: 4 | D34: 13 | E34: 13 | F34: =((E34*100)/D34)-100 -> 0
A35: Total | B35: =SUM(B7:B34) -> 396 | C35: =SUM(C7:C34) -> 397 | D35: =SUM(D7:D34) -> 2554 | E35: =SUM(E7:E34) -> 2367 | F35: =((E35*100)/D35)-100 -> -7.3218481
B37: =E6 -> 2009 | C37: =D6 -> 2008 | F37: =B37 -> 2009 | G37: =C37 -> 2008
A38: =A7 -> A CORUÑA | B38: =E7 -> 46 | C38: =D7 -> 44 | D38: =_xlfn.RANK.EQ(B38,$B$38:$B$65)+COUNTIF($B$38:$B$65,B38)-1 -> 10 | E38: =INDEX($A$38:$B$65,MATCH(ROW()-37,$D$38:$D$65,0),1) -> BARCELONA | F38: =LOOKUP(E38,$A$38:$A$65,$B$38:$B$65) -> 589 | G38: =LOOKUP(E38,$A$38:$A$65,$C$38:$C$65) -> 662
A39: =A8 -> ALICANTE | B39: =E8 -> 30 | C39: =D8 -> 39 | D39: =_xlfn.RANK.EQ(B39,$B$38:$B$65)+COUNTIF($B$38:$B$65,B39)-1 -> 13 | E39: =INDEX($A$38:$B$65,MATCH(ROW()-37,$D$38:$D$65,0),1) -> BALEARES | F39: =LOOKUP(E39,$A$38:$A$65,$B$38:$B$65) -> 506 | G39: =LOOKUP(E39,$A$38:$A$65,$C$38:$C$65) -> 577
A40: =A9 -> ALMERIA | B40: =E9 -> 40 | C40: =D9 -> 51 | D40: =_xlfn.RANK.EQ(B40,$B$38:$B$65)+COUNTIF($B$38:$B$65,B40)-1 -> 11 | E40: =INDEX($A$38:$B$65,MATCH(ROW()-37,$D$38:$D$65,0),1) -> LAS PALMAS | F40: =LOOKUP(E40,$A$38:$A$65,$B$38:$B$65) -> 231 | G40: =LOOKUP(E40,$A$38:$A$65,$C$38:$C$65) -> 238
A41: =A10 -> AVILES | B41: =E10 -> 0 | C41: =D10 -> 0 | D41: =_xlfn.RANK.EQ(B41,$B$38:$B$65)+COUNTIF($B$38:$B$65,B41)-1 -> 28 | E41: =INDEX($A$38:$B$65,MATCH(ROW()-37,$D$38:$D$65,0),1) -> MALAGA | F41: =LOOKUP(E41,$A$38:$A$65,$B$38:$B$65) -> 197 | G41: =LOOKUP(E41,$A$38:$A$65,$C$38:$C$65) -> 170
A42: =A11 -> BAHIA DE ALGECIRAS | B42: =E11 -> 0 | C42: =D11 -> 2 | D42: =_xlfn.RANK.EQ(B42,$B$38:$B$65)+COUNTIF($B$38:$B$65,B42)-1 -> 28 | E42: =INDEX($A$38:$B$65,MATCH(ROW()-37,$D$38:$D$65,0),1) -> SANTA CRUZ DE TENERIFE | F42: =LOOKUP(E42,$A$38:$A$65,$B$38:$B$65) -> 189 | G42: =LOOKUP(E42,$A$38:$A$65,$C$38:$C$65) -> 176
A43: =A12 -> BAHIA DE CADIZ | B43: =E12 -> 170 | C43: =D12 -> 184 | D43: =_xlfn.RANK.EQ(B43,$B$38:$B$65)+COUNTIF($B$38:$B$65,B43)-1 -> 6 | E43: =INDEX($A$38:$B$65,MATCH(ROW()-37,$D$38:$D$65,0),1) -> BAHIA DE CADIZ | F43: =LOOKUP(E43,$A$38:$A$65,$B$38:$B$65) -> 170 | G43: =LOOKUP(E43,$A$38:$A$65,$C$38:$C$65) -> 184
A44: =A13 -> BALEARES | B44: =E13 -> 506 | C44: =D13 -> 577 | D44: =_xlfn.RANK.EQ(B44,$B$38:$B$65)+COUNTIF($B$38:$B$65,B44)-1 -> 2 | E44: =INDEX($A$38:$B$65,MATCH(ROW()-37,$D$38:$D$65,0),1) -> VALENCIA | F44: =LOOKUP(E44,$A$38:$A$65,$B$38:$B$65) -> 103 | G44: =LOOKUP(E44,$A$38:$A$65,$C$38:$C$65) -> 135
A45: =A14 -> BARCELONA | B45: =E14 -> 589 | C45: =D14 -> 662 | D45: =_xlfn.RANK.EQ(B45,$B$38:$B$65)+COUNTIF($B$38:$B$65,B45)-1 -> 1 | E45: =INDEX($A$38:$B$65,MATCH(ROW()-37,$D$38:$D$65,0),1) -> VIGO | F45: =LOOKUP(E45,$A$38:$A$65,$B$38:$B$65) -> 78 | G45: =LOOKUP(E45,$A$38:$A$65,$C$38:$C$65) -> 84
A46: =A15 -> BILBAO | B46: =E15 -> 24 | C46: =D15 -> 36 | D46: =_xlfn.RANK.EQ(B46,$B$38:$B$65)+COUNTIF($B$38:$B$65,B46)-1 -> 14 | E46: =INDEX($A$38:$B$65,MATCH(ROW()-37,$D$38:$D$65,0),1) -> SEVILLA | F46: =LOOKUP(E46,$A$38:$A$65,$B$38:$B$65) -> 74 | G46: =LOOKUP(E46,$A$38:$A$65,$C$38:$C$65) -> 64
A47: =A16 -> CARTAGENA | B47: =E16 -> 32 | C47: =D16 -> 27 | D47: =_xlfn.RANK.EQ(B47,$B$38:$B$65)+COUNTIF($B$38:$B$65,B47)-1 -> 12 | E47: =INDEX($A$38:$B$65,MATCH(ROW()-37,$D$38:$D$65,0),1) -> A CORUÑA | F47: =LOOKUP(E47,$A$38:$A$65,$B$38:$B$65) -> 46 | G47: =LOOKUP(E47,$A$38:$A$65,$C$38:$C$65) -> 44
A48: =A17 -> CASTELLON | B48: =E17 -> 0 | C48: =D17 -> 0 | D48: =_xlfn.RANK.EQ(B48,$B$38:$B$65)+COUNTIF($B$38:$B$65,B48)-1 -> 28 | E48: =INDEX($A$38:$B$65,MATCH(ROW()-37,$D$38:$D$65,0),1) -> ALMERIA | F48: =LOOKUP(E48,$A$38:$A$65,$B$38:$B$65) -> 40 | G48: =LOOKUP(E48,$A$38:$A$65,$C$38:$C$65) -> 51
A49: =A18 -> CEUTA | B49: =E18 -> 7 | C49: =D18 -> 10 | D49: =_xlfn.RANK.EQ(B49,$B$38:$B$65)+COUNTIF($B$38:$B$65,B49)-1 -> 19 | E49: =INDEX($A$38:$B$65,MATCH(ROW()-37,$D$38:$D$65,0),1) -> CARTAGENA | F49: =LOOKUP(E49,$A$38:$A$65,$B$38:$B$65) -> 32 | G49: =LOOKUP(E49,$A$38:$A$65,$C$38:$C$65) -> 27
... A65: =A34 -> VILAGARCIA | B65: =E34 -> 13 | C65: =D34 -> 13 | D65: =_xlfn.RANK.EQ(B65,$B$38:$B$65)+COUNTIF($B$38:$B$65,B65)-1 -> 16 | E65: =INDEX($A$38:$B$65,MATCH(ROW()-37,$D$38:$D$65,0),1) -> AVILES | F65: =LOOKUP(E65,$A$38:$A$65,$B$38:$B$65) -> 0 | G65: =LOOKUP(E65,$A$38:$A$65,$C$38:$C$65) -> 0
