Workbook
Name CABECERA: Cruceros!$A$5:$F$6
Name CONCEPTO: 'Resumen general'!$A$6
Name LblRes00_Acum: 'Resumen general'!$F$6:$G$6
Name LblRes00_Mes: 'Resumen general'!$D$6:$E$6
Name LblRes00_Var: 'Resumen general'!$H$6:$I$6
Name LblRes01_1_Acum: 'Total presentación'!$D$5:$F$5
Name LblRes01_1_Mes: 'Total presentación'!$B$5:$C$5
Name LblRes01_Acum: 'Total tráfico'!$D$5:$F$5
Name LblRes01_Mes: 'Total tráfico'!$B$5:$C$5
Name LblRes02_Acum: Líquidos!$D$5:$F$5
Name LblRes02_Mes: Líquidos!$B$5:$C$5
Name LblRes03_Acum: Sólidos!$D$5:$F$5
Name LblRes03_Mes: Sólidos!$B$5:$C$5
Name LblRes04_Acum: 'Mercancía general'!$D$5:$F$5
Name LblRes04_Mes: 'Mercancía general'!$B$5:$C$5
Name LblRes05_Acum: Pesca!$D$5:$F$5
Name LblRes05_Mes: Pesca!$B$5:$C$5
Name LblRes06_Acum: Avituallamiento!$D$5:$F$5
Name LblRes06_Mes: Avituallamiento!$B$5:$C$5
Name LblRes07_1_Acum: 'Mercan. contene. tránsito'!$D$5:$F$5
Name LblRes07_1_Mes: 'Mercan. contene. tránsito'!$B$5:$C$5
Name LblRes07_Acum: 'Mercancías tránsito'!$D$5:$F$5
Name LblRes07_Mes: 'Mercancías tránsito'!$B$5:$C$5
Name LblRes08_Acum: 'Mercancías contenedores'!$D$5:$F$5
Name LblRes08_Mes: 'Mercancías contenedores'!$B$5:$C$5
Name LblRes09_Acum: 'Ro-Ro'!$D$5:$F$5
Name LblRes09_Mes: 'Ro-Ro'!$B$5:$C$5
Name LblRes10_1_Acum: 'TEUS tránsito'!$D$5:$F$5
Name LblRes10_1_Mes: 'TEUS tránsito'!$B$5:$C$5
Name LblRes10_2_Acum: #REF!
Name LblRes10_2_Mes: #REF!
Name LblRes10_3_Acum: #REF!
Name LblRes10_3_Mes: #REF!
Name LblRes10_4_Acum: #REF!
Name LblRes10_4_Mes: #REF!
Name LblRes10_Acum: TEUS!$D$5:$F$5
Name LblRes10_Mes: TEUS!$B$5:$C$5
Name LblRes11_1_Acum: 'Pasajeros crucero'!$D$5:$F$5
Name LblRes11_1_Mes: 'Pasajeros crucero'!$B$5:$C$5
Name LblRes11_2_Acum: 'Vehículos régimen pasaje'!$D$5:$F$5
Name LblRes11_2_Mes: 'Vehículos régimen pasaje'!$B$5:$C$5
Name LblRes11_Acum: 'Pasajeros total'!$D$5:$F$5
Name LblRes11_Mes: 'Pasajeros total'!$B$5:$C$5
Name LblRes12_1_Acum: 'Buques número'!$D$5:$F$5
Name LblRes12_1_Mes: 'Buques número'!$B$5:$C$5
Name LblRes12_2_Acum: 'Buques GT'!$D$5:$F$5
Name LblRes12_2_Mes: 'Buques GT'!$B$5:$C$5
Name LblRes12_3_Acum: Cruceros!$D$5:$F$5
Name LblRes12_3_Mes: Cruceros!$B$5:$C$5
Name PROVINCIAS: Cruceros!$A$5:$A$35
Name TxtFecha: Cruceros!$L$5

Sheet Resumen general
D1: 00. RESUMEN GENERAL DEL TRÁFICO PORTUARIO
I4: 40120
A6: CONCEPTO | D6: Mes Septiembre | F6: Acumulado desde Enero | H6: Variación
D7: 2008 | E7: 2009 | F7: 2008 | G7: 2009 | H7: Diferencia | I7: %
A8: MERCANCÍAS SEGÚN SU PRESENTACIÓN | B8: GRANELES | C8: LÍQUIDOS | D8: 12215718 | E8: 11299162 | F8: 116859089 | G8: 108059907 | H8: -8799182 | I8: =((G8*100/F8)-100) -> -7.5297369
C9: SÓLIDOS | D9: 7526341 | E9: 7087240 | F9: 79346364 | G9: 57405321 | H9: -21941043 | I9: =((G9*100/F9)-100) -> -27.652235
B10: MERCANCÍA GRAL. | C10: CONVENCIONAL | D10: 4616431 | E10: 3881000 | F10: 45120139 | G10: 36017211 | H10: -9102928 | I10: =((G10*100/F10)-100) -> -20.174867
C11: EN CONTENEDORES | D11: 12215667 | E11: 10726461 | F11: 110769647 | G11: 94509707 | H11: -16259940 | I11: =((G11*100/F11)-100) -> -14.679057
C12: TOTAL | D12: 16832098 | E12: 14607461 | F12: 155889786 | G12: 130526918 | H12: -25362868 | I12: =((G12*100/F12)-100) -> -16.269743
C13: TOTAL | D13: 36574157 | E13: 32993863 | F13: 352095239 | G13: 295992146 | H13: -56103093 | I13: =((G13*100/F13)-100) -> -15.934067
A14: OTRAS MERCANCÍAS | B14: PESCA | C14: TOTAL PESCA | D14: 20696 | E14: 20222 | F14: 163741 | G14: 183702 | H14: 19961 | I14: =((G14*100/F14)-100) -> 12.190594
B15: AVITUALLAMIENTO | C15: PRODUCTOS PETROLÍFEROS | D15: 602921 | E15: 546824 | F15: 5548211 | G15: 5590785 | H15: 42574 | I15: =((G15*100/F15)-100) -> 0.76734645
C16: OTROS | D16: 300584 | E16: 244728 | F16: 2360732 | G16: 1980119 | H16: -380613 | I16: =((G16*100/F16)-100) -> -16.122669
B17: TRAFICO INTERIOR | C17: TOTAL TRAFICO INTERIOR | D17: 336935 | E17: 294563 | F17: 2408718 | G17: 2373687 | H17: -35031 | I17: =((G17*100/F17)-100) -> -1.4543421
C18: TOTAL | D18: 1261136 | E18: 1106337 | F18: 10481402 | G18: 10128293 | H18: -353109 | I18: =((G18*100/F18)-100) -> -3.36891
C19: TOTAL TRÁFICO PORTUARIO | D19: =+D13+D18 -> 37835293 | E19: =+E13+E18 -> 34100200 | F19: =+F13+F18 -> 362576641 | G19: =+G13+G18 -> 306120439 | H19: =G19-F19 -> -56456202 | I19: =((G19*100/F19)-100) -> -15.570833
A21: OTRAS INFORMACIONES | B21: MERCANCÍAS | C21: EN TRÁNSITO | D21: 8312185 | E21: 7442573 | F21: 74123546 | G21: 65724721 | H21: -8398825 | I21: =((G21*100/F21)-100) -> -11.330846
C22: EN CONTENEDORES EN TRÁNSITO | D22: 7723726 | E22: 6715933 | F22: 68101051 | G22: 59781699 | H22: -8319352 | I22: =((G22*100/F22)-100) -> -12.216187
B23: TRÁFICO RO-RO | C23: TOTAL TRÁFICO RO-RO | D23: 3334701 | E23: 3060806 | F23: 33494049 | G23: 28543287 | H23: -4950762 | I23: =((G23*100/F23)-100) -> -14.78102
B24: CONTENEDORES (TEU) | C24: TOTAL CONTENEDORES (TEU) | D24: 1131706.5 | E24: 993521.75 | F24: 10143586 | G24: 8682772.5 | H24: -1460813.8 | I24: =((G24*100/F24)-100) -> -14.401354
C25: EN TRÁNSITO | D25: 606860 | E25: 528869.25 | F25: 5275567.8 | G25: 4701518.2 | H25: -574049.5 | I25: =((G25*100/F25)-100) -> -10.881284
C26: ENTRADAS-SALIDAS NACIONAL | D26: 158626.25 | E26: 135215.25 | F26: 1528494.2 | G26: 1233335 | H26: -295159.25 | I26: =((G26*100/F26)-100) -> -19.310459
C27: IMPORT-EXPORT EXTERIOR | D27: 366218.25 | E27: 329437.25 | F27: 3339433.2 | G27: 2747912.2 | H27: -591521 | I27: =((G27*100/F27)-100) -> -17.713215
B28: PASAJEROS | C28: REG. TRANSPORTE Y DE CRUCERO (nº) | D28: 2465826 | E28: 2483482 | F28: 21983536 | G28: 20601550 | H28: -1381986 | I28: =((G28*100/F28)-100) -> -6.2864591
C29: DE CRUCERO (nº) | D29: 684101 | E29: 719028 | F29: 4242795 | G29: 4282054 | H29: 39259 | I29: =((G29*100/F29)-100) -> 0.92530985
B30: VEHÍCULOS | C30: EN RÉGIMEN DE PASAJE | D30: 323264 | E30: 328512 | F30: 3447917 | G30: 3138998 | H30: -308919 | I30: =((G30*100/F30)-100) -> -8.9595834
B31: BUQUES MERCANTES | C31: TOTAL BUQUES MERCANTES | D31: 10354 | E31: 9936 | F31: 94308 | G31: 86483 | H31: -7825 | I31: =((G31*100/F31)-100) -> -8.2972812
C32: UDS. ARQUEO BRUTO (G.T.) | D32: 141185261 | E32: 138214364 | F32: 1224275848 | G32: 1202609555 | H32: -21666293 | I32: =((G32*100/F32)-100) -> -1.7697231
C33: NÚMERO DE CRUCEROS | D33: 396 | E33: 397 | F33: 2554 | G33: 2367 | H33: -187 | I33: =((G33*100/F33)-100) -> -7.3218481

Sheet Total tráfico
F1: 1. TRAFICO PORTUARIO (Toneladas)
A5: Autoridad Portuaria | B5: ='Resumen general'!D6 -> Mes Septiembre | D5: ='Resumen general'!F6 -> Acumulado desde Enero | L5: ='Resumen general'!I4 -> 40120
B6: ='Resumen general'!D7 -> 2008 | C6: ='Resumen general'!E7 -> 2009 | D6: ='Resumen general'!F7 -> 2008 | E6: ='Resumen general'!G7 -> 2009 | F6: Var. (%)
A7: A CORUÑA | B7: 1007700 | C7: 1038309 | D7: 9923906 | E7: 8797610 | F7: =((E7*100)/D7)-100 -> -11.349322
A8: ALICANTE | B8: 198435 | C8: 290939 | D8: 2241276 | E8: 1820156 | F8: =((E8*100)/D8)-100 -> -18.789297
A9: ALMERIA | B9: 289528 | C9: 129920 | D9: 4172023 | E9: 3092372 | F9: =((E9*100)/D9)-100 -> -25.878357
A10: AVILES | B10: 423574 | C10: 386652 | D10: 3856448 | E10: 2988813 | F10: =((E10*100)/D10)-100 -> -22.498294
A11: BAHIA DE ALGECIRAS | B11: 5909528 | C11: 5746299 | D11: 55991254 | E11: 51520932 | F11: =((E11*100)/D11)-100 -> -7.9839648
A12: BAHIA DE CADIZ | B12: 478793 | C12: 386880 | D12: 3882516 | E12: 2916748 | F12: =((E12*100)/D12)-100 -> -24.874798
A13: BALEARES | B13: 1135358 | C13: 1041268 | D13: 10725138 | E13: 9274814 | F13: =((E13*100)/D13)-100 -> -13.522661
A14: BARCELONA | B14: 3954015 | C14: 3463980 | D14: 40362921 | E14: 32027356 | F14: =((E14*100)/D14)-100 -> -20.651541
A15: BILBAO | B15: 3645269 | C15: 2663823 | D15: 29955636 | E15: 24067707 | F15: =((E15*100)/D15)-100 -> -19.655497
A16: CARTAGENA | B16: 1833846 | C16: 1557565 | D16: 20158233 | E16: 16157158 | F16: =((E16*100)/D16)-100 -> -19.848342
A17: CASTELLON | B17: 1116010 | C17: 636020 | D17: 10516640 | E17: 8159571 | F17: =((E17*100)/D17)-100 -> -22.412757
A18: CEUTA | B18: 206663 | C18: 118911 | D18: 2039156 | E18: 1694658 | F18: =((E18*100)/D18)-100 -> -16.894146
... A34: VILAGARCIA | B34: 85745 | C34: 87822 | D34: 847720 | E34: 722091 | F34: =((E34*100)/D34)-100 -> -14.819634
A35: Total | B35: =SUM(B7:B34) -> 37835293 | C35: =SUM(C7:C34) -> 34100200 | D35: =SUM(D7:D34) -> 362576641 | E35: =SUM(E7:E34) -> 306120439 | F35: =((E35*100)/D35)-100 -> -15.570833
B37: =E6 -> 2009 | C37: =D6 -> 2008 | F37: =B37 -> 2009 | G37: =C37 -> 2008
A38: =A7 -> A CORUÑA | B38: =E7 -> 8797610 | C38: =D7 -> 9923906 | D38: =_xlfn.RANK.EQ(B38,$B$38:$B$65)+COUNTIF($B$38:$B$65,B38)-1 -> 12 | E38: =INDEX($A$38:$B$65,MATCH(ROW()-37,$D$38:$D$65,0),1) -> BAHIA DE ALGECIRAS | F38: =LOOKUP(E38,$A$38:$A$65,$B$38:$B$65) -> 51520932 | G38: =LOOKUP(E38,$A$38:$A$65,$C$38:$C$65) -> 55991254
A39: =A8 -> ALICANTE | B39: =E8 -> 1820156 | C39: =D8 -> 2241276 | D39: =_xlfn.RANK.EQ(B39,$B$38:$B$65)+COUNTIF($B$38:$B$65,B39)-1 -> 22 | E39: =INDEX($A$38:$B$65,MATCH(ROW()-37,$D$38:$D$65,0),1) -> VALENCIA | F39: =LOOKUP(E39,$A$38:$A$65,$B$38:$B$65) -> 43076116 | G39: =LOOKUP(E39,$A$38:$A$65,$C$38:$C$65) -> 45645393
A40: =A9 -> ALMERIA | B40: =E9 -> 3092372 | C40: =D9 -> 4172023 | D40: =_xlfn.RANK.EQ(B40,$B$38:$B$65)+COUNTIF($B$38:$B$65,B40)-1 -> 17 | E40: =INDEX($A$38:$B$65,MATCH(ROW()-37,$D$38:$D$65,0),1) -> BARCELONA | F40: =LOOKUP(E40,$A$38:$A$65,$B$38:$B$65) -> 32027356 | G40: =LOOKUP(E40,$A$38:$A$65,$C$38:$C$65) -> 40362921
A41: =A10 -> AVILES | B41: =E10 -> 2988813 | C41: =D10 -> 3856448 | D41: =_xlfn.RANK.EQ(B41,$B$38:$B$65)+COUNTIF($B$38:$B$65,B41)-1 -> 18 | E41: =INDEX($A$38:$B$65,MATCH(ROW()-37,$D$38:$D$65,0),1) -> BILBAO | F41: =LOOKUP(E41,$A$38:$A$65,$B$38:$B$65) -> 24067707 | G41: =LOOKUP(E41,$A$38:$A$65,$C$38:$C$65) -> 29955636
A42: =A11 -> BAHIA DE ALGECIRAS | B42: =E11 -> 51520932 | C42: =D11 -> 55991254 | D42: =_xlfn.RANK.EQ(B42,$B$38:$B$65)+COUNTIF($B$38:$B$65,B42)-1 -> 1 | E42: =INDEX($A$38:$B$65,MATCH(ROW()-37,$D$38:$D$65,0),1) -> TARRAGONA | F42: =LOOKUP(E42,$A$38:$A$65,$B$38:$B$65) -> 23235119 | G42: =LOOKUP(E42,$A$38:$A$65,$C$38:$C$65) -> 25781383
A43: =A12 -> BAHIA DE CADIZ | B43: =E12 -> 2916748 | C43: =D12 -> 3882516 | D43: =_xlfn.RANK.EQ(B43,$B$38:$B$65)+COUNTIF($B$38:$B$65,B43)-1 -> 19 | E43: =INDEX($A$38:$B$65,MATCH(ROW()-37,$D$38:$D$65,0),1) -> CARTAGENA | F43: =LOOKUP(E43,$A$38:$A$65,$B$38:$B$65) -> 16157158 | G43: =LOOKUP(E43,$A$38:$A$65,$C$38:$C$65) -> 20158233
A44: =A13 -> BALEARES | B44: =E13 -> 9274814 | C44: =D13 -> 10725138 | D44: =_xlfn.RANK.EQ(B44,$B$38:$B$65)+COUNTIF($B$38:$B$65,B44)-1 -> 11 | E44: =INDEX($A$38:$B$65,MATCH(ROW()-37,$D$38:$D$65,0),1) -> LAS PALMAS | F44: =LOOKUP(E44,$A$38:$A$65,$B$38:$B$65) -> 15724664 | G44: =LOOKUP(E44,$A$38:$A$65,$C$38:$C$65) -> 19640223
A45: =A14 -> BARCELONA | B45: =E14 -> 32027356 | C45: =D14 -> 40362921 | D45: =_xlfn.RANK.EQ(B45,$B$38:$B$65)+COUNTIF($B$38:$B$65,B45)-1 -> 3 | E45: =INDEX($A$38:$B$65,MATCH(ROW()-37,$D$38:$D$65,0),1) -> HUELVA | F45: =LOOKUP(E45,$A$38:$A$65,$B$38:$B$65) -> 12881957 | G45: =LOOKUP(E45,$A$38:$A$65,$C$38:$C$65) -> 14997518
A46: =A15 -> BILBAO | B46: =E15 -> 24067707 | C46: =D15 -> 29955636 | D46: =_xlfn.RANK.EQ(B46,$B$38:$B$65)+COUNTIF($B$38:$B$65,B46)-1 -> 4 | E46: =INDEX($A$38:$B$65,MATCH(ROW()-37,$D$38:$D$65,0),1) -> SANTA CRUZ DE TENERIFE | F46: =LOOKUP(E46,$A$38:$A$65,$B$38:$B$65) -> 12121384 | G46: =LOOKUP(E46,$A$38:$A$65,$C$38:$C$65) -> 13852022
A47: =A16 -> CARTAGENA | B47: =E16 -> 16157158 | C47: =D16 -> 20158233 | D47: =_xlfn.RANK.EQ(B47,$B$38:$B$65)+COUNTIF($B$38:$B$65,B47)-1 -> 6 | E47: =INDEX($A$38:$B$65,MATCH(ROW()-37,$D$38:$D$65,0),1) -> GIJON | F47: =LOOKUP(E47,$A$38:$A$65,$B$38:$B$65) -> 10293561 | G47: =LOOKUP(E47,$A$38:$A$65,$C$38:$C$65) -> 15019457
A48: =A17 -> CASTELLON | B48: =E17 -> 8159571 | C48: =D17 -> 10516640 | D48: =_xlfn.RANK.EQ(B48,$B$38:$B$65)+COUNTIF($B$38:$B$65,B48)-1 -> 14 | E48: =INDEX($A$38:$B$65,MATCH(ROW()-37,$D$38:$D$65,0),1) -> BALEARES | F48: =LOOKUP(E48,$A$38:$A$65,$B$38:$B$65) -> 9274814 | G48: =LOOKUP(E48,$A$38:$A$65,$C$38:$C$65) -> 10725138
A49: =A18 -> CEUTA | B49: =E18 -> 1694658 | C49: =D18 -> 2039156 | D49: =_xlfn.RANK.EQ(B49,$B$38:$B$65)+COUNTIF($B$38:$B$65,B49)-1 -> 23 | E49: =INDEX($A$38:$B$65,MATCH(ROW()-37,$D$38:$D$65,0),1) -> A CORUÑA | F49: =LOOKUP(E49,$A$38:$A$65,$B$38:$B$65) -> 8797610 | G49: =LOOKUP(E49,$A$38:$A$65,$C$38:$C$65) -> 9923906
... A65: =A34 -> VILAGARCIA | B65: =E34 -> 722091 | C65: =D34 -> 847720 | D65: =_xlfn.RANK.EQ(B65,$B$38:$B$65)+COUNTIF($B$38:$B$65,B65)-1 -> 27 | E65: =INDEX($A$38:$B$65,MATCH(ROW()-37,$D$38:$D$65,0),1) -> MELILLA | F65: =LOOKUP(E65,$A$38:$A$65,$B$38:$B$65) -> 614313 | G65: =LOOKUP(E65,$A$38:$A$65,$C$38:$C$65) -> 587614

Sheet Total presentación
F1: 1.1. MERCANCÍAS SEGÚN SU FORMA DE PRESENTACIÓN
J2: (Toneladas)
A5: Autoridad Portuaria | B5: ='Resumen general'!D6 -> Mes Septiembre | D5: ='Resumen general'!F6 -> Acumulado desde Enero | L5: ='Resumen general'!I4 -> 40120
B6: ='Resumen general'!D7 -> 2008 | C6: ='Resumen general'!E7 -> 2009 | D6: ='Resumen general'!F7 -> 2008 | E6: ='Resumen general'!G7 -> 2009 | F6: Var. (%)
A7: A CORUÑA | B7: 981289 | C7: 1003350 | D7: 9647604 | E7: 8513282 | F7: =((E7*100)/D7)-100 -> -11.757551
A8: ALICANTE | B8: 196784 | C8: 289493 | D8: 2212031 | E8: 1800507 | F8: =((E8*100)/D8)-100 -> -18.603898
A9: ALMERIA | B9: 274632 | C9: 121004 | D9: 3977081 | E9: 2989723 | F9: =((E9*100)/D9)-100 -> -24.826198
A10: AVILES | B10: 416570 | C10: 383558 | D10: 3806604 | E10: 2950319 | F10: =((E10*100)/D10)-100 -> -22.494722
A11: BAHIA DE ALGECIRAS | B11: 5452983 | C11: 5261615 | D11: 52274051 | E11: 47247781 | F11: =((E11*100)/D11)-100 -> -9.6152296
A12: BAHIA DE CADIZ | B12: 463442 | C12: 371668 | D12: 3789409 | E12: 2817199 | F12: =((E12*100)/D12)-100 -> -25.65598
A13: BALEARES | B13: 1101983 | C13: 1017752 | D13: 10532407 | E13: 9147198 | F13: =((E13*100)/D13)-100 -> -13.151875
A14: BARCELONA | B14: 3862909 | C14: 3352759 | D14: 39409531 | E14: 31099720 | F14: =((E14*100)/D14)-100 -> -21.08579
A15: BILBAO | B15: 3483608 | C15: 2624287 | D15: 29158180 | E15: 23711742 | F15: =((E15*100)/D15)-100 -> -18.678937
A16: CARTAGENA | B16: 1823579 | C16: 1552530 | D16: 20077849 | E16: 16111222 | F16: =((E16*100)/D16)-100 -> -19.756235
A17: CASTELLON | B17: 1111456 | C17: 632633 | D17: 10469934 | E17: 8128836 | F17: =((E17*100)/D17)-100 -> -22.360198
A18: CEUTA | B18: 153841 | C18: 116802 | D18: 1570559 | E18: 1361570 | F18: =((E18*100)/D18)-100 -> -13.306663
... A34: VILAGARCIA | B34: 84634 | C34: 86234 | D34: 843975 | E34: 716151 | F34: =((E34*100)/D34)-100 -> -15.145472
A35: Total | B35: =SUM(B7:B34) -> 36574157 | C35: =SUM(C7:C34) -> 32993863 | D35: =SUM(D7:D34) -> 352095239 | E35: =SUM(E7:E34) -> 295992146 | F35: =((E35*100)/D35)-100 -> -15.934067
B37: =E6 -> 2009 | C37: =D6 -> 2008 | F37: =B37 -> 2009 | G37: =C37 -> 2008
A38: =A7 -> A CORUÑA | B38: =E7 -> 8513282 | C38: =D7 -> 9647604 | D38: =_xlfn.RANK.EQ(B38,$B$38:$B$65)+COUNTIF($B$38:$B$65,B38)-1 -> 13 | E38: =INDEX($A$38:$B$65,MATCH(ROW()-37,$D$38:$D$65,0),1) -> BAHIA DE ALGECIRAS | F38: =LOOKUP(E38,$A$38:$A$65,$B$38:$B$65) -> 47247781 | G38: =LOOKUP(E38,$A$38:$A$65,$C$38:$C$65) -> 52274051
A39: =A8 -> ALICANTE | B39: =E8 -> 1800507 | C39: =D8 -> 2212031 | D39: =_xlfn.RANK.EQ(B39,$B$38:$B$65)+COUNTIF($B$38:$B$65,B39)-1 -> 22 | E39: =INDEX($A$38:$B$65,MATCH(ROW()-37,$D$38:$D$65,0),1) -> VALENCIA | F39: =LOOKUP(E39,$A$38:$A$65,$B$38:$B$65) -> 42859723 | G39: =LOOKUP(E39,$A$38:$A$65,$C$38:$C$65) -> 45405782
A40: =A9 -> ALMERIA | B40: =E9 -> 2989723 | C40: =D9 -> 3977081 | D40: =_xlfn.RANK.EQ(B40,$B$38:$B$65)+COUNTIF($B$38:$B$65,B40)-1 -> 17 | E40: =INDEX($A$38:$B$65,MATCH(ROW()-37,$D$38:$D$65,0),1) -> BARCELONA | F40: =LOOKUP(E40,$A$38:$A$65,$B$38:$B$65) -> 31099720 | G40: =LOOKUP(E40,$A$38:$A$65,$C$38:$C$65) -> 39409531
A41: =A10 -> AVILES | B41: =E10 -> 2950319 | C41: =D10 -> 3806604 | D41: =_xlfn.RANK.EQ(B41,$B$38:$B$65)+COUNTIF($B$38:$B$65,B41)-1 -> 18 | E41: =INDEX($A$38:$B$65,MATCH(ROW()-37,$D$38:$D$65,0),1) -> BILBAO | F41: =LOOKUP(E41,$A$38:$A$65,$B$38:$B$65) -> 23711742 | G41: =LOOKUP(E41,$A$38:$A$65,$C$38:$C$65) -> 29158180
A42: =A11 -> BAHIA DE ALGECIRAS | B42: =E11 -> 47247781 | C42: =D11 -> 52274051 | D42: =_xlfn.RANK.EQ(B42,$B$38:$B$65)+COUNTIF($B$38:$B$65,B42)-1 -> 1 | E42: =INDEX($A$38:$B$65,MATCH(ROW()-37,$D$38:$D$65,0),1) -> TARRAGONA | F42: =LOOKUP(E42,$A$38:$A$65,$B$38:$B$65) -> 22949563 | G42: =LOOKUP(E42,$A$38:$A$65,$C$38:$C$65) -> 25629878
A43: =A12 -> BAHIA DE CADIZ | B43: =E12 -> 2817199 | C43: =D12 -> 3789409 | D43: =_xlfn.RANK.EQ(B43,$B$38:$B$65)+COUNTIF($B$38:$B$65,B43)-1 -> 19 | E43: =INDEX($A$38:$B$65,MATCH(ROW()-37,$D$38:$D$65,0),1) -> CARTAGENA | F43: =LOOKUP(E43,$A$38:$A$65,$B$38:$B$65) -> 16111222 | G43: =LOOKUP(E43,$A$38:$A$65,$C$38:$C$65) -> 20077849
A44: =A13 -> BALEARES | B44: =E13 -> 9147198 | C44: =D13 -> 10532407 | D44: =_xlfn.RANK.EQ(B44,$B$38:$B$65)+COUNTIF($B$38:$B$65,B44)-1 -> 11 | E44: =INDEX($A$38:$B$65,MATCH(ROW()-37,$D$38:$D$65,0),1) -> LAS PALMAS | F44: =LOOKUP(E44,$A$38:$A$65,$B$38:$B$65) -> 14118502 | G44: =LOOKUP(E44,$A$38:$A$65,$C$38:$C$65) -> 18022196
A45: =A14 -> BARCELONA | B45: =E14 -> 31099720 | C45: =D14 -> 39409531 | D45: =_xlfn.RANK.EQ(B45,$B$38:$B$65)+COUNTIF($B$38:$B$65,B45)-1 -> 3 | E45: =INDEX($A$38:$B$65,MATCH(ROW()-37,$D$38:$D$65,0),1) -> HUELVA | F45: =LOOKUP(E45,$A$38:$A$65,$B$38:$B$65) -> 12847798 | G45: =LOOKUP(E45,$A$38:$A$65,$C$38:$C$65) -> 14953598
A46: =A15 -> BILBAO | B46: =E15 -> 23711742 | C46: =D15 -> 29158180 | D46: =_xlfn.RANK.EQ(B46,$B$38:$B$65)+COUNTIF($B$38:$B$65,B46)-1 -> 4 | E46: =INDEX($A$38:$B$65,MATCH(ROW()-37,$D$38:$D$65,0),1) -> SANTA CRUZ DE TENERIFE | F46: =LOOKUP(E46,$A$38:$A$65,$B$38:$B$65) -> 11382931 | G46: =LOOKUP(E46,$A$38:$A$65,$C$38:$C$65) -> 13012858
A47: =A16 -> CARTAGENA | B47: =E16 -> 16111222 | C47: =D16 -> 20077849 | D47: =_xlfn.RANK.EQ(B47,$B$38:$B$65)+COUNTIF($B$38:$B$65,B47)-1 -> 6 | E47: =INDEX($A$38:$B$65,MATCH(ROW()-37,$D$38:$D$65,0),1) -> GIJON | F47: =LOOKUP(E47,$A$38:$A$65,$B$38:$B$65) -> 10198155 | G47: =LOOKUP(E47,$A$38:$A$65,$C$38:$C$65) -> 14916967
A48: =A17 -> CASTELLON | B48: =E17 -> 8128836 | C48: =D17 -> 10469934 | D48: =_xlfn.RANK.EQ(B48,$B$38:$B$65)+COUNTIF($B$38:$B$65,B48)-1 -> 14 | E48: =INDEX($A$38:$B$65,MATCH(ROW()-37,$D$38:$D$65,0),1) -> BALEARES | F48: =LOOKUP(E48,$A$38:$A$65,$B$38:$B$65) -> 9147198 | G48: =LOOKUP(E48,$A$38:$A$65,$C$38:$C$65) -> 10532407
A49: =A18 -> CEUTA | B49: =E18 -> 1361570 | C49: =D18 -> 1570559 | D49: =_xlfn.RANK.EQ(B49,$B$38:$B$65)+COUNTIF($B$38:$B$65,B49)-1 -> 25 | E49: =INDEX($A$38:$B$65,MATCH(ROW()-37,$D$38:$D$65,0),1) -> FERROL-SAN CIBRAO | F49: =LOOKUP(E49,$A$38:$A$65,$B$38:$B$65) -> 8783211 | G49: =LOOKUP(E49,$A$38:$A$65,$C$38:$C$65) -> 9918482
... A65: =A34 -> VILAGARCIA | B65: =E34 -> 716151 | C65: =D34 -> 843975 | D65: =_xlfn.RANK.EQ(B65,$B$38:$B$65)+COUNTIF($B$38:$B$65,B65)-1 -> 27 | E65: =INDEX($A$38:$B$65,MATCH(ROW()-37,$D$38:$D$65,0),1) -> MELILLA | F65: =LOOKUP(E65,$A$38:$A$65,$B$38:$B$65) -> 612532 | G65: =LOOKUP(E65,$A$38:$A$65,$C$38:$C$65) -> 567991

Sheet Líquidos
F1: 2. GRANELES LÍQUIDOS (Toneladas)
A5: Autoridad Portuaria | B5: ='Resumen general'!D6 -> Mes Septiembre | D5: ='Resumen general'!F6 -> Acumulado desde Enero | L5: ='Resumen general'!I4 -> 40120
B6: ='Resumen general'!D7 -> 2008 | C6: ='Resumen general'!E7 -> 2009 | D6: ='Resumen general'!F7 -> 2008 | E6: ='Resumen general'!G7 -> 2009 | F6: Var. (%)
A7: A CORUÑA | B7: 519563 | C7: 546563 | D7: 5808952 | E7: 4993943 | F7: =((E7*100)/D7)-100 -> -14.030224
A8: ALICANTE | B8: 3000 | C8: 15291 | D8: 81566 | E8: 88288 | F8: =((E8*100)/D8)-100 -> 8.2411789
A9: ALMERIA | B9: 0 | C9: 0 | D9: 1700 | E9: 0 | F9: =((E9*100)/D9)-100 -> -100
A10: AVILES | B10: 50905 | C10: 70909 | D10: 425096 | E10: 508179 | F10: =((E10*100)/D10)-100 -> 19.544526
A11: BAHIA DE ALGECIRAS | B11: 1748456 | C11: 1573600 | D11: 15251802 | E11: 14510583 | F11: =((E11*100)/D11)-100 -> -4.8598782
A12: BAHIA DE CADIZ | B12: 10711 | C12: 13123 | D12: 147028 | E12: 102304 | F12: =((E12*100)/D12)-100 -> -30.418696
A13: BALEARES | B13: 247042 | C13: 210835 | D13: 1659282 | E13: 1621551 | F13: =((E13*100)/D13)-100 -> -2.2739354
A14: BARCELONA | B14: 742820 | C14: 904566 | D14: 9159978 | E14: 8760570 | F14: =((E14*100)/D14)-100 -> -4.3603598
A15: BILBAO | B15: 2126514 | C15: 1552074 | D15: 17552487 | E15: 15894007 | F15: =((E15*100)/D15)-100 -> -9.4486895
A16: CARTAGENA | B16: 1550657 | C16: 1150899 | D16: 15605508 | E16: 12884758 | F16: =((E16*100)/D16)-100 -> -17.434549
A17: CASTELLON | B17: 654693 | C17: 397243 | D17: 5866709 | E17: 5846523 | F17: =((E17*100)/D17)-100 -> -0.34407706
A18: CEUTA | B18: 58532 | C18: 37446 | D18: 784149 | E18: 609047 | F18: =((E18*100)/D18)-100 -> -22.330195
... A34: VILAGARCIA | B34: 9833 | C34: 18642 | D34: 238534 | E34: 174199 | F34: =((E34*100)/D34)-100 -> -26.970998
A35: Total | B35: =SUM(B7:B34) -> 12215718 | C35: =SUM(C7:C34) -> 11299162 | D35: =SUM(D7:D34) -> 116859089 | E35: =SUM(E7:E34) -> 108059907 | F35: =((E35*100)/D35)-100 -> -7.5297369
B37: =E6 -> 2009 | C37: =D6 -> 2008 | F37: =B37 -> 2009 | G37: =C37 -> 2008
A38: =A7 -> A CORUÑA | B38: =E7 -> 4993943 | C38: =D7 -> 5808952 | D38: =_xlfn.RANK.EQ(B38,$B$38:$B$65)+COUNTIF($B$38:$B$65,B38)-1 -> 9 | E38: =INDEX($A$38:$B$65,MATCH(ROW()-37,$D$38:$D$65,0),1) -> BILBAO | F38: =LOOKUP(E38,$A$38:$A$65,$B$38:$B$65) -> 15894007 | G38: =LOOKUP(E38,$A$38:$A$65,$C$38:$C$65) -> 17552487
A39: =A8 -> ALICANTE | B39: =E8 -> 88288 | C39: =D8 -> 81566 | D39: =_xlfn.RANK.EQ(B39,$B$38:$B$65)+COUNTIF($B$38:$B$65,B39)-1 -> 22 | E39: =INDEX($A$38:$B$65,MATCH(ROW()-37,$D$38:$D$65,0),1) -> BAHIA DE ALGECIRAS | F39: =LOOKUP(E39,$A$38:$A$65,$B$38:$B$65) -> 14510583 | G39: =LOOKUP(E39,$A$38:$A$65,$C$38:$C$65) -> 15251802
A40: =A9 -> ALMERIA | B40: =E9 -> 0 | C40: =D9 -> 1700 | D40: =_xlfn.RANK.EQ(B40,$B$38:$B$65)+COUNTIF($B$38:$B$65,B40)-1 -> 28 | E40: =INDEX($A$38:$B$65,MATCH(ROW()-37,$D$38:$D$65,0),1) -> TARRAGONA | F40: =LOOKUP(E40,$A$38:$A$65,$B$38:$B$65) -> 13731946 | G40: =LOOKUP(E40,$A$38:$A$65,$C$38:$C$65) -> 14707517
A41: =A10 -> AVILES | B41: =E10 -> 508179 | C41: =D10 -> 425096 | D41: =_xlfn.RANK.EQ(B41,$B$38:$B$65)+COUNTIF($B$38:$B$65,B41)-1 -> 17 | E41: =INDEX($A$38:$B$65,MATCH(ROW()-37,$D$38:$D$65,0),1) -> CARTAGENA | F41: =LOOKUP(E41,$A$38:$A$65,$B$38:$B$65) -> 12884758 | G41: =LOOKUP(E41,$A$38:$A$65,$C$38:$C$65) -> 15605508
A42: =A11 -> BAHIA DE ALGECIRAS | B42: =E11 -> 14510583 | C42: =D11 -> 15251802 | D42: =_xlfn.RANK.EQ(B42,$B$38:$B$65)+COUNTIF($B$38:$B$65,B42)-1 -> 2 | E42: =INDEX($A$38:$B$65,MATCH(ROW()-37,$D$38:$D$65,0),1) -> HUELVA | F42: =LOOKUP(E42,$A$38:$A$65,$B$38:$B$65) -> 9629354 | G42: =LOOKUP(E42,$A$38:$A$65,$C$38:$C$65) -> 9928874
A43: =A12 -> BAHIA DE CADIZ | B43: =E12 -> 102304 | C43: =D12 -> 147028 | D43: =_xlfn.RANK.EQ(B43,$B$38:$B$65)+COUNTIF($B$38:$B$65,B43)-1 -> 21 | E43: =INDEX($A$38:$B$65,MATCH(ROW()-37,$D$38:$D$65,0),1) -> BARCELONA | F43: =LOOKUP(E43,$A$38:$A$65,$B$38:$B$65) -> 8760570 | G43: =LOOKUP(E43,$A$38:$A$65,$C$38:$C$65) -> 9159978
A44: =A13 -> BALEARES | B44: =E13 -> 1621551 | C44: =D13 -> 1659282 | D44: =_xlfn.RANK.EQ(B44,$B$38:$B$65)+COUNTIF($B$38:$B$65,B44)-1 -> 13 | E44: =INDEX($A$38:$B$65,MATCH(ROW()-37,$D$38:$D$65,0),1) -> SANTA CRUZ DE TENERIFE | F44: =LOOKUP(E44,$A$38:$A$65,$B$38:$B$65) -> 6474815 | G44: =LOOKUP(E44,$A$38:$A$65,$C$38:$C$65) -> 6997195
A45: =A14 -> BARCELONA | B45: =E14 -> 8760570 | C45: =D14 -> 9159978 | D45: =_xlfn.RANK.EQ(B45,$B$38:$B$65)+COUNTIF($B$38:$B$65,B45)-1 -> 6 | E45: =INDEX($A$38:$B$65,MATCH(ROW()-37,$D$38:$D$65,0),1) -> CASTELLON | F45: =LOOKUP(E45,$A$38:$A$65,$B$38:$B$65) -> 5846523 | G45: =LOOKUP(E45,$A$38:$A$65,$C$38:$C$65) -> 5866709
A46: =A15 -> BILBAO | B46: =E15 -> 15894007 | C46: =D15 -> 17552487 | D46: =_xlfn.RANK.EQ(B46,$B$38:$B$65)+COUNTIF($B$38:$B$65,B46)-1 -> 1 | E46: =INDEX($A$38:$B$65,MATCH(ROW()-37,$D$38:$D$65,0),1) -> A CORUÑA | F46: =LOOKUP(E46,$A$38:$A$65,$B$38:$B$65) -> 4993943 | G46: =LOOKUP(E46,$A$38:$A$65,$C$38:$C$65) -> 5808952
A47: =A16 -> CARTAGENA | B47: =E16 -> 12884758 | C47: =D16 -> 15605508 | D47: =_xlfn.RANK.EQ(B47,$B$38:$B$65)+COUNTIF($B$38:$B$65,B47)-1 -> 4 | E47: =INDEX($A$38:$B$65,MATCH(ROW()-37,$D$38:$D$65,0),1) -> VALENCIA | F47: =LOOKUP(E47,$A$38:$A$65,$B$38:$B$65) -> 4510975 | G47: =LOOKUP(E47,$A$38:$A$65,$C$38:$C$65) -> 4542542
A48: =A17 -> CASTELLON | B48: =E17 -> 5846523 | C48: =D17 -> 5866709 | D48: =_xlfn.RANK.EQ(B48,$B$38:$B$65)+COUNTIF($B$38:$B$65,B48)-1 -> 8 | E48: =INDEX($A$38:$B$65,MATCH(ROW()-37,$D$38:$D$65,0),1) -> LAS PALMAS | F48: =LOOKUP(E48,$A$38:$A$65,$B$38:$B$65) -> 3411489 | G48: =LOOKUP(E48,$A$38:$A$65,$C$38:$C$65) -> 3587074
A49: =A18 -> CEUTA | B49: =E18 -> 609047 | C49: =D18 -> 784149 | D49: =_xlfn.RANK.EQ(B49,$B$38:$B$65)+COUNTIF($B$38:$B$65,B49)-1 -> 16 | E49: =INDEX($A$38:$B$65,MATCH(ROW()-37,$D$38:$D$65,0),1) -> FERROL-SAN CIBRAO | F49: =LOOKUP(E49,$A$38:$A$65,$B$38:$B$65) -> 1738615 | G49: =LOOKUP(E49,$A$38:$A$65,$C$38:$C$65) -> 1698706
... A65: =A34 -> VILAGARCIA | B65: =E34 -> 174199 | C65: =D34 -> 238534 | D65: =_xlfn.RANK.EQ(B65,$B$38:$B$65)+COUNTIF($B$38:$B$65,B65)-1 -> 19 | E65: =INDEX($A$38:$B$65,MATCH(ROW()-37,$D$38:$D$65,0),1) -> ALMERIA | F65: =LOOKUP(E65,$A$38:$A$65,$B$38:$B$65) -> 0 | G65: =LOOKUP(E65,$A$38:$A$65,$C$38:$C$65) -> 1700

Sheet Sólidos
F1: 3. GRANELES SÓLIDOS (Toneladas)
A5: Autoridad Portuaria | B5: ='Resumen general'!D6 -> Mes Septiembre | D5: ='Resumen general'!F6 -> Acumulado desde Enero | L5: ='Resumen general'!I4 -> 40120
B6: ='Resumen general'!D7 -> 2008 | C6: ='Resumen general'!E7 -> 2009 | D6: ='Resumen general'!F7 -> 2008 | E6: ='Resumen general'!G7 -> 2009 | F6: Var. (%)
A7: A CORUÑA | B7: 311544 | C7: 375167 | D7: 2597543 | E7: 2334517 | F7: =((E7*100)/D7)-100 -> -10.125954
A8: ALICANTE | B8: 73422 | C8: 163084 | D8: 912118 | E8: 762833 | F8: =((E8*100)/D8)-100 -> -16.366852
A9: ALMERIA | B9: 206165 | C9: 76212 | D9: 3465797 | E9: 2591614 | F9: =((E9*100)/D9)-100 -> -25.223145
A10: AVILES | B10: 275140 | C10: 253724 | D10: 2419980 | E10: 1746444 | F10: =((E10*100)/D10)-100 -> -27.832296
A11: BAHIA DE ALGECIRAS | B11: 51489 | C11: 259425 | D11: 1223227 | E11: 1364322 | F11: =((E11*100)/D11)-100 -> 11.534654
A12: BAHIA DE CADIZ | B12: 249811 | C12: 201664 | D12: 1642795 | E12: 1168666 | F12: =((E12*100)/D12)-100 -> -28.861118
A13: BALEARES | B13: 161163 | C13: 146720 | D13: 1651659 | E13: 1309374 | F13: =((E13*100)/D13)-100 -> -20.723709
A14: BARCELONA | B14: 361836 | C14: 311477 | D14: 2742324 | E14: 2936376 | F14: =((E14*100)/D14)-100 -> 7.0761879
A15: BILBAO | B15: 504759 | C15: 472818 | D15: 4245366 | E15: 2661141 | F15: =((E15*100)/D15)-100 -> -37.316571
A16: CARTAGENA | B16: 208610 | C16: 333790 | D16: 3747955 | E16: 2691899 | F16: =((E16*100)/D16)-100 -> -28.176859
A17: CASTELLON | B17: 325044 | C17: 139339 | D17: 3271616 | E17: 1316687 | F17: =((E17*100)/D17)-100 -> -59.754232
A18: CEUTA | B18: 5771 | C18: 6211 | D18: 51715 | E18: 52871 | F18: =((E18*100)/D18)-100 -> 2.2353282
... A34: VILAGARCIA | B34: 34614 | C34: 49222 | D34: 382826 | E34: 339715 | F34: =((E34*100)/D34)-100 -> -11.261252
A35: Total | B35: =SUM(B7:B34) -> 7526341 | C35: =SUM(C7:C34) -> 7087240 | D35: =SUM(D7:D34) -> 79346364 | E35: =SUM(E7:E34) -> 57405321 | F35: =((E35*100)/D35)-100 -> -27.652235
B37: =E6 -> 2009 | C37: =D6 -> 2008 | F37: =B37 -> 2009 | G37: =C37 -> 2008
A38: =A7 -> A CORUÑA | B38: =E7 -> 2334517 | C38: =D7 -> 2597543 | D38: =_xlfn.RANK.EQ(B38,$B$38:$B$65)+COUNTIF($B$38:$B$65,B38)-1 -> 10 | E38: =INDEX($A$38:$B$65,MATCH(ROW()-37,$D$38:$D$65,0),1) -> GIJON | F38: =LOOKUP(E38,$A$38:$A$65,$B$38:$B$65) -> 8741394 | G38: =LOOKUP(E38,$A$38:$A$65,$C$38:$C$65) -> 13153984
A39: =A8 -> ALICANTE | B39: =E8 -> 762833 | C39: =D8 -> 912118 | D39: =_xlfn.RANK.EQ(B39,$B$38:$B$65)+COUNTIF($B$38:$B$65,B39)-1 -> 19 | E39: =INDEX($A$38:$B$65,MATCH(ROW()-37,$D$38:$D$65,0),1) -> TARRAGONA | F39: =LOOKUP(E39,$A$38:$A$65,$B$38:$B$65) -> 7194059 | G39: =LOOKUP(E39,$A$38:$A$65,$C$38:$C$65) -> 9713105
A40: =A9 -> ALMERIA | B40: =E9 -> 2591614 | C40: =D9 -> 3465797 | D40: =_xlfn.RANK.EQ(B40,$B$38:$B$65)+COUNTIF($B$38:$B$65,B40)-1 -> 8 | E40: =INDEX($A$38:$B$65,MATCH(ROW()-37,$D$38:$D$65,0),1) -> FERROL-SAN CIBRAO | F40: =LOOKUP(E40,$A$38:$A$65,$B$38:$B$65) -> 6633037 | G40: =LOOKUP(E40,$A$38:$A$65,$C$38:$C$65) -> 7593925
A41: =A10 -> AVILES | B41: =E10 -> 1746444 | C41: =D10 -> 2419980 | D41: =_xlfn.RANK.EQ(B41,$B$38:$B$65)+COUNTIF($B$38:$B$65,B41)-1 -> 12 | E41: =INDEX($A$38:$B$65,MATCH(ROW()-37,$D$38:$D$65,0),1) -> HUELVA | F41: =LOOKUP(E41,$A$38:$A$65,$B$38:$B$65) -> 3006218 | G41: =LOOKUP(E41,$A$38:$A$65,$C$38:$C$65) -> 4721286
A42: =A11 -> BAHIA DE ALGECIRAS | B42: =E11 -> 1364322 | C42: =D11 -> 1223227 | D42: =_xlfn.RANK.EQ(B42,$B$38:$B$65)+COUNTIF($B$38:$B$65,B42)-1 -> 14 | E42: =INDEX($A$38:$B$65,MATCH(ROW()-37,$D$38:$D$65,0),1) -> BARCELONA | F42: =LOOKUP(E42,$A$38:$A$65,$B$38:$B$65) -> 2936376 | G42: =LOOKUP(E42,$A$38:$A$65,$C$38:$C$65) -> 2742324
A43: =A12 -> BAHIA DE CADIZ | B43: =E12 -> 1168666 | C43: =D12 -> 1642795 | D43: =_xlfn.RANK.EQ(B43,$B$38:$B$65)+COUNTIF($B$38:$B$65,B43)-1 -> 18 | E43: =INDEX($A$38:$B$65,MATCH(ROW()-37,$D$38:$D$65,0),1) -> CARTAGENA | F43: =LOOKUP(E43,$A$38:$A$65,$B$38:$B$65) -> 2691899 | G43: =LOOKUP(E43,$A$38:$A$65,$C$38:$C$65) -> 3747955
A44: =A13 -> BALEARES | B44: =E13 -> 1309374 | C44: =D13 -> 1651659 | D44: =_xlfn.RANK.EQ(B44,$B$38:$B$65)+COUNTIF($B$38:$B$65,B44)-1 -> 16 | E44: =INDEX($A$38:$B$65,MATCH(ROW()-37,$D$38:$D$65,0),1) -> BILBAO | F44: =LOOKUP(E44,$A$38:$A$65,$B$38:$B$65) -> 2661141 | G44: =LOOKUP(E44,$A$38:$A$65,$C$38:$C$65) -> 4245366
A45: =A14 -> BARCELONA | B45: =E14 -> 2936376 | C45: =D14 -> 2742324 | D45: =_xlfn.RANK.EQ(B45,$B$38:$B$65)+COUNTIF($B$38:$B$65,B45)-1 -> 5 | E45: =INDEX($A$38:$B$65,MATCH(ROW()-37,$D$38:$D$65,0),1) -> ALMERIA | F45: =LOOKUP(E45,$A$38:$A$65,$B$38:$B$65) -> 2591614 | G45: =LOOKUP(E45,$A$38:$A$65,$C$38:$C$65) -> 3465797
A46: =A15 -> BILBAO | B46: =E15 -> 2661141 | C46: =D15 -> 4245366 | D46: =_xlfn.RANK.EQ(B46,$B$38:$B$65)+COUNTIF($B$38:$B$65,B46)-1 -> 7 | E46: =INDEX($A$38:$B$65,MATCH(ROW()-37,$D$38:$D$65,0),1) -> VALENCIA | F46: =LOOKUP(E46,$A$38:$A$65,$B$38:$B$65) -> 2541372 | G46: =LOOKUP(E46,$A$38:$A$65,$C$38:$C$65) -> 4264525
A47: =A16 -> CARTAGENA | B47: =E16 -> 2691899 | C47: =D16 -> 3747955 | D47: =_xlfn.RANK.EQ(B47,$B$38:$B$65)+COUNTIF($B$38:$B$65,B47)-1 -> 6 | E47: =INDEX($A$38:$B$65,MATCH(ROW()-37,$D$38:$D$65,0),1) -> A CORUÑA | F47: =LOOKUP(E47,$A$38:$A$65,$B$38:$B$65) -> 2334517 | G47: =LOOKUP(E47,$A$38:$A$65,$C$38:$C$65) -> 2597543
A48: =A17 -> CASTELLON | B48: =E17 -> 1316687 | C48: =D17 -> 3271616 | D48: =_xlfn.RANK.EQ(B48,$B$38:$B$65)+COUNTIF($B$38:$B$65,B48)-1 -> 15 | E48: =INDEX($A$38:$B$65,MATCH(ROW()-37,$D$38:$D$65,0),1) -> SANTANDER | F48: =LOOKUP(E48,$A$38:$A$65,$B$38:$B$65) -> 2125948 | G48: =LOOKUP(E48,$A$38:$A$65,$C$38:$C$65) -> 2951811
A49: =A18 -> CEUTA | B49: =E18 -> 52871 | C49: =D18 -> 51715 | D49: =_xlfn.RANK.EQ(B49,$B$38:$B$65)+COUNTIF($B$38:$B$65,B49)-1 -> 27 | E49: =INDEX($A$38:$B$65,MATCH(ROW()-37,$D$38:$D$65,0),1) -> AVILES | F49: =LOOKUP(E49,$A$38:$A$65,$B$38:$B$65) -> 1746444 | G49: =LOOKUP(E49,$A$38:$A$65,$C$38:$C$65) -> 2419980
... A65: =A34 -> VILAGARCIA | B65: =E34 -> 339715 | C65: =D34 -> 382826 | D65: =_xlfn.RANK.EQ(B65,$B$38:$B$65)+COUNTIF($B$38:$B$65,B65)-1 -> 25 | E65: =INDEX($A$38:$B$65,MATCH(ROW()-37,$D$38:$D$65,0),1) -> MELILLA | F65: =LOOKUP(E65,$A$38:$A$65,$B$38:$B$65) -> 22862 | G65: =LOOKUP(E65,$A$38:$A$65,$C$38:$C$65) -> 28208

Sheet Mercancía general
F1: 4. MERCANCÍA GENERAL (Toneladas)
A5: Autoridad Portuaria | B5: ='Resumen general'!D6 -> Mes Septiembre | D5: ='Resumen general'!F6 -> Acumulado desde Enero | L5: ='Resumen general'!I4 -> 40120
B6: ='Resumen general'!D7 -> 2008 | C6: ='Resumen general'!E7 -> 2009 | D6: ='Resumen general'!F7 -> 2008 | E6: ='Resumen general'!G7 -> 2009 | F6: Var. (%)
A7: A CORUÑA | B7: 150182 | C7: 81620 | D7: 1241109 | E7: 1184822 | F7: =((E7*100)/D7)-100 -> -4.5352181
A8: ALICANTE | B8: 120362 | C8: 111118 | D8: 1218347 | E8: 949386 | F8: =((E8*100)/D8)-100 -> -22.075895
A9: ALMERIA | B9: 68467 | C9: 44792 | D9: 509584 | E9: 398109 | F9: =((E9*100)/D9)-100 -> -21.875687
A10: AVILES | B10: 90525 | C10: 58925 | D10: 961528 | E10: 695696 | F10: =((E10*100)/D10)-100 -> -27.646829
A11: BAHIA DE ALGECIRAS | B11: 3653038 | C11: 3428590 | D11: 35799022 | E11: 31372876 | F11: =((E11*100)/D11)-100 -> -12.363874
A12: BAHIA DE CADIZ | B12: 202920 | C12: 156881 | D12: 1999586 | E12: 1546229 | F12: =((E12*100)/D12)-100 -> -22.672543
A13: BALEARES | B13: 693778 | C13: 660197 | D13: 7221466 | E13: 6216273 | F13: =((E13*100)/D13)-100 -> -13.919514
A14: BARCELONA | B14: 2758253 | C14: 2136716 | D14: 27507229 | E14: 19402774 | F14: =((E14*100)/D14)-100 -> -29.463
A15: BILBAO | B15: 852335 | C15: 599395 | D15: 7360327 | E15: 5156594 | F15: =((E15*100)/D15)-100 -> -29.940694
A16: CARTAGENA | B16: 64312 | C16: 67841 | D16: 724386 | E16: 534565 | F16: =((E16*100)/D16)-100 -> -26.204399
A17: CASTELLON | B17: 131719 | C17: 96051 | D17: 1331609 | E17: 965626 | F17: =((E17*100)/D17)-100 -> -27.484269
A18: CEUTA | B18: 89538 | C18: 73145 | D18: 734695 | E18: 699652 | F18: =((E18*100)/D18)-100 -> -4.7697344
... A34: VILAGARCIA | B34: 40187 | C34: 18370 | D34: 222615 | E34: 202237 | F34: =((E34*100)/D34)-100 -> -9.1539204
A35: Total | B35: =SUM(B7:B34) -> 16832098 | C35: =SUM(C7:C34) -> 14607461 | D35: =SUM(D7:D34) -> 155889786 | E35: =SUM(E7:E34) -> 130526918 | F35: =((E35*100)/D35)-100 -> -16.269743
B37: =E6 -> 2009 | C37: =D6 -> 2008 | F37: =B37 -> 2009 | G37: =C37 -> 2008
A38: =A7 -> A CORUÑA | B38: =E7 -> 1184822 | C38: =D7 -> 1241109 | D38: =_xlfn.RANK.EQ(B38,$B$38:$B$65)+COUNTIF($B$38:$B$65,B38)-1 -> 13 | E38: =INDEX($A$38:$B$65,MATCH(ROW()-37,$D$38:$D$65,0),1) -> VALENCIA | F38: =LOOKUP(E38,$A$38:$A$65,$B$38:$B$65) -> 35807376 | G38: =LOOKUP(E38,$A$38:$A$65,$C$38:$C$65) -> 36598715
A39: =A8 -> ALICANTE | B39: =E8 -> 949386 | C39: =D8 -> 1218347 | D39: =_xlfn.RANK.EQ(B39,$B$38:$B$65)+COUNTIF($B$38:$B$65,B39)-1 -> 15 | E39: =INDEX($A$38:$B$65,MATCH(ROW()-37,$D$38:$D$65,0),1) -> BAHIA DE ALGECIRAS | F39: =LOOKUP(E39,$A$38:$A$65,$B$38:$B$65) -> 31372876 | G39: =LOOKUP(E39,$A$38:$A$65,$C$38:$C$65) -> 35799022
A40: =A9 -> ALMERIA | B40: =E9 -> 398109 | C40: =D9 -> 509584 | D40: =_xlfn.RANK.EQ(B40,$B$38:$B$65)+COUNTIF($B$38:$B$65,B40)-1 -> 25 | E40: =INDEX($A$38:$B$65,MATCH(ROW()-37,$D$38:$D$65,0),1) -> BARCELONA | F40: =LOOKUP(E40,$A$38:$A$65,$B$38:$B$65) -> 19402774 | G40: =LOOKUP(E40,$A$38:$A$65,$C$38:$C$65) -> 27507229
A41: =A10 -> AVILES | B41: =E10 -> 695696 | C41: =D10 -> 961528 | D41: =_xlfn.RANK.EQ(B41,$B$38:$B$65)+COUNTIF($B$38:$B$65,B41)-1 -> 19 | E41: =INDEX($A$38:$B$65,MATCH(ROW()-37,$D$38:$D$65,0),1) -> LAS PALMAS | F41: =LOOKUP(E41,$A$38:$A$65,$B$38:$B$65) -> 10161354 | G41: =LOOKUP(E41,$A$38:$A$65,$C$38:$C$65) -> 13493478
A42: =A11 -> BAHIA DE ALGECIRAS | B42: =E11 -> 31372876 | C42: =D11 -> 35799022 | D42: =_xlfn.RANK.EQ(B42,$B$38:$B$65)+COUNTIF($B$38:$B$65,B42)-1 -> 2 | E42: =INDEX($A$38:$B$65,MATCH(ROW()-37,$D$38:$D$65,0),1) -> BALEARES | F42: =LOOKUP(E42,$A$38:$A$65,$B$38:$B$65) -> 6216273 | G42: =LOOKUP(E42,$A$38:$A$65,$C$38:$C$65) -> 7221466
A43: =A12 -> BAHIA DE CADIZ | B43: =E12 -> 1546229 | C43: =D12 -> 1999586 | D43: =_xlfn.RANK.EQ(B43,$B$38:$B$65)+COUNTIF($B$38:$B$65,B43)-1 -> 10 | E43: =INDEX($A$38:$B$65,MATCH(ROW()-37,$D$38:$D$65,0),1) -> BILBAO | F43: =LOOKUP(E43,$A$38:$A$65,$B$38:$B$65) -> 5156594 | G43: =LOOKUP(E43,$A$38:$A$65,$C$38:$C$65) -> 7360327
A44: =A13 -> BALEARES | B44: =E13 -> 6216273 | C44: =D13 -> 7221466 | D44: =_xlfn.RANK.EQ(B44,$B$38:$B$65)+COUNTIF($B$38:$B$65,B44)-1 -> 5 | E44: =INDEX($A$38:$B$65,MATCH(ROW()-37,$D$38:$D$65,0),1) -> SANTA CRUZ DE TENERIFE | F44: =LOOKUP(E44,$A$38:$A$65,$B$38:$B$65) -> 4272092 | G44: =LOOKUP(E44,$A$38:$A$65,$C$38:$C$65) -> 4894063
A45: =A14 -> BARCELONA | B45: =E14 -> 19402774 | C45: =D14 -> 27507229 | D45: =_xlfn.RANK.EQ(B45,$B$38:$B$65)+COUNTIF($B$38:$B$65,B45)-1 -> 3 | E45: =INDEX($A$38:$B$65,MATCH(ROW()-37,$D$38:$D$65,0),1) -> VIGO | F45: =LOOKUP(E45,$A$38:$A$65,$B$38:$B$65) -> 2277758 | G45: =LOOKUP(E45,$A$38:$A$65,$C$38:$C$65) -> 3209577
A46: =A15 -> BILBAO | B46: =E15 -> 5156594 | C46: =D15 -> 7360327 | D46: =_xlfn.RANK.EQ(B46,$B$38:$B$65)+COUNTIF($B$38:$B$65,B46)-1 -> 6 | E46: =INDEX($A$38:$B$65,MATCH(ROW()-37,$D$38:$D$65,0),1) -> TARRAGONA | F46: =LOOKUP(E46,$A$38:$A$65,$B$38:$B$65) -> 2023558 | G46: =LOOKUP(E46,$A$38:$A$65,$C$38:$C$65) -> 1209256
A47: =A16 -> CARTAGENA | B47: =E16 -> 534565 | C47: =D16 -> 724386 | D47: =_xlfn.RANK.EQ(B47,$B$38:$B$65)+COUNTIF($B$38:$B$65,B47)-1 -> 21 | E47: =INDEX($A$38:$B$65,MATCH(ROW()-37,$D$38:$D$65,0),1) -> BAHIA DE CADIZ | F47: =LOOKUP(E47,$A$38:$A$65,$B$38:$B$65) -> 1546229 | G47: =LOOKUP(E47,$A$38:$A$65,$C$38:$C$65) -> 1999586
A48: =A17 -> CASTELLON | B48: =E17 -> 965626 | C48: =D17 -> 1331609 | D48: =_xlfn.RANK.EQ(B48,$B$38:$B$65)+COUNTIF($B$38:$B$65,B48)-1 -> 14 | E48: =INDEX($A$38:$B$65,MATCH(ROW()-37,$D$38:$D$65,0),1) -> SEVILLA | F48: =LOOKUP(E48,$A$38:$A$65,$B$38:$B$65) -> 1399830 | G48: =LOOKUP(E48,$A$38:$A$65,$C$38:$C$65) -> 1521228
A49: =A18 -> CEUTA | B49: =E18 -> 699652 | C49: =D18 -> 734695 | D49: =_xlfn.RANK.EQ(B49,$B$38:$B$65)+COUNTIF($B$38:$B$65,B49)-1 -> 18 | E49: =INDEX($A$38:$B$65,MATCH(ROW()-37,$D$38:$D$65,0),1) -> PASAIA | F49: =LOOKUP(E49,$A$38:$A$65,$B$38:$B$65) -> 1255307 | G49: =LOOKUP(E49,$A$38:$A$65,$C$38:$C$65) -> 1766344
... A65: =A34 -> VILAGARCIA | B65: =E34 -> 202237 | C65: =D34 -> 222615 | D65: =_xlfn.RANK.EQ(B65,$B$38:$B$65)+COUNTIF($B$38:$B$65,B65)-1 -> 27 | E65: =INDEX($A$38:$B$65,MATCH(ROW()-37,$D$38:$D$65,0),1) -> MOTRIL | F65: =LOOKUP(E65,$A$38:$A$65,$B$38:$B$65) -> 115968 | G65: =LOOKUP(E65,$A$38:$A$65,$C$38:$C$65) -> 154975

Sheet Pesca
F1: 5. PESCA (Toneladas)
A5: Autoridad Portuaria | B5: ='Resumen general'!D6 -> Mes Septiembre | D5: ='Resumen general'!F6 -> Acumulado desde Enero | L5: ='Resumen general'!I4 -> 40120
B6: ='Resumen general'!D7 -> 2008 | C6: ='Resumen general'!E7 -> 2009 | D6: ='Resumen general'!F7 -> 2008 | E6: ='Resumen general'!G7 -> 2009 | F6: Var. (%)
A7: A CORUÑA | B7: 3432 | C7: 4429 | D7: 24828 | E7: 34606 | F7: =((E7*100)/D7)-100 -> 39.382955
A8: ALICANTE | B8: 65 | C8: 38 | D8: 555 | E8: 403 | F8: =((E8*100)/D8)-100 -> -27.387387
A9: ALMERIA | B9: 582 | C9: 286 | D9: 3374 | E9: 2228 | F9: =((E9*100)/D9)-100 -> -33.965619
A10: AVILES | B10: 965 | C10: 836 | D10: 10270 | E10: 11704 | F10: =((E10*100)/D10)-100 -> 13.962999
A11: BAHIA DE ALGECIRAS | B11: 266 | C11: 168 | D11: 1763 | E11: 1667 | F11: =((E11*100)/D11)-100 -> -5.4452638
A12: BAHIA DE CADIZ | B12: 1767 | C12: 1636 | D12: 13495 | E12: 15543 | F12: =((E12*100)/D12)-100 -> 15.175991
A13: BALEARES | B13: 254 | C13: 34 | D13: 2323 | E13: 846 | F13: =((E13*100)/D13)-100 -> -63.581576
A14: BARCELONA | B14: 0 | C14: 0 | D14: 509 | E14: 439 | F14: =((E14*100)/D14)-100 -> -13.752456
A15: BILBAO | B15: 0 | C15: 0 | D15: 0 | E15: 0 | F15: =((E15*100)/D15)-100 -> #DIV/0!
A16: CARTAGENA | B16: 91 | C16: 97 | D16: 940 | E16: 747 | F16: =((E16*100)/D16)-100 -> -20.531915
A17: CASTELLON | B17: 640 | C17: 577 | D17: 3412 | E17: 3981 | F17: =((E17*100)/D17)-100 -> 16.676436
A18: CEUTA | B18: 11 | C18: 28 | D18: 68 | E18: 56 | F18: =((E18*100)/D18)-100 -> -17.647059
... A34: VILAGARCIA | B34: 0 | C34: 0 | D34: 0 | E34: 0 | F34: =((E34*100)/D34)-100 -> #DIV/0!
A35: Total | B35: =SUM(B7:B34) -> 20696 | C35: =SUM(C7:C34) -> 20222 | D35: =SUM(D7:D34) -> 163741 | E35: =SUM(E7:E34) -> 183702 | F35: =((E35*100)/D35)-100 -> 12.190594
B37: =E6 -> 2009 | C37: =D6 -> 2008 | F37: =B37 -> 2009 | G37: =C37 -> 2008
A38: =A7 -> A CORUÑA | B38: =E7 -> 34606 | C38: =D7 -> 24828 | D38: =_xlfn.RANK.EQ(B38,$B$38:$B$65)+COUNTIF($B$38:$B$65,B38)-1 -> 2 | E38: =INDEX($A$38:$B$65,MATCH(ROW()-37,$D$38:$D$65,0),1) -> VIGO | F38: =LOOKUP(E38,$A$38:$A$65,$B$38:$B$65) -> 62902 | G38: =LOOKUP(E38,$A$38:$A$65,$C$38:$C$65) -> 63677
A39: =A8 -> ALICANTE | B39: =E8 -> 403 | C39: =D8 -> 555 | D39: =_xlfn.RANK.EQ(B39,$B$38:$B$65)+COUNTIF($B$38:$B$65,B39)-1 -> 22 | E39: =INDEX($A$38:$B$65,MATCH(ROW()-37,$D$38:$D$65,0),1) -> A CORUÑA | F39: =LOOKUP(E39,$A$38:$A$65,$B$38:$B$65) -> 34606 | G39: =LOOKUP(E39,$A$38:$A$65,$C$38:$C$65) -> 24828
A40: =A9 -> ALMERIA | B40: =E9 -> 2228 | C40: =D9 -> 3374 | D40: =_xlfn.RANK.EQ(B40,$B$38:$B$65)+COUNTIF($B$38:$B$65,B40)-1 -> 11 | E40: =INDEX($A$38:$B$65,MATCH(ROW()-37,$D$38:$D$65,0),1) -> BAHIA DE CADIZ | F40: =LOOKUP(E40,$A$38:$A$65,$B$38:$B$65) -> 15543 | G40: =LOOKUP(E40,$A$38:$A$65,$C$38:$C$65) -> 13495
A41: =A10 -> AVILES | B41: =E10 -> 11704 | C41: =D10 -> 10270 | D41: =_xlfn.RANK.EQ(B41,$B$38:$B$65)+COUNTIF($B$38:$B$65,B41)-1 -> 4 | E41: =INDEX($A$38:$B$65,MATCH(ROW()-37,$D$38:$D$65,0),1) -> AVILES | F41: =LOOKUP(E41,$A$38:$A$65,$B$38:$B$65) -> 11704 | G41: =LOOKUP(E41,$A$38:$A$65,$C$38:$C$65) -> 10270
A42: =A11 -> BAHIA DE ALGECIRAS | B42: =E11 -> 1667 | C42: =D11 -> 1763 | D42: =_xlfn.RANK.EQ(B42,$B$38:$B$65)+COUNTIF($B$38:$B$65,B42)-1 -> 16 | E42: =INDEX($A$38:$B$65,MATCH(ROW()-37,$D$38:$D$65,0),1) -> PASAIA | F42: =LOOKUP(E42,$A$38:$A$65,$B$38:$B$65) -> 11661 | G42: =LOOKUP(E42,$A$38:$A$65,$C$38:$C$65) -> 8610
A43: =A12 -> BAHIA DE CADIZ | B43: =E12 -> 15543 | C43: =D12 -> 13495 | D43: =_xlfn.RANK.EQ(B43,$B$38:$B$65)+COUNTIF($B$38:$B$65,B43)-1 -> 3 | E43: =INDEX($A$38:$B$65,MATCH(ROW()-37,$D$38:$D$65,0),1) -> SANTANDER | F43: =LOOKUP(E43,$A$38:$A$65,$B$38:$B$65) -> 10698 | G43: =LOOKUP(E43,$A$38:$A$65,$C$38:$C$65) -> 6490
A44: =A13 -> BALEARES | B44: =E13 -> 846 | C44: =D13 -> 2323 | D44: =_xlfn.RANK.EQ(B44,$B$38:$B$65)+COUNTIF($B$38:$B$65,B44)-1 -> 18 | E44: =INDEX($A$38:$B$65,MATCH(ROW()-37,$D$38:$D$65,0),1) -> GIJON | F44: =LOOKUP(E44,$A$38:$A$65,$B$38:$B$65) -> 9538 | G44: =LOOKUP(E44,$A$38:$A$65,$C$38:$C$65) -> 5416
A45: =A14 -> BARCELONA | B45: =E14 -> 439 | C45: =D14 -> 509 | D45: =_xlfn.RANK.EQ(B45,$B$38:$B$65)+COUNTIF($B$38:$B$65,B45)-1 -> 21 | E45: =INDEX($A$38:$B$65,MATCH(ROW()-37,$D$38:$D$65,0),1) -> CASTELLON | F45: =LOOKUP(E45,$A$38:$A$65,$B$38:$B$65) -> 3981 | G45: =LOOKUP(E45,$A$38:$A$65,$C$38:$C$65) -> 3412
A46: =A15 -> BILBAO | B46: =E15 -> 0 | C46: =D15 -> 0 | D46: =_xlfn.RANK.EQ(B46,$B$38:$B$65)+COUNTIF($B$38:$B$65,B46)-1 -> 28 | E46: =INDEX($A$38:$B$65,MATCH(ROW()-37,$D$38:$D$65,0),1) -> SANTA CRUZ DE TENERIFE | F46: =LOOKUP(E46,$A$38:$A$65,$B$38:$B$65) -> 3483 | G46: =LOOKUP(E46,$A$38:$A$65,$C$38:$C$65) -> 4480
A47: =A16 -> CARTAGENA | B47: =E16 -> 747 | C47: =D16 -> 940 | D47: =_xlfn.RANK.EQ(B47,$B$38:$B$65)+COUNTIF($B$38:$B$65,B47)-1 -> 20 | E47: =INDEX($A$38:$B$65,MATCH(ROW()-37,$D$38:$D$65,0),1) -> TARRAGONA | F47: =LOOKUP(E47,$A$38:$A$65,$B$38:$B$65) -> 3091 | G47: =LOOKUP(E47,$A$38:$A$65,$C$38:$C$65) -> 2640
A48: =A17 -> CASTELLON | B48: =E17 -> 3981 | C48: =D17 -> 3412 | D48: =_xlfn.RANK.EQ(B48,$B$38:$B$65)+COUNTIF($B$38:$B$65,B48)-1 -> 8 | E48: =INDEX($A$38:$B$65,MATCH(ROW()-37,$D$38:$D$65,0),1) -> ALMERIA | F48: =LOOKUP(E48,$A$38:$A$65,$B$38:$B$65) -> 2228 | G48: =LOOKUP(E48,$A$38:$A$65,$C$38:$C$65) -> 3374
A49: =A18 -> CEUTA | B49: =E18 -> 56 | C49: =D18 -> 68 | D49: =_xlfn.RANK.EQ(B49,$B$38:$B$65)+COUNTIF($B$38:$B$65,B49)-1 -> 24 | E49: =INDEX($A$38:$B$65,MATCH(ROW()-37,$D$38:$D$65,0),1) -> MARIN Y RIA DE PONTEVEDRA | F49: =LOOKUP(E49,$A$38:$A$65,$B$38:$B$65) -> 2091 | G49: =LOOKUP(E49,$A$38:$A$65,$C$38:$C$65) -> 2516
... A65: =A34 -> VILAGARCIA | B65: =E34 -> 0 | C65: =D34 -> 0 | D65: =_xlfn.RANK.EQ(B65,$B$38:$B$65)+COUNTIF($B$38:$B$65,B65)-1 -> 28 | E65: =INDEX($A$38:$B$65,MATCH(ROW()-37,$D$38:$D$65,0),1) -> BILBAO | F65: =LOOKUP(E65,$A$38:$A$65,$B$38:$B$65) -> 0 | G65: =LOOKUP(E65,$A$38:$A$65,$C$38:$C$65) -> 0

Sheet Avituallamiento
F1: 6. AVITUALLAMIENTO (Toneladas)
A5: Autoridad Portuaria | B5: ='Resumen general'!D6 -> Mes Septiembre | D5: ='Resumen general'!F6 -> Acumulado desde Enero | L5: ='Resumen general'!I4 -> 40120
B6: ='Resumen general'!D7 -> 2008 | C6: ='Resumen general'!E7 -> 2009 | D6: ='Resumen general'!F7 -> 2008 | E6: ='Resumen general'!G7 -> 2009 | F6: Var. (%)
A7: A CORUÑA | B7: 4086 | C7: 3964 | D7: 54313 | E7: 40906 | F7: =((E7*100)/D7)-100 -> -24.684698
A8: ALICANTE | B8: 1586 | C8: 1408 | D8: 28690 | E8: 19246 | F8: =((E8*100)/D8)-100 -> -32.917393
A9: ALMERIA | B9: 14314 | C9: 8630 | D9: 127139 | E9: 100421 | F9: =((E9*100)/D9)-100 -> -21.014795
A10: AVILES | B10: 6039 | C10: 2258 | D10: 39574 | E10: 26790 | F10: =((E10*100)/D10)-100 -> -32.304038
A11: BAHIA DE ALGECIRAS | B11: 291710 | C11: 264367 | D11: 2327153 | E11: 2552057 | F11: =((E11*100)/D11)-100 -> 9.6643409
A12: BAHIA DE CADIZ | B12: 13584 | C12: 13568 | D12: 79612 | E12: 83892 | F12: =((E12*100)/D12)-100 -> 5.376074
A13: BALEARES | B13: 33072 | C13: 23482 | D13: 190359 | E13: 125990 | F13: =((E13*100)/D13)-100 -> -33.814529
A14: BARCELONA | B14: 91106 | C14: 111221 | D14: 952881 | E14: 927197 | F14: =((E14*100)/D14)-100 -> -2.6954048
A15: BILBAO | B15: 12565 | C15: 10930 | D15: 118126 | E15: 94895 | F15: =((E15*100)/D15)-100 -> -19.666289
A16: CARTAGENA | B16: 10176 | C16: 4468 | D16: 76294 | E16: 38465 | F16: =((E16*100)/D16)-100 -> -49.583191
A17: CASTELLON | B17: 3914 | C17: 2810 | D17: 43294 | E17: 26754 | F17: =((E17*100)/D17)-100 -> -38.203908
A18: CEUTA | B18: 52811 | C18: 1910 | D18: 468228 | E18: 332424 | F18: =((E18*100)/D18)-100 -> -29.003819
... A34: VILAGARCIA | B34: 1071 | C34: 1588 | D34: 3700 | E34: 5940 | F34: =((E34*100)/D34)-100 -> 60.540541
A35: Total | B35: =SUM(B7:B34) -> 903505 | C35: =SUM(C7:C34) -> 791552 | D35: =SUM(D7:D34) -> 7908943 | E35: =SUM(E7:E34) -> 7570904 | F35: =((E35*100)/D35)-100 -> -4.2741363
B37: =E6 -> 2009 | C37: =D6 -> 2008 | F37: =B37 -> 2009 | G37: =C37 -> 2008
A38: =A7 -> A CORUÑA | B38: =E7 -> 40906 | C38: =D7 -> 54313 | D38: =_xlfn.RANK.EQ(B38,$B$38:$B$65)+COUNTIF($B$38:$B$65,B38)-1 -> 15 | E38: =INDEX($A$38:$B$65,MATCH(ROW()-37,$D$38:$D$65,0),1) -> BAHIA DE ALGECIRAS | F38: =LOOKUP(E38,$A$38:$A$65,$B$38:$B$65) -> 2552057 | G38: =LOOKUP(E38,$A$38:$A$65,$C$38:$C$65) -> 2327153
A39: =A8 -> ALICANTE | B39: =E8 -> 19246 | C39: =D8 -> 28690 | D39: =_xlfn.RANK.EQ(B39,$B$38:$B$65)+COUNTIF($B$38:$B$65,B39)-1 -> 23 | E39: =INDEX($A$38:$B$65,MATCH(ROW()-37,$D$38:$D$65,0),1) -> LAS PALMAS | F39: =LOOKUP(E39,$A$38:$A$65,$B$38:$B$65) -> 1604332 | G39: =LOOKUP(E39,$A$38:$A$65,$C$38:$C$65) -> 1615932
A40: =A9 -> ALMERIA | B40: =E9 -> 100421 | C40: =D9 -> 127139 | D40: =_xlfn.RANK.EQ(B40,$B$38:$B$65)+COUNTIF($B$38:$B$65,B40)-1 -> 10 | E40: =INDEX($A$38:$B$65,MATCH(ROW()-37,$D$38:$D$65,0),1) -> BARCELONA | F40: =LOOKUP(E40,$A$38:$A$65,$B$38:$B$65) -> 927197 | G40: =LOOKUP(E40,$A$38:$A$65,$C$38:$C$65) -> 952881
A41: =A10 -> AVILES | B41: =E10 -> 26790 | C41: =D10 -> 39574 | D41: =_xlfn.RANK.EQ(B41,$B$38:$B$65)+COUNTIF($B$38:$B$65,B41)-1 -> 20 | E41: =INDEX($A$38:$B$65,MATCH(ROW()-37,$D$38:$D$65,0),1) -> SANTA CRUZ DE TENERIFE | F41: =LOOKUP(E41,$A$38:$A$65,$B$38:$B$65) -> 733451 | G41: =LOOKUP(E41,$A$38:$A$65,$C$38:$C$65) -> 770724
A42: =A11 -> BAHIA DE ALGECIRAS | B42: =E11 -> 2552057 | C42: =D11 -> 2327153 | D42: =_xlfn.RANK.EQ(B42,$B$38:$B$65)+COUNTIF($B$38:$B$65,B42)-1 -> 1 | E42: =INDEX($A$38:$B$65,MATCH(ROW()-37,$D$38:$D$65,0),1) -> CEUTA | F42: =LOOKUP(E42,$A$38:$A$65,$B$38:$B$65) -> 332424 | G42: =LOOKUP(E42,$A$38:$A$65,$C$38:$C$65) -> 468228
A43: =A12 -> BAHIA DE CADIZ | B43: =E12 -> 83892 | C43: =D12 -> 79612 | D43: =_xlfn.RANK.EQ(B43,$B$38:$B$65)+COUNTIF($B$38:$B$65,B43)-1 -> 13 | E43: =INDEX($A$38:$B$65,MATCH(ROW()-37,$D$38:$D$65,0),1) -> VIGO | F43: =LOOKUP(E43,$A$38:$A$65,$B$38:$B$65) -> 250462 | G43: =LOOKUP(E43,$A$38:$A$65,$C$38:$C$65) -> 274110
A44: =A13 -> BALEARES | B44: =E13 -> 125990 | C44: =D13 -> 190359 | D44: =_xlfn.RANK.EQ(B44,$B$38:$B$65)+COUNTIF($B$38:$B$65,B44)-1 -> 8 | E44: =INDEX($A$38:$B$65,MATCH(ROW()-37,$D$38:$D$65,0),1) -> VALENCIA | F44: =LOOKUP(E44,$A$38:$A$65,$B$38:$B$65) -> 215214 | G44: =LOOKUP(E44,$A$38:$A$65,$C$38:$C$65) -> 238556
A45: =A14 -> BARCELONA | B45: =E14 -> 927197 | C45: =D14 -> 952881 | D45: =_xlfn.RANK.EQ(B45,$B$38:$B$65)+COUNTIF($B$38:$B$65,B45)-1 -> 3 | E45: =INDEX($A$38:$B$65,MATCH(ROW()-37,$D$38:$D$65,0),1) -> BALEARES | F45: =LOOKUP(E45,$A$38:$A$65,$B$38:$B$65) -> 125990 | G45: =LOOKUP(E45,$A$38:$A$65,$C$38:$C$65) -> 190359
A46: =A15 -> BILBAO | B46: =E15 -> 94895 | C46: =D15 -> 118126 | D46: =_xlfn.RANK.EQ(B46,$B$38:$B$65)+COUNTIF($B$38:$B$65,B46)-1 -> 11 | E46: =INDEX($A$38:$B$65,MATCH(ROW()-37,$D$38:$D$65,0),1) -> TARRAGONA | F46: =LOOKUP(E46,$A$38:$A$65,$B$38:$B$65) -> 113474 | G46: =LOOKUP(E46,$A$38:$A$65,$C$38:$C$65) -> 148865
A47: =A16 -> CARTAGENA | B47: =E16 -> 38465 | C47: =D16 -> 76294 | D47: =_xlfn.RANK.EQ(B47,$B$38:$B$65)+COUNTIF($B$38:$B$65,B47)-1 -> 16 | E47: =INDEX($A$38:$B$65,MATCH(ROW()-37,$D$38:$D$65,0),1) -> ALMERIA | F47: =LOOKUP(E47,$A$38:$A$65,$B$38:$B$65) -> 100421 | G47: =LOOKUP(E47,$A$38:$A$65,$C$38:$C$65) -> 127139
A48: =A17 -> CASTELLON | B48: =E17 -> 26754 | C48: =D17 -> 43294 | D48: =_xlfn.RANK.EQ(B48,$B$38:$B$65)+COUNTIF($B$38:$B$65,B48)-1 -> 21 | E48: =INDEX($A$38:$B$65,MATCH(ROW()-37,$D$38:$D$65,0),1) -> BILBAO | F48: =LOOKUP(E48,$A$38:$A$65,$B$38:$B$65) -> 94895 | G48: =LOOKUP(E48,$A$38:$A$65,$C$38:$C$65) -> 118126
A49: =A18 -> CEUTA | B49: =E18 -> 332424 | C49: =D18 -> 468228 | D49: =_xlfn.RANK.EQ(B49,$B$38:$B$65)+COUNTIF($B$38:$B$65,B49)-1 -> 5 | E49: =INDEX($A$38:$B$65,MATCH(ROW()-37,$D$38:$D$65,0),1) -> GIJON | F49: =LOOKUP(E49,$A$38:$A$65,$B$38:$B$65) -> 84850 | G49: =LOOKUP(E49,$A$38:$A$65,$C$38:$C$65) -> 97074
... A65: =A34 -> VILAGARCIA | B65: =E34 -> 5940 | C65: =D34 -> 3700 | D65: =_xlfn.RANK.EQ(B65,$B$38:$B$65)+COUNTIF($B$38:$B$65,B65)-1 -> 26 | E65: =INDEX($A$38:$B$65,MATCH(ROW()-37,$D$38:$D$65,0),1) -> SEVILLA | F65: =LOOKUP(E65,$A$38:$A$65,$B$38:$B$65) -> 0 | G65: =LOOKUP(E65,$A$38:$A$65,$C$38:$C$65) -> 0

Sheet Mercancías tránsito
F1: 7. MERCANCÍAS EN TRÁNSITO (Toneladas)
A5: Autoridad Portuaria | B5: ='Resumen general'!D6 -> Mes Septiembre | D5: ='Resumen general'!F6 -> Acumulado desde Enero | L5: ='Resumen general'!I4 -> 40120
B6: ='Resumen general'!D7 -> 2008 | C6: ='Resumen general'!E7 -> 2009 | D6: ='Resumen general'!F7 -> 2008 | E6: ='Resumen general'!G7 -> 2009 | F6: Var. (%)
A7: A CORUÑA | B7: 0 | C7: 0 | D7: 19259 | E7: 0 | F7: =((E7*100)/D7)-100 -> -100
A8: ALICANTE | B8: 0 | C8: 0 | D8: 0 | E8: 931 | F8: =((E8*100)/D8)-100 -> #DIV/0!
A9: ALMERIA | B9: 0 | C9: 0 | D9: 0 | E9: 0 | F9: =((E9*100)/D9)-100 -> #DIV/0!
A10: AVILES | B10: 0 | C10: 0 | D10: 0 | E10: 0 | F10: =((E10*100)/D10)-100 -> #DIV/0!
A11: BAHIA DE ALGECIRAS | B11: 3240562 | C11: 3010069 | D11: 30888657 | E11: 27730323 | F11: =((E11*100)/D11)-100 -> -10.224899
A12: BAHIA DE CADIZ | B12: 14729 | C12: 548 | D12: 138767 | E12: 84832 | F12: =((E12*100)/D12)-100 -> -38.86731
A13: BALEARES | B13: 1031 | C13: 5947 | D13: 6034 | E13: 12320 | F13: =((E13*100)/D13)-100 -> 104.17633
A14: BARCELONA | B14: 892727 | C14: 586214 | D14: 9885270 | E14: 5536323 | F14: =((E14*100)/D14)-100 -> -43.994216
A15: BILBAO | B15: 40230 | C15: 161735 | D15: 520617 | E15: 569538 | F15: =((E15*100)/D15)-100 -> 9.396735
A16: CARTAGENA | B16: 0 | C16: 0 | D16: 127657 | E16: 4212 | F16: =((E16*100)/D16)-100 -> -96.700533
A17: CASTELLON | B17: 0 | C17: 52 | D17: 8068 | E17: 90 | F17: =((E17*100)/D17)-100 -> -98.884482
A18: CEUTA | B18: 51412 | C18: 19431 | D18: 713672 | E18: 543505 | F18: =((E18*100)/D18)-100 -> -23.843867
... A34: VILAGARCIA | B34: 1442 | C34: 4002 | D34: 15567 | E34: 24768 | F34: =((E34*100)/D34)-100 -> 59.105801
A35: Total | B35: =SUM(B7:B34) -> 8312185 | C35: =SUM(C7:C34) -> 7442573 | D35: =SUM(D7:D34) -> 74123546 | E35: =SUM(E7:E34) -> 65724721 | F35: =((E35*100)/D35)-100 -> -11.330846
B37: =E6 -> 2009 | C37: =D6 -> 2008 | F37: =B37 -> 2009 | G37: =C37 -> 2008
A38: =A7 -> A CORUÑA | B38: =E7 -> 0 | C38: =D7 -> 19259 | D38: =_xlfn.RANK.EQ(B38,$B$38:$B$65)+COUNTIF($B$38:$B$65,B38)-1 -> 28 | E38: =INDEX($A$38:$B$65,MATCH(ROW()-37,$D$38:$D$65,0),1) -> BAHIA DE ALGECIRAS | F38: =LOOKUP(E38,$A$38:$A$65,$B$38:$B$65) -> 27730323 | G38: =LOOKUP(E38,$A$38:$A$65,$C$38:$C$65) -> 30888657
A39: =A8 -> ALICANTE | B39: =E8 -> 931 | C39: =D8 -> 0 | D39: =_xlfn.RANK.EQ(B39,$B$38:$B$65)+COUNTIF($B$38:$B$65,B39)-1 -> 20 | E39: =INDEX($A$38:$B$65,MATCH(ROW()-37,$D$38:$D$65,0),1) -> VALENCIA | F39: =LOOKUP(E39,$A$38:$A$65,$B$38:$B$65) -> 20313312 | G39: =LOOKUP(E39,$A$38:$A$65,$C$38:$C$65) -> 17124339
A40: =A9 -> ALMERIA | B40: =E9 -> 0 | C40: =D9 -> 0 | D40: =_xlfn.RANK.EQ(B40,$B$38:$B$65)+COUNTIF($B$38:$B$65,B40)-1 -> 28 | E40: =INDEX($A$38:$B$65,MATCH(ROW()-37,$D$38:$D$65,0),1) -> LAS PALMAS | F40: =LOOKUP(E40,$A$38:$A$65,$B$38:$B$65) -> 5989399 | G40: =LOOKUP(E40,$A$38:$A$65,$C$38:$C$65) -> 8576615
A41: =A10 -> AVILES | B41: =E10 -> 0 | C41: =D10 -> 0 | D41: =_xlfn.RANK.EQ(B41,$B$38:$B$65)+COUNTIF($B$38:$B$65,B41)-1 -> 28 | E41: =INDEX($A$38:$B$65,MATCH(ROW()-37,$D$38:$D$65,0),1) -> BARCELONA | F41: =LOOKUP(E41,$A$38:$A$65,$B$38:$B$65) -> 5536323 | G41: =LOOKUP(E41,$A$38:$A$65,$C$38:$C$65) -> 9885270
A42: =A11 -> BAHIA DE ALGECIRAS | B42: =E11 -> 27730323 | C42: =D11 -> 30888657 | D42: =_xlfn.RANK.EQ(B42,$B$38:$B$65)+COUNTIF($B$38:$B$65,B42)-1 -> 1 | E42: =INDEX($A$38:$B$65,MATCH(ROW()-37,$D$38:$D$65,0),1) -> TARRAGONA | F42: =LOOKUP(E42,$A$38:$A$65,$B$38:$B$65) -> 3895321 | G42: =LOOKUP(E42,$A$38:$A$65,$C$38:$C$65) -> 3263037
A43: =A12 -> BAHIA DE CADIZ | B43: =E12 -> 84832 | C43: =D12 -> 138767 | D43: =_xlfn.RANK.EQ(B43,$B$38:$B$65)+COUNTIF($B$38:$B$65,B43)-1 -> 12 | E43: =INDEX($A$38:$B$65,MATCH(ROW()-37,$D$38:$D$65,0),1) -> BILBAO | F43: =LOOKUP(E43,$A$38:$A$65,$B$38:$B$65) -> 569538 | G43: =LOOKUP(E43,$A$38:$A$65,$C$38:$C$65) -> 520617
A44: =A13 -> BALEARES | B44: =E13 -> 12320 | C44: =D13 -> 6034 | D44: =_xlfn.RANK.EQ(B44,$B$38:$B$65)+COUNTIF($B$38:$B$65,B44)-1 -> 14 | E44: =INDEX($A$38:$B$65,MATCH(ROW()-37,$D$38:$D$65,0),1) -> CEUTA | F44: =LOOKUP(E44,$A$38:$A$65,$B$38:$B$65) -> 543505 | G44: =LOOKUP(E44,$A$38:$A$65,$C$38:$C$65) -> 713672
A45: =A14 -> BARCELONA | B45: =E14 -> 5536323 | C45: =D14 -> 9885270 | D45: =_xlfn.RANK.EQ(B45,$B$38:$B$65)+COUNTIF($B$38:$B$65,B45)-1 -> 4 | E45: =INDEX($A$38:$B$65,MATCH(ROW()-37,$D$38:$D$65,0),1) -> MALAGA | F45: =LOOKUP(E45,$A$38:$A$65,$B$38:$B$65) -> 430923 | G45: =LOOKUP(E45,$A$38:$A$65,$C$38:$C$65) -> 2066536
A46: =A15 -> BILBAO | B46: =E15 -> 569538 | C46: =D15 -> 520617 | D46: =_xlfn.RANK.EQ(B46,$B$38:$B$65)+COUNTIF($B$38:$B$65,B46)-1 -> 6 | E46: =INDEX($A$38:$B$65,MATCH(ROW()-37,$D$38:$D$65,0),1) -> SANTA CRUZ DE TENERIFE | F46: =LOOKUP(E46,$A$38:$A$65,$B$38:$B$65) -> 225166 | G46: =LOOKUP(E46,$A$38:$A$65,$C$38:$C$65) -> 128398
A47: =A16 -> CARTAGENA | B47: =E16 -> 4212 | C47: =D16 -> 127657 | D47: =_xlfn.RANK.EQ(B47,$B$38:$B$65)+COUNTIF($B$38:$B$65,B47)-1 -> 16 | E47: =INDEX($A$38:$B$65,MATCH(ROW()-37,$D$38:$D$65,0),1) -> GIJON | F47: =LOOKUP(E47,$A$38:$A$65,$B$38:$B$65) -> 204534 | G47: =LOOKUP(E47,$A$38:$A$65,$C$38:$C$65) -> 394483
A48: =A17 -> CASTELLON | B48: =E17 -> 90 | C48: =D17 -> 8068 | D48: =_xlfn.RANK.EQ(B48,$B$38:$B$65)+COUNTIF($B$38:$B$65,B48)-1 -> 22 | E48: =INDEX($A$38:$B$65,MATCH(ROW()-37,$D$38:$D$65,0),1) -> VIGO | F48: =LOOKUP(E48,$A$38:$A$65,$B$38:$B$65) -> 141965 | G48: =LOOKUP(E48,$A$38:$A$65,$C$38:$C$65) -> 171322
A49: =A18 -> CEUTA | B49: =E18 -> 543505 | C49: =D18 -> 713672 | D49: =_xlfn.RANK.EQ(B49,$B$38:$B$65)+COUNTIF($B$38:$B$65,B49)-1 -> 7 | E49: =INDEX($A$38:$B$65,MATCH(ROW()-37,$D$38:$D$65,0),1) -> BAHIA DE CADIZ | F49: =LOOKUP(E49,$A$38:$A$65,$B$38:$B$65) -> 84832 | G49: =LOOKUP(E49,$A$38:$A$65,$C$38:$C$65) -> 138767
... A65: =A34 -> VILAGARCIA | B65: =E34 -> 24768 | C65: =D34 -> 15567 | D65: =_xlfn.RANK.EQ(B65,$B$38:$B$65)+COUNTIF($B$38:$B$65,B65)-1 -> 13 | E65: =INDEX($A$38:$B$65,MATCH(ROW()-37,$D$38:$D$65,0),1) -> A CORUÑA | F65: =LOOKUP(E65,$A$38:$A$65,$B$38:$B$65) -> 0 | G65: =LOOKUP(E65,$A$38:$A$65,$C$38:$C$65) -> 19259

Sheet Mercan. contene. tránsito
F1: 7.1. MERCANCÍAS EN CONTENEDORES EN TRÁNSITO (Toneladas)
A5: Autoridad Portuaria | B5: ='Resumen general'!D6 -> Mes Septiembre | D5: ='Resumen general'!F6 -> Acumulado desde Enero | L5: ='Resumen general'!I4 -> 40120
B6: ='Resumen general'!D7 -> 2008 | C6: ='Resumen general'!E7 -> 2009 | D6: ='Resumen general'!F7 -> 2008 | E6: ='Resumen general'!G7 -> 2009 | F6: Var. (%)
A7: A CORUÑA | B7: 0 | C7: 0 | D7: 0 | E7: 0 | F7: =((E7*100)/D7)-100 -> #DIV/0!
A8: ALICANTE | B8: 0 | C8: 0 | D8: 0 | E8: 931 | F8: =((E8*100)/D8)-100 -> #DIV/0!
A9: ALMERIA | B9: 0 | C9: 0 | D9: 0 | E9: 0 | F9: =((E9*100)/D9)-100 -> #DIV/0!
A10: AVILES | B10: 0 | C10: 0 | D10: 0 | E10: 0 | F10: =((E10*100)/D10)-100 -> #DIV/0!
A11: BAHIA DE ALGECIRAS | B11: 3239634 | C11: 3009783 | D11: 30792845 | E11: 26678093 | F11: =((E11*100)/D11)-100 -> -13.362689
A12: BAHIA DE CADIZ | B12: 213 | C12: 484 | D12: 5086 | E12: 11571 | F12: =((E12*100)/D12)-100 -> 127.50688
A13: BALEARES | B13: 97 | C13: 1014 | D13: 544 | E13: 1324 | F13: =((E13*100)/D13)-100 -> 143.38235
A14: BARCELONA | B14: 849538 | C14: 495653 | D14: 9371989 | E14: 5107550 | F14: =((E14*100)/D14)-100 -> -45.501963
A15: BILBAO | B15: 18299 | C15: 6396 | D15: 179475 | E15: 59280 | F15: =((E15*100)/D15)-100 -> -66.97033
A16: CARTAGENA | B16: 0 | C16: 0 | D16: 280 | E16: 620 | F16: =((E16*100)/D16)-100 -> 121.42857
A17: CASTELLON | B17: 0 | C17: 52 | D17: 5044 | E17: 75 | F17: =((E17*100)/D17)-100 -> -98.513085
A18: CEUTA | B18: 0 | C18: 0 | D18: 0 | E18: 18 | F18: =((E18*100)/D18)-100 -> #DIV/0!
... A34: VILAGARCIA | B34: 1442 | C34: 0 | D34: 2034 | E34: 9689 | F34: =((E34*100)/D34)-100 -> 376.35202
A35: Total | B35: =SUM(B7:B34) -> 7723726 | C35: =SUM(C7:C34) -> 6715933 | D35: =SUM(D7:D34) -> 68101051 | E35: =SUM(E7:E34) -> 59781699 | F35: =((E35*100)/D35)-100 -> -12.216187
B37: =E6 -> 2009 | C37: =D6 -> 2008 | F37: =B37 -> 2009 | G37: =C37 -> 2008
A38: =A7 -> A CORUÑA | B38: =E7 -> 0 | C38: =D7 -> 0 | D38: =_xlfn.RANK.EQ(B38,$B$38:$B$65)+COUNTIF($B$38:$B$65,B38)-1 -> 28 | E38: =INDEX($A$38:$B$65,MATCH(ROW()-37,$D$38:$D$65,0),1) -> BAHIA DE ALGECIRAS | F38: =LOOKUP(E38,$A$38:$A$65,$B$38:$B$65) -> 26678093 | G38: =LOOKUP(E38,$A$38:$A$65,$C$38:$C$65) -> 30792845
A39: =A8 -> ALICANTE | B39: =E8 -> 931 | C39: =D8 -> 0 | D39: =_xlfn.RANK.EQ(B39,$B$38:$B$65)+COUNTIF($B$38:$B$65,B39)-1 -> 13 | E39: =INDEX($A$38:$B$65,MATCH(ROW()-37,$D$38:$D$65,0),1) -> VALENCIA | F39: =LOOKUP(E39,$A$38:$A$65,$B$38:$B$65) -> 20304172 | G39: =LOOKUP(E39,$A$38:$A$65,$C$38:$C$65) -> 17082876
A40: =A9 -> ALMERIA | B40: =E9 -> 0 | C40: =D9 -> 0 | D40: =_xlfn.RANK.EQ(B40,$B$38:$B$65)+COUNTIF($B$38:$B$65,B40)-1 -> 28 | E40: =INDEX($A$38:$B$65,MATCH(ROW()-37,$D$38:$D$65,0),1) -> LAS PALMAS | F40: =LOOKUP(E40,$A$38:$A$65,$B$38:$B$65) -> 5852018 | G40: =LOOKUP(E40,$A$38:$A$65,$C$38:$C$65) -> 8470077
A41: =A10 -> AVILES | B41: =E10 -> 0 | C41: =D10 -> 0 | D41: =_xlfn.RANK.EQ(B41,$B$38:$B$65)+COUNTIF($B$38:$B$65,B41)-1 -> 28 | E41: =INDEX($A$38:$B$65,MATCH(ROW()-37,$D$38:$D$65,0),1) -> BARCELONA | F41: =LOOKUP(E41,$A$38:$A$65,$B$38:$B$65) -> 5107550 | G41: =LOOKUP(E41,$A$38:$A$65,$C$38:$C$65) -> 9371989
A42: =A11 -> BAHIA DE ALGECIRAS | B42: =E11 -> 26678093 | C42: =D11 -> 30792845 | D42: =_xlfn.RANK.EQ(B42,$B$38:$B$65)+COUNTIF($B$38:$B$65,B42)-1 -> 1 | E42: =INDEX($A$38:$B$65,MATCH(ROW()-37,$D$38:$D$65,0),1) -> TARRAGONA | F42: =LOOKUP(E42,$A$38:$A$65,$B$38:$B$65) -> 1069271 | G42: =LOOKUP(E42,$A$38:$A$65,$C$38:$C$65) -> 1447
A43: =A12 -> BAHIA DE CADIZ | B43: =E12 -> 11571 | C43: =D12 -> 5086 | D43: =_xlfn.RANK.EQ(B43,$B$38:$B$65)+COUNTIF($B$38:$B$65,B43)-1 -> 10 | E43: =INDEX($A$38:$B$65,MATCH(ROW()-37,$D$38:$D$65,0),1) -> MALAGA | F43: =LOOKUP(E43,$A$38:$A$65,$B$38:$B$65) -> 430809 | G43: =LOOKUP(E43,$A$38:$A$65,$C$38:$C$65) -> 2064952
