Workbook
Name CABECERA: Cruceros!$A$5:$F$6
Name CONCEPTO: 'Resumen general'!$A$6
Name LblRes00_Acum: 'Resumen general'!$F$6:$G$6
Name LblRes00_Mes: 'Resumen general'!$D$6:$E$6
Name LblRes00_Var: 'Resumen general'!$H$6:$I$6
Name LblRes01_1_Acum: 'Total presentación'!$D$5:$F$5
Name LblRes01_1_Mes: 'Total presentación'!$B$5:$C$5
Name LblRes01_Acum: 'Total tráfico'!$D$5:$F$5
Name LblRes01_Mes: 'Total tráfico'!$B$5:$C$5
Name LblRes02_Acum: Líquidos!$D$5:$F$5
Name LblRes02_Mes: Líquidos!$B$5:$C$5
Name LblRes03_Acum: Sólidos!$D$5:$F$5
Name LblRes03_Mes: Sólidos!$B$5:$C$5
Name LblRes04_Acum: 'Mercancía general'!$D$5:$F$5
Name LblRes04_Mes: 'Mercancía general'!$B$5:$C$5
Name LblRes05_Acum: Pesca!$D$5:$F$5
Name LblRes05_Mes: Pesca!$B$5:$C$5
Name LblRes06_Acum: Avituallamiento!$D$5:$F$5
Name LblRes06_Mes: Avituallamiento!$B$5:$C$5
Name LblRes07_1_Acum: 'Mercan. contene. tránsito'!$D$5:$F$5
Name LblRes07_1_Mes: 'Mercan. contene. tránsito'!$B$5:$C$5
Name LblRes07_Acum: 'Mercancías tránsito'!$D$5:$F$5
Name LblRes07_Mes: 'Mercancías tránsito'!$B$5:$C$5
Name LblRes08_Acum: 'Mercancías contenedores'!$D$5:$F$5
Name LblRes08_Mes: 'Mercancías contenedores'!$B$5:$C$5
Name LblRes09_Acum: 'Ro-Ro'!$D$5:$F$5
Name LblRes09_Mes: 'Ro-Ro'!$B$5:$C$5
Name LblRes10_1_Acum: 'TEUS tránsito'!$D$5:$F$5
Name LblRes10_1_Mes: 'TEUS tránsito'!$B$5:$C$5
Name LblRes10_2_Acum: #REF!
Name LblRes10_2_Mes: #REF!
Name LblRes10_3_Acum: #REF!
Name LblRes10_3_Mes: #REF!
Name LblRes10_4_Acum: #REF!
Name LblRes10_4_Mes: #REF!
Name LblRes10_Acum: TEUS!$D$5:$F$5
Name LblRes10_Mes: TEUS!$B$5:$C$5
Name LblRes11_1_Acum: 'Pasajeros crucero'!$D$5:$F$5
Name LblRes11_1_Mes: 'Pasajeros crucero'!$B$5:$C$5
Name LblRes11_2_Acum: 'Vehículos régimen pasaje'!$D$5:$F$5
Name LblRes11_2_Mes: 'Vehículos régimen pasaje'!$B$5:$C$5
Name LblRes11_Acum: 'Pasajeros total'!$D$5:$F$5
Name LblRes11_Mes: 'Pasajeros total'!$B$5:$C$5
Name LblRes12_1_Acum: 'Buques número'!$D$5:$F$5
Name LblRes12_1_Mes: 'Buques número'!$B$5:$C$5
Name LblRes12_2_Acum: 'Buques GT'!$D$5:$F$5
Name LblRes12_2_Mes: 'Buques GT'!$B$5:$C$5
Name LblRes12_3_Acum: Cruceros!$D$5:$F$5
Name LblRes12_3_Mes: Cruceros!$B$5:$C$5
Name PROVINCIAS: Cruceros!$A$5:$A$35
Name TxtFecha: Cruceros!$L$5

Sheet Resumen general
D1: 00. RESUMEN GENERAL DEL TRÁFICO PORTUARIO
I4: 41218
A6: CONCEPTO | D6: Mes Septiembre | F6: Acumulado desde Enero | H6: Variación
D7: 2011 | E7: 2012 | F7: 2011 | G7: 2012 | H7: Diferencia | I7: %
A8: MERCANCÍAS SEGÚN SU PRESENTACIÓN | B8: GRANELES | C8: LÍQUIDOS | D8: 11975925 | E8: 13116588 | F8: 111399985 | G8: 114123113 | H8: 2723128 | I8: =((G8*100/F8)-100) -> 2.4444599
C9: SÓLIDOS | D9: 6790735 | E9: 7585925 | F9: 58308236 | G9: 65477065 | H9: 7168829 | I9: =((G9*100/F9)-100) -> 12.294711
B10: MERCANCÍA GRAL. | C10: CONVENCIONAL | D10: 4470543 | E10: 4541424 | F10: 42030249 | G10: 43148129 | H10: 1117880 | I10: =((G10*100/F10)-100) -> 2.6597035
C11: EN CONTENEDORES | D11: 12487900 | E11: 12465529 | F11: 111374133 | G11: 121035247 | H11: 9661114 | I11: =((G11*100/F11)-100) -> 8.6744684
C12: TOTAL | D12: 16958443 | E12: 17006953 | F12: 153404382 | G12: 164183376 | H12: 10778994 | I12: =((G12*100/F12)-100) -> 7.0265229
C13: TOTAL | D13: 35725103 | E13: 37709466 | F13: 323112603 | G13: 343783554 | H13: 20670951 | I13: =((G13*100/F13)-100) -> 6.397445
A14: OTRAS MERCANCÍAS | B14: PESCA | C14: TOTAL PESCA | D14: 22107 | E14: 17492 | F14: 180339 | G14: 172312 | H14: -8027 | I14: =((G14*100/F14)-100) -> -4.4510616
B15: AVITUALLAMIENTO | C15: PRODUCTOS PETROLÍFEROS | D15: 581474 | E15: 724866 | F15: 5900843 | G15: 6286791 | H15: 385948 | I15: =((G15*100/F15)-100) -> 6.540557
C16: OTROS | D16: 236326 | E16: 192715 | F16: 2085313 | G16: 1495998 | H16: -589315 | I16: =((G16*100/F16)-100) -> -28.260266
B17: TRAFICO INTERIOR | C17: TOTAL TRAFICO INTERIOR | D17: 232524 | E17: 344086 | F17: 1967387 | G17: 2525446 | H17: 558059 | I17: =((G17*100/F17)-100) -> 28.365492
C18: TOTAL | D18: 1072431 | E18: 1279159 | F18: 10133882 | G18: 10480547 | H18: 346665 | I18: =((G18*100/F18)-100) -> 3.420851
C19: TOTAL TRÁFICO PORTUARIO | D19: =+D13+D18 -> 36797534 | E19: =+E13+E18 -> 38988625 | F19: =+F13+F18 -> 333246485 | G19: =+G13+G18 -> 354264101 | H19: =G19-F19 -> 21017616 | I19: =((G19*100/F19)-100) -> 6.306928
A21: OTRAS INFORMACIONES | B21: MERCANCÍAS | C21: EN TRÁNSITO | D21: 8746489 | E21: 8687630 | F21: 74900314 | G21: 84989878 | H21: 10089564 | I21: =((G21*100/F21)-100) -> 13.470656
C22: EN CONTENEDORES EN TRÁNSITO | D22: 7900246 | E22: 7834821 | F22: 69344059 | G22: 77349183 | H22: 8005124 | I22: =((G22*100/F22)-100) -> 11.544066
B23: TRÁFICO RO-RO | C23: TOTAL TRÁFICO RO-RO | D23: 3416857 | E23: 3305045 | F23: 31407727 | G23: 32278864 | H23: 871137 | I23: =((G23*100/F23)-100) -> 2.7736391
B24: CONTENEDORES (TEU) | C24: TOTAL CONTENEDORES (TEU) | D24: 1151003.8 | E24: 1148241.8 | F24: 10137857 | G24: 10488192 | H24: 350334.25 | I24: =((G24*100/F24)-100) -> 3.4557031
C25: EN TRÁNSITO | D25: 635002 | E25: 606724.5 | F25: 5485624.8 | G25: 5760291.5 | H25: 274666.75 | I25: =((G25*100/F25)-100) -> 5.0070277
C26: ENTRADAS-SALIDAS NACIONAL | D26: 131193.25 | E26: 118115.75 | F26: 1182445.5 | G26: 1143892.5 | H26: -38553 | I26: =((G26*100/F26)-100) -> -3.2604463
C27: IMPORT-EXPORT EXTERIOR | D27: 384729.5 | E27: 423401.5 | F27: 3467639 | G27: 3583665.5 | H27: 116026.5 | I27: =((G27*100/F27)-100) -> 3.3459798
C28: NACIONAL Y EXTERIOR | D28: 516001.75 | E28: 541517.25 | F28: 4652232.5 | G28: 4727900 | H28: 75667.5 | I28: =((G28*100/F28)-100) -> 1.6264772
B29: PASAJEROS | C29: REG. TRANSPORTE Y DE CRUCERO (nº) | D29: 2949199 | E29: 2907154 | F29: 21315304 | G29: 20858367 | H29: -456937 | I29: =((G29*100/F29)-100) -> -2.1437039
C30: DE CRUCERO (nº) | D30: 936624 | E30: 877387 | F30: 5798428 | G30: 5354789 | H30: -443639 | I30: =((G30*100/F30)-100) -> -7.651022
B31: VEHÍCULOS | C31: EN RÉGIMEN DE PASAJE | D31: 401242 | E31: 420279 | F31: 3039899 | G31: 3126333 | H31: 86434 | I31: =((G31*100/F31)-100) -> 2.8433181
B32: BUQUES MERCANTES | C32: TOTAL BUQUES MERCANTES | D32: 12300 | E32: 12496 | F32: 104939 | G32: 103316 | H32: -1623 | I32: =((G32*100/F32)-100) -> -1.5466128
C33: UDS. ARQUEO BRUTO (G.T.) | D33: 166736377 | E33: 166717878 | F33: 1394215491 | G33: 1408549368 | H33: 14333877 | I33: =((G33*100/F33)-100) -> 1.0280962
C34: NÚMERO DE CRUCEROS | D34: 439 | E34: 431 | F34: 2720 | G34: 2506 | H34: -214 | I34: =((G34*100/F34)-100) -> -7.8676471

Sheet Total tráfico
F1: 1. TRAFICO PORTUARIO (Toneladas)
A5: Autoridad Portuaria | B5: ='Resumen general'!D6 -> Mes Septiembre | D5: ='Resumen general'!F6 -> Acumulado desde Enero | L5: ='Resumen general'!I4 -> 41218
B6: ='Resumen general'!D7 -> 2011 | C6: ='Resumen general'!E7 -> 2012 | D6: ='Resumen general'!F7 -> 2011 | E6: ='Resumen general'!G7 -> 2012 | F6: Var. (%)
A7: A CORUÑA | B7: 894904 | C7: 1302683 | D7: 8920939 | E7: 9725755 | F7: =((E7*100)/D7)-100 -> 9.0216512
A8: ALICANTE | B8: 215384 | C8: 189008 | D8: 1705797 | E8: 1715409 | F8: =((E8*100)/D8)-100 -> 0.56349026
A9: ALMERIA | B9: 436859 | C9: 373858 | D9: 3486058 | E9: 4253170 | F9: =((E9*100)/D9)-100 -> 22.005142
A10: AVILES | B10: 299450 | C10: 445795 | D10: 3920551 | E10: 3799416 | F10: =((E10*100)/D10)-100 -> -3.0897443
A11: BAHIA DE ALGECIRAS | B11: 6001308 | C11: 6795542 | D11: 56196352 | E11: 65965814 | F11: =((E11*100)/D11)-100 -> 17.384513
A12: BAHIA DE CADIZ | B12: 427264 | C12: 353466 | D12: 3012268 | E12: 2865544 | F12: =((E12*100)/D12)-100 -> -4.8708813
A13: BALEARES | B13: 1029354 | C13: 1057948 | D13: 9052652 | E13: 9329368 | F13: =((E13*100)/D13)-100 -> 3.0567396
A14: BARCELONA | B14: 3560164 | C14: 3651887 | D14: 33725656 | E14: 32400198 | F14: =((E14*100)/D14)-100 -> -3.9301178
A15: BILBAO | B15: 2559170 | C15: 2808727 | D15: 24853521 | E15: 21219689 | F15: =((E15*100)/D15)-100 -> -14.620995
A16: CARTAGENA | B16: 1928862 | C16: 2390122 | D16: 15579766 | E16: 22450641 | F16: =((E16*100)/D16)-100 -> 44.101272
A17: CASTELLON | B17: 998298 | C17: 1074305 | D17: 9926358 | E17: 8910579 | F17: =((E17*100)/D17)-100 -> -10.233149
A18: CEUTA | B18: 183754 | C18: 209995 | D18: 2067411 | E18: 2109111 | F18: =((E18*100)/D18)-100 -> 2.0170155
... A34: VILAGARCIA | B34: 58992 | C34: 77464 | D34: 552798 | E34: 737587 | F34: =((E34*100)/D34)-100 -> 33.427943
A35: Total | B35: =SUM(B7:B34) -> 36797534 | C35: =SUM(C7:C34) -> 38988625 | D35: =SUM(D7:D34) -> 333246485 | E35: =SUM(E7:E34) -> 354264101 | F35: =((E35*100)/D35)-100 -> 6.306928
B37: =E6 -> 2012 | C37: =D6 -> 2011 | F37: =B37 -> 2012 | G37: =C37 -> 2011
A38: =A7 -> A CORUÑA | B38: =E7 -> 9725755 | C38: =D7 -> 8920939 | D38: =_xlfn.RANK.EQ(B38,$B$38:$B$65)+COUNTIF($B$38:$B$65,B38)-1 -> 12 | E38: =INDEX($A$38:$B$65,MATCH(ROW()-37,$D$38:$D$65,0),1) -> BAHIA DE ALGECIRAS | F38: =LOOKUP(E38,$A$38:$A$65,$B$38:$B$65) -> 65965814 | G38: =LOOKUP(E38,$A$38:$A$65,$C$38:$C$65) -> 56196352
A39: =A8 -> ALICANTE | B39: =E8 -> 1715409 | C39: =D8 -> 1705797 | D39: =_xlfn.RANK.EQ(B39,$B$38:$B$65)+COUNTIF($B$38:$B$65,B39)-1 -> 24 | E39: =INDEX($A$38:$B$65,MATCH(ROW()-37,$D$38:$D$65,0),1) -> VALENCIA | F39: =LOOKUP(E39,$A$38:$A$65,$B$38:$B$65) -> 48823214 | G39: =LOOKUP(E39,$A$38:$A$65,$C$38:$C$65) -> 49286891
A40: =A9 -> ALMERIA | B40: =E9 -> 4253170 | C40: =D9 -> 3486058 | D40: =_xlfn.RANK.EQ(B40,$B$38:$B$65)+COUNTIF($B$38:$B$65,B40)-1 -> 16 | E40: =INDEX($A$38:$B$65,MATCH(ROW()-37,$D$38:$D$65,0),1) -> BARCELONA | F40: =LOOKUP(E40,$A$38:$A$65,$B$38:$B$65) -> 32400198 | G40: =LOOKUP(E40,$A$38:$A$65,$C$38:$C$65) -> 33725656
A41: =A10 -> AVILES | B41: =E10 -> 3799416 | C41: =D10 -> 3920551 | D41: =_xlfn.RANK.EQ(B41,$B$38:$B$65)+COUNTIF($B$38:$B$65,B41)-1 -> 17 | E41: =INDEX($A$38:$B$65,MATCH(ROW()-37,$D$38:$D$65,0),1) -> TARRAGONA | F41: =LOOKUP(E41,$A$38:$A$65,$B$38:$B$65) -> 25121624 | G41: =LOOKUP(E41,$A$38:$A$65,$C$38:$C$65) -> 24151231
A42: =A11 -> BAHIA DE ALGECIRAS | B42: =E11 -> 65965814 | C42: =D11 -> 56196352 | D42: =_xlfn.RANK.EQ(B42,$B$38:$B$65)+COUNTIF($B$38:$B$65,B42)-1 -> 1 | E42: =INDEX($A$38:$B$65,MATCH(ROW()-37,$D$38:$D$65,0),1) -> CARTAGENA | F42: =LOOKUP(E42,$A$38:$A$65,$B$38:$B$65) -> 22450641 | G42: =LOOKUP(E42,$A$38:$A$65,$C$38:$C$65) -> 15579766
A43: =A12 -> BAHIA DE CADIZ | B43: =E12 -> 2865544 | C43: =D12 -> 3012268 | D43: =_xlfn.RANK.EQ(B43,$B$38:$B$65)+COUNTIF($B$38:$B$65,B43)-1 -> 21 | E43: =INDEX($A$38:$B$65,MATCH(ROW()-37,$D$38:$D$65,0),1) -> BILBAO | F43: =LOOKUP(E43,$A$38:$A$65,$B$38:$B$65) -> 21219689 | G43: =LOOKUP(E43,$A$38:$A$65,$C$38:$C$65) -> 24853521
A44: =A13 -> BALEARES | B44: =E13 -> 9329368 | C44: =D13 -> 9052652 | D44: =_xlfn.RANK.EQ(B44,$B$38:$B$65)+COUNTIF($B$38:$B$65,B44)-1 -> 13 | E44: =INDEX($A$38:$B$65,MATCH(ROW()-37,$D$38:$D$65,0),1) -> HUELVA | F44: =LOOKUP(E44,$A$38:$A$65,$B$38:$B$65) -> 21202813 | G44: =LOOKUP(E44,$A$38:$A$65,$C$38:$C$65) -> 18250192
A45: =A14 -> BARCELONA | B45: =E14 -> 32400198 | C45: =D14 -> 33725656 | D45: =_xlfn.RANK.EQ(B45,$B$38:$B$65)+COUNTIF($B$38:$B$65,B45)-1 -> 3 | E45: =INDEX($A$38:$B$65,MATCH(ROW()-37,$D$38:$D$65,0),1) -> LAS PALMAS | F45: =LOOKUP(E45,$A$38:$A$65,$B$38:$B$65) -> 19109557 | G45: =LOOKUP(E45,$A$38:$A$65,$C$38:$C$65) -> 18523094
A46: =A15 -> BILBAO | B46: =E15 -> 21219689 | C46: =D15 -> 24853521 | D46: =_xlfn.RANK.EQ(B46,$B$38:$B$65)+COUNTIF($B$38:$B$65,B46)-1 -> 6 | E46: =INDEX($A$38:$B$65,MATCH(ROW()-37,$D$38:$D$65,0),1) -> GIJON | F46: =LOOKUP(E46,$A$38:$A$65,$B$38:$B$65) -> 12224684 | G46: =LOOKUP(E46,$A$38:$A$65,$C$38:$C$65) -> 10955847
A47: =A16 -> CARTAGENA | B47: =E16 -> 22450641 | C47: =D16 -> 15579766 | D47: =_xlfn.RANK.EQ(B47,$B$38:$B$65)+COUNTIF($B$38:$B$65,B47)-1 -> 5 | E47: =INDEX($A$38:$B$65,MATCH(ROW()-37,$D$38:$D$65,0),1) -> SANTA CRUZ DE TENERIFE | F47: =LOOKUP(E47,$A$38:$A$65,$B$38:$B$65) -> 11213640 | G47: =LOOKUP(E47,$A$38:$A$65,$C$38:$C$65) -> 10666155
A48: =A17 -> CASTELLON | B48: =E17 -> 8910579 | C48: =D17 -> 9926358 | D48: =_xlfn.RANK.EQ(B48,$B$38:$B$65)+COUNTIF($B$38:$B$65,B48)-1 -> 14 | E48: =INDEX($A$38:$B$65,MATCH(ROW()-37,$D$38:$D$65,0),1) -> FERROL-SAN CIBRAO | F48: =LOOKUP(E48,$A$38:$A$65,$B$38:$B$65) -> 10412923 | G48: =LOOKUP(E48,$A$38:$A$65,$C$38:$C$65) -> 8535692
A49: =A18 -> CEUTA | B49: =E18 -> 2109111 | C49: =D18 -> 2067411 | D49: =_xlfn.RANK.EQ(B49,$B$38:$B$65)+COUNTIF($B$38:$B$65,B49)-1 -> 23 | E49: =INDEX($A$38:$B$65,MATCH(ROW()-37,$D$38:$D$65,0),1) -> A CORUÑA | F49: =LOOKUP(E49,$A$38:$A$65,$B$38:$B$65) -> 9725755 | G49: =LOOKUP(E49,$A$38:$A$65,$C$38:$C$65) -> 8920939
... A65: =A34 -> VILAGARCIA | B65: =E34 -> 737587 | C65: =D34 -> 552798 | D65: =_xlfn.RANK.EQ(B65,$B$38:$B$65)+COUNTIF($B$38:$B$65,B65)-1 -> 27 | E65: =INDEX($A$38:$B$65,MATCH(ROW()-37,$D$38:$D$65,0),1) -> MELILLA | F65: =LOOKUP(E65,$A$38:$A$65,$B$38:$B$65) -> 712812 | G65: =LOOKUP(E65,$A$38:$A$65,$C$38:$C$65) -> 658728

Sheet Total presentación
F1: 1.1. MERCANCÍAS SEGÚN SU FORMA DE PRESENTACIÓN
J2: (Toneladas)
A5: Autoridad Portuaria | B5: ='Resumen general'!D6 -> Mes Septiembre | D5: ='Resumen general'!F6 -> Acumulado desde Enero | L5: ='Resumen general'!I4 -> 41218
B6: ='Resumen general'!D7 -> 2011 | C6: ='Resumen general'!E7 -> 2012 | D6: ='Resumen general'!F7 -> 2011 | E6: ='Resumen general'!G7 -> 2012 | F6: Var. (%)
A7: A CORUÑA | B7: 860859 | C7: 1280283 | D7: 8664257 | E7: 9514666 | F7: =((E7*100)/D7)-100 -> 9.8151405
A8: ALICANTE | B8: 213858 | C8: 188286 | D8: 1696436 | E8: 1702277 | F8: =((E8*100)/D8)-100 -> 0.34431007
A9: ALMERIA | B9: 430118 | C9: 367581 | D9: 3418616 | E9: 4190345 | F9: =((E9*100)/D9)-100 -> 22.574311
A10: AVILES | B10: 294858 | C10: 445222 | D10: 3879162 | E10: 3760208 | F10: =((E10*100)/D10)-100 -> -3.066487
A11: BAHIA DE ALGECIRAS | B11: 5524308 | C11: 6387777 | D11: 52006228 | E11: 61654495 | F11: =((E11*100)/D11)-100 -> 18.552138
A12: BAHIA DE CADIZ | B12: 414972 | C12: 340415 | D12: 2916417 | E12: 2782990 | F12: =((E12*100)/D12)-100 -> -4.5750316
A13: BALEARES | B13: 994463 | C13: 1023837 | D13: 8840425 | E13: 9160554 | F13: =((E13*100)/D13)-100 -> 3.6211947
A14: BARCELONA | B14: 3559977 | C14: 3504260 | D14: 32910136 | E14: 31504212 | F14: =((E14*100)/D14)-100 -> -4.2720091
A15: BILBAO | B15: 2528725 | C15: 2666153 | D15: 24607827 | E15: 20930688 | F15: =((E15*100)/D15)-100 -> -14.942965
A16: CARTAGENA | B16: 1920119 | C16: 2336425 | D16: 15529770 | E16: 22236039 | F16: =((E16*100)/D16)-100 -> 43.183312
A17: CASTELLON | B17: 993977 | C17: 1070598 | D17: 9895879 | E17: 8880877 | F17: =((E17*100)/D17)-100 -> -10.256815
A18: CEUTA | B18: 127366 | C18: 150933 | D18: 1524783 | E18: 1571668 | F18: =((E18*100)/D18)-100 -> 3.0748638
... A34: VILAGARCIA | B34: 58459 | C34: 77094 | D34: 544988 | E34: 734070 | F34: =((E34*100)/D34)-100 -> 34.694709
A35: Total | B35: =SUM(B7:B34) -> 35725103 | C35: =SUM(C7:C34) -> 37709466 | D35: =SUM(D7:D34) -> 323112603 | E35: =SUM(E7:E34) -> 343783554 | F35: =((E35*100)/D35)-100 -> 6.397445
B37: =E6 -> 2012 | C37: =D6 -> 2011 | F37: =B37 -> 2012 | G37: =C37 -> 2011
A38: =A7 -> A CORUÑA | B38: =E7 -> 9514666 | C38: =D7 -> 8664257 | D38: =_xlfn.RANK.EQ(B38,$B$38:$B$65)+COUNTIF($B$38:$B$65,B38)-1 -> 12 | E38: =INDEX($A$38:$B$65,MATCH(ROW()-37,$D$38:$D$65,0),1) -> BAHIA DE ALGECIRAS | F38: =LOOKUP(E38,$A$38:$A$65,$B$38:$B$65) -> 61654495 | G38: =LOOKUP(E38,$A$38:$A$65,$C$38:$C$65) -> 52006228
A39: =A8 -> ALICANTE | B39: =E8 -> 1702277 | C39: =D8 -> 1696436 | D39: =_xlfn.RANK.EQ(B39,$B$38:$B$65)+COUNTIF($B$38:$B$65,B39)-1 -> 23 | E39: =INDEX($A$38:$B$65,MATCH(ROW()-37,$D$38:$D$65,0),1) -> VALENCIA | F39: =LOOKUP(E39,$A$38:$A$65,$B$38:$B$65) -> 48459724 | G39: =LOOKUP(E39,$A$38:$A$65,$C$38:$C$65) -> 49074321
A40: =A9 -> ALMERIA | B40: =E9 -> 4190345 | C40: =D9 -> 3418616 | D40: =_xlfn.RANK.EQ(B40,$B$38:$B$65)+COUNTIF($B$38:$B$65,B40)-1 -> 16 | E40: =INDEX($A$38:$B$65,MATCH(ROW()-37,$D$38:$D$65,0),1) -> BARCELONA | F40: =LOOKUP(E40,$A$38:$A$65,$B$38:$B$65) -> 31504212 | G40: =LOOKUP(E40,$A$38:$A$65,$C$38:$C$65) -> 32910136
A41: =A10 -> AVILES | B41: =E10 -> 3760208 | C41: =D10 -> 3879162 | D41: =_xlfn.RANK.EQ(B41,$B$38:$B$65)+COUNTIF($B$38:$B$65,B41)-1 -> 17 | E41: =INDEX($A$38:$B$65,MATCH(ROW()-37,$D$38:$D$65,0),1) -> TARRAGONA | F41: =LOOKUP(E41,$A$38:$A$65,$B$38:$B$65) -> 25001281 | G41: =LOOKUP(E41,$A$38:$A$65,$C$38:$C$65) -> 24031505
A42: =A11 -> BAHIA DE ALGECIRAS | B42: =E11 -> 61654495 | C42: =D11 -> 52006228 | D42: =_xlfn.RANK.EQ(B42,$B$38:$B$65)+COUNTIF($B$38:$B$65,B42)-1 -> 1 | E42: =INDEX($A$38:$B$65,MATCH(ROW()-37,$D$38:$D$65,0),1) -> CARTAGENA | F42: =LOOKUP(E42,$A$38:$A$65,$B$38:$B$65) -> 22236039 | G42: =LOOKUP(E42,$A$38:$A$65,$C$38:$C$65) -> 15529770
A43: =A12 -> BAHIA DE CADIZ | B43: =E12 -> 2782990 | C43: =D12 -> 2916417 | D43: =_xlfn.RANK.EQ(B43,$B$38:$B$65)+COUNTIF($B$38:$B$65,B43)-1 -> 20 | E43: =INDEX($A$38:$B$65,MATCH(ROW()-37,$D$38:$D$65,0),1) -> HUELVA | F43: =LOOKUP(E43,$A$38:$A$65,$B$38:$B$65) -> 21132324 | G43: =LOOKUP(E43,$A$38:$A$65,$C$38:$C$65) -> 18098885
A44: =A13 -> BALEARES | B44: =E13 -> 9160554 | C44: =D13 -> 8840425 | D44: =_xlfn.RANK.EQ(B44,$B$38:$B$65)+COUNTIF($B$38:$B$65,B44)-1 -> 13 | E44: =INDEX($A$38:$B$65,MATCH(ROW()-37,$D$38:$D$65,0),1) -> BILBAO | F44: =LOOKUP(E44,$A$38:$A$65,$B$38:$B$65) -> 20930688 | G44: =LOOKUP(E44,$A$38:$A$65,$C$38:$C$65) -> 24607827
A45: =A14 -> BARCELONA | B45: =E14 -> 31504212 | C45: =D14 -> 32910136 | D45: =_xlfn.RANK.EQ(B45,$B$38:$B$65)+COUNTIF($B$38:$B$65,B45)-1 -> 3 | E45: =INDEX($A$38:$B$65,MATCH(ROW()-37,$D$38:$D$65,0),1) -> LAS PALMAS | F45: =LOOKUP(E45,$A$38:$A$65,$B$38:$B$65) -> 17271016 | G45: =LOOKUP(E45,$A$38:$A$65,$C$38:$C$65) -> 16714296
A46: =A15 -> BILBAO | B46: =E15 -> 20930688 | C46: =D15 -> 24607827 | D46: =_xlfn.RANK.EQ(B46,$B$38:$B$65)+COUNTIF($B$38:$B$65,B46)-1 -> 7 | E46: =INDEX($A$38:$B$65,MATCH(ROW()-37,$D$38:$D$65,0),1) -> GIJON | F46: =LOOKUP(E46,$A$38:$A$65,$B$38:$B$65) -> 12153303 | G46: =LOOKUP(E46,$A$38:$A$65,$C$38:$C$65) -> 10875632
A47: =A16 -> CARTAGENA | B47: =E16 -> 22236039 | C47: =D16 -> 15529770 | D47: =_xlfn.RANK.EQ(B47,$B$38:$B$65)+COUNTIF($B$38:$B$65,B47)-1 -> 5 | E47: =INDEX($A$38:$B$65,MATCH(ROW()-37,$D$38:$D$65,0),1) -> SANTA CRUZ DE TENERIFE | F47: =LOOKUP(E47,$A$38:$A$65,$B$38:$B$65) -> 10526610 | G47: =LOOKUP(E47,$A$38:$A$65,$C$38:$C$65) -> 9985521
A48: =A17 -> CASTELLON | B48: =E17 -> 8880877 | C48: =D17 -> 9895879 | D48: =_xlfn.RANK.EQ(B48,$B$38:$B$65)+COUNTIF($B$38:$B$65,B48)-1 -> 14 | E48: =INDEX($A$38:$B$65,MATCH(ROW()-37,$D$38:$D$65,0),1) -> FERROL-SAN CIBRAO | F48: =LOOKUP(E48,$A$38:$A$65,$B$38:$B$65) -> 10401891 | G48: =LOOKUP(E48,$A$38:$A$65,$C$38:$C$65) -> 8523445
A49: =A18 -> CEUTA | B49: =E18 -> 1571668 | C49: =D18 -> 1524783 | D49: =_xlfn.RANK.EQ(B49,$B$38:$B$65)+COUNTIF($B$38:$B$65,B49)-1 -> 24 | E49: =INDEX($A$38:$B$65,MATCH(ROW()-37,$D$38:$D$65,0),1) -> A CORUÑA | F49: =LOOKUP(E49,$A$38:$A$65,$B$38:$B$65) -> 9514666 | G49: =LOOKUP(E49,$A$38:$A$65,$C$38:$C$65) -> 8664257
... A65: =A34 -> VILAGARCIA | B65: =E34 -> 734070 | C65: =D34 -> 544988 | D65: =_xlfn.RANK.EQ(B65,$B$38:$B$65)+COUNTIF($B$38:$B$65,B65)-1 -> 27 | E65: =INDEX($A$38:$B$65,MATCH(ROW()-37,$D$38:$D$65,0),1) -> MELILLA | F65: =LOOKUP(E65,$A$38:$A$65,$B$38:$B$65) -> 705936 | G65: =LOOKUP(E65,$A$38:$A$65,$C$38:$C$65) -> 632887

Sheet Líquidos
F1: 2. GRANELES LÍQUIDOS (Toneladas)
A5: Autoridad Portuaria | B5: ='Resumen general'!D6 -> Mes Septiembre | D5: ='Resumen general'!F6 -> Acumulado desde Enero | L5: ='Resumen general'!I4 -> 41218
B6: ='Resumen general'!D7 -> 2011 | C6: ='Resumen general'!E7 -> 2012 | D6: ='Resumen general'!F7 -> 2011 | E6: ='Resumen general'!G7 -> 2012 | F6: Var. (%)
A7: A CORUÑA | B7: 525866 | C7: 716458 | D7: 5272047 | E7: 5379054 | F7: =((E7*100)/D7)-100 -> 2.029705
A8: ALICANTE | B8: 4988 | C8: 0 | D8: 66040 | E8: 43242 | F8: =((E8*100)/D8)-100 -> -34.521502
A9: ALMERIA | B9: 0 | C9: 2094 | D9: 2986 | E9: 10245 | F9: =((E9*100)/D9)-100 -> 243.10114
A10: AVILES | B10: 42150 | C10: 42555 | D10: 401366 | E10: 471026 | F10: =((E10*100)/D10)-100 -> 17.35573
A11: BAHIA DE ALGECIRAS | B11: 1733817 | C11: 1845856 | D11: 17571969 | E11: 17477002 | F11: =((E11*100)/D11)-100 -> -0.54044598
A12: BAHIA DE CADIZ | B12: 25304 | C12: 0 | D12: 80307 | E12: 48937 | F12: =((E12*100)/D12)-100 -> -39.062597
A13: BALEARES | B13: 150833 | C13: 201793 | D13: 1287179 | E13: 1302611 | F13: =((E13*100)/D13)-100 -> 1.1989009
A14: BARCELONA | B14: 919269 | C14: 870126 | D14: 8226270 | E14: 7768423 | F14: =((E14*100)/D14)-100 -> -5.5656695
A15: BILBAO | B15: 1502620 | C15: 1577969 | D15: 14107840 | E15: 10615450 | F15: =((E15*100)/D15)-100 -> -24.754959
A16: CARTAGENA | B16: 1452681 | C16: 1911944 | D16: 12162010 | E16: 17795010 | F16: =((E16*100)/D16)-100 -> 46.316357
A17: CASTELLON | B17: 547356 | C17: 652838 | D17: 5912334 | E17: 4923790 | F17: =((E17*100)/D17)-100 -> -16.72003
A18: CEUTA | B18: 44306 | C18: 55132 | D18: 776018 | E18: 751220 | F18: =((E18*100)/D18)-100 -> -3.1955444
... A34: VILAGARCIA | B34: 0 | C34: 7672 | D34: 143051 | E34: 150018 | F34: =((E34*100)/D34)-100 -> 4.870291
A35: Total | B35: =SUM(B7:B34) -> 11975925 | C35: =SUM(C7:C34) -> 13116588 | D35: =SUM(D7:D34) -> 111399985 | E35: =SUM(E7:E34) -> 114123113 | F35: =((E35*100)/D35)-100 -> 2.4444599
B37: =E6 -> 2012 | C37: =D6 -> 2011 | F37: =B37 -> 2012 | G37: =C37 -> 2011
A38: =A7 -> A CORUÑA | B38: =E7 -> 5379054 | C38: =D7 -> 5272047 | D38: =_xlfn.RANK.EQ(B38,$B$38:$B$65)+COUNTIF($B$38:$B$65,B38)-1 -> 8 | E38: =INDEX($A$38:$B$65,MATCH(ROW()-37,$D$38:$D$65,0),1) -> CARTAGENA | F38: =LOOKUP(E38,$A$38:$A$65,$B$38:$B$65) -> 17795010 | G38: =LOOKUP(E38,$A$38:$A$65,$C$38:$C$65) -> 12162010
A39: =A8 -> ALICANTE | B39: =E8 -> 43242 | C39: =D8 -> 66040 | D39: =_xlfn.RANK.EQ(B39,$B$38:$B$65)+COUNTIF($B$38:$B$65,B39)-1 -> 25 | E39: =INDEX($A$38:$B$65,MATCH(ROW()-37,$D$38:$D$65,0),1) -> BAHIA DE ALGECIRAS | F39: =LOOKUP(E39,$A$38:$A$65,$B$38:$B$65) -> 17477002 | G39: =LOOKUP(E39,$A$38:$A$65,$C$38:$C$65) -> 17571969
A40: =A9 -> ALMERIA | B40: =E9 -> 10245 | C40: =D9 -> 2986 | D40: =_xlfn.RANK.EQ(B40,$B$38:$B$65)+COUNTIF($B$38:$B$65,B40)-1 -> 26 | E40: =INDEX($A$38:$B$65,MATCH(ROW()-37,$D$38:$D$65,0),1) -> HUELVA | F40: =LOOKUP(E40,$A$38:$A$65,$B$38:$B$65) -> 17199188 | G40: =LOOKUP(E40,$A$38:$A$65,$C$38:$C$65) -> 14874825
A41: =A10 -> AVILES | B41: =E10 -> 471026 | C41: =D10 -> 401366 | D41: =_xlfn.RANK.EQ(B41,$B$38:$B$65)+COUNTIF($B$38:$B$65,B41)-1 -> 17 | E41: =INDEX($A$38:$B$65,MATCH(ROW()-37,$D$38:$D$65,0),1) -> TARRAGONA | F41: =LOOKUP(E41,$A$38:$A$65,$B$38:$B$65) -> 14488593 | G41: =LOOKUP(E41,$A$38:$A$65,$C$38:$C$65) -> 14110855
A42: =A11 -> BAHIA DE ALGECIRAS | B42: =E11 -> 17477002 | C42: =D11 -> 17571969 | D42: =_xlfn.RANK.EQ(B42,$B$38:$B$65)+COUNTIF($B$38:$B$65,B42)-1 -> 2 | E42: =INDEX($A$38:$B$65,MATCH(ROW()-37,$D$38:$D$65,0),1) -> BILBAO | F42: =LOOKUP(E42,$A$38:$A$65,$B$38:$B$65) -> 10615450 | G42: =LOOKUP(E42,$A$38:$A$65,$C$38:$C$65) -> 14107840
A43: =A12 -> BAHIA DE CADIZ | B43: =E12 -> 48937 | C43: =D12 -> 80307 | D43: =_xlfn.RANK.EQ(B43,$B$38:$B$65)+COUNTIF($B$38:$B$65,B43)-1 -> 24 | E43: =INDEX($A$38:$B$65,MATCH(ROW()-37,$D$38:$D$65,0),1) -> BARCELONA | F43: =LOOKUP(E43,$A$38:$A$65,$B$38:$B$65) -> 7768423 | G43: =LOOKUP(E43,$A$38:$A$65,$C$38:$C$65) -> 8226270
A44: =A13 -> BALEARES | B44: =E13 -> 1302611 | C44: =D13 -> 1287179 | D44: =_xlfn.RANK.EQ(B44,$B$38:$B$65)+COUNTIF($B$38:$B$65,B44)-1 -> 13 | E44: =INDEX($A$38:$B$65,MATCH(ROW()-37,$D$38:$D$65,0),1) -> SANTA CRUZ DE TENERIFE | F44: =LOOKUP(E44,$A$38:$A$65,$B$38:$B$65) -> 5808005 | G44: =LOOKUP(E44,$A$38:$A$65,$C$38:$C$65) -> 5114464
A45: =A14 -> BARCELONA | B45: =E14 -> 7768423 | C45: =D14 -> 8226270 | D45: =_xlfn.RANK.EQ(B45,$B$38:$B$65)+COUNTIF($B$38:$B$65,B45)-1 -> 6 | E45: =INDEX($A$38:$B$65,MATCH(ROW()-37,$D$38:$D$65,0),1) -> A CORUÑA | F45: =LOOKUP(E45,$A$38:$A$65,$B$38:$B$65) -> 5379054 | G45: =LOOKUP(E45,$A$38:$A$65,$C$38:$C$65) -> 5272047
A46: =A15 -> BILBAO | B46: =E15 -> 10615450 | C46: =D15 -> 14107840 | D46: =_xlfn.RANK.EQ(B46,$B$38:$B$65)+COUNTIF($B$38:$B$65,B46)-1 -> 5 | E46: =INDEX($A$38:$B$65,MATCH(ROW()-37,$D$38:$D$65,0),1) -> CASTELLON | F46: =LOOKUP(E46,$A$38:$A$65,$B$38:$B$65) -> 4923790 | G46: =LOOKUP(E46,$A$38:$A$65,$C$38:$C$65) -> 5912334
A47: =A16 -> CARTAGENA | B47: =E16 -> 17795010 | C47: =D16 -> 12162010 | D47: =_xlfn.RANK.EQ(B47,$B$38:$B$65)+COUNTIF($B$38:$B$65,B47)-1 -> 1 | E47: =INDEX($A$38:$B$65,MATCH(ROW()-37,$D$38:$D$65,0),1) -> LAS PALMAS | F47: =LOOKUP(E47,$A$38:$A$65,$B$38:$B$65) -> 3355135 | G47: =LOOKUP(E47,$A$38:$A$65,$C$38:$C$65) -> 3600258
A48: =A17 -> CASTELLON | B48: =E17 -> 4923790 | C48: =D17 -> 5912334 | D48: =_xlfn.RANK.EQ(B48,$B$38:$B$65)+COUNTIF($B$38:$B$65,B48)-1 -> 9 | E48: =INDEX($A$38:$B$65,MATCH(ROW()-37,$D$38:$D$65,0),1) -> VALENCIA | F48: =LOOKUP(E48,$A$38:$A$65,$B$38:$B$65) -> 2703607 | G48: =LOOKUP(E48,$A$38:$A$65,$C$38:$C$65) -> 3436598
A49: =A18 -> CEUTA | B49: =E18 -> 751220 | C49: =D18 -> 776018 | D49: =_xlfn.RANK.EQ(B49,$B$38:$B$65)+COUNTIF($B$38:$B$65,B49)-1 -> 15 | E49: =INDEX($A$38:$B$65,MATCH(ROW()-37,$D$38:$D$65,0),1) -> FERROL-SAN CIBRAO | F49: =LOOKUP(E49,$A$38:$A$65,$B$38:$B$65) -> 1650120 | G49: =LOOKUP(E49,$A$38:$A$65,$C$38:$C$65) -> 1932914
... A65: =A34 -> VILAGARCIA | B65: =E34 -> 150018 | C65: =D34 -> 143051 | D65: =_xlfn.RANK.EQ(B65,$B$38:$B$65)+COUNTIF($B$38:$B$65,B65)-1 -> 20 | E65: =INDEX($A$38:$B$65,MATCH(ROW()-37,$D$38:$D$65,0),1) -> MARIN Y RIA DE PONTEVEDRA | F65: =LOOKUP(E65,$A$38:$A$65,$B$38:$B$65) -> 0 | G65: =LOOKUP(E65,$A$38:$A$65,$C$38:$C$65) -> 0

Sheet Sólidos
F1: 3. GRANELES SÓLIDOS (Toneladas)
A5: Autoridad Portuaria | B5: ='Resumen general'!D6 -> Mes Septiembre | D5: ='Resumen general'!F6 -> Acumulado desde Enero | L5: ='Resumen general'!I4 -> 41218
B6: ='Resumen general'!D7 -> 2011 | C6: ='Resumen general'!E7 -> 2012 | D6: ='Resumen general'!F7 -> 2011 | E6: ='Resumen general'!G7 -> 2012 | F6: Var. (%)
A7: A CORUÑA | B7: 231089 | C7: 434712 | D7: 2528578 | E7: 3070858 | F7: =((E7*100)/D7)-100 -> 21.446046
A8: ALICANTE | B8: 102537 | C8: 68584 | D8: 555942 | E8: 507190 | F8: =((E8*100)/D8)-100 -> -8.7692601
A9: ALMERIA | B9: 390551 | C9: 325566 | D9: 2983201 | E9: 3717900 | F9: =((E9*100)/D9)-100 -> 24.627875
A10: AVILES | B10: 175329 | C10: 297968 | D10: 2519708 | E10: 2386575 | F10: =((E10*100)/D10)-100 -> -5.2836678
A11: BAHIA DE ALGECIRAS | B11: 199056 | C11: 190915 | D11: 1024460 | E11: 1448969 | F11: =((E11*100)/D11)-100 -> 41.437343
A12: BAHIA DE CADIZ | B12: 234830 | C12: 173829 | D12: 1350360 | E12: 1333313 | F12: =((E12*100)/D12)-100 -> -1.2624041
A13: BALEARES | B13: 162461 | C13: 127518 | D13: 1255220 | E13: 1234421 | F13: =((E13*100)/D13)-100 -> -1.6570004
A14: BARCELONA | B14: 281058 | C14: 424216 | D14: 2689765 | E14: 3651166 | F14: =((E14*100)/D14)-100 -> 35.742937
A15: BILBAO | B15: 263374 | C15: 338941 | D15: 3213422 | E15: 3216559 | F15: =((E15*100)/D15)-100 -> 0.097621788
A16: CARTAGENA | B16: 362353 | C16: 333248 | D16: 2505003 | E16: 3674055 | F16: =((E16*100)/D16)-100 -> 46.668687
A17: CASTELLON | B17: 274031 | C17: 227721 | D17: 2415747 | E17: 2163021 | F17: =((E17*100)/D17)-100 -> -10.461609
A18: CEUTA | B18: 9550 | C18: 15741 | D18: 100589 | E18: 133400 | F18: =((E18*100)/D18)-100 -> 32.618875
... A34: VILAGARCIA | B34: 22070 | C34: 29765 | D34: 229049 | E34: 249947 | F34: =((E34*100)/D34)-100 -> 9.1238119
A35: Total | B35: =SUM(B7:B34) -> 6790735 | C35: =SUM(C7:C34) -> 7585925 | D35: =SUM(D7:D34) -> 58308236 | E35: =SUM(E7:E34) -> 65477065 | F35: =((E35*100)/D35)-100 -> 12.294711
B37: =E6 -> 2012 | C37: =D6 -> 2011 | F37: =B37 -> 2012 | G37: =C37 -> 2011
A38: =A7 -> A CORUÑA | B38: =E7 -> 3070858 | C38: =D7 -> 2528578 | D38: =_xlfn.RANK.EQ(B38,$B$38:$B$65)+COUNTIF($B$38:$B$65,B38)-1 -> 9 | E38: =INDEX($A$38:$B$65,MATCH(ROW()-37,$D$38:$D$65,0),1) -> GIJON | F38: =LOOKUP(E38,$A$38:$A$65,$B$38:$B$65) -> 10256769 | G38: =LOOKUP(E38,$A$38:$A$65,$C$38:$C$65) -> 9095594
A39: =A8 -> ALICANTE | B39: =E8 -> 507190 | C39: =D8 -> 555942 | D39: =_xlfn.RANK.EQ(B39,$B$38:$B$65)+COUNTIF($B$38:$B$65,B39)-1 -> 21 | E39: =INDEX($A$38:$B$65,MATCH(ROW()-37,$D$38:$D$65,0),1) -> TARRAGONA | F39: =LOOKUP(E39,$A$38:$A$65,$B$38:$B$65) -> 8116224 | G39: =LOOKUP(E39,$A$38:$A$65,$C$38:$C$65) -> 7164379
A40: =A9 -> ALMERIA | B40: =E9 -> 3717900 | C40: =D9 -> 2983201 | D40: =_xlfn.RANK.EQ(B40,$B$38:$B$65)+COUNTIF($B$38:$B$65,B40)-1 -> 4 | E40: =INDEX($A$38:$B$65,MATCH(ROW()-37,$D$38:$D$65,0),1) -> FERROL-SAN CIBRAO | F40: =LOOKUP(E40,$A$38:$A$65,$B$38:$B$65) -> 8102594 | G40: =LOOKUP(E40,$A$38:$A$65,$C$38:$C$65) -> 6097948
A41: =A10 -> AVILES | B41: =E10 -> 2386575 | C41: =D10 -> 2519708 | D41: =_xlfn.RANK.EQ(B41,$B$38:$B$65)+COUNTIF($B$38:$B$65,B41)-1 -> 10 | E41: =INDEX($A$38:$B$65,MATCH(ROW()-37,$D$38:$D$65,0),1) -> ALMERIA | F41: =LOOKUP(E41,$A$38:$A$65,$B$38:$B$65) -> 3717900 | G41: =LOOKUP(E41,$A$38:$A$65,$C$38:$C$65) -> 2983201
A42: =A11 -> BAHIA DE ALGECIRAS | B42: =E11 -> 1448969 | C42: =D11 -> 1024460 | D42: =_xlfn.RANK.EQ(B42,$B$38:$B$65)+COUNTIF($B$38:$B$65,B42)-1 -> 14 | E42: =INDEX($A$38:$B$65,MATCH(ROW()-37,$D$38:$D$65,0),1) -> CARTAGENA | F42: =LOOKUP(E42,$A$38:$A$65,$B$38:$B$65) -> 3674055 | G42: =LOOKUP(E42,$A$38:$A$65,$C$38:$C$65) -> 2505003
A43: =A12 -> BAHIA DE CADIZ | B43: =E12 -> 1333313 | C43: =D12 -> 1350360 | D43: =_xlfn.RANK.EQ(B43,$B$38:$B$65)+COUNTIF($B$38:$B$65,B43)-1 -> 15 | E43: =INDEX($A$38:$B$65,MATCH(ROW()-37,$D$38:$D$65,0),1) -> BARCELONA | F43: =LOOKUP(E43,$A$38:$A$65,$B$38:$B$65) -> 3651166 | G43: =LOOKUP(E43,$A$38:$A$65,$C$38:$C$65) -> 2689765
A44: =A13 -> BALEARES | B44: =E13 -> 1234421 | C44: =D13 -> 1255220 | D44: =_xlfn.RANK.EQ(B44,$B$38:$B$65)+COUNTIF($B$38:$B$65,B44)-1 -> 17 | E44: =INDEX($A$38:$B$65,MATCH(ROW()-37,$D$38:$D$65,0),1) -> HUELVA | F44: =LOOKUP(E44,$A$38:$A$65,$B$38:$B$65) -> 3399835 | G44: =LOOKUP(E44,$A$38:$A$65,$C$38:$C$65) -> 2924345
A45: =A14 -> BARCELONA | B45: =E14 -> 3651166 | C45: =D14 -> 2689765 | D45: =_xlfn.RANK.EQ(B45,$B$38:$B$65)+COUNTIF($B$38:$B$65,B45)-1 -> 6 | E45: =INDEX($A$38:$B$65,MATCH(ROW()-37,$D$38:$D$65,0),1) -> BILBAO | F45: =LOOKUP(E45,$A$38:$A$65,$B$38:$B$65) -> 3216559 | G45: =LOOKUP(E45,$A$38:$A$65,$C$38:$C$65) -> 3213422
A46: =A15 -> BILBAO | B46: =E15 -> 3216559 | C46: =D15 -> 3213422 | D46: =_xlfn.RANK.EQ(B46,$B$38:$B$65)+COUNTIF($B$38:$B$65,B46)-1 -> 8 | E46: =INDEX($A$38:$B$65,MATCH(ROW()-37,$D$38:$D$65,0),1) -> A CORUÑA | F46: =LOOKUP(E46,$A$38:$A$65,$B$38:$B$65) -> 3070858 | G46: =LOOKUP(E46,$A$38:$A$65,$C$38:$C$65) -> 2528578
A47: =A16 -> CARTAGENA | B47: =E16 -> 3674055 | C47: =D16 -> 2505003 | D47: =_xlfn.RANK.EQ(B47,$B$38:$B$65)+COUNTIF($B$38:$B$65,B47)-1 -> 5 | E47: =INDEX($A$38:$B$65,MATCH(ROW()-37,$D$38:$D$65,0),1) -> AVILES | F47: =LOOKUP(E47,$A$38:$A$65,$B$38:$B$65) -> 2386575 | G47: =LOOKUP(E47,$A$38:$A$65,$C$38:$C$65) -> 2519708
A48: =A17 -> CASTELLON | B48: =E17 -> 2163021 | C48: =D17 -> 2415747 | D48: =_xlfn.RANK.EQ(B48,$B$38:$B$65)+COUNTIF($B$38:$B$65,B48)-1 -> 12 | E48: =INDEX($A$38:$B$65,MATCH(ROW()-37,$D$38:$D$65,0),1) -> SANTANDER | F48: =LOOKUP(E48,$A$38:$A$65,$B$38:$B$65) -> 2262851 | G48: =LOOKUP(E48,$A$38:$A$65,$C$38:$C$65) -> 2399105
A49: =A18 -> CEUTA | B49: =E18 -> 133400 | C49: =D18 -> 100589 | D49: =_xlfn.RANK.EQ(B49,$B$38:$B$65)+COUNTIF($B$38:$B$65,B49)-1 -> 27 | E49: =INDEX($A$38:$B$65,MATCH(ROW()-37,$D$38:$D$65,0),1) -> CASTELLON | F49: =LOOKUP(E49,$A$38:$A$65,$B$38:$B$65) -> 2163021 | G49: =LOOKUP(E49,$A$38:$A$65,$C$38:$C$65) -> 2415747
... A65: =A34 -> VILAGARCIA | B65: =E34 -> 249947 | C65: =D34 -> 229049 | D65: =_xlfn.RANK.EQ(B65,$B$38:$B$65)+COUNTIF($B$38:$B$65,B65)-1 -> 25 | E65: =INDEX($A$38:$B$65,MATCH(ROW()-37,$D$38:$D$65,0),1) -> MELILLA | F65: =LOOKUP(E65,$A$38:$A$65,$B$38:$B$65) -> 16002 | G65: =LOOKUP(E65,$A$38:$A$65,$C$38:$C$65) -> 27517

Sheet Mercancía general
F1: 4. MERCANCÍA GENERAL (Toneladas)
A5: Autoridad Portuaria | B5: ='Resumen general'!D6 -> Mes Septiembre | D5: ='Resumen general'!F6 -> Acumulado desde Enero | L5: ='Resumen general'!I4 -> 41218
B6: ='Resumen general'!D7 -> 2011 | C6: ='Resumen general'!E7 -> 2012 | D6: ='Resumen general'!F7 -> 2011 | E6: ='Resumen general'!G7 -> 2012 | F6: Var. (%)
A7: A CORUÑA | B7: 103904 | C7: 129113 | D7: 863632 | E7: 1064754 | F7: =((E7*100)/D7)-100 -> 23.287928
A8: ALICANTE | B8: 106333 | C8: 119702 | D8: 1074454 | E8: 1151845 | F8: =((E8*100)/D8)-100 -> 7.2028212
A9: ALMERIA | B9: 39567 | C9: 39921 | D9: 432429 | E9: 462200 | F9: =((E9*100)/D9)-100 -> 6.8845984
A10: AVILES | B10: 77379 | C10: 104699 | D10: 958088 | E10: 902607 | F10: =((E10*100)/D10)-100 -> -5.7908042
A11: BAHIA DE ALGECIRAS | B11: 3591435 | C11: 4351006 | D11: 33409799 | E11: 42728524 | F11: =((E11*100)/D11)-100 -> 27.892191
A12: BAHIA DE CADIZ | B12: 154838 | C12: 166586 | D12: 1485750 | E12: 1400740 | F12: =((E12*100)/D12)-100 -> -5.7216894
A13: BALEARES | B13: 681169 | C13: 694526 | D13: 6298026 | E13: 6623522 | F13: =((E13*100)/D13)-100 -> 5.1682226
A14: BARCELONA | B14: 2359650 | C14: 2209918 | D14: 21994101 | E14: 20084623 | F14: =((E14*100)/D14)-100 -> -8.6817734
A15: BILBAO | B15: 762731 | C15: 749243 | D15: 7286565 | E15: 7098679 | F15: =((E15*100)/D15)-100 -> -2.5785264
A16: CARTAGENA | B16: 105085 | C16: 91233 | D16: 862757 | E16: 766974 | F16: =((E16*100)/D16)-100 -> -11.101967
A17: CASTELLON | B17: 172590 | C17: 190039 | D17: 1567798 | E17: 1794066 | F17: =((E17*100)/D17)-100 -> 14.432216
A18: CEUTA | B18: 73510 | C18: 80060 | D18: 648176 | E18: 687048 | F18: =((E18*100)/D18)-100 -> 5.9971366
... A34: VILAGARCIA | B34: 36389 | C34: 39657 | D34: 172888 | E34: 334105 | F34: =((E34*100)/D34)-100 -> 93.249387
A35: Total | B35: =SUM(B7:B34) -> 16958443 | C35: =SUM(C7:C34) -> 17006953 | D35: =SUM(D7:D34) -> 153404382 | E35: =SUM(E7:E34) -> 164183376 | F35: =((E35*100)/D35)-100 -> 7.0265229
B37: =E6 -> 2012 | C37: =D6 -> 2011 | F37: =B37 -> 2012 | G37: =C37 -> 2011
A38: =A7 -> A CORUÑA | B38: =E7 -> 1064754 | C38: =D7 -> 863632 | D38: =_xlfn.RANK.EQ(B38,$B$38:$B$65)+COUNTIF($B$38:$B$65,B38)-1 -> 18 | E38: =INDEX($A$38:$B$65,MATCH(ROW()-37,$D$38:$D$65,0),1) -> VALENCIA | F38: =LOOKUP(E38,$A$38:$A$65,$B$38:$B$65) -> 44239281 | G38: =LOOKUP(E38,$A$38:$A$65,$C$38:$C$65) -> 43823387
A39: =A8 -> ALICANTE | B39: =E8 -> 1151845 | C39: =D8 -> 1074454 | D39: =_xlfn.RANK.EQ(B39,$B$38:$B$65)+COUNTIF($B$38:$B$65,B39)-1 -> 17 | E39: =INDEX($A$38:$B$65,MATCH(ROW()-37,$D$38:$D$65,0),1) -> BAHIA DE ALGECIRAS | F39: =LOOKUP(E39,$A$38:$A$65,$B$38:$B$65) -> 42728524 | G39: =LOOKUP(E39,$A$38:$A$65,$C$38:$C$65) -> 33409799
A40: =A9 -> ALMERIA | B40: =E9 -> 462200 | C40: =D9 -> 432429 | D40: =_xlfn.RANK.EQ(B40,$B$38:$B$65)+COUNTIF($B$38:$B$65,B40)-1 -> 26 | E40: =INDEX($A$38:$B$65,MATCH(ROW()-37,$D$38:$D$65,0),1) -> BARCELONA | F40: =LOOKUP(E40,$A$38:$A$65,$B$38:$B$65) -> 20084623 | G40: =LOOKUP(E40,$A$38:$A$65,$C$38:$C$65) -> 21994101
A41: =A10 -> AVILES | B41: =E10 -> 902607 | C41: =D10 -> 958088 | D41: =_xlfn.RANK.EQ(B41,$B$38:$B$65)+COUNTIF($B$38:$B$65,B41)-1 -> 19 | E41: =INDEX($A$38:$B$65,MATCH(ROW()-37,$D$38:$D$65,0),1) -> LAS PALMAS | F41: =LOOKUP(E41,$A$38:$A$65,$B$38:$B$65) -> 13618471 | G41: =LOOKUP(E41,$A$38:$A$65,$C$38:$C$65) -> 12689986
A42: =A11 -> BAHIA DE ALGECIRAS | B42: =E11 -> 42728524 | C42: =D11 -> 33409799 | D42: =_xlfn.RANK.EQ(B42,$B$38:$B$65)+COUNTIF($B$38:$B$65,B42)-1 -> 2 | E42: =INDEX($A$38:$B$65,MATCH(ROW()-37,$D$38:$D$65,0),1) -> BILBAO | F42: =LOOKUP(E42,$A$38:$A$65,$B$38:$B$65) -> 7098679 | G42: =LOOKUP(E42,$A$38:$A$65,$C$38:$C$65) -> 7286565
A43: =A12 -> BAHIA DE CADIZ | B43: =E12 -> 1400740 | C43: =D12 -> 1485750 | D43: =_xlfn.RANK.EQ(B43,$B$38:$B$65)+COUNTIF($B$38:$B$65,B43)-1 -> 13 | E43: =INDEX($A$38:$B$65,MATCH(ROW()-37,$D$38:$D$65,0),1) -> BALEARES | F43: =LOOKUP(E43,$A$38:$A$65,$B$38:$B$65) -> 6623522 | G43: =LOOKUP(E43,$A$38:$A$65,$C$38:$C$65) -> 6298026
A44: =A13 -> BALEARES | B44: =E13 -> 6623522 | C44: =D13 -> 6298026 | D44: =_xlfn.RANK.EQ(B44,$B$38:$B$65)+COUNTIF($B$38:$B$65,B44)-1 -> 6 | E44: =INDEX($A$38:$B$65,MATCH(ROW()-37,$D$38:$D$65,0),1) -> SANTA CRUZ DE TENERIFE | F44: =LOOKUP(E44,$A$38:$A$65,$B$38:$B$65) -> 4244016 | G44: =LOOKUP(E44,$A$38:$A$65,$C$38:$C$65) -> 4313909
A45: =A14 -> BARCELONA | B45: =E14 -> 20084623 | C45: =D14 -> 21994101 | D45: =_xlfn.RANK.EQ(B45,$B$38:$B$65)+COUNTIF($B$38:$B$65,B45)-1 -> 3 | E45: =INDEX($A$38:$B$65,MATCH(ROW()-37,$D$38:$D$65,0),1) -> MALAGA | F45: =LOOKUP(E45,$A$38:$A$65,$B$38:$B$65) -> 3815088 | G45: =LOOKUP(E45,$A$38:$A$65,$C$38:$C$65) -> 2411755
A46: =A15 -> BILBAO | B46: =E15 -> 7098679 | C46: =D15 -> 7286565 | D46: =_xlfn.RANK.EQ(B46,$B$38:$B$65)+COUNTIF($B$38:$B$65,B46)-1 -> 5 | E46: =INDEX($A$38:$B$65,MATCH(ROW()-37,$D$38:$D$65,0),1) -> VIGO | F46: =LOOKUP(E46,$A$38:$A$65,$B$38:$B$65) -> 2490505 | G46: =LOOKUP(E46,$A$38:$A$65,$C$38:$C$65) -> 2592861
A47: =A16 -> CARTAGENA | B47: =E16 -> 766974 | C47: =D16 -> 862757 | D47: =_xlfn.RANK.EQ(B47,$B$38:$B$65)+COUNTIF($B$38:$B$65,B47)-1 -> 21 | E47: =INDEX($A$38:$B$65,MATCH(ROW()-37,$D$38:$D$65,0),1) -> TARRAGONA | F47: =LOOKUP(E47,$A$38:$A$65,$B$38:$B$65) -> 2396464 | G47: =LOOKUP(E47,$A$38:$A$65,$C$38:$C$65) -> 2756271
A48: =A17 -> CASTELLON | B48: =E17 -> 1794066 | C48: =D17 -> 1567798 | D48: =_xlfn.RANK.EQ(B48,$B$38:$B$65)+COUNTIF($B$38:$B$65,B48)-1 -> 11 | E48: =INDEX($A$38:$B$65,MATCH(ROW()-37,$D$38:$D$65,0),1) -> CASTELLON | F48: =LOOKUP(E48,$A$38:$A$65,$B$38:$B$65) -> 1794066 | G48: =LOOKUP(E48,$A$38:$A$65,$C$38:$C$65) -> 1567798
A49: =A18 -> CEUTA | B49: =E18 -> 687048 | C49: =D18 -> 648176 | D49: =_xlfn.RANK.EQ(B49,$B$38:$B$65)+COUNTIF($B$38:$B$65,B49)-1 -> 22 | E49: =INDEX($A$38:$B$65,MATCH(ROW()-37,$D$38:$D$65,0),1) -> SEVILLA | F49: =LOOKUP(E49,$A$38:$A$65,$B$38:$B$65) -> 1769542 | G49: =LOOKUP(E49,$A$38:$A$65,$C$38:$C$65) -> 1677140
... A65: =A34 -> VILAGARCIA | B65: =E34 -> 334105 | C65: =D34 -> 172888 | D65: =_xlfn.RANK.EQ(B65,$B$38:$B$65)+COUNTIF($B$38:$B$65,B65)-1 -> 27 | E65: =INDEX($A$38:$B$65,MATCH(ROW()-37,$D$38:$D$65,0),1) -> MOTRIL | F65: =LOOKUP(E65,$A$38:$A$65,$B$38:$B$65) -> 214430 | G65: =LOOKUP(E65,$A$38:$A$65,$C$38:$C$65) -> 137670

Sheet Pesca
F1: 5. PESCA (Toneladas)
A5: Autoridad Portuaria | B5: ='Resumen general'!D6 -> Mes Septiembre | D5: ='Resumen general'!F6 -> Acumulado desde Enero | L5: ='Resumen general'!I4 -> 41218
B6: ='Resumen general'!D7 -> 2011 | C6: ='Resumen general'!E7 -> 2012 | D6: ='Resumen general'!F7 -> 2011 | E6: ='Resumen general'!G7 -> 2012 | F6: Var. (%)
A7: A CORUÑA | B7: 4321 | C7: 2977 | D7: 33676 | E7: 33425 | F7: =((E7*100)/D7)-100 -> -0.74533793
A8: ALICANTE | B8: 63 | C8: 26 | D8: 263 | E8: 238 | F8: =((E8*100)/D8)-100 -> -9.5057034
A9: ALMERIA | B9: 526 | C9: 506 | D9: 2940 | E9: 4685 | F9: =((E9*100)/D9)-100 -> 59.353741
A10: AVILES | B10: 1043 | C10: 3 | D10: 11877 | E10: 9429 | F10: =((E10*100)/D10)-100 -> -20.611265
A11: BAHIA DE ALGECIRAS | B11: 58 | C11: 138 | D11: 787 | E11: 959 | F11: =((E11*100)/D11)-100 -> 21.855146
A12: BAHIA DE CADIZ | B12: 1649 | C12: 1492 | D12: 14223 | E12: 16316 | F12: =((E12*100)/D12)-100 -> 14.715601
A13: BALEARES | B13: 52 | C13: 219 | D13: 2241 | E13: 2316 | F13: =((E13*100)/D13)-100 -> 3.3467202
A14: BARCELONA | B14: 187 | C14: 0 | D14: 2108 | E14: 1225 | F14: =((E14*100)/D14)-100 -> -41.888046
A15: BILBAO | B15: 0 | C15: 0 | D15: 0 | E15: 0 | F15: =((E15*100)/D15)-100 -> #DIV/0!
A16: CARTAGENA | B16: 71 | C16: 43 | D16: 731 | E16: 403 | F16: =((E16*100)/D16)-100 -> -44.870041
A17: CASTELLON | B17: 650 | C17: 483 | D17: 3744 | E17: 3696 | F17: =((E17*100)/D17)-100 -> -1.2820513
A18: CEUTA | B18: 13 | C18: 4 | D18: 53 | E18: 19 | F18: =((E18*100)/D18)-100 -> -64.150943
... A34: VILAGARCIA | B34: 0 | C34: 0 | D34: 0 | E34: 0 | F34: =((E34*100)/D34)-100 -> #DIV/0!
A35: Total | B35: =SUM(B7:B34) -> 22107 | C35: =SUM(C7:C34) -> 17492 | D35: =SUM(D7:D34) -> 180339 | E35: =SUM(E7:E34) -> 172312 | F35: =((E35*100)/D35)-100 -> -4.4510616
B37: =E6 -> 2012 | C37: =D6 -> 2011 | F37: =B37 -> 2012 | G37: =C37 -> 2011
A38: =A7 -> A CORUÑA | B38: =E7 -> 33425 | C38: =D7 -> 33676 | D38: =_xlfn.RANK.EQ(B38,$B$38:$B$65)+COUNTIF($B$38:$B$65,B38)-1 -> 2 | E38: =INDEX($A$38:$B$65,MATCH(ROW()-37,$D$38:$D$65,0),1) -> VIGO | F38: =LOOKUP(E38,$A$38:$A$65,$B$38:$B$65) -> 56651 | G38: =LOOKUP(E38,$A$38:$A$65,$C$38:$C$65) -> 59062
A39: =A8 -> ALICANTE | B39: =E8 -> 238 | C39: =D8 -> 263 | D39: =_xlfn.RANK.EQ(B39,$B$38:$B$65)+COUNTIF($B$38:$B$65,B39)-1 -> 22 | E39: =INDEX($A$38:$B$65,MATCH(ROW()-37,$D$38:$D$65,0),1) -> A CORUÑA | F39: =LOOKUP(E39,$A$38:$A$65,$B$38:$B$65) -> 33425 | G39: =LOOKUP(E39,$A$38:$A$65,$C$38:$C$65) -> 33676
A40: =A9 -> ALMERIA | B40: =E9 -> 4685 | C40: =D9 -> 2940 | D40: =_xlfn.RANK.EQ(B40,$B$38:$B$65)+COUNTIF($B$38:$B$65,B40)-1 -> 8 | E40: =INDEX($A$38:$B$65,MATCH(ROW()-37,$D$38:$D$65,0),1) -> PASAIA | F40: =LOOKUP(E40,$A$38:$A$65,$B$38:$B$65) -> 18151 | G40: =LOOKUP(E40,$A$38:$A$65,$C$38:$C$65) -> 17643
A41: =A10 -> AVILES | B41: =E10 -> 9429 | C41: =D10 -> 11877 | D41: =_xlfn.RANK.EQ(B41,$B$38:$B$65)+COUNTIF($B$38:$B$65,B41)-1 -> 5 | E41: =INDEX($A$38:$B$65,MATCH(ROW()-37,$D$38:$D$65,0),1) -> BAHIA DE CADIZ | F41: =LOOKUP(E41,$A$38:$A$65,$B$38:$B$65) -> 16316 | G41: =LOOKUP(E41,$A$38:$A$65,$C$38:$C$65) -> 14223
A42: =A11 -> BAHIA DE ALGECIRAS | B42: =E11 -> 959 | C42: =D11 -> 787 | D42: =_xlfn.RANK.EQ(B42,$B$38:$B$65)+COUNTIF($B$38:$B$65,B42)-1 -> 18 | E42: =INDEX($A$38:$B$65,MATCH(ROW()-37,$D$38:$D$65,0),1) -> AVILES | F42: =LOOKUP(E42,$A$38:$A$65,$B$38:$B$65) -> 9429 | G42: =LOOKUP(E42,$A$38:$A$65,$C$38:$C$65) -> 11877
A43: =A12 -> BAHIA DE CADIZ | B43: =E12 -> 16316 | C43: =D12 -> 14223 | D43: =_xlfn.RANK.EQ(B43,$B$38:$B$65)+COUNTIF($B$38:$B$65,B43)-1 -> 4 | E43: =INDEX($A$38:$B$65,MATCH(ROW()-37,$D$38:$D$65,0),1) -> SANTA CRUZ DE TENERIFE | F43: =LOOKUP(E43,$A$38:$A$65,$B$38:$B$65) -> 5248 | G43: =LOOKUP(E43,$A$38:$A$65,$C$38:$C$65) -> 4176
A44: =A13 -> BALEARES | B44: =E13 -> 2316 | C44: =D13 -> 2241 | D44: =_xlfn.RANK.EQ(B44,$B$38:$B$65)+COUNTIF($B$38:$B$65,B44)-1 -> 12 | E44: =INDEX($A$38:$B$65,MATCH(ROW()-37,$D$38:$D$65,0),1) -> GIJON | F44: =LOOKUP(E44,$A$38:$A$65,$B$38:$B$65) -> 5128 | G44: =LOOKUP(E44,$A$38:$A$65,$C$38:$C$65) -> 7579
A45: =A14 -> BARCELONA | B45: =E14 -> 1225 | C45: =D14 -> 2108 | D45: =_xlfn.RANK.EQ(B45,$B$38:$B$65)+COUNTIF($B$38:$B$65,B45)-1 -> 17 | E45: =INDEX($A$38:$B$65,MATCH(ROW()-37,$D$38:$D$65,0),1) -> ALMERIA | F45: =LOOKUP(E45,$A$38:$A$65,$B$38:$B$65) -> 4685 | G45: =LOOKUP(E45,$A$38:$A$65,$C$38:$C$65) -> 2940
A46: =A15 -> BILBAO | B46: =E15 -> 0 | C46: =D15 -> 0 | D46: =_xlfn.RANK.EQ(B46,$B$38:$B$65)+COUNTIF($B$38:$B$65,B46)-1 -> 28 | E46: =INDEX($A$38:$B$65,MATCH(ROW()-37,$D$38:$D$65,0),1) -> SANTANDER | F46: =LOOKUP(E46,$A$38:$A$65,$B$38:$B$65) -> 4399 | G46: =LOOKUP(E46,$A$38:$A$65,$C$38:$C$65) -> 5828
A47: =A16 -> CARTAGENA | B47: =E16 -> 403 | C47: =D16 -> 731 | D47: =_xlfn.RANK.EQ(B47,$B$38:$B$65)+COUNTIF($B$38:$B$65,B47)-1 -> 19 | E47: =INDEX($A$38:$B$65,MATCH(ROW()-37,$D$38:$D$65,0),1) -> CASTELLON | F47: =LOOKUP(E47,$A$38:$A$65,$B$38:$B$65) -> 3696 | G47: =LOOKUP(E47,$A$38:$A$65,$C$38:$C$65) -> 3744
A48: =A17 -> CASTELLON | B48: =E17 -> 3696 | C48: =D17 -> 3744 | D48: =_xlfn.RANK.EQ(B48,$B$38:$B$65)+COUNTIF($B$38:$B$65,B48)-1 -> 10 | E48: =INDEX($A$38:$B$65,MATCH(ROW()-37,$D$38:$D$65,0),1) -> MOTRIL | F48: =LOOKUP(E48,$A$38:$A$65,$B$38:$B$65) -> 2696 | G48: =LOOKUP(E48,$A$38:$A$65,$C$38:$C$65) -> 2147
A49: =A18 -> CEUTA | B49: =E18 -> 19 | C49: =D18 -> 53 | D49: =_xlfn.RANK.EQ(B49,$B$38:$B$65)+COUNTIF($B$38:$B$65,B49)-1 -> 24 | E49: =INDEX($A$38:$B$65,MATCH(ROW()-37,$D$38:$D$65,0),1) -> BALEARES | F49: =LOOKUP(E49,$A$38:$A$65,$B$38:$B$65) -> 2316 | G49: =LOOKUP(E49,$A$38:$A$65,$C$38:$C$65) -> 2241
... A65: =A34 -> VILAGARCIA | B65: =E34 -> 0 | C65: =D34 -> 0 | D65: =_xlfn.RANK.EQ(B65,$B$38:$B$65)+COUNTIF($B$38:$B$65,B65)-1 -> 28 | E65: =INDEX($A$38:$B$65,MATCH(ROW()-37,$D$38:$D$65,0),1) -> BILBAO | F65: =LOOKUP(E65,$A$38:$A$65,$B$38:$B$65) -> 0 | G65: =LOOKUP(E65,$A$38:$A$65,$C$38:$C$65) -> 0

Sheet Avituallamiento
F1: 6. AVITUALLAMIENTO (Toneladas)
A5: Autoridad Portuaria | B5: ='Resumen general'!D6 -> Mes Septiembre | D5: ='Resumen general'!F6 -> Acumulado desde Enero | L5: ='Resumen general'!I4 -> 41218
B6: ='Resumen general'!D7 -> 2011 | C6: ='Resumen general'!E7 -> 2012 | D6: ='Resumen general'!F7 -> 2011 | E6: ='Resumen general'!G7 -> 2012 | F6: Var. (%)
A7: A CORUÑA | B7: 8262 | C7: 4293 | D7: 46203 | E7: 38479 | F7: =((E7*100)/D7)-100 -> -16.717529
A8: ALICANTE | B8: 1463 | C8: 696 | D8: 9098 | E8: 12894 | F8: =((E8*100)/D8)-100 -> 41.723456
A9: ALMERIA | B9: 6215 | C9: 5771 | D9: 64502 | E9: 58140 | F9: =((E9*100)/D9)-100 -> -9.8632601
A10: AVILES | B10: 3549 | C10: 570 | D10: 29512 | E10: 29779 | F10: =((E10*100)/D10)-100 -> 0.90471673
A11: BAHIA DE ALGECIRAS | B11: 289164 | C11: 260365 | D11: 2555277 | E11: 2333926 | F11: =((E11*100)/D11)-100 -> -8.6625051
A12: BAHIA DE CADIZ | B12: 10643 | C12: 11559 | D12: 81603 | E12: 66238 | F12: =((E12*100)/D12)-100 -> -18.828965
A13: BALEARES | B13: 34839 | C13: 33892 | D13: 209986 | E13: 166498 | F13: =((E13*100)/D13)-100 -> -20.709952
A14: BARCELONA | B14: 0 | C14: 147627 | D14: 813412 | E14: 894761 | F14: =((E14*100)/D14)-100 -> 10.000959
A15: BILBAO | B15: 10405 | C15: 10570 | D15: 101485 | E15: 90997 | F15: =((E15*100)/D15)-100 -> -10.334532
A16: CARTAGENA | B16: 8672 | C16: 3964 | D16: 49265 | E16: 40991 | F16: =((E16*100)/D16)-100 -> -16.794885
A17: CASTELLON | B17: 3671 | C17: 3224 | D17: 26735 | E17: 26006 | F17: =((E17*100)/D17)-100 -> -2.7267627
A18: CEUTA | B18: 56375 | C18: 59058 | D18: 542575 | E18: 537415 | F18: =((E18*100)/D18)-100 -> -0.9510206
... A34: VILAGARCIA | B34: 533 | C34: 370 | D34: 7810 | E34: 3517 | F34: =((E34*100)/D34)-100 -> -54.96799
A35: Total | B35: =SUM(B7:B34) -> 817800 | C35: =SUM(C7:C34) -> 917581 | D35: =SUM(D7:D34) -> 7986156 | E35: =SUM(E7:E34) -> 7782789 | F35: =((E35*100)/D35)-100 -> -2.5464942
B37: =E6 -> 2012 | C37: =D6 -> 2011 | F37: =B37 -> 2012 | G37: =C37 -> 2011
A38: =A7 -> A CORUÑA | B38: =E7 -> 38479 | C38: =D7 -> 46203 | D38: =_xlfn.RANK.EQ(B38,$B$38:$B$65)+COUNTIF($B$38:$B$65,B38)-1 -> 17 | E38: =INDEX($A$38:$B$65,MATCH(ROW()-37,$D$38:$D$65,0),1) -> BAHIA DE ALGECIRAS | F38: =LOOKUP(E38,$A$38:$A$65,$B$38:$B$65) -> 2333926 | G38: =LOOKUP(E38,$A$38:$A$65,$C$38:$C$65) -> 2555277
A39: =A8 -> ALICANTE | B39: =E8 -> 12894 | C39: =D8 -> 9098 | D39: =_xlfn.RANK.EQ(B39,$B$38:$B$65)+COUNTIF($B$38:$B$65,B39)-1 -> 25 | E39: =INDEX($A$38:$B$65,MATCH(ROW()-37,$D$38:$D$65,0),1) -> LAS PALMAS | F39: =LOOKUP(E39,$A$38:$A$65,$B$38:$B$65) -> 1838447 | G39: =LOOKUP(E39,$A$38:$A$65,$C$38:$C$65) -> 1803440
A40: =A9 -> ALMERIA | B40: =E9 -> 58140 | C40: =D9 -> 64502 | D40: =_xlfn.RANK.EQ(B40,$B$38:$B$65)+COUNTIF($B$38:$B$65,B40)-1 -> 15 | E40: =INDEX($A$38:$B$65,MATCH(ROW()-37,$D$38:$D$65,0),1) -> BARCELONA | F40: =LOOKUP(E40,$A$38:$A$65,$B$38:$B$65) -> 894761 | G40: =LOOKUP(E40,$A$38:$A$65,$C$38:$C$65) -> 813412
A41: =A10 -> AVILES | B41: =E10 -> 29779 | C41: =D10 -> 29512 | D41: =_xlfn.RANK.EQ(B41,$B$38:$B$65)+COUNTIF($B$38:$B$65,B41)-1 -> 19 | E41: =INDEX($A$38:$B$65,MATCH(ROW()-37,$D$38:$D$65,0),1) -> SANTA CRUZ DE TENERIFE | F41: =LOOKUP(E41,$A$38:$A$65,$B$38:$B$65) -> 681782 | G41: =LOOKUP(E41,$A$38:$A$65,$C$38:$C$65) -> 676458
A42: =A11 -> BAHIA DE ALGECIRAS | B42: =E11 -> 2333926 | C42: =D11 -> 2555277 | D42: =_xlfn.RANK.EQ(B42,$B$38:$B$65)+COUNTIF($B$38:$B$65,B42)-1 -> 1 | E42: =INDEX($A$38:$B$65,MATCH(ROW()-37,$D$38:$D$65,0),1) -> CEUTA | F42: =LOOKUP(E42,$A$38:$A$65,$B$38:$B$65) -> 537415 | G42: =LOOKUP(E42,$A$38:$A$65,$C$38:$C$65) -> 542575
A43: =A12 -> BAHIA DE CADIZ | B43: =E12 -> 66238 | C43: =D12 -> 81603 | D43: =_xlfn.RANK.EQ(B43,$B$38:$B$65)+COUNTIF($B$38:$B$65,B43)-1 -> 13 | E43: =INDEX($A$38:$B$65,MATCH(ROW()-37,$D$38:$D$65,0),1) -> VALENCIA | F43: =LOOKUP(E43,$A$38:$A$65,$B$38:$B$65) -> 362196 | G43: =LOOKUP(E43,$A$38:$A$65,$C$38:$C$65) -> 210516
A44: =A13 -> BALEARES | B44: =E13 -> 166498 | C44: =D13 -> 209986 | D44: =_xlfn.RANK.EQ(B44,$B$38:$B$65)+COUNTIF($B$38:$B$65,B44)-1 -> 8 | E44: =INDEX($A$38:$B$65,MATCH(ROW()-37,$D$38:$D$65,0),1) -> VIGO | F44: =LOOKUP(E44,$A$38:$A$65,$B$38:$B$65) -> 194509 | G44: =LOOKUP(E44,$A$38:$A$65,$C$38:$C$65) -> 207478
A45: =A14 -> BARCELONA | B45: =E14 -> 894761 | C45: =D14 -> 813412 | D45: =_xlfn.RANK.EQ(B45,$B$38:$B$65)+COUNTIF($B$38:$B$65,B45)-1 -> 3 | E45: =INDEX($A$38:$B$65,MATCH(ROW()-37,$D$38:$D$65,0),1) -> BALEARES | F45: =LOOKUP(E45,$A$38:$A$65,$B$38:$B$65) -> 166498 | G45: =LOOKUP(E45,$A$38:$A$65,$C$38:$C$65) -> 209986
A46: =A15 -> BILBAO | B46: =E15 -> 90997 | C46: =D15 -> 101485 | D46: =_xlfn.RANK.EQ(B46,$B$38:$B$65)+COUNTIF($B$38:$B$65,B46)-1 -> 9 | E46: =INDEX($A$38:$B$65,MATCH(ROW()-37,$D$38:$D$65,0),1) -> BILBAO | F46: =LOOKUP(E46,$A$38:$A$65,$B$38:$B$65) -> 90997 | G46: =LOOKUP(E46,$A$38:$A$65,$C$38:$C$65) -> 101485
A47: =A16 -> CARTAGENA | B47: =E16 -> 40991 | C47: =D16 -> 49265 | D47: =_xlfn.RANK.EQ(B47,$B$38:$B$65)+COUNTIF($B$38:$B$65,B47)-1 -> 16 | E47: =INDEX($A$38:$B$65,MATCH(ROW()-37,$D$38:$D$65,0),1) -> TARRAGONA | F47: =LOOKUP(E47,$A$38:$A$65,$B$38:$B$65) -> 79598 | G47: =LOOKUP(E47,$A$38:$A$65,$C$38:$C$65) -> 117047
A48: =A17 -> CASTELLON | B48: =E17 -> 26006 | C48: =D17 -> 26735 | D48: =_xlfn.RANK.EQ(B48,$B$38:$B$65)+COUNTIF($B$38:$B$65,B48)-1 -> 20 | E48: =INDEX($A$38:$B$65,MATCH(ROW()-37,$D$38:$D$65,0),1) -> HUELVA | F48: =LOOKUP(E48,$A$38:$A$65,$B$38:$B$65) -> 68746 | G48: =LOOKUP(E48,$A$38:$A$65,$C$38:$C$65) -> 140480
A49: =A18 -> CEUTA | B49: =E18 -> 537415 | C49: =D18 -> 542575 | D49: =_xlfn.RANK.EQ(B49,$B$38:$B$65)+COUNTIF($B$38:$B$65,B49)-1 -> 5 | E49: =INDEX($A$38:$B$65,MATCH(ROW()-37,$D$38:$D$65,0),1) -> GIJON | F49: =LOOKUP(E49,$A$38:$A$65,$B$38:$B$65) -> 66251 | G49: =LOOKUP(E49,$A$38:$A$65,$C$38:$C$65) -> 72632
... A65: =A34 -> VILAGARCIA | B65: =E34 -> 3517 | C65: =D34 -> 7810 | D65: =_xlfn.RANK.EQ(B65,$B$38:$B$65)+COUNTIF($B$38:$B$65,B65)-1 -> 28 | E65: =INDEX($A$38:$B$65,MATCH(ROW()-37,$D$38:$D$65,0),1) -> VILAGARCIA | F65: =LOOKUP(E65,$A$38:$A$65,$B$38:$B$65) -> 3517 | G65: =LOOKUP(E65,$A$38:$A$65,$C$38:$C$65) -> 7810

Sheet Mercancías tránsito
F1: 7. MERCANCÍAS EN TRÁNSITO (Toneladas)
A5: Autoridad Portuaria | B5: ='Resumen general'!D6 -> Mes Septiembre | D5: ='Resumen general'!F6 -> Acumulado desde Enero | L5: ='Resumen general'!I4 -> 41218
B6: ='Resumen general'!D7 -> 2011 | C6: ='Resumen general'!E7 -> 2012 | D6: ='Resumen general'!F7 -> 2011 | E6: ='Resumen general'!G7 -> 2012 | F6: Var. (%)
A7: A CORUÑA | B7: 0 | C7: 0 | D7: 0 | E7: 0 | F7: =((E7*100)/D7)-100 -> #DIV/0!
A8: ALICANTE | B8: 0 | C8: 4022 | D8: 22979 | E8: 38522 | F8: =((E8*100)/D8)-100 -> 67.640019
A9: ALMERIA | B9: 0 | C9: 0 | D9: 0 | E9: 0 | F9: =((E9*100)/D9)-100 -> #DIV/0!
A10: AVILES | B10: 0 | C10: 0 | D10: 3004 | E10: 422 | F10: =((E10*100)/D10)-100 -> -85.952064
A11: BAHIA DE ALGECIRAS | B11: 3139730 | C11: 3773912 | D11: 28099251 | E11: 36837852 | F11: =((E11*100)/D11)-100 -> 31.099053
A12: BAHIA DE CADIZ | B12: 25342 | C12: 3323 | D12: 138034 | E12: 55200 | F12: =((E12*100)/D12)-100 -> -60.009853
A13: BALEARES | B13: 0 | C13: 760 | D13: 0 | E13: 41626 | F13: =((E13*100)/D13)-100 -> #DIV/0!
A14: BARCELONA | B14: 498418 | C14: 342609 | D14: 5711698 | E14: 3735086 | F14: =((E14*100)/D14)-100 -> -34.606381
A15: BILBAO | B15: 9638 | C15: 5255 | D15: 214602 | E15: 583464 | F15: =((E15*100)/D15)-100 -> 171.8819
A16: CARTAGENA | B16: 0 | C16: 0 | D16: 450 | E16: 38502 | F16: =((E16*100)/D16)-100 -> 8456
A17: CASTELLON | B17: 8702 | C17: 162 | D17: 45585 | E17: 4441 | F17: =((E17*100)/D17)-100 -> -90.25776
A18: CEUTA | B18: 0 | C18: 0 | D18: 1024 | E18: 13493 | F18: =((E18*100)/D18)-100 -> 1217.6758
... A34: VILAGARCIA | B34: 0 | C34: 0 | D34: 24699 | E34: 29245 | F34: =((E34*100)/D34)-100 -> 18.405603
A35: Total | B35: =SUM(B7:B34) -> 8746489 | C35: =SUM(C7:C34) -> 8687630 | D35: =SUM(D7:D34) -> 74900314 | E35: =SUM(E7:E34) -> 84989878 | F35: =((E35*100)/D35)-100 -> 13.470656
B37: =E6 -> 2012 | C37: =D6 -> 2011 | F37: =B37 -> 2012 | G37: =C37 -> 2011
A38: =A7 -> A CORUÑA | B38: =E7 -> 0 | C38: =D7 -> 0 | D38: =_xlfn.RANK.EQ(B38,$B$38:$B$65)+COUNTIF($B$38:$B$65,B38)-1 -> 28 | E38: =INDEX($A$38:$B$65,MATCH(ROW()-37,$D$38:$D$65,0),1) -> BAHIA DE ALGECIRAS | F38: =LOOKUP(E38,$A$38:$A$65,$B$38:$B$65) -> 36837852 | G38: =LOOKUP(E38,$A$38:$A$65,$C$38:$C$65) -> 28099251
A39: =A8 -> ALICANTE | B39: =E8 -> 38522 | C39: =D8 -> 22979 | D39: =_xlfn.RANK.EQ(B39,$B$38:$B$65)+COUNTIF($B$38:$B$65,B39)-1 -> 14 | E39: =INDEX($A$38:$B$65,MATCH(ROW()-37,$D$38:$D$65,0),1) -> VALENCIA | F39: =LOOKUP(E39,$A$38:$A$65,$B$38:$B$65) -> 24679886 | G39: =LOOKUP(E39,$A$38:$A$65,$C$38:$C$65) -> 24712455
A40: =A9 -> ALMERIA | B40: =E9 -> 0 | C40: =D9 -> 0 | D40: =_xlfn.RANK.EQ(B40,$B$38:$B$65)+COUNTIF($B$38:$B$65,B40)-1 -> 28 | E40: =INDEX($A$38:$B$65,MATCH(ROW()-37,$D$38:$D$65,0),1) -> LAS PALMAS | F40: =LOOKUP(E40,$A$38:$A$65,$B$38:$B$65) -> 8945143 | G40: =LOOKUP(E40,$A$38:$A$65,$C$38:$C$65) -> 8208334
A41: =A10 -> AVILES | B41: =E10 -> 422 | C41: =D10 -> 3004 | D41: =_xlfn.RANK.EQ(B41,$B$38:$B$65)+COUNTIF($B$38:$B$65,B41)-1 -> 22 | E41: =INDEX($A$38:$B$65,MATCH(ROW()-37,$D$38:$D$65,0),1) -> TARRAGONA | F41: =LOOKUP(E41,$A$38:$A$65,$B$38:$B$65) -> 4140070 | G41: =LOOKUP(E41,$A$38:$A$65,$C$38:$C$65) -> 3909646
A42: =A11 -> BAHIA DE ALGECIRAS | B42: =E11 -> 36837852 | C42: =D11 -> 28099251 | D42: =_xlfn.RANK.EQ(B42,$B$38:$B$65)+COUNTIF($B$38:$B$65,B42)-1 -> 1 | E42: =INDEX($A$38:$B$65,MATCH(ROW()-37,$D$38:$D$65,0),1) -> BARCELONA | F42: =LOOKUP(E42,$A$38:$A$65,$B$38:$B$65) -> 3735086 | G42: =LOOKUP(E42,$A$38:$A$65,$C$38:$C$65) -> 5711698
A43: =A12 -> BAHIA DE CADIZ | B43: =E12 -> 55200 | C43: =D12 -> 138034 | D43: =_xlfn.RANK.EQ(B43,$B$38:$B$65)+COUNTIF($B$38:$B$65,B43)-1 -> 12 | E43: =INDEX($A$38:$B$65,MATCH(ROW()-37,$D$38:$D$65,0),1) -> MALAGA | F43: =LOOKUP(E43,$A$38:$A$65,$B$38:$B$65) -> 3223882 | G43: =LOOKUP(E43,$A$38:$A$65,$C$38:$C$65) -> 1893147
A44: =A13 -> BALEARES | B44: =E13 -> 41626 | C44: =D13 -> 0 | D44: =_xlfn.RANK.EQ(B44,$B$38:$B$65)+COUNTIF($B$38:$B$65,B44)-1 -> 13 | E44: =INDEX($A$38:$B$65,MATCH(ROW()-37,$D$38:$D$65,0),1) -> HUELVA | F44: =LOOKUP(E44,$A$38:$A$65,$B$38:$B$65) -> 1634765 | G44: =LOOKUP(E44,$A$38:$A$65,$C$38:$C$65) -> 867816
A45: =A14 -> BARCELONA | B45: =E14 -> 3735086 | C45: =D14 -> 5711698 | D45: =_xlfn.RANK.EQ(B45,$B$38:$B$65)+COUNTIF($B$38:$B$65,B45)-1 -> 5 | E45: =INDEX($A$38:$B$65,MATCH(ROW()-37,$D$38:$D$65,0),1) -> BILBAO | F45: =LOOKUP(E45,$A$38:$A$65,$B$38:$B$65) -> 583464 | G45: =LOOKUP(E45,$A$38:$A$65,$C$38:$C$65) -> 214602
A46: =A15 -> BILBAO | B46: =E15 -> 583464 | C46: =D15 -> 214602 | D46: =_xlfn.RANK.EQ(B46,$B$38:$B$65)+COUNTIF($B$38:$B$65,B46)-1 -> 8 | E46: =INDEX($A$38:$B$65,MATCH(ROW()-37,$D$38:$D$65,0),1) -> GIJON | F46: =LOOKUP(E46,$A$38:$A$65,$B$38:$B$65) -> 578775 | G46: =LOOKUP(E46,$A$38:$A$65,$C$38:$C$65) -> 651321
A47: =A16 -> CARTAGENA | B47: =E16 -> 38502 | C47: =D16 -> 450 | D47: =_xlfn.RANK.EQ(B47,$B$38:$B$65)+COUNTIF($B$38:$B$65,B47)-1 -> 15 | E47: =INDEX($A$38:$B$65,MATCH(ROW()-37,$D$38:$D$65,0),1) -> VIGO | F47: =LOOKUP(E47,$A$38:$A$65,$B$38:$B$65) -> 266399 | G47: =LOOKUP(E47,$A$38:$A$65,$C$38:$C$65) -> 235431
A48: =A17 -> CASTELLON | B48: =E17 -> 4441 | C48: =D17 -> 45585 | D48: =_xlfn.RANK.EQ(B48,$B$38:$B$65)+COUNTIF($B$38:$B$65,B48)-1 -> 20 | E48: =INDEX($A$38:$B$65,MATCH(ROW()-37,$D$38:$D$65,0),1) -> SANTA CRUZ DE TENERIFE | F48: =LOOKUP(E48,$A$38:$A$65,$B$38:$B$65) -> 102449 | G48: =LOOKUP(E48,$A$38:$A$65,$C$38:$C$65) -> 120846
A49: =A18 -> CEUTA | B49: =E18 -> 13493 | C49: =D18 -> 1024 | D49: =_xlfn.RANK.EQ(B49,$B$38:$B$65)+COUNTIF($B$38:$B$65,B49)-1 -> 19 | E49: =INDEX($A$38:$B$65,MATCH(ROW()-37,$D$38:$D$65,0),1) -> BAHIA DE CADIZ | F49: =LOOKUP(E49,$A$38:$A$65,$B$38:$B$65) -> 55200 | G49: =LOOKUP(E49,$A$38:$A$65,$C$38:$C$65) -> 138034
... A65: =A34 -> VILAGARCIA | B65: =E34 -> 29245 | C65: =D34 -> 24699 | D65: =_xlfn.RANK.EQ(B65,$B$38:$B$65)+COUNTIF($B$38:$B$65,B65)-1 -> 16 | E65: =INDEX($A$38:$B$65,MATCH(ROW()-37,$D$38:$D$65,0),1) -> A CORUÑA | F65: =LOOKUP(E65,$A$38:$A$65,$B$38:$B$65) -> 0 | G65: =LOOKUP(E65,$A$38:$A$65,$C$38:$C$65) -> 0

Sheet Mercan. contene. tránsito
F1: 7.1. MERCANCÍAS EN CONTENEDORES EN TRÁNSITO (Toneladas)
A5: Autoridad Portuaria | B5: ='Resumen general'!D6 -> Mes Septiembre | D5: ='Resumen general'!F6 -> Acumulado desde Enero | L5: ='Resumen general'!I4 -> 41218
B6: ='Resumen general'!D7 -> 2011 | C6: ='Resumen general'!E7 -> 2012 | D6: ='Resumen general'!F7 -> 2011 | E6: ='Resumen general'!G7 -> 2012 | F6: Var. (%)
A7: A CORUÑA | B7: 0 | C7: 0 | D7: 0 | E7: 0 | F7: =((E7*100)/D7)-100 -> #DIV/0!
A8: ALICANTE | B8: 0 | C8: 4022 | D8: 22979 | E8: 38522 | F8: =((E8*100)/D8)-100 -> 67.640019
A9: ALMERIA | B9: 0 | C9: 0 | D9: 0 | E9: 0 | F9: =((E9*100)/D9)-100 -> #DIV/0!
A10: AVILES | B10: 0 | C10: 0 | D10: 0 | E10: 0 | F10: =((E10*100)/D10)-100 -> #DIV/0!
A11: BAHIA DE ALGECIRAS | B11: 3129902 | C11: 3762034 | D11: 27916070 | E11: 36524539 | F11: =((E11*100)/D11)-100 -> 30.836966
A12: BAHIA DE CADIZ | B12: 0 | C12: 3323 | D12: 3069 | E12: 8450 | F12: =((E12*100)/D12)-100 -> 175.33399
A13: BALEARES | B13: 0 | C13: 64 | D13: 0 | E13: 141 | F13: =((E13*100)/D13)-100 -> #DIV/0!
A14: BARCELONA | B14: 458777 | C14: 312696 | D14: 5412486 | E14: 3245517 | F14: =((E14*100)/D14)-100 -> -40.036482
A15: BILBAO | B15: 3398 | C15: 522 | D15: 42627 | E15: 9684 | F15: =((E15*100)/D15)-100 -> -77.282004
A16: CARTAGENA | B16: 0 | C16: 0 | D16: 228 | E16: 0 | F16: =((E16*100)/D16)-100 -> -100
A17: CASTELLON | B17: 0 | C17: 162 | D17: 17393 | E17: 4406 | F17: =((E17*100)/D17)-100 -> -74.66797
A18: CEUTA | B18: 0 | C18: 0 | D18: 60 | E18: 0 | F18: =((E18*100)/D18)-100 -> -100
... A34: VILAGARCIA | B34: 0 | C34: 0 | D34: 0 | E34: 78 | F34: =((E34*100)/D34)-100 -> #DIV/0!
A35: Total | B35: =SUM(B7:B34) -> 7900246 | C35: =SUM(C7:C34) -> 7834821 | D35: =SUM(D7:D34) -> 69344059 | E35: =SUM(E7:E34) -> 77349183 | F35: =((E35*100)/D35)-100 -> 11.544066
B37: =E6 -> 2012 | C37: =D6 -> 2011 | F37: =B37 -> 2012 | G37: =C37 -> 2011
A38: =A7 -> A CORUÑA | B38: =E7 -> 0 | C38: =D7 -> 0 | D38: =_xlfn.RANK.EQ(B38,$B$38:$B$65)+COUNTIF($B$38:$B$65,B38)-1 -> 28 | E38: =INDEX($A$38:$B$65,MATCH(ROW()-37,$D$38:$D$65,0),1) -> BAHIA DE ALGECIRAS | F38: =LOOKUP(E38,$A$38:$A$65,$B$38:$B$65) -> 36524539 | G38: =LOOKUP(E38,$A$38:$A$65,$C$38:$C$65) -> 27916070
A39: =A8 -> ALICANTE | B39: =E8 -> 38522 | C39: =D8 -> 22979 | D39: =_xlfn.RANK.EQ(B39,$B$38:$B$65)+COUNTIF($B$38:$B$65,B39)-1 -> 9 | E39: =INDEX($A$38:$B$65,MATCH(ROW()-37,$D$38:$D$65,0),1) -> VALENCIA | F39: =LOOKUP(E39,$A$38:$A$65,$B$38:$B$65) -> 24511372 | G39: =LOOKUP(E39,$A$38:$A$65,$C$38:$C$65) -> 24669892
A40: =A9 -> ALMERIA | B40: =E9 -> 0 | C40: =D9 -> 0 | D40: =_xlfn.RANK.EQ(B40,$B$38:$B$65)+COUNTIF($B$38:$B$65,B40)-1 -> 28 | E40: =INDEX($A$38:$B$65,MATCH(ROW()-37,$D$38:$D$65,0),1) -> LAS PALMAS | F40: =LOOKUP(E40,$A$38:$A$65,$B$38:$B$65) -> 8536511 | G40: =LOOKUP(E40,$A$38:$A$65,$C$38:$C$65) -> 7805522
A41: =A10 -> AVILES | B41: =E10 -> 0 | C41: =D10 -> 0 | D41: =_xlfn.RANK.EQ(B41,$B$38:$B$65)+COUNTIF($B$38:$B$65,B41)-1 -> 28 | E41: =INDEX($A$38:$B$65,MATCH(ROW()-37,$D$38:$D$65,0),1) -> BARCELONA | F41: =LOOKUP(E41,$A$38:$A$65,$B$38:$B$65) -> 3245517 | G41: =LOOKUP(E41,$A$38:$A$65,$C$38:$C$65) -> 5412486
A42: =A11 -> BAHIA DE ALGECIRAS | B42: =E11 -> 36524539 | C42: =D11 -> 27916070 | D42: =_xlfn.RANK.EQ(B42,$B$38:$B$65)+COUNTIF($B$38:$B$65,B42)-1 -> 1 | E42: =INDEX($A$38:$B$65,MATCH(ROW()-37,$D$38:$D$65,0),1) -> MALAGA | F42: =LOOKUP(E42,$A$38:$A$65,$B$38:$B$65) -> 3223882 | G42: =LOOKUP(E42,$A$38:$A$65,$C$38:$C$65) -> 1893147
A43: =A12 -> BAHIA DE CADIZ | B43: =E12 -> 8450 | C43: =D12 -> 3069 | D43: =_xlfn.RANK.EQ(B43,$B$38:$B$65)+COUNTIF($B$38:$B$65,B43)-1 -> 12 | E43: =INDEX($A$38:$B$65,MATCH(ROW()-37,$D$38:$D$65,0),1) -> TARRAGONA | F43: =LOOKUP(E43,$A$38:$A$65,$B$38:$B$65) -> 1058062 | G43: =LOOKUP(E43,$A$38:$A$65,$C$38:$C$65) -> 1304407
A44: =A13 -> BALEARES | B44: =E13 -> 141 | C44: =D13 -> 0 | D44: =_xlfn.RANK.EQ(B44,$B$38:$B$65)+COUNTIF($B$38:$B$65,B44)-1 -> 14 | E44: =INDEX($A$38:$B$65,MATCH(ROW()-37,$D$38:$D$65,0),1) -> VIGO | F44: =LOOKUP(E44,$A$38:$A$65,$B$38:$B$65) -> 117206 | G44: =LOOKUP(E44,$A$38:$A$65,$C$38:$C$65) -> 116009
A45: =A14 -> BARCELONA | B45: =E14 -> 3245517 | C45: =D14 -> 5412486 | D45: =_xlfn.RANK.EQ(B45,$B$38:$B$65)+COUNTIF($B$38:$B$65,B45)-1 -> 4 | E45: =INDEX($A$38:$B$65,MATCH(ROW()-37,$D$38:$D$65,0),1) -> SANTA CRUZ DE TENERIFE | F45: =LOOKUP(E45,$A$38:$A$65,$B$38:$B$65) -> 48162 | G45: =LOOKUP(E45,$A$38:$A$65,$C$38:$C$65) -> 103549
A46: =A15 -> BILBAO | B46: =E15 -> 9684 | C46: =D15 -> 42627 | D46: =_xlfn.RANK.EQ(B46,$B$38:$B$65)+COUNTIF($B$38:$B$65,B46)-1 -> 11 | E46: =INDEX($A$38:$B$65,MATCH(ROW()-37,$D$38:$D$65,0),1) -> ALICANTE | F46: =LOOKUP(E46,$A$38:$A$65,$B$38:$B$65) -> 38522 | G46: =LOOKUP(E46,$A$38:$A$65,$C$38:$C$65) -> 22979
A47: =A16 -> CARTAGENA | B47: =E16 -> 0 | C47: =D16 -> 228 | D47: =_xlfn.RANK.EQ(B47,$B$38:$B$65)+COUNTIF($B$38:$B$65,B47)-1 -> 28 | E47: =INDEX($A$38:$B$65,MATCH(ROW()-37,$D$38:$D$65,0),1) -> MARIN Y RIA DE PONTEVEDRA | F47: =LOOKUP(E47,$A$38:$A$65,$B$38:$B$65) -> 22602 | G47: =LOOKUP(E47,$A$38:$A$65,$C$38:$C$65) -> 36505
A48: =A17 -> CASTELLON | B48: =E17 -> 4406 | C48: =D17 -> 17393 | D48: =_xlfn.RANK.EQ(B48,$B$38:$B$65)+COUNTIF($B$38:$B$65,B48)-1 -> 13 | E48: =INDEX($A$38:$B$65,MATCH(ROW()-37,$D$38:$D$65,0),1) -> BILBAO | F48: =LOOKUP(E48,$A$38:$A$65,$B$38:$B$65) -> 9684 | G48: =LOOKUP(E48,$A$38:$A$65,$C$38:$C$65) -> 42627
A49: =A18 -> CEUTA | B49: =E18 -> 0 | C49: =D18 -> 60 | D49: =_xlfn.RANK.EQ(B49,$B$38:$B$65)+COUNTIF($B$38:$B$65,B49)-1 -> 28 | E49: =INDEX($A$38:$B$65,MATCH(ROW()-37,$D$38:$D$65,0),1) -> BAHIA DE CADIZ | F49: =LOOKUP(E49,$A$38:$A$65,$B$38:$B$65) -> 8450 | G49: =LOOKUP(E49,$A$38:$A$65,$C$38:$C$65) -> 3069
... A65: =A34 -> VILAGARCIA | B65: =E34 -> 78 | C65: =D34 -> 0 | D65: =_xlfn.RANK.EQ(B65,$B$38:$B$65)+COUNTIF($B$38:$B$65,B65)-1 -> 15 | E65: =INDEX($A$38:$B$65,MATCH(ROW()-37,$D$38:$D$65,0),1) -> A CORUÑA | F65: =LOOKUP(E65,$A$38:$A$65,$B$38:$B$65) -> 0 | G65: =LOOKUP(E65,$A$38:$A$65,$C$38:$C$65) -> 0

Sheet Mercancías contenedores
F1: 8. MERCANCÍAS EN CONTENEDORES (Toneladas)
A5: Autoridad Portuaria | B5: ='Resumen general'!D6 -> Mes Septiembre | D5: ='Resumen general'!F6 -> Acumulado desde Enero | L5: ='Resumen general'!I4 -> 41218
B6: ='Resumen general'!D7 -> 2011 | C6: ='Resumen general'!E7 -> 2012 | D6: ='Resumen general'!F7 -> 2011 | E6: ='Resumen general'!G7 -> 2012 | F6: Var. (%)
A7: A CORUÑA | B7: 6667 | C7: 6486 | D7: 46862 | E7: 43750 | F7: =((E7*100)/D7)-100 -> -6.640775
A8: ALICANTE | B8: 98352 | C8: 105826 | D8: 936799 | E8: 1031198 | F8: =((E8*100)/D8)-100 -> 10.076761
A9: ALMERIA | B9: 7258 | C9: 3204 | D9: 41316 | E9: 48951 | F9: =((E9*100)/D9)-100 -> 18.479524
A10: AVILES | B10: 0 | C10: 0 | D10: 48 | E10: 333 | F10: =((E10*100)/D10)-100 -> 593.75
A11: BAHIA DE ALGECIRAS | B11: 3318840 | C11: 4017384 | D11: 29874892 | E11: 38661547 | F11: =((E11*100)/D11)-100 -> 29.411504
A12: BAHIA DE CADIZ | B12: 75741 | C12: 83544 | D12: 628527 | E12: 707723 | F12: =((E12*100)/D12)-100 -> 12.600254
A13: BALEARES | B13: 27588 | C13: 19534 | D13: 282763 | E13: 211199 | F13: =((E13*100)/D13)-100 -> -25.308828
A14: BARCELONA | B14: 1598064 | C14: 1495956 | D14: 15317561 | E14: 13104066 | F14: =((E14*100)/D14)-100 -> -14.450701
A15: BILBAO | B15: 472823 | C15: 495602 | D15: 4440625 | E15: 4751113 | F15: =((E15*100)/D15)-100 -> 6.9919887
A16: CARTAGENA | B16: 82656 | C16: 69956 | D16: 666081 | E16: 637137 | F16: =((E16*100)/D16)-100 -> -4.3454174
A17: CASTELLON | B17: 141781 | C17: 162921 | D17: 1282103 | E17: 1551899 | F17: =((E17*100)/D17)-100 -> 21.043239
A18: CEUTA | B18: 5414 | C18: 6099 | D18: 50752 | E18: 49752 | F18: =((E18*100)/D18)-100 -> -1.9703657
... A34: VILAGARCIA | B34: 22018 | C34: 18489 | D34: 44097 | E34: 163201 | F34: =((E34*100)/D34)-100 -> 270.09547
A35: Total | B35: =SUM(B7:B34) -> 12487900 | C35: =SUM(C7:C34) -> 12465529 | D35: =SUM(D7:D34) -> 111374133 | E35: =SUM(E7:E34) -> 121035247 | F35: =((E35*100)/D35)-100 -> 8.6744684
B37: =E6 -> 2012 | C37: =D6 -> 2011 | F37: =B37 -> 2012 | G37: =C37 -> 2011
A38: =A7 -> A CORUÑA | B38: =E7 -> 43750 | C38: =D7 -> 46862 | D38: =_xlfn.RANK.EQ(B38,$B$38:$B$65)+COUNTIF($B$38:$B$65,B38)-1 -> 22 | E38: =INDEX($A$38:$B$65,MATCH(ROW()-37,$D$38:$D$65,0),1) -> BAHIA DE ALGECIRAS | F38: =LOOKUP(E38,$A$38:$A$65,$B$38:$B$65) -> 38661547 | G38: =LOOKUP(E38,$A$38:$A$65,$C$38:$C$65) -> 29874892
A39: =A8 -> ALICANTE | B39: =E8 -> 1031198 | C39: =D8 -> 936799 | D39: =_xlfn.RANK.EQ(B39,$B$38:$B$65)+COUNTIF($B$38:$B$65,B39)-1 -> 11 | E39: =INDEX($A$38:$B$65,MATCH(ROW()-37,$D$38:$D$65,0),1) -> VALENCIA | F39: =LOOKUP(E39,$A$38:$A$65,$B$38:$B$65) -> 38657907 | G39: =LOOKUP(E39,$A$38:$A$65,$C$38:$C$65) -> 37993147
A40: =A9 -> ALMERIA | B40: =E9 -> 48951 | C40: =D9 -> 41316 | D40: =_xlfn.RANK.EQ(B40,$B$38:$B$65)+COUNTIF($B$38:$B$65,B40)-1 -> 21 | E40: =INDEX($A$38:$B$65,MATCH(ROW()-37,$D$38:$D$65,0),1) -> BARCELONA | F40: =LOOKUP(E40,$A$38:$A$65,$B$38:$B$65) -> 13104066 | G40: =LOOKUP(E40,$A$38:$A$65,$C$38:$C$65) -> 15317561
A41: =A10 -> AVILES | B41: =E10 -> 333 | C41: =D10 -> 48 | D41: =_xlfn.RANK.EQ(B41,$B$38:$B$65)+COUNTIF($B$38:$B$65,B41)-1 -> 27 | E41: =INDEX($A$38:$B$65,MATCH(ROW()-37,$D$38:$D$65,0),1) -> LAS PALMAS | F41: =LOOKUP(E41,$A$38:$A$65,$B$38:$B$65) -> 10885722 | G41: =LOOKUP(E41,$A$38:$A$65,$C$38:$C$65) -> 10247336
A42: =A11 -> BAHIA DE ALGECIRAS | B42: =E11 -> 38661547 | C42: =D11 -> 29874892 | D42: =_xlfn.RANK.EQ(B42,$B$38:$B$65)+COUNTIF($B$38:$B$65,B42)-1 -> 1 | E42: =INDEX($A$38:$B$65,MATCH(ROW()-37,$D$38:$D$65,0),1) -> BILBAO | F42: =LOOKUP(E42,$A$38:$A$65,$B$38:$B$65) -> 4751113 | G42: =LOOKUP(E42,$A$38:$A$65,$C$38:$C$65) -> 4440625
A43: =A12 -> BAHIA DE CADIZ | B43: =E12 -> 707723 | C43: =D12 -> 628527 | D43: =_xlfn.RANK.EQ(B43,$B$38:$B$65)+COUNTIF($B$38:$B$65,B43)-1 -> 13 | E43: =INDEX($A$38:$B$65,MATCH(ROW()-37,$D$38:$D$65,0),1) -> MALAGA | F43: =LOOKUP(E43,$A$38:$A$65,$B$38:$B$65) -> 3507259 | G43: =LOOKUP(E43,$A$38:$A$65,$C$38:$C$65) -> 2078621
A44: =A13 -> BALEARES | B44: =E13 -> 211199 | C44: =D13 -> 282763 | D44: =_xlfn.RANK.EQ(B44,$B$38:$B$65)+COUNTIF($B$38:$B$65,B44)-1 -> 17 | E44: =INDEX($A$38:$B$65,MATCH(ROW()-37,$D$38:$D$65,0),1) -> SANTA CRUZ DE TENERIFE | F44: =LOOKUP(E44,$A$38:$A$65,$B$38:$B$65) -> 1874152 | G44: =LOOKUP(E44,$A$38:$A$65,$C$38:$C$65) -> 1998976
A45: =A14 -> BARCELONA | B45: =E14 -> 13104066 | C45: =D14 -> 15317561 | D45: =_xlfn.RANK.EQ(B45,$B$38:$B$65)+COUNTIF($B$38:$B$65,B45)-1 -> 3 | E45: =INDEX($A$38:$B$65,MATCH(ROW()-37,$D$38:$D$65,0),1) -> VIGO | F45: =LOOKUP(E45,$A$38:$A$65,$B$38:$B$65) -> 1682295 | G45: =LOOKUP(E45,$A$38:$A$65,$C$38:$C$65) -> 1761872
A46: =A15 -> BILBAO | B46: =E15 -> 4751113 | C46: =D15 -> 4440625 | D46: =_xlfn.RANK.EQ(B46,$B$38:$B$65)+COUNTIF($B$38:$B$65,B46)-1 -> 5 | E46: =INDEX($A$38:$B$65,MATCH(ROW()-37,$D$38:$D$65,0),1) -> TARRAGONA | F46: =LOOKUP(E46,$A$38:$A$65,$B$38:$B$65) -> 1594791 | G46: =LOOKUP(E46,$A$38:$A$65,$C$38:$C$65) -> 1941669
A47: =A16 -> CARTAGENA | B47: =E16 -> 637137 | C47: =D16 -> 666081 | D47: =_xlfn.RANK.EQ(B47,$B$38:$B$65)+COUNTIF($B$38:$B$65,B47)-1 -> 14 | E47: =INDEX($A$38:$B$65,MATCH(ROW()-37,$D$38:$D$65,0),1) -> CASTELLON | F47: =LOOKUP(E47,$A$38:$A$65,$B$38:$B$65) -> 1551899 | G47: =LOOKUP(E47,$A$38:$A$65,$C$38:$C$65) -> 1282103
A48: =A17 -> CASTELLON | B48: =E17 -> 1551899 | C48: =D17 -> 1282103 | D48: =_xlfn.RANK.EQ(B48,$B$38:$B$65)+COUNTIF($B$38:$B$65,B48)-1 -> 10 | E48: =INDEX($A$38:$B$65,MATCH(ROW()-37,$D$38:$D$65,0),1) -> ALICANTE | F48: =LOOKUP(E48,$A$38:$A$65,$B$38:$B$65) -> 1031198 | G48: =LOOKUP(E48,$A$38:$A$65,$C$38:$C$65) -> 936799
A49: =A18 -> CEUTA | B49: =E18 -> 49752 | C49: =D18 -> 50752 | D49: =_xlfn.RANK.EQ(B49,$B$38:$B$65)+COUNTIF($B$38:$B$65,B49)-1 -> 20 | E49: =INDEX($A$38:$B$65,MATCH(ROW()-37,$D$38:$D$65,0),1) -> SEVILLA | F49: =LOOKUP(E49,$A$38:$A$65,$B$38:$B$65) -> 924476 | G49: =LOOKUP(E49,$A$38:$A$65,$C$38:$C$65) -> 949811
... A65: =A34 -> VILAGARCIA | B65: =E34 -> 163201 | C65: =D34 -> 44097 | D65: =_xlfn.RANK.EQ(B65,$B$38:$B$65)+COUNTIF($B$38:$B$65,B65)-1 -> 19 | E65: =INDEX($A$38:$B$65,MATCH(ROW()-37,$D$38:$D$65,0),1) -> PASAIA | F65: =LOOKUP(E65,$A$38:$A$65,$B$38:$B$65) -> 0 | G65: =LOOKUP(E65,$A$38:$A$65,$C$38:$C$65) -> 14

Sheet Ro-Ro
F1: 9. TRÁFICO RO-RO (Toneladas)
A5: Autoridad Portuaria | B5: ='Resumen general'!D6 -> Mes Septiembre | D5: ='Resumen general'!F6 -> Acumulado desde Enero | L5: ='Resumen general'!I4 -> 41218
B6: ='Resumen general'!D7 -> 2011 | C6: ='Resumen general'!E7 -> 2012 | D6: ='Resumen general'!F7 -> 2011 | E6: ='Resumen general'!G7 -> 2012 | F6: Var. (%)
A7: A CORUÑA | B7: 0 | C7: 0 | D7: 0 | E7: 0 | F7: =((E7*100)/D7)-100 -> #DIV/0!
A8: ALICANTE | B8: 426 | C8: 1589 | D8: 10130 | E8: 23176 | F8: =((E8*100)/D8)-100 -> 128.78578
A9: ALMERIA | B9: 25706 | C9: 28112 | D9: 311701 | E9: 333109 | F9: =((E9*100)/D9)-100 -> 6.8681204
A10: AVILES | B10: 0 | C10: 0 | D10: 0 | E10: 0 | F10: =((E10*100)/D10)-100 -> #DIV/0!
A11: BAHIA DE ALGECIRAS | B11: 269351 | C11: 320633 | D11: 3461261 | E11: 3857145 | F11: =((E11*100)/D11)-100 -> 11.437566
A12: BAHIA DE CADIZ | B12: 82973 | C12: 78572 | D12: 781010 | E12: 689904 | F12: =((E12*100)/D12)-100 -> -11.665152
A13: BALEARES | B13: 669555 | C13: 682975 | D13: 6218388 | E13: 6531007 | F13: =((E13*100)/D13)-100 -> 5.0273318
A14: BARCELONA | B14: 764979 | C14: 699013 | D14: 6692440 | E14: 6913054 | F14: =((E14*100)/D14)-100 -> 3.2964659
A15: BILBAO | B15: 94162 | C15: 89235 | D15: 670429 | E15: 687655 | F15: =((E15*100)/D15)-100 -> 2.5693996
A16: CARTAGENA | B16: 1032 | C16: 0 | D16: 2976 | E16: 17 | F16: =((E16*100)/D16)-100 -> -99.428763
A17: CASTELLON | B17: 32184 | C17: 39999 | D17: 270596 | E17: 264685 | F17: =((E17*100)/D17)-100 -> -2.1844373
A18: CEUTA | B18: 72919 | C18: 79306 | D18: 640838 | E18: 679914 | F18: =((E18*100)/D18)-100 -> 6.0976409
... A34: VILAGARCIA | B34: 0 | C34: 0 | D34: 1200 | E34: 1000 | F34: =((E34*100)/D34)-100 -> -16.666667
A35: Total | B35: =SUM(B7:B34) -> 3416857 | C35: =SUM(C7:C34) -> 3305045 | D35: =SUM(D7:D34) -> 31407727 | E35: =SUM(E7:E34) -> 32278864 | F35: =((E35*100)/D35)-100 -> 2.7736391
B37: =E6 -> 2012 | C37: =D6 -> 2011 | F37: =B37 -> 2012 | G37: =C37 -> 2011
A38: =A7 -> A CORUÑA | B38: =E7 -> 0 | C38: =D7 -> 0 | D38: =_xlfn.RANK.EQ(B38,$B$38:$B$65)+COUNTIF($B$38:$B$65,B38)-1 -> 28 | E38: =INDEX($A$38:$B$65,MATCH(ROW()-37,$D$38:$D$65,0),1) -> BARCELONA | F38: =LOOKUP(E38,$A$38:$A$65,$B$38:$B$65) -> 6913054 | G38: =LOOKUP(E38,$A$38:$A$65,$C$38:$C$65) -> 6692440
A39: =A8 -> ALICANTE | B39: =E8 -> 23176 | C39: =D8 -> 10130 | D39: =_xlfn.RANK.EQ(B39,$B$38:$B$65)+COUNTIF($B$38:$B$65,B39)-1 -> 23 | E39: =INDEX($A$38:$B$65,MATCH(ROW()-37,$D$38:$D$65,0),1) -> BALEARES | F39: =LOOKUP(E39,$A$38:$A$65,$B$38:$B$65) -> 6531007 | G39: =LOOKUP(E39,$A$38:$A$65,$C$38:$C$65) -> 6218388
A40: =A9 -> ALMERIA | B40: =E9 -> 333109 | C40: =D9 -> 311701 | D40: =_xlfn.RANK.EQ(B40,$B$38:$B$65)+COUNTIF($B$38:$B$65,B40)-1 -> 16 | E40: =INDEX($A$38:$B$65,MATCH(ROW()-37,$D$38:$D$65,0),1) -> VALENCIA | F40: =LOOKUP(E40,$A$38:$A$65,$B$38:$B$65) -> 4026340 | G40: =LOOKUP(E40,$A$38:$A$65,$C$38:$C$65) -> 4245764
A41: =A10 -> AVILES | B41: =E10 -> 0 | C41: =D10 -> 0 | D41: =_xlfn.RANK.EQ(B41,$B$38:$B$65)+COUNTIF($B$38:$B$65,B41)-1 -> 28 | E41: =INDEX($A$38:$B$65,MATCH(ROW()-37,$D$38:$D$65,0),1) -> BAHIA DE ALGECIRAS | F41: =LOOKUP(E41,$A$38:$A$65,$B$38:$B$65) -> 3857145 | G41: =LOOKUP(E41,$A$38:$A$65,$C$38:$C$65) -> 3461261
A42: =A11 -> BAHIA DE ALGECIRAS | B42: =E11 -> 3857145 | C42: =D11 -> 3461261 | D42: =_xlfn.RANK.EQ(B42,$B$38:$B$65)+COUNTIF($B$38:$B$65,B42)-1 -> 4 | E42: =INDEX($A$38:$B$65,MATCH(ROW()-37,$D$38:$D$65,0),1) -> SANTA CRUZ DE TENERIFE | F42: =LOOKUP(E42,$A$38:$A$65,$B$38:$B$65) -> 2549644 | G42: =LOOKUP(E42,$A$38:$A$65,$C$38:$C$65) -> 2445245
A43: =A12 -> BAHIA DE CADIZ | B43: =E12 -> 689904 | C43: =D12 -> 781010 | D43: =_xlfn.RANK.EQ(B43,$B$38:$B$65)+COUNTIF($B$38:$B$65,B43)-1 -> 8 | E43: =INDEX($A$38:$B$65,MATCH(ROW()-37,$D$38:$D$65,0),1) -> LAS PALMAS | F43: =LOOKUP(E43,$A$38:$A$65,$B$38:$B$65) -> 2057285 | G43: =LOOKUP(E43,$A$38:$A$65,$C$38:$C$65) -> 1898781
A44: =A13 -> BALEARES | B44: =E13 -> 6531007 | C44: =D13 -> 6218388 | D44: =_xlfn.RANK.EQ(B44,$B$38:$B$65)+COUNTIF($B$38:$B$65,B44)-1 -> 2 | E44: =INDEX($A$38:$B$65,MATCH(ROW()-37,$D$38:$D$65,0),1) -> SANTANDER | F44: =LOOKUP(E44,$A$38:$A$65,$B$38:$B$65) -> 883533 | G44: =LOOKUP(E44,$A$38:$A$65,$C$38:$C$65) -> 991978
A45: =A14 -> BARCELONA | B45: =E14 -> 6913054 | C45: =D14 -> 6692440 | D45: =_xlfn.RANK.EQ(B45,$B$38:$B$65)+COUNTIF($B$38:$B$65,B45)-1 -> 1 | E45: =INDEX($A$38:$B$65,MATCH(ROW()-37,$D$38:$D$65,0),1) -> BAHIA DE CADIZ | F45: =LOOKUP(E45,$A$38:$A$65,$B$38:$B$65) -> 689904 | G45: =LOOKUP(E45,$A$38:$A$65,$C$38:$C$65) -> 781010
A46: =A15 -> BILBAO | B46: =E15 -> 687655 | C46: =D15 -> 670429 | D46: =_xlfn.RANK.EQ(B46,$B$38:$B$65)+COUNTIF($B$38:$B$65,B46)-1 -> 9 | E46: =INDEX($A$38:$B$65,MATCH(ROW()-37,$D$38:$D$65,0),1) -> BILBAO | F46: =LOOKUP(E46,$A$38:$A$65,$B$38:$B$65) -> 687655 | G46: =LOOKUP(E46,$A$38:$A$65,$C$38:$C$65) -> 670429
A47: =A16 -> CARTAGENA | B47: =E16 -> 17 | C47: =D16 -> 2976 | D47: =_xlfn.RANK.EQ(B47,$B$38:$B$65)+COUNTIF($B$38:$B$65,B47)-1 -> 25 | E47: =INDEX($A$38:$B$65,MATCH(ROW()-37,$D$38:$D$65,0),1) -> CEUTA | F47: =LOOKUP(E47,$A$38:$A$65,$B$38:$B$65) -> 679914 | G47: =LOOKUP(E47,$A$38:$A$65,$C$38:$C$65) -> 640838
A48: =A17 -> CASTELLON | B48: =E17 -> 264685 | C48: =D17 -> 270596 | D48: =_xlfn.RANK.EQ(B48,$B$38:$B$65)+COUNTIF($B$38:$B$65,B48)-1 -> 17 | E48: =INDEX($A$38:$B$65,MATCH(ROW()-37,$D$38:$D$65,0),1) -> VIGO | F48: =LOOKUP(E48,$A$38:$A$65,$B$38:$B$65) -> 652934 | G48: =LOOKUP(E48,$A$38:$A$65,$C$38:$C$65) -> 719416
A49: =A18 -> CEUTA | B49: =E18 -> 679914 | C49: =D18 -> 640838 | D49: =_xlfn.RANK.EQ(B49,$B$38:$B$65)+COUNTIF($B$38:$B$65,B49)-1 -> 10 | E49: =INDEX($A$38:$B$65,MATCH(ROW()-37,$D$38:$D$65,0),1) -> MELILLA | F49: =LOOKUP(E49,$A$38:$A$65,$B$38:$B$65) -> 500632 | G49: =LOOKUP(E49,$A$38:$A$65,$C$38:$C$65) -> 436492
... A65: =A34 -> VILAGARCIA | B65: =E34 -> 1000 | C65: =D34 -> 1200 | D65: =_xlfn.RANK.EQ(B65,$B$38:$B$65)+COUNTIF($B$38:$B$65,B65)-1 -> 24 | E65: =INDEX($A$38:$B$65,MATCH(ROW()-37,$D$38:$D$65,0),1) -> A CORUÑA | F65: =LOOKUP(E65,$A$38:$A$65,$B$38:$B$65) -> 0 | G65: =LOOKUP(E65,$A$38:$A$65,$C$38:$C$65) -> 0

Sheet TEUS
F1: 10. CONTENEDORES (TEUS)
A5: Autoridad Portuaria | B5: ='Resumen general'!D6 -> Mes Septiembre | D5: ='Resumen general'!F6 -> Acumulado desde Enero | L5: ='Resumen general'!I4 -> 41218
B6: ='Resumen general'!D7 -> 2011 | C6: ='Resumen general'!E7 -> 2012 | D6: ='Resumen general'!F7 -> 2011 | E6: ='Resumen general'!G7 -> 2012 | F6: Var. (%)
A7: A CORUÑA | B7: 510 | C7: 570 | D7: 4078 | E7: 3915 | F7: =((E7*100)/D7)-100 -> -3.9970574
A8: ALICANTE | B8: 11412 | C8: 13580 | D8: 113547 | E8: 123375 | F8: =((E8*100)/D8)-100 -> 8.6554466
A9: ALMERIA | B9: 486 | C9: 334 | D9: 2855 | E9: 4207.25 | F9: =((E9*100)/D9)-100 -> 47.364273
A10: AVILES | B10: 0 | C10: 0 | D10: 8 | E10: 8 | F10: =((E10*100)/D10)-100 -> 0
A11: BAHIA DE ALGECIRAS | B11: 287628 | C11: 341505 | D11: 2462392 | E11: 2971557 | F11: =((E11*100)/D11)-100 -> 20.677658
A12: BAHIA DE CADIZ | B12: 7605 | C12: 8997.5 | D12: 63529 | E12: 72253 | F12: =((E12*100)/D12)-100 -> 13.732311
A13: BALEARES | B13: 5288 | C13: 4586 | D13: 54198 | E13: 45101 | F13: =((E13*100)/D13)-100 -> -16.784752
A14: BARCELONA | B14: 167355 | C14: 153048 | D14: 1570165 | E14: 1321936.5 | F14: =((E14*100)/D14)-100 -> -15.809071
A15: BILBAO | B15: 43940.75 | C15: 45044.75 | D15: 419139.75 | E15: 452876.25 | F15: =((E15*100)/D15)-100 -> 8.048986
A16: CARTAGENA | B16: 6866 | C16: 5187 | D16: 54864 | E16: 51248 | F16: =((E16*100)/D16)-100 -> -6.5908428
A17: CASTELLON | B17: 11615 | C17: 13011 | D17: 98007 | E17: 119546 | F17: =((E17*100)/D17)-100 -> 21.977002
A18: CEUTA | B18: 889 | C18: 1397 | D18: 7858 | E18: 11627 | F18: =((E18*100)/D18)-100 -> 47.963858
... A34: VILAGARCIA | B34: 2459 | C34: 2093 | D34: 4778 | E34: 18538 | F34: =((E34*100)/D34)-100 -> 287.98661
A35: Total | B35: =SUM(B7:B34) -> 1151003.8 | C35: =SUM(C7:C34) -> 1148241.8 | D35: =SUM(D7:D34) -> 10137857 | E35: =SUM(E7:E34) -> 10488192 | F35: =((E35*100)/D35)-100 -> 3.4557031
B37: =E6 -> 2012 | C37: =D6 -> 2011 | F37: =B37 -> 2012 | G37: =C37 -> 2011
A38: =A7 -> A CORUÑA | B38: =E7 -> 3915 | C38: =D7 -> 4078 | D38: =_xlfn.RANK.EQ(B38,$B$38:$B$65)+COUNTIF($B$38:$B$65,B38)-1 -> 23 | E38: =INDEX($A$38:$B$65,MATCH(ROW()-37,$D$38:$D$65,0),1) -> VALENCIA | F38: =LOOKUP(E38,$A$38:$A$65,$B$38:$B$65) -> 3308855 | G38: =LOOKUP(E38,$A$38:$A$65,$C$38:$C$65) -> 3238657
A39: =A8 -> ALICANTE | B39: =E8 -> 123375 | C39: =D8 -> 113547 | D39: =_xlfn.RANK.EQ(B39,$B$38:$B$65)+COUNTIF($B$38:$B$65,B39)-1 -> 10 | E39: =INDEX($A$38:$B$65,MATCH(ROW()-37,$D$38:$D$65,0),1) -> BAHIA DE ALGECIRAS | F39: =LOOKUP(E39,$A$38:$A$65,$B$38:$B$65) -> 2971557 | G39: =LOOKUP(E39,$A$38:$A$65,$C$38:$C$65) -> 2462392
A40: =A9 -> ALMERIA | B40: =E9 -> 4207.25 | C40: =D9 -> 2855 | D40: =_xlfn.RANK.EQ(B40,$B$38:$B$65)+COUNTIF($B$38:$B$65,B40)-1 -> 22 | E40: =INDEX($A$38:$B$65,MATCH(ROW()-37,$D$38:$D$65,0),1) -> BARCELONA | F40: =LOOKUP(E40,$A$38:$A$65,$B$38:$B$65) -> 1321936.5 | G40: =LOOKUP(E40,$A$38:$A$65,$C$38:$C$65) -> 1570165
A41: =A10 -> AVILES | B41: =E10 -> 8 | C41: =D10 -> 8 | D41: =_xlfn.RANK.EQ(B41,$B$38:$B$65)+COUNTIF($B$38:$B$65,B41)-1 -> 27 | E41: =INDEX($A$38:$B$65,MATCH(ROW()-37,$D$38:$D$65,0),1) -> LAS PALMAS | F41: =LOOKUP(E41,$A$38:$A$65,$B$38:$B$65) -> 927827 | G41: =LOOKUP(E41,$A$38:$A$65,$C$38:$C$65) -> 938241
A42: =A11 -> BAHIA DE ALGECIRAS | B42: =E11 -> 2971557 | C42: =D11 -> 2462392 | D42: =_xlfn.RANK.EQ(B42,$B$38:$B$65)+COUNTIF($B$38:$B$65,B42)-1 -> 2 | E42: =INDEX($A$38:$B$65,MATCH(ROW()-37,$D$38:$D$65,0),1) -> BILBAO | F42: =LOOKUP(E42,$A$38:$A$65,$B$38:$B$65) -> 452876.25 | G42: =LOOKUP(E42,$A$38:$A$65,$C$38:$C$65) -> 419139.75
A43: =A12 -> BAHIA DE CADIZ | B43: =E12 -> 72253 | C43: =D12 -> 63529 | D43: =_xlfn.RANK.EQ(B43,$B$38:$B$65)+COUNTIF($B$38:$B$65,B43)-1 -> 13 | E43: =INDEX($A$38:$B$65,MATCH(ROW()-37,$D$38:$D$65,0),1) -> MALAGA | F43: =LOOKUP(E43,$A$38:$A$65,$B$38:$B$65) -> 308410 | G43: =LOOKUP(E43,$A$38:$A$65,$C$38:$C$65) -> 302194
A44: =A13 -> BALEARES | B44: =E13 -> 45101 | C44: =D13 -> 54198 | D44: =_xlfn.RANK.EQ(B44,$B$38:$B$65)+COUNTIF($B$38:$B$65,B44)-1 -> 15 | E44: =INDEX($A$38:$B$65,MATCH(ROW()-37,$D$38:$D$65,0),1) -> SANTA CRUZ DE TENERIFE | F44: =LOOKUP(E44,$A$38:$A$65,$B$38:$B$65) -> 239297 | G44: =LOOKUP(E44,$A$38:$A$65,$C$38:$C$65) -> 261029
A45: =A14 -> BARCELONA | B45: =E14 -> 1321936.5 | C45: =D14 -> 1570165 | D45: =_xlfn.RANK.EQ(B45,$B$38:$B$65)+COUNTIF($B$38:$B$65,B45)-1 -> 3 | E45: =INDEX($A$38:$B$65,MATCH(ROW()-37,$D$38:$D$65,0),1) -> VIGO | F45: =LOOKUP(E45,$A$38:$A$65,$B$38:$B$65) -> 150621.5 | G45: =LOOKUP(E45,$A$38:$A$65,$C$38:$C$65) -> 163853.5
A46: =A15 -> BILBAO | B46: =E15 -> 452876.25 | C46: =D15 -> 419139.75 | D46: =_xlfn.RANK.EQ(B46,$B$38:$B$65)+COUNTIF($B$38:$B$65,B46)-1 -> 5 | E46: =INDEX($A$38:$B$65,MATCH(ROW()-37,$D$38:$D$65,0),1) -> TARRAGONA | F46: =LOOKUP(E46,$A$38:$A$65,$B$38:$B$65) -> 144774 | G46: =LOOKUP(E46,$A$38:$A$65,$C$38:$C$65) -> 172091
A47: =A16 -> CARTAGENA | B47: =E16 -> 51248 | C47: =D16 -> 54864 | D47: =_xlfn.RANK.EQ(B47,$B$38:$B$65)+COUNTIF($B$38:$B$65,B47)-1 -> 14 | E47: =INDEX($A$38:$B$65,MATCH(ROW()-37,$D$38:$D$65,0),1) -> ALICANTE | F47: =LOOKUP(E47,$A$38:$A$65,$B$38:$B$65) -> 123375 | G47: =LOOKUP(E47,$A$38:$A$65,$C$38:$C$65) -> 113547
A48: =A17 -> CASTELLON | B48: =E17 -> 119546 | C48: =D17 -> 98007 | D48: =_xlfn.RANK.EQ(B48,$B$38:$B$65)+COUNTIF($B$38:$B$65,B48)-1 -> 11 | E48: =INDEX($A$38:$B$65,MATCH(ROW()-37,$D$38:$D$65,0),1) -> CASTELLON | F48: =LOOKUP(E48,$A$38:$A$65,$B$38:$B$65) -> 119546 | G48: =LOOKUP(E48,$A$38:$A$65,$C$38:$C$65) -> 98007
A49: =A18 -> CEUTA | B49: =E18 -> 11627 | C49: =D18 -> 7858 | D49: =_xlfn.RANK.EQ(B49,$B$38:$B$65)+COUNTIF($B$38:$B$65,B49)-1 -> 20 | E49: =INDEX($A$38:$B$65,MATCH(ROW()-37,$D$38:$D$65,0),1) -> SEVILLA | F49: =LOOKUP(E49,$A$38:$A$65,$B$38:$B$65) -> 116520 | G49: =LOOKUP(E49,$A$38:$A$65,$C$38:$C$65) -> 122618
... A65: =A34 -> VILAGARCIA | B65: =E34 -> 18538 | C65: =D34 -> 4778 | D65: =_xlfn.RANK.EQ(B65,$B$38:$B$65)+COUNTIF($B$38:$B$65,B65)-1 -> 19 | E65: =INDEX($A$38:$B$65,MATCH(ROW()-37,$D$38:$D$65,0),1) -> PASAIA | F65: =LOOKUP(E65,$A$38:$A$65,$B$38:$B$65) -> 0 | G65: =LOOKUP(E65,$A$38:$A$65,$C$38:$C$65) -> 0

Sheet TEUS tránsito
F1: 10.1. CONTENEDORES EN TRÁNSITO (TEUS)
A5: Autoridad Portuaria | B5: ='Resumen general'!D6 -> Mes Septiembre | D5: ='Resumen general'!F6 -> Acumulado desde Enero | L5: ='Resumen general'!I4 -> 41218
B6: ='Resumen general'!D7 -> 2011 | C6: ='Resumen general'!E7 -> 2012 | D6: ='Resumen general'!F7 -> 2011 | E6: ='Resumen general'!G7 -> 2012 | F6: Var. (%)
A7: A CORUÑA | B7: 0 | C7: 0 | D7: 0 | E7: 0 | F7: =((E7*100)/D7)-100 -> #DIV/0!
A8: ALICANTE | B8: 0 | C8: 153 | D8: 1230 | E8: 2453 | F8: =((E8*100)/D8)-100 -> 99.430894
A9: ALMERIA | B9: 0 | C9: 0 | D9: 0 | E9: 0 | F9: =((E9*100)/D9)-100 -> #DIV/0!
A10: AVILES | B10: 0 | C10: 0 | D10: 0 | E10: 0 | F10: =((E10*100)/D10)-100 -> #DIV/0!
A11: BAHIA DE ALGECIRAS | B11: 267884 | C11: 298850 | D11: 2281226 | E11: 2726316 | F11: =((E11*100)/D11)-100 -> 19.511
A12: BAHIA DE CADIZ | B12: 0 | C12: 220 | D12: 241 | E12: 694 | F12: =((E12*100)/D12)-100 -> 187.9668
A13: BALEARES | B13: 0 | C13: 7 | D13: 0 | E13: 22 | F13: =((E13*100)/D13)-100 -> #DIV/0!
A14: BARCELONA | B14: 50227 | C14: 34084.5 | D14: 526855.5 | E14: 351926 | F14: =((E14*100)/D14)-100 -> -33.202557
A15: BILBAO | B15: 205 | C15: 37 | D15: 2690.25 | E15: 856.5 | F15: =((E15*100)/D15)-100 -> -68.16281
A16: CARTAGENA | B16: 0 | C16: 0 | D16: 2 | E16: 0 | F16: =((E16*100)/D16)-100 -> -100
A17: CASTELLON | B17: 0 | C17: 16 | D17: 1240 | E17: 364 | F17: =((E17*100)/D17)-100 -> -70.645161
A18: CEUTA | B18: 0 | C18: 0 | D18: 10 | E18: 0 | F18: =((E18*100)/D18)-100 -> -100
... A34: VILAGARCIA | B34: 0 | C34: 0 | D34: 0 | E34: 28 | F34: =((E34*100)/D34)-100 -> #DIV/0!
A35: Total | B35: =SUM(B7:B34) -> 635002 | C35: =SUM(C7:C34) -> 606724.5 | D35: =SUM(D7:D34) -> 5485624.8 | E35: =SUM(E7:E34) -> 5760291.5 | F35: =((E35*100)/D35)-100 -> 5.0070277
B37: =E6 -> 2012 | C37: =D6 -> 2011 | F37: =B37 -> 2012 | G37: =C37 -> 2011
A38: =A7 -> A CORUÑA | B38: =E7 -> 0 | C38: =D7 -> 0 | D38: =_xlfn.RANK.EQ(B38,$B$38:$B$65)+COUNTIF($B$38:$B$65,B38)-1 -> 28 | E38: =INDEX($A$38:$B$65,MATCH(ROW()-37,$D$38:$D$65,0),1) -> BAHIA DE ALGECIRAS | F38: =LOOKUP(E38,$A$38:$A$65,$B$38:$B$65) -> 2726316 | G38: =LOOKUP(E38,$A$38:$A$65,$C$38:$C$65) -> 2281226
A39: =A8 -> ALICANTE | B39: =E8 -> 2453 | C39: =D8 -> 1230 | D39: =_xlfn.RANK.EQ(B39,$B$38:$B$65)+COUNTIF($B$38:$B$65,B39)-1 -> 10 | E39: =INDEX($A$38:$B$65,MATCH(ROW()-37,$D$38:$D$65,0),1) -> VALENCIA | F39: =LOOKUP(E39,$A$38:$A$65,$B$38:$B$65) -> 1685376 | G39: =LOOKUP(E39,$A$38:$A$65,$C$38:$C$65) -> 1657747
A40: =A9 -> ALMERIA | B40: =E9 -> 0 | C40: =D9 -> 0 | D40: =_xlfn.RANK.EQ(B40,$B$38:$B$65)+COUNTIF($B$38:$B$65,B40)-1 -> 28 | E40: =INDEX($A$38:$B$65,MATCH(ROW()-37,$D$38:$D$65,0),1) -> LAS PALMAS | F40: =LOOKUP(E40,$A$38:$A$65,$B$38:$B$65) -> 615350 | G40: =LOOKUP(E40,$A$38:$A$65,$C$38:$C$65) -> 603712
A41: =A10 -> AVILES | B41: =E10 -> 0 | C41: =D10 -> 0 | D41: =_xlfn.RANK.EQ(B41,$B$38:$B$65)+COUNTIF($B$38:$B$65,B41)-1 -> 28 | E41: =INDEX($A$38:$B$65,MATCH(ROW()-37,$D$38:$D$65,0),1) -> BARCELONA | F41: =LOOKUP(E41,$A$38:$A$65,$B$38:$B$65) -> 351926 | G41: =LOOKUP(E41,$A$38:$A$65,$C$38:$C$65) -> 526855.5
A42: =A11 -> BAHIA DE ALGECIRAS | B42: =E11 -> 2726316 | C42: =D11 -> 2281226 | D42: =_xlfn.RANK.EQ(B42,$B$38:$B$65)+COUNTIF($B$38:$B$65,B42)-1 -> 1 | E42: =INDEX($A$38:$B$65,MATCH(ROW()-37,$D$38:$D$65,0),1) -> MALAGA | F42: =LOOKUP(E42,$A$38:$A$65,$B$38:$B$65) -> 280363 | G42: =LOOKUP(E42,$A$38:$A$65,$C$38:$C$65) -> 282944
A43: =A12 -> BAHIA DE CADIZ | B43: =E12 -> 694 | C43: =D12 -> 241 | D43: =_xlfn.RANK.EQ(B43,$B$38:$B$65)+COUNTIF($B$38:$B$65,B43)-1 -> 12 | E43: =INDEX($A$38:$B$65,MATCH(ROW()-37,$D$38:$D$65,0),1) -> TARRAGONA | F43: =LOOKUP(E43,$A$38:$A$65,$B$38:$B$65) -> 82647 | G43: =LOOKUP(E43,$A$38:$A$65,$C$38:$C$65) -> 107017
A44: =A13 -> BALEARES | B44: =E13 -> 22 | C44: =D13 -> 0 | D44: =_xlfn.RANK.EQ(B44,$B$38:$B$65)+COUNTIF($B$38:$B$65,B44)-1 -> 16 | E44: =INDEX($A$38:$B$65,MATCH(ROW()-37,$D$38:$D$65,0),1) -> VIGO | F44: =LOOKUP(E44,$A$38:$A$65,$B$38:$B$65) -> 7600 | G44: =LOOKUP(E44,$A$38:$A$65,$C$38:$C$65) -> 6631
A45: =A14 -> BARCELONA | B45: =E14 -> 351926 | C45: =D14 -> 526855.5 | D45: =_xlfn.RANK.EQ(B45,$B$38:$B$65)+COUNTIF($B$38:$B$65,B45)-1 -> 4 | E45: =INDEX($A$38:$B$65,MATCH(ROW()-37,$D$38:$D$65,0),1) -> SANTA CRUZ DE TENERIFE | F45: =LOOKUP(E45,$A$38:$A$65,$B$38:$B$65) -> 3810 | G45: =LOOKUP(E45,$A$38:$A$65,$C$38:$C$65) -> 9544
A46: =A15 -> BILBAO | B46: =E15 -> 856.5 | C46: =D15 -> 2690.25 | D46: =_xlfn.RANK.EQ(B46,$B$38:$B$65)+COUNTIF($B$38:$B$65,B46)-1 -> 11 | E46: =INDEX($A$38:$B$65,MATCH(ROW()-37,$D$38:$D$65,0),1) -> MARIN Y RIA DE PONTEVEDRA | F46: =LOOKUP(E46,$A$38:$A$65,$B$38:$B$65) -> 2462 | G46: =LOOKUP(E46,$A$38:$A$65,$C$38:$C$65) -> 4491
A47: =A16 -> CARTAGENA | B47: =E16 -> 0 | C47: =D16 -> 2 | D47: =_xlfn.RANK.EQ(B47,$B$38:$B$65)+COUNTIF($B$38:$B$65,B47)-1 -> 28 | E47: =INDEX($A$38:$B$65,MATCH(ROW()-37,$D$38:$D$65,0),1) -> ALICANTE | F47: =LOOKUP(E47,$A$38:$A$65,$B$38:$B$65) -> 2453 | G47: =LOOKUP(E47,$A$38:$A$65,$C$38:$C$65) -> 1230
A48: =A17 -> CASTELLON | B48: =E17 -> 364 | C48: =D17 -> 1240 | D48: =_xlfn.RANK.EQ(B48,$B$38:$B$65)+COUNTIF($B$38:$B$65,B48)-1 -> 13 | E48: =INDEX($A$38:$B$65,MATCH(ROW()-37,$D$38:$D$65,0),1) -> BILBAO | F48: =LOOKUP(E48,$A$38:$A$65,$B$38:$B$65) -> 856.5 | G48: =LOOKUP(E48,$A$38:$A$65,$C$38:$C$65) -> 2690.25
A49: =A18 -> CEUTA | B49: =E18 -> 0 | C49: =D18 -> 10 | D49: =_xlfn.RANK.EQ(B49,$B$38:$B$65)+COUNTIF($B$38:$B$65,B49)-1 -> 28 | E49: =INDEX($A$38:$B$65,MATCH(ROW()-37,$D$38:$D$65,0),1) -> BAHIA DE CADIZ | F49: =LOOKUP(E49,$A$38:$A$65,$B$38:$B$65) -> 694 | G49: =LOOKUP(E49,$A$38:$A$65,$C$38:$C$65) -> 241
... A65: =A34 -> VILAGARCIA | B65: =E34 -> 28 | C65: =D34 -> 0 | D65: =_xlfn.RANK.EQ(B65,$B$38:$B$65)+COUNTIF($B$38:$B$65,B65)-1 -> 14 | E65: =INDEX($A$38:$B$65,MATCH(ROW()-37,$D$38:$D$65,0),1) -> A CORUÑA | F65: =LOOKUP(E65,$A$38:$A$65,$B$38:$B$65) -> 0 | G65: =LOOKUP(E65,$A$38:$A$65,$C$38:$C$65) -> 0

Sheet TEUS nacional
F1: 10.2. CONTENEDORES ENTRADA-SALIDA NACIONAL (TEUS)
A5: Autoridad Portuaria | B5: ='Resumen general'!D6 -> Mes Septiembre | D5: Acumulado desde Enero | L5: ='Resumen general'!I4 -> 41218
B6: ='Resumen general'!D7 -> 2011 | C6: ='Resumen general'!E7 -> 2012 | D6: ='Resumen general'!F7 -> 2011 | E6: ='Resumen general'!G7 -> 2012 | F6: Var. (%)
A7: A CORUÑA | B7: 0 | C7: 30 | D7: 187 | E7: 197 | F7: =((E7*100)/D7)-100 -> 5.3475936
A8: ALICANTE | B8: 8302 | C8: 10999 | D8: 82677 | E8: 89135 | F8: =((E8*100)/D8)-100 -> 7.8111204
A9: ALMERIA | B9: 486 | C9: 174 | D9: 2761 | E9: 2893.25 | F9: =((E9*100)/D9)-100 -> 4.7899312
A10: AVILES | B10: 0 | C10: 0 | D10: 0 | E10: 0 | F10: =((E10*100)/D10)-100 -> #DIV/0!
A11: BAHIA DE ALGECIRAS | B11: 1650 | C11: 2789 | D11: 12474 | E11: 18255 | F11: =((E11*100)/D11)-100 -> 46.344396
A12: BAHIA DE CADIZ | B12: 2466 | C12: 3674 | D12: 28042.5 | E12: 27971.5 | F12: =((E12*100)/D12)-100 -> -0.25318713
A13: BALEARES | B13: 5288 | C13: 4579 | D13: 54190 | E13: 45077 | F13: =((E13*100)/D13)-100 -> -16.816756
A14: BARCELONA | B14: 15774.5 | C14: 11576.5 | D14: 141740 | E14: 122987 | F14: =((E14*100)/D14)-100 -> -13.230563
A15: BILBAO | B15: 3956.75 | C15: 4088.25 | D15: 35158 | E15: 46940.75 | F15: =((E15*100)/D15)-100 -> 33.51371
A16: CARTAGENA | B16: 2658 | C16: 1010 | D16: 22022 | E16: 12876 | F16: =((E16*100)/D16)-100 -> -41.531196
A17: CASTELLON | B17: 566 | C17: 201 | D17: 3776 | E17: 4703 | F17: =((E17*100)/D17)-100 -> 24.549788
A18: CEUTA | B18: 856 | C18: 1397 | D18: 7471 | E18: 11496 | F18: =((E18*100)/D18)-100 -> 53.874983
... A34: VILAGARCIA | B34: 2323 | C34: 2044 | D34: 4501 | E34: 17854 | F34: =((E34*100)/D34)-100 -> 296.66741
A35: Total | B35: =SUM(B7:B34) -> 131193.25 | C35: =SUM(C7:C34) -> 118115.75 | D35: =SUM(D7:D34) -> 1182445.5 | E35: =SUM(E7:E34) -> 1143892.5 | F35: =((E35*100)/D35)-100 -> -3.2604463
B37: =E6 -> 2012 | C37: =D6 -> 2011 | F37: =B37 -> 2012 | G37: =C37 -> 2011
A38: =A7 -> A CORUÑA | B38: =E7 -> 197 | C38: =D7 -> 187 | D38: =_xlfn.RANK.EQ(B38,$B$38:$B$65)+COUNTIF($B$38:$B$65,B38)-1 -> 24 | E38: =INDEX($A$38:$B$65,MATCH(ROW()-37,$D$38:$D$65,0),1) -> LAS PALMAS | F38: =LOOKUP(E38,$A$38:$A$65,$B$38:$B$65) -> 252841 | G38: =LOOKUP(E38,$A$38:$A$65,$C$38:$C$65) -> 258501
A39: =A8 -> ALICANTE | B39: =E8 -> 89135 | C39: =D8 -> 82677 | D39: =_xlfn.RANK.EQ(B39,$B$38:$B$65)+COUNTIF($B$38:$B$65,B39)-1 -> 6 | E39: =INDEX($A$38:$B$65,MATCH(ROW()-37,$D$38:$D$65,0),1) -> SANTA CRUZ DE TENERIFE | F39: =LOOKUP(E39,$A$38:$A$65,$B$38:$B$65) -> 206817 | G39: =LOOKUP(E39,$A$38:$A$65,$C$38:$C$65) -> 220286
A40: =A9 -> ALMERIA | B40: =E9 -> 2893.25 | C40: =D9 -> 2761 | D40: =_xlfn.RANK.EQ(B40,$B$38:$B$65)+COUNTIF($B$38:$B$65,B40)-1 -> 21 | E40: =INDEX($A$38:$B$65,MATCH(ROW()-37,$D$38:$D$65,0),1) -> BARCELONA | F40: =LOOKUP(E40,$A$38:$A$65,$B$38:$B$65) -> 122987 | G40: =LOOKUP(E40,$A$38:$A$65,$C$38:$C$65) -> 141740
A41: =A10 -> AVILES | B41: =E10 -> 0 | C41: =D10 -> 0 | D41: =_xlfn.RANK.EQ(B41,$B$38:$B$65)+COUNTIF($B$38:$B$65,B41)-1 -> 28 | E41: =INDEX($A$38:$B$65,MATCH(ROW()-37,$D$38:$D$65,0),1) -> VALENCIA | F41: =LOOKUP(E41,$A$38:$A$65,$B$38:$B$65) -> 111124 | G41: =LOOKUP(E41,$A$38:$A$65,$C$38:$C$65) -> 115670
A42: =A11 -> BAHIA DE ALGECIRAS | B42: =E11 -> 18255 | C42: =D11 -> 12474 | D42: =_xlfn.RANK.EQ(B42,$B$38:$B$65)+COUNTIF($B$38:$B$65,B42)-1 -> 10 | E42: =INDEX($A$38:$B$65,MATCH(ROW()-37,$D$38:$D$65,0),1) -> SEVILLA | F42: =LOOKUP(E42,$A$38:$A$65,$B$38:$B$65) -> 100542 | G42: =LOOKUP(E42,$A$38:$A$65,$C$38:$C$65) -> 105086
A43: =A12 -> BAHIA DE CADIZ | B43: =E12 -> 27971.5 | C43: =D12 -> 28042.5 | D43: =_xlfn.RANK.EQ(B43,$B$38:$B$65)+COUNTIF($B$38:$B$65,B43)-1 -> 9 | E43: =INDEX($A$38:$B$65,MATCH(ROW()-37,$D$38:$D$65,0),1) -> ALICANTE | F43: =LOOKUP(E43,$A$38:$A$65,$B$38:$B$65) -> 89135 | G43: =LOOKUP(E43,$A$38:$A$65,$C$38:$C$65) -> 82677
A44: =A13 -> BALEARES | B44: =E13 -> 45077 | C44: =D13 -> 54190 | D44: =_xlfn.RANK.EQ(B44,$B$38:$B$65)+COUNTIF($B$38:$B$65,B44)-1 -> 8 | E44: =INDEX($A$38:$B$65,MATCH(ROW()-37,$D$38:$D$65,0),1) -> BILBAO | F44: =LOOKUP(E44,$A$38:$A$65,$B$38:$B$65) -> 46940.75 | G44: =LOOKUP(E44,$A$38:$A$65,$C$38:$C$65) -> 35158
A45: =A14 -> BARCELONA | B45: =E14 -> 122987 | C45: =D14 -> 141740 | D45: =_xlfn.RANK.EQ(B45,$B$38:$B$65)+COUNTIF($B$38:$B$65,B45)-1 -> 3 | E45: =INDEX($A$38:$B$65,MATCH(ROW()-37,$D$38:$D$65,0),1) -> BALEARES | F45: =LOOKUP(E45,$A$38:$A$65,$B$38:$B$65) -> 45077 | G45: =LOOKUP(E45,$A$38:$A$65,$C$38:$C$65) -> 54190
A46: =A15 -> BILBAO | B46: =E15 -> 46940.75 | C46: =D15 -> 35158 | D46: =_xlfn.RANK.EQ(B46,$B$38:$B$65)+COUNTIF($B$38:$B$65,B46)-1 -> 7 | E46: =INDEX($A$38:$B$65,MATCH(ROW()-37,$D$38:$D$65,0),1) -> BAHIA DE CADIZ | F46: =LOOKUP(E46,$A$38:$A$65,$B$38:$B$65) -> 27971.5 | G46: =LOOKUP(E46,$A$38:$A$65,$C$38:$C$65) -> 28042.5
A47: =A16 -> CARTAGENA | B47: =E16 -> 12876 | C47: =D16 -> 22022 | D47: =_xlfn.RANK.EQ(B47,$B$38:$B$65)+COUNTIF($B$38:$B$65,B47)-1 -> 15 | E47: =INDEX($A$38:$B$65,MATCH(ROW()-37,$D$38:$D$65,0),1) -> BAHIA DE ALGECIRAS | F47: =LOOKUP(E47,$A$38:$A$65,$B$38:$B$65) -> 18255 | G47: =LOOKUP(E47,$A$38:$A$65,$C$38:$C$65) -> 12474
A48: =A17 -> CASTELLON | B48: =E17 -> 4703 | C48: =D17 -> 3776 | D48: =_xlfn.RANK.EQ(B48,$B$38:$B$65)+COUNTIF($B$38:$B$65,B48)-1 -> 19 | E48: =INDEX($A$38:$B$65,MATCH(ROW()-37,$D$38:$D$65,0),1) -> VILAGARCIA | F48: =LOOKUP(E48,$A$38:$A$65,$B$38:$B$65) -> 17854 | G48: =LOOKUP(E48,$A$38:$A$65,$C$38:$C$65) -> 4501
A49: =A18 -> CEUTA | B49: =E18 -> 11496 | C49: =D18 -> 7471 | D49: =_xlfn.RANK.EQ(B49,$B$38:$B$65)+COUNTIF($B$38:$B$65,B49)-1 -> 16 | E49: =INDEX($A$38:$B$65,MATCH(ROW()-37,$D$38:$D$65,0),1) -> VIGO | F49: =LOOKUP(E49,$A$38:$A$65,$B$38:$B$65) -> 17141 | G49: =LOOKUP(E49,$A$38:$A$65,$C$38:$C$65) -> 23296
... A65: =A34 -> VILAGARCIA | B65: =E34 -> 17854 | C65: =D34 -> 4501 | D65: =_xlfn.RANK.EQ(B65,$B$38:$B$65)+COUNTIF($B$38:$B$65,B65)-1 -> 11 | E65: =INDEX($A$38:$B$65,MATCH(ROW()-37,$D$38:$D$65,0),1) -> AVILES | F65: =LOOKUP(E65,$A$38:$A$65,$B$38:$B$65) -> 0 | G65: =LOOKUP(E65,$A$38:$A$65,$C$38:$C$65) -> 0

Sheet TEUS exterior
F1: 10.3. CONTENEDORES IMPORTACIÓN-EXPORTACIÓN EXTERIOR (TEUS)
A5: Autoridad Portuaria | B5: ='Resumen general'!D6 -> Mes Septiembre | D5: Acumulado desde Enero | L5: ='Resumen general'!I4 -> 41218
B6: ='Resumen general'!D7 -> 2011 | C6: ='Resumen general'!E7 -> 2012 | D6: ='Resumen general'!F7 -> 2011 | E6: ='Resumen general'!G7 -> 2012 | F6: Var. (%)
A7: A CORUÑA | B7: 510 | C7: 540 | D7: 3891 | E7: 3718 | F7: =((E7*100)/D7)-100 -> -4.4461578
A8: ALICANTE | B8: 3110 | C8: 2428 | D8: 29640 | E8: 31787 | F8: =((E8*100)/D8)-100 -> 7.2435897
A9: ALMERIA | B9: 0 | C9: 160 | D9: 94 | E9: 1314 | F9: =((E9*100)/D9)-100 -> 1297.8723
A10: AVILES | B10: 0 | C10: 0 | D10: 8 | E10: 8 | F10: =((E10*100)/D10)-100 -> 0
A11: BAHIA DE ALGECIRAS | B11: 18058 | C11: 39866 | D11: 166689 | E11: 226986 | F11: =((E11*100)/D11)-100 -> 36.173353
A12: BAHIA DE CADIZ | B12: 5139 | C12: 5103.5 | D12: 35245.5 | E12: 43587.5 | F12: =((E12*100)/D12)-100 -> 23.66827
A13: BALEARES | B13: 0 | C13: 0 | D13: 8 | E13: 2 | F13: =((E13*100)/D13)-100 -> -75
A14: BARCELONA | B14: 101353.5 | C14: 107387 | D14: 901569.5 | E14: 846950.5 | F14: =((E14*100)/D14)-100 -> -6.0582129
A15: BILBAO | B15: 39779 | C15: 40919.5 | D15: 381291.5 | E15: 405079 | F15: =((E15*100)/D15)-100 -> 6.2386652
A16: CARTAGENA | B16: 4208 | C16: 4177 | D16: 32840 | E16: 38372 | F16: =((E16*100)/D16)-100 -> 16.845311
A17: CASTELLON | B17: 11049 | C17: 12794 | D17: 92991 | E17: 114479 | F17: =((E17*100)/D17)-100 -> 23.107613
A18: CEUTA | B18: 33 | C18: 0 | D18: 377 | E18: 131 | F18: =((E18*100)/D18)-100 -> -65.251989
... A34: VILAGARCIA | B34: 136 | C34: 49 | D34: 277 | E34: 656 | F34: =((E34*100)/D34)-100 -> 136.8231
A35: Total | B35: =SUM(B7:B34) -> 384729.5 | C35: =SUM(C7:C34) -> 423401.5 | D35: =SUM(D7:D34) -> 3467639 | E35: =SUM(E7:E34) -> 3583665.5 | F35: =((E35*100)/D35)-100 -> 3.3459798
B37: =E6 -> 2012 | C37: =D6 -> 2011 | F37: =B37 -> 2012 | G37: =C37 -> 2011
A38: =A7 -> A CORUÑA | B38: =E7 -> 3718 | C38: =D7 -> 3891 | D38: =_xlfn.RANK.EQ(B38,$B$38:$B$65)+COUNTIF($B$38:$B$65,B38)-1 -> 18 | E38: =INDEX($A$38:$B$65,MATCH(ROW()-37,$D$38:$D$65,0),1) -> VALENCIA | F38: =LOOKUP(E38,$A$38:$A$65,$B$38:$B$65) -> 1512355 | G38: =LOOKUP(E38,$A$38:$A$65,$C$38:$C$65) -> 1465240
A39: =A8 -> ALICANTE | B39: =E8 -> 31787 | C39: =D8 -> 29640 | D39: =_xlfn.RANK.EQ(B39,$B$38:$B$65)+COUNTIF($B$38:$B$65,B39)-1 -> 11 | E39: =INDEX($A$38:$B$65,MATCH(ROW()-37,$D$38:$D$65,0),1) -> BARCELONA | F39: =LOOKUP(E39,$A$38:$A$65,$B$38:$B$65) -> 846950.5 | G39: =LOOKUP(E39,$A$38:$A$65,$C$38:$C$65) -> 901569.5
A40: =A9 -> ALMERIA | B40: =E9 -> 1314 | C40: =D9 -> 94 | D40: =_xlfn.RANK.EQ(B40,$B$38:$B$65)+COUNTIF($B$38:$B$65,B40)-1 -> 20 | E40: =INDEX($A$38:$B$65,MATCH(ROW()-37,$D$38:$D$65,0),1) -> BILBAO | F40: =LOOKUP(E40,$A$38:$A$65,$B$38:$B$65) -> 405079 | G40: =LOOKUP(E40,$A$38:$A$65,$C$38:$C$65) -> 381291.5
A41: =A10 -> AVILES | B41: =E10 -> 8 | C41: =D10 -> 8 | D41: =_xlfn.RANK.EQ(B41,$B$38:$B$65)+COUNTIF($B$38:$B$65,B41)-1 -> 26 | E41: =INDEX($A$38:$B$65,MATCH(ROW()-37,$D$38:$D$65,0),1) -> BAHIA DE ALGECIRAS | F41: =LOOKUP(E41,$A$38:$A$65,$B$38:$B$65) -> 226986 | G41: =LOOKUP(E41,$A$38:$A$65,$C$38:$C$65) -> 166689
A42: =A11 -> BAHIA DE ALGECIRAS | B42: =E11 -> 226986 | C42: =D11 -> 166689 | D42: =_xlfn.RANK.EQ(B42,$B$38:$B$65)+COUNTIF($B$38:$B$65,B42)-1 -> 4 | E42: =INDEX($A$38:$B$65,MATCH(ROW()-37,$D$38:$D$65,0),1) -> VIGO | F42: =LOOKUP(E42,$A$38:$A$65,$B$38:$B$65) -> 125880.5 | G42: =LOOKUP(E42,$A$38:$A$65,$C$38:$C$65) -> 133926.5
A43: =A12 -> BAHIA DE CADIZ | B43: =E12 -> 43587.5 | C43: =D12 -> 35245.5 | D43: =_xlfn.RANK.EQ(B43,$B$38:$B$65)+COUNTIF($B$38:$B$65,B43)-1 -> 9 | E43: =INDEX($A$38:$B$65,MATCH(ROW()-37,$D$38:$D$65,0),1) -> CASTELLON | F43: =LOOKUP(E43,$A$38:$A$65,$B$38:$B$65) -> 114479 | G43: =LOOKUP(E43,$A$38:$A$65,$C$38:$C$65) -> 92991
A44: =A13 -> BALEARES | B44: =E13 -> 2 | C44: =D13 -> 8 | D44: =_xlfn.RANK.EQ(B44,$B$38:$B$65)+COUNTIF($B$38:$B$65,B44)-1 -> 27 | E44: =INDEX($A$38:$B$65,MATCH(ROW()-37,$D$38:$D$65,0),1) -> LAS PALMAS | F44: =LOOKUP(E44,$A$38:$A$65,$B$38:$B$65) -> 59369 | G44: =LOOKUP(E44,$A$38:$A$65,$C$38:$C$65) -> 75883
A45: =A14 -> BARCELONA | B45: =E14 -> 846950.5 | C45: =D14 -> 901569.5 | D45: =_xlfn.RANK.EQ(B45,$B$38:$B$65)+COUNTIF($B$38:$B$65,B45)-1 -> 2 | E45: =INDEX($A$38:$B$65,MATCH(ROW()-37,$D$38:$D$65,0),1) -> TARRAGONA | F45: =LOOKUP(E45,$A$38:$A$65,$B$38:$B$65) -> 45591 | G45: =LOOKUP(E45,$A$38:$A$65,$C$38:$C$65) -> 44229
A46: =A15 -> BILBAO | B46: =E15 -> 405079 | C46: =D15 -> 381291.5 | D46: =_xlfn.RANK.EQ(B46,$B$38:$B$65)+COUNTIF($B$38:$B$65,B46)-1 -> 3 | E46: =INDEX($A$38:$B$65,MATCH(ROW()-37,$D$38:$D$65,0),1) -> BAHIA DE CADIZ | F46: =LOOKUP(E46,$A$38:$A$65,$B$38:$B$65) -> 43587.5 | G46: =LOOKUP(E46,$A$38:$A$65,$C$38:$C$65) -> 35245.5
A47: =A16 -> CARTAGENA | B47: =E16 -> 38372 | C47: =D16 -> 32840 | D47: =_xlfn.RANK.EQ(B47,$B$38:$B$65)+COUNTIF($B$38:$B$65,B47)-1 -> 10 | E47: =INDEX($A$38:$B$65,MATCH(ROW()-37,$D$38:$D$65,0),1) -> CARTAGENA | F47: =LOOKUP(E47,$A$38:$A$65,$B$38:$B$65) -> 38372 | G47: =LOOKUP(E47,$A$38:$A$65,$C$38:$C$65) -> 32840
A48: =A17 -> CASTELLON | B48: =E17 -> 114479 | C48: =D17 -> 92991 | D48: =_xlfn.RANK.EQ(B48,$B$38:$B$65)+COUNTIF($B$38:$B$65,B48)-1 -> 6 | E48: =INDEX($A$38:$B$65,MATCH(ROW()-37,$D$38:$D$65,0),1) -> ALICANTE | F48: =LOOKUP(E48,$A$38:$A$65,$B$38:$B$65) -> 31787 | G48: =LOOKUP(E48,$A$38:$A$65,$C$38:$C$65) -> 29640
A49: =A18 -> CEUTA | B49: =E18 -> 131 | C49: =D18 -> 377 | D49: =_xlfn.RANK.EQ(B49,$B$38:$B$65)+COUNTIF($B$38:$B$65,B49)-1 -> 25 | E49: =INDEX($A$38:$B$65,MATCH(ROW()-37,$D$38:$D$65,0),1) -> SANTA CRUZ DE TENERIFE | F49: =LOOKUP(E49,$A$38:$A$65,$B$38:$B$65) -> 28670 | G49: =LOOKUP(E49,$A$38:$A$65,$C$38:$C$65) -> 31199
... A65: =A34 -> VILAGARCIA | B65: =E34 -> 656 | C65: =D34 -> 277 | D65: =_xlfn.RANK.EQ(B65,$B$38:$B$65)+COUNTIF($B$38:$B$65,B65)-1 -> 22 | E65: =INDEX($A$38:$B$65,MATCH(ROW()-37,$D$38:$D$65,0),1) -> PASAIA | F65: =LOOKUP(E65,$A$38:$A$65,$B$38:$B$65) -> 0 | G65: =LOOKUP(E65,$A$38:$A$65,$C$38:$C$65) -> 0

Sheet TEUS nacional y exterior
F1: 10.4. CONTENEDORES NACIONAL Y EXTERIOR (TEUS)
A5: Autoridad Portuaria | B5: ='Resumen general'!D6 -> Mes Septiembre | D5: Acumulado desde Enero | L5: ='Resumen general'!I4 -> 41218
B6: ='Resumen general'!D7 -> 2011 | C6: ='Resumen general'!E7 -> 2012 | D6: ='Resumen general'!F7 -> 2011 | E6: ='Resumen general'!G7 -> 2012 | F6: Var. (%)
A7: A CORUÑA | B7: 510 | C7: 570 | D7: 4078 | E7: 3915 | F7: =((E7*100)/D7)-100 -> -3.9970574
A8: ALICANTE | B8: 11412 | C8: 13427 | D8: 112317 | E8: 120922 | F8: =((E8*100)/D8)-100 -> 7.6613514
A9: ALMERIA | B9: 486 | C9: 334 | D9: 2855 | E9: 4207.25 | F9: =((E9*100)/D9)-100 -> 47.364273
A10: AVILES | B10: 0 | C10: 0 | D10: 8 | E10: 8 | F10: =((E10*100)/D10)-100 -> 0
A11: BAHIA DE ALGECIRAS | B11: 19744 | C11: 42655 | D11: 181166 | E11: 245241 | F11: =((E11*100)/D11)-100 -> 35.368115
A12: BAHIA DE CADIZ | B12: 7605 | C12: 8777.5 | D12: 63288 | E12: 71559 | F12: =((E12*100)/D12)-100 -> 13.068828
A13: BALEARES | B13: 5288 | C13: 4579 | D13: 54198 | E13: 45079 | F13: =((E13*100)/D13)-100 -> -16.825344
A14: BARCELONA | B14: 117128 | C14: 118963.5 | D14: 1043309.5 | E14: 970010.5 | F14: =((E14*100)/D14)-100 -> -7.0256237
A15: BILBAO | B15: 43735.75 | C15: 45007.75 | D15: 416449.5 | E15: 452019.75 | F15: =((E15*100)/D15)-100 -> 8.5413117
A16: CARTAGENA | B16: 6866 | C16: 5187 | D16: 54862 | E16: 51248 | F16: =((E16*100)/D16)-100 -> -6.5874376
A17: CASTELLON | B17: 11615 | C17: 12995 | D17: 96767 | E17: 119182 | F17: =((E17*100)/D17)-100 -> 23.163889
A18: CEUTA | B18: 889 | C18: 1397 | D18: 7848 | E18: 11627 | F18: =((E18*100)/D18)-100 -> 48.152396
... A34: VILAGARCIA | B34: 2459 | C34: 2093 | D34: 4778 | E34: 18510 | F34: =((E34*100)/D34)-100 -> 287.40059
A35: Total | B35: =SUM(B7:B34) -> 516001.75 | C35: =SUM(C7:C34) -> 541517.25 | D35: =SUM(D7:D34) -> 4652232.5 | E35: =SUM(E7:E34) -> 4727900 | F35: =((E35*100)/D35)-100 -> 1.6264772
B37: =E6 -> 2012 | C37: =D6 -> 2011 | F37: =B37 -> 2012 | G37: =C37 -> 2011
A38: =A7 -> A CORUÑA | B38: =E7 -> 3915 | C38: =D7 -> 4078 | D38: =_xlfn.RANK.EQ(B38,$B$38:$B$65)+COUNTIF($B$38:$B$65,B38)-1 -> 23 | E38: =INDEX($A$38:$B$65,MATCH(ROW()-37,$D$38:$D$65,0),1) -> VALENCIA | F38: =LOOKUP(E38,$A$38:$A$65,$B$38:$B$65) -> 1623479 | G38: =LOOKUP(E38,$A$38:$A$65,$C$38:$C$65) -> 1580910
A39: =A8 -> ALICANTE | B39: =E8 -> 120922 | C39: =D8 -> 112317 | D39: =_xlfn.RANK.EQ(B39,$B$38:$B$65)+COUNTIF($B$38:$B$65,B39)-1 -> 8 | E39: =INDEX($A$38:$B$65,MATCH(ROW()-37,$D$38:$D$65,0),1) -> BARCELONA | F39: =LOOKUP(E39,$A$38:$A$65,$B$38:$B$65) -> 970010.5 | G39: =LOOKUP(E39,$A$38:$A$65,$C$38:$C$65) -> 1043309.5
A40: =A9 -> ALMERIA | B40: =E9 -> 4207.25 | C40: =D9 -> 2855 | D40: =_xlfn.RANK.EQ(B40,$B$38:$B$65)+COUNTIF($B$38:$B$65,B40)-1 -> 22 | E40: =INDEX($A$38:$B$65,MATCH(ROW()-37,$D$38:$D$65,0),1) -> BILBAO | F40: =LOOKUP(E40,$A$38:$A$65,$B$38:$B$65) -> 452019.75 | G40: =LOOKUP(E40,$A$38:$A$65,$C$38:$C$65) -> 416449.5
A41: =A10 -> AVILES | B41: =E10 -> 8 | C41: =D10 -> 8 | D41: =_xlfn.RANK.EQ(B41,$B$38:$B$65)+COUNTIF($B$38:$B$65,B41)-1 -> 27 | E41: =INDEX($A$38:$B$65,MATCH(ROW()-37,$D$38:$D$65,0),1) -> LAS PALMAS | F41: =LOOKUP(E41,$A$38:$A$65,$B$38:$B$65) -> 312477 | G41: =LOOKUP(E41,$A$38:$A$65,$C$38:$C$65) -> 334529
A42: =A11 -> BAHIA DE ALGECIRAS | B42: =E11 -> 245241 | C42: =D11 -> 181166 | D42: =_xlfn.RANK.EQ(B42,$B$38:$B$65)+COUNTIF($B$38:$B$65,B42)-1 -> 5 | E42: =INDEX($A$38:$B$65,MATCH(ROW()-37,$D$38:$D$65,0),1) -> BAHIA DE ALGECIRAS | F42: =LOOKUP(E42,$A$38:$A$65,$B$38:$B$65) -> 245241 | G42: =LOOKUP(E42,$A$38:$A$65,$C$38:$C$65) -> 181166
A43: =A12 -> BAHIA DE CADIZ | B43: =E12 -> 71559 | C43: =D12 -> 63288 | D43: =_xlfn.RANK.EQ(B43,$B$38:$B$65)+COUNTIF($B$38:$B$65,B43)-1 -> 11 | E43: =INDEX($A$38:$B$65,MATCH(ROW()-37,$D$38:$D$65,0),1) -> SANTA CRUZ DE TENERIFE | F43: =LOOKUP(E43,$A$38:$A$65,$B$38:$B$65) -> 235487 | G43: =LOOKUP(E43,$A$38:$A$65,$C$38:$C$65) -> 251485
A44: =A13 -> BALEARES | B44: =E13 -> 45079 | C44: =D13 -> 54198 | D44: =_xlfn.RANK.EQ(B44,$B$38:$B$65)+COUNTIF($B$38:$B$65,B44)-1 -> 14 | E44: =INDEX($A$38:$B$65,MATCH(ROW()-37,$D$38:$D$65,0),1) -> VIGO | F44: =LOOKUP(E44,$A$38:$A$65,$B$38:$B$65) -> 143021.5 | G44: =LOOKUP(E44,$A$38:$A$65,$C$38:$C$65) -> 157222.5
A45: =A14 -> BARCELONA | B45: =E14 -> 970010.5 | C45: =D14 -> 1043309.5 | D45: =_xlfn.RANK.EQ(B45,$B$38:$B$65)+COUNTIF($B$38:$B$65,B45)-1 -> 2 | E45: =INDEX($A$38:$B$65,MATCH(ROW()-37,$D$38:$D$65,0),1) -> ALICANTE | F45: =LOOKUP(E45,$A$38:$A$65,$B$38:$B$65) -> 120922 | G45: =LOOKUP(E45,$A$38:$A$65,$C$38:$C$65) -> 112317
A46: =A15 -> BILBAO | B46: =E15 -> 452019.75 | C46: =D15 -> 416449.5 | D46: =_xlfn.RANK.EQ(B46,$B$38:$B$65)+COUNTIF($B$38:$B$65,B46)-1 -> 3 | E46: =INDEX($A$38:$B$65,MATCH(ROW()-37,$D$38:$D$65,0),1) -> CASTELLON | F46: =LOOKUP(E46,$A$38:$A$65,$B$38:$B$65) -> 119182 | G46: =LOOKUP(E46,$A$38:$A$65,$C$38:$C$65) -> 96767
A47: =A16 -> CARTAGENA | B47: =E16 -> 51248 | C47: =D16 -> 54862 | D47: =_xlfn.RANK.EQ(B47,$B$38:$B$65)+COUNTIF($B$38:$B$65,B47)-1 -> 13 | E47: =INDEX($A$38:$B$65,MATCH(ROW()-37,$D$38:$D$65,0),1) -> SEVILLA | F47: =LOOKUP(E47,$A$38:$A$65,$B$38:$B$65) -> 116520 | G47: =LOOKUP(E47,$A$38:$A$65,$C$38:$C$65) -> 122618
A48: =A17 -> CASTELLON | B48: =E17 -> 119182 | C48: =D17 -> 96767 | D48: =_xlfn.RANK.EQ(B48,$B$38:$B$65)+COUNTIF($B$38:$B$65,B48)-1 -> 9 | E48: =INDEX($A$38:$B$65,MATCH(ROW()-37,$D$38:$D$65,0),1) -> BAHIA DE CADIZ | F48: =LOOKUP(E48,$A$38:$A$65,$B$38:$B$65) -> 71559 | G48: =LOOKUP(E48,$A$38:$A$65,$C$38:$C$65) -> 63288
A49: =A18 -> CEUTA | B49: =E18 -> 11627 | C49: =D18 -> 7848 | D49: =_xlfn.RANK.EQ(B49,$B$38:$B$65)+COUNTIF($B$38:$B$65,B49)-1 -> 20 | E49: =INDEX($A$38:$B$65,MATCH(ROW()-37,$D$38:$D$65,0),1) -> TARRAGONA | F49: =LOOKUP(E49,$A$38:$A$65,$B$38:$B$65) -> 62127 | G49: =LOOKUP(E49,$A$38:$A$65,$C$38:$C$65) -> 65074
... A65: =A34 -> VILAGARCIA | B65: =E34 -> 18510 | C65: =D34 -> 4778 | D65: =_xlfn.RANK.EQ(B65,$B$38:$B$65)+COUNTIF($B$38:$B$65,B65)-1 -> 19 | E65: =INDEX($A$38:$B$65,MATCH(ROW()-37,$D$38:$D$65,0),1) -> PASAIA | F65: =LOOKUP(E65,$A$38:$A$65,$B$38:$B$65) -> 0 | G65: =LOOKUP(E65,$A$38:$A$65,$C$38:$C$65) -> 0

Sheet Pasajeros total
F1: 11. PASAJEROS EN RÉGIMEN DE TRANSPORTE Y DE CRUCERO (Nº)
A5: Autoridad Portuaria | B5: ='Resumen general'!D6 -> Mes Septiembre | D5: ='Resumen general'!F6 -> Acumulado desde Enero | L5: ='Resumen general'!I4 -> 41218
B6: ='Resumen general'!D7 -> 2011 | C6: ='Resumen general'!E7 -> 2012 | D6: ='Resumen general'!F7 -> 2011 | E6: ='Resumen general'!G7 -> 2012 | F6: Var. (%)
A7: A CORUÑA | B7: 19061 | C7: 19096 | D7: 87933 | E7: 117922 | F7: =((E7*100)/D7)-100 -> 34.104375
A8: ALICANTE | B8: 39369 | C8: 48895 | D8: 265105 | E8: 238070 | F8: =((E8*100)/D8)-100 -> -10.197846
A9: ALMERIA | B9: 96853 | C9: 92238 | D9: 756686 | E9: 589745 | F9: =((E9*100)/D9)-100 -> -22.062124
A10: AVILES | B10: 0 | C10: 0 | D10: 0 | E10: 902 | F10: =((E10*100)/D10)-100 -> #DIV/0!
A11: BAHIA DE ALGECIRAS | B11: 462312 | C11: 535063 | D11: 3479049 | E11: 3787317 | F11: =((E11*100)/D11)-100 -> 8.8606973
A12: BAHIA DE CADIZ | B12: 49291 | C12: 48350 | D12: 271951 | E12: 245820 | F12: =((E12*100)/D12)-100 -> -9.6087163
A13: BALEARES | B13: 732565 | C13: 663992 | D13: 4799518 | E13: 4349904 | F13: =((E13*100)/D13)-100 -> -9.367899
A14: BARCELONA | B14: 451732 | C14: 437139 | D14: 3105942 | E14: 2728890 | F14: =((E14*100)/D14)-100 -> -12.139699
A15: BILBAO | B15: 30860 | C15: 25182 | D15: 130236 | E15: 112199 | F15: =((E15*100)/D15)-100 -> -13.849473
A16: CARTAGENA | B16: 12267 | C16: 9175 | D16: 52016 | E16: 56562 | F16: =((E16*100)/D16)-100 -> 8.7396186
A17: CASTELLON | B17: 0 | C17: 0 | D17: 0 | E17: 0 | F17: =((E17*100)/D17)-100 -> #DIV/0!
A18: CEUTA | B18: 162279 | C18: 180468 | D18: 1387694 | E18: 1467669 | F18: =((E18*100)/D18)-100 -> 5.7631582
... A34: VILAGARCIA | B34: 1227 | C34: 934 | D34: 2982 | E34: 2012 | F34: =((E34*100)/D34)-100 -> -32.528504
A35: Total | B35: =SUM(B7:B34) -> 2949199 | C35: =SUM(C7:C34) -> 2907154 | D35: =SUM(D7:D34) -> 21315304 | E35: =SUM(E7:E34) -> 20858367 | F35: =((E35*100)/D35)-100 -> -2.1437039
B37: =E6 -> 2012 | C37: =D6 -> 2011 | F37: =B37 -> 2012 | G37: =C37 -> 2011
A38: =A7 -> A CORUÑA | B38: =E7 -> 117922 | C38: =D7 -> 87933 | D38: =_xlfn.RANK.EQ(B38,$B$38:$B$65)+COUNTIF($B$38:$B$65,B38)-1 -> 16 | E38: =INDEX($A$38:$B$65,MATCH(ROW()-37,$D$38:$D$65,0),1) -> BALEARES | F38: =LOOKUP(E38,$A$38:$A$65,$B$38:$B$65) -> 4349904 | G38: =LOOKUP(E38,$A$38:$A$65,$C$38:$C$65) -> 4799518
A39: =A8 -> ALICANTE | B39: =E8 -> 238070 | C39: =D8 -> 265105 | D39: =_xlfn.RANK.EQ(B39,$B$38:$B$65)+COUNTIF($B$38:$B$65,B39)-1 -> 12 | E39: =INDEX($A$38:$B$65,MATCH(ROW()-37,$D$38:$D$65,0),1) -> BAHIA DE ALGECIRAS | F39: =LOOKUP(E39,$A$38:$A$65,$B$38:$B$65) -> 3787317 | G39: =LOOKUP(E39,$A$38:$A$65,$C$38:$C$65) -> 3479049
A40: =A9 -> ALMERIA | B40: =E9 -> 589745 | C40: =D9 -> 756686 | D40: =_xlfn.RANK.EQ(B40,$B$38:$B$65)+COUNTIF($B$38:$B$65,B40)-1 -> 10 | E40: =INDEX($A$38:$B$65,MATCH(ROW()-37,$D$38:$D$65,0),1) -> SANTA CRUZ DE TENERIFE | F40: =LOOKUP(E40,$A$38:$A$65,$B$38:$B$65) -> 3328164 | G40: =LOOKUP(E40,$A$38:$A$65,$C$38:$C$65) -> 3602207
A41: =A10 -> AVILES | B41: =E10 -> 902 | C41: =D10 -> 0 | D41: =_xlfn.RANK.EQ(B41,$B$38:$B$65)+COUNTIF($B$38:$B$65,B41)-1 -> 24 | E41: =INDEX($A$38:$B$65,MATCH(ROW()-37,$D$38:$D$65,0),1) -> BARCELONA | F41: =LOOKUP(E41,$A$38:$A$65,$B$38:$B$65) -> 2728890 | G41: =LOOKUP(E41,$A$38:$A$65,$C$38:$C$65) -> 3105942
A42: =A11 -> BAHIA DE ALGECIRAS | B42: =E11 -> 3787317 | C42: =D11 -> 3479049 | D42: =_xlfn.RANK.EQ(B42,$B$38:$B$65)+COUNTIF($B$38:$B$65,B42)-1 -> 2 | E42: =INDEX($A$38:$B$65,MATCH(ROW()-37,$D$38:$D$65,0),1) -> CEUTA | F42: =LOOKUP(E42,$A$38:$A$65,$B$38:$B$65) -> 1467669 | G42: =LOOKUP(E42,$A$38:$A$65,$C$38:$C$65) -> 1387694
A43: =A12 -> BAHIA DE CADIZ | B43: =E12 -> 245820 | C43: =D12 -> 271951 | D43: =_xlfn.RANK.EQ(B43,$B$38:$B$65)+COUNTIF($B$38:$B$65,B43)-1 -> 11 | E43: =INDEX($A$38:$B$65,MATCH(ROW()-37,$D$38:$D$65,0),1) -> LAS PALMAS | F43: =LOOKUP(E43,$A$38:$A$65,$B$38:$B$65) -> 1280650 | G43: =LOOKUP(E43,$A$38:$A$65,$C$38:$C$65) -> 1116744
A44: =A13 -> BALEARES | B44: =E13 -> 4349904 | C44: =D13 -> 4799518 | D44: =_xlfn.RANK.EQ(B44,$B$38:$B$65)+COUNTIF($B$38:$B$65,B44)-1 -> 1 | E44: =INDEX($A$38:$B$65,MATCH(ROW()-37,$D$38:$D$65,0),1) -> MALAGA | F44: =LOOKUP(E44,$A$38:$A$65,$B$38:$B$65) -> 658701 | G44: =LOOKUP(E44,$A$38:$A$65,$C$38:$C$65) -> 659848
A45: =A14 -> BARCELONA | B45: =E14 -> 2728890 | C45: =D14 -> 3105942 | D45: =_xlfn.RANK.EQ(B45,$B$38:$B$65)+COUNTIF($B$38:$B$65,B45)-1 -> 4 | E45: =INDEX($A$38:$B$65,MATCH(ROW()-37,$D$38:$D$65,0),1) -> MELILLA | F45: =LOOKUP(E45,$A$38:$A$65,$B$38:$B$65) -> 650506 | G45: =LOOKUP(E45,$A$38:$A$65,$C$38:$C$65) -> 503591
A46: =A15 -> BILBAO | B46: =E15 -> 112199 | C46: =D15 -> 130236 | D46: =_xlfn.RANK.EQ(B46,$B$38:$B$65)+COUNTIF($B$38:$B$65,B46)-1 -> 17 | E46: =INDEX($A$38:$B$65,MATCH(ROW()-37,$D$38:$D$65,0),1) -> VALENCIA | F46: =LOOKUP(E46,$A$38:$A$65,$B$38:$B$65) -> 592004 | G46: =LOOKUP(E46,$A$38:$A$65,$C$38:$C$65) -> 576669
A47: =A16 -> CARTAGENA | B47: =E16 -> 56562 | C47: =D16 -> 52016 | D47: =_xlfn.RANK.EQ(B47,$B$38:$B$65)+COUNTIF($B$38:$B$65,B47)-1 -> 18 | E47: =INDEX($A$38:$B$65,MATCH(ROW()-37,$D$38:$D$65,0),1) -> ALMERIA | F47: =LOOKUP(E47,$A$38:$A$65,$B$38:$B$65) -> 589745 | G47: =LOOKUP(E47,$A$38:$A$65,$C$38:$C$65) -> 756686
A48: =A17 -> CASTELLON | B48: =E17 -> 0 | C48: =D17 -> 0 | D48: =_xlfn.RANK.EQ(B48,$B$38:$B$65)+COUNTIF($B$38:$B$65,B48)-1 -> 28 | E48: =INDEX($A$38:$B$65,MATCH(ROW()-37,$D$38:$D$65,0),1) -> BAHIA DE CADIZ | F48: =LOOKUP(E48,$A$38:$A$65,$B$38:$B$65) -> 245820 | G48: =LOOKUP(E48,$A$38:$A$65,$C$38:$C$65) -> 271951
A49: =A18 -> CEUTA | B49: =E18 -> 1467669 | C49: =D18 -> 1387694 | D49: =_xlfn.RANK.EQ(B49,$B$38:$B$65)+COUNTIF($B$38:$B$65,B49)-1 -> 5 | E49: =INDEX($A$38:$B$65,MATCH(ROW()-37,$D$38:$D$65,0),1) -> ALICANTE | F49: =LOOKUP(E49,$A$38:$A$65,$B$38:$B$65) -> 238070 | G49: =LOOKUP(E49,$A$38:$A$65,$C$38:$C$65) -> 265105
... A65: =A34 -> VILAGARCIA | B65: =E34 -> 2012 | C65: =D34 -> 2982 | D65: =_xlfn.RANK.EQ(B65,$B$38:$B$65)+COUNTIF($B$38:$B$65,B65)-1 -> 23 | E65: =INDEX($A$38:$B$65,MATCH(ROW()-37,$D$38:$D$65,0),1) -> CASTELLON | F65: =LOOKUP(E65,$A$38:$A$65,$B$38:$B$65) -> 0 | G65: =LOOKUP(E65,$A$38:$A$65,$C$38:$C$65) -> 0

Sheet Pasajeros crucero
F1: 11.1. PASAJEROS DE CRUCERO (Nº)
A5: Autoridad Portuaria | B5: ='Resumen general'!D6 -> Mes Septiembre | D5: ='Resumen general'!F6 -> Acumulado desde Enero | L5: ='Resumen general'!I4 -> 41218
B6: ='Resumen general'!D7 -> 2011 | C6: ='Resumen general'!E7 -> 2012 | D6: ='Resumen general'!F7 -> 2011 | E6: ='Resumen general'!G7 -> 2012 | F6: Var. (%)
A7: A CORUÑA | B7: 19061 | C7: 19096 | D7: 87933 | E7: 117922 | F7: =((E7*100)/D7)-100 -> 34.104375
A8: ALICANTE | B8: 12236 | C8: 14118 | D8: 77086 | E8: 58955 | F8: =((E8*100)/D8)-100 -> -23.520484
A9: ALMERIA | B9: 5532 | C9: 6060 | D9: 31407 | E9: 20540 | F9: =((E9*100)/D9)-100 -> -34.600567
A10: AVILES | B10: 0 | C10: 0 | D10: 0 | E10: 902 | F10: =((E10*100)/D10)-100 -> #DIV/0!
A11: BAHIA DE ALGECIRAS | B11: 0 | C11: 0 | D11: 0 | E11: 0 | F11: =((E11*100)/D11)-100 -> #DIV/0!
A12: BAHIA DE CADIZ | B12: 47373 | C12: 46229 | D12: 256936 | E12: 228289 | F12: =((E12*100)/D12)-100 -> -11.149469
A13: BALEARES | B13: 241482 | C13: 197451 | D13: 1273098 | E13: 968122 | F13: =((E13*100)/D13)-100 -> -23.955422
A14: BARCELONA | B14: 339073 | C14: 341353 | D14: 2095876 | E14: 1846364 | F14: =((E14*100)/D14)-100 -> -11.904903
A15: BILBAO | B15: 20187 | C15: 15893 | D15: 73431 | E15: 53252 | F15: =((E15*100)/D15)-100 -> -27.48022
A16: CARTAGENA | B16: 12267 | C16: 9175 | D16: 52016 | E16: 56562 | F16: =((E16*100)/D16)-100 -> 8.7396186
A17: CASTELLON | B17: 0 | C17: 0 | D17: 0 | E17: 0 | F17: =((E17*100)/D17)-100 -> #DIV/0!
A18: CEUTA | B18: 0 | C18: 0 | D18: 2948 | E18: 2607 | F18: =((E18*100)/D18)-100 -> -11.567164
... A34: VILAGARCIA | B34: 1227 | C34: 934 | D34: 2982 | E34: 2012 | F34: =((E34*100)/D34)-100 -> -32.528504
A35: Total | B35: =SUM(B7:B34) -> 936624 | C35: =SUM(C7:C34) -> 877387 | D35: =SUM(D7:D34) -> 5798428 | E35: =SUM(E7:E34) -> 5354789 | F35: =((E35*100)/D35)-100 -> -7.651022
B37: =E6 -> 2012 | C37: =D6 -> 2011 | F37: =B37 -> 2012 | G37: =C37 -> 2011
A38: =A7 -> A CORUÑA | B38: =E7 -> 117922 | C38: =D7 -> 87933 | D38: =_xlfn.RANK.EQ(B38,$B$38:$B$65)+COUNTIF($B$38:$B$65,B38)-1 -> 9 | E38: =INDEX($A$38:$B$65,MATCH(ROW()-37,$D$38:$D$65,0),1) -> BARCELONA | F38: =LOOKUP(E38,$A$38:$A$65,$B$38:$B$65) -> 1846364 | G38: =LOOKUP(E38,$A$38:$A$65,$C$38:$C$65) -> 2095876
A39: =A8 -> ALICANTE | B39: =E8 -> 58955 | C39: =D8 -> 77086 | D39: =_xlfn.RANK.EQ(B39,$B$38:$B$65)+COUNTIF($B$38:$B$65,B39)-1 -> 10 | E39: =INDEX($A$38:$B$65,MATCH(ROW()-37,$D$38:$D$65,0),1) -> BALEARES | F39: =LOOKUP(E39,$A$38:$A$65,$B$38:$B$65) -> 968122 | G39: =LOOKUP(E39,$A$38:$A$65,$C$38:$C$65) -> 1273098
A40: =A9 -> ALMERIA | B40: =E9 -> 20540 | C40: =D9 -> 31407 | D40: =_xlfn.RANK.EQ(B40,$B$38:$B$65)+COUNTIF($B$38:$B$65,B40)-1 -> 13 | E40: =INDEX($A$38:$B$65,MATCH(ROW()-37,$D$38:$D$65,0),1) -> SANTA CRUZ DE TENERIFE | F40: =LOOKUP(E40,$A$38:$A$65,$B$38:$B$65) -> 498442 | G40: =LOOKUP(E40,$A$38:$A$65,$C$38:$C$65) -> 457501
A41: =A10 -> AVILES | B41: =E10 -> 902 | C41: =D10 -> 0 | D41: =_xlfn.RANK.EQ(B41,$B$38:$B$65)+COUNTIF($B$38:$B$65,B41)-1 -> 21 | E41: =INDEX($A$38:$B$65,MATCH(ROW()-37,$D$38:$D$65,0),1) -> LAS PALMAS | F41: =LOOKUP(E41,$A$38:$A$65,$B$38:$B$65) -> 474736 | G41: =LOOKUP(E41,$A$38:$A$65,$C$38:$C$65) -> 427566
A42: =A11 -> BAHIA DE ALGECIRAS | B42: =E11 -> 0 | C42: =D11 -> 0 | D42: =_xlfn.RANK.EQ(B42,$B$38:$B$65)+COUNTIF($B$38:$B$65,B42)-1 -> 28 | E42: =INDEX($A$38:$B$65,MATCH(ROW()-37,$D$38:$D$65,0),1) -> MALAGA | F42: =LOOKUP(E42,$A$38:$A$65,$B$38:$B$65) -> 459934 | G42: =LOOKUP(E42,$A$38:$A$65,$C$38:$C$65) -> 416907
A43: =A12 -> BAHIA DE CADIZ | B43: =E12 -> 228289 | C43: =D12 -> 256936 | D43: =_xlfn.RANK.EQ(B43,$B$38:$B$65)+COUNTIF($B$38:$B$65,B43)-1 -> 7 | E43: =INDEX($A$38:$B$65,MATCH(ROW()-37,$D$38:$D$65,0),1) -> VALENCIA | F43: =LOOKUP(E43,$A$38:$A$65,$B$38:$B$65) -> 358059 | G43: =LOOKUP(E43,$A$38:$A$65,$C$38:$C$65) -> 289236
A44: =A13 -> BALEARES | B44: =E13 -> 968122 | C44: =D13 -> 1273098 | D44: =_xlfn.RANK.EQ(B44,$B$38:$B$65)+COUNTIF($B$38:$B$65,B44)-1 -> 2 | E44: =INDEX($A$38:$B$65,MATCH(ROW()-37,$D$38:$D$65,0),1) -> BAHIA DE CADIZ | F44: =LOOKUP(E44,$A$38:$A$65,$B$38:$B$65) -> 228289 | G44: =LOOKUP(E44,$A$38:$A$65,$C$38:$C$65) -> 256936
A45: =A14 -> BARCELONA | B45: =E14 -> 1846364 | C45: =D14 -> 2095876 | D45: =_xlfn.RANK.EQ(B45,$B$38:$B$65)+COUNTIF($B$38:$B$65,B45)-1 -> 1 | E45: =INDEX($A$38:$B$65,MATCH(ROW()-37,$D$38:$D$65,0),1) -> VIGO | F45: =LOOKUP(E45,$A$38:$A$65,$B$38:$B$65) -> 166494 | G45: =LOOKUP(E45,$A$38:$A$65,$C$38:$C$65) -> 210155
A46: =A15 -> BILBAO | B46: =E15 -> 53252 | C46: =D15 -> 73431 | D46: =_xlfn.RANK.EQ(B46,$B$38:$B$65)+COUNTIF($B$38:$B$65,B46)-1 -> 12 | E46: =INDEX($A$38:$B$65,MATCH(ROW()-37,$D$38:$D$65,0),1) -> A CORUÑA | F46: =LOOKUP(E46,$A$38:$A$65,$B$38:$B$65) -> 117922 | G46: =LOOKUP(E46,$A$38:$A$65,$C$38:$C$65) -> 87933
A47: =A16 -> CARTAGENA | B47: =E16 -> 56562 | C47: =D16 -> 52016 | D47: =_xlfn.RANK.EQ(B47,$B$38:$B$65)+COUNTIF($B$38:$B$65,B47)-1 -> 11 | E47: =INDEX($A$38:$B$65,MATCH(ROW()-37,$D$38:$D$65,0),1) -> ALICANTE | F47: =LOOKUP(E47,$A$38:$A$65,$B$38:$B$65) -> 58955 | G47: =LOOKUP(E47,$A$38:$A$65,$C$38:$C$65) -> 77086
A48: =A17 -> CASTELLON | B48: =E17 -> 0 | C48: =D17 -> 0 | D48: =_xlfn.RANK.EQ(B48,$B$38:$B$65)+COUNTIF($B$38:$B$65,B48)-1 -> 28 | E48: =INDEX($A$38:$B$65,MATCH(ROW()-37,$D$38:$D$65,0),1) -> CARTAGENA | F48: =LOOKUP(E48,$A$38:$A$65,$B$38:$B$65) -> 56562 | G48: =LOOKUP(E48,$A$38:$A$65,$C$38:$C$65) -> 52016
A49: =A18 -> CEUTA | B49: =E18 -> 2607 | C49: =D18 -> 2948 | D49: =_xlfn.RANK.EQ(B49,$B$38:$B$65)+COUNTIF($B$38:$B$65,B49)-1 -> 19 | E49: =INDEX($A$38:$B$65,MATCH(ROW()-37,$D$38:$D$65,0),1) -> BILBAO | F49: =LOOKUP(E49,$A$38:$A$65,$B$38:$B$65) -> 53252 | G49: =LOOKUP(E49,$A$38:$A$65,$C$38:$C$65) -> 73431
... A65: =A34 -> VILAGARCIA | B65: =E34 -> 2012 | C65: =D34 -> 2982 | D65: =_xlfn.RANK.EQ(B65,$B$38:$B$65)+COUNTIF($B$38:$B$65,B65)-1 -> 20 | E65: =INDEX($A$38:$B$65,MATCH(ROW()-37,$D$38:$D$65,0),1) -> BAHIA DE ALGECIRAS | F65: =LOOKUP(E65,$A$38:$A$65,$B$38:$B$65) -> 0 | G65: =LOOKUP(E65,$A$38:$A$65,$C$38:$C$65) -> 0

Sheet Vehículos régimen pasaje
F1: 11.2. VEHICULOS DE TURISMO EN RÉGIMEN DE PASAJE (Nº)
A5: Autoridad Portuaria | B5: ='Resumen general'!D6 -> Mes Septiembre | D5: ='Resumen general'!F6 -> Acumulado desde Enero | L5: ='Resumen general'!I4 -> 41218
B6: ='Resumen general'!D7 -> 2011 | C6: ='Resumen general'!E7 -> 2012 | D6: ='Resumen general'!F7 -> 2011 | E6: ='Resumen general'!G7 -> 2012 | F6: Var. (%)
A7: A CORUÑA | B7: 0 | C7: 0 | D7: 0 | E7: 0 | F7: =((E7*100)/D7)-100 -> #DIV/0!
A8: ALICANTE | B8: 6817 | C8: 8236 | D8: 46255 | E8: 45271 | F8: =((E8*100)/D8)-100 -> -2.1273376
A9: ALMERIA | B9: 16923 | C9: 16467 | D9: 138591 | E9: 119685 | F9: =((E9*100)/D9)-100 -> -13.641578
A10: AVILES | B10: 0 | C10: 0 | D10: 0 | E10: 0 | F10: =((E10*100)/D10)-100 -> #DIV/0!
A11: BAHIA DE ALGECIRAS | B11: 111849 | C11: 127217 | D11: 870495 | E11: 904398 | F11: =((E11*100)/D11)-100 -> 3.8946806
A12: BAHIA DE CADIZ | B12: 1023 | C12: 1126 | D12: 7865 | E12: 9612 | F12: =((E12*100)/D12)-100 -> 22.212333
A13: BALEARES | B13: 44229 | C13: 40528 | D13: 329622 | E13: 302883 | F13: =((E13*100)/D13)-100 -> -8.1120192
A14: BARCELONA | B14: 30383 | C14: 27986 | D14: 243927 | E14: 227782 | F14: =((E14*100)/D14)-100 -> -6.6187835
A15: BILBAO | B15: 4370 | C15: 3567 | D15: 22289 | E15: 23028 | F15: =((E15*100)/D15)-100 -> 3.3155368
A16: CARTAGENA | B16: 0 | C16: 0 | D16: 0 | E16: 0 | F16: =((E16*100)/D16)-100 -> #DIV/0!
A17: CASTELLON | B17: 0 | C17: 0 | D17: 0 | E17: 0 | F17: =((E17*100)/D17)-100 -> #DIV/0!
A18: CEUTA | B18: 33428 | C18: 37742 | D18: 286219 | E18: 299754 | F18: =((E18*100)/D18)-100 -> 4.7288964
... A34: VILAGARCIA | B34: 0 | C34: 0 | D34: 0 | E34: 0 | F34: =((E34*100)/D34)-100 -> #DIV/0!
A35: Total | B35: =SUM(B7:B34) -> 401242 | C35: =SUM(C7:C34) -> 420279 | D35: =SUM(D7:D34) -> 3039899 | E35: =SUM(E7:E34) -> 3126333 | F35: =((E35*100)/D35)-100 -> 2.8433181
B37: =E6 -> 2012 | C37: =D6 -> 2011 | F37: =B37 -> 2012 | G37: =C37 -> 2011
A38: =A7 -> A CORUÑA | B38: =E7 -> 0 | C38: =D7 -> 0 | D38: =_xlfn.RANK.EQ(B38,$B$38:$B$65)+COUNTIF($B$38:$B$65,B38)-1 -> 28 | E38: =INDEX($A$38:$B$65,MATCH(ROW()-37,$D$38:$D$65,0),1) -> BAHIA DE ALGECIRAS | F38: =LOOKUP(E38,$A$38:$A$65,$B$38:$B$65) -> 904398 | G38: =LOOKUP(E38,$A$38:$A$65,$C$38:$C$65) -> 870495
A39: =A8 -> ALICANTE | B39: =E8 -> 45271 | C39: =D8 -> 46255 | D39: =_xlfn.RANK.EQ(B39,$B$38:$B$65)+COUNTIF($B$38:$B$65,B39)-1 -> 11 | E39: =INDEX($A$38:$B$65,MATCH(ROW()-37,$D$38:$D$65,0),1) -> SANTA CRUZ DE TENERIFE | F39: =LOOKUP(E39,$A$38:$A$65,$B$38:$B$65) -> 609798 | G39: =LOOKUP(E39,$A$38:$A$65,$C$38:$C$65) -> 645668
A40: =A9 -> ALMERIA | B40: =E9 -> 119685 | C40: =D9 -> 138591 | D40: =_xlfn.RANK.EQ(B40,$B$38:$B$65)+COUNTIF($B$38:$B$65,B40)-1 -> 8 | E40: =INDEX($A$38:$B$65,MATCH(ROW()-37,$D$38:$D$65,0),1) -> BALEARES | F40: =LOOKUP(E40,$A$38:$A$65,$B$38:$B$65) -> 302883 | G40: =LOOKUP(E40,$A$38:$A$65,$C$38:$C$65) -> 329622
A41: =A10 -> AVILES | B41: =E10 -> 0 | C41: =D10 -> 0 | D41: =_xlfn.RANK.EQ(B41,$B$38:$B$65)+COUNTIF($B$38:$B$65,B41)-1 -> 28 | E41: =INDEX($A$38:$B$65,MATCH(ROW()-37,$D$38:$D$65,0),1) -> CEUTA | F41: =LOOKUP(E41,$A$38:$A$65,$B$38:$B$65) -> 299754 | G41: =LOOKUP(E41,$A$38:$A$65,$C$38:$C$65) -> 286219
A42: =A11 -> BAHIA DE ALGECIRAS | B42: =E11 -> 904398 | C42: =D11 -> 870495 | D42: =_xlfn.RANK.EQ(B42,$B$38:$B$65)+COUNTIF($B$38:$B$65,B42)-1 -> 1 | E42: =INDEX($A$38:$B$65,MATCH(ROW()-37,$D$38:$D$65,0),1) -> LAS PALMAS | F42: =LOOKUP(E42,$A$38:$A$65,$B$38:$B$65) -> 243497 | G42: =LOOKUP(E42,$A$38:$A$65,$C$38:$C$65) -> 196770
A43: =A12 -> BAHIA DE CADIZ | B43: =E12 -> 9612 | C43: =D12 -> 7865 | D43: =_xlfn.RANK.EQ(B43,$B$38:$B$65)+COUNTIF($B$38:$B$65,B43)-1 -> 16 | E43: =INDEX($A$38:$B$65,MATCH(ROW()-37,$D$38:$D$65,0),1) -> BARCELONA | F43: =LOOKUP(E43,$A$38:$A$65,$B$38:$B$65) -> 227782 | G43: =LOOKUP(E43,$A$38:$A$65,$C$38:$C$65) -> 243927
A44: =A13 -> BALEARES | B44: =E13 -> 302883 | C44: =D13 -> 329622 | D44: =_xlfn.RANK.EQ(B44,$B$38:$B$65)+COUNTIF($B$38:$B$65,B44)-1 -> 3 | E44: =INDEX($A$38:$B$65,MATCH(ROW()-37,$D$38:$D$65,0),1) -> MELILLA | F44: =LOOKUP(E44,$A$38:$A$65,$B$38:$B$65) -> 131099 | G44: =LOOKUP(E44,$A$38:$A$65,$C$38:$C$65) -> 72508
A45: =A14 -> BARCELONA | B45: =E14 -> 227782 | C45: =D14 -> 243927 | D45: =_xlfn.RANK.EQ(B45,$B$38:$B$65)+COUNTIF($B$38:$B$65,B45)-1 -> 6 | E45: =INDEX($A$38:$B$65,MATCH(ROW()-37,$D$38:$D$65,0),1) -> ALMERIA | F45: =LOOKUP(E45,$A$38:$A$65,$B$38:$B$65) -> 119685 | G45: =LOOKUP(E45,$A$38:$A$65,$C$38:$C$65) -> 138591
A46: =A15 -> BILBAO | B46: =E15 -> 23028 | C46: =D15 -> 22289 | D46: =_xlfn.RANK.EQ(B46,$B$38:$B$65)+COUNTIF($B$38:$B$65,B46)-1 -> 13 | E46: =INDEX($A$38:$B$65,MATCH(ROW()-37,$D$38:$D$65,0),1) -> MOTRIL | F46: =LOOKUP(E46,$A$38:$A$65,$B$38:$B$65) -> 65712 | G46: =LOOKUP(E46,$A$38:$A$65,$C$38:$C$65) -> 10680
A47: =A16 -> CARTAGENA | B47: =E16 -> 0 | C47: =D16 -> 0 | D47: =_xlfn.RANK.EQ(B47,$B$38:$B$65)+COUNTIF($B$38:$B$65,B47)-1 -> 28 | E47: =INDEX($A$38:$B$65,MATCH(ROW()-37,$D$38:$D$65,0),1) -> SANTANDER | F47: =LOOKUP(E47,$A$38:$A$65,$B$38:$B$65) -> 58043 | G47: =LOOKUP(E47,$A$38:$A$65,$C$38:$C$65) -> 66183
A48: =A17 -> CASTELLON | B48: =E17 -> 0 | C48: =D17 -> 0 | D48: =_xlfn.RANK.EQ(B48,$B$38:$B$65)+COUNTIF($B$38:$B$65,B48)-1 -> 28 | E48: =INDEX($A$38:$B$65,MATCH(ROW()-37,$D$38:$D$65,0),1) -> ALICANTE | F48: =LOOKUP(E48,$A$38:$A$65,$B$38:$B$65) -> 45271 | G48: =LOOKUP(E48,$A$38:$A$65,$C$38:$C$65) -> 46255
A49: =A18 -> CEUTA | B49: =E18 -> 299754 | C49: =D18 -> 286219 | D49: =_xlfn.RANK.EQ(B49,$B$38:$B$65)+COUNTIF($B$38:$B$65,B49)-1 -> 4 | E49: =INDEX($A$38:$B$65,MATCH(ROW()-37,$D$38:$D$65,0),1) -> VALENCIA | F49: =LOOKUP(E49,$A$38:$A$65,$B$38:$B$65) -> 41779 | G49: =LOOKUP(E49,$A$38:$A$65,$C$38:$C$65) -> 59763
... A65: =A34 -> VILAGARCIA | B65: =E34 -> 0 | C65: =D34 -> 0 | D65: =_xlfn.RANK.EQ(B65,$B$38:$B$65)+COUNTIF($B$38:$B$65,B65)-1 -> 28 | E65: =INDEX($A$38:$B$65,MATCH(ROW()-37,$D$38:$D$65,0),1) -> A CORUÑA | F65: =LOOKUP(E65,$A$38:$A$65,$B$38:$B$65) -> 0 | G65: =LOOKUP(E65,$A$38:$A$65,$C$38:$C$65) -> 0

Sheet Buques número
F1: 12.1. BUQUES MERCANTES (Nº)
A5: Autoridad Portuaria | B5: ='Resumen general'!D6 -> Mes Septiembre | D5: ='Resumen general'!F6 -> Acumulado desde Enero | L5: ='Resumen general'!I4 -> 41218
B6: ='Resumen general'!D7 -> 2011 | C6: ='Resumen general'!E7 -> 2012 | D6: ='Resumen general'!F7 -> 2011 | E6: ='Resumen general'!G7 -> 2012 | F6: Var. (%)
A7: A CORUÑA | B7: 105 | C7: 113 | D7: 897 | E7: 938 | F7: =((E7*100)/D7)-100 -> 4.5707915
A8: ALICANTE | B8: 77 | C8: 83 | D8: 678 | E8: 714 | F8: =((E8*100)/D8)-100 -> 5.3097345
A9: ALMERIA | B9: 124 | C9: 130 | D9: 1281 | E9: 1105 | F9: =((E9*100)/D9)-100 -> -13.739266
A10: AVILES | B10: 68 | C10: 69 | D10: 677 | E10: 661 | F10: =((E10*100)/D10)-100 -> -2.3633678
A11: BAHIA DE ALGECIRAS | B11: 2390 | C11: 2507 | D11: 21658 | E11: 19299 | F11: =((E11*100)/D11)-100 -> -10.892049
A12: BAHIA DE CADIZ | B12: 137 | C12: 112 | D12: 1167 | E12: 886 | F12: =((E12*100)/D12)-100 -> -24.078835
A13: BALEARES | B13: 2731 | C13: 3163 | D13: 21441 | E13: 23216 | F13: =((E13*100)/D13)-100 -> 8.2785318
A14: BARCELONA | B14: 720 | C14: 721 | D14: 6101 | E14: 5915 | F14: =((E14*100)/D14)-100 -> -3.0486805
A15: BILBAO | B15: 240 | C15: 243 | D15: 2352 | E15: 2100 | F15: =((E15*100)/D15)-100 -> -10.714286
A16: CARTAGENA | B16: 127 | C16: 132 | D16: 1018 | E16: 1266 | F16: =((E16*100)/D16)-100 -> 24.361493
A17: CASTELLON | B17: 148 | C17: 112 | D17: 1059 | E17: 992 | F17: =((E17*100)/D17)-100 -> -6.3267233
A18: CEUTA | B18: 1091 | C18: 1100 | D18: 9573 | E18: 9903 | F18: =((E18*100)/D18)-100 -> 3.4471952
... A34: VILAGARCIA | B34: 23 | C34: 29 | D34: 161 | E34: 201 | F34: =((E34*100)/D34)-100 -> 24.84472
A35: Total | B35: =SUM(B7:B34) -> 12300 | C35: =SUM(C7:C34) -> 12496 | D35: =SUM(D7:D34) -> 104939 | E35: =SUM(E7:E34) -> 103316 | F35: =((E35*100)/D35)-100 -> -1.5466128
B37: =E6 -> 2012 | C37: =D6 -> 2011 | F37: =B37 -> 2012 | G37: =C37 -> 2011
A38: =A7 -> A CORUÑA | B38: =E7 -> 938 | C38: =D7 -> 897 | D38: =_xlfn.RANK.EQ(B38,$B$38:$B$65)+COUNTIF($B$38:$B$65,B38)-1 -> 18 | E38: =INDEX($A$38:$B$65,MATCH(ROW()-37,$D$38:$D$65,0),1) -> BALEARES | F38: =LOOKUP(E38,$A$38:$A$65,$B$38:$B$65) -> 23216 | G38: =LOOKUP(E38,$A$38:$A$65,$C$38:$C$65) -> 21441
A39: =A8 -> ALICANTE | B39: =E8 -> 714 | C39: =D8 -> 678 | D39: =_xlfn.RANK.EQ(B39,$B$38:$B$65)+COUNTIF($B$38:$B$65,B39)-1 -> 23 | E39: =INDEX($A$38:$B$65,MATCH(ROW()-37,$D$38:$D$65,0),1) -> BAHIA DE ALGECIRAS | F39: =LOOKUP(E39,$A$38:$A$65,$B$38:$B$65) -> 19299 | G39: =LOOKUP(E39,$A$38:$A$65,$C$38:$C$65) -> 21658
A40: =A9 -> ALMERIA | B40: =E9 -> 1105 | C40: =D9 -> 1281 | D40: =_xlfn.RANK.EQ(B40,$B$38:$B$65)+COUNTIF($B$38:$B$65,B40)-1 -> 15 | E40: =INDEX($A$38:$B$65,MATCH(ROW()-37,$D$38:$D$65,0),1) -> CEUTA | F40: =LOOKUP(E40,$A$38:$A$65,$B$38:$B$65) -> 9903 | G40: =LOOKUP(E40,$A$38:$A$65,$C$38:$C$65) -> 9573
A41: =A10 -> AVILES | B41: =E10 -> 661 | C41: =D10 -> 677 | D41: =_xlfn.RANK.EQ(B41,$B$38:$B$65)+COUNTIF($B$38:$B$65,B41)-1 -> 25 | E41: =INDEX($A$38:$B$65,MATCH(ROW()-37,$D$38:$D$65,0),1) -> SANTA CRUZ DE TENERIFE | F41: =LOOKUP(E41,$A$38:$A$65,$B$38:$B$65) -> 9514 | G41: =LOOKUP(E41,$A$38:$A$65,$C$38:$C$65) -> 10881
A42: =A11 -> BAHIA DE ALGECIRAS | B42: =E11 -> 19299 | C42: =D11 -> 21658 | D42: =_xlfn.RANK.EQ(B42,$B$38:$B$65)+COUNTIF($B$38:$B$65,B42)-1 -> 2 | E42: =INDEX($A$38:$B$65,MATCH(ROW()-37,$D$38:$D$65,0),1) -> LAS PALMAS | F42: =LOOKUP(E42,$A$38:$A$65,$B$38:$B$65) -> 8663 | G42: =LOOKUP(E42,$A$38:$A$65,$C$38:$C$65) -> 8127
A43: =A12 -> BAHIA DE CADIZ | B43: =E12 -> 886 | C43: =D12 -> 1167 | D43: =_xlfn.RANK.EQ(B43,$B$38:$B$65)+COUNTIF($B$38:$B$65,B43)-1 -> 19 | E43: =INDEX($A$38:$B$65,MATCH(ROW()-37,$D$38:$D$65,0),1) -> BARCELONA | F43: =LOOKUP(E43,$A$38:$A$65,$B$38:$B$65) -> 5915 | G43: =LOOKUP(E43,$A$38:$A$65,$C$38:$C$65) -> 6101
A44: =A13 -> BALEARES | B44: =E13 -> 23216 | C44: =D13 -> 21441 | D44: =_xlfn.RANK.EQ(B44,$B$38:$B$65)+COUNTIF($B$38:$B$65,B44)-1 -> 1 | E44: =INDEX($A$38:$B$65,MATCH(ROW()-37,$D$38:$D$65,0),1) -> VALENCIA | F44: =LOOKUP(E44,$A$38:$A$65,$B$38:$B$65) -> 5225 | G44: =LOOKUP(E44,$A$38:$A$65,$C$38:$C$65) -> 5226
A45: =A14 -> BARCELONA | B45: =E14 -> 5915 | C45: =D14 -> 6101 | D45: =_xlfn.RANK.EQ(B45,$B$38:$B$65)+COUNTIF($B$38:$B$65,B45)-1 -> 6 | E45: =INDEX($A$38:$B$65,MATCH(ROW()-37,$D$38:$D$65,0),1) -> TARRAGONA | F45: =LOOKUP(E45,$A$38:$A$65,$B$38:$B$65) -> 2170 | G45: =LOOKUP(E45,$A$38:$A$65,$C$38:$C$65) -> 2262
A46: =A15 -> BILBAO | B46: =E15 -> 2100 | C46: =D15 -> 2352 | D46: =_xlfn.RANK.EQ(B46,$B$38:$B$65)+COUNTIF($B$38:$B$65,B46)-1 -> 9 | E46: =INDEX($A$38:$B$65,MATCH(ROW()-37,$D$38:$D$65,0),1) -> BILBAO | F46: =LOOKUP(E46,$A$38:$A$65,$B$38:$B$65) -> 2100 | G46: =LOOKUP(E46,$A$38:$A$65,$C$38:$C$65) -> 2352
A47: =A16 -> CARTAGENA | B47: =E16 -> 1266 | C47: =D16 -> 1018 | D47: =_xlfn.RANK.EQ(B47,$B$38:$B$65)+COUNTIF($B$38:$B$65,B47)-1 -> 12 | E47: =INDEX($A$38:$B$65,MATCH(ROW()-37,$D$38:$D$65,0),1) -> HUELVA | F47: =LOOKUP(E47,$A$38:$A$65,$B$38:$B$65) -> 1499 | G47: =LOOKUP(E47,$A$38:$A$65,$C$38:$C$65) -> 1354
A48: =A17 -> CASTELLON | B48: =E17 -> 992 | C48: =D17 -> 1059 | D48: =_xlfn.RANK.EQ(B48,$B$38:$B$65)+COUNTIF($B$38:$B$65,B48)-1 -> 16 | E48: =INDEX($A$38:$B$65,MATCH(ROW()-37,$D$38:$D$65,0),1) -> MALAGA | F48: =LOOKUP(E48,$A$38:$A$65,$B$38:$B$65) -> 1457 | G48: =LOOKUP(E48,$A$38:$A$65,$C$38:$C$65) -> 1419
A49: =A18 -> CEUTA | B49: =E18 -> 9903 | C49: =D18 -> 9573 | D49: =_xlfn.RANK.EQ(B49,$B$38:$B$65)+COUNTIF($B$38:$B$65,B49)-1 -> 3 | E49: =INDEX($A$38:$B$65,MATCH(ROW()-37,$D$38:$D$65,0),1) -> CARTAGENA | F49: =LOOKUP(E49,$A$38:$A$65,$B$38:$B$65) -> 1266 | G49: =LOOKUP(E49,$A$38:$A$65,$C$38:$C$65) -> 1018
... A65: =A34 -> VILAGARCIA | B65: =E34 -> 201 | C65: =D34 -> 161 | D65: =_xlfn.RANK.EQ(B65,$B$38:$B$65)+COUNTIF($B$38:$B$65,B65)-1 -> 28 | E65: =INDEX($A$38:$B$65,MATCH(ROW()-37,$D$38:$D$65,0),1) -> VILAGARCIA | F65: =LOOKUP(E65,$A$38:$A$65,$B$38:$B$65) -> 201 | G65: =LOOKUP(E65,$A$38:$A$65,$C$38:$C$65) -> 161

Sheet Buques GT
F1: 12.2. BUQUES MERCANTES (Unidades de arqueo bruto)
A5: Autoridad Portuaria | B5: ='Resumen general'!D6 -> Mes Septiembre | D5: ='Resumen general'!F6 -> Acumulado desde Enero | L5: ='Resumen general'!I4 -> 41218
B6: ='Resumen general'!D7 -> 2011 | C6: ='Resumen general'!E7 -> 2012 | D6: ='Resumen general'!F7 -> 2011 | E6: ='Resumen general'!G7 -> 2012 | F6: Var. (%)
A7: A CORUÑA | B7: 1596174 | C7: 1928206 | D7: 11277445 | E7: 13570027 | F7: =((E7*100)/D7)-100 -> 20.328913
A8: ALICANTE | B8: 1308338 | C8: 1440096 | D8: 9845264 | E8: 9537366 | F8: =((E8*100)/D8)-100 -> -3.1273717
A9: ALMERIA | B9: 2063778 | C9: 2078694 | D9: 19011890 | E9: 16984322 | F9: =((E9*100)/D9)-100 -> -10.664737
A10: AVILES | B10: 464001 | C10: 422001 | D10: 4200395 | E10: 4150819 | F10: =((E10*100)/D10)-100 -> -1.18027
A11: BAHIA DE ALGECIRAS | B11: 25594743 | C11: 31401895 | D11: 245674374 | E11: 253668307 | F11: =((E11*100)/D11)-100 -> 3.2538734
A12: BAHIA DE CADIZ | B12: 2892452 | C12: 2843152 | D12: 21293524 | E12: 17722914 | F12: =((E12*100)/D12)-100 -> -16.768525
A13: BALEARES | B13: 17804224 | C13: 15085496 | D13: 131673934 | E13: 111658274 | F13: =((E13*100)/D13)-100 -> -15.200928
A14: BARCELONA | B14: 25416357 | C14: 25685711 | D14: 202968088 | E14: 196992467 | F14: =((E14*100)/D14)-100 -> -2.9441185
A15: BILBAO | B15: 3881759 | C15: 3914326 | D15: 32807726 | E15: 30036404 | F15: =((E15*100)/D15)-100 -> -8.4471627
A16: CARTAGENA | B16: 2720953 | C16: 2788594 | D16: 19636107 | E16: 25193310 | F16: =((E16*100)/D16)-100 -> 28.300941
A17: CASTELLON | B17: 1337374 | C17: 1458199 | D17: 12237727 | E17: 11841801 | F17: =((E17*100)/D17)-100 -> -3.2352903
A18: CEUTA | B18: 5494464 | C18: 5704627 | D18: 49124999 | E18: 52011701 | F18: =((E18*100)/D18)-100 -> 5.8762383
... A34: VILAGARCIA | B34: 153649 | C34: 178076 | D34: 972255 | E34: 1301633 | F34: =((E34*100)/D34)-100 -> 33.877738
A35: Total | B35: =SUM(B7:B34) -> 166736377 | C35: =SUM(C7:C34) -> 166717878 | D35: =SUM(D7:D34) -> 1394215491 | E35: =SUM(E7:E34) -> 1408549368 | F35: =((E35*100)/D35)-100 -> 1.0280962
B37: =E6 -> 2012 | C37: =D6 -> 2011 | F37: =B37 -> 2012 | G37: =C37 -> 2011
A38: =A7 -> A CORUÑA | B38: =E7 -> 13570027 | C38: =D7 -> 11277445 | D38: =_xlfn.RANK.EQ(B38,$B$38:$B$65)+COUNTIF($B$38:$B$65,B38)-1 -> 19 | E38: =INDEX($A$38:$B$65,MATCH(ROW()-37,$D$38:$D$65,0),1) -> BAHIA DE ALGECIRAS | F38: =LOOKUP(E38,$A$38:$A$65,$B$38:$B$65) -> 253668307 | G38: =LOOKUP(E38,$A$38:$A$65,$C$38:$C$65) -> 245674374
A39: =A8 -> ALICANTE | B39: =E8 -> 9537366 | C39: =D8 -> 9845264 | D39: =_xlfn.RANK.EQ(B39,$B$38:$B$65)+COUNTIF($B$38:$B$65,B39)-1 -> 22 | E39: =INDEX($A$38:$B$65,MATCH(ROW()-37,$D$38:$D$65,0),1) -> BARCELONA | F39: =LOOKUP(E39,$A$38:$A$65,$B$38:$B$65) -> 196992467 | G39: =LOOKUP(E39,$A$38:$A$65,$C$38:$C$65) -> 202968088
A40: =A9 -> ALMERIA | B40: =E9 -> 16984322 | C40: =D9 -> 19011890 | D40: =_xlfn.RANK.EQ(B40,$B$38:$B$65)+COUNTIF($B$38:$B$65,B40)-1 -> 16 | E40: =INDEX($A$38:$B$65,MATCH(ROW()-37,$D$38:$D$65,0),1) -> LAS PALMAS | F40: =LOOKUP(E40,$A$38:$A$65,$B$38:$B$65) -> 167679697 | G40: =LOOKUP(E40,$A$38:$A$65,$C$38:$C$65) -> 152444432
A41: =A10 -> AVILES | B41: =E10 -> 4150819 | C41: =D10 -> 4200395 | D41: =_xlfn.RANK.EQ(B41,$B$38:$B$65)+COUNTIF($B$38:$B$65,B41)-1 -> 25 | E41: =INDEX($A$38:$B$65,MATCH(ROW()-37,$D$38:$D$65,0),1) -> VALENCIA | F41: =LOOKUP(E41,$A$38:$A$65,$B$38:$B$65) -> 155871189 | G41: =LOOKUP(E41,$A$38:$A$65,$C$38:$C$65) -> 150136984
A42: =A11 -> BAHIA DE ALGECIRAS | B42: =E11 -> 253668307 | C42: =D11 -> 245674374 | D42: =_xlfn.RANK.EQ(B42,$B$38:$B$65)+COUNTIF($B$38:$B$65,B42)-1 -> 1 | E42: =INDEX($A$38:$B$65,MATCH(ROW()-37,$D$38:$D$65,0),1) -> SANTA CRUZ DE TENERIFE | F42: =LOOKUP(E42,$A$38:$A$65,$B$38:$B$65) -> 143090519 | G42: =LOOKUP(E42,$A$38:$A$65,$C$38:$C$65) -> 151609603
A43: =A12 -> BAHIA DE CADIZ | B43: =E12 -> 17722914 | C43: =D12 -> 21293524 | D43: =_xlfn.RANK.EQ(B43,$B$38:$B$65)+COUNTIF($B$38:$B$65,B43)-1 -> 15 | E43: =INDEX($A$38:$B$65,MATCH(ROW()-37,$D$38:$D$65,0),1) -> BALEARES | F43: =LOOKUP(E43,$A$38:$A$65,$B$38:$B$65) -> 111658274 | G43: =LOOKUP(E43,$A$38:$A$65,$C$38:$C$65) -> 131673934
A44: =A13 -> BALEARES | B44: =E13 -> 111658274 | C44: =D13 -> 131673934 | D44: =_xlfn.RANK.EQ(B44,$B$38:$B$65)+COUNTIF($B$38:$B$65,B44)-1 -> 6 | E44: =INDEX($A$38:$B$65,MATCH(ROW()-37,$D$38:$D$65,0),1) -> CEUTA | F44: =LOOKUP(E44,$A$38:$A$65,$B$38:$B$65) -> 52011701 | G44: =LOOKUP(E44,$A$38:$A$65,$C$38:$C$65) -> 49124999
A45: =A14 -> BARCELONA | B45: =E14 -> 196992467 | C45: =D14 -> 202968088 | D45: =_xlfn.RANK.EQ(B45,$B$38:$B$65)+COUNTIF($B$38:$B$65,B45)-1 -> 2 | E45: =INDEX($A$38:$B$65,MATCH(ROW()-37,$D$38:$D$65,0),1) -> MALAGA | F45: =LOOKUP(E45,$A$38:$A$65,$B$38:$B$65) -> 35897102 | G45: =LOOKUP(E45,$A$38:$A$65,$C$38:$C$65) -> 32625587
A46: =A15 -> BILBAO | B46: =E15 -> 30036404 | C46: =D15 -> 32807726 | D46: =_xlfn.RANK.EQ(B46,$B$38:$B$65)+COUNTIF($B$38:$B$65,B46)-1 -> 10 | E46: =INDEX($A$38:$B$65,MATCH(ROW()-37,$D$38:$D$65,0),1) -> TARRAGONA | F46: =LOOKUP(E46,$A$38:$A$65,$B$38:$B$65) -> 32414364 | G46: =LOOKUP(E46,$A$38:$A$65,$C$38:$C$65) -> 33091853
A47: =A16 -> CARTAGENA | B47: =E16 -> 25193310 | C47: =D16 -> 19636107 | D47: =_xlfn.RANK.EQ(B47,$B$38:$B$65)+COUNTIF($B$38:$B$65,B47)-1 -> 11 | E47: =INDEX($A$38:$B$65,MATCH(ROW()-37,$D$38:$D$65,0),1) -> BILBAO | F47: =LOOKUP(E47,$A$38:$A$65,$B$38:$B$65) -> 30036404 | G47: =LOOKUP(E47,$A$38:$A$65,$C$38:$C$65) -> 32807726
A48: =A17 -> CASTELLON | B48: =E17 -> 11841801 | C48: =D17 -> 12237727 | D48: =_xlfn.RANK.EQ(B48,$B$38:$B$65)+COUNTIF($B$38:$B$65,B48)-1 -> 21 | E48: =INDEX($A$38:$B$65,MATCH(ROW()-37,$D$38:$D$65,0),1) -> CARTAGENA | F48: =LOOKUP(E48,$A$38:$A$65,$B$38:$B$65) -> 25193310 | G48: =LOOKUP(E48,$A$38:$A$65,$C$38:$C$65) -> 19636107
A49: =A18 -> CEUTA | B49: =E18 -> 52011701 | C49: =D18 -> 49124999 | D49: =_xlfn.RANK.EQ(B49,$B$38:$B$65)+COUNTIF($B$38:$B$65,B49)-1 -> 7 | E49: =INDEX($A$38:$B$65,MATCH(ROW()-37,$D$38:$D$65,0),1) -> VIGO | F49: =LOOKUP(E49,$A$38:$A$65,$B$38:$B$65) -> 23608702 | G49: =LOOKUP(E49,$A$38:$A$65,$C$38:$C$65) -> 25488576
... A65: =A34 -> VILAGARCIA | B65: =E34 -> 1301633 | C65: =D34 -> 972255 | D65: =_xlfn.RANK.EQ(B65,$B$38:$B$65)+COUNTIF($B$38:$B$65,B65)-1 -> 28 | E65: =INDEX($A$38:$B$65,MATCH(ROW()-37,$D$38:$D$65,0),1) -> VILAGARCIA | F65: =LOOKUP(E65,$A$38:$A$65,$B$38:$B$65) -> 1301633 | G65: =LOOKUP(E65,$A$38:$A$65,$C$38:$C$65) -> 972255

Sheet Cruceros
F1: 12.3. CRUCEROS (Nº)
A5: Autoridad Portuaria | B5: ='Resumen general'!D6 -> Mes Septiembre | D5: ='Resumen general'!F6 -> Acumulado desde Enero | L5: ='Resumen general'!I4 -> 41218
B6: ='Resumen general'!D7 -> 2011 | C6: ='Resumen general'!E7 -> 2012 | D6: ='Resumen general'!F7 -> 2011 | E6: ='Resumen general'!G7 -> 2012 | F6: Var. (%)
A7: A CORUÑA | B7: 12 | C7: 17 | D7: 58 | E7: 76 | F7: =((E7*100)/D7)-100 -> 31.034483
A8: ALICANTE | B8: 7 | C8: 8 | D8: 39 | E8: 32 | F8: =((E8*100)/D8)-100 -> -17.948718
A9: ALMERIA | B9: 5 | C9: 6 | D9: 34 | E9: 21 | F9: =((E9*100)/D9)-100 -> -38.235294
A10: AVILES | B10: 0 | C10: 0 | D10: 0 | E10: 1 | F10: =((E10*100)/D10)-100 -> #DIV/0!
A11: BAHIA DE ALGECIRAS | B11: 0 | C11: 0 | D11: 0 | E11: 0 | F11: =((E11*100)/D11)-100 -> #DIV/0!
A12: BAHIA DE CADIZ | B12: 40 | C12: 38 | D12: 220 | E12: 192 | F12: =((E12*100)/D12)-100 -> -12.727273
A13: BALEARES | B13: 110 | C13: 100 | D13: 591 | E13: 477 | F13: =((E13*100)/D13)-100 -> -19.28934
A14: BARCELONA | B14: 111 | C14: 109 | D14: 676 | E14: 570 | F14: =((E14*100)/D14)-100 -> -15.680473
A15: BILBAO | B15: 15 | C15: 11 | D15: 49 | E15: 41 | F15: =((E15*100)/D15)-100 -> -16.326531
A16: CARTAGENA | B16: 8 | C16: 9 | D16: 49 | E16: 50 | F16: =((E16*100)/D16)-100 -> 2.0408163
A17: CASTELLON | B17: 0 | C17: 0 | D17: 0 | E17: 1 | F17: =((E17*100)/D17)-100 -> #DIV/0!
A18: CEUTA | B18: 0 | C18: 0 | D18: 4 | E18: 4 | F18: =((E18*100)/D18)-100 -> 0
... A34: VILAGARCIA | B34: 4 | C34: 3 | D34: 11 | E34: 7 | F34: =((E34*100)/D34)-100 -> -36.363636
A35: Total | B35: =SUM(B7:B34) -> 439 | C35: =SUM(C7:C34) -> 431 | D35: =SUM(D7:D34) -> 2720 | E35: =SUM(E7:E34) -> 2506 | F35: =((E35*100)/D35)-100 -> -7.8676471
B37: =E6 -> 2012 | C37: =D6 -> 2011 | F37: =B37 -> 2012 | G37: =C37 -> 2011
A38: =A7 -> A CORUÑA | B38: =E7 -> 76 | C38: =D7 -> 58 | D38: =_xlfn.RANK.EQ(B38,$B$38:$B$65)+COUNTIF($B$38:$B$65,B38)-1 -> 8 | E38: =INDEX($A$38:$B$65,MATCH(ROW()-37,$D$38:$D$65,0),1) -> BARCELONA | F38: =LOOKUP(E38,$A$38:$A$65,$B$38:$B$65) -> 570 | G38: =LOOKUP(E38,$A$38:$A$65,$C$38:$C$65) -> 676
A39: =A8 -> ALICANTE | B39: =E8 -> 32 | C39: =D8 -> 39 | D39: =_xlfn.RANK.EQ(B39,$B$38:$B$65)+COUNTIF($B$38:$B$65,B39)-1 -> 13 | E39: =INDEX($A$38:$B$65,MATCH(ROW()-37,$D$38:$D$65,0),1) -> BALEARES | F39: =LOOKUP(E39,$A$38:$A$65,$B$38:$B$65) -> 477 | G39: =LOOKUP(E39,$A$38:$A$65,$C$38:$C$65) -> 591
A40: =A9 -> ALMERIA | B40: =E9 -> 21 | C40: =D9 -> 34 | D40: =_xlfn.RANK.EQ(B40,$B$38:$B$65)+COUNTIF($B$38:$B$65,B40)-1 -> 14 | E40: =INDEX($A$38:$B$65,MATCH(ROW()-37,$D$38:$D$65,0),1) -> SANTA CRUZ DE TENERIFE | F40: =LOOKUP(E40,$A$38:$A$65,$B$38:$B$65) -> 281 | G40: =LOOKUP(E40,$A$38:$A$65,$C$38:$C$65) -> 228
A41: =A10 -> AVILES | B41: =E10 -> 1 | C41: =D10 -> 0 | D41: =_xlfn.RANK.EQ(B41,$B$38:$B$65)+COUNTIF($B$38:$B$65,B41)-1 -> 24 | E41: =INDEX($A$38:$B$65,MATCH(ROW()-37,$D$38:$D$65,0),1) -> LAS PALMAS | F41: =LOOKUP(E41,$A$38:$A$65,$B$38:$B$65) -> 258 | G41: =LOOKUP(E41,$A$38:$A$65,$C$38:$C$65) -> 234
A42: =A11 -> BAHIA DE ALGECIRAS | B42: =E11 -> 0 | C42: =D11 -> 0 | D42: =_xlfn.RANK.EQ(B42,$B$38:$B$65)+COUNTIF($B$38:$B$65,B42)-1 -> 28 | E42: =INDEX($A$38:$B$65,MATCH(ROW()-37,$D$38:$D$65,0),1) -> MALAGA | F42: =LOOKUP(E42,$A$38:$A$65,$B$38:$B$65) -> 197 | G42: =LOOKUP(E42,$A$38:$A$65,$C$38:$C$65) -> 202
A43: =A12 -> BAHIA DE CADIZ | B43: =E12 -> 192 | C43: =D12 -> 220 | D43: =_xlfn.RANK.EQ(B43,$B$38:$B$65)+COUNTIF($B$38:$B$65,B43)-1 -> 6 | E43: =INDEX($A$38:$B$65,MATCH(ROW()-37,$D$38:$D$65,0),1) -> BAHIA DE CADIZ | F43: =LOOKUP(E43,$A$38:$A$65,$B$38:$B$65) -> 192 | G43: =LOOKUP(E43,$A$38:$A$65,$C$38:$C$65) -> 220
A44: =A13 -> BALEARES | B44: =E13 -> 477 | C44: =D13 -> 591 | D44: =_xlfn.RANK.EQ(B44,$B$38:$B$65)+COUNTIF($B$38:$B$65,B44)-1 -> 2 | E44: =INDEX($A$38:$B$65,MATCH(ROW()-37,$D$38:$D$65,0),1) -> VALENCIA | F44: =LOOKUP(E44,$A$38:$A$65,$B$38:$B$65) -> 143 | G44: =LOOKUP(E44,$A$38:$A$65,$C$38:$C$65) -> 146
A45: =A14 -> BARCELONA | B45: =E14 -> 570 | C45: =D14 -> 676 | D45: =_xlfn.RANK.EQ(B45,$B$38:$B$65)+COUNTIF($B$38:$B$65,B45)-1 -> 1 | E45: =INDEX($A$38:$B$65,MATCH(ROW()-37,$D$38:$D$65,0),1) -> A CORUÑA | F45: =LOOKUP(E45,$A$38:$A$65,$B$38:$B$65) -> 76 | G45: =LOOKUP(E45,$A$38:$A$65,$C$38:$C$65) -> 58
A46: =A15 -> BILBAO | B46: =E15 -> 41 | C46: =D15 -> 49 | D46: =_xlfn.RANK.EQ(B46,$B$38:$B$65)+COUNTIF($B$38:$B$65,B46)-1 -> 11 | E46: =A47 -> CARTAGENA | F46: =LOOKUP(E46,$A$38:$A$65,$B$38:$B$65) -> 50 | G46: =LOOKUP(E46,$A$38:$A$65,$C$38:$C$65) -> 49
A47: =A16 -> CARTAGENA | B47: =E16 -> 50 | C47: =D16 -> 49 | D47: =_xlfn.RANK.EQ(B47,$B$38:$B$65)+COUNTIF($B$38:$B$65,B47)-1 -> 10 | E47: =INDEX($A$38:$B$65,MATCH(ROW()-37,$D$38:$D$65,0),1) -> CARTAGENA | F47: =LOOKUP(E47,$A$38:$A$65,$B$38:$B$65) -> 50 | G47: =LOOKUP(E47,$A$38:$A$65,$C$38:$C$65) -> 49
A48: =A17 -> CASTELLON | B48: =E17 -> 1 | C48: =D17 -> 0 | D48: =_xlfn.RANK.EQ(B48,$B$38:$B$65)+COUNTIF($B$38:$B$65,B48)-1 -> 24 | E48: =INDEX($A$38:$B$65,MATCH(ROW()-37,$D$38:$D$65,0),1) -> BILBAO | F48: =LOOKUP(E48,$A$38:$A$65,$B$38:$B$65) -> 41 | G48: =LOOKUP(E48,$A$38:$A$65,$C$38:$C$65) -> 49
A49: =A18 -> CEUTA | B49: =E18 -> 4 | C49: =D18 -> 4 | D49: =_xlfn.RANK.EQ(B49,$B$38:$B$65)+COUNTIF($B$38:$B$65,B49)-1 -> 20 | E49: =INDEX($A$38:$B$65,MATCH(ROW()-37,$D$38:$D$65,0),1) -> SEVILLA | F49: =LOOKUP(E49,$A$38:$A$65,$B$38:$B$65) -> 39 | G49: =LOOKUP(E49,$A$38:$A$65,$C$38:$C$65) -> 44
A50: =A19 -> FERROL-SAN CIBRAO | B50: =E19 -> 7 | C50: =D19 -> 3 | D50: =_xlfn.RANK.EQ(B50,$B$38:$B$65)+COUNTIF($B$38:$B$65,B50)-1 -> 19 | E50: =INDEX($A$38:$B$65,MATCH(ROW()-37,$D$38:$D$65,0),1) -> ALICANTE | F50: =LOOKUP(E50,$A$38:$A$65,$B$38:$B$65) -> 32 | G50: =LOOKUP(E50,$A$38:$A$65,$C$38:$C$65) -> 39
A51: =A20 -> GIJON | B51: =E20 -> 7 | C51: =D20 -> 8 | D51: =_xlfn.RANK.EQ(B51,$B$38:$B$65)+COUNTIF($B$38:$B$65,B51)-1 -> 19 | E51: =INDEX($A$38:$B$65,MATCH(ROW()-37,$D$38:$D$65,0),1) -> ALMERIA | F51: =LOOKUP(E51,$A$38:$A$65,$B$38:$B$65) -> 21 | G51: =LOOKUP(E51,$A$38:$A$65,$C$38:$C$65) -> 34
A52: =A21 -> HUELVA | B52: =E21 -> 1 | C52: =D21 -> 1 | D52: =_xlfn.RANK.EQ(B52,$B$38:$B$65)+COUNTIF($B$38:$B$65,B52)-1 -> 24 | E52: =INDEX($A$38:$B$65,MATCH(ROW()-37,$D$38:$D$65,0),1) -> MOTRIL | F52: =LOOKUP(E52,$A$38:$A$65,$B$38:$B$65) -> 17 | G52: =LOOKUP(E52,$A$38:$A$65,$C$38:$C$65) -> 19
A53: =A22 -> LAS PALMAS | B53: =E22 -> 258 | C53: =D22 -> 234 | D53: =_xlfn.RANK.EQ(B53,$B$38:$B$65)+COUNTIF($B$38:$B$65,B53)-1 -> 4 | E53: =INDEX($A$38:$B$65,MATCH(ROW()-37,$D$38:$D$65,0),1) -> SANTANDER | F53: =LOOKUP(E53,$A$38:$A$65,$B$38:$B$65) -> 8 | G53: =LOOKUP(E53,$A$38:$A$65,$C$38:$C$65) -> 6
A54: =A23 -> MALAGA | B54: =E23 -> 197 | C54: =D23 -> 202 | D54: =_xlfn.RANK.EQ(B54,$B$38:$B$65)+COUNTIF($B$38:$B$65,B54)-1 -> 5 | E54: =INDEX($A$38:$B$65,MATCH(ROW()-37,$D$38:$D$65,0),1) -> #N/A | F54: =LOOKUP(E54,$A$38:$A$65,$B$38:$B$65) -> #N/A | G54: =LOOKUP(E54,$A$38:$A$65,$C$38:$C$65) -> #N/A
A55: =A24 -> MARIN Y RIA DE PONTEVEDRA | B55: =E24 -> 0 | C55: =D24 -> 0 | D55: =_xlfn.RANK.EQ(B55,$B$38:$B$65)+COUNTIF($B$38:$B$65,B55)-1 -> 28 | E55: =INDEX($A$38:$B$65,MATCH(ROW()-37,$D$38:$D$65,0),1) -> #N/A | F55: =LOOKUP(E55,$A$38:$A$65,$B$38:$B$65) -> #N/A | G55: =LOOKUP(E55,$A$38:$A$65,$C$38:$C$65) -> #N/A
A56: =A25 -> MELILLA | B56: =E25 -> 2 | C56: =D25 -> 2 | D56: =_xlfn.RANK.EQ(B56,$B$38:$B$65)+COUNTIF($B$38:$B$65,B56)-1 -> 21 | E56: =INDEX($A$38:$B$65,MATCH(ROW()-37,$D$38:$D$65,0),1) -> FERROL-SAN CIBRAO | F56: =LOOKUP(E56,$A$38:$A$65,$B$38:$B$65) -> 7 | G56: =LOOKUP(E56,$A$38:$A$65,$C$38:$C$65) -> 3
A57: =A26 -> MOTRIL | B57: =E26 -> 17 | C57: =D26 -> 19 | D57: =_xlfn.RANK.EQ(B57,$B$38:$B$65)+COUNTIF($B$38:$B$65,B57)-1 -> 15 | E57: =INDEX($A$38:$B$65,MATCH(ROW()-37,$D$38:$D$65,0),1) -> CEUTA | F57: =LOOKUP(E57,$A$38:$A$65,$B$38:$B$65) -> 4 | G57: =LOOKUP(E57,$A$38:$A$65,$C$38:$C$65) -> 4
A58: =A27 -> PASAIA | B58: =E27 -> 0 | C58: =D27 -> 0 | D58: =_xlfn.RANK.EQ(B58,$B$38:$B$65)+COUNTIF($B$38:$B$65,B58)-1 -> 28 | E58: =INDEX($A$38:$B$65,MATCH(ROW()-37,$D$38:$D$65,0),1) -> MELILLA | F58: =LOOKUP(E58,$A$38:$A$65,$B$38:$B$65) -> 2 | G58: =LOOKUP(E58,$A$38:$A$65,$C$38:$C$65) -> 2
... A65: =A34 -> VILAGARCIA | B65: =E34 -> 7 | C65: =D34 -> 11 | D65: =_xlfn.RANK.EQ(B65,$B$38:$B$65)+COUNTIF($B$38:$B$65,B65)-1 -> 19 | E65: =INDEX($A$38:$B$65,MATCH(ROW()-37,$D$38:$D$65,0),1) -> BAHIA DE ALGECIRAS | F65: =LOOKUP(E65,$A$38:$A$65,$B$38:$B$65) -> 0 | G65: =LOOKUP(E65,$A$38:$A$65,$C$38:$C$65) -> 0
