Workbook
Name CABECERA: Cruceros!$A$5:$F$6
Name CONCEPTO: 'Resumen general'!$A$6
Name LblRes00_Acum: 'Resumen general'!$F$6:$G$6
Name LblRes00_Mes: 'Resumen general'!$D$6:$E$6
Name LblRes00_Var: 'Resumen general'!$H$6:$I$6
Name LblRes01_1_Acum: 'Total presentación'!$D$5:$F$5
Name LblRes01_1_Mes: 'Total presentación'!$B$5:$C$5
Name LblRes01_Acum: 'Total tráfico'!$D$5:$F$5
Name LblRes01_Mes: 'Total tráfico'!$B$5:$C$5
Name LblRes02_Acum: Líquidos!$D$5:$F$5
Name LblRes02_Mes: Líquidos!$B$5:$C$5
Name LblRes03_Acum: Sólidos!$D$5:$F$5
Name LblRes03_Mes: Sólidos!$B$5:$C$5
Name LblRes04_Acum: 'Mercancía general'!$D$5:$F$5
Name LblRes04_Mes: 'Mercancía general'!$B$5:$C$5
Name LblRes05_Acum: Pesca!$D$5:$F$5
Name LblRes05_Mes: Pesca!$B$5:$C$5
Name LblRes06_Acum: Avituallamiento!$D$5:$F$5
Name LblRes06_Mes: Avituallamiento!$B$5:$C$5
Name LblRes07_1_Acum: 'Mercan. contene. tránsito'!$D$5:$F$5
Name LblRes07_1_Mes: 'Mercan. contene. tránsito'!$B$5:$C$5
Name LblRes07_Acum: 'Mercancías tránsito'!$D$5:$F$5
Name LblRes07_Mes: 'Mercancías tránsito'!$B$5:$C$5
Name LblRes08_Acum: 'Mercancías contenedores'!$D$5:$F$5
Name LblRes08_Mes: 'Mercancías contenedores'!$B$5:$C$5
Name LblRes09_Acum: 'Ro-Ro'!$D$5:$F$5
Name LblRes09_Mes: 'Ro-Ro'!$B$5:$C$5
Name LblRes10_1_Acum: 'TEUS tránsito'!$D$5:$F$5
Name LblRes10_1_Mes: 'TEUS tránsito'!$B$5:$C$5
Name LblRes10_2_Acum: #REF!
Name LblRes10_2_Mes: #REF!
Name LblRes10_3_Acum: #REF!
Name LblRes10_3_Mes: #REF!
Name LblRes10_4_Acum: #REF!
Name LblRes10_4_Mes: #REF!
Name LblRes10_Acum: TEUS!$D$5:$F$5
Name LblRes10_Mes: TEUS!$B$5:$C$5
Name LblRes11_1_Acum: 'Pasajeros crucero'!$D$5:$F$5
Name LblRes11_1_Mes: 'Pasajeros crucero'!$B$5:$C$5
Name LblRes11_2_Acum: 'Vehículos régimen pasaje'!$D$5:$F$5
Name LblRes11_2_Mes: 'Vehículos régimen pasaje'!$B$5:$C$5
Name LblRes11_Acum: 'Pasajeros total'!$D$5:$F$5
Name LblRes11_Mes: 'Pasajeros total'!$B$5:$C$5
Name LblRes12_1_Acum: 'Buques número'!$D$5:$F$5
Name LblRes12_1_Mes: 'Buques número'!$B$5:$C$5
Name LblRes12_2_Acum: 'Buques GT'!$D$5:$F$5
Name LblRes12_2_Mes: 'Buques GT'!$B$5:$C$5
Name LblRes12_3_Acum: Cruceros!$D$5:$F$5
Name LblRes12_3_Mes: Cruceros!$B$5:$C$5
Name PROVINCIAS: Cruceros!$A$5:$A$35
Name TxtFecha: Cruceros!$L$5

Sheet Portada e índice
I1: Dirección de Servicios y Competitividad
I2: Departamento de Estadística
G15: RESUMEN GENERAL DEL TRÁFICO PORTUARIO*
G16: diciembre 2015
K29: *Datos de cierre definitivos del Anuario Estadístico de Puertos del Estado 2015
F34: ÍNDICE
B37: 0. | C37: RESUMEN GENERAL DEL TRÁFICO PORTUARIO
B38: 1. | C38: TRÁFICO PORTUARIO
B39: 1.1. | C39: MERCANCÍAS SEGÚN SU FORMA DE PRESENTACIÓN
B40: 2. | C40: GRANELES LÍQUIDOS
B41: 3. | C41: GRANELES SÓLIDOS
B42: 4. | C42: MERCANCÍA GENERAL
B43: 5. | C43: PESCA
B44: 6. | C44: AVITUALLAMIENTO
B45: 7. | C45: MERCANCÍAS EN TRÁNSITO
B46: 7.1. | C46: MERCANCÍAS EN CONTENEDORES EN TRÁNSITO
B47: 8. | C47: MERCANCÍAS EN CONTENEDORES
B48: 9. | C48: TRÁFICO RO-RO
... B59: 12.3. | C59: CRUCEROS (unidades)

Sheet Resumen general
D1: 00. RESUMEN GENERAL DEL TRÁFICO PORTUARIO
I4: Fecha: 23/11/2017
A6: CONCEPTO | D6: Mes Diciembre | F6: Acumulado desde Enero | H6: Variación
D7: 2014 | E7: 2015 | F7: 2014 | G7: 2015 | H7: Diferencia | I7: %
A8: MERCANCÍAS SEGÚN SU PRESENTACIÓN | B8: GRANELES | C8: LÍQUIDOS | D8: 14127369 | E8: 14012805 | F8: 160713209 | G8: 168051085 | H8: 7337876 | I8: =((G8*100/F8)-100) -> 4.5658201
C9: SÓLIDOS | D9: 7937539 | E9: 8672352 | F9: 89560973 | G9: 95972002 | H9: 6411029 | I9: =((G9*100/F9)-100) -> 7.1582842
B10: MERCANCÍA GRAL. | C10: CONVENCIONAL | D10: 4984379 | E10: 4986505 | F10: 62339212 | G10: 65128935 | H10: 2789723 | I10: =((G10*100/F10)-100) -> 4.4750694
C11: EN CONTENEDORES | D11: 12664058 | E11: 13636117 | F11: 155488677 | G11: 159276138 | H11: 3787461 | I11: =((G11*100/F11)-100) -> 2.4358436
C12: TOTAL | D12: 17648437 | E12: 18622622 | F12: 217827889 | G12: 224405073 | H12: 6577184 | I12: =((G12*100/F12)-100) -> 3.0194407
C13: TOTAL | D13: 39713345 | E13: =SUM(E8+E9+E12) -> 41307779 | F13: 468102071 | G13: 488428160 | H13: 20326089 | I13: =((G13*100/F13)-100) -> 4.3422344
A14: OTRAS MERCANCÍAS | B14: PESCA | C14: TOTAL PESCA | D14: 20052 | E14: 20990 | F14: 237201 | G14: 220130 | H14: -17071 | I14: =((G14*100/F14)-100) -> -7.1968499
B15: AVITUALLAMIENTO | C15: PRODUCTOS PETROLÍFEROS | D15: 646616 | E15: 710514 | F15: 8042669 | G15: 8084093 | H15: 41424 | I15: =((G15*100/F15)-100) -> 0.5150529
C16: OTROS | D16: 181603 | E16: 244065 | F16: 2057962 | G16: 2098377 | H16: 40415 | I16: =((G16*100/F16)-100) -> 1.9638361
B17: TRAFICO INTERIOR | C17: TOTAL TRAFICO INTERIOR | D17: 280586 | E17: 354212 | F17: 3644044 | G17: 3607280 | H17: -36764 | I17: =((G17*100/F17)-100) -> -1.0088791
C18: TOTAL | D18: 1128857 | E18: =SUM(E14:E17) -> 1329781 | F18: 13981876 | G18: =G14+G15+G16+G17 -> 14009880 | H18: 28004 | I18: =((G18*100/F18)-100) -> 0.20028786
C19: TOTAL TRÁFICO PORTUARIO | D19: =+D13+D18 -> 40842202 | E19: =+E13+E18 -> 42637560 | F19: =+F13+F18 -> 482083947 | G19: =+G13+G18 -> 502438040 | H19: =G19-F19 -> 20354093 | I19: =((G19*100/F19)-100) -> 4.2221055
A21: OTRAS INFORMACIONES | B21: MERCANCÍAS | C21: EN TRÁNSITO | D21: 9745527 | E21: 9603070 | F21: 115787002 | G21: 118605597 | H21: 2818595 | I21: =((G21*100/F21)-100) -> 2.4342931
C22: EN CONTENEDORES EN TRÁNSITO | D22: 7511546 | E22: 8006050 | F22: 93513888 | G22: 93947360 | H22: 433472 | I22: =((G22*100/F22)-100) -> 0.46353757
B23: TRÁFICO RO-RO | C23: TOTAL TRÁFICO RO-RO | D23: 3600752 | E23: 4160662 | F23: 48007511 | G23: 51154407 | H23: 3146896 | I23: =((G23*100/F23)-100) -> 6.5550076
B24: CONTENEDORES (TEU) | C24: TOTAL CONTENEDORES (TEU) | D24: 1142955 | E24: 1232553 | F24: 14206487 | G24: 14293245 | H24: 86756 | I24: =((G24*100/F24)-100) -> 0.61069285
C25: EN TRÁNSITO | D25: 589661 | E25: 629354 | F25: 7612258 | G25: 7426945 | H25: -185313 | I25: =((G25*100/F25)-100) -> -2.4344025
C26: ENTRADAS-SALIDAS NACIONAL | D26: 134876 | E26: 149360 | F26: 1644490 | G26: 1728964 | H26: 84474 | I26: =((G26*100/F26)-100) -> 5.1367901
C27: IMPORT-EXPORT EXTERIOR | D27: 418416 | E27: 422214 | F27: 4949693 | G27: 5105644 | H27: 155951 | I27: =((G27*100/F27)-100) -> 3.1507207
C28: NACIONAL Y EXTERIOR | D28: 553293 | E28: 571574 | F28: 6594199 | G28: 6834673 | H28: 240473 | I28: =((G28*100/F28)-100) -> 3.6467507
B29: PASAJEROS | C29: REG. TRANSPORTE Y DE CRUCERO (nº) | D29: 1863100 | E29: 3074640 | F29: 29331441 | G29: 31071594 | H29: 1740153 | I29: =((G29*100/F29)-100) -> 5.9327225
C30: DE CRUCERO (nº) | D30: 535054 | E30: 758193 | F30: 7711411 | G30: 8646576 | H30: 935165 | I30: =((G30*100/F30)-100) -> 12.127028
B31: VEHÍCULOS | C31: EN RÉGIMEN DE PASAJE | D31: 291065 | E31: 341648 | F31: 4229215 | G31: 4494312 | H31: 265097 | I31: =((G31*100/F31)-100) -> 6.2682318
B32: BUQUES MERCANTES | C32: TOTAL BUQUES MERCANTES | D32: 10360 | E32: 20190 | F32: 138705 | G32: 146732 | H32: 8027 | I32: =((G32*100/F32)-100) -> 5.7871021
C33: UDS. ARQUEO BRUTO (G.T.) | D33: 160597591 | E33: 183593011 | F33: 1934966350 | G33: 2081223444 | H33: 146257094 | I33: =((G33*100/F33)-100) -> 7.5586376
C34: NÚMERO DE CRUCEROS | D34: 269 | E34: 288 | F34: 3703 | G34: 3857 | H34: 154 | I34: =((G34*100/F34)-100) -> 4.1587902

Sheet Total tráfico
F1: 1. TRAFICO PORTUARIO (Toneladas)
A5: Autoridad Portuaria | B5: ='Resumen general'!D6 -> Mes Diciembre | D5: ='Resumen general'!F6 -> Acumulado desde Enero | L5: ='Resumen general'!I4 -> Fecha: 23/11/2017
B6: ='Resumen general'!D7 -> 2014 | C6: ='Resumen general'!E7 -> 2015 | D6: ='Resumen general'!F7 -> 2014 | E6: ='Resumen general'!G7 -> 2015 | F6: Var. (%)
A7: A CORUÑA | B7: 1083353 | C7: 1131473 | D7: 11956979 | E7: 14152644 | F7: =((E7*100)/D7)-100 -> 18.363041
A8: ALICANTE | B8: 154068 | C8: 268644.41 | D8: 2461723 | E8: 2616948.4 | F8: =((E8*100)/D8)-100 -> 6.3055596
A9: ALMERIA | B9: 538980 | C9: 498243 | D9: 5140883 | E9: 6465011 | F9: =((E9*100)/D9)-100 -> 25.75682
A10: AVILES | B10: 447235 | C10: 511424.89 | D10: 4860386 | E10: 5173618.9 | F10: =((E10*100)/D10)-100 -> 6.4446093
A11: BAHIA DE ALGECIRAS | B11: 7612081 | C11: 8077714 | D11: 94934927 | E11: 98224216 | F11: =((E11*100)/D11)-100 -> 3.4647828
A12: BAHIA DE CADIZ | B12: 384631 | C12: 224756 | D12: 3543330 | E12: 3410578 | F12: =((E12*100)/D12)-100 -> -3.7465322
A13: BALEARES | B13: 890665 | C13: 952185 | D13: 12854005 | E13: 13526097 | F13: =((E13*100)/D13)-100 -> 5.2286583
A14: BARCELONA | B14: 3303054 | C14: 4239787 | D14: 46346854 | E14: 47049743 | F14: =((E14*100)/D14)-100 -> 1.5165841
A15: BILBAO | B15: 2759561 | C15: 2623079 | D15: 31007347 | E15: 32874742 | F15: =((E15*100)/D15)-100 -> 6.0224275
A16: CARTAGENA | B16: 3258284 | C16: 2917884 | D16: 32512808 | E16: 32670388 | F16: =((E16*100)/D16)-100 -> 0.48467053
A17: CASTELLON | B17: 1262115 | C17: 1562077 | D17: 15618071 | E17: 16474190 | F17: =((E17*100)/D17)-100 -> 5.4815924
A18: CEUTA | B18: 164014 | C18: 191680.82 | D18: 2311749 | E18: 2110007.8 | F18: =((E18*100)/D18)-100 -> -8.726777
... A34: VILAGARCIA | B34: 64015 | C34: 110880.67 | D34: 989083 | E34: 1029714.7 | F34: =((E34*100)/D34)-100 -> 4.1080142
A35: Total | B35: =SUM(B7:B34) -> 40842202 | C35: =SUM(C7:C34) -> 42637560 | D35: =SUM(D7:D34) -> 482083946 | E35: =SUM(E7:E34) -> 5.0243804e+08 | F35: =((E35*100)/D35)-100 -> 4.2221061
B37: =E6 -> 2015 | C37: =D6 -> 2014 | F37: =B37 -> 2015 | G37: =C37 -> 2014
A38: =A7 -> A CORUÑA | B38: =E7 -> 14152644 | C38: =D7 -> 11956979 | D38: =_xlfn.RANK.EQ(B38,$B$38:$B$65)+COUNTIF($B$38:$B$65,B38)-1 -> 11 | E38: =INDEX($A$38:$B$65,MATCH(ROW()-37,$D$38:$D$65,0),1) -> BAHIA DE ALGECIRAS | F38: =LOOKUP(E38,$A$38:$A$65,$B$38:$B$65) -> 98224216 | G38: =LOOKUP(E38,$A$38:$A$65,$C$38:$C$65) -> 94934927
A39: =A8 -> ALICANTE | B39: =E8 -> 2616948.4 | C39: =D8 -> 2461723 | D39: =_xlfn.RANK.EQ(B39,$B$38:$B$65)+COUNTIF($B$38:$B$65,B39)-1 -> 22 | E39: =INDEX($A$38:$B$65,MATCH(ROW()-37,$D$38:$D$65,0),1) -> VALENCIA | F39: =LOOKUP(E39,$A$38:$A$65,$B$38:$B$65) -> 70083977 | G39: =LOOKUP(E39,$A$38:$A$65,$C$38:$C$65) -> 67019770
A40: =A9 -> ALMERIA | B40: =E9 -> 6465011 | C40: =D9 -> 5140883 | D40: =_xlfn.RANK.EQ(B40,$B$38:$B$65)+COUNTIF($B$38:$B$65,B40)-1 -> 15 | E40: =INDEX($A$38:$B$65,MATCH(ROW()-37,$D$38:$D$65,0),1) -> BARCELONA | F40: =LOOKUP(E40,$A$38:$A$65,$B$38:$B$65) -> 47049743 | G40: =LOOKUP(E40,$A$38:$A$65,$C$38:$C$65) -> 46346854
A41: =A10 -> AVILES | B41: =E10 -> 5173618.9 | C41: =D10 -> 4860386 | D41: =_xlfn.RANK.EQ(B41,$B$38:$B$65)+COUNTIF($B$38:$B$65,B41)-1 -> 17 | E41: =INDEX($A$38:$B$65,MATCH(ROW()-37,$D$38:$D$65,0),1) -> TARRAGONA | F41: =LOOKUP(E41,$A$38:$A$65,$B$38:$B$65) -> 33034593 | G41: =LOOKUP(E41,$A$38:$A$65,$C$38:$C$65) -> 31881574
A42: =A11 -> BAHIA DE ALGECIRAS | B42: =E11 -> 98224216 | C42: =D11 -> 94934927 | D42: =_xlfn.RANK.EQ(B42,$B$38:$B$65)+COUNTIF($B$38:$B$65,B42)-1 -> 1 | E42: =INDEX($A$38:$B$65,MATCH(ROW()-37,$D$38:$D$65,0),1) -> BILBAO | F42: =LOOKUP(E42,$A$38:$A$65,$B$38:$B$65) -> 32874742 | G42: =LOOKUP(E42,$A$38:$A$65,$C$38:$C$65) -> 31007347
A43: =A12 -> BAHIA DE CADIZ | B43: =E12 -> 3410578 | C43: =D12 -> 3543330 | D43: =_xlfn.RANK.EQ(B43,$B$38:$B$65)+COUNTIF($B$38:$B$65,B43)-1 -> 21 | E43: =INDEX($A$38:$B$65,MATCH(ROW()-37,$D$38:$D$65,0),1) -> CARTAGENA | F43: =LOOKUP(E43,$A$38:$A$65,$B$38:$B$65) -> 32670388 | G43: =LOOKUP(E43,$A$38:$A$65,$C$38:$C$65) -> 32512808
A44: =A13 -> BALEARES | B44: =E13 -> 13526097 | C44: =D13 -> 12854005 | D44: =_xlfn.RANK.EQ(B44,$B$38:$B$65)+COUNTIF($B$38:$B$65,B44)-1 -> 12 | E44: =INDEX($A$38:$B$65,MATCH(ROW()-37,$D$38:$D$65,0),1) -> HUELVA | F44: =LOOKUP(E44,$A$38:$A$65,$B$38:$B$65) -> 27375435 | G44: =LOOKUP(E44,$A$38:$A$65,$C$38:$C$65) -> 27443839
A45: =A14 -> BARCELONA | B45: =E14 -> 47049743 | C45: =D14 -> 46346854 | D45: =_xlfn.RANK.EQ(B45,$B$38:$B$65)+COUNTIF($B$38:$B$65,B45)-1 -> 3 | E45: =INDEX($A$38:$B$65,MATCH(ROW()-37,$D$38:$D$65,0),1) -> LAS PALMAS | F45: =LOOKUP(E45,$A$38:$A$65,$B$38:$B$65) -> 23579828 | G45: =LOOKUP(E45,$A$38:$A$65,$C$38:$C$65) -> 22216940
A46: =A15 -> BILBAO | B46: =E15 -> 32874742 | C46: =D15 -> 31007347 | D46: =_xlfn.RANK.EQ(B46,$B$38:$B$65)+COUNTIF($B$38:$B$65,B46)-1 -> 5 | E46: =INDEX($A$38:$B$65,MATCH(ROW()-37,$D$38:$D$65,0),1) -> GIJON | F46: =LOOKUP(E46,$A$38:$A$65,$B$38:$B$65) -> 21277873 | G46: =LOOKUP(E46,$A$38:$A$65,$C$38:$C$65) -> 18995803
A47: =A16 -> CARTAGENA | B47: =E16 -> 32670388 | C47: =D16 -> 32512808 | D47: =_xlfn.RANK.EQ(B47,$B$38:$B$65)+COUNTIF($B$38:$B$65,B47)-1 -> 6 | E47: =INDEX($A$38:$B$65,MATCH(ROW()-37,$D$38:$D$65,0),1) -> CASTELLON | F47: =LOOKUP(E47,$A$38:$A$65,$B$38:$B$65) -> 16474190 | G47: =LOOKUP(E47,$A$38:$A$65,$C$38:$C$65) -> 15618071
A48: =A17 -> CASTELLON | B48: =E17 -> 16474190 | C48: =D17 -> 15618071 | D48: =_xlfn.RANK.EQ(B48,$B$38:$B$65)+COUNTIF($B$38:$B$65,B48)-1 -> 10 | E48: =INDEX($A$38:$B$65,MATCH(ROW()-37,$D$38:$D$65,0),1) -> A CORUÑA | F48: =LOOKUP(E48,$A$38:$A$65,$B$38:$B$65) -> 14152644 | G48: =LOOKUP(E48,$A$38:$A$65,$C$38:$C$65) -> 11956979
A49: =A18 -> CEUTA | B49: =E18 -> 2110007.8 | C49: =D18 -> 2311749 | D49: =_xlfn.RANK.EQ(B49,$B$38:$B$65)+COUNTIF($B$38:$B$65,B49)-1 -> 25 | E49: =INDEX($A$38:$B$65,MATCH(ROW()-37,$D$38:$D$65,0),1) -> BALEARES | F49: =LOOKUP(E49,$A$38:$A$65,$B$38:$B$65) -> 13526097 | G49: =LOOKUP(E49,$A$38:$A$65,$C$38:$C$65) -> 12854005
... A65: =A34 -> VILAGARCIA | B65: =E34 -> 1029714.7 | C65: =D34 -> 989083 | D65: =_xlfn.RANK.EQ(B65,$B$38:$B$65)+COUNTIF($B$38:$B$65,B65)-1 -> 28 | E65: =INDEX($A$38:$B$65,MATCH(ROW()-37,$D$38:$D$65,0),1) -> VILAGARCIA | F65: =LOOKUP(E65,$A$38:$A$65,$B$38:$B$65) -> 1029714.7 | G65: =LOOKUP(E65,$A$38:$A$65,$C$38:$C$65) -> 989083

Sheet Total presentación
F1: 1.1. MERCANCÍAS SEGÚN SU FORMA DE PRESENTACIÓN
J2: (Toneladas)
A5: Autoridad Portuaria | B5: ='Resumen general'!D6 -> Mes Diciembre | D5: ='Resumen general'!F6 -> Acumulado desde Enero | L5: ='Resumen general'!I4 -> Fecha: 23/11/2017
B6: ='Resumen general'!D7 -> 2014 | C6: ='Resumen general'!E7 -> 2015 | D6: ='Resumen general'!F7 -> 2014 | E6: ='Resumen general'!G7 -> 2015 | F6: Var. (%)
A7: A CORUÑA | B7: 1036106 | C7: 1077586 | D7: 11609992 | E7: 13764237 | F7: =((E7*100)/D7)-100 -> 18.555095
A8: ALICANTE | B8: 151980 | C8: 266590.74 | D8: 2450694 | E8: 2586875.7 | F8: =((E8*100)/D8)-100 -> 5.5568643
A9: ALMERIA | B9: 532937 | C9: 492571 | D9: 5071771 | E9: 6390544 | F9: =((E9*100)/D9)-100 -> 26.002219
A10: AVILES | B10: 443539 | C10: 481898.54 | D10: 4804191 | E10: 5108851.5 | F10: =((E10*100)/D10)-100 -> 6.3415576
A11: BAHIA DE ALGECIRAS | B11: 7091587 | C11: 7508920 | D11: 87965346 | E11: 91949559 | F11: =((E11*100)/D11)-100 -> 4.5292984
A12: BAHIA DE CADIZ | B12: 372997 | C12: 215535 | D12: 3409913 | E12: 3248105 | F12: =((E12*100)/D12)-100 -> -4.7452237
A13: BALEARES | B13: 884092 | C13: 940657 | D13: 12638870 | E13: 13317584 | F13: =((E13*100)/D13)-100 -> 5.3700529
A14: BARCELONA | B14: 3263294 | C14: 4175604 | D14: 45313912 | E14: 45921254 | F14: =((E14*100)/D14)-100 -> 1.3402992
A15: BILBAO | B15: 2749359 | C15: 2570385 | D15: 30820330 | E15: 32399823 | F15: =((E15*100)/D15)-100 -> 5.1248413
A16: CARTAGENA | B16: 3253403 | C16: 2907899 | D16: 32445111 | E16: 32578858 | F16: =((E16*100)/D16)-100 -> 0.41222544
A17: CASTELLON | B17: 1259602 | C17: 1560385 | D17: 15590256 | E17: 16444770 | F17: =((E17*100)/D17)-100 -> 5.4810774
A18: CEUTA | B18: 119869 | C18: 138336 | D18: 1762741 | E18: 1649280 | F18: =((E18*100)/D18)-100 -> -6.4366234
... A34: VILAGARCIA | B34: 63466 | C34: 110300.67 | D34: 983278 | E34: 1024904.7 | F34: =((E34*100)/D34)-100 -> 4.2334589
A35: Total | B35: =SUM(B7:B34) -> 39713345 | C35: =SUM(C7:C34) -> 41307779 | D35: =SUM(D7:D34) -> 468102071 | E35: =SUM(E7:E34) -> 4.8842816e+08 | F35: =((E35*100)/D35)-100 -> 4.3422344
B37: =E6 -> 2015 | C37: =D6 -> 2014 | F37: =B37 -> 2015 | G37: =C37 -> 2014
A38: =A7 -> A CORUÑA | B38: =E7 -> 13764237 | C38: =D7 -> 11609992 | D38: =_xlfn.RANK.EQ(B38,$B$38:$B$65)+COUNTIF($B$38:$B$65,B38)-1 -> 11 | E38: =INDEX($A$38:$B$65,MATCH(ROW()-37,$D$38:$D$65,0),1) -> BAHIA DE ALGECIRAS | F38: =LOOKUP(E38,$A$38:$A$65,$B$38:$B$65) -> 91949559 | G38: =LOOKUP(E38,$A$38:$A$65,$C$38:$C$65) -> 87965346
A39: =A8 -> ALICANTE | B39: =E8 -> 2586875.7 | C39: =D8 -> 2450694 | D39: =_xlfn.RANK.EQ(B39,$B$38:$B$65)+COUNTIF($B$38:$B$65,B39)-1 -> 22 | E39: =INDEX($A$38:$B$65,MATCH(ROW()-37,$D$38:$D$65,0),1) -> VALENCIA | F39: =LOOKUP(E39,$A$38:$A$65,$B$38:$B$65) -> 69601336 | G39: =LOOKUP(E39,$A$38:$A$65,$C$38:$C$65) -> 66628663
A40: =A9 -> ALMERIA | B40: =E9 -> 6390544 | C40: =D9 -> 5071771 | D40: =_xlfn.RANK.EQ(B40,$B$38:$B$65)+COUNTIF($B$38:$B$65,B40)-1 -> 15 | E40: =INDEX($A$38:$B$65,MATCH(ROW()-37,$D$38:$D$65,0),1) -> BARCELONA | F40: =LOOKUP(E40,$A$38:$A$65,$B$38:$B$65) -> 45921254 | G40: =LOOKUP(E40,$A$38:$A$65,$C$38:$C$65) -> 45313912
A41: =A10 -> AVILES | B41: =E10 -> 5108851.5 | C41: =D10 -> 4804191 | D41: =_xlfn.RANK.EQ(B41,$B$38:$B$65)+COUNTIF($B$38:$B$65,B41)-1 -> 17 | E41: =INDEX($A$38:$B$65,MATCH(ROW()-37,$D$38:$D$65,0),1) -> TARRAGONA | F41: =LOOKUP(E41,$A$38:$A$65,$B$38:$B$65) -> 32934769 | G41: =LOOKUP(E41,$A$38:$A$65,$C$38:$C$65) -> 31771960
A42: =A11 -> BAHIA DE ALGECIRAS | B42: =E11 -> 91949559 | C42: =D11 -> 87965346 | D42: =_xlfn.RANK.EQ(B42,$B$38:$B$65)+COUNTIF($B$38:$B$65,B42)-1 -> 1 | E42: =INDEX($A$38:$B$65,MATCH(ROW()-37,$D$38:$D$65,0),1) -> CARTAGENA | F42: =LOOKUP(E42,$A$38:$A$65,$B$38:$B$65) -> 32578858 | G42: =LOOKUP(E42,$A$38:$A$65,$C$38:$C$65) -> 32445111
A43: =A12 -> BAHIA DE CADIZ | B43: =E12 -> 3248105 | C43: =D12 -> 3409913 | D43: =_xlfn.RANK.EQ(B43,$B$38:$B$65)+COUNTIF($B$38:$B$65,B43)-1 -> 21 | E43: =INDEX($A$38:$B$65,MATCH(ROW()-37,$D$38:$D$65,0),1) -> BILBAO | F43: =LOOKUP(E43,$A$38:$A$65,$B$38:$B$65) -> 32399823 | G43: =LOOKUP(E43,$A$38:$A$65,$C$38:$C$65) -> 30820330
A44: =A13 -> BALEARES | B44: =E13 -> 13317584 | C44: =D13 -> 12638870 | D44: =_xlfn.RANK.EQ(B44,$B$38:$B$65)+COUNTIF($B$38:$B$65,B44)-1 -> 12 | E44: =INDEX($A$38:$B$65,MATCH(ROW()-37,$D$38:$D$65,0),1) -> HUELVA | F44: =LOOKUP(E44,$A$38:$A$65,$B$38:$B$65) -> 27216051 | G44: =LOOKUP(E44,$A$38:$A$65,$C$38:$C$65) -> 27246080
A45: =A14 -> BARCELONA | B45: =E14 -> 45921254 | C45: =D14 -> 45313912 | D45: =_xlfn.RANK.EQ(B45,$B$38:$B$65)+COUNTIF($B$38:$B$65,B45)-1 -> 3 | E45: =INDEX($A$38:$B$65,MATCH(ROW()-37,$D$38:$D$65,0),1) -> GIJON | F45: =LOOKUP(E45,$A$38:$A$65,$B$38:$B$65) -> 21178589 | G45: =LOOKUP(E45,$A$38:$A$65,$C$38:$C$65) -> 18896859
A46: =A15 -> BILBAO | B46: =E15 -> 32399823 | C46: =D15 -> 30820330 | D46: =_xlfn.RANK.EQ(B46,$B$38:$B$65)+COUNTIF($B$38:$B$65,B46)-1 -> 6 | E46: =INDEX($A$38:$B$65,MATCH(ROW()-37,$D$38:$D$65,0),1) -> LAS PALMAS | F46: =LOOKUP(E46,$A$38:$A$65,$B$38:$B$65) -> 20981431 | G46: =LOOKUP(E46,$A$38:$A$65,$C$38:$C$65) -> 20069702
A47: =A16 -> CARTAGENA | B47: =E16 -> 32578858 | C47: =D16 -> 32445111 | D47: =_xlfn.RANK.EQ(B47,$B$38:$B$65)+COUNTIF($B$38:$B$65,B47)-1 -> 5 | E47: =INDEX($A$38:$B$65,MATCH(ROW()-37,$D$38:$D$65,0),1) -> CASTELLON | F47: =LOOKUP(E47,$A$38:$A$65,$B$38:$B$65) -> 16444770 | G47: =LOOKUP(E47,$A$38:$A$65,$C$38:$C$65) -> 15590256
A48: =A17 -> CASTELLON | B48: =E17 -> 16444770 | C48: =D17 -> 15590256 | D48: =_xlfn.RANK.EQ(B48,$B$38:$B$65)+COUNTIF($B$38:$B$65,B48)-1 -> 10 | E48: =INDEX($A$38:$B$65,MATCH(ROW()-37,$D$38:$D$65,0),1) -> A CORUÑA | F48: =LOOKUP(E48,$A$38:$A$65,$B$38:$B$65) -> 13764237 | G48: =LOOKUP(E48,$A$38:$A$65,$C$38:$C$65) -> 11609992
A49: =A18 -> CEUTA | B49: =E18 -> 1649280 | C49: =D18 -> 1762741 | D49: =_xlfn.RANK.EQ(B49,$B$38:$B$65)+COUNTIF($B$38:$B$65,B49)-1 -> 26 | E49: =INDEX($A$38:$B$65,MATCH(ROW()-37,$D$38:$D$65,0),1) -> BALEARES | F49: =LOOKUP(E49,$A$38:$A$65,$B$38:$B$65) -> 13317584 | G49: =LOOKUP(E49,$A$38:$A$65,$C$38:$C$65) -> 12638870
... A65: =A34 -> VILAGARCIA | B65: =E34 -> 1024904.7 | C65: =D34 -> 983278 | D65: =_xlfn.RANK.EQ(B65,$B$38:$B$65)+COUNTIF($B$38:$B$65,B65)-1 -> 27 | E65: =INDEX($A$38:$B$65,MATCH(ROW()-37,$D$38:$D$65,0),1) -> MELILLA | F65: =LOOKUP(E65,$A$38:$A$65,$B$38:$B$65) -> 1008701 | G65: =LOOKUP(E65,$A$38:$A$65,$C$38:$C$65) -> 983272

Sheet Líquidos
F1: 2. GRANELES LÍQUIDOS (Toneladas)
A5: Autoridad Portuaria | B5: ='Resumen general'!D6 -> Mes Diciembre | D5: ='Resumen general'!F6 -> Acumulado desde Enero | L5: ='Resumen general'!I4 -> Fecha: 23/11/2017
B6: ='Resumen general'!D7 -> 2014 | C6: ='Resumen general'!E7 -> 2015 | D6: ='Resumen general'!F7 -> 2014 | E6: ='Resumen general'!G7 -> 2015 | F6: Var. (%)
A7: A CORUÑA | B7: 534470 | C7: 531444 | D7: 6255873 | E7: 7913588 | F7: =((E7*100)/D7)-100 -> 26.49854
A8: ALICANTE | B8: 5497 | C8: 15015 | D8: 59353 | E8: 56821 | F8: =((E8*100)/D8)-100 -> -4.2660017
A9: ALMERIA | B9: 0 | C9: 0 | D9: 12451 | E9: 22926 | F9: =((E9*100)/D9)-100 -> 84.129789
A10: AVILES | B10: 66489 | C10: 69174 | D10: 610734 | E10: 630851 | F10: =((E10*100)/D10)-100 -> 3.2939054
A11: BAHIA DE ALGECIRAS | B11: 2327363 | C11: 1963200 | D11: 25178849 | E11: 27344044 | F11: =((E11*100)/D11)-100 -> 8.5992612
A12: BAHIA DE CADIZ | B12: 29081 | C12: 29781 | D12: 157509 | E12: 296224 | F12: =((E12*100)/D12)-100 -> 88.067983
A13: BALEARES | B13: 96418 | C13: 114663 | D13: 1447365 | E13: 1524756 | F13: =((E13*100)/D13)-100 -> 5.3470272
A14: BARCELONA | B14: 784635 | C14: 1268034 | D14: 12949028 | E14: 12055321 | F14: =((E14*100)/D14)-100 -> -6.9017304
A15: BILBAO | B15: 1376119 | C15: 1335794 | D15: 16344900 | E15: 18199807 | F15: =((E15*100)/D15)-100 -> 11.348537
A16: CARTAGENA | B16: 2562850 | C16: 2215734 | D16: 25918606 | E16: 25741107 | F16: =((E16*100)/D16)-100 -> -0.68483236
A17: CASTELLON | B17: 717340 | C17: 890637 | D17: 8396473 | E17: 8654177 | F17: =((E17*100)/D17)-100 -> 3.0691935
A18: CEUTA | B18: 42683 | C18: 52145 | D18: 766708 | E18: 626803 | F18: =((E18*100)/D18)-100 -> -18.247494
... A34: VILAGARCIA | B34: 6004 | C34: 9172 | D34: 125845 | E34: 94857 | F34: =((E34*100)/D34)-100 -> -24.623942
A35: Total | B35: =SUM(B7:B34) -> 14127369 | C35: =SUM(C7:C34) -> 14012805 | D35: =SUM(D7:D34) -> 160713209 | E35: =SUM(E7:E34) -> 168051085 | F35: =((E35*100)/D35)-100 -> 4.5658201
B37: =E6 -> 2015 | C37: =D6 -> 2014 | F37: =B37 -> 2015 | G37: =C37 -> 2014
A38: =A7 -> A CORUÑA | B38: =E7 -> 7913588 | C38: =D7 -> 6255873 | D38: =_xlfn.RANK.EQ(B38,$B$38:$B$65)+COUNTIF($B$38:$B$65,B38)-1 -> 8 | E38: =INDEX($A$38:$B$65,MATCH(ROW()-37,$D$38:$D$65,0),1) -> BAHIA DE ALGECIRAS | F38: =LOOKUP(E38,$A$38:$A$65,$B$38:$B$65) -> 27344044 | G38: =LOOKUP(E38,$A$38:$A$65,$C$38:$C$65) -> 25178849
A39: =A8 -> ALICANTE | B39: =E8 -> 56821 | C39: =D8 -> 59353 | D39: =_xlfn.RANK.EQ(B39,$B$38:$B$65)+COUNTIF($B$38:$B$65,B39)-1 -> 25 | E39: =INDEX($A$38:$B$65,MATCH(ROW()-37,$D$38:$D$65,0),1) -> CARTAGENA | F39: =LOOKUP(E39,$A$38:$A$65,$B$38:$B$65) -> 25741107 | G39: =LOOKUP(E39,$A$38:$A$65,$C$38:$C$65) -> 25918606
A40: =A9 -> ALMERIA | B40: =E9 -> 22926 | C40: =D9 -> 12451 | D40: =_xlfn.RANK.EQ(B40,$B$38:$B$65)+COUNTIF($B$38:$B$65,B40)-1 -> 26 | E40: =INDEX($A$38:$B$65,MATCH(ROW()-37,$D$38:$D$65,0),1) -> TARRAGONA | F40: =LOOKUP(E40,$A$38:$A$65,$B$38:$B$65) -> 22306303 | G40: =LOOKUP(E40,$A$38:$A$65,$C$38:$C$65) -> 19387114
A41: =A10 -> AVILES | B41: =E10 -> 630851 | C41: =D10 -> 610734 | D41: =_xlfn.RANK.EQ(B41,$B$38:$B$65)+COUNTIF($B$38:$B$65,B41)-1 -> 16 | E41: =INDEX($A$38:$B$65,MATCH(ROW()-37,$D$38:$D$65,0),1) -> HUELVA | F41: =LOOKUP(E41,$A$38:$A$65,$B$38:$B$65) -> 21598676 | G41: =LOOKUP(E41,$A$38:$A$65,$C$38:$C$65) -> 21863372
A42: =A11 -> BAHIA DE ALGECIRAS | B42: =E11 -> 27344044 | C42: =D11 -> 25178849 | D42: =_xlfn.RANK.EQ(B42,$B$38:$B$65)+COUNTIF($B$38:$B$65,B42)-1 -> 1 | E42: =INDEX($A$38:$B$65,MATCH(ROW()-37,$D$38:$D$65,0),1) -> BILBAO | F42: =LOOKUP(E42,$A$38:$A$65,$B$38:$B$65) -> 18199807 | G42: =LOOKUP(E42,$A$38:$A$65,$C$38:$C$65) -> 16344900
A43: =A12 -> BAHIA DE CADIZ | B43: =E12 -> 296224 | C43: =D12 -> 157509 | D43: =_xlfn.RANK.EQ(B43,$B$38:$B$65)+COUNTIF($B$38:$B$65,B43)-1 -> 18 | E43: =INDEX($A$38:$B$65,MATCH(ROW()-37,$D$38:$D$65,0),1) -> BARCELONA | F43: =LOOKUP(E43,$A$38:$A$65,$B$38:$B$65) -> 12055321 | G43: =LOOKUP(E43,$A$38:$A$65,$C$38:$C$65) -> 12949028
A44: =A13 -> BALEARES | B44: =E13 -> 1524756 | C44: =D13 -> 1447365 | D44: =_xlfn.RANK.EQ(B44,$B$38:$B$65)+COUNTIF($B$38:$B$65,B44)-1 -> 13 | E44: =INDEX($A$38:$B$65,MATCH(ROW()-37,$D$38:$D$65,0),1) -> CASTELLON | F44: =LOOKUP(E44,$A$38:$A$65,$B$38:$B$65) -> 8654177 | G44: =LOOKUP(E44,$A$38:$A$65,$C$38:$C$65) -> 8396473
A45: =A14 -> BARCELONA | B45: =E14 -> 12055321 | C45: =D14 -> 12949028 | D45: =_xlfn.RANK.EQ(B45,$B$38:$B$65)+COUNTIF($B$38:$B$65,B45)-1 -> 6 | E45: =INDEX($A$38:$B$65,MATCH(ROW()-37,$D$38:$D$65,0),1) -> A CORUÑA | F45: =LOOKUP(E45,$A$38:$A$65,$B$38:$B$65) -> 7913588 | G45: =LOOKUP(E45,$A$38:$A$65,$C$38:$C$65) -> 6255873
A46: =A15 -> BILBAO | B46: =E15 -> 18199807 | C46: =D15 -> 16344900 | D46: =_xlfn.RANK.EQ(B46,$B$38:$B$65)+COUNTIF($B$38:$B$65,B46)-1 -> 5 | E46: =INDEX($A$38:$B$65,MATCH(ROW()-37,$D$38:$D$65,0),1) -> LAS PALMAS | F46: =LOOKUP(E46,$A$38:$A$65,$B$38:$B$65) -> 6385970 | G46: =LOOKUP(E46,$A$38:$A$65,$C$38:$C$65) -> 4845160
A47: =A16 -> CARTAGENA | B47: =E16 -> 25741107 | C47: =D16 -> 25918606 | D47: =_xlfn.RANK.EQ(B47,$B$38:$B$65)+COUNTIF($B$38:$B$65,B47)-1 -> 2 | E47: =INDEX($A$38:$B$65,MATCH(ROW()-37,$D$38:$D$65,0),1) -> SANTA CRUZ DE TENERIFE | F47: =LOOKUP(E47,$A$38:$A$65,$B$38:$B$65) -> 5732686 | G47: =LOOKUP(E47,$A$38:$A$65,$C$38:$C$65) -> 5735977
A48: =A17 -> CASTELLON | B48: =E17 -> 8654177 | C48: =D17 -> 8396473 | D48: =_xlfn.RANK.EQ(B48,$B$38:$B$65)+COUNTIF($B$38:$B$65,B48)-1 -> 7 | E48: =INDEX($A$38:$B$65,MATCH(ROW()-37,$D$38:$D$65,0),1) -> VALENCIA | F48: =LOOKUP(E48,$A$38:$A$65,$B$38:$B$65) -> 3814375 | G48: =LOOKUP(E48,$A$38:$A$65,$C$38:$C$65) -> 5220698
A49: =A18 -> CEUTA | B49: =E18 -> 626803 | C49: =D18 -> 766708 | D49: =_xlfn.RANK.EQ(B49,$B$38:$B$65)+COUNTIF($B$38:$B$65,B49)-1 -> 17 | E49: =INDEX($A$38:$B$65,MATCH(ROW()-37,$D$38:$D$65,0),1) -> FERROL-SAN CIBRAO | F49: =LOOKUP(E49,$A$38:$A$65,$B$38:$B$65) -> 2194480 | G49: =LOOKUP(E49,$A$38:$A$65,$C$38:$C$65) -> 2659099
... A65: =A34 -> VILAGARCIA | B65: =E34 -> 94857 | C65: =D34 -> 125845 | D65: =_xlfn.RANK.EQ(B65,$B$38:$B$65)+COUNTIF($B$38:$B$65,B65)-1 -> 22 | E65: =INDEX($A$38:$B$65,MATCH(ROW()-37,$D$38:$D$65,0),1) -> PASAIA | F65: =LOOKUP(E65,$A$38:$A$65,$B$38:$B$65) -> 0 | G65: =LOOKUP(E65,$A$38:$A$65,$C$38:$C$65) -> 0

Sheet Sólidos
F1: 3. GRANELES SÓLIDOS (Toneladas)
A5: Autoridad Portuaria | B5: ='Resumen general'!D6 -> Mes Diciembre | D5: ='Resumen general'!F6 -> Acumulado desde Enero | L5: ='Resumen general'!I4 -> Fecha: 23/11/2017
B6: ='Resumen general'!D7 -> 2014 | C6: ='Resumen general'!E7 -> 2015 | D6: ='Resumen general'!F7 -> 2014 | E6: ='Resumen general'!G7 -> 2015 | F6: Var. (%)
A7: A CORUÑA | B7: 454570 | C7: 454207 | D7: 4310507 | E7: 4912338 | F7: =((E7*100)/D7)-100 -> 13.961954
A8: ALICANTE | B8: 56431 | C8: 144550.99 | D8: 1109761 | E8: 1244009 | F8: =((E8*100)/D8)-100 -> 12.097018
A9: ALMERIA | B9: 474757 | C9: 438631 | D9: 4406405 | E9: 5762813 | F9: =((E9*100)/D9)-100 -> 30.782645
A10: AVILES | B10: 228417 | C10: 343379.14 | D10: 3012751 | E10: 3260161.1 | F10: =((E10*100)/D10)-100 -> 8.2121005
A11: BAHIA DE ALGECIRAS | B11: 65873 | C11: 48755 | D11: 1603174 | E11: 2130519 | F11: =((E11*100)/D11)-100 -> 32.893809
A12: BAHIA DE CADIZ | B12: 216653 | C12: 66219 | D12: 1776315 | E12: 1623696 | F12: =((E12*100)/D12)-100 -> -8.5918883
A13: BALEARES | B13: 113837 | C13: 68331 | D13: 1319455 | E13: 1215735 | F13: =((E13*100)/D13)-100 -> -7.8608213
A14: BARCELONA | B14: 332229 | C14: 458483 | D14: 4764706 | E14: 4426087 | F14: =((E14*100)/D14)-100 -> -7.1068183
A15: BILBAO | B15: 445078 | C15: 318012 | D15: 4593976 | E15: 4528219 | F15: =((E15*100)/D15)-100 -> -1.4313745
A16: CARTAGENA | B16: 615441 | C16: 580816 | D16: 5308274 | E16: 5554193 | F16: =((E16*100)/D16)-100 -> 4.6327488
A17: CASTELLON | B17: 303368 | C17: 410019 | D17: 4192762 | E17: 4636911 | F17: =((E17*100)/D17)-100 -> 10.593232
A18: CEUTA | B18: 0 | C18: 1500 | D18: 32645 | E18: 25625 | F18: =((E18*100)/D18)-100 -> -21.504059
... A34: VILAGARCIA | B34: 21665 | C34: 62574.36 | D34: 323047 | E34: 403439.36 | F34: =((E34*100)/D34)-100 -> 24.885654
A35: Total | B35: =SUM(B7:B34) -> 7937539 | C35: =SUM(C7:C34) -> 8672351.8 | D35: =SUM(D7:D34) -> 89560973 | E35: =SUM(E7:E34) -> 95972002 | F35: =((E35*100)/D35)-100 -> 7.158284
B37: =E6 -> 2015 | C37: =D6 -> 2014 | F37: =B37 -> 2015 | G37: =C37 -> 2014
A38: =A7 -> A CORUÑA | B38: =E7 -> 4912338 | C38: =D7 -> 4310507 | D38: =_xlfn.RANK.EQ(B38,$B$38:$B$65)+COUNTIF($B$38:$B$65,B38)-1 -> 7 | E38: =INDEX($A$38:$B$65,MATCH(ROW()-37,$D$38:$D$65,0),1) -> GIJON | F38: =LOOKUP(E38,$A$38:$A$65,$B$38:$B$65) -> 18905283 | G38: =LOOKUP(E38,$A$38:$A$65,$C$38:$C$65) -> 16218571
A39: =A8 -> ALICANTE | B39: =E8 -> 1244009 | C39: =D8 -> 1109761 | D39: =_xlfn.RANK.EQ(B39,$B$38:$B$65)+COUNTIF($B$38:$B$65,B39)-1 -> 19 | E39: =INDEX($A$38:$B$65,MATCH(ROW()-37,$D$38:$D$65,0),1) -> FERROL-SAN CIBRAO | F39: =LOOKUP(E39,$A$38:$A$65,$B$38:$B$65) -> 9839879 | G39: =LOOKUP(E39,$A$38:$A$65,$C$38:$C$65) -> 9498616
A40: =A9 -> ALMERIA | B40: =E9 -> 5762813 | C40: =D9 -> 4406405 | D40: =_xlfn.RANK.EQ(B40,$B$38:$B$65)+COUNTIF($B$38:$B$65,B40)-1 -> 4 | E40: =INDEX($A$38:$B$65,MATCH(ROW()-37,$D$38:$D$65,0),1) -> TARRAGONA | F40: =LOOKUP(E40,$A$38:$A$65,$B$38:$B$65) -> 8391029 | G40: =LOOKUP(E40,$A$38:$A$65,$C$38:$C$65) -> 9708015
A41: =A10 -> AVILES | B41: =E10 -> 3260161.1 | C41: =D10 -> 3012751 | D41: =_xlfn.RANK.EQ(B41,$B$38:$B$65)+COUNTIF($B$38:$B$65,B41)-1 -> 12 | E41: =INDEX($A$38:$B$65,MATCH(ROW()-37,$D$38:$D$65,0),1) -> ALMERIA | F41: =LOOKUP(E41,$A$38:$A$65,$B$38:$B$65) -> 5762813 | G41: =LOOKUP(E41,$A$38:$A$65,$C$38:$C$65) -> 4406405
A42: =A11 -> BAHIA DE ALGECIRAS | B42: =E11 -> 2130519 | C42: =D11 -> 1603174 | D42: =_xlfn.RANK.EQ(B42,$B$38:$B$65)+COUNTIF($B$38:$B$65,B42)-1 -> 14 | E42: =INDEX($A$38:$B$65,MATCH(ROW()-37,$D$38:$D$65,0),1) -> CARTAGENA | F42: =LOOKUP(E42,$A$38:$A$65,$B$38:$B$65) -> 5554193 | G42: =LOOKUP(E42,$A$38:$A$65,$C$38:$C$65) -> 5308274
A43: =A12 -> BAHIA DE CADIZ | B43: =E12 -> 1623696 | C43: =D12 -> 1776315 | D43: =_xlfn.RANK.EQ(B43,$B$38:$B$65)+COUNTIF($B$38:$B$65,B43)-1 -> 17 | E43: =INDEX($A$38:$B$65,MATCH(ROW()-37,$D$38:$D$65,0),1) -> HUELVA | F43: =LOOKUP(E43,$A$38:$A$65,$B$38:$B$65) -> 5137350.4 | G43: =LOOKUP(E43,$A$38:$A$65,$C$38:$C$65) -> 4662814
A44: =A13 -> BALEARES | B44: =E13 -> 1215735 | C44: =D13 -> 1319455 | D44: =_xlfn.RANK.EQ(B44,$B$38:$B$65)+COUNTIF($B$38:$B$65,B44)-1 -> 20 | E44: =INDEX($A$38:$B$65,MATCH(ROW()-37,$D$38:$D$65,0),1) -> A CORUÑA | F44: =LOOKUP(E44,$A$38:$A$65,$B$38:$B$65) -> 4912338 | G44: =LOOKUP(E44,$A$38:$A$65,$C$38:$C$65) -> 4310507
A45: =A14 -> BARCELONA | B45: =E14 -> 4426087 | C45: =D14 -> 4764706 | D45: =_xlfn.RANK.EQ(B45,$B$38:$B$65)+COUNTIF($B$38:$B$65,B45)-1 -> 10 | E45: =INDEX($A$38:$B$65,MATCH(ROW()-37,$D$38:$D$65,0),1) -> CASTELLON | F45: =LOOKUP(E45,$A$38:$A$65,$B$38:$B$65) -> 4636911 | G45: =LOOKUP(E45,$A$38:$A$65,$C$38:$C$65) -> 4192762
A46: =A15 -> BILBAO | B46: =E15 -> 4528219 | C46: =D15 -> 4593976 | D46: =_xlfn.RANK.EQ(B46,$B$38:$B$65)+COUNTIF($B$38:$B$65,B46)-1 -> 9 | E46: =INDEX($A$38:$B$65,MATCH(ROW()-37,$D$38:$D$65,0),1) -> BILBAO | F46: =LOOKUP(E46,$A$38:$A$65,$B$38:$B$65) -> 4528219 | G46: =LOOKUP(E46,$A$38:$A$65,$C$38:$C$65) -> 4593976
A47: =A16 -> CARTAGENA | B47: =E16 -> 5554193 | C47: =D16 -> 5308274 | D47: =_xlfn.RANK.EQ(B47,$B$38:$B$65)+COUNTIF($B$38:$B$65,B47)-1 -> 5 | E47: =INDEX($A$38:$B$65,MATCH(ROW()-37,$D$38:$D$65,0),1) -> BARCELONA | F47: =LOOKUP(E47,$A$38:$A$65,$B$38:$B$65) -> 4426087 | G47: =LOOKUP(E47,$A$38:$A$65,$C$38:$C$65) -> 4764706
A48: =A17 -> CASTELLON | B48: =E17 -> 4636911 | C48: =D17 -> 4192762 | D48: =_xlfn.RANK.EQ(B48,$B$38:$B$65)+COUNTIF($B$38:$B$65,B48)-1 -> 8 | E48: =INDEX($A$38:$B$65,MATCH(ROW()-37,$D$38:$D$65,0),1) -> SANTANDER | F48: =LOOKUP(E48,$A$38:$A$65,$B$38:$B$65) -> 3518578 | G48: =LOOKUP(E48,$A$38:$A$65,$C$38:$C$65) -> 3189256
A49: =A18 -> CEUTA | B49: =E18 -> 25625 | C49: =D18 -> 32645 | D49: =_xlfn.RANK.EQ(B49,$B$38:$B$65)+COUNTIF($B$38:$B$65,B49)-1 -> 27 | E49: =INDEX($A$38:$B$65,MATCH(ROW()-37,$D$38:$D$65,0),1) -> AVILES | F49: =LOOKUP(E49,$A$38:$A$65,$B$38:$B$65) -> 3260161.1 | G49: =LOOKUP(E49,$A$38:$A$65,$C$38:$C$65) -> 3012751
... A65: =A34 -> VILAGARCIA | B65: =E34 -> 403439.36 | C65: =D34 -> 323047 | D65: =_xlfn.RANK.EQ(B65,$B$38:$B$65)+COUNTIF($B$38:$B$65,B65)-1 -> 25 | E65: =INDEX($A$38:$B$65,MATCH(ROW()-37,$D$38:$D$65,0),1) -> MELILLA | F65: =LOOKUP(E65,$A$38:$A$65,$B$38:$B$65) -> 3425 | G65: =LOOKUP(E65,$A$38:$A$65,$C$38:$C$65) -> 6815

Sheet Mercancía general
F1: 4. MERCANCÍA GENERAL (Toneladas)
A5: Autoridad Portuaria | B5: ='Resumen general'!D6 -> Mes Diciembre | D5: ='Resumen general'!F6 -> Acumulado desde Enero | L5: ='Resumen general'!I4 -> Fecha: 23/11/2017
B6: ='Resumen general'!D7 -> 2014 | C6: ='Resumen general'!E7 -> 2015 | D6: ='Resumen general'!F7 -> 2014 | E6: ='Resumen general'!G7 -> 2015 | F6: Var. (%)
A7: A CORUÑA | B7: 47066 | C7: 91935 | D7: 1043612 | E7: 938311 | F7: =((E7*100)/D7)-100 -> -10.090053
A8: ALICANTE | B8: 90052 | C8: 107025 | D8: 1281580 | E8: 1286046 | F8: =((E8*100)/D8)-100 -> 0.3484761
A9: ALMERIA | B9: 58180 | C9: 53940 | D9: 652915 | E9: 604805 | F9: =((E9*100)/D9)-100 -> -7.3684936
A10: AVILES | B10: 148633 | C10: 69345 | D10: 1180706 | E10: 1217839 | F10: =((E10*100)/D10)-100 -> 3.1449827
A11: BAHIA DE ALGECIRAS | B11: 4698351 | C11: 5496965 | D11: 61183323 | E11: 62474996 | F11: =((E11*100)/D11)-100 -> 2.1111521
A12: BAHIA DE CADIZ | B12: 127263 | C12: 119535 | D12: 1476089 | E12: 1328185 | F12: =((E12*100)/D12)-100 -> -10.019992
A13: BALEARES | B13: 673837 | C13: 757663 | D13: 9872050 | E13: 10577093 | F13: =((E13*100)/D13)-100 -> 7.1418095
A14: BARCELONA | B14: 2146430 | C14: 2449087 | D14: 27600178 | E14: 29439846 | F14: =((E14*100)/D14)-100 -> 6.6654208
A15: BILBAO | B15: 928162 | C15: 916579 | D15: 9881454 | E15: 9671797 | F15: =((E15*100)/D15)-100 -> -2.1217222
A16: CARTAGENA | B16: 75112 | C16: 111349 | D16: 1218231 | E16: 1283558 | F16: =((E16*100)/D16)-100 -> 5.3624477
A17: CASTELLON | B17: 238894 | C17: 259729 | D17: 3001021 | E17: 3153682 | F17: =((E17*100)/D17)-100 -> 5.0869687
A18: CEUTA | B18: 77186 | C18: 84691 | D18: 963388 | E18: 996852 | F18: =((E18*100)/D18)-100 -> 3.4735745
... A34: VILAGARCIA | B34: 35797 | C34: 38555 | D34: 534386 | E34: 526609 | F34: =((E34*100)/D34)-100 -> -1.4553151
A35: Total | B35: =SUM(B7:B34) -> 17648437 | C35: =SUM(C7:C34) -> 18622622 | D35: =SUM(D7:D34) -> 217827889 | E35: =SUM(E7:E34) -> 224405073 | F35: =((E35*100)/D35)-100 -> 3.0194407
B37: =E6 -> 2015 | C37: =D6 -> 2014 | F37: =B37 -> 2015 | G37: =C37 -> 2014
A38: =A7 -> A CORUÑA | B38: =E7 -> 938311 | C38: =D7 -> 1043612 | D38: =_xlfn.RANK.EQ(B38,$B$38:$B$65)+COUNTIF($B$38:$B$65,B38)-1 -> 21 | E38: =INDEX($A$38:$B$65,MATCH(ROW()-37,$D$38:$D$65,0),1) -> VALENCIA | F38: =LOOKUP(E38,$A$38:$A$65,$B$38:$B$65) -> 63102097 | G38: =LOOKUP(E38,$A$38:$A$65,$C$38:$C$65) -> 58727773
A39: =A8 -> ALICANTE | B39: =E8 -> 1286046 | C39: =D8 -> 1281580 | D39: =_xlfn.RANK.EQ(B39,$B$38:$B$65)+COUNTIF($B$38:$B$65,B39)-1 -> 16 | E39: =INDEX($A$38:$B$65,MATCH(ROW()-37,$D$38:$D$65,0),1) -> BAHIA DE ALGECIRAS | F39: =LOOKUP(E39,$A$38:$A$65,$B$38:$B$65) -> 62474996 | G39: =LOOKUP(E39,$A$38:$A$65,$C$38:$C$65) -> 61183323
A40: =A9 -> ALMERIA | B40: =E9 -> 604805 | C40: =D9 -> 652915 | D40: =_xlfn.RANK.EQ(B40,$B$38:$B$65)+COUNTIF($B$38:$B$65,B40)-1 -> 25 | E40: =INDEX($A$38:$B$65,MATCH(ROW()-37,$D$38:$D$65,0),1) -> BARCELONA | F40: =LOOKUP(E40,$A$38:$A$65,$B$38:$B$65) -> 29439846 | G40: =LOOKUP(E40,$A$38:$A$65,$C$38:$C$65) -> 27600178
A41: =A10 -> AVILES | B41: =E10 -> 1217839 | C41: =D10 -> 1180706 | D41: =_xlfn.RANK.EQ(B41,$B$38:$B$65)+COUNTIF($B$38:$B$65,B41)-1 -> 18 | E41: =INDEX($A$38:$B$65,MATCH(ROW()-37,$D$38:$D$65,0),1) -> LAS PALMAS | F41: =LOOKUP(E41,$A$38:$A$65,$B$38:$B$65) -> 14111552 | G41: =LOOKUP(E41,$A$38:$A$65,$C$38:$C$65) -> 14747009
A42: =A11 -> BAHIA DE ALGECIRAS | B42: =E11 -> 62474996 | C42: =D11 -> 61183323 | D42: =_xlfn.RANK.EQ(B42,$B$38:$B$65)+COUNTIF($B$38:$B$65,B42)-1 -> 2 | E42: =INDEX($A$38:$B$65,MATCH(ROW()-37,$D$38:$D$65,0),1) -> BALEARES | F42: =LOOKUP(E42,$A$38:$A$65,$B$38:$B$65) -> 10577093 | G42: =LOOKUP(E42,$A$38:$A$65,$C$38:$C$65) -> 9872050
A43: =A12 -> BAHIA DE CADIZ | B43: =E12 -> 1328185 | C43: =D12 -> 1476089 | D43: =_xlfn.RANK.EQ(B43,$B$38:$B$65)+COUNTIF($B$38:$B$65,B43)-1 -> 15 | E43: =INDEX($A$38:$B$65,MATCH(ROW()-37,$D$38:$D$65,0),1) -> BILBAO | F43: =LOOKUP(E43,$A$38:$A$65,$B$38:$B$65) -> 9671797 | G43: =LOOKUP(E43,$A$38:$A$65,$C$38:$C$65) -> 9881454
A44: =A13 -> BALEARES | B44: =E13 -> 10577093 | C44: =D13 -> 9872050 | D44: =_xlfn.RANK.EQ(B44,$B$38:$B$65)+COUNTIF($B$38:$B$65,B44)-1 -> 5 | E44: =INDEX($A$38:$B$65,MATCH(ROW()-37,$D$38:$D$65,0),1) -> SANTA CRUZ DE TENERIFE | F44: =LOOKUP(E44,$A$38:$A$65,$B$38:$B$65) -> 5901512 | G44: =LOOKUP(E44,$A$38:$A$65,$C$38:$C$65) -> 5507142
A45: =A14 -> BARCELONA | B45: =E14 -> 29439846 | C45: =D14 -> 27600178 | D45: =_xlfn.RANK.EQ(B45,$B$38:$B$65)+COUNTIF($B$38:$B$65,B45)-1 -> 3 | E45: =INDEX($A$38:$B$65,MATCH(ROW()-37,$D$38:$D$65,0),1) -> VIGO | F45: =LOOKUP(E45,$A$38:$A$65,$B$38:$B$65) -> 3679943 | G45: =LOOKUP(E45,$A$38:$A$65,$C$38:$C$65) -> 3433570
A46: =A15 -> BILBAO | B46: =E15 -> 9671797 | C46: =D15 -> 9881454 | D46: =_xlfn.RANK.EQ(B46,$B$38:$B$65)+COUNTIF($B$38:$B$65,B46)-1 -> 6 | E46: =INDEX($A$38:$B$65,MATCH(ROW()-37,$D$38:$D$65,0),1) -> CASTELLON | F46: =LOOKUP(E46,$A$38:$A$65,$B$38:$B$65) -> 3153682 | G46: =LOOKUP(E46,$A$38:$A$65,$C$38:$C$65) -> 3001021
A47: =A16 -> CARTAGENA | B47: =E16 -> 1283558 | C47: =D16 -> 1218231 | D47: =_xlfn.RANK.EQ(B47,$B$38:$B$65)+COUNTIF($B$38:$B$65,B47)-1 -> 17 | E47: =INDEX($A$38:$B$65,MATCH(ROW()-37,$D$38:$D$65,0),1) -> SEVILLA | F47: =LOOKUP(E47,$A$38:$A$65,$B$38:$B$65) -> 2309007 | G47: =LOOKUP(E47,$A$38:$A$65,$C$38:$C$65) -> 2373633
A48: =A17 -> CASTELLON | B48: =E17 -> 3153682 | C48: =D17 -> 3001021 | D48: =_xlfn.RANK.EQ(B48,$B$38:$B$65)+COUNTIF($B$38:$B$65,B48)-1 -> 9 | E48: =INDEX($A$38:$B$65,MATCH(ROW()-37,$D$38:$D$65,0),1) -> TARRAGONA | F48: =LOOKUP(E48,$A$38:$A$65,$B$38:$B$65) -> 2237437 | G48: =LOOKUP(E48,$A$38:$A$65,$C$38:$C$65) -> 2676831
A49: =A18 -> CEUTA | B49: =E18 -> 996852 | C49: =D18 -> 963388 | D49: =_xlfn.RANK.EQ(B49,$B$38:$B$65)+COUNTIF($B$38:$B$65,B49)-1 -> 20 | E49: =INDEX($A$38:$B$65,MATCH(ROW()-37,$D$38:$D$65,0),1) -> PASAIA | F49: =LOOKUP(E49,$A$38:$A$65,$B$38:$B$65) -> 2044245 | G49: =LOOKUP(E49,$A$38:$A$65,$C$38:$C$65) -> 1943196
... A65: =A34 -> VILAGARCIA | B65: =E34 -> 526609 | C65: =D34 -> 534386 | D65: =_xlfn.RANK.EQ(B65,$B$38:$B$65)+COUNTIF($B$38:$B$65,B65)-1 -> 26 | E65: =INDEX($A$38:$B$65,MATCH(ROW()-37,$D$38:$D$65,0),1) -> MOTRIL | F65: =LOOKUP(E65,$A$38:$A$65,$B$38:$B$65) -> 341287 | G65: =LOOKUP(E65,$A$38:$A$65,$C$38:$C$65) -> 316794

Sheet Pesca
F1: 5. PESCA (Toneladas)
A5: Autoridad Portuaria | B5: ='Resumen general'!D6 -> Mes Diciembre | D5: ='Resumen general'!F6 -> Acumulado desde Enero | L5: ='Resumen general'!I4 -> Fecha: 23/11/2017
B6: ='Resumen general'!D7 -> 2014 | C6: ='Resumen general'!E7 -> 2015 | D6: ='Resumen general'!F7 -> 2014 | E6: ='Resumen general'!G7 -> 2015 | F6: Var. (%)
A7: A CORUÑA | B7: 3009 | C7: 1481 | D7: 56473 | E7: 43739 | F7: =((E7*100)/D7)-100 -> -22.548829
A8: ALICANTE | B8: 0 | C8: 18 | D8: 85 | E8: 227 | F8: =((E8*100)/D8)-100 -> 167.05882
A9: ALMERIA | B9: 535 | C9: 222 | D9: 4004 | E9: 2717 | F9: =((E9*100)/D9)-100 -> -32.142857
A10: AVILES | B10: 802 | C10: 1057 | D10: 15894 | E10: 16673 | F10: =((E10*100)/D10)-100 -> 4.9012206
A11: BAHIA DE ALGECIRAS | B11: 102 | C11: 34 | D11: 1246 | E11: 1102 | F11: =((E11*100)/D11)-100 -> -11.556982
A12: BAHIA DE CADIZ | B12: 427 | C12: 977 | D12: 13653 | E12: 12926 | F12: =((E12*100)/D12)-100 -> -5.324837
A13: BALEARES | B13: 167 | C13: 886 | D13: 3177 | E13: 3057 | F13: =((E13*100)/D13)-100 -> -3.7771483
A14: BARCELONA | B14: 38 | C14: 62 | D14: 2514 | E14: 3378 | F14: =((E14*100)/D14)-100 -> 34.367542
A15: BILBAO | B15: 0 | C15: 0 | D15: 0 | E15: 0 | F15: =((E15*100)/D15)-100 -> #DIV/0!
A16: CARTAGENA | B16: 34 | C16: 30 | D16: 631 | E16: 598 | F16: =((E16*100)/D16)-100 -> -5.229794
A17: CASTELLON | B17: 144 | C17: 130 | D17: 4483 | E17: 4138 | F17: =((E17*100)/D17)-100 -> -7.6957395
A18: CEUTA | B18: 0 | C18: 40 | D18: 18 | E18: 48 | F18: =((E18*100)/D18)-100 -> 166.66667
... A34: VILAGARCIA | B34: 0 | C34: 0 | D34: 0 | E34: 0 | F34: =((E34*100)/D34)-100 -> #DIV/0!
A35: Total | B35: =SUM(B7:B34) -> 20052 | C35: =SUM(C7:C34) -> 20990 | D35: =SUM(D7:D34) -> 237200 | E35: =SUM(E7:E34) -> 220130 | F35: =((E35*100)/D35)-100 -> -7.1964587
B37: =E6 -> 2015 | C37: =D6 -> 2014 | F37: =B37 -> 2015 | G37: =C37 -> 2014
A38: =A7 -> A CORUÑA | B38: =E7 -> 43739 | C38: =D7 -> 56473 | D38: =_xlfn.RANK.EQ(B38,$B$38:$B$65)+COUNTIF($B$38:$B$65,B38)-1 -> 2 | E38: =INDEX($A$38:$B$65,MATCH(ROW()-37,$D$38:$D$65,0),1) -> VIGO | F38: =LOOKUP(E38,$A$38:$A$65,$B$38:$B$65) -> 77863 | G38: =LOOKUP(E38,$A$38:$A$65,$C$38:$C$65) -> 79979
A39: =A8 -> ALICANTE | B39: =E8 -> 227 | C39: =D8 -> 85 | D39: =_xlfn.RANK.EQ(B39,$B$38:$B$65)+COUNTIF($B$38:$B$65,B39)-1 -> 23 | E39: =INDEX($A$38:$B$65,MATCH(ROW()-37,$D$38:$D$65,0),1) -> A CORUÑA | F39: =LOOKUP(E39,$A$38:$A$65,$B$38:$B$65) -> 43739 | G39: =LOOKUP(E39,$A$38:$A$65,$C$38:$C$65) -> 56473
A40: =A9 -> ALMERIA | B40: =E9 -> 2717 | C40: =D9 -> 4004 | D40: =_xlfn.RANK.EQ(B40,$B$38:$B$65)+COUNTIF($B$38:$B$65,B40)-1 -> 13 | E40: =INDEX($A$38:$B$65,MATCH(ROW()-37,$D$38:$D$65,0),1) -> PASAIA | F40: =LOOKUP(E40,$A$38:$A$65,$B$38:$B$65) -> 23216 | G40: =LOOKUP(E40,$A$38:$A$65,$C$38:$C$65) -> 22737
A41: =A10 -> AVILES | B41: =E10 -> 16673 | C41: =D10 -> 15894 | D41: =_xlfn.RANK.EQ(B41,$B$38:$B$65)+COUNTIF($B$38:$B$65,B41)-1 -> 4 | E41: =INDEX($A$38:$B$65,MATCH(ROW()-37,$D$38:$D$65,0),1) -> AVILES | F41: =LOOKUP(E41,$A$38:$A$65,$B$38:$B$65) -> 16673 | G41: =LOOKUP(E41,$A$38:$A$65,$C$38:$C$65) -> 15894
A42: =A11 -> BAHIA DE ALGECIRAS | B42: =E11 -> 1102 | C42: =D11 -> 1246 | D42: =_xlfn.RANK.EQ(B42,$B$38:$B$65)+COUNTIF($B$38:$B$65,B42)-1 -> 19 | E42: =INDEX($A$38:$B$65,MATCH(ROW()-37,$D$38:$D$65,0),1) -> BAHIA DE CADIZ | F42: =LOOKUP(E42,$A$38:$A$65,$B$38:$B$65) -> 12926 | G42: =LOOKUP(E42,$A$38:$A$65,$C$38:$C$65) -> 13653
A43: =A12 -> BAHIA DE CADIZ | B43: =E12 -> 12926 | C43: =D12 -> 13653 | D43: =_xlfn.RANK.EQ(B43,$B$38:$B$65)+COUNTIF($B$38:$B$65,B43)-1 -> 5 | E43: =INDEX($A$38:$B$65,MATCH(ROW()-37,$D$38:$D$65,0),1) -> GIJON | F43: =LOOKUP(E43,$A$38:$A$65,$B$38:$B$65) -> 6781 | G43: =LOOKUP(E43,$A$38:$A$65,$C$38:$C$65) -> 6700
A44: =A13 -> BALEARES | B44: =E13 -> 3057 | C44: =D13 -> 3177 | D44: =_xlfn.RANK.EQ(B44,$B$38:$B$65)+COUNTIF($B$38:$B$65,B44)-1 -> 12 | E44: =INDEX($A$38:$B$65,MATCH(ROW()-37,$D$38:$D$65,0),1) -> SANTA CRUZ DE TENERIFE | F44: =LOOKUP(E44,$A$38:$A$65,$B$38:$B$65) -> 5469 | G44: =LOOKUP(E44,$A$38:$A$65,$C$38:$C$65) -> 6526
A45: =A14 -> BARCELONA | B45: =E14 -> 3378 | C45: =D14 -> 2514 | D45: =_xlfn.RANK.EQ(B45,$B$38:$B$65)+COUNTIF($B$38:$B$65,B45)-1 -> 11 | E45: =INDEX($A$38:$B$65,MATCH(ROW()-37,$D$38:$D$65,0),1) -> SANTANDER | F45: =LOOKUP(E45,$A$38:$A$65,$B$38:$B$65) -> 4215 | G45: =LOOKUP(E45,$A$38:$A$65,$C$38:$C$65) -> 3876
A46: =A15 -> BILBAO | B46: =E15 -> 0 | C46: =D15 -> 0 | D46: =_xlfn.RANK.EQ(B46,$B$38:$B$65)+COUNTIF($B$38:$B$65,B46)-1 -> 28 | E46: =INDEX($A$38:$B$65,MATCH(ROW()-37,$D$38:$D$65,0),1) -> CASTELLON | F46: =LOOKUP(E46,$A$38:$A$65,$B$38:$B$65) -> 4138 | G46: =LOOKUP(E46,$A$38:$A$65,$C$38:$C$65) -> 4483
A47: =A16 -> CARTAGENA | B47: =E16 -> 598 | C47: =D16 -> 631 | D47: =_xlfn.RANK.EQ(B47,$B$38:$B$65)+COUNTIF($B$38:$B$65,B47)-1 -> 21 | E47: =INDEX($A$38:$B$65,MATCH(ROW()-37,$D$38:$D$65,0),1) -> TARRAGONA | F47: =LOOKUP(E47,$A$38:$A$65,$B$38:$B$65) -> 4005 | G47: =LOOKUP(E47,$A$38:$A$65,$C$38:$C$65) -> 4887
A48: =A17 -> CASTELLON | B48: =E17 -> 4138 | C48: =D17 -> 4483 | D48: =_xlfn.RANK.EQ(B48,$B$38:$B$65)+COUNTIF($B$38:$B$65,B48)-1 -> 9 | E48: =INDEX($A$38:$B$65,MATCH(ROW()-37,$D$38:$D$65,0),1) -> BARCELONA | F48: =LOOKUP(E48,$A$38:$A$65,$B$38:$B$65) -> 3378 | G48: =LOOKUP(E48,$A$38:$A$65,$C$38:$C$65) -> 2514
A49: =A18 -> CEUTA | B49: =E18 -> 48 | C49: =D18 -> 18 | D49: =_xlfn.RANK.EQ(B49,$B$38:$B$65)+COUNTIF($B$38:$B$65,B49)-1 -> 24 | E49: =INDEX($A$38:$B$65,MATCH(ROW()-37,$D$38:$D$65,0),1) -> BALEARES | F49: =LOOKUP(E49,$A$38:$A$65,$B$38:$B$65) -> 3057 | G49: =LOOKUP(E49,$A$38:$A$65,$C$38:$C$65) -> 3177
... A65: =A34 -> VILAGARCIA | B65: =E34 -> 0 | C65: =D34 -> 0 | D65: =_xlfn.RANK.EQ(B65,$B$38:$B$65)+COUNTIF($B$38:$B$65,B65)-1 -> 28 | E65: =INDEX($A$38:$B$65,MATCH(ROW()-37,$D$38:$D$65,0),1) -> BILBAO | F65: =LOOKUP(E65,$A$38:$A$65,$B$38:$B$65) -> 0 | G65: =LOOKUP(E65,$A$38:$A$65,$C$38:$C$65) -> 0

Sheet Avituallamiento
F1: 6. AVITUALLAMIENTO (Toneladas)
A5: Autoridad Portuaria | B5: ='Resumen general'!D6 -> Mes Diciembre | D5: ='Resumen general'!F6 -> Acumulado desde Enero | L5: ='Resumen general'!I4 -> Fecha: 23/11/2017
B6: ='Resumen general'!D7 -> 2014 | C6: ='Resumen general'!E7 -> 2015 | D6: ='Resumen general'!F7 -> 2014 | E6: ='Resumen general'!G7 -> 2015 | F6: Var. (%)
A7: A CORUÑA | B7: 20243 | C7: 28851 | D7: 79730 | E7: 73466 | F7: =((E7*100)/D7)-100 -> -7.8565157
A8: ALICANTE | B8: 2088 | C8: 2233 | D8: 10944 | E8: 29832 | F8: =((E8*100)/D8)-100 -> 172.58772
A9: ALMERIA | B9: 5508 | C9: 5450 | D9: 65108 | E9: 71750 | F9: =((E9*100)/D9)-100 -> 10.201511
A10: AVILES | B10: 2894 | C10: 28469 | D10: 40302 | E10: 48094 | F10: =((E10*100)/D10)-100 -> 19.334028
A11: BAHIA DE ALGECIRAS | B11: 276521 | C11: 282213 | D11: 3718475 | E11: 3340394 | F11: =((E11*100)/D11)-100 -> -10.167636
A12: BAHIA DE CADIZ | B12: 11207 | C12: 8744 | D12: 119764 | E12: 149547 | F12: =((E12*100)/D12)-100 -> 24.868074
A13: BALEARES | B13: 6406 | C13: 10699 | D13: 211958 | E13: 205456 | F13: =((E13*100)/D13)-100 -> -3.0675889
A14: BARCELONA | B14: 39722 | C14: 64122 | D14: 1030429 | E14: 1125112 | F14: =((E14*100)/D14)-100 -> 9.1886971
A15: BILBAO | B15: 10202 | C15: 8996 | D15: 126392 | E15: 115903 | F15: =((E15*100)/D15)-100 -> -8.2987847
A16: CARTAGENA | B16: 4847 | C16: 9955 | D16: 67066 | E16: 90932 | F16: =((E16*100)/D16)-100 -> 35.585841
A17: CASTELLON | B17: 2369 | C17: 1562 | D17: 23332 | E17: 25282 | F17: =((E17*100)/D17)-100 -> 8.3576204
A18: CEUTA | B18: 44145 | C18: 53305 | D18: 548990 | E18: 460680 | F18: =((E18*100)/D18)-100 -> -16.085903
... A34: VILAGARCIA | B34: 549 | C34: 580 | D34: 5805 | E34: 4810 | F34: =((E34*100)/D34)-100 -> -17.140396
A35: Total | B35: =SUM(B7:B34) -> 828219 | C35: =SUM(C7:C34) -> 954579 | D35: =SUM(D7:D34) -> 10100631 | E35: =SUM(E7:E34) -> 10182471 | F35: =((E35*100)/D35)-100 -> 0.81024641
B37: =E6 -> 2015 | C37: 954579 | F37: =B37 -> 2015 | G37: =C37 -> 954579
A38: =A7 -> A CORUÑA | B38: =E7 -> 73466 | C38: =D7 -> 79730 | D38: =_xlfn.RANK.EQ(B38,$B$38:$B$65)+COUNTIF($B$38:$B$65,B38)-1 -> 15 | E38: =INDEX($A$38:$B$65,MATCH(ROW()-37,$D$38:$D$65,0),1) -> BAHIA DE ALGECIRAS | F38: =LOOKUP(E38,$A$38:$A$65,$B$38:$B$65) -> 3340394 | G38: =LOOKUP(E38,$A$38:$A$65,$C$38:$C$65) -> 3718475
A39: =A8 -> ALICANTE | B39: =E8 -> 29832 | C39: =D8 -> 10944 | D39: =_xlfn.RANK.EQ(B39,$B$38:$B$65)+COUNTIF($B$38:$B$65,B39)-1 -> 23 | E39: =INDEX($A$38:$B$65,MATCH(ROW()-37,$D$38:$D$65,0),1) -> LAS PALMAS | F39: =LOOKUP(E39,$A$38:$A$65,$B$38:$B$65) -> 2596612 | G39: =LOOKUP(E39,$A$38:$A$65,$C$38:$C$65) -> 2145694
A40: =A9 -> ALMERIA | B40: =E9 -> 71750 | C40: =D9 -> 65108 | D40: =_xlfn.RANK.EQ(B40,$B$38:$B$65)+COUNTIF($B$38:$B$65,B40)-1 -> 16 | E40: =INDEX($A$38:$B$65,MATCH(ROW()-37,$D$38:$D$65,0),1) -> BARCELONA | F40: =LOOKUP(E40,$A$38:$A$65,$B$38:$B$65) -> 1125112 | G40: =LOOKUP(E40,$A$38:$A$65,$C$38:$C$65) -> 1030429
A41: =A10 -> AVILES | B41: =E10 -> 48094 | C41: =D10 -> 40302 | D41: =_xlfn.RANK.EQ(B41,$B$38:$B$65)+COUNTIF($B$38:$B$65,B41)-1 -> 19 | E41: =INDEX($A$38:$B$65,MATCH(ROW()-37,$D$38:$D$65,0),1) -> SANTA CRUZ DE TENERIFE | F41: =LOOKUP(E41,$A$38:$A$65,$B$38:$B$65) -> 569417 | G41: =LOOKUP(E41,$A$38:$A$65,$C$38:$C$65) -> 723916
A42: =A11 -> BAHIA DE ALGECIRAS | B42: =E11 -> 3340394 | C42: =D11 -> 3718475 | D42: =_xlfn.RANK.EQ(B42,$B$38:$B$65)+COUNTIF($B$38:$B$65,B42)-1 -> 1 | E42: =INDEX($A$38:$B$65,MATCH(ROW()-37,$D$38:$D$65,0),1) -> VALENCIA | F42: =LOOKUP(E42,$A$38:$A$65,$B$38:$B$65) -> 480750 | G42: =LOOKUP(E42,$A$38:$A$65,$C$38:$C$65) -> 388600
A43: =A12 -> BAHIA DE CADIZ | B43: =E12 -> 149547 | C43: =D12 -> 119764 | D43: =_xlfn.RANK.EQ(B43,$B$38:$B$65)+COUNTIF($B$38:$B$65,B43)-1 -> 9 | E43: =INDEX($A$38:$B$65,MATCH(ROW()-37,$D$38:$D$65,0),1) -> CEUTA | F43: =LOOKUP(E43,$A$38:$A$65,$B$38:$B$65) -> 460680 | G43: =LOOKUP(E43,$A$38:$A$65,$C$38:$C$65) -> 548990
A44: =A13 -> BALEARES | B44: =E13 -> 205456 | C44: =D13 -> 211958 | D44: =_xlfn.RANK.EQ(B44,$B$38:$B$65)+COUNTIF($B$38:$B$65,B44)-1 -> 7 | E44: =INDEX($A$38:$B$65,MATCH(ROW()-37,$D$38:$D$65,0),1) -> BALEARES | F44: =LOOKUP(E44,$A$38:$A$65,$B$38:$B$65) -> 205456 | G44: =LOOKUP(E44,$A$38:$A$65,$C$38:$C$65) -> 211958
A45: =A14 -> BARCELONA | B45: =E14 -> 1125112 | C45: =D14 -> 1030429 | D45: =_xlfn.RANK.EQ(B45,$B$38:$B$65)+COUNTIF($B$38:$B$65,B45)-1 -> 3 | E45: =INDEX($A$38:$B$65,MATCH(ROW()-37,$D$38:$D$65,0),1) -> VIGO | F45: =LOOKUP(E45,$A$38:$A$65,$B$38:$B$65) -> 187771 | G45: =LOOKUP(E45,$A$38:$A$65,$C$38:$C$65) -> 209340
A46: =A15 -> BILBAO | B46: =E15 -> 115903 | C46: =D15 -> 126392 | D46: =_xlfn.RANK.EQ(B46,$B$38:$B$65)+COUNTIF($B$38:$B$65,B46)-1 -> 11 | E46: =INDEX($A$38:$B$65,MATCH(ROW()-37,$D$38:$D$65,0),1) -> BAHIA DE CADIZ | F46: =LOOKUP(E46,$A$38:$A$65,$B$38:$B$65) -> 149547 | G46: =LOOKUP(E46,$A$38:$A$65,$C$38:$C$65) -> 119764
A47: =A16 -> CARTAGENA | B47: =E16 -> 90932 | C47: =D16 -> 67066 | D47: =_xlfn.RANK.EQ(B47,$B$38:$B$65)+COUNTIF($B$38:$B$65,B47)-1 -> 13 | E47: =INDEX($A$38:$B$65,MATCH(ROW()-37,$D$38:$D$65,0),1) -> HUELVA | F47: =LOOKUP(E47,$A$38:$A$65,$B$38:$B$65) -> 140844 | G47: =LOOKUP(E47,$A$38:$A$65,$C$38:$C$65) -> 140882
A48: =A17 -> CASTELLON | B48: =E17 -> 25282 | C48: =D17 -> 23332 | D48: =_xlfn.RANK.EQ(B48,$B$38:$B$65)+COUNTIF($B$38:$B$65,B48)-1 -> 25 | E48: =INDEX($A$38:$B$65,MATCH(ROW()-37,$D$38:$D$65,0),1) -> BILBAO | F48: =LOOKUP(E48,$A$38:$A$65,$B$38:$B$65) -> 115903 | G48: =LOOKUP(E48,$A$38:$A$65,$C$38:$C$65) -> 126392
A49: =A18 -> CEUTA | B49: =E18 -> 460680 | C49: =D18 -> 548990 | D49: =_xlfn.RANK.EQ(B49,$B$38:$B$65)+COUNTIF($B$38:$B$65,B49)-1 -> 6 | E49: =INDEX($A$38:$B$65,MATCH(ROW()-37,$D$38:$D$65,0),1) -> GIJON | F49: =LOOKUP(E49,$A$38:$A$65,$B$38:$B$65) -> 92420 | G49: =LOOKUP(E49,$A$38:$A$65,$C$38:$C$65) -> 92242
... A65: =A34 -> VILAGARCIA | B65: =E34 -> 4810 | C65: =D34 -> 5805 | D65: =_xlfn.RANK.EQ(B65,$B$38:$B$65)+COUNTIF($B$38:$B$65,B65)-1 -> 28 | E65: =INDEX($A$38:$B$65,MATCH(ROW()-37,$D$38:$D$65,0),1) -> VILAGARCIA | F65: =LOOKUP(E65,$A$38:$A$65,$B$38:$B$65) -> 4810 | G65: =LOOKUP(E65,$A$38:$A$65,$C$38:$C$65) -> 5805

Sheet Mercancías tránsito
F1: 7. MERCANCÍAS EN TRÁNSITO (Toneladas)
A5: Autoridad Portuaria | B5: ='Resumen general'!D6 -> Mes Diciembre | D5: ='Resumen general'!F6 -> Acumulado desde Enero | L5: ='Resumen general'!I4 -> Fecha: 23/11/2017
B6: ='Resumen general'!D7 -> 2014 | C6: ='Resumen general'!E7 -> 2015 | D6: ='Resumen general'!F7 -> 2014 | E6: ='Resumen general'!G7 -> 2015 | F6: Var. (%)
A7: A CORUÑA | B7: 0 | C7: 0 | D7: 190 | E7: 2500 | F7: =((E7*100)/D7)-100 -> 1215.7895
A8: ALICANTE | B8: 37 | C8: 2830.56 | D8: 18177 | E8: 5526.56 | F8: =((E8*100)/D8)-100 -> -69.595863
A9: ALMERIA | B9: 0 | C9: 0 | D9: 0 | E9: 0 | F9: =((E9*100)/D9)-100 -> #DIV/0!
A10: AVILES | B10: 0 | C10: 0 | D10: 0 | E10: 18826.64 | F10: =((E10*100)/D10)-100 -> #DIV/0!
A11: BAHIA DE ALGECIRAS | B11: 4744743 | C11: 5310534 | D11: 59832599 | E11: 61928104 | F11: =((E11*100)/D11)-100 -> 3.5022798
A12: BAHIA DE CADIZ | B12: 12418 | C12: 18663 | D12: 244771 | E12: 360303 | F12: =((E12*100)/D12)-100 -> 47.200036
A13: BALEARES | B13: 1918 | C13: 0 | D13: 0 | E13: 0 | F13: =((E13*100)/D13)-100 -> #DIV/0!
A14: BARCELONA | B14: 554472 | C14: 606843 | D14: 8375758 | E14: 7675451 | F14: =((E14*100)/D14)-100 -> -8.3611179
A15: BILBAO | B15: 11564 | C15: 5761 | D15: 33592 | E15: 30002 | F15: =((E15*100)/D15)-100 -> -10.687068
A16: CARTAGENA | B16: 146548 | C16: 10600 | D16: 277391 | E16: 167190 | F16: =((E16*100)/D16)-100 -> -39.727677
A17: CASTELLON | B17: 2540 | C17: 5341 | D17: 118692 | E17: 108294 | F17: =((E17*100)/D17)-100 -> -8.7604893
A18: CEUTA | B18: 0 | C18: 0 | D18: 0 | E18: 0 | F18: =((E18*100)/D18)-100 -> #DIV/0!
... A34: VILAGARCIA | B34: 0 | C34: 99.83 | D34: 21883 | E34: 198.83 | F34: =((E34*100)/D34)-100 -> -99.091395
A35: Total | B35: =SUM(B7:B34) -> 9745527 | C35: =SUM(C7:C34) -> 9603069.8 | D35: =SUM(D7:D34) -> 115787002 | E35: =SUM(E7:E34) -> 1.186056e+08 | F35: =((E35*100)/D35)-100 -> 2.4342935
B37: =E6 -> 2015 | C37: =D6 -> 2014 | F37: =B37 -> 2015 | G37: =C37 -> 2014
A38: =A7 -> A CORUÑA | B38: =E7 -> 2500 | C38: =D7 -> 190 | D38: =_xlfn.RANK.EQ(B38,$B$38:$B$65)+COUNTIF($B$38:$B$65,B38)-1 -> 21 | E38: =INDEX($A$38:$B$65,MATCH(ROW()-37,$D$38:$D$65,0),1) -> BAHIA DE ALGECIRAS | F38: =LOOKUP(E38,$A$38:$A$65,$B$38:$B$65) -> 61928104 | G38: =LOOKUP(E38,$A$38:$A$65,$C$38:$C$65) -> 59832599
A39: =A8 -> ALICANTE | B39: =E8 -> 5526.56 | C39: =D8 -> 18177 | D39: =_xlfn.RANK.EQ(B39,$B$38:$B$65)+COUNTIF($B$38:$B$65,B39)-1 -> 19 | E39: =INDEX($A$38:$B$65,MATCH(ROW()-37,$D$38:$D$65,0),1) -> VALENCIA | F39: =LOOKUP(E39,$A$38:$A$65,$B$38:$B$65) -> 32084550 | G39: =LOOKUP(E39,$A$38:$A$65,$C$38:$C$65) -> 30604034
A40: =A9 -> ALMERIA | B40: =E9 -> 0 | C40: =D9 -> 0 | D40: =_xlfn.RANK.EQ(B40,$B$38:$B$65)+COUNTIF($B$38:$B$65,B40)-1 -> 28 | E40: =INDEX($A$38:$B$65,MATCH(ROW()-37,$D$38:$D$65,0),1) -> LAS PALMAS | F40: =LOOKUP(E40,$A$38:$A$65,$B$38:$B$65) -> 8956695 | G40: =LOOKUP(E40,$A$38:$A$65,$C$38:$C$65) -> 8778058
A41: =A10 -> AVILES | B41: =E10 -> 18826.64 | C41: =D10 -> 0 | D41: =_xlfn.RANK.EQ(B41,$B$38:$B$65)+COUNTIF($B$38:$B$65,B41)-1 -> 15 | E41: =INDEX($A$38:$B$65,MATCH(ROW()-37,$D$38:$D$65,0),1) -> BARCELONA | F41: =LOOKUP(E41,$A$38:$A$65,$B$38:$B$65) -> 7675451 | G41: =LOOKUP(E41,$A$38:$A$65,$C$38:$C$65) -> 8375758
A42: =A11 -> BAHIA DE ALGECIRAS | B42: =E11 -> 61928104 | C42: =D11 -> 59832599 | D42: =_xlfn.RANK.EQ(B42,$B$38:$B$65)+COUNTIF($B$38:$B$65,B42)-1 -> 1 | E42: =INDEX($A$38:$B$65,MATCH(ROW()-37,$D$38:$D$65,0),1) -> TARRAGONA | F42: =LOOKUP(E42,$A$38:$A$65,$B$38:$B$65) -> 5125517 | G42: =LOOKUP(E42,$A$38:$A$65,$C$38:$C$65) -> 4652925
A43: =A12 -> BAHIA DE CADIZ | B43: =E12 -> 360303 | C43: =D12 -> 244771 | D43: =_xlfn.RANK.EQ(B43,$B$38:$B$65)+COUNTIF($B$38:$B$65,B43)-1 -> 7 | E43: =INDEX($A$38:$B$65,MATCH(ROW()-37,$D$38:$D$65,0),1) -> HUELVA | F43: =LOOKUP(E43,$A$38:$A$65,$B$38:$B$65) -> 1564880.2 | G43: =LOOKUP(E43,$A$38:$A$65,$C$38:$C$65) -> 1118464
A44: =A13 -> BALEARES | B44: =E13 -> 0 | C44: =D13 -> 0 | D44: =_xlfn.RANK.EQ(B44,$B$38:$B$65)+COUNTIF($B$38:$B$65,B44)-1 -> 28 | E44: =INDEX($A$38:$B$65,MATCH(ROW()-37,$D$38:$D$65,0),1) -> BAHIA DE CADIZ | F44: =LOOKUP(E44,$A$38:$A$65,$B$38:$B$65) -> 360303 | G44: =LOOKUP(E44,$A$38:$A$65,$C$38:$C$65) -> 244771
A45: =A14 -> BARCELONA | B45: =E14 -> 7675451 | C45: =D14 -> 8375758 | D45: =_xlfn.RANK.EQ(B45,$B$38:$B$65)+COUNTIF($B$38:$B$65,B45)-1 -> 4 | E45: =INDEX($A$38:$B$65,MATCH(ROW()-37,$D$38:$D$65,0),1) -> GIJON | F45: =LOOKUP(E45,$A$38:$A$65,$B$38:$B$65) -> 282610 | G45: =LOOKUP(E45,$A$38:$A$65,$C$38:$C$65) -> 1265123
A46: =A15 -> BILBAO | B46: =E15 -> 30002 | C46: =D15 -> 33592 | D46: =_xlfn.RANK.EQ(B46,$B$38:$B$65)+COUNTIF($B$38:$B$65,B46)-1 -> 13 | E46: =INDEX($A$38:$B$65,MATCH(ROW()-37,$D$38:$D$65,0),1) -> VIGO | F46: =LOOKUP(E46,$A$38:$A$65,$B$38:$B$65) -> 205368 | G46: =LOOKUP(E46,$A$38:$A$65,$C$38:$C$65) -> 200743
A47: =A16 -> CARTAGENA | B47: =E16 -> 167190 | C47: =D16 -> 277391 | D47: =_xlfn.RANK.EQ(B47,$B$38:$B$65)+COUNTIF($B$38:$B$65,B47)-1 -> 10 | E47: =INDEX($A$38:$B$65,MATCH(ROW()-37,$D$38:$D$65,0),1) -> CARTAGENA | F47: =LOOKUP(E47,$A$38:$A$65,$B$38:$B$65) -> 167190 | G47: =LOOKUP(E47,$A$38:$A$65,$C$38:$C$65) -> 277391
A48: =A17 -> CASTELLON | B48: =E17 -> 108294 | C48: =D17 -> 118692 | D48: =_xlfn.RANK.EQ(B48,$B$38:$B$65)+COUNTIF($B$38:$B$65,B48)-1 -> 11 | E48: =INDEX($A$38:$B$65,MATCH(ROW()-37,$D$38:$D$65,0),1) -> CASTELLON | F48: =LOOKUP(E48,$A$38:$A$65,$B$38:$B$65) -> 108294 | G48: =LOOKUP(E48,$A$38:$A$65,$C$38:$C$65) -> 118692
A49: =A18 -> CEUTA | B49: =E18 -> 0 | C49: =D18 -> 0 | D49: =_xlfn.RANK.EQ(B49,$B$38:$B$65)+COUNTIF($B$38:$B$65,B49)-1 -> 28 | E49: =INDEX($A$38:$B$65,MATCH(ROW()-37,$D$38:$D$65,0),1) -> SANTA CRUZ DE TENERIFE | F49: =LOOKUP(E49,$A$38:$A$65,$B$38:$B$65) -> 30693 | G49: =LOOKUP(E49,$A$38:$A$65,$C$38:$C$65) -> 33830
... A65: =A34 -> VILAGARCIA | B65: =E34 -> 198.83 | C65: =D34 -> 21883 | D65: =_xlfn.RANK.EQ(B65,$B$38:$B$65)+COUNTIF($B$38:$B$65,B65)-1 -> 22 | E65: =INDEX($A$38:$B$65,MATCH(ROW()-37,$D$38:$D$65,0),1) -> ALMERIA | F65: =LOOKUP(E65,$A$38:$A$65,$B$38:$B$65) -> 0 | G65: =LOOKUP(E65,$A$38:$A$65,$C$38:$C$65) -> 0

Sheet Mercan. contene. tránsito
F1: 7.1. MERCANCÍAS EN CONTENEDORES EN TRÁNSITO (Toneladas)
A5: Autoridad Portuaria | B5: ='Resumen general'!D6 -> Mes Diciembre | D5: ='Resumen general'!F6 -> Acumulado desde Enero | L5: ='Resumen general'!I4 -> Fecha: 23/11/2017
B6: ='Resumen general'!D7 -> 2014 | C6: ='Resumen general'!E7 -> 2015 | D6: ='Resumen general'!F7 -> 2014 | E6: ='Resumen general'!G7 -> 2015 | F6: Var. (%)
A7: A CORUÑA | B7: 0 | C7: 0 | D7: 190 | E7: 0 | F7: =((E7*100)/D7)-100 -> -100
A8: ALICANTE | B8: 37 | C8: 2831 | D8: 18177 | E8: 5527 | F8: =((E8*100)/D8)-100 -> -69.593442
A9: ALMERIA | B9: 0 | C9: 0 | D9: 0 | E9: 0 | F9: =((E9*100)/D9)-100 -> #DIV/0!
A10: AVILES | B10: 0 | C10: 0 | D10: 0 | E10: 0 | F10: =((E10*100)/D10)-100 -> #DIV/0!
A11: BAHIA DE ALGECIRAS | B11: 3850600 | C11: 4503147 | D11: 50915107 | E11: 51565711 | F11: =((E11*100)/D11)-100 -> 1.2778211
A12: BAHIA DE CADIZ | B12: 663 | C12: 0 | D12: 10091 | E12: 0 | F12: =((E12*100)/D12)-100 -> -100
A13: BALEARES | B13: 0 | C13: 0 | D13: 107 | E13: 0 | F13: =((E13*100)/D13)-100 -> -100
A14: BARCELONA | B14: 237329 | C14: 277591 | D14: 3061426 | E14: 3013634 | F14: =((E14*100)/D14)-100 -> -1.5611026
A15: BILBAO | B15: 2831 | C15: 5761 | D15: 22809 | E15: 29387 | F15: =((E15*100)/D15)-100 -> 28.839493
A16: CARTAGENA | B16: 0 | C16: 10600 | D16: 1007 | E16: 10600 | F16: =((E16*100)/D16)-100 -> 952.63158
A17: CASTELLON | B17: 2540 | C17: 8340 | D17: 114528 | E17: 108257 | F17: =((E17*100)/D17)-100 -> -5.4755169
A18: CEUTA | B18: 0 | C18: 0 | D18: 0 | E18: 0 | F18: =((E18*100)/D18)-100 -> #DIV/0!
... A34: VILAGARCIA | B34: 0 | C34: 100 | D34: 94 | E34: 199 | F34: =((E34*100)/D34)-100 -> 111.70213
A35: Total | B35: =SUM(B7:B34) -> 7511546 | C35: =SUM(C7:C34) -> 8006050 | D35: =SUM(D7:D34) -> 93513888 | E35: =SUM(E7:E34) -> 93947360 | F35: =((E35*100)/D35)-100 -> 0.46353757
B37: =E6 -> 2015 | C37: =D6 -> 2014 | F37: =B37 -> 2015 | G37: =C37 -> 2014
A38: =A7 -> A CORUÑA | B38: =E7 -> 0 | C38: =D7 -> 190 | D38: =_xlfn.RANK.EQ(B38,$B$38:$B$65)+COUNTIF($B$38:$B$65,B38)-1 -> 28 | E38: =INDEX($A$38:$B$65,MATCH(ROW()-37,$D$38:$D$65,0),1) -> BAHIA DE ALGECIRAS | F38: =LOOKUP(E38,$A$38:$A$65,$B$38:$B$65) -> 51565711 | G38: =LOOKUP(E38,$A$38:$A$65,$C$38:$C$65) -> 50915107
A39: =A8 -> ALICANTE | B39: =E8 -> 5527 | C39: =D8 -> 18177 | D39: =_xlfn.RANK.EQ(B39,$B$38:$B$65)+COUNTIF($B$38:$B$65,B39)-1 -> 13 | E39: =INDEX($A$38:$B$65,MATCH(ROW()-37,$D$38:$D$65,0),1) -> VALENCIA | F39: =LOOKUP(E39,$A$38:$A$65,$B$38:$B$65) -> 31947401 | G39: =LOOKUP(E39,$A$38:$A$65,$C$38:$C$65) -> 30518642
A40: =A9 -> ALMERIA | B40: =E9 -> 0 | C40: =D9 -> 0 | D40: =_xlfn.RANK.EQ(B40,$B$38:$B$65)+COUNTIF($B$38:$B$65,B40)-1 -> 28 | E40: =INDEX($A$38:$B$65,MATCH(ROW()-37,$D$38:$D$65,0),1) -> LAS PALMAS | F40: =LOOKUP(E40,$A$38:$A$65,$B$38:$B$65) -> 6799324 | G40: =LOOKUP(E40,$A$38:$A$65,$C$38:$C$65) -> 7729643
