Workbook
Name CABECERA: Cruceros!$A$5:$F$6
Name CONCEPTO: 'Resumen general'!$A$6
Name LblRes00_Acum: 'Resumen general'!$F$6:$G$6
Name LblRes00_Mes: 'Resumen general'!$D$6:$E$6
Name LblRes00_Var: 'Resumen general'!$H$6:$I$6
Name LblRes01_1_Acum: 'Total presentación'!$D$5:$F$5
Name LblRes01_1_Mes: 'Total presentación'!$B$5:$C$5
Name LblRes01_Acum: 'Total tráfico'!$D$5:$F$5
Name LblRes01_Mes: 'Total tráfico'!$B$5:$C$5
Name LblRes02_Acum: Líquidos!$D$5:$F$5
Name LblRes02_Mes: Líquidos!$B$5:$C$5
Name LblRes03_Acum: Sólidos!$D$5:$F$5
Name LblRes03_Mes: Sólidos!$B$5:$C$5
Name LblRes04_Acum: 'Mercancía general'!$D$5:$F$5
Name LblRes04_Mes: 'Mercancía general'!$B$5:$C$5
Name LblRes05_Acum: Pesca!$D$5:$F$5
Name LblRes05_Mes: Pesca!$B$5:$C$5
Name LblRes06_Acum: Avituallamiento!$D$5:$F$5
Name LblRes06_Mes: Avituallamiento!$B$5:$C$5
Name LblRes07_1_Acum: 'Mercan. contene. tránsito'!$D$5:$F$5
Name LblRes07_1_Mes: 'Mercan. contene. tránsito'!$B$5:$C$5
Name LblRes07_Acum: 'Mercancías tránsito'!$D$5:$F$5
Name LblRes07_Mes: 'Mercancías tránsito'!$B$5:$C$5
Name LblRes08_Acum: 'Mercancías contenedores'!$D$5:$F$5
Name LblRes08_Mes: 'Mercancías contenedores'!$B$5:$C$5
Name LblRes09_Acum: 'Ro-Ro'!$D$5:$F$5
Name LblRes09_Mes: 'Ro-Ro'!$B$5:$C$5
Name LblRes10_1_Acum: 'TEUS tránsito'!$D$5:$F$5
Name LblRes10_1_Mes: 'TEUS tránsito'!$B$5:$C$5
Name LblRes10_2_Acum: 'TEUS nacional'!$D$5:$F$5
Name LblRes10_2_Mes: 'TEUS nacional'!$B$5:$C$5
Name LblRes10_3_Acum: 'TEUS exterior'!$D$5:$F$5
Name LblRes10_3_Mes: 'TEUS exterior'!$B$5:$C$5
Name LblRes10_4_Acum: 'TEUS nacional y exterior'!$D$5:$F$5
Name LblRes10_4_Mes: 'TEUS nacional y exterior'!$B$5:$C$5
Name LblRes10_Acum: TEUS!$D$5:$F$5
Name LblRes10_Mes: TEUS!$B$5:$C$5
Name LblRes11_1_Acum: 'Pasajeros crucero'!$D$5:$F$5
Name LblRes11_1_Mes: 'Pasajeros crucero'!$B$5:$C$5
Name LblRes11_2_Acum: 'Vehículos régimen pasaje'!$D$5:$F$5
Name LblRes11_2_Mes: 'Vehículos régimen pasaje'!$B$5:$C$5
Name LblRes11_Acum: 'Pasajeros total'!$D$5:$F$5
Name LblRes11_Mes: 'Pasajeros total'!$B$5:$C$5
Name LblRes12_1_Acum: 'Buques número'!$D$5:$F$5
Name LblRes12_1_Mes: 'Buques número'!$B$5:$C$5
Name LblRes12_2_Acum: 'Buques GT'!$D$5:$F$5
Name LblRes12_2_Mes: 'Buques GT'!$B$5:$C$5
Name LblRes12_3_Acum: Cruceros!$D$5:$F$5
Name LblRes12_3_Mes: Cruceros!$B$5:$C$5
Name PROVINCIAS: Cruceros!$A$5:$A$35
Name TxtFecha: Cruceros!$L$5

Sheet Portada e índice
I1: Dirección de Servicios y Competitividad
I2: Departamento de Estadística
G15: RESUMEN GENERAL DEL TRÁFICO PORTUARIO*
G16: diciembre 2016
K29: *Datos de cierre definitivos del Anuario Estadístico de Puertos del Estado 2016
F34: ÍNDICE
B37: 0. | C37: RESUMEN GENERAL DEL TRÁFICO PORTUARIO
B38: 1. | C38: TRÁFICO PORTUARIO
B39: 1.1. | C39: MERCANCÍAS SEGÚN SU FORMA DE PRESENTACIÓN
B40: 2. | C40: GRANELES LÍQUIDOS
B41: 3. | C41: GRANELES SÓLIDOS
B42: 4. | C42: MERCANCÍA GENERAL
B43: 5. | C43: PESCA
B44: 6. | C44: AVITUALLAMIENTO
B45: 7. | C45: MERCANCÍAS EN TRÁNSITO
B46: 7.1. | C46: MERCANCÍAS EN CONTENEDORES EN TRÁNSITO
B47: 8. | C47: MERCANCÍAS EN CONTENEDORES
B48: 9. | C48: TRÁFICO RO-RO
... B59: 12.3. | C59: CRUCEROS (unidades)

Sheet Resumen general
D1: 00. RESUMEN GENERAL DEL TRÁFICO PORTUARIO
I4: Fecha: 05/02/2018
A6: CONCEPTO | D6: Mes Diciembre | F6: Acumulado desde Enero | H6: Variación
D7: 2015 | E7: 2016 | F7: 2015 | G7: 2016 | H7: Diferencia | I7: %
A8: MERCANCÍAS SEGÚN SU PRESENTACIÓN | B8: GRANELES | C8: LÍQUIDOS | D8: =Líquidos!B35 -> 14012805 | E8: =Líquidos!C35 -> 14647070 | F8: =Líquidos!D35 -> 1.6805109e+08 | G8: =Líquidos!E35 -> 1.6758332e+08 | H8: =G8-F8 -> -467768.54 | I8: =((G8*100/F8)-100) -> -0.27834901
C9: SÓLIDOS | D9: =Sólidos!B35 -> 8672351.8 | E9: =Sólidos!C35 -> 8341804.8 | F9: =Sólidos!D35 -> 95972002 | G9: =Sólidos!E35 -> 91993448 | H9: =G9-F9 -> -3978553.9 | I9: =((G9*100/F9)-100) -> -4.145536
B10: MERCANCÍA GRAL. | C10: CONVENCIONAL | D10: =D12-D11 -> 4986505.1 | E10: =E12-E11 -> 5727845.6 | F10: =F12-F11 -> 65128935 | G10: =G12-G11 -> 67737010 | H10: =G10-F10 -> 2608074.4 | I10: =((G10*100/F10)-100) -> 4.0044788
C11: EN CONTENEDORES | D11: ='Mercancías contenedores'!B35 -> 13636117 | E11: ='Mercancías contenedores'!C35 -> 13884423 | F11: ='Mercancías contenedores'!D35 -> 1.5927614e+08 | G11: ='Mercancías contenedores'!E35 -> 1.6829421e+08 | H11: =G11-F11 -> 9018074.3 | I11: =((G11*100/F11)-100) -> 5.6619117
C12: TOTAL | D12: ='Mercancía general'!B35 -> 18622622 | E12: ='Mercancía general'!C35 -> 19612269 | F12: ='Mercancía general'!D35 -> 2.2440507e+08 | G12: ='Mercancía general'!E35 -> 2.3603122e+08 | H12: =G12-F12 -> 11626149 | I12: =((G12*100/F12)-100) -> 5.180876
C13: TOTAL | D13: =SUM(D12+D9+D8) -> 41307779 | E13: =SUM(E12+E9+E8) -> 42601144 | F13: =F8+F9+F12 -> 4.8842816e+08 | G13: =G12+G9+G8 -> 4.9560799e+08 | H13: =G13-F13 -> 7179826.2 | I13: =((G13*100/F13)-100) -> 1.4699861
A14: OTRAS MERCANCÍAS | B14: PESCA | C14: TOTAL PESCA | D14: =Pesca!B35 -> 20990 | E14: =Pesca!C35 -> 21216.411 | F14: =Pesca!D35 -> 220130.09 | G14: =Pesca!E35 -> 232934.41 | H14: =G14-F14 -> 12804.321 | I14: =((G14*100/F14)-100) -> 5.8167064
B15: AVITUALLAMIENTO | C15: PRODUCTOS PETROLÍFEROS | D15: 710514 | E15: 621268 | F15: 8084093 | G15: 8201008 | H15: =G15-F15 -> 116915 | I15: =((G15*100/F15)-100) -> 1.4462352
C16: OTROS | D16: =Avituallamiento!B35-'Resumen general'!D15 -> 244065 | E16: =Avituallamiento!C35-'Resumen general'!E15 -> 306808.8 | F16: 2098377 | G16: =Avituallamiento!E35-'Resumen general'!G15 -> 2122629.5 | H16: =G16-F16 -> 24252.5 | I16: =((G16*100/F16)-100) -> 1.1557742
B17: TRAFICO INTERIOR | C17: TOTAL TRAFICO INTERIOR | D17: 354212 | E17: 261959 | F17: 3607280 | G17: 3340077 | H17: =G17-F17 -> -267203 | I17: =((G17*100/F17)-100) -> -7.4073263
C18: TOTAL | D18: =SUM(D14:D17) -> 1329781 | E18: =SUM(E14:E17) -> 1211252.2 | F18: =SUM(F14+F15+F16+F17) -> 14009880 | G18: =G14+G15+G16+G17 -> 13896649 | H18: =G18-F18 -> -113231.18 | I18: =((G18*100/F18)-100) -> -0.80822376
C19: TOTAL TRÁFICO PORTUARIO | D19: =SUM(D13+D18) -> 42637560 | E19: =SUM(E13+E18) -> 43812396 | F19: =F18+F13 -> 5.0243804e+08 | G19: =G13+G18 -> 5.0950464e+08 | H19: =G19-F19 -> 7066595 | I19: =((G19*100/F19)-100) -> 1.406461
A21: OTRAS INFORMACIONES | B21: MERCANCÍAS | C21: EN TRÁNSITO | D21: ='Mercancías tránsito'!B35 -> 9603069.8 | E21: ='Mercancías tránsito'!C35 -> 10124346 | F21: ='Mercancías tránsito'!D35 -> 1.186056e+08 | G21: ='Mercancías tránsito'!E35 -> 1.2229877e+08 | H21: =G21-F21 -> 3693174.3 | I21: =((G21*100/F21)-100) -> 3.113828
C22: EN CONTENEDORES EN TRÁNSITO | D22: ='Mercan. contene. tránsito'!B35 -> 8006050 | E22: ='Mercan. contene. tránsito'!C35 -> 7601555.1 | F22: ='Mercan. contene. tránsito'!D35 -> 93947360 | G22: ='Mercan. contene. tránsito'!E35 -> 98509897 | H22: =G22-F22 -> 4562536.5 | I22: =((G22*100/F22)-100) -> 4.8564819
B23: TRÁFICO RO-RO | C23: TOTAL TRÁFICO RO-RO | D23: ='Ro-Ro'!B35 -> 4160662 | E23: ='Ro-Ro'!C35 -> 3870871.6 | F23: ='Ro-Ro'!D35 -> 51154407 | G23: ='Ro-Ro'!E35 -> 53447233 | H23: =G23-F23 -> 2292826.2 | I23: =((G23*100/F23)-100) -> 4.4821675
B24: CONTENEDORES (TEU) | C24: TOTAL CONTENEDORES (TEU) | D24: =TEUS!B35 -> 1232553 | E24: =TEUS!C35 -> 1272883.8 | F24: =TEUS!D35 -> 14293243 | G24: =TEUS!E35 -> 15154303 | H24: =G24-F24 -> 861060 | I24: =((G24*100/F24)-100) -> 6.0242453
C25: EN TRÁNSITO | D25: ='TEUS tránsito'!B35 -> 629354 | E25: ='TEUS tránsito'!C35 -> 647501 | F25: ='TEUS tránsito'!D35 -> 7426945 | G25: ='TEUS tránsito'!E35 -> 7922535 | H25: =G25-F25 -> 495590 | I25: =((G25*100/F25)-100) -> 6.6728648
C26: ENTRADAS-SALIDAS NACIONAL | D26: ='TEUS nacional'!B35 -> 149360 | E26: ='TEUS nacional'!C35 -> 157029 | F26: ='TEUS nacional'!D35 -> 1728964 | G26: ='TEUS nacional'!E35 -> 1926876 | H26: =G26-F26 -> 197912 | I26: =((G26*100/F26)-100) -> 11.446855
C27: IMPORT-EXPORT EXTERIOR | D27: ='TEUS exterior'!B35 -> 422214 | E27: ='TEUS exterior'!C35 -> 441028 | F27: ='TEUS exterior'!D35 -> 5105644 | G27: ='TEUS exterior'!E35 -> 5272324 | H27: =G27-F27 -> 166680 | I27: =((G27*100/F27)-100) -> 3.2646224
C28: NACIONAL Y EXTERIOR | D28: ='TEUS nacional y exterior'!B35 -> 571574 | E28: ='TEUS nacional y exterior'!C35 -> 598057 | F28: ='TEUS nacional y exterior'!D35 -> 6834673 | G28: ='TEUS nacional y exterior'!E35 -> 7199204 | H28: =G28-F28 -> 364531 | I28: =((G28*100/F28)-100) -> 5.3335544
B29: PASAJEROS | C29: REG. TRANSPORTE Y DE CRUCERO (nº) | D29: ='Pasajeros total'!B35 -> 3074640 | E29: ='Pasajeros total'!C35 -> 1926801 | F29: ='Pasajeros total'!D35 -> 31071594 | G29: ='Pasajeros total'!E35 -> 32493848 | H29: =G29-F29 -> 1422254 | I29: =((G29*100/F29)-100) -> 4.5773448
C30: DE CRUCERO (nº) | D30: ='Pasajeros crucero'!B35 -> 758193 | E30: ='Pasajeros crucero'!C35 -> 483531 | F30: ='Pasajeros crucero'!D35 -> 8646576 | G30: ='Pasajeros crucero'!E35 -> 8693871 | H30: =G30-F30 -> 47295 | I30: =((G30*100/F30)-100) -> 0.54697952
B31: VEHÍCULOS | C31: EN RÉGIMEN DE PASAJE | D31: ='Vehículos régimen pasaje'!B35 -> 341648 | E31: ='Vehículos régimen pasaje'!C35 -> 322705 | F31: ='Vehículos régimen pasaje'!D35 -> 4494312 | G31: ='Vehículos régimen pasaje'!E35 -> 4774678 | H31: =G31-F31 -> 280366 | I31: =((G31*100/F31)-100) -> 6.2382407
B32: BUQUES MERCANTES | C32: TOTAL BUQUES MERCANTES | D32: ='Buques número'!B35 -> 20190 | E32: ='Buques número'!C35 -> 10878 | F32: ='Buques número'!D35 -> 146732 | G32: ='Buques número'!E35 -> 151564 | H32: =G32-F32 -> 4832 | I32: =((G32*100/F32)-100) -> 3.2930785
C33: UDS. ARQUEO BRUTO (G.T.) | D33: ='Buques GT'!B35 -> 183593011 | E33: ='Buques GT'!C35 -> 174282552 | F33: ='Buques GT'!D35 -> 2081223444 | G33: ='Buques GT'!E35 -> 2184589058 | H33: =G33-F33 -> 103365614 | I33: =((G33*100/F33)-100) -> 4.9665794
C34: NÚMERO DE CRUCEROS | D34: =Cruceros!B35 -> 288 | E34: =Cruceros!C35 -> 283 | F34: =Cruceros!D35 -> 3857 | G34: =Cruceros!E35 -> 3920 | H34: =G34-F34 -> 63 | I34: =((G34*100/F34)-100) -> 1.6333938

Sheet Total tráfico
F1: 1. TRAFICO PORTUARIO (Toneladas)
A5: Autoridad Portuaria | B5: ='Resumen general'!D6 -> Mes Diciembre | D5: ='Resumen general'!F6 -> Acumulado desde Enero | L5: ='Resumen general'!I4 -> Fecha: 05/02/2018
B6: ='Resumen general'!D7 -> 2015 | C6: ='Resumen general'!E7 -> 2016 | D6: ='Resumen general'!F7 -> 2015 | E6: ='Resumen general'!G7 -> 2016 | F6: Var. (%)
A7: A CORUÑA | B7: 1131473 | C7: 1264172.6 | D7: 14152644 | E7: 13919795 | F7: =((E7*100)/D7)-100 -> -1.6452685
A8: ALICANTE | B8: 268644.41 | C8: 245025.3 | D8: 2616948.4 | E8: 3471563.3 | F8: =((E8*100)/D8)-100 -> 32.656925
A9: ALMERIA | B9: 498243 | C9: 546728.4 | D9: 6465011 | E9: 5467308.4 | F9: =((E9*100)/D9)-100 -> -15.432342
A10: AVILES | B10: 511424.89 | C10: 586583.03 | D10: 5173618.9 | E10: 4971467 | F10: =((E10*100)/D10)-100 -> -3.9073589
A11: BAHIA DE ALGECIRAS | B11: 8077714 | C11: 8602707.4 | D11: 98224216 | E11: 1.0317695e+08 | F11: =((E11*100)/D11)-100 -> 5.0422692
A12: BAHIA DE CADIZ | B12: 224756 | C12: 280516.2 | D12: 3410578 | E12: 3660047.2 | F12: =((E12*100)/D12)-100 -> 7.3145725
A13: BALEARES | B13: 952185 | C13: 1020749.8 | D13: 13526097 | E13: 14926741 | F13: =((E13*100)/D13)-100 -> 10.355122
A14: BARCELONA | B14: 4239787 | C14: 3863433.8 | D14: 47049743 | E14: 48653002 | F14: =((E14*100)/D14)-100 -> 3.4075825
A15: BILBAO | B15: 2623079 | C15: 3409814.3 | D15: 32874742 | E15: 32067270 | F15: =((E15*100)/D15)-100 -> -2.456207
A16: CARTAGENA | B16: 2917884 | C16: 2876768.3 | D16: 32670388 | E16: 31883686 | F16: =((E16*100)/D16)-100 -> -2.4079962
A17: CASTELLON | B17: 1562077 | C17: 1686264 | D17: 16474190 | E17: 17076583 | F17: =((E17*100)/D17)-100 -> 3.6565865
A18: CEUTA | B18: 191680.82 | C18: 242448.9 | D18: 2110007.8 | E18: 2478780.9 | F18: =((E18*100)/D18)-100 -> 17.477332
... A34: VILAGARCIA | B34: 110880.67 | C34: 115174.86 | D34: 1029714.7 | E34: 1111995 | F34: =((E34*100)/D34)-100 -> 7.9905951
A35: Total | B35: =SUM(B7:B34) -> 42637560 | C35: =SUM(C7:C34) -> 44084386 | D35: =SUM(D7:D34) -> 5.0243804e+08 | E35: =SUM(E7:E34) -> 5.0950464e+08 | F35: =((E35*100)/D35)-100 -> 1.4064607
B37: =E6 -> 2016 | C37: =D6 -> 2015 | F37: =B37 -> 2016 | G37: =C37 -> 2015
A38: =A7 -> A CORUÑA | B38: =E7 -> 13919795 | C38: =D7 -> 14152644 | D38: =_xlfn.RANK.EQ(B38,$B$38:$B$65)+COUNTIF($B$38:$B$65,B38)-1 -> 12 | E38: =INDEX($A$38:$B$65,MATCH(ROW()-37,$D$38:$D$65,0),1) -> BAHIA DE ALGECIRAS | F38: =LOOKUP(E38,$A$38:$A$65,$B$38:$B$65) -> 1.0317695e+08 | G38: =LOOKUP(E38,$A$38:$A$65,$C$38:$C$65) -> 98224216
A39: =A8 -> ALICANTE | B39: =E8 -> 3471563.3 | C39: =D8 -> 2616948.4 | D39: =_xlfn.RANK.EQ(B39,$B$38:$B$65)+COUNTIF($B$38:$B$65,B39)-1 -> 21 | E39: =INDEX($A$38:$B$65,MATCH(ROW()-37,$D$38:$D$65,0),1) -> VALENCIA | F39: =LOOKUP(E39,$A$38:$A$65,$B$38:$B$65) -> 71469813 | G39: =LOOKUP(E39,$A$38:$A$65,$C$38:$C$65) -> 70083977
A40: =A9 -> ALMERIA | B40: =E9 -> 5467308.4 | C40: =D9 -> 6465011 | D40: =_xlfn.RANK.EQ(B40,$B$38:$B$65)+COUNTIF($B$38:$B$65,B40)-1 -> 15 | E40: =INDEX($A$38:$B$65,MATCH(ROW()-37,$D$38:$D$65,0),1) -> BARCELONA | F40: =LOOKUP(E40,$A$38:$A$65,$B$38:$B$65) -> 48653002 | G40: =LOOKUP(E40,$A$38:$A$65,$C$38:$C$65) -> 47049743
A41: =A10 -> AVILES | B41: =E10 -> 4971467 | C41: =D10 -> 5173618.9 | D41: =_xlfn.RANK.EQ(B41,$B$38:$B$65)+COUNTIF($B$38:$B$65,B41)-1 -> 16 | E41: =INDEX($A$38:$B$65,MATCH(ROW()-37,$D$38:$D$65,0),1) -> BILBAO | F41: =LOOKUP(E41,$A$38:$A$65,$B$38:$B$65) -> 32067270 | G41: =LOOKUP(E41,$A$38:$A$65,$C$38:$C$65) -> 32874742
A42: =A11 -> BAHIA DE ALGECIRAS | B42: =E11 -> 1.0317695e+08 | C42: =D11 -> 98224216 | D42: =_xlfn.RANK.EQ(B42,$B$38:$B$65)+COUNTIF($B$38:$B$65,B42)-1 -> 1 | E42: =INDEX($A$38:$B$65,MATCH(ROW()-37,$D$38:$D$65,0),1) -> CARTAGENA | F42: =LOOKUP(E42,$A$38:$A$65,$B$38:$B$65) -> 31883686 | G42: =LOOKUP(E42,$A$38:$A$65,$C$38:$C$65) -> 32670388
A43: =A12 -> BAHIA DE CADIZ | B43: =E12 -> 3660047.2 | C43: =D12 -> 3410578 | D43: =_xlfn.RANK.EQ(B43,$B$38:$B$65)+COUNTIF($B$38:$B$65,B43)-1 -> 20 | E43: =INDEX($A$38:$B$65,MATCH(ROW()-37,$D$38:$D$65,0),1) -> TARRAGONA | F43: =LOOKUP(E43,$A$38:$A$65,$B$38:$B$65) -> 31351797 | G43: =LOOKUP(E43,$A$38:$A$65,$C$38:$C$65) -> 33034593
A44: =A13 -> BALEARES | B44: =E13 -> 14926741 | C44: =D13 -> 13526097 | D44: =_xlfn.RANK.EQ(B44,$B$38:$B$65)+COUNTIF($B$38:$B$65,B44)-1 -> 11 | E44: =INDEX($A$38:$B$65,MATCH(ROW()-37,$D$38:$D$65,0),1) -> HUELVA | F44: =LOOKUP(E44,$A$38:$A$65,$B$38:$B$65) -> 30557172 | G44: =LOOKUP(E44,$A$38:$A$65,$C$38:$C$65) -> 27375435
A45: =A14 -> BARCELONA | B45: =E14 -> 48653002 | C45: =D14 -> 47049743 | D45: =_xlfn.RANK.EQ(B45,$B$38:$B$65)+COUNTIF($B$38:$B$65,B45)-1 -> 3 | E45: =INDEX($A$38:$B$65,MATCH(ROW()-37,$D$38:$D$65,0),1) -> LAS PALMAS | F45: =LOOKUP(E45,$A$38:$A$65,$B$38:$B$65) -> 22801746 | G45: =LOOKUP(E45,$A$38:$A$65,$C$38:$C$65) -> 23579828
A46: =A15 -> BILBAO | B46: =E15 -> 32067270 | C46: =D15 -> 32874742 | D46: =_xlfn.RANK.EQ(B46,$B$38:$B$65)+COUNTIF($B$38:$B$65,B46)-1 -> 4 | E46: =INDEX($A$38:$B$65,MATCH(ROW()-37,$D$38:$D$65,0),1) -> GIJON | F46: =LOOKUP(E46,$A$38:$A$65,$B$38:$B$65) -> 18407334 | G46: =LOOKUP(E46,$A$38:$A$65,$C$38:$C$65) -> 21277873
A47: =A16 -> CARTAGENA | B47: =E16 -> 31883686 | C47: =D16 -> 32670388 | D47: =_xlfn.RANK.EQ(B47,$B$38:$B$65)+COUNTIF($B$38:$B$65,B47)-1 -> 5 | E47: =INDEX($A$38:$B$65,MATCH(ROW()-37,$D$38:$D$65,0),1) -> CASTELLON | F47: =LOOKUP(E47,$A$38:$A$65,$B$38:$B$65) -> 17076583 | G47: =LOOKUP(E47,$A$38:$A$65,$C$38:$C$65) -> 16474190
A48: =A17 -> CASTELLON | B48: =E17 -> 17076583 | C48: =D17 -> 16474190 | D48: =_xlfn.RANK.EQ(B48,$B$38:$B$65)+COUNTIF($B$38:$B$65,B48)-1 -> 10 | E48: =INDEX($A$38:$B$65,MATCH(ROW()-37,$D$38:$D$65,0),1) -> BALEARES | F48: =LOOKUP(E48,$A$38:$A$65,$B$38:$B$65) -> 14926741 | G48: =LOOKUP(E48,$A$38:$A$65,$C$38:$C$65) -> 13526097
A49: =A18 -> CEUTA | B49: =E18 -> 2478780.9 | C49: =D18 -> 2110007.8 | D49: =_xlfn.RANK.EQ(B49,$B$38:$B$65)+COUNTIF($B$38:$B$65,B49)-1 -> 24 | E49: =INDEX($A$38:$B$65,MATCH(ROW()-37,$D$38:$D$65,0),1) -> A CORUÑA | F49: =LOOKUP(E49,$A$38:$A$65,$B$38:$B$65) -> 13919795 | G49: =LOOKUP(E49,$A$38:$A$65,$C$38:$C$65) -> 14152644
... A65: =A34 -> VILAGARCIA | B65: =E34 -> 1111995 | C65: =D34 -> 1029714.7 | D65: =_xlfn.RANK.EQ(B65,$B$38:$B$65)+COUNTIF($B$38:$B$65,B65)-1 -> 28 | E65: =INDEX($A$38:$B$65,MATCH(ROW()-37,$D$38:$D$65,0),1) -> VILAGARCIA | F65: =LOOKUP(E65,$A$38:$A$65,$B$38:$B$65) -> 1111995 | G65: =LOOKUP(E65,$A$38:$A$65,$C$38:$C$65) -> 1029714.7

Sheet Total presentación
F1: 1.1. MERCANCÍAS SEGÚN SU FORMA DE PRESENTACIÓN
J2: (Toneladas)
A5: Autoridad Portuaria | B5: ='Resumen general'!D6 -> Mes Diciembre | D5: ='Resumen general'!F6 -> Acumulado desde Enero | L5: ='Resumen general'!I4 -> Fecha: 05/02/2018
B6: ='Resumen general'!D7 -> 2015 | C6: ='Resumen general'!E7 -> 2016 | D6: ='Resumen general'!F7 -> 2015 | E6: ='Resumen general'!G7 -> 2016 | F6: Var. (%)
A7: A CORUÑA | B7: 1077586 | C7: 1200603 | D7: 13764237 | E7: 13527098 | F7: =((E7*100)/D7)-100 -> -1.7228634
A8: ALICANTE | B8: 266590.74 | C8: 243599.53 | D8: 2586875.7 | E8: 3442580.5 | F8: =((E8*100)/D8)-100 -> 33.078697
A9: ALMERIA | B9: 492571 | C9: 541357 | D9: 6390544 | E9: 5390023 | F9: =((E9*100)/D9)-100 -> -15.656273
A10: AVILES | B10: 481898.54 | C10: 556160.09 | D10: 5108851.5 | E10: 4909133.1 | F10: =((E10*100)/D10)-100 -> -3.9092631
A11: BAHIA DE ALGECIRAS | B11: 7508920 | C11: 7853556 | D11: 91949559 | E11: 96861660 | F11: =((E11*100)/D11)-100 -> 5.3421692
A12: BAHIA DE CADIZ | B12: 215535 | C12: 271999 | D12: 3248105 | E12: 3497654 | F12: =((E12*100)/D12)-100 -> 7.6829105
A13: BALEARES | B13: 940657 | C13: 1014013 | D13: 13317584 | E13: 14676205 | F13: =((E13*100)/D13)-100 -> 10.201708
A14: BARCELONA | B14: 4175604 | C14: 3808116 | D14: 45921254 | E14: 47512963 | F14: =((E14*100)/D14)-100 -> 3.4661706
A15: BILBAO | B15: 2570385 | C15: 3399680.4 | D15: 32399823 | E15: 31948743 | F15: =((E15*100)/D15)-100 -> -1.3922286
A16: CARTAGENA | B16: 2907899 | C16: 2865396 | D16: 32578858 | E16: 31724623 | F16: =((E16*100)/D16)-100 -> -2.6220532
A17: CASTELLON | B17: 1560385 | C17: 1683633 | D17: 16444770 | E17: 17042674 | F17: =((E17*100)/D17)-100 -> 3.6358307
A18: CEUTA | B18: 138336 | C18: 206553 | D18: 1649280 | E18: 1934591 | F18: =((E18*100)/D18)-100 -> 17.299124
... A34: VILAGARCIA | B34: 110300.67 | C34: 114514.86 | D34: 1024904.7 | E34: 1105781.9 | F34: =((E34*100)/D34)-100 -> 7.8911915
A35: Total | B35: =SUM(B7:B34) -> 41307779 | C35: =SUM(C7:C34) -> 42601144 | D35: =SUM(D7:D34) -> 4.8842816e+08 | E35: =SUM(E7:E34) -> 4.9560799e+08 | F35: =((E35*100)/D35)-100 -> 1.4699861
B37: =E6 -> 2016 | C37: =D6 -> 2015 | F37: =B37 -> 2016 | G37: =C37 -> 2015
A38: =A7 -> A CORUÑA | B38: =E7 -> 13527098 | C38: =D7 -> 13764237 | D38: =_xlfn.RANK.EQ(B38,$B$38:$B$65)+COUNTIF($B$38:$B$65,B38)-1 -> 12 | E38: =INDEX($A$38:$B$65,MATCH(ROW()-37,$D$38:$D$65,0),1) -> BAHIA DE ALGECIRAS | F38: =LOOKUP(E38,$A$38:$A$65,$B$38:$B$65) -> 96861660 | G38: =LOOKUP(E38,$A$38:$A$65,$C$38:$C$65) -> 91949559
A39: =A8 -> ALICANTE | B39: =E8 -> 3442580.5 | C39: =D8 -> 2586875.7 | D39: =_xlfn.RANK.EQ(B39,$B$38:$B$65)+COUNTIF($B$38:$B$65,B39)-1 -> 21 | E39: =INDEX($A$38:$B$65,MATCH(ROW()-37,$D$38:$D$65,0),1) -> VALENCIA | F39: =LOOKUP(E39,$A$38:$A$65,$B$38:$B$65) -> 70995541 | G39: =LOOKUP(E39,$A$38:$A$65,$C$38:$C$65) -> 69601336
A40: =A9 -> ALMERIA | B40: =E9 -> 5390023 | C40: =D9 -> 6390544 | D40: =_xlfn.RANK.EQ(B40,$B$38:$B$65)+COUNTIF($B$38:$B$65,B40)-1 -> 15 | E40: =INDEX($A$38:$B$65,MATCH(ROW()-37,$D$38:$D$65,0),1) -> BARCELONA | F40: =LOOKUP(E40,$A$38:$A$65,$B$38:$B$65) -> 47512963 | G40: =LOOKUP(E40,$A$38:$A$65,$C$38:$C$65) -> 45921254
A41: =A10 -> AVILES | B41: =E10 -> 4909133.1 | C41: =D10 -> 5108851.5 | D41: =_xlfn.RANK.EQ(B41,$B$38:$B$65)+COUNTIF($B$38:$B$65,B41)-1 -> 16 | E41: =INDEX($A$38:$B$65,MATCH(ROW()-37,$D$38:$D$65,0),1) -> BILBAO | F41: =LOOKUP(E41,$A$38:$A$65,$B$38:$B$65) -> 31948743 | G41: =LOOKUP(E41,$A$38:$A$65,$C$38:$C$65) -> 32399823
A42: =A11 -> BAHIA DE ALGECIRAS | B42: =E11 -> 96861660 | C42: =D11 -> 91949559 | D42: =_xlfn.RANK.EQ(B42,$B$38:$B$65)+COUNTIF($B$38:$B$65,B42)-1 -> 1 | E42: =INDEX($A$38:$B$65,MATCH(ROW()-37,$D$38:$D$65,0),1) -> CARTAGENA | F42: =LOOKUP(E42,$A$38:$A$65,$B$38:$B$65) -> 31724623 | G42: =LOOKUP(E42,$A$38:$A$65,$C$38:$C$65) -> 32578858
A43: =A12 -> BAHIA DE CADIZ | B43: =E12 -> 3497654 | C43: =D12 -> 3248105 | D43: =_xlfn.RANK.EQ(B43,$B$38:$B$65)+COUNTIF($B$38:$B$65,B43)-1 -> 20 | E43: =INDEX($A$38:$B$65,MATCH(ROW()-37,$D$38:$D$65,0),1) -> TARRAGONA | F43: =LOOKUP(E43,$A$38:$A$65,$B$38:$B$65) -> 31328770 | G43: =LOOKUP(E43,$A$38:$A$65,$C$38:$C$65) -> 32934769
A44: =A13 -> BALEARES | B44: =E13 -> 14676205 | C44: =D13 -> 13317584 | D44: =_xlfn.RANK.EQ(B44,$B$38:$B$65)+COUNTIF($B$38:$B$65,B44)-1 -> 11 | E44: =INDEX($A$38:$B$65,MATCH(ROW()-37,$D$38:$D$65,0),1) -> HUELVA | F44: =LOOKUP(E44,$A$38:$A$65,$B$38:$B$65) -> 30381229 | G44: =LOOKUP(E44,$A$38:$A$65,$C$38:$C$65) -> 27216051
A45: =A14 -> BARCELONA | B45: =E14 -> 47512963 | C45: =D14 -> 45921254 | D45: =_xlfn.RANK.EQ(B45,$B$38:$B$65)+COUNTIF($B$38:$B$65,B45)-1 -> 3 | E45: =INDEX($A$38:$B$65,MATCH(ROW()-37,$D$38:$D$65,0),1) -> LAS PALMAS | F45: =LOOKUP(E45,$A$38:$A$65,$B$38:$B$65) -> 20192621 | G45: =LOOKUP(E45,$A$38:$A$65,$C$38:$C$65) -> 20981431
A46: =A15 -> BILBAO | B46: =E15 -> 31948743 | C46: =D15 -> 32399823 | D46: =_xlfn.RANK.EQ(B46,$B$38:$B$65)+COUNTIF($B$38:$B$65,B46)-1 -> 4 | E46: =INDEX($A$38:$B$65,MATCH(ROW()-37,$D$38:$D$65,0),1) -> GIJON | F46: =LOOKUP(E46,$A$38:$A$65,$B$38:$B$65) -> 18340528 | G46: =LOOKUP(E46,$A$38:$A$65,$C$38:$C$65) -> 21178589
A47: =A16 -> CARTAGENA | B47: =E16 -> 31724623 | C47: =D16 -> 32578858 | D47: =_xlfn.RANK.EQ(B47,$B$38:$B$65)+COUNTIF($B$38:$B$65,B47)-1 -> 5 | E47: =INDEX($A$38:$B$65,MATCH(ROW()-37,$D$38:$D$65,0),1) -> CASTELLON | F47: =LOOKUP(E47,$A$38:$A$65,$B$38:$B$65) -> 17042674 | G47: =LOOKUP(E47,$A$38:$A$65,$C$38:$C$65) -> 16444770
A48: =A17 -> CASTELLON | B48: =E17 -> 17042674 | C48: =D17 -> 16444770 | D48: =_xlfn.RANK.EQ(B48,$B$38:$B$65)+COUNTIF($B$38:$B$65,B48)-1 -> 10 | E48: =INDEX($A$38:$B$65,MATCH(ROW()-37,$D$38:$D$65,0),1) -> BALEARES | F48: =LOOKUP(E48,$A$38:$A$65,$B$38:$B$65) -> 14676205 | G48: =LOOKUP(E48,$A$38:$A$65,$C$38:$C$65) -> 13317584
A49: =A18 -> CEUTA | B49: =E18 -> 1934591 | C49: =D18 -> 1649280 | D49: =_xlfn.RANK.EQ(B49,$B$38:$B$65)+COUNTIF($B$38:$B$65,B49)-1 -> 26 | E49: =INDEX($A$38:$B$65,MATCH(ROW()-37,$D$38:$D$65,0),1) -> A CORUÑA | F49: =LOOKUP(E49,$A$38:$A$65,$B$38:$B$65) -> 13527098 | G49: =LOOKUP(E49,$A$38:$A$65,$C$38:$C$65) -> 13764237
... A65: =A34 -> VILAGARCIA | B65: =E34 -> 1105781.9 | C65: =D34 -> 1024904.7 | D65: =_xlfn.RANK.EQ(B65,$B$38:$B$65)+COUNTIF($B$38:$B$65,B65)-1 -> 28 | E65: =INDEX($A$38:$B$65,MATCH(ROW()-37,$D$38:$D$65,0),1) -> VILAGARCIA | F65: =LOOKUP(E65,$A$38:$A$65,$B$38:$B$65) -> 1105781.9 | G65: =LOOKUP(E65,$A$38:$A$65,$C$38:$C$65) -> 1024904.7

Sheet Líquidos
F1: 2. GRANELES LÍQUIDOS (Toneladas)
A5: Autoridad Portuaria | B5: ='Resumen general'!D6 -> Mes Diciembre | D5: ='Resumen general'!F6 -> Acumulado desde Enero | L5: ='Resumen general'!I4 -> Fecha: 05/02/2018
B6: ='Resumen general'!D7 -> 2015 | C6: ='Resumen general'!E7 -> 2016 | D6: ='Resumen general'!F7 -> 2015 | E6: ='Resumen general'!G7 -> 2016 | F6: Var. (%)
A7: A CORUÑA | B7: 531444 | C7: 670539 | D7: 7913588 | E7: 8169622 | F7: =((E7*100)/D7)-100 -> 3.2353719
A8: ALICANTE | B8: 15015 | C8: 11460.06 | D8: 56820.54 | E8: 43336.06 | F8: =((E8*100)/D8)-100 -> -23.7317
A9: ALMERIA | B9: 0 | C9: 0 | D9: 22926 | E9: 28465 | F9: =((E9*100)/D9)-100 -> 24.160342
A10: AVILES | B10: 69174 | C10: 55820.85 | D10: 630851.09 | E10: 625174.85 | F10: =((E10*100)/D10)-100 -> -0.89977494
A11: BAHIA DE ALGECIRAS | B11: 1963200 | C11: 2000578 | D11: 27344044 | E11: 27309859 | F11: =((E11*100)/D11)-100 -> -0.12501808
A12: BAHIA DE CADIZ | B12: 29781 | C12: 22332 | D12: 296224 | E12: 404838 | F12: =((E12*100)/D12)-100 -> 36.666172
A13: BALEARES | B13: 114663 | C13: 86522 | D13: 1524756 | E13: 1541653 | F13: =((E13*100)/D13)-100 -> 1.1081773
A14: BARCELONA | B14: 1268034 | C14: 835934 | D14: 12055321 | E14: 11415816 | F14: =((E14*100)/D14)-100 -> -5.304753
A15: BILBAO | B15: 1335794 | C15: 1828251.4 | D15: 18199807 | E15: 18087202 | F15: =((E15*100)/D15)-100 -> -0.61871315
A16: CARTAGENA | B16: 2215734 | C16: 2407327 | D16: 25741107 | E16: 25025669 | F16: =((E16*100)/D16)-100 -> -2.7793599
A17: CASTELLON | B17: 890637 | C17: 875566 | D17: 8654177 | E17: 8354528 | F17: =((E17*100)/D17)-100 -> -3.4624783
A18: CEUTA | B18: 52145 | C18: 118716 | D18: 626803 | E18: 876112 | F18: =((E18*100)/D18)-100 -> 39.774698
... A26: MOTRIL | B26: 108209 | C26: 102982 | D26: 1162031 | E26: 1197007 | F26: =((E26*100)/D26)-100 -> 3.0099025
A27: PASAIA | B27: 0 | C27: 0 | D27: 0 | E27: 0
A28: SANTA CRUZ DE TENERIFE | B28: 412079 | C28: 484249 | D28: 5732686 | E28: 6157862 | F28: =((E28*100)/D28)-100 -> 7.4166979
A29: SANTANDER | B29: 24998 | C29: 15973 | D29: 270926 | E29: 139775 | F29: =((E29*100)/D29)-100 -> -48.408421
A30: SEVILLA | B30: 54977 | C30: 16533 | D30: 274365 | E30: 229665 | F30: =((E30*100)/D30)-100 -> -16.292166
A31: TARRAGONA | B31: 1812612 | C31: 2078633 | D31: 22306303 | E31: 20268771 | F31: =((E31*100)/D31)-100 -> -9.134333
A32: VALENCIA | B32: 316585 | C32: 441744 | D32: 3814375 | E32: 3803068 | F32: =((E32*100)/D32)-100 -> -0.29643126
A33: VIGO | B33: 8480 | C33: 3000 | D33: 59580 | E33: 60452 | F33: =((E33*100)/D33)-100 -> 1.4635784
A34: VILAGARCIA | B34: 9172 | C34: 13187.09 | D34: 94856.57 | E34: 184160.09 | F34: =((E34*100)/D34)-100 -> 94.145846
A35: Total | B35: =SUM(B7:B34) -> 14012805 | C35: =SUM(C7:C34) -> 14647070 | D35: =SUM(D7:D34) -> 1.6805109e+08 | E35: =SUM(E7:E34) -> 1.6758332e+08 | F35: =((E35*100)/D35)-100 -> -0.27834901
B37: =E6 -> 2016 | C37: =D6 -> 2015 | F37: =B37 -> 2016 | G37: =C37 -> 2015
A38: =A7 -> A CORUÑA | B38: =E7 -> 8169622 | C38: =D7 -> 7913588 | D38: =_xlfn.RANK.EQ(B38,$B$38:$B$65)+COUNTIF($B$38:$B$65,B38)-1 -> 8 | E38: =INDEX($A$38:$B$65,MATCH(ROW()-37,$D$38:$D$65,0),1) -> BAHIA DE ALGECIRAS | F38: =LOOKUP(E38,$A$38:$A$65,$B$38:$B$65) -> 27309859 | G38: =LOOKUP(E38,$A$38:$A$65,$C$38:$C$65) -> 27344044
A39: =A8 -> ALICANTE | B39: =E8 -> 43336.06 | C39: =D8 -> 56820.54 | D39: =_xlfn.RANK.EQ(B39,$B$38:$B$65)+COUNTIF($B$38:$B$65,B39)-1 -> 25 | E39: =INDEX($A$38:$B$65,MATCH(ROW()-37,$D$38:$D$65,0),1) -> CARTAGENA | F39: =LOOKUP(E39,$A$38:$A$65,$B$38:$B$65) -> 25025669 | G39: =LOOKUP(E39,$A$38:$A$65,$C$38:$C$65) -> 25741107
A40: =A9 -> ALMERIA | B40: =E9 -> 28465 | C40: =D9 -> 22926 | D40: =_xlfn.RANK.EQ(B40,$B$38:$B$65)+COUNTIF($B$38:$B$65,B40)-1 -> 26 | E40: =INDEX($A$38:$B$65,MATCH(ROW()-37,$D$38:$D$65,0),1) -> HUELVA | F40: =LOOKUP(E40,$A$38:$A$65,$B$38:$B$65) -> 24136062 | G40: =LOOKUP(E40,$A$38:$A$65,$C$38:$C$65) -> 21598676
A41: =A10 -> AVILES | B41: =E10 -> 625174.85 | C41: =D10 -> 630851.09 | D41: =_xlfn.RANK.EQ(B41,$B$38:$B$65)+COUNTIF($B$38:$B$65,B41)-1 -> 17 | E41: =INDEX($A$38:$B$65,MATCH(ROW()-37,$D$38:$D$65,0),1) -> TARRAGONA | F41: =LOOKUP(E41,$A$38:$A$65,$B$38:$B$65) -> 20268771 | G41: =LOOKUP(E41,$A$38:$A$65,$C$38:$C$65) -> 22306303
A42: =A11 -> BAHIA DE ALGECIRAS | B42: =E11 -> 27309859 | C42: =D11 -> 27344044 | D42: =_xlfn.RANK.EQ(B42,$B$38:$B$65)+COUNTIF($B$38:$B$65,B42)-1 -> 1 | E42: =INDEX($A$38:$B$65,MATCH(ROW()-37,$D$38:$D$65,0),1) -> BILBAO | F42: =LOOKUP(E42,$A$38:$A$65,$B$38:$B$65) -> 18087202 | G42: =LOOKUP(E42,$A$38:$A$65,$C$38:$C$65) -> 18199807
A43: =A12 -> BAHIA DE CADIZ | B43: =E12 -> 404838 | C43: =D12 -> 296224 | D43: =_xlfn.RANK.EQ(B43,$B$38:$B$65)+COUNTIF($B$38:$B$65,B43)-1 -> 18 | E43: =INDEX($A$38:$B$65,MATCH(ROW()-37,$D$38:$D$65,0),1) -> BARCELONA | F43: =LOOKUP(E43,$A$38:$A$65,$B$38:$B$65) -> 11415816 | G43: =LOOKUP(E43,$A$38:$A$65,$C$38:$C$65) -> 12055321
A44: =A13 -> BALEARES | B44: =E13 -> 1541653 | C44: =D13 -> 1524756 | D44: =_xlfn.RANK.EQ(B44,$B$38:$B$65)+COUNTIF($B$38:$B$65,B44)-1 -> 13 | E44: =INDEX($A$38:$B$65,MATCH(ROW()-37,$D$38:$D$65,0),1) -> CASTELLON | F44: =LOOKUP(E44,$A$38:$A$65,$B$38:$B$65) -> 8354528 | G44: =LOOKUP(E44,$A$38:$A$65,$C$38:$C$65) -> 8654177
A45: =A14 -> BARCELONA | B45: =E14 -> 11415816 | C45: =D14 -> 12055321 | D45: =_xlfn.RANK.EQ(B45,$B$38:$B$65)+COUNTIF($B$38:$B$65,B45)-1 -> 6 | E45: =INDEX($A$38:$B$65,MATCH(ROW()-37,$D$38:$D$65,0),1) -> A CORUÑA | F45: =LOOKUP(E45,$A$38:$A$65,$B$38:$B$65) -> 8169622 | G45: =LOOKUP(E45,$A$38:$A$65,$C$38:$C$65) -> 7913588
A46: =A15 -> BILBAO | B46: =E15 -> 18087202 | C46: =D15 -> 18199807 | D46: =_xlfn.RANK.EQ(B46,$B$38:$B$65)+COUNTIF($B$38:$B$65,B46)-1 -> 5 | E46: =INDEX($A$38:$B$65,MATCH(ROW()-37,$D$38:$D$65,0),1) -> SANTA CRUZ DE TENERIFE | F46: =LOOKUP(E46,$A$38:$A$65,$B$38:$B$65) -> 6157862 | G46: =LOOKUP(E46,$A$38:$A$65,$C$38:$C$65) -> 5732686
A47: =A16 -> CARTAGENA | B47: =E16 -> 25025669 | C47: =D16 -> 25741107 | D47: =_xlfn.RANK.EQ(B47,$B$38:$B$65)+COUNTIF($B$38:$B$65,B47)-1 -> 2 | E47: =INDEX($A$38:$B$65,MATCH(ROW()-37,$D$38:$D$65,0),1) -> LAS PALMAS | F47: =LOOKUP(E47,$A$38:$A$65,$B$38:$B$65) -> 6119850 | G47: =LOOKUP(E47,$A$38:$A$65,$C$38:$C$65) -> 6385970
A48: =A17 -> CASTELLON | B48: =E17 -> 8354528 | C48: =D17 -> 8654177 | D48: =_xlfn.RANK.EQ(B48,$B$38:$B$65)+COUNTIF($B$38:$B$65,B48)-1 -> 7 | E48: =INDEX($A$38:$B$65,MATCH(ROW()-37,$D$38:$D$65,0),1) -> VALENCIA | F48: =LOOKUP(E48,$A$38:$A$65,$B$38:$B$65) -> 3803068 | G48: =LOOKUP(E48,$A$38:$A$65,$C$38:$C$65) -> 3814375
A49: =A18 -> CEUTA | B49: =E18 -> 876112 | C49: =D18 -> 626803 | D49: =_xlfn.RANK.EQ(B49,$B$38:$B$65)+COUNTIF($B$38:$B$65,B49)-1 -> 15 | E49: =INDEX($A$38:$B$65,MATCH(ROW()-37,$D$38:$D$65,0),1) -> FERROL-SAN CIBRAO | F49: =LOOKUP(E49,$A$38:$A$65,$B$38:$B$65) -> 2345048.8 | G49: =LOOKUP(E49,$A$38:$A$65,$C$38:$C$65) -> 2194480
... A65: =A34 -> VILAGARCIA | B65: =E34 -> 184160.09 | C65: =D34 -> 94856.57 | D65: =_xlfn.RANK.EQ(B65,$B$38:$B$65)+COUNTIF($B$38:$B$65,B65)-1 -> 20 | E65: =INDEX($A$38:$B$65,MATCH(ROW()-37,$D$38:$D$65,0),1) -> PASAIA | F65: =LOOKUP(E65,$A$38:$A$65,$B$38:$B$65) -> 0 | G65: =LOOKUP(E65,$A$38:$A$65,$C$38:$C$65) -> 0

Sheet Sólidos
F1: 3. GRANELES SÓLIDOS (Toneladas)
A5: Autoridad Portuaria | B5: ='Resumen general'!D6 -> Mes Diciembre | D5: ='Resumen general'!F6 -> Acumulado desde Enero | L5: ='Resumen general'!I4 -> Fecha: 05/02/2018
B6: ='Resumen general'!D7 -> 2015 | C6: ='Resumen general'!E7 -> 2016 | D6: ='Resumen general'!F7 -> 2015 | E6: ='Resumen general'!G7 -> 2016 | F6: Var. (%)
A7: A CORUÑA | B7: 454207 | C7: 448578 | D7: 4912338 | E7: 4345101 | F7: =((E7*100)/D7)-100 -> -11.54719
A8: ALICANTE | B8: 144550.99 | C8: 94270.34 | D8: 1244009 | E8: 1904456.3 | F8: =((E8*100)/D8)-100 -> 53.090239
A9: ALMERIA | B9: 438631 | C9: 481843 | D9: 5762813 | E9: 4695167 | F9: =((E9*100)/D9)-100 -> -18.526473
A10: AVILES | B10: 343379.14 | C10: 296135.46 | D10: 3260161.1 | E10: 2920900.5 | F10: =((E10*100)/D10)-100 -> -10.406255
A11: BAHIA DE ALGECIRAS | B11: 48755 | C11: 399110 | D11: 2130519 | E11: 1778840 | F11: =((E11*100)/D11)-100 -> -16.506729
A12: BAHIA DE CADIZ | B12: 66219 | C12: 142299 | D12: 1623696 | E12: 1763516 | F12: =((E12*100)/D12)-100 -> 8.6112179
A13: BALEARES | B13: 68331 | C13: 145351 | D13: 1215735 | E13: 1550899 | F13: =((E13*100)/D13)-100 -> 27.568837
A14: BARCELONA | B14: 458483 | C14: 446616 | D14: 4426087 | E14: 4430798 | F14: =((E14*100)/D14)-100 -> 0.10643713
A15: BILBAO | B15: 318012 | C15: 480783 | D15: 4528219 | E15: 4362064 | F15: =((E15*100)/D15)-100 -> -3.6693234
A16: CARTAGENA | B16: 580816 | C16: 372116 | D16: 5554193 | E16: 5304817 | F16: =((E16*100)/D16)-100 -> -4.4898692
A17: CASTELLON | B17: 410019 | C17: 501262 | D17: 4636911 | E17: 5198982 | F17: =((E17*100)/D17)-100 -> 12.121669
A18: CEUTA | B18: 1500 | C18: 0 | D18: 25625 | E18: 22249 | F18: =((E18*100)/D18)-100 -> -13.174634
... A34: VILAGARCIA | B34: 62574.36 | C34: 57030.16 | D34: 403439.36 | E34: 320553.16 | F34: =((E34*100)/D34)-100 -> -20.544897
A35: Total | B35: =SUM(B7:B34) -> 8672351.8 | C35: =SUM(C7:C34) -> 8341804.8 | D35: =SUM(D7:D34) -> 95972002 | E35: =SUM(E7:E34) -> 91993448 | F35: =((E35*100)/D35)-100 -> -4.145536
B37: =E6 -> 2016 | C37: =D6 -> 2015 | F37: =B37 -> 2016 | G37: =C37 -> 2015
A38: =A7 -> A CORUÑA | B38: =E7 -> 4345101 | C38: =D7 -> 4912338 | D38: =_xlfn.RANK.EQ(B38,$B$38:$B$65)+COUNTIF($B$38:$B$65,B38)-1 -> 10 | E38: =INDEX($A$38:$B$65,MATCH(ROW()-37,$D$38:$D$65,0),1) -> GIJON | F38: =LOOKUP(E38,$A$38:$A$65,$B$38:$B$65) -> 16023647 | G38: =LOOKUP(E38,$A$38:$A$65,$C$38:$C$65) -> 18905283
A39: =A8 -> ALICANTE | B39: =E8 -> 1904456.3 | C39: =D8 -> 1244009 | D39: =_xlfn.RANK.EQ(B39,$B$38:$B$65)+COUNTIF($B$38:$B$65,B39)-1 -> 15 | E39: =INDEX($A$38:$B$65,MATCH(ROW()-37,$D$38:$D$65,0),1) -> FERROL-SAN CIBRAO | F39: =LOOKUP(E39,$A$38:$A$65,$B$38:$B$65) -> 9406039 | G39: =LOOKUP(E39,$A$38:$A$65,$C$38:$C$65) -> 9839879
A40: =A9 -> ALMERIA | B40: =E9 -> 4695167 | C40: =D9 -> 5762813 | D40: =_xlfn.RANK.EQ(B40,$B$38:$B$65)+COUNTIF($B$38:$B$65,B40)-1 -> 7 | E40: =INDEX($A$38:$B$65,MATCH(ROW()-37,$D$38:$D$65,0),1) -> TARRAGONA | F40: =LOOKUP(E40,$A$38:$A$65,$B$38:$B$65) -> 9065474 | G40: =LOOKUP(E40,$A$38:$A$65,$C$38:$C$65) -> 8391029
A41: =A10 -> AVILES | B41: =E10 -> 2920900.5 | C41: =D10 -> 3260161.1 | D41: =_xlfn.RANK.EQ(B41,$B$38:$B$65)+COUNTIF($B$38:$B$65,B41)-1 -> 11 | E41: =INDEX($A$38:$B$65,MATCH(ROW()-37,$D$38:$D$65,0),1) -> HUELVA | F41: =LOOKUP(E41,$A$38:$A$65,$B$38:$B$65) -> 5759382.8 | G41: =LOOKUP(E41,$A$38:$A$65,$C$38:$C$65) -> 5137350.4
A42: =A11 -> BAHIA DE ALGECIRAS | B42: =E11 -> 1778840 | C42: =D11 -> 2130519 | D42: =_xlfn.RANK.EQ(B42,$B$38:$B$65)+COUNTIF($B$38:$B$65,B42)-1 -> 16 | E42: =INDEX($A$38:$B$65,MATCH(ROW()-37,$D$38:$D$65,0),1) -> CARTAGENA | F42: =LOOKUP(E42,$A$38:$A$65,$B$38:$B$65) -> 5304817 | G42: =LOOKUP(E42,$A$38:$A$65,$C$38:$C$65) -> 5554193
A43: =A12 -> BAHIA DE CADIZ | B43: =E12 -> 1763516 | C43: =D12 -> 1623696 | D43: =_xlfn.RANK.EQ(B43,$B$38:$B$65)+COUNTIF($B$38:$B$65,B43)-1 -> 17 | E43: =INDEX($A$38:$B$65,MATCH(ROW()-37,$D$38:$D$65,0),1) -> CASTELLON | F43: =LOOKUP(E43,$A$38:$A$65,$B$38:$B$65) -> 5198982 | G43: =LOOKUP(E43,$A$38:$A$65,$C$38:$C$65) -> 4636911
A44: =A13 -> BALEARES | B44: =E13 -> 1550899 | C44: =D13 -> 1215735 | D44: =_xlfn.RANK.EQ(B44,$B$38:$B$65)+COUNTIF($B$38:$B$65,B44)-1 -> 19 | E44: =INDEX($A$38:$B$65,MATCH(ROW()-37,$D$38:$D$65,0),1) -> ALMERIA | F44: =LOOKUP(E44,$A$38:$A$65,$B$38:$B$65) -> 4695167 | G44: =LOOKUP(E44,$A$38:$A$65,$C$38:$C$65) -> 5762813
A45: =A14 -> BARCELONA | B45: =E14 -> 4430798 | C45: =D14 -> 4426087 | D45: =_xlfn.RANK.EQ(B45,$B$38:$B$65)+COUNTIF($B$38:$B$65,B45)-1 -> 8 | E45: =INDEX($A$38:$B$65,MATCH(ROW()-37,$D$38:$D$65,0),1) -> BARCELONA | F45: =LOOKUP(E45,$A$38:$A$65,$B$38:$B$65) -> 4430798 | G45: =LOOKUP(E45,$A$38:$A$65,$C$38:$C$65) -> 4426087
A46: =A15 -> BILBAO | B46: =E15 -> 4362064 | C46: =D15 -> 4528219 | D46: =_xlfn.RANK.EQ(B46,$B$38:$B$65)+COUNTIF($B$38:$B$65,B46)-1 -> 9 | E46: =INDEX($A$38:$B$65,MATCH(ROW()-37,$D$38:$D$65,0),1) -> BILBAO | F46: =LOOKUP(E46,$A$38:$A$65,$B$38:$B$65) -> 4362064 | G46: =LOOKUP(E46,$A$38:$A$65,$C$38:$C$65) -> 4528219
A47: =A16 -> CARTAGENA | B47: =E16 -> 5304817 | C47: =D16 -> 5554193 | D47: =_xlfn.RANK.EQ(B47,$B$38:$B$65)+COUNTIF($B$38:$B$65,B47)-1 -> 5 | E47: =INDEX($A$38:$B$65,MATCH(ROW()-37,$D$38:$D$65,0),1) -> A CORUÑA | F47: =LOOKUP(E47,$A$38:$A$65,$B$38:$B$65) -> 4345101 | G47: =LOOKUP(E47,$A$38:$A$65,$C$38:$C$65) -> 4912338
A48: =A17 -> CASTELLON | B48: =E17 -> 5198982 | C48: =D17 -> 4636911 | D48: =_xlfn.RANK.EQ(B48,$B$38:$B$65)+COUNTIF($B$38:$B$65,B48)-1 -> 6 | E48: =INDEX($A$38:$B$65,MATCH(ROW()-37,$D$38:$D$65,0),1) -> AVILES | F48: =LOOKUP(E48,$A$38:$A$65,$B$38:$B$65) -> 2920900.5 | G48: =LOOKUP(E48,$A$38:$A$65,$C$38:$C$65) -> 3260161.1
A49: =A18 -> CEUTA | B49: =E18 -> 22249 | C49: =D18 -> 25625 | D49: =_xlfn.RANK.EQ(B49,$B$38:$B$65)+COUNTIF($B$38:$B$65,B49)-1 -> 27 | E49: =INDEX($A$38:$B$65,MATCH(ROW()-37,$D$38:$D$65,0),1) -> SANTANDER | F49: =LOOKUP(E49,$A$38:$A$65,$B$38:$B$65) -> 2823113 | G49: =LOOKUP(E49,$A$38:$A$65,$C$38:$C$65) -> 3518578
... A65: =A34 -> VILAGARCIA | B65: =E34 -> 320553.16 | C65: =D34 -> 403439.36 | D65: =_xlfn.RANK.EQ(B65,$B$38:$B$65)+COUNTIF($B$38:$B$65,B65)-1 -> 25 | E65: =INDEX($A$38:$B$65,MATCH(ROW()-37,$D$38:$D$65,0),1) -> MELILLA | F65: =LOOKUP(E65,$A$38:$A$65,$B$38:$B$65) -> 5825 | G65: =LOOKUP(E65,$A$38:$A$65,$C$38:$C$65) -> 3425

Sheet Mercancía general
F1: 4. MERCANCÍA GENERAL (Toneladas)
A5: Autoridad Portuaria | B5: ='Resumen general'!D6 -> Mes Diciembre | D5: ='Resumen general'!F6 -> Acumulado desde Enero | L5: ='Resumen general'!I4 -> Fecha: 05/02/2018
B6: ='Resumen general'!D7 -> 2015 | C6: ='Resumen general'!E7 -> 2016 | D6: ='Resumen general'!F7 -> 2015 | E6: ='Resumen general'!G7 -> 2016 | F6: Var. (%)
A7: A CORUÑA | B7: 91935 | C7: 81486 | D7: 938311 | E7: 1012375 | F7: =((E7*100)/D7)-100 -> 7.8933317
A8: ALICANTE | B8: 107025 | C8: 137869.13 | D8: 1286046.2 | E8: 1494788.1 | F8: =((E8*100)/D8)-100 -> 16.231292
A9: ALMERIA | B9: 53940 | C9: 59514 | D9: 604805 | E9: 666391 | F9: =((E9*100)/D9)-100 -> 10.182786
A10: AVILES | B10: 69345 | C10: 204203.78 | D10: 1217839.3 | E10: 1363057.8 | F10: =((E10*100)/D10)-100 -> 11.924272
A11: BAHIA DE ALGECIRAS | B11: 5496965 | C11: 5453868 | D11: 62474996 | E11: 67772961 | F11: =((E11*100)/D11)-100 -> 8.4801366
A12: BAHIA DE CADIZ | B12: 119535 | C12: 107368 | D12: 1328185 | E12: 1329300 | F12: =((E12*100)/D12)-100 -> 0.083949149
A13: BALEARES | B13: 757663 | C13: 782140 | D13: 10577093 | E13: 11583653 | F13: =((E13*100)/D13)-100 -> 9.5164144
A14: BARCELONA | B14: 2449087 | C14: 2525566 | D14: 29439846 | E14: 31666349 | F14: =((E14*100)/D14)-100 -> 7.5628894
A15: BILBAO | B15: 916579 | C15: 1090646 | D15: 9671797 | E15: 9499477 | F15: =((E15*100)/D15)-100 -> -1.7816751
A16: CARTAGENA | B16: 111349 | C16: 85953 | D16: 1283558 | E16: 1394137 | F16: =((E16*100)/D16)-100 -> 8.6150373
A17: CASTELLON | B17: 259729 | C17: 306805 | D17: 3153682 | E17: 3489164 | F17: =((E17*100)/D17)-100 -> 10.637788
A18: CEUTA | B18: 84691 | C18: 87837 | D18: 996852 | E18: 1036230 | F18: =((E18*100)/D18)-100 -> 3.9502353
... A34: VILAGARCIA | B34: 38555 | C34: 44297.61 | D34: 526608.74 | E34: 601068.61 | F34: =((E34*100)/D34)-100 -> 14.139505
A35: Total | B35: =SUM(B7:B34) -> 18622622 | C35: =SUM(C7:C34) -> 19612269 | D35: =SUM(D7:D34) -> 2.2440507e+08 | E35: =SUM(E7:E34) -> 2.3603122e+08 | F35: =((E35*100)/D35)-100 -> 5.180876
B37: =E6 -> 2016 | C37: =D6 -> 2015 | F37: =B37 -> 2016 | G37: =C37 -> 2015
A38: =A7 -> A CORUÑA | B38: =E7 -> 1012375 | C38: =D7 -> 938311 | D38: =_xlfn.RANK.EQ(B38,$B$38:$B$65)+COUNTIF($B$38:$B$65,B38)-1 -> 22 | E38: =INDEX($A$38:$B$65,MATCH(ROW()-37,$D$38:$D$65,0),1) -> BAHIA DE ALGECIRAS | F38: =LOOKUP(E38,$A$38:$A$65,$B$38:$B$65) -> 67772961 | G38: =LOOKUP(E38,$A$38:$A$65,$C$38:$C$65) -> 62474996
A39: =A8 -> ALICANTE | B39: =E8 -> 1494788.1 | C39: =D8 -> 1286046.2 | D39: =_xlfn.RANK.EQ(B39,$B$38:$B$65)+COUNTIF($B$38:$B$65,B39)-1 -> 15 | E39: =INDEX($A$38:$B$65,MATCH(ROW()-37,$D$38:$D$65,0),1) -> VALENCIA | F39: =LOOKUP(E39,$A$38:$A$65,$B$38:$B$65) -> 64660896 | G39: =LOOKUP(E39,$A$38:$A$65,$C$38:$C$65) -> 63102097
A40: =A9 -> ALMERIA | B40: =E9 -> 666391 | C40: =D9 -> 604805 | D40: =_xlfn.RANK.EQ(B40,$B$38:$B$65)+COUNTIF($B$38:$B$65,B40)-1 -> 25 | E40: =INDEX($A$38:$B$65,MATCH(ROW()-37,$D$38:$D$65,0),1) -> BARCELONA | F40: =LOOKUP(E40,$A$38:$A$65,$B$38:$B$65) -> 31666349 | G40: =LOOKUP(E40,$A$38:$A$65,$C$38:$C$65) -> 29439846
A41: =A10 -> AVILES | B41: =E10 -> 1363057.8 | C41: =D10 -> 1217839.3 | D41: =_xlfn.RANK.EQ(B41,$B$38:$B$65)+COUNTIF($B$38:$B$65,B41)-1 -> 17 | E41: =INDEX($A$38:$B$65,MATCH(ROW()-37,$D$38:$D$65,0),1) -> LAS PALMAS | F41: =LOOKUP(E41,$A$38:$A$65,$B$38:$B$65) -> 13538658 | G41: =LOOKUP(E41,$A$38:$A$65,$C$38:$C$65) -> 14111552
A42: =A11 -> BAHIA DE ALGECIRAS | B42: =E11 -> 67772961 | C42: =D11 -> 62474996 | D42: =_xlfn.RANK.EQ(B42,$B$38:$B$65)+COUNTIF($B$38:$B$65,B42)-1 -> 1 | E42: =INDEX($A$38:$B$65,MATCH(ROW()-37,$D$38:$D$65,0),1) -> BALEARES | F42: =LOOKUP(E42,$A$38:$A$65,$B$38:$B$65) -> 11583653 | G42: =LOOKUP(E42,$A$38:$A$65,$C$38:$C$65) -> 10577093
A43: =A12 -> BAHIA DE CADIZ | B43: =E12 -> 1329300 | C43: =D12 -> 1328185 | D43: =_xlfn.RANK.EQ(B43,$B$38:$B$65)+COUNTIF($B$38:$B$65,B43)-1 -> 18 | E43: =INDEX($A$38:$B$65,MATCH(ROW()-37,$D$38:$D$65,0),1) -> BILBAO | F43: =LOOKUP(E43,$A$38:$A$65,$B$38:$B$65) -> 9499477 | G43: =LOOKUP(E43,$A$38:$A$65,$C$38:$C$65) -> 9671797
A44: =A13 -> BALEARES | B44: =E13 -> 11583653 | C44: =D13 -> 10577093 | D44: =_xlfn.RANK.EQ(B44,$B$38:$B$65)+COUNTIF($B$38:$B$65,B44)-1 -> 5 | E44: =INDEX($A$38:$B$65,MATCH(ROW()-37,$D$38:$D$65,0),1) -> SANTA CRUZ DE TENERIFE | F44: =LOOKUP(E44,$A$38:$A$65,$B$38:$B$65) -> 6385031 | G44: =LOOKUP(E44,$A$38:$A$65,$C$38:$C$65) -> 5901512
A45: =A14 -> BARCELONA | B45: =E14 -> 31666349 | C45: =D14 -> 29439846 | D45: =_xlfn.RANK.EQ(B45,$B$38:$B$65)+COUNTIF($B$38:$B$65,B45)-1 -> 3 | E45: =INDEX($A$38:$B$65,MATCH(ROW()-37,$D$38:$D$65,0),1) -> VIGO | F45: =LOOKUP(E45,$A$38:$A$65,$B$38:$B$65) -> 3566241 | G45: =LOOKUP(E45,$A$38:$A$65,$C$38:$C$65) -> 3679943
A46: =A15 -> BILBAO | B46: =E15 -> 9499477 | C46: =D15 -> 9671797 | D46: =_xlfn.RANK.EQ(B46,$B$38:$B$65)+COUNTIF($B$38:$B$65,B46)-1 -> 6 | E46: =INDEX($A$38:$B$65,MATCH(ROW()-37,$D$38:$D$65,0),1) -> CASTELLON | F46: =LOOKUP(E46,$A$38:$A$65,$B$38:$B$65) -> 3489164 | G46: =LOOKUP(E46,$A$38:$A$65,$C$38:$C$65) -> 3153682
A47: =A16 -> CARTAGENA | B47: =E16 -> 1394137 | C47: =D16 -> 1283558 | D47: =_xlfn.RANK.EQ(B47,$B$38:$B$65)+COUNTIF($B$38:$B$65,B47)-1 -> 16 | E47: =INDEX($A$38:$B$65,MATCH(ROW()-37,$D$38:$D$65,0),1) -> SEVILLA | F47: =LOOKUP(E47,$A$38:$A$65,$B$38:$B$65) -> 2310497 | G47: =LOOKUP(E47,$A$38:$A$65,$C$38:$C$65) -> 2309007
A48: =A17 -> CASTELLON | B48: =E17 -> 3489164 | C48: =D17 -> 3153682 | D48: =_xlfn.RANK.EQ(B48,$B$38:$B$65)+COUNTIF($B$38:$B$65,B48)-1 -> 9 | E48: =INDEX($A$38:$B$65,MATCH(ROW()-37,$D$38:$D$65,0),1) -> PASAIA | F48: =LOOKUP(E48,$A$38:$A$65,$B$38:$B$65) -> 2294657 | G48: =LOOKUP(E48,$A$38:$A$65,$C$38:$C$65) -> 2044245
A49: =A18 -> CEUTA | B49: =E18 -> 1036230 | C49: =D18 -> 996852 | D49: =_xlfn.RANK.EQ(B49,$B$38:$B$65)+COUNTIF($B$38:$B$65,B49)-1 -> 21 | E49: =INDEX($A$38:$B$65,MATCH(ROW()-37,$D$38:$D$65,0),1) -> TARRAGONA | F49: =LOOKUP(E49,$A$38:$A$65,$B$38:$B$65) -> 1994525 | G49: =LOOKUP(E49,$A$38:$A$65,$C$38:$C$65) -> 2237437
... A65: =A34 -> VILAGARCIA | B65: =E34 -> 601068.61 | C65: =D34 -> 526608.74 | D65: =_xlfn.RANK.EQ(B65,$B$38:$B$65)+COUNTIF($B$38:$B$65,B65)-1 -> 26 | E65: =INDEX($A$38:$B$65,MATCH(ROW()-37,$D$38:$D$65,0),1) -> HUELVA | F65: =LOOKUP(E65,$A$38:$A$65,$B$38:$B$65) -> 485783.93 | G65: =LOOKUP(E65,$A$38:$A$65,$C$38:$C$65) -> 480024.16

Sheet Pesca
F1: 5. PESCA (Toneladas)
A5: Autoridad Portuaria | B5: ='Resumen general'!D6 -> Mes Diciembre | D5: ='Resumen general'!F6 -> Acumulado desde Enero | L5: ='Resumen general'!I4 -> Fecha: 05/02/2018
B6: ='Resumen general'!D7 -> 2015 | C6: ='Resumen general'!E7 -> 2016 | D6: ='Resumen general'!F7 -> 2015 | E6: ='Resumen general'!G7 -> 2016 | F6: Var. (%)
A7: A CORUÑA | B7: 1481 | C7: 3399.2 | D7: 43739 | E7: 43690.2 | F7: =((E7*100)/D7)-100 -> -0.11157091
A8: ALICANTE | B8: 18 | C8: 26.37 | D8: 226.54 | E8: 254.37 | F8: =((E8*100)/D8)-100 -> 12.284806
A9: ALMERIA | B9: 222 | C9: 76 | D9: 2717 | E9: 1945 | F9: =((E9*100)/D9)-100 -> -28.413692
A10: AVILES | B10: 1057 | C10: 650.94 | D10: 16673.35 | E10: 12556.94 | F10: =((E10*100)/D10)-100 -> -24.68856
A11: BAHIA DE ALGECIRAS | B11: 34 | C11: 53 | D11: 1102 | E11: 868 | F11: =((E11*100)/D11)-100 -> -21.23412
A12: BAHIA DE CADIZ | B12: 977 | C12: 927.2 | D12: 12926 | E12: 17333.2 | F12: =((E12*100)/D12)-100 -> 34.095621
A13: BALEARES | B13: 886 | C13: 221.4 | D13: 3057 | E13: 2990.4 | F13: =((E13*100)/D13)-100 -> -2.1786065
A14: BARCELONA | B14: 62 | C14: 10 | D14: 3378 | E14: 3314 | F14: =((E14*100)/D14)-100 -> -1.8946122
A15: BILBAO | B15: 0 | C15: 0 | D15: 0 | E15: 0
A16: CARTAGENA | B16: 30 | C16: 33 | D16: 598 | E16: 510 | F16: =((E16*100)/D16)-100 -> -14.715719
A17: CASTELLON | B17: 130 | C17: 151 | D17: 4138 | E17: 4731 | F17: =((E17*100)/D17)-100 -> 14.330594
A18: CEUTA | B18: 40 | C18: 34 | D18: 47.82 | E18: 34 | F18: =((E18*100)/D18)-100 -> -28.900042
A19: FERROL-SAN CIBRAO | B19: 32 | C19: 29.99 | D19: 268 | E19: 266.99 | F19: =((E19*100)/D19)-100 -> -0.37686567
A20: GIJON | B20: 1807 | C20: 309.2 | D20: 6781 | E20: 8284.2 | F20: =((E20*100)/D20)-100 -> 22.167822
A21: HUELVA | B21: 185 | C21: 162.59 | D21: 2293.95 | E21: 2031.59 | F21: =((E21*100)/D21)-100 -> -11.437041
A22: LAS PALMAS | B22: 93 | C22: 29 | D22: 1785 | E22: 1841 | F22: =((E22*100)/D22)-100 -> 3.1372549
A23: MALAGA | B23: 132 | C23: 6.54 | D23: 619.36 | E23: 638.54 | F23: =((E23*100)/D23)-100 -> 3.096745
A24: MARIN Y RIA DE PONTEVEDRA | B24: 144 | C24: 166.32 | D24: 1796.07 | E24: 2046.32 | F24: =((E24*100)/D24)-100 -> 13.933199
A25: MELILLA | B25: 0 | C25: 0 | D25: 0 | E25: 0
A26: MOTRIL | B26: 109 | C26: 50 | D26: 1325 | E26: 963 | F26: =((E26*100)/D26)-100 -> -27.320755
A27: PASAIA | B27: 2225 | C27: 2700.2 | D27: 23216 | E27: 27551.2 | F27: =((E27*100)/D27)-100 -> 18.673329
A28: SANTA CRUZ DE TENERIFE | B28: 296 | C28: 174 | D28: 5469 | E28: 7661 | F28: =((E28*100)/D28)-100 -> 40.080453
A29: SANTANDER | B29: 201 | C29: 210 | D29: 4215 | E29: 3577 | F29: =((E29*100)/D29)-100 -> -15.136418
A30: SEVILLA | B30: 0 | C30: 0 | D30: 0 | E30: 0
A31: TARRAGONA | B31: 392 | C31: 426.161 | D31: 4005 | E31: 4489.161 | F31: =((E31*100)/D31)-100 -> 12.088914
A32: VALENCIA | B32: 97 | C32: 103 | D32: 1891 | E32: 1991 | F32: =((E32*100)/D32)-100 -> 5.2882073
A33: VIGO | B33: 10340 | C33: 11267.3 | D33: 77863 | E33: 83366.3 | F33: =((E33*100)/D33)-100 -> 7.067927
A34: VILAGARCIA | B34: 0 | C34: 0 | D34: 0 | E34: 0
A35: Total | B35: =SUM(B7:B34) -> 20990 | C35: =SUM(C7:C34) -> 21216.411 | D35: =SUM(D7:D34) -> 220130.09 | E35: =SUM(E7:E34) -> 232934.41 | F35: =((E35*100)/D35)-100 -> 5.8167064
B37: =E6 -> 2016 | C37: =D6 -> 2015 | F37: =B37 -> 2016 | G37: =C37 -> 2015
A38: =A7 -> A CORUÑA | B38: =E7 -> 43690.2 | C38: =D7 -> 43739 | D38: =_xlfn.RANK.EQ(B38,$B$38:$B$65)+COUNTIF($B$38:$B$65,B38)-1 -> 2 | E38: =INDEX($A$38:$B$65,MATCH(ROW()-37,$D$38:$D$65,0),1) -> VIGO | F38: =LOOKUP(E38,$A$38:$A$65,$B$38:$B$65) -> 83366.3 | G38: =LOOKUP(E38,$A$38:$A$65,$C$38:$C$65) -> 77863
A39: =A8 -> ALICANTE | B39: =E8 -> 254.37 | C39: =D8 -> 226.54 | D39: =_xlfn.RANK.EQ(B39,$B$38:$B$65)+COUNTIF($B$38:$B$65,B39)-1 -> 23 | E39: =INDEX($A$38:$B$65,MATCH(ROW()-37,$D$38:$D$65,0),1) -> A CORUÑA | F39: =LOOKUP(E39,$A$38:$A$65,$B$38:$B$65) -> 43690.2 | G39: =LOOKUP(E39,$A$38:$A$65,$C$38:$C$65) -> 43739
A40: =A9 -> ALMERIA | B40: =E9 -> 1945 | C40: =D9 -> 2717 | D40: =_xlfn.RANK.EQ(B40,$B$38:$B$65)+COUNTIF($B$38:$B$65,B40)-1 -> 16 | E40: =INDEX($A$38:$B$65,MATCH(ROW()-37,$D$38:$D$65,0),1) -> PASAIA | F40: =LOOKUP(E40,$A$38:$A$65,$B$38:$B$65) -> 27551.2 | G40: =LOOKUP(E40,$A$38:$A$65,$C$38:$C$65) -> 23216
A41: =A10 -> AVILES | B41: =E10 -> 12556.94 | C41: =D10 -> 16673.35 | D41: =_xlfn.RANK.EQ(B41,$B$38:$B$65)+COUNTIF($B$38:$B$65,B41)-1 -> 5 | E41: =INDEX($A$38:$B$65,MATCH(ROW()-37,$D$38:$D$65,0),1) -> BAHIA DE CADIZ | F41: =LOOKUP(E41,$A$38:$A$65,$B$38:$B$65) -> 17333.2 | G41: =LOOKUP(E41,$A$38:$A$65,$C$38:$C$65) -> 12926
A42: =A11 -> BAHIA DE ALGECIRAS | B42: =E11 -> 868 | C42: =D11 -> 1102 | D42: =_xlfn.RANK.EQ(B42,$B$38:$B$65)+COUNTIF($B$38:$B$65,B42)-1 -> 19 | E42: =INDEX($A$38:$B$65,MATCH(ROW()-37,$D$38:$D$65,0),1) -> AVILES | F42: =LOOKUP(E42,$A$38:$A$65,$B$38:$B$65) -> 12556.94 | G42: =LOOKUP(E42,$A$38:$A$65,$C$38:$C$65) -> 16673.35
A43: =A12 -> BAHIA DE CADIZ | B43: =E12 -> 17333.2 | C43: =D12 -> 12926 | D43: =_xlfn.RANK.EQ(B43,$B$38:$B$65)+COUNTIF($B$38:$B$65,B43)-1 -> 4 | E43: =INDEX($A$38:$B$65,MATCH(ROW()-37,$D$38:$D$65,0),1) -> GIJON | F43: =LOOKUP(E43,$A$38:$A$65,$B$38:$B$65) -> 8284.2 | G43: =LOOKUP(E43,$A$38:$A$65,$C$38:$C$65) -> 6781
A44: =A13 -> BALEARES | B44: =E13 -> 2990.4 | C44: =D13 -> 3057 | D44: =_xlfn.RANK.EQ(B44,$B$38:$B$65)+COUNTIF($B$38:$B$65,B44)-1 -> 12 | E44: =INDEX($A$38:$B$65,MATCH(ROW()-37,$D$38:$D$65,0),1) -> SANTA CRUZ DE TENERIFE | F44: =LOOKUP(E44,$A$38:$A$65,$B$38:$B$65) -> 7661 | G44: =LOOKUP(E44,$A$38:$A$65,$C$38:$C$65) -> 5469
A45: =A14 -> BARCELONA | B45: =E14 -> 3314 | C45: =D14 -> 3378 | D45: =_xlfn.RANK.EQ(B45,$B$38:$B$65)+COUNTIF($B$38:$B$65,B45)-1 -> 11 | E45: =INDEX($A$38:$B$65,MATCH(ROW()-37,$D$38:$D$65,0),1) -> CASTELLON | F45: =LOOKUP(E45,$A$38:$A$65,$B$38:$B$65) -> 4731 | G45: =LOOKUP(E45,$A$38:$A$65,$C$38:$C$65) -> 4138
A46: =A15 -> BILBAO | B46: =E15 -> 0 | C46: =D15 -> 0 | D46: =_xlfn.RANK.EQ(B46,$B$38:$B$65)+COUNTIF($B$38:$B$65,B46)-1 -> 28 | E46: =INDEX($A$38:$B$65,MATCH(ROW()-37,$D$38:$D$65,0),1) -> TARRAGONA | F46: =LOOKUP(E46,$A$38:$A$65,$B$38:$B$65) -> 4489.161 | G46: =LOOKUP(E46,$A$38:$A$65,$C$38:$C$65) -> 4005
A47: =A16 -> CARTAGENA | B47: =E16 -> 510 | C47: =D16 -> 598 | D47: =_xlfn.RANK.EQ(B47,$B$38:$B$65)+COUNTIF($B$38:$B$65,B47)-1 -> 21 | E47: =INDEX($A$38:$B$65,MATCH(ROW()-37,$D$38:$D$65,0),1) -> SANTANDER | F47: =LOOKUP(E47,$A$38:$A$65,$B$38:$B$65) -> 3577 | G47: =LOOKUP(E47,$A$38:$A$65,$C$38:$C$65) -> 4215
A48: =A17 -> CASTELLON | B48: =E17 -> 4731 | C48: =D17 -> 4138 | D48: =_xlfn.RANK.EQ(B48,$B$38:$B$65)+COUNTIF($B$38:$B$65,B48)-1 -> 8 | E48: =INDEX($A$38:$B$65,MATCH(ROW()-37,$D$38:$D$65,0),1) -> BARCELONA | F48: =LOOKUP(E48,$A$38:$A$65,$B$38:$B$65) -> 3314 | G48: =LOOKUP(E48,$A$38:$A$65,$C$38:$C$65) -> 3378
A49: =A18 -> CEUTA | B49: =E18 -> 34 | C49: =D18 -> 47.82 | D49: =_xlfn.RANK.EQ(B49,$B$38:$B$65)+COUNTIF($B$38:$B$65,B49)-1 -> 24 | E49: =INDEX($A$38:$B$65,MATCH(ROW()-37,$D$38:$D$65,0),1) -> BALEARES | F49: =LOOKUP(E49,$A$38:$A$65,$B$38:$B$65) -> 2990.4 | G49: =LOOKUP(E49,$A$38:$A$65,$C$38:$C$65) -> 3057
... A65: =A34 -> VILAGARCIA | B65: =E34 -> 0 | C65: =D34 -> 0 | D65: =_xlfn.RANK.EQ(B65,$B$38:$B$65)+COUNTIF($B$38:$B$65,B65)-1 -> 28 | E65: =INDEX($A$38:$B$65,MATCH(ROW()-37,$D$38:$D$65,0),1) -> BILBAO | F65: =LOOKUP(E65,$A$38:$A$65,$B$38:$B$65) -> 0 | G65: =LOOKUP(E65,$A$38:$A$65,$C$38:$C$65) -> 0

Sheet Avituallamiento
F1: 6. AVITUALLAMIENTO (Toneladas)
A5: Autoridad Portuaria | B5: ='Resumen general'!D6 -> Mes Diciembre | D5: ='Resumen general'!F6 -> Acumulado desde Enero | L5: ='Resumen general'!I4 -> Fecha: 05/02/2018
B6: ='Resumen general'!D7 -> 2015 | C6: ='Resumen general'!E7 -> 2016 | D6: ='Resumen general'!F7 -> 2015 | E6: ='Resumen general'!G7 -> 2016 | F6: Var. (%)
A7: A CORUÑA | B7: 28851 | C7: 37192.4 | D7: 73466 | E7: 71417.4 | F7: =((E7*100)/D7)-100 -> -2.7885008
A8: ALICANTE | B8: 2233 | C8: 1399.4 | D8: 29832 | E8: 28728.4 | F8: =((E8*100)/D8)-100 -> -3.6993832
A9: ALMERIA | B9: 5450 | C9: 5295.4 | D9: 71750 | E9: 75340.4 | F9: =((E9*100)/D9)-100 -> 5.0040418
A10: AVILES | B10: 28469 | C10: 29772 | D10: 48094 | E10: 49777 | F10: =((E10*100)/D10)-100 -> 3.499397
A11: BAHIA DE ALGECIRAS | B11: 282213 | C11: 240453.4 | D11: 3340394 | E11: 3301452 | F11: =((E11*100)/D11)-100 -> -1.1657906
A12: BAHIA DE CADIZ | B12: 8744 | C12: 7590 | D12: 149547 | E12: 145060 | F12: =((E12*100)/D12)-100 -> -3.0003945
A13: BALEARES | B13: 10699 | C13: 6947.4 | D13: 205456 | E13: 247545 | F13: =((E13*100)/D13)-100 -> 20.485651
A14: BARCELONA | B14: 64122 | C14: 55307.8 | D14: 1125112 | E14: 1136724.8 | F14: =((E14*100)/D14)-100 -> 1.0321461
A15: BILBAO | B15: 8996 | C15: 10134.9 | D15: 115903 | E15: 109403.9 | F15: =((E15*100)/D15)-100 -> -5.6073613
A16: CARTAGENA | B16: 9955 | C16: 11338.9 | D16: 90932 | E16: 155392.9 | F16: =((E16*100)/D16)-100 -> 70.889126
A17: CASTELLON | B17: 1562 | C17: 2480 | D17: 25282 | E17: 29178 | F17: =((E17*100)/D17)-100 -> 15.410173
A18: CEUTA | B18: 53305 | C18: 40241.9 | D18: 460680 | E18: 544155.9 | F18: =((E18*100)/D18)-100 -> 18.120148
... A34: VILAGARCIA | B34: 580 | C34: 660 | D34: 4810 | E34: 6213.2 | F34: =((E34*100)/D34)-100 -> 29.172557
A35: Total | B35: =SUM(B7:B34) -> 954579 | C35: =SUM(C7:C34) -> 928076.8 | D35: =SUM(D7:D34) -> 10182471 | E35: =SUM(E7:E34) -> 10323638 | F35: =((E35*100)/D35)-100 -> 1.3863678
B37: =E6 -> 2016 | C37: =D6 -> 2015 | F37: =B37 -> 2016 | G37: =C37 -> 2015
A38: =A7 -> A CORUÑA | B38: =E7 -> 71417.4 | C38: =D7 -> 73466 | D38: =_xlfn.RANK.EQ(B38,$B$38:$B$65)+COUNTIF($B$38:$B$65,B38)-1 -> 15 | E38: =INDEX($A$38:$B$65,MATCH(ROW()-37,$D$38:$D$65,0),1) -> BAHIA DE ALGECIRAS | F38: =LOOKUP(E38,$A$38:$A$65,$B$38:$B$65) -> 3301452 | G38: =LOOKUP(E38,$A$38:$A$65,$C$38:$C$65) -> 3340394
A39: =A8 -> ALICANTE | B39: =E8 -> 28728.4 | C39: =D8 -> 29832 | D39: =_xlfn.RANK.EQ(B39,$B$38:$B$65)+COUNTIF($B$38:$B$65,B39)-1 -> 23 | E39: =INDEX($A$38:$B$65,MATCH(ROW()-37,$D$38:$D$65,0),1) -> LAS PALMAS | F39: =LOOKUP(E39,$A$38:$A$65,$B$38:$B$65) -> 2607283 | G39: =LOOKUP(E39,$A$38:$A$65,$C$38:$C$65) -> 2596612
A40: =A9 -> ALMERIA | B40: =E9 -> 75340.4 | C40: =D9 -> 71750 | D40: =_xlfn.RANK.EQ(B40,$B$38:$B$65)+COUNTIF($B$38:$B$65,B40)-1 -> 14 | E40: =INDEX($A$38:$B$65,MATCH(ROW()-37,$D$38:$D$65,0),1) -> BARCELONA | F40: =LOOKUP(E40,$A$38:$A$65,$B$38:$B$65) -> 1136724.8 | G40: =LOOKUP(E40,$A$38:$A$65,$C$38:$C$65) -> 1125112
A41: =A10 -> AVILES | B41: =E10 -> 49777 | C41: =D10 -> 48094 | D41: =_xlfn.RANK.EQ(B41,$B$38:$B$65)+COUNTIF($B$38:$B$65,B41)-1 -> 18 | E41: =INDEX($A$38:$B$65,MATCH(ROW()-37,$D$38:$D$65,0),1) -> SANTA CRUZ DE TENERIFE | F41: =LOOKUP(E41,$A$38:$A$65,$B$38:$B$65) -> 646236 | G41: =LOOKUP(E41,$A$38:$A$65,$C$38:$C$65) -> 569417
A42: =A11 -> BAHIA DE ALGECIRAS | B42: =E11 -> 3301452 | C42: =D11 -> 3340394 | D42: =_xlfn.RANK.EQ(B42,$B$38:$B$65)+COUNTIF($B$38:$B$65,B42)-1 -> 1 | E42: =INDEX($A$38:$B$65,MATCH(ROW()-37,$D$38:$D$65,0),1) -> CEUTA | F42: =LOOKUP(E42,$A$38:$A$65,$B$38:$B$65) -> 544155.9 | G42: =LOOKUP(E42,$A$38:$A$65,$C$38:$C$65) -> 460680
A43: =A12 -> BAHIA DE CADIZ | B43: =E12 -> 145060 | C43: =D12 -> 149547 | D43: =_xlfn.RANK.EQ(B43,$B$38:$B$65)+COUNTIF($B$38:$B$65,B43)-1 -> 10 | E43: =INDEX($A$38:$B$65,MATCH(ROW()-37,$D$38:$D$65,0),1) -> VALENCIA | F43: =LOOKUP(E43,$A$38:$A$65,$B$38:$B$65) -> 472281 | G43: =LOOKUP(E43,$A$38:$A$65,$C$38:$C$65) -> 480750
A44: =A13 -> BALEARES | B44: =E13 -> 247545 | C44: =D13 -> 205456 | D44: =_xlfn.RANK.EQ(B44,$B$38:$B$65)+COUNTIF($B$38:$B$65,B44)-1 -> 7 | E44: =INDEX($A$38:$B$65,MATCH(ROW()-37,$D$38:$D$65,0),1) -> BALEARES | F44: =LOOKUP(E44,$A$38:$A$65,$B$38:$B$65) -> 247545 | G44: =LOOKUP(E44,$A$38:$A$65,$C$38:$C$65) -> 205456
A45: =A14 -> BARCELONA | B45: =E14 -> 1136724.8 | C45: =D14 -> 1125112 | D45: =_xlfn.RANK.EQ(B45,$B$38:$B$65)+COUNTIF($B$38:$B$65,B45)-1 -> 3 | E45: =INDEX($A$38:$B$65,MATCH(ROW()-37,$D$38:$D$65,0),1) -> VIGO | F45: =LOOKUP(E45,$A$38:$A$65,$B$38:$B$65) -> 175405.4 | G45: =LOOKUP(E45,$A$38:$A$65,$C$38:$C$65) -> 187771
A46: =A15 -> BILBAO | B46: =E15 -> 109403.9 | C46: =D15 -> 115903 | D46: =_xlfn.RANK.EQ(B46,$B$38:$B$65)+COUNTIF($B$38:$B$65,B46)-1 -> 12 | E46: =INDEX($A$38:$B$65,MATCH(ROW()-37,$D$38:$D$65,0),1) -> CARTAGENA | F46: =LOOKUP(E46,$A$38:$A$65,$B$38:$B$65) -> 155392.9 | G46: =LOOKUP(E46,$A$38:$A$65,$C$38:$C$65) -> 90932
A47: =A16 -> CARTAGENA | B47: =E16 -> 155392.9 | C47: =D16 -> 90932 | D47: =_xlfn.RANK.EQ(B47,$B$38:$B$65)+COUNTIF($B$38:$B$65,B47)-1 -> 9 | E47: =INDEX($A$38:$B$65,MATCH(ROW()-37,$D$38:$D$65,0),1) -> BAHIA DE CADIZ | F47: =LOOKUP(E47,$A$38:$A$65,$B$38:$B$65) -> 145060 | G47: =LOOKUP(E47,$A$38:$A$65,$C$38:$C$65) -> 149547
A48: =A17 -> CASTELLON | B48: =E17 -> 29178 | C48: =D17 -> 25282 | D48: =_xlfn.RANK.EQ(B48,$B$38:$B$65)+COUNTIF($B$38:$B$65,B48)-1 -> 22 | E48: =INDEX($A$38:$B$65,MATCH(ROW()-37,$D$38:$D$65,0),1) -> HUELVA | F48: =LOOKUP(E48,$A$38:$A$65,$B$38:$B$65) -> 142844 | G48: =LOOKUP(E48,$A$38:$A$65,$C$38:$C$65) -> 140844
A49: =A18 -> CEUTA | B49: =E18 -> 544155.9 | C49: =D18 -> 460680 | D49: =_xlfn.RANK.EQ(B49,$B$38:$B$65)+COUNTIF($B$38:$B$65,B49)-1 -> 5 | E49: =INDEX($A$38:$B$65,MATCH(ROW()-37,$D$38:$D$65,0),1) -> BILBAO | F49: =LOOKUP(E49,$A$38:$A$65,$B$38:$B$65) -> 109403.9 | G49: =LOOKUP(E49,$A$38:$A$65,$C$38:$C$65) -> 115903
... A65: =A34 -> VILAGARCIA | B65: =E34 -> 6213.2 | C65: =D34 -> 4810 | D65: =_xlfn.RANK.EQ(B65,$B$38:$B$65)+COUNTIF($B$38:$B$65,B65)-1 -> 28 | E65: =INDEX($A$38:$B$65,MATCH(ROW()-37,$D$38:$D$65,0),1) -> VILAGARCIA | F65: =LOOKUP(E65,$A$38:$A$65,$B$38:$B$65) -> 6213.2 | G65: =LOOKUP(E65,$A$38:$A$65,$C$38:$C$65) -> 4810

Sheet Mercancías tránsito
F1: 7. MERCANCÍAS EN TRÁNSITO (Toneladas)
A5: Autoridad Portuaria | B5: ='Resumen general'!D6 -> Mes Diciembre | D5: ='Resumen general'!F6 -> Acumulado desde Enero | L5: ='Resumen general'!I4 -> Fecha: 05/02/2018
B6: ='Resumen general'!D7 -> 2015 | C6: ='Resumen general'!E7 -> 2016 | D6: ='Resumen general'!F7 -> 2015 | E6: ='Resumen general'!G7 -> 2016 | F6: Var. (%)
A7: A CORUÑA | B7: 0 | C7: 0 | D7: 2500 | E7: 7521 | F7: =((E7*100)/D7)-100 -> 200.84
A8: ALICANTE | B8: 2830.56 | C8: 2747.59 | D8: 5526.56 | E8: 60776.59 | F8: =((E8*100)/D8)-100 -> 999.71827
A9: ALMERIA | B9: 0 | C9: 70 | D9: 0 | E9: 670
A10: AVILES | B10: 0 | C10: 0.22 | D10: 18826.64 | E10: 61246.22 | F10: =((E10*100)/D10)-100 -> 225.31679
A11: BAHIA DE ALGECIRAS | B11: 5310534 | C11: 5326549.3 | D11: 61928104 | E11: 66765930 | F11: =((E11*100)/D11)-100 -> 7.8120045
A12: BAHIA DE CADIZ | B12: 18663 | C12: 20564.3 | D12: 360303 | E12: 453621.3 | F12: =((E12*100)/D12)-100 -> 25.899951
A13: BALEARES | B13: 0 | C13: 0 | D13: 0 | E13: 340
A14: BARCELONA | B14: 606843 | C14: 785115 | D14: 7675451 | E14: 8450581.6 | F14: =((E14*100)/D14)-100 -> 10.098828
A15: BILBAO | B15: 5761 | C15: 35513 | D15: 30002 | E15: 97951.2 | F15: =((E15*100)/D15)-100 -> 226.48223
A16: CARTAGENA | B16: 10600 | C16: 0 | D16: 167190 | E16: 3820 | F16: =((E16*100)/D16)-100 -> -97.715174
A17: CASTELLON | B17: 5341 | C17: 77031.5 | D17: 108294 | E17: 445300.5 | F17: =((E17*100)/D17)-100 -> 311.19591
A18: CEUTA | B18: 0 | C18: 0 | D18: 0 | E18: 30576
A19: FERROL-SAN CIBRAO | B19: 1 | C19: 1.57 | D19: 3605 | E19: 315.57 | F19: =((E19*100)/D19)-100 -> -91.246325
A20: GIJON | B20: 42093 | C20: 16232.3 | D20: 282610 | E20: 189491.3 | F20: =((E20*100)/D20)-100 -> -32.949542
A21: HUELVA | B21: 74561.24 | C21: 209023.74 | D21: 1564880.2 | E21: 2438285.7 | F21: =((E21*100)/D21)-100 -> 55.812929
A22: LAS PALMAS | B22: 646229 | C22: 745588.8 | D22: 8956695 | E22: 7525652 | F22: =((E22*100)/D22)-100 -> -15.977355
A23: MALAGA | B23: 22896.46 | C23: 4659.65 | D23: 23582.46 | E23: 215297.65 | F23: =((E23*100)/D23)-100 -> 812.95671
A24: MARIN Y RIA DE PONTEVEDRA | B24: 331.7 | C24: 20528.28 | D24: 17750.7 | E24: 46672.28 | F24: =((E24*100)/D24)-100 -> 162.93205
A25: MELILLA | B25: 0 | C25: 0 | D25: 0 | E25: 0
A26: MOTRIL | B26: 0 | C26: 0 | D26: 5 | E26: 108 | F26: =((E26*100)/D26)-100 -> 2060
A27: PASAIA | B27: 414 | C27: 3781.5 | D27: 8042 | E27: 23864.5 | F27: =((E27*100)/D27)-100 -> 196.74832
A28: SANTA CRUZ DE TENERIFE | B28: 5115 | C28: 3232.3 | D28: 30693 | E28: 35643.3 | F28: =((E28*100)/D28)-100 -> 16.128433
A29: SANTANDER | B29: 693 | C29: 3231 | D29: 5903 | E29: 7825 | F29: =((E29*100)/D29)-100 -> 32.559715
A30: SEVILLA | B30: 0 | C30: 0 | D30: 0 | E30: 0
A31: TARRAGONA | B31: 253094 | C31: 236056 | D31: 5125517 | E31: 2678147 | F31: =((E31*100)/D31)-100 -> -47.748744
A32: VALENCIA | B32: 2581913 | C32: 2620547.3 | D32: 32084550 | E32: 32578524 | F32: =((E32*100)/D32)-100 -> 1.5396018
A33: VIGO | B33: 15056 | C33: 13872.3 | D33: 205368 | E33: 180510.3 | F33: =((E33*100)/D33)-100 -> -12.103979
A34: VILAGARCIA | B34: 99.83 | C34: 0 | D34: 198.83 | E34: 100.11 | F34: =((E34*100)/D34)-100 -> -49.650455
A35: Total | B35: =SUM(B7:B34) -> 9603069.8 | C35: =SUM(C7:C34) -> 10124346 | D35: =SUM(D7:D34) -> 1.186056e+08 | E35: =SUM(E7:E34) -> 1.2229877e+08 | F35: =((E35*100)/D35)-100 -> 3.113828
B37: =E6 -> 2016 | C37: =D6 -> 2015 | F37: =B37 -> 2016 | G37: =C37 -> 2015
A38: =A7 -> A CORUÑA | B38: =E7 -> 7521 | C38: =D7 -> 2500 | D38: =_xlfn.RANK.EQ(B38,$B$38:$B$65)+COUNTIF($B$38:$B$65,B38)-1 -> 20 | E38: =INDEX($A$38:$B$65,MATCH(ROW()-37,$D$38:$D$65,0),1) -> BAHIA DE ALGECIRAS | F38: =LOOKUP(E38,$A$38:$A$65,$B$38:$B$65) -> 66765930 | G38: =LOOKUP(E38,$A$38:$A$65,$C$38:$C$65) -> 61928104
A39: =A8 -> ALICANTE | B39: =E8 -> 60776.59 | C39: =D8 -> 5526.56 | D39: =_xlfn.RANK.EQ(B39,$B$38:$B$65)+COUNTIF($B$38:$B$65,B39)-1 -> 14 | E39: =INDEX($A$38:$B$65,MATCH(ROW()-37,$D$38:$D$65,0),1) -> VALENCIA | F39: =LOOKUP(E39,$A$38:$A$65,$B$38:$B$65) -> 32578524 | G39: =LOOKUP(E39,$A$38:$A$65,$C$38:$C$65) -> 32084550
A40: =A9 -> ALMERIA | B40: =E9 -> 670 | C40: =D9 -> 0 | D40: =_xlfn.RANK.EQ(B40,$B$38:$B$65)+COUNTIF($B$38:$B$65,B40)-1 -> 22 | E40: =INDEX($A$38:$B$65,MATCH(ROW()-37,$D$38:$D$65,0),1) -> BARCELONA | F40: =LOOKUP(E40,$A$38:$A$65,$B$38:$B$65) -> 8450581.6 | G40: =LOOKUP(E40,$A$38:$A$65,$C$38:$C$65) -> 7675451
A41: =A10 -> AVILES | B41: =E10 -> 61246.22 | C41: =D10 -> 18826.64 | D41: =_xlfn.RANK.EQ(B41,$B$38:$B$65)+COUNTIF($B$38:$B$65,B41)-1 -> 13 | E41: =INDEX($A$38:$B$65,MATCH(ROW()-37,$D$38:$D$65,0),1) -> LAS PALMAS | F41: =LOOKUP(E41,$A$38:$A$65,$B$38:$B$65) -> 7525652 | G41: =LOOKUP(E41,$A$38:$A$65,$C$38:$C$65) -> 8956695
A42: =A11 -> BAHIA DE ALGECIRAS | B42: =E11 -> 66765930 | C42: =D11 -> 61928104 | D42: =_xlfn.RANK.EQ(B42,$B$38:$B$65)+COUNTIF($B$38:$B$65,B42)-1 -> 1 | E42: =INDEX($A$38:$B$65,MATCH(ROW()-37,$D$38:$D$65,0),1) -> TARRAGONA | F42: =LOOKUP(E42,$A$38:$A$65,$B$38:$B$65) -> 2678147 | G42: =LOOKUP(E42,$A$38:$A$65,$C$38:$C$65) -> 5125517
A43: =A12 -> BAHIA DE CADIZ | B43: =E12 -> 453621.3 | C43: =D12 -> 360303 | D43: =_xlfn.RANK.EQ(B43,$B$38:$B$65)+COUNTIF($B$38:$B$65,B43)-1 -> 7 | E43: =INDEX($A$38:$B$65,MATCH(ROW()-37,$D$38:$D$65,0),1) -> HUELVA | F43: =LOOKUP(E43,$A$38:$A$65,$B$38:$B$65) -> 2438285.7 | G43: =LOOKUP(E43,$A$38:$A$65,$C$38:$C$65) -> 1564880.2
A44: =A13 -> BALEARES | B44: =E13 -> 340 | C44: =D13 -> 0 | D44: =_xlfn.RANK.EQ(B44,$B$38:$B$65)+COUNTIF($B$38:$B$65,B44)-1 -> 23 | E44: =INDEX($A$38:$B$65,MATCH(ROW()-37,$D$38:$D$65,0),1) -> BAHIA DE CADIZ | F44: =LOOKUP(E44,$A$38:$A$65,$B$38:$B$65) -> 453621.3 | G44: =LOOKUP(E44,$A$38:$A$65,$C$38:$C$65) -> 360303
A45: =A14 -> BARCELONA | B45: =E14 -> 8450581.6 | C45: =D14 -> 7675451 | D45: =_xlfn.RANK.EQ(B45,$B$38:$B$65)+COUNTIF($B$38:$B$65,B45)-1 -> 3 | E45: =INDEX($A$38:$B$65,MATCH(ROW()-37,$D$38:$D$65,0),1) -> CASTELLON | F45: =LOOKUP(E45,$A$38:$A$65,$B$38:$B$65) -> 445300.5 | G45: =LOOKUP(E45,$A$38:$A$65,$C$38:$C$65) -> 108294
A46: =A15 -> BILBAO | B46: =E15 -> 97951.2 | C46: =D15 -> 30002 | D46: =_xlfn.RANK.EQ(B46,$B$38:$B$65)+COUNTIF($B$38:$B$65,B46)-1 -> 12 | E46: =INDEX($A$38:$B$65,MATCH(ROW()-37,$D$38:$D$65,0),1) -> MALAGA | F46: =LOOKUP(E46,$A$38:$A$65,$B$38:$B$65) -> 215297.65 | G46: =LOOKUP(E46,$A$38:$A$65,$C$38:$C$65) -> 23582.46
A47: =A16 -> CARTAGENA | B47: =E16 -> 3820 | C47: =D16 -> 167190 | D47: =_xlfn.RANK.EQ(B47,$B$38:$B$65)+COUNTIF($B$38:$B$65,B47)-1 -> 21 | E47: =INDEX($A$38:$B$65,MATCH(ROW()-37,$D$38:$D$65,0),1) -> GIJON | F47: =LOOKUP(E47,$A$38:$A$65,$B$38:$B$65) -> 189491.3 | G47: =LOOKUP(E47,$A$38:$A$65,$C$38:$C$65) -> 282610
A48: =A17 -> CASTELLON | B48: =E17 -> 445300.5 | C48: =D17 -> 108294 | D48: =_xlfn.RANK.EQ(B48,$B$38:$B$65)+COUNTIF($B$38:$B$65,B48)-1 -> 8 | E48: =INDEX($A$38:$B$65,MATCH(ROW()-37,$D$38:$D$65,0),1) -> VIGO | F48: =LOOKUP(E48,$A$38:$A$65,$B$38:$B$65) -> 180510.3 | G48: =LOOKUP(E48,$A$38:$A$65,$C$38:$C$65) -> 205368
A49: =A18 -> CEUTA | B49: =E18 -> 30576 | C49: =D18 -> 0 | D49: =_xlfn.RANK.EQ(B49,$B$38:$B$65)+COUNTIF($B$38:$B$65,B49)-1 -> 17 | E49: =INDEX($A$38:$B$65,MATCH(ROW()-37,$D$38:$D$65,0),1) -> BILBAO | F49: =LOOKUP(E49,$A$38:$A$65,$B$38:$B$65) -> 97951.2 | G49: =LOOKUP(E49,$A$38:$A$65,$C$38:$C$65) -> 30002
... A65: =A34 -> VILAGARCIA | B65: =E34 -> 100.11 | C65: =D34 -> 198.83 | D65: =_xlfn.RANK.EQ(B65,$B$38:$B$65)+COUNTIF($B$38:$B$65,B65)-1 -> 26 | E65: =INDEX($A$38:$B$65,MATCH(ROW()-37,$D$38:$D$65,0),1) -> MELILLA | F65: =LOOKUP(E65,$A$38:$A$65,$B$38:$B$65) -> 0 | G65: =LOOKUP(E65,$A$38:$A$65,$C$38:$C$65) -> 0

Sheet Mercan. contene. tránsito
F1: 7.1. MERCANCÍAS EN CONTENEDORES EN TRÁNSITO (Toneladas)
A5: Autoridad Portuaria | B5: ='Resumen general'!D6 -> Mes Diciembre | D5: ='Resumen general'!F6 -> Acumulado desde Enero | L5: ='Resumen general'!I4 -> Fecha: 05/02/2018
B6: ='Resumen general'!D7 -> 2015 | C6: ='Resumen general'!E7 -> 2016 | D6: ='Resumen general'!F7 -> 2015 | E6: ='Resumen general'!G7 -> 2016 | F6: Var. (%)
A7: A CORUÑA | B7: 0 | C7: 0 | D7: 0 | E7: 0
A8: ALICANTE | B8: 2831 | C8: 2747.55 | D8: 5526.55 | E8: 60765.55 | F8: =((E8*100)/D8)-100 -> 999.5205
A9: ALMERIA | B9: 0 | C9: 52 | D9: 0 | E9: 550
A10: AVILES | B10: 0 | C10: 0 | D10: 0 | E10: 0
A11: BAHIA DE ALGECIRAS | B11: 4503147 | C11: 4274567 | D11: 51565711 | E11: 55566824 | F11: =((E11*100)/D11)-100 -> 7.7592511
A12: BAHIA DE CADIZ | B12: 0 | C12: 0 | D12: 0 | E12: 1467
A13: BALEARES | B13: 0 | C13: 0 | D13: 0 | E13: 51
A14: BARCELONA | B14: 277591 | C14: 273898 | D14: 3013634 | E14: 4368853 | F14: =((E14*100)/D14)-100 -> 44.969595
A15: BILBAO | B15: 5761 | C15: 20114 | D15: 29387 | E15: 73558 | F15: =((E15*100)/D15)-100 -> 150.30796
A16: CARTAGENA | B16: 10600 | C16: 0 | D16: 10600 | E16: 3820 | F16: =((E16*100)/D16)-100 -> -63.962264
A17: CASTELLON | B17: 8340 | C17: 0 | D17: 108257 | E17: 6128 | F17: =((E17*100)/D17)-100 -> -94.339396
A18: CEUTA | B18: 0 | C18: 0 | D18: 0 | E18: 0
A19: FERROL-SAN CIBRAO | B19: 0 | C19: 1.57 | D19: 30 | E19: 315.57 | F19: =((E19*100)/D19)-100 -> 951.9
A20: GIJON | B20: 1 | C20: 0 | D20: 21 | E20: 810 | F20: =((E20*100)/D20)-100 -> 3757.1429
A21: HUELVA | B21: 0 | C21: 0 | D21: 0 | E21: 51674.92
A22: LAS PALMAS | B22: 579159 | C22: 537141 | D22: 6799324 | E22: 5531324 | F22: =((E22*100)/D22)-100 -> -18.648913
A23: MALAGA | B23: 15317 | C23: 4660.02 | D23: 16397.46 | E23: 202423.02 | F23: =((E23*100)/D23)-100 -> 1134.4779
A24: MARIN Y RIA DE PONTEVEDRA | B24: 331 | C24: 10528 | D24: 17747.3 | E24: 46666.86 | F24: =((E24*100)/D24)-100 -> 162.95189
A25: MELILLA | B25: 0 | C25: 0 | D25: 0 | E25: 0
A26: MOTRIL | B26: 0 | C26: 0 | D26: 0 | E26: 108
A27: PASAIA | B27: 0 | C27: 0 | D27: 0 | E27: 0
A28: SANTA CRUZ DE TENERIFE | B28: 3862 | C28: 2634 | D28: 26029 | E28: 31820 | F28: =((E28*100)/D28)-100 -> 22.248262
A29: SANTANDER | B29: 17 | C29: 0 | D29: 199 | E29: 27 | F29: =((E29*100)/D29)-100 -> -86.432161
A30: SEVILLA | B30: 0 | C30: 0 | D30: 0 | E30: 0
A31: TARRAGONA | B31: 22267 | C31: 0 | D31: 307880 | E31: 17091 | F31: =((E31*100)/D31)-100 -> -94.448811
A32: VALENCIA | B32: 2570501 | C32: 2467027 | D32: 31947401 | E32: 32422883 | F32: =((E32*100)/D32)-100 -> 1.4883289
A33: VIGO | B33: 6225 | C33: 8185 | D33: 99017 | E33: 122663 | F33: =((E33*100)/D33)-100 -> 23.880748
A34: VILAGARCIA | B34: 100 | C34: 0 | D34: 198.83 | E34: 73.32 | F34: =((E34*100)/D34)-100 -> -63.124277
A35: Total | B35: =SUM(B7:B34) -> 8006050 | C35: =SUM(C7:C34) -> 7601555.1 | D35: =SUM(D7:D34) -> 93947360 | E35: =SUM(E7:E34) -> 98509897 | F35: =((E35*100)/D35)-100 -> 4.8564819
B37: =E6 -> 2016 | C37: =D6 -> 2015 | F37: =B37 -> 2016 | G37: =C37 -> 2015
A38: =A7 -> A CORUÑA | B38: =E7 -> 0 | C38: =D7 -> 0 | D38: =_xlfn.RANK.EQ(B38,$B$38:$B$65)+COUNTIF($B$38:$B$65,B38)-1 -> 28 | E38: =INDEX($A$38:$B$65,MATCH(ROW()-37,$D$38:$D$65,0),1) -> BAHIA DE ALGECIRAS | F38: =LOOKUP(E38,$A$38:$A$65,$B$38:$B$65) -> 55566824 | G38: =LOOKUP(E38,$A$38:$A$65,$C$38:$C$65) -> 51565711
A39: =A8 -> ALICANTE | B39: =E8 -> 60765.55 | C39: =D8 -> 5526.55 | D39: =_xlfn.RANK.EQ(B39,$B$38:$B$65)+COUNTIF($B$38:$B$65,B39)-1 -> 8 | E39: =INDEX($A$38:$B$65,MATCH(ROW()-37,$D$38:$D$65,0),1) -> VALENCIA | F39: =LOOKUP(E39,$A$38:$A$65,$B$38:$B$65) -> 32422883 | G39: =LOOKUP(E39,$A$38:$A$65,$C$38:$C$65) -> 31947401
A40: =A9 -> ALMERIA | B40: =E9 -> 550 | C40: =D9 -> 0 | D40: =_xlfn.RANK.EQ(B40,$B$38:$B$65)+COUNTIF($B$38:$B$65,B40)-1 -> 17 | E40: =INDEX($A$38:$B$65,MATCH(ROW()-37,$D$38:$D$65,0),1) -> LAS PALMAS | F40: =LOOKUP(E40,$A$38:$A$65,$B$38:$B$65) -> 5531324 | G40: =LOOKUP(E40,$A$38:$A$65,$C$38:$C$65) -> 6799324
A41: =A10 -> AVILES | B41: =E10 -> 0 | C41: =D10 -> 0 | D41: =_xlfn.RANK.EQ(B41,$B$38:$B$65)+COUNTIF($B$38:$B$65,B41)-1 -> 28 | E41: =INDEX($A$38:$B$65,MATCH(ROW()-37,$D$38:$D$65,0),1) -> BARCELONA | F41: =LOOKUP(E41,$A$38:$A$65,$B$38:$B$65) -> 4368853 | G41: =LOOKUP(E41,$A$38:$A$65,$C$38:$C$65) -> 3013634
A42: =A11 -> BAHIA DE ALGECIRAS | B42: =E11 -> 55566824 | C42: =D11 -> 51565711 | D42: =_xlfn.RANK.EQ(B42,$B$38:$B$65)+COUNTIF($B$38:$B$65,B42)-1 -> 1 | E42: =INDEX($A$38:$B$65,MATCH(ROW()-37,$D$38:$D$65,0),1) -> MALAGA | F42: =LOOKUP(E42,$A$38:$A$65,$B$38:$B$65) -> 202423.02 | G42: =LOOKUP(E42,$A$38:$A$65,$C$38:$C$65) -> 16397.46
A43: =A12 -> BAHIA DE CADIZ | B43: =E12 -> 1467 | C43: =D12 -> 0 | D43: =_xlfn.RANK.EQ(B43,$B$38:$B$65)+COUNTIF($B$38:$B$65,B43)-1 -> 15 | E43: =INDEX($A$38:$B$65,MATCH(ROW()-37,$D$38:$D$65,0),1) -> VIGO | F43: =LOOKUP(E43,$A$38:$A$65,$B$38:$B$65) -> 122663 | G43: =LOOKUP(E43,$A$38:$A$65,$C$38:$C$65) -> 99017
A44: =A13 -> BALEARES | B44: =E13 -> 51 | C44: =D13 -> 0 | D44: =_xlfn.RANK.EQ(B44,$B$38:$B$65)+COUNTIF($B$38:$B$65,B44)-1 -> 21 | E44: =INDEX($A$38:$B$65,MATCH(ROW()-37,$D$38:$D$65,0),1) -> BILBAO | F44: =LOOKUP(E44,$A$38:$A$65,$B$38:$B$65) -> 73558 | G44: =LOOKUP(E44,$A$38:$A$65,$C$38:$C$65) -> 29387
A45: =A14 -> BARCELONA | B45: =E14 -> 4368853 | C45: =D14 -> 3013634 | D45: =_xlfn.RANK.EQ(B45,$B$38:$B$65)+COUNTIF($B$38:$B$65,B45)-1 -> 4 | E45: =INDEX($A$38:$B$65,MATCH(ROW()-37,$D$38:$D$65,0),1) -> ALICANTE | F45: =LOOKUP(E45,$A$38:$A$65,$B$38:$B$65) -> 60765.55 | G45: =LOOKUP(E45,$A$38:$A$65,$C$38:$C$65) -> 5526.55
A46: =A15 -> BILBAO | B46: =E15 -> 73558 | C46: =D15 -> 29387 | D46: =_xlfn.RANK.EQ(B46,$B$38:$B$65)+COUNTIF($B$38:$B$65,B46)-1 -> 7 | E46: =INDEX($A$38:$B$65,MATCH(ROW()-37,$D$38:$D$65,0),1) -> HUELVA | F46: =LOOKUP(E46,$A$38:$A$65,$B$38:$B$65) -> 51674.92 | G46: =LOOKUP(E46,$A$38:$A$65,$C$38:$C$65) -> 0
A47: =A16 -> CARTAGENA | B47: =E16 -> 3820 | C47: =D16 -> 10600 | D47: =_xlfn.RANK.EQ(B47,$B$38:$B$65)+COUNTIF($B$38:$B$65,B47)-1 -> 14 | E47: =INDEX($A$38:$B$65,MATCH(ROW()-37,$D$38:$D$65,0),1) -> MARIN Y RIA DE PONTEVEDRA | F47: =LOOKUP(E47,$A$38:$A$65,$B$38:$B$65) -> 46666.86 | G47: =LOOKUP(E47,$A$38:$A$65,$C$38:$C$65) -> 17747.3
A48: =A17 -> CASTELLON | B48: =E17 -> 6128 | C48: =D17 -> 108257 | D48: =_xlfn.RANK.EQ(B48,$B$38:$B$65)+COUNTIF($B$38:$B$65,B48)-1 -> 13 | E48: =INDEX($A$38:$B$65,MATCH(ROW()-37,$D$38:$D$65,0),1) -> SANTA CRUZ DE TENERIFE | F48: =LOOKUP(E48,$A$38:$A$65,$B$38:$B$65) -> 31820 | G48: =LOOKUP(E48,$A$38:$A$65,$C$38:$C$65) -> 26029
A49: =A18 -> CEUTA | B49: =E18 -> 0 | C49: =D18 -> 0 | D49: =_xlfn.RANK.EQ(B49,$B$38:$B$65)+COUNTIF($B$38:$B$65,B49)-1 -> 28 | E49: =INDEX($A$38:$B$65,MATCH(ROW()-37,$D$38:$D$65,0),1) -> TARRAGONA | F49: =LOOKUP(E49,$A$38:$A$65,$B$38:$B$65) -> 17091 | G49: =LOOKUP(E49,$A$38:$A$65,$C$38:$C$65) -> 307880
... A65: =A34 -> VILAGARCIA | B65: =E34 -> 73.32 | C65: =D34 -> 198.83 | D65: =_xlfn.RANK.EQ(B65,$B$38:$B$65)+COUNTIF($B$38:$B$65,B65)-1 -> 20 | E65: =INDEX($A$38:$B$65,MATCH(ROW()-37,$D$38:$D$65,0),1) -> A CORUÑA | F65: =LOOKUP(E65,$A$38:$A$65,$B$38:$B$65) -> 0 | G65: =LOOKUP(E65,$A$38:$A$65,$C$38:$C$65) -> 0

Sheet Mercancías contenedores
F1: 8. MERCANCÍAS EN CONTENEDORES (Toneladas)
A5: Autoridad Portuaria | B5: ='Resumen general'!D6 -> Mes Diciembre | D5: ='Resumen general'!F6 -> Acumulado desde Enero | L5: ='Resumen general'!I4 -> Fecha: 05/02/2018
B6: ='Resumen general'!D7 -> 2015 | C6: ='Resumen general'!E7 -> 2016 | D6: ='Resumen general'!F7 -> 2015 | E6: ='Resumen general'!G7 -> 2016 | F6: Var. (%)
A7: A CORUÑA | B7: 1 | C7: 0 | D7: 305 | E7: 565 | F7: =((E7*100)/D7)-100 -> 85.245902
A8: ALICANTE | B8: 88153.07 | C8: 107983.56 | D8: 983206.07 | E8: 1223631.6 | F8: =((E8*100)/D8)-100 -> 24.453215
A9: ALMERIA | B9: 3670 | C9: 2450 | D9: 61606 | E9: 42615 | F9: =((E9*100)/D9)-100 -> -30.826543
A10: AVILES | B10: 0 | C10: 0 | D10: 0 | E10: 2
A11: BAHIA DE ALGECIRAS | B11: 4844393 | C11: 4748404 | D11: 55476501 | E11: 60178589 | F11: =((E11*100)/D11)-100 -> 8.4758193
A12: BAHIA DE CADIZ | B12: 40711 | C12: 45434 | D12: 620533 | E12: 581737 | F12: =((E12*100)/D12)-100 -> -6.2520446
A13: BALEARES | B13: 196677 | C13: 60801 | D13: 643312 | E13: 847084 | F13: =((E13*100)/D13)-100 -> 31.675455
A14: BARCELONA | B14: 1626818 | C14: 1845854 | D14: 18717104 | E14: 20929309 | F14: =((E14*100)/D14)-100 -> 11.819163
A15: BILBAO | B15: 602073 | C15: 668165 | D15: 6462608 | E15: 6372959 | F15: =((E15*100)/D15)-100 -> -1.3871954
A16: CARTAGENA | B16: 95782 | C16: 72177 | D16: 1106910 | E16: 1171162 | F16: =((E16*100)/D16)-100 -> 5.8046273
A17: CASTELLON | B17: 221028 | C17: 279321 | D17: 2853623 | E17: 3225695 | F17: =((E17*100)/D17)-100 -> 13.038583
A18: CEUTA | B18: 11375 | C18: 13503 | D18: 117469 | E18: 157954 | F18: =((E18*100)/D18)-100 -> 34.464412
A19: FERROL-SAN CIBRAO | B19: 799 | C19: 481.7 | D19: 5536 | E19: 11397.7 | F19: =((E19*100)/D19)-100 -> 105.88331
A20: GIJON | B20: 88553 | C20: 94326 | D20: 788209 | E20: 820984 | F20: =((E20*100)/D20)-100 -> 4.1581611
A21: HUELVA | B21: 10073.83 | C21: 17872.18 | D21: 105183.83 | E21: 180873.18 | F21: =((E21*100)/D21)-100 -> 71.959112
A22: LAS PALMAS | B22: 918487 | C22: 954456 | D22: 10332427 | E22: 9427479 | F22: =((E22*100)/D22)-100 -> -8.7583295
... A34: VILAGARCIA | B34: 16403.29 | C34: 19949.83 | D34: 264673.29 | E34: 278909.83 | F34: =((E34*100)/D34)-100 -> 5.3789107
A35: Total | B35: =SUM(B7:B34) -> 13636117 | C35: =SUM(C7:C34) -> 13884423 | D35: =SUM(D7:D34) -> 1.5927614e+08 | E35: =SUM(E7:E34) -> 1.6829421e+08 | F35: =((E35*100)/D35)-100 -> 5.6619117
B37: =E6 -> 2016 | C37: =D6 -> 2015 | F37: =B37 -> 2016 | G37: =C37 -> 2015
A38: =A7 -> A CORUÑA | B38: =E7 -> 565 | C38: =D7 -> 305 | D38: =_xlfn.RANK.EQ(B38,$B$38:$B$65)+COUNTIF($B$38:$B$65,B38)-1 -> 27 | E38: =INDEX($A$38:$B$65,MATCH(ROW()-37,$D$38:$D$65,0),1) -> BAHIA DE ALGECIRAS | F38: =LOOKUP(E38,$A$38:$A$65,$B$38:$B$65) -> 60178589 | G38: =LOOKUP(E38,$A$38:$A$65,$C$38:$C$65) -> 55476501
A39: =A8 -> ALICANTE | B39: =E8 -> 1223631.6 | C39: =D8 -> 983206.07 | D39: =_xlfn.RANK.EQ(B39,$B$38:$B$65)+COUNTIF($B$38:$B$65,B39)-1 -> 9 | E39: =INDEX($A$38:$B$65,MATCH(ROW()-37,$D$38:$D$65,0),1) -> VALENCIA | F39: =LOOKUP(E39,$A$38:$A$65,$B$38:$B$65) -> 53872459 | G39: =LOOKUP(E39,$A$38:$A$65,$C$38:$C$65) -> 52267244
A40: =A9 -> ALMERIA | B40: =E9 -> 42615 | C40: =D9 -> 61606 | D40: =_xlfn.RANK.EQ(B40,$B$38:$B$65)+COUNTIF($B$38:$B$65,B40)-1 -> 23 | E40: =INDEX($A$38:$B$65,MATCH(ROW()-37,$D$38:$D$65,0),1) -> BARCELONA | F40: =LOOKUP(E40,$A$38:$A$65,$B$38:$B$65) -> 20929309 | G40: =LOOKUP(E40,$A$38:$A$65,$C$38:$C$65) -> 18717104
A41: =A10 -> AVILES | B41: =E10 -> 2 | C41: =D10 -> 0 | D41: =_xlfn.RANK.EQ(B41,$B$38:$B$65)+COUNTIF($B$38:$B$65,B41)-1 -> 28 | E41: =INDEX($A$38:$B$65,MATCH(ROW()-37,$D$38:$D$65,0),1) -> LAS PALMAS | F41: =LOOKUP(E41,$A$38:$A$65,$B$38:$B$65) -> 9427479 | G41: =LOOKUP(E41,$A$38:$A$65,$C$38:$C$65) -> 10332427
A42: =A11 -> BAHIA DE ALGECIRAS | B42: =E11 -> 60178589 | C42: =D11 -> 55476501 | D42: =_xlfn.RANK.EQ(B42,$B$38:$B$65)+COUNTIF($B$38:$B$65,B42)-1 -> 1 | E42: =INDEX($A$38:$B$65,MATCH(ROW()-37,$D$38:$D$65,0),1) -> BILBAO | F42: =LOOKUP(E42,$A$38:$A$65,$B$38:$B$65) -> 6372959 | G42: =LOOKUP(E42,$A$38:$A$65,$C$38:$C$65) -> 6462608
A43: =A12 -> BAHIA DE CADIZ | B43: =E12 -> 581737 | C43: =D12 -> 620533 | D43: =_xlfn.RANK.EQ(B43,$B$38:$B$65)+COUNTIF($B$38:$B$65,B43)-1 -> 16 | E43: =INDEX($A$38:$B$65,MATCH(ROW()-37,$D$38:$D$65,0),1) -> CASTELLON | F43: =LOOKUP(E43,$A$38:$A$65,$B$38:$B$65) -> 3225695 | G43: =LOOKUP(E43,$A$38:$A$65,$C$38:$C$65) -> 2853623
A44: =A13 -> BALEARES | B44: =E13 -> 847084 | C44: =D13 -> 643312 | D44: =_xlfn.RANK.EQ(B44,$B$38:$B$65)+COUNTIF($B$38:$B$65,B44)-1 -> 12 | E44: =INDEX($A$38:$B$65,MATCH(ROW()-37,$D$38:$D$65,0),1) -> SANTA CRUZ DE TENERIFE | F44: =LOOKUP(E44,$A$38:$A$65,$B$38:$B$65) -> 2870636 | G44: =LOOKUP(E44,$A$38:$A$65,$C$38:$C$65) -> 2628614
A45: =A14 -> BARCELONA | B45: =E14 -> 20929309 | C45: =D14 -> 18717104 | D45: =_xlfn.RANK.EQ(B45,$B$38:$B$65)+COUNTIF($B$38:$B$65,B45)-1 -> 3 | E45: =INDEX($A$38:$B$65,MATCH(ROW()-37,$D$38:$D$65,0),1) -> VIGO | F45: =LOOKUP(E45,$A$38:$A$65,$B$38:$B$65) -> 2584834 | G45: =LOOKUP(E45,$A$38:$A$65,$C$38:$C$65) -> 2630832
A46: =A15 -> BILBAO | B46: =E15 -> 6372959 | C46: =D15 -> 6462608 | D46: =_xlfn.RANK.EQ(B46,$B$38:$B$65)+COUNTIF($B$38:$B$65,B46)-1 -> 5 | E46: =INDEX($A$38:$B$65,MATCH(ROW()-37,$D$38:$D$65,0),1) -> ALICANTE | F46: =LOOKUP(E46,$A$38:$A$65,$B$38:$B$65) -> 1223631.6 | G46: =LOOKUP(E46,$A$38:$A$65,$C$38:$C$65) -> 983206.07
A47: =A16 -> CARTAGENA | B47: =E16 -> 1171162 | C47: =D16 -> 1106910 | D47: =_xlfn.RANK.EQ(B47,$B$38:$B$65)+COUNTIF($B$38:$B$65,B47)-1 -> 10 | E47: =INDEX($A$38:$B$65,MATCH(ROW()-37,$D$38:$D$65,0),1) -> CARTAGENA | F47: =LOOKUP(E47,$A$38:$A$65,$B$38:$B$65) -> 1171162 | G47: =LOOKUP(E47,$A$38:$A$65,$C$38:$C$65) -> 1106910
A48: =A17 -> CASTELLON | B48: =E17 -> 3225695 | C48: =D17 -> 2853623 | D48: =_xlfn.RANK.EQ(B48,$B$38:$B$65)+COUNTIF($B$38:$B$65,B48)-1 -> 6 | E48: =INDEX($A$38:$B$65,MATCH(ROW()-37,$D$38:$D$65,0),1) -> SEVILLA | F48: =LOOKUP(E48,$A$38:$A$65,$B$38:$B$65) -> 1159997 | G48: =LOOKUP(E48,$A$38:$A$65,$C$38:$C$65) -> 1250313
A49: =A18 -> CEUTA | B49: =E18 -> 157954 | C49: =D18 -> 117469 | D49: =_xlfn.RANK.EQ(B49,$B$38:$B$65)+COUNTIF($B$38:$B$65,B49)-1 -> 21 | E49: =INDEX($A$38:$B$65,MATCH(ROW()-37,$D$38:$D$65,0),1) -> BALEARES | F49: =LOOKUP(E49,$A$38:$A$65,$B$38:$B$65) -> 847084 | G49: =LOOKUP(E49,$A$38:$A$65,$C$38:$C$65) -> 643312
... A65: =A34 -> VILAGARCIA | B65: =E34 -> 278909.83 | C65: =D34 -> 264673.29 | D65: =_xlfn.RANK.EQ(B65,$B$38:$B$65)+COUNTIF($B$38:$B$65,B65)-1 -> 19 | E65: =INDEX($A$38:$B$65,MATCH(ROW()-37,$D$38:$D$65,0),1) -> AVILES | F65: =LOOKUP(E65,$A$38:$A$65,$B$38:$B$65) -> 2 | G65: =LOOKUP(E65,$A$38:$A$65,$C$38:$C$65) -> 0

Sheet Ro-Ro
F1: 9. TRÁFICO RO-RO (Toneladas)
A5: Autoridad Portuaria | B5: ='Resumen general'!D6 -> Mes Diciembre | D5: ='Resumen general'!F6 -> Acumulado desde Enero | L5: ='Resumen general'!I4 -> Fecha: 05/02/2018
B6: ='Resumen general'!D7 -> 2015 | C6: ='Resumen general'!E7 -> 2016 | D6: ='Resumen general'!F7 -> 2015 | E6: ='Resumen general'!G7 -> 2016 | F6: Var. (%)
A7: A CORUÑA | B7: 0 | C7: 0 | D7: 0 | E7: 0
A8: ALICANTE | B8: 7709 | C8: 9125 | D8: 75531.16 | E8: 111104.77 | F8: =((E8*100)/D8)-100 -> 47.097926
A9: ALMERIA | B9: 39482 | C9: 40133 | D9: 377977 | E9: 413477 | F9: =((E9*100)/D9)-100 -> 9.3921059
A10: AVILES | B10: 0 | C10: 0 | D10: 0 | E10: 0
A11: BAHIA DE ALGECIRAS | B11: 716151 | C11: 641108 | D11: 6840929 | E11: 7421041 | F11: =((E11*100)/D11)-100 -> 8.4800178
A12: BAHIA DE CADIZ | B12: 66856 | C12: 82927 | D12: 735075 | E12: 796064 | F12: =((E12*100)/D12)-100 -> 8.2969765
A13: BALEARES | B13: 847163 | C13: 769104 | D13: 10414092 | E13: 11472643 | F13: =((E13*100)/D13)-100 -> 10.164602
A14: BARCELONA | B14: 748985 | C14: 772802 | D14: 10516433 | E14: 10695544 | F14: =((E14*100)/D14)-100 -> 1.7031488
A15: BILBAO | B15: 52245 | C15: 0 | D15: 508781 | E15: 0 | F15: =((E15*100)/D15)-100 -> -100
A16: CARTAGENA | B16: 0 | C16: 0 | D16: 105 | E16: 0 | F16: =((E16*100)/D16)-100 -> -100
A17: CASTELLON | B17: 58499 | C17: 43240 | D17: 486752 | E17: 621141 | F17: =((E17*100)/D17)-100 -> 27.609337
A18: CEUTA | B18: 82944 | C18: 85884 | D18: 995197 | E18: 1035249 | F18: =((E18*100)/D18)-100 -> 4.0245298
A19: FERROL-SAN CIBRAO | B19: 8549 | C19: 5224.27 | D19: 60946 | E19: 72308.27 | F19: =((E19*100)/D19)-100 -> 18.643176
A20: GIJON | B20: 1966 | C20: 0 | D20: 2122 | E20: 4361 | F20: =((E20*100)/D20)-100 -> 105.51367
A21: HUELVA | B21: 11239 | C21: 11620.28 | D21: 151478.8 | E21: 146515.28 | F21: =((E21*100)/D21)-100 -> -3.2767093
A22: LAS PALMAS | B22: 151443 | C22: 140116 | D22: 3186335 | E22: 3325562 | F22: =((E22*100)/D22)-100 -> 4.3695029
A23: MALAGA | B23: 43099 | C23: 40660.07 | D23: 499849.79 | E23: 521997.07 | F23: =((E23*100)/D23)-100 -> 4.4307871
A24: MARIN Y RIA DE PONTEVEDRA | B24: 0 | C24: 121997 | D24: 0 | E24: 521997.07
A25: MELILLA | B25: 60890 | C25: 0 | D25: 740193 | E25: 0 | F25: =((E25*100)/D25)-100 -> -100
A26: MOTRIL | B26: 16412 | C26: 17664 | D26: 216980 | E26: 359156 | F26: =((E26*100)/D26)-100 -> 65.524933
A27: PASAIA | B27: 44021 | C27: 33780 | D27: 587619 | E27: 598521 | F27: =((E27*100)/D27)-100 -> 1.8552838
A28: SANTA CRUZ DE TENERIFE | B28: 298919 | C28: 250942.5 | D28: 3418308 | E28: 3744377.5 | F28: =((E28*100)/D28)-100 -> 9.5389152
A29: SANTANDER | B29: 120596 | C29: 121080 | D29: 1393733 | E29: 1411294 | F29: =((E29*100)/D29)-100 -> 1.2599974
A30: SEVILLA | B30: 22461 | C30: 0 | D30: 286829 | E30: 0 | F30: =((E30*100)/D30)-100 -> -100
A31: TARRAGONA | B31: 0 | C31: 19123.5 | D31: 169347 | E31: 222468.5 | F31: =((E31*100)/D31)-100 -> 31.368433
A32: VALENCIA | B32: 686130 | C32: 583816 | D32: 8544804 | E32: 8939023 | F32: =((E32*100)/D32)-100 -> 4.6135523
A33: VIGO | B33: 74903 | C33: 80525 | D33: 944990 | E33: 1013389 | F33: =((E33*100)/D33)-100 -> 7.238066
A34: VILAGARCIA | B34: 0 | C34: 0 | D34: 0 | E34: 0
A35: Total | B35: =SUM(B7:B34) -> 4160662 | C35: =SUM(C7:C34) -> 3870871.6 | D35: =SUM(D7:D34) -> 51154407 | E35: =SUM(E7:E34) -> 53447233 | F35: =((E35*100)/D35)-100 -> 4.4821675
B37: =E6 -> 2016 | C37: =D6 -> 2015 | F37: =B37 -> 2016 | G37: =C37 -> 2015
A38: =A7 -> A CORUÑA | B38: =E7 -> 0 | C38: =D7 -> 0 | D38: =_xlfn.RANK.EQ(B38,$B$38:$B$65)+COUNTIF($B$38:$B$65,B38)-1 -> 28 | E38: =INDEX($A$38:$B$65,MATCH(ROW()-37,$D$38:$D$65,0),1) -> BALEARES | F38: =LOOKUP(E38,$A$38:$A$65,$B$38:$B$65) -> 11472643 | G38: =LOOKUP(E38,$A$38:$A$65,$C$38:$C$65) -> 10414092
A39: =A8 -> ALICANTE | B39: =E8 -> 111104.77 | C39: =D8 -> 75531.16 | D39: =_xlfn.RANK.EQ(B39,$B$38:$B$65)+COUNTIF($B$38:$B$65,B39)-1 -> 19 | E39: =INDEX($A$38:$B$65,MATCH(ROW()-37,$D$38:$D$65,0),1) -> BARCELONA | F39: =LOOKUP(E39,$A$38:$A$65,$B$38:$B$65) -> 10695544 | G39: =LOOKUP(E39,$A$38:$A$65,$C$38:$C$65) -> 10516433
A40: =A9 -> ALMERIA | B40: =E9 -> 413477 | C40: =D9 -> 377977 | D40: =_xlfn.RANK.EQ(B40,$B$38:$B$65)+COUNTIF($B$38:$B$65,B40)-1 -> 15 | E40: =INDEX($A$38:$B$65,MATCH(ROW()-37,$D$38:$D$65,0),1) -> VALENCIA | F40: =LOOKUP(E40,$A$38:$A$65,$B$38:$B$65) -> 8939023 | G40: =LOOKUP(E40,$A$38:$A$65,$C$38:$C$65) -> 8544804
A41: =A10 -> AVILES | B41: =E10 -> 0 | C41: =D10 -> 0 | D41: =_xlfn.RANK.EQ(B41,$B$38:$B$65)+COUNTIF($B$38:$B$65,B41)-1 -> 28 | E41: =INDEX($A$38:$B$65,MATCH(ROW()-37,$D$38:$D$65,0),1) -> BAHIA DE ALGECIRAS | F41: =LOOKUP(E41,$A$38:$A$65,$B$38:$B$65) -> 7421041 | G41: =LOOKUP(E41,$A$38:$A$65,$C$38:$C$65) -> 6840929
A42: =A11 -> BAHIA DE ALGECIRAS | B42: =E11 -> 7421041 | C42: =D11 -> 6840929 | D42: =_xlfn.RANK.EQ(B42,$B$38:$B$65)+COUNTIF($B$38:$B$65,B42)-1 -> 4 | E42: =INDEX($A$38:$B$65,MATCH(ROW()-37,$D$38:$D$65,0),1) -> SANTA CRUZ DE TENERIFE | F42: =LOOKUP(E42,$A$38:$A$65,$B$38:$B$65) -> 3744377.5 | G42: =LOOKUP(E42,$A$38:$A$65,$C$38:$C$65) -> 3418308
A43: =A12 -> BAHIA DE CADIZ | B43: =E12 -> 796064 | C43: =D12 -> 735075 | D43: =_xlfn.RANK.EQ(B43,$B$38:$B$65)+COUNTIF($B$38:$B$65,B43)-1 -> 10 | E43: =INDEX($A$38:$B$65,MATCH(ROW()-37,$D$38:$D$65,0),1) -> LAS PALMAS | F43: =LOOKUP(E43,$A$38:$A$65,$B$38:$B$65) -> 3325562 | G43: =LOOKUP(E43,$A$38:$A$65,$C$38:$C$65) -> 3186335
A44: =A13 -> BALEARES | B44: =E13 -> 11472643 | C44: =D13 -> 10414092 | D44: =_xlfn.RANK.EQ(B44,$B$38:$B$65)+COUNTIF($B$38:$B$65,B44)-1 -> 1 | E44: =INDEX($A$38:$B$65,MATCH(ROW()-37,$D$38:$D$65,0),1) -> SANTANDER | F44: =LOOKUP(E44,$A$38:$A$65,$B$38:$B$65) -> 1411294 | G44: =LOOKUP(E44,$A$38:$A$65,$C$38:$C$65) -> 1393733
A45: =A14 -> BARCELONA | B45: =E14 -> 10695544 | C45: =D14 -> 10516433 | D45: =_xlfn.RANK.EQ(B45,$B$38:$B$65)+COUNTIF($B$38:$B$65,B45)-1 -> 2 | E45: =INDEX($A$38:$B$65,MATCH(ROW()-37,$D$38:$D$65,0),1) -> CEUTA | F45: =LOOKUP(E45,$A$38:$A$65,$B$38:$B$65) -> 1035249 | G45: =LOOKUP(E45,$A$38:$A$65,$C$38:$C$65) -> 995197
A46: =A15 -> BILBAO | B46: =E15 -> 0 | C46: =D15 -> 508781 | D46: =_xlfn.RANK.EQ(B46,$B$38:$B$65)+COUNTIF($B$38:$B$65,B46)-1 -> 28 | E46: =INDEX($A$38:$B$65,MATCH(ROW()-37,$D$38:$D$65,0),1) -> VIGO | F46: =LOOKUP(E46,$A$38:$A$65,$B$38:$B$65) -> 1013389 | G46: =LOOKUP(E46,$A$38:$A$65,$C$38:$C$65) -> 944990
A47: =A16 -> CARTAGENA | B47: =E16 -> 0 | C47: =D16 -> 105 | D47: =_xlfn.RANK.EQ(B47,$B$38:$B$65)+COUNTIF($B$38:$B$65,B47)-1 -> 28 | E47: =INDEX($A$38:$B$65,MATCH(ROW()-37,$D$38:$D$65,0),1) -> BAHIA DE CADIZ | F47: =LOOKUP(E47,$A$38:$A$65,$B$38:$B$65) -> 796064 | G47: =LOOKUP(E47,$A$38:$A$65,$C$38:$C$65) -> 735075
A48: =A17 -> CASTELLON | B48: =E17 -> 621141 | C48: =D17 -> 486752 | D48: =_xlfn.RANK.EQ(B48,$B$38:$B$65)+COUNTIF($B$38:$B$65,B48)-1 -> 11 | E48: =INDEX($A$38:$B$65,MATCH(ROW()-37,$D$38:$D$65,0),1) -> CASTELLON | F48: =LOOKUP(E48,$A$38:$A$65,$B$38:$B$65) -> 621141 | G48: =LOOKUP(E48,$A$38:$A$65,$C$38:$C$65) -> 486752
A49: =A18 -> CEUTA | B49: =E18 -> 1035249 | C49: =D18 -> 995197 | D49: =_xlfn.RANK.EQ(B49,$B$38:$B$65)+COUNTIF($B$38:$B$65,B49)-1 -> 8 | E49: =INDEX($A$38:$B$65,MATCH(ROW()-37,$D$38:$D$65,0),1) -> PASAIA | F49: =LOOKUP(E49,$A$38:$A$65,$B$38:$B$65) -> 598521 | G49: =LOOKUP(E49,$A$38:$A$65,$C$38:$C$65) -> 587619
... A65: =A34 -> VILAGARCIA | B65: =E34 -> 0 | C65: =D34 -> 0 | D65: =_xlfn.RANK.EQ(B65,$B$38:$B$65)+COUNTIF($B$38:$B$65,B65)-1 -> 28 | E65: =INDEX($A$38:$B$65,MATCH(ROW()-37,$D$38:$D$65,0),1) -> A CORUÑA | F65: =LOOKUP(E65,$A$38:$A$65,$B$38:$B$65) -> 0 | G65: =LOOKUP(E65,$A$38:$A$65,$C$38:$C$65) -> 0

Sheet TEUS
F1: 10. CONTENEDORES (TEUS)
A5: Autoridad Portuaria | B5: ='Resumen general'!D6 -> Mes Diciembre | D5: ='Resumen general'!F6 -> Acumulado desde Enero | L5: ='Resumen general'!I4 -> Fecha: 05/02/2018
B6: ='Resumen general'!D7 -> 2015 | C6: ='Resumen general'!E7 -> 2016 | D6: ='Resumen general'!F7 -> 2015 | E6: ='Resumen general'!G7 -> 2016 | F6: Var. (%)
A7: A CORUÑA | B7: 0 | C7: 0 | D7: 152 | E7: 214 | F7: =((E7*100)/D7)-100 -> 40.789474
A8: ALICANTE | B8: 11388 | C8: 13567 | D8: 133880 | E8: 159664 | F8: =((E8*100)/D8)-100 -> 19.259038
A9: ALMERIA | B9: 499 | C9: 575.75 | D9: 6102.25 | E9: 6290.75 | F9: =((E9*100)/D9)-100 -> 3.0890245
A10: AVILES | B10: 0 | C10: 2 | D10: 0 | E10: 2
A11: BAHIA DE ALGECIRAS | B11: 389206 | C11: 375642 | D11: 4515768 | E11: 4761444 | F11: =((E11*100)/D11)-100 -> 5.4404035
A12: BAHIA DE CADIZ | B12: 4657 | C12: 6053 | D12: 67311.5 | E12: 74321 | F12: =((E12*100)/D12)-100 -> 10.413525
A13: BALEARES | B13: 8398 | C13: 8662 | D13: 89640 | E13: 130268 | F13: =((E13*100)/D13)-100 -> 45.323516
A14: BARCELONA | B14: 176941 | C14: 194795 | D14: 1965241 | E14: 2236961 | F14: =((E14*100)/D14)-100 -> 13.826294
A15: BILBAO | B15: 58650 | C15: 60206 | D15: 627302 | E15: 596689 | F15: =((E15*100)/D15)-100 -> -4.8801056
A16: CARTAGENA | B16: 6382 | C16: 5640 | D16: 91726 | E16: 96127 | F16: =((E16*100)/D16)-100 -> 4.7979853
A17: CASTELLON | B17: 17146 | C17: 17425 | D17: 214663 | E17: 226903 | F17: =((E17*100)/D17)-100 -> 5.7019607
A18: CEUTA | B18: 1542 | C18: 1879 | D18: 18191 | E18: 21790 | F18: =((E18*100)/D18)-100 -> 19.784509
A19: FERROL-SAN CIBRAO | B19: 123 | C19: 106 | D19: 958 | E19: 885 | F19: =((E19*100)/D19)-100 -> -7.6200418
A20: GIJON | B20: 7107 | C20: 6893 | D20: 61922 | E20: 65811 | F20: =((E20*100)/D20)-100 -> 6.2804819
A21: HUELVA | B21: 1159 | C21: 1743 | D21: 7834 | E21: 11822 | F21: =((E21*100)/D21)-100 -> 50.906306
A22: LAS PALMAS | B22: 73070 | C22: 86396 | D22: 901101 | E22: 945534 | F22: =((E22*100)/D22)-100 -> 4.9309678
... A34: VILAGARCIA | B34: 2266 | C34: 2361 | D34: 30573 | E34: 32323 | F34: =((E34*100)/D34)-100 -> 5.7240048
A35: Total | B35: =SUM(B7:B34) -> 1232553 | C35: =SUM(C7:C34) -> 1272883.8 | D35: =SUM(D7:D34) -> 14293243 | E35: =SUM(E7:E34) -> 15154303 | F35: =((E35*100)/D35)-100 -> 6.0242453
B37: =E6 -> 2016 | C37: =D6 -> 2015 | F37: =B37 -> 2016 | G37: =C37 -> 2015
A38: =A7 -> A CORUÑA | B38: =E7 -> 214 | C38: =D7 -> 152 | D38: =_xlfn.RANK.EQ(B38,$B$38:$B$65)+COUNTIF($B$38:$B$65,B38)-1 -> 27 | E38: =INDEX($A$38:$B$65,MATCH(ROW()-37,$D$38:$D$65,0),1) -> BAHIA DE ALGECIRAS | F38: =LOOKUP(E38,$A$38:$A$65,$B$38:$B$65) -> 4761444 | G38: =LOOKUP(E38,$A$38:$A$65,$C$38:$C$65) -> 4515768
A39: =A8 -> ALICANTE | B39: =E8 -> 159664 | C39: =D8 -> 133880 | D39: =_xlfn.RANK.EQ(B39,$B$38:$B$65)+COUNTIF($B$38:$B$65,B39)-1 -> 9 | E39: =INDEX($A$38:$B$65,MATCH(ROW()-37,$D$38:$D$65,0),1) -> VALENCIA | F39: =LOOKUP(E39,$A$38:$A$65,$B$38:$B$65) -> 4732136 | G39: =LOOKUP(E39,$A$38:$A$65,$C$38:$C$65) -> 4615196
A40: =A9 -> ALMERIA | B40: =E9 -> 6290.75 | C40: =D9 -> 6102.25 | D40: =_xlfn.RANK.EQ(B40,$B$38:$B$65)+COUNTIF($B$38:$B$65,B40)-1 -> 23 | E40: =INDEX($A$38:$B$65,MATCH(ROW()-37,$D$38:$D$65,0),1) -> BARCELONA | F40: =LOOKUP(E40,$A$38:$A$65,$B$38:$B$65) -> 2236961 | G40: =LOOKUP(E40,$A$38:$A$65,$C$38:$C$65) -> 1965241
A41: =A10 -> AVILES | B41: =E10 -> 2 | C41: =D10 -> 0 | D41: =_xlfn.RANK.EQ(B41,$B$38:$B$65)+COUNTIF($B$38:$B$65,B41)-1 -> 28 | E41: =INDEX($A$38:$B$65,MATCH(ROW()-37,$D$38:$D$65,0),1) -> LAS PALMAS | F41: =LOOKUP(E41,$A$38:$A$65,$B$38:$B$65) -> 945534 | G41: =LOOKUP(E41,$A$38:$A$65,$C$38:$C$65) -> 901101
A42: =A11 -> BAHIA DE ALGECIRAS | B42: =E11 -> 4761444 | C42: =D11 -> 4515768 | D42: =_xlfn.RANK.EQ(B42,$B$38:$B$65)+COUNTIF($B$38:$B$65,B42)-1 -> 1 | E42: =INDEX($A$38:$B$65,MATCH(ROW()-37,$D$38:$D$65,0),1) -> BILBAO | F42: =LOOKUP(E42,$A$38:$A$65,$B$38:$B$65) -> 596689 | G42: =LOOKUP(E42,$A$38:$A$65,$C$38:$C$65) -> 627302
A43: =A12 -> BAHIA DE CADIZ | B43: =E12 -> 74321 | C43: =D12 -> 67311.5 | D43: =_xlfn.RANK.EQ(B43,$B$38:$B$65)+COUNTIF($B$38:$B$65,B43)-1 -> 15 | E43: =INDEX($A$38:$B$65,MATCH(ROW()-37,$D$38:$D$65,0),1) -> SANTA CRUZ DE TENERIFE | F43: =LOOKUP(E43,$A$38:$A$65,$B$38:$B$65) -> 370645 | G43: =LOOKUP(E43,$A$38:$A$65,$C$38:$C$65) -> 345457
A44: =A13 -> BALEARES | B44: =E13 -> 130268 | C44: =D13 -> 89640 | D44: =_xlfn.RANK.EQ(B44,$B$38:$B$65)+COUNTIF($B$38:$B$65,B44)-1 -> 11 | E44: =INDEX($A$38:$B$65,MATCH(ROW()-37,$D$38:$D$65,0),1) -> CASTELLON | F44: =LOOKUP(E44,$A$38:$A$65,$B$38:$B$65) -> 226903 | G44: =LOOKUP(E44,$A$38:$A$65,$C$38:$C$65) -> 214663
A45: =A14 -> BARCELONA | B45: =E14 -> 2236961 | C45: =D14 -> 1965241 | D45: =_xlfn.RANK.EQ(B45,$B$38:$B$65)+COUNTIF($B$38:$B$65,B45)-1 -> 3 | E45: =INDEX($A$38:$B$65,MATCH(ROW()-37,$D$38:$D$65,0),1) -> VIGO | F45: =LOOKUP(E45,$A$38:$A$65,$B$38:$B$65) -> 218044 | G45: =LOOKUP(E45,$A$38:$A$65,$C$38:$C$65) -> 223699
A46: =A15 -> BILBAO | B46: =E15 -> 596689 | C46: =D15 -> 627302 | D46: =_xlfn.RANK.EQ(B46,$B$38:$B$65)+COUNTIF($B$38:$B$65,B46)-1 -> 5 | E46: =INDEX($A$38:$B$65,MATCH(ROW()-37,$D$38:$D$65,0),1) -> ALICANTE | F46: =LOOKUP(E46,$A$38:$A$65,$B$38:$B$65) -> 159664 | G46: =LOOKUP(E46,$A$38:$A$65,$C$38:$C$65) -> 133880
A47: =A16 -> CARTAGENA | B47: =E16 -> 96127 | C47: =D16 -> 91726 | D47: =_xlfn.RANK.EQ(B47,$B$38:$B$65)+COUNTIF($B$38:$B$65,B47)-1 -> 13 | E47: =INDEX($A$38:$B$65,MATCH(ROW()-37,$D$38:$D$65,0),1) -> SEVILLA | F47: =LOOKUP(E47,$A$38:$A$65,$B$38:$B$65) -> 145672 | G47: =LOOKUP(E47,$A$38:$A$65,$C$38:$C$65) -> 161671
A48: =A17 -> CASTELLON | B48: =E17 -> 226903 | C48: =D17 -> 214663 | D48: =_xlfn.RANK.EQ(B48,$B$38:$B$65)+COUNTIF($B$38:$B$65,B48)-1 -> 7 | E48: =INDEX($A$38:$B$65,MATCH(ROW()-37,$D$38:$D$65,0),1) -> BALEARES | F48: =LOOKUP(E48,$A$38:$A$65,$B$38:$B$65) -> 130268 | G48: =LOOKUP(E48,$A$38:$A$65,$C$38:$C$65) -> 89640
A49: =A18 -> CEUTA | B49: =E18 -> 21790 | C49: =D18 -> 18191 | D49: =_xlfn.RANK.EQ(B49,$B$38:$B$65)+COUNTIF($B$38:$B$65,B49)-1 -> 20 | E49: =INDEX($A$38:$B$65,MATCH(ROW()-37,$D$38:$D$65,0),1) -> MALAGA | F49: =LOOKUP(E49,$A$38:$A$65,$B$38:$B$65) -> 119847 | G49: =LOOKUP(E49,$A$38:$A$65,$C$38:$C$65) -> 43369
... A65: =A34 -> VILAGARCIA | B65: =E34 -> 32323 | C65: =D34 -> 30573 | D65: =_xlfn.RANK.EQ(B65,$B$38:$B$65)+COUNTIF($B$38:$B$65,B65)-1 -> 19 | E65: =INDEX($A$38:$B$65,MATCH(ROW()-37,$D$38:$D$65,0),1) -> AVILES | F65: =LOOKUP(E65,$A$38:$A$65,$B$38:$B$65) -> 2 | G65: =LOOKUP(E65,$A$38:$A$65,$C$38:$C$65) -> 0

Sheet TEUS tránsito
F1: 10.1. CONTENEDORES EN TRÁNSITO (TEUS)
A5: Autoridad Portuaria | B5: ='Resumen general'!D6 -> Mes Diciembre | D5: ='Resumen general'!F6 -> Acumulado desde Enero | L5: ='Resumen general'!I4 -> Fecha: 05/02/2018
B6: ='Resumen general'!D7 -> 2015 | C6: ='Resumen general'!E7 -> 2016 | D6: ='Resumen general'!F7 -> 2015 | E6: ='Resumen general'!G7 -> 2016 | F6: Var. (%)
A7: A CORUÑA | B7: 0 | C7: 0 | D7: 0 | E7: 0
A8: ALICANTE | B8: 152 | C8: 154 | D8: 330 | E8: 4748 | F8: =((E8*100)/D8)-100 -> 1338.7879
A9: ALMERIA | B9: 0 | C9: 6 | D9: 0 | E9: 47
A10: AVILES | B10: 0 | C10: 0 | D10: 0 | E10: 0
A11: BAHIA DE ALGECIRAS | B11: 359784 | C11: 345820 | D11: 4144036 | E11: 4383488 | F11: =((E11*100)/D11)-100 -> 5.7782317
A12: BAHIA DE CADIZ | B12: 0 | C12: 0 | D12: 0 | E12: 112
A13: BALEARES | B13: 39 | C13: 0 | D13: 99 | E13: 8 | F13: =((E13*100)/D13)-100 -> -91.919192
A14: BARCELONA | B14: 30400 | C14: 47409 | D14: 281984 | E14: 431750 | F14: =((E14*100)/D14)-100 -> 53.111524
A15: BILBAO | B15: 339 | C15: 760 | D15: 2148 | E15: 3370 | F15: =((E15*100)/D15)-100 -> 56.89013
A16: CARTAGENA | B16: 664 | C16: 0 | D16: 664 | E16: 248 | F16: =((E16*100)/D16)-100 -> -62.650602
A17: CASTELLON | B17: 633 | C17: 3347 | D17: 8544 | E17: 23806 | F17: =((E17*100)/D17)-100 -> 178.62828
A18: CEUTA | B18: 0 | C18: 0 | D18: 0 | E18: 0
A19: FERROL-SAN CIBRAO | B19: 0 | C19: 0 | D19: 6 | E19: 38 | F19: =((E19*100)/D19)-100 -> 533.33333
A20: GIJON | B20: 0 | C20: 0 | D20: 1 | E20: 287
A21: HUELVA | B21: 0 | C21: 0 | D21: 0 | E21: 254
A22: LAS PALMAS | B22: 31790 | C22: 42702 | D22: 437666 | E22: 433027 | F22: =((E22*100)/D22)-100 -> -1.0599407
A23: MALAGA | B23: 7644 | C23: 2217 | D23: 7678 | E23: 88814 | F23: =((E23*100)/D23)-100 -> 1056.7335
A24: MARIN Y RIA DE PONTEVEDRA | B24: 21 | C24: 2708 | D24: 2060 | E24: 7121 | F24: =((E24*100)/D24)-100 -> 245.67961
A25: MELILLA | B25: 0 | C25: 0 | D25: 0 | E25: 0
A26: MOTRIL | B26: 0 | C26: 0 | D26: 0 | E26: 54
A27: PASAIA | B27: 0 | C27: 0 | D27: 0 | E27: 0
A28: SANTA CRUZ DE TENERIFE | B28: 325 | C28: 240 | D28: 2275 | E28: 2869 | F28: =((E28*100)/D28)-100 -> 26.10989
A29: SANTANDER | B29: 8 | C29: 0 | D29: 20 | E29: 5 | F29: =((E29*100)/D29)-100 -> -75
A30: SEVILLA | B30: 0 | C30: 0 | D30: 0 | E30: 0
A31: TARRAGONA | B31: 1811 | C31: 1310 | D31: 24556 | E31: 19278 | F31: =((E31*100)/D31)-100 -> -21.493729
A32: VALENCIA | B32: 195321 | C32: 200203 | D32: 2508934 | E32: 2514252 | F32: =((E32*100)/D32)-100 -> 0.21196253
A33: VIGO | B33: 403 | C33: 625 | D33: 5892 | E33: 8949 | F33: =((E33*100)/D33)-100 -> 51.88391
A34: VILAGARCIA | B34: 20 | C34: 0 | D34: 52 | E34: 10 | F34: =((E34*100)/D34)-100 -> -80.769231
A35: Total | B35: =SUM(B7:B34) -> 629354 | C35: =SUM(C7:C34) -> 647501 | D35: =SUM(D7:D34) -> 7426945 | E35: =SUM(E7:E34) -> 7922535 | F35: =((E35*100)/D35)-100 -> 6.6728648
B37: =E6 -> 2016 | C37: =D6 -> 2015 | F37: =B37 -> 2016 | G37: =C37 -> 2015
A38: =A7 -> A CORUÑA | B38: =E7 -> 0 | C38: =D7 -> 0 | D38: =_xlfn.RANK.EQ(B38,$B$38:$B$65)+COUNTIF($B$38:$B$65,B38)-1 -> 28 | E38: =INDEX($A$38:$B$65,MATCH(ROW()-37,$D$38:$D$65,0),1) -> BAHIA DE ALGECIRAS | F38: =LOOKUP(E38,$A$38:$A$65,$B$38:$B$65) -> 4383488 | G38: =LOOKUP(E38,$A$38:$A$65,$C$38:$C$65) -> 4144036
A39: =A8 -> ALICANTE | B39: =E8 -> 4748 | C39: =D8 -> 330 | D39: =_xlfn.RANK.EQ(B39,$B$38:$B$65)+COUNTIF($B$38:$B$65,B39)-1 -> 10 | E39: =INDEX($A$38:$B$65,MATCH(ROW()-37,$D$38:$D$65,0),1) -> VALENCIA | F39: =LOOKUP(E39,$A$38:$A$65,$B$38:$B$65) -> 2514252 | G39: =LOOKUP(E39,$A$38:$A$65,$C$38:$C$65) -> 2508934
A40: =A9 -> ALMERIA | B40: =E9 -> 47 | C40: =D9 -> 0 | D40: =_xlfn.RANK.EQ(B40,$B$38:$B$65)+COUNTIF($B$38:$B$65,B40)-1 -> 18 | E40: =INDEX($A$38:$B$65,MATCH(ROW()-37,$D$38:$D$65,0),1) -> LAS PALMAS | F40: =LOOKUP(E40,$A$38:$A$65,$B$38:$B$65) -> 433027 | G40: =LOOKUP(E40,$A$38:$A$65,$C$38:$C$65) -> 437666
A41: =A10 -> AVILES | B41: =E10 -> 0 | C41: =D10 -> 0 | D41: =_xlfn.RANK.EQ(B41,$B$38:$B$65)+COUNTIF($B$38:$B$65,B41)-1 -> 28 | E41: =INDEX($A$38:$B$65,MATCH(ROW()-37,$D$38:$D$65,0),1) -> BARCELONA | F41: =LOOKUP(E41,$A$38:$A$65,$B$38:$B$65) -> 431750 | G41: =LOOKUP(E41,$A$38:$A$65,$C$38:$C$65) -> 281984
A42: =A11 -> BAHIA DE ALGECIRAS | B42: =E11 -> 4383488 | C42: =D11 -> 4144036 | D42: =_xlfn.RANK.EQ(B42,$B$38:$B$65)+COUNTIF($B$38:$B$65,B42)-1 -> 1 | E42: =INDEX($A$38:$B$65,MATCH(ROW()-37,$D$38:$D$65,0),1) -> MALAGA | F42: =LOOKUP(E42,$A$38:$A$65,$B$38:$B$65) -> 88814 | G42: =LOOKUP(E42,$A$38:$A$65,$C$38:$C$65) -> 7678
A43: =A12 -> BAHIA DE CADIZ | B43: =E12 -> 112 | C43: =D12 -> 0 | D43: =_xlfn.RANK.EQ(B43,$B$38:$B$65)+COUNTIF($B$38:$B$65,B43)-1 -> 16 | E43: =INDEX($A$38:$B$65,MATCH(ROW()-37,$D$38:$D$65,0),1) -> CASTELLON | F43: =LOOKUP(E43,$A$38:$A$65,$B$38:$B$65) -> 23806 | G43: =LOOKUP(E43,$A$38:$A$65,$C$38:$C$65) -> 8544
A44: =A13 -> BALEARES | B44: =E13 -> 8 | C44: =D13 -> 99 | D44: =_xlfn.RANK.EQ(B44,$B$38:$B$65)+COUNTIF($B$38:$B$65,B44)-1 -> 21 | E44: =INDEX($A$38:$B$65,MATCH(ROW()-37,$D$38:$D$65,0),1) -> TARRAGONA | F44: =LOOKUP(E44,$A$38:$A$65,$B$38:$B$65) -> 19278 | G44: =LOOKUP(E44,$A$38:$A$65,$C$38:$C$65) -> 24556
A45: =A14 -> BARCELONA | B45: =E14 -> 431750 | C45: =D14 -> 281984 | D45: =_xlfn.RANK.EQ(B45,$B$38:$B$65)+COUNTIF($B$38:$B$65,B45)-1 -> 4 | E45: =INDEX($A$38:$B$65,MATCH(ROW()-37,$D$38:$D$65,0),1) -> VIGO | F45: =LOOKUP(E45,$A$38:$A$65,$B$38:$B$65) -> 8949 | G45: =LOOKUP(E45,$A$38:$A$65,$C$38:$C$65) -> 5892
A46: =A15 -> BILBAO | B46: =E15 -> 3370 | C46: =D15 -> 2148 | D46: =_xlfn.RANK.EQ(B46,$B$38:$B$65)+COUNTIF($B$38:$B$65,B46)-1 -> 11 | E46: =INDEX($A$38:$B$65,MATCH(ROW()-37,$D$38:$D$65,0),1) -> MARIN Y RIA DE PONTEVEDRA | F46: =LOOKUP(E46,$A$38:$A$65,$B$38:$B$65) -> 7121 | G46: =LOOKUP(E46,$A$38:$A$65,$C$38:$C$65) -> 2060
A47: =A16 -> CARTAGENA | B47: =E16 -> 248 | C47: =D16 -> 664 | D47: =_xlfn.RANK.EQ(B47,$B$38:$B$65)+COUNTIF($B$38:$B$65,B47)-1 -> 15 | E47: =INDEX($A$38:$B$65,MATCH(ROW()-37,$D$38:$D$65,0),1) -> ALICANTE | F47: =LOOKUP(E47,$A$38:$A$65,$B$38:$B$65) -> 4748 | G47: =LOOKUP(E47,$A$38:$A$65,$C$38:$C$65) -> 330
A48: =A17 -> CASTELLON | B48: =E17 -> 23806 | C48: =D17 -> 8544 | D48: =_xlfn.RANK.EQ(B48,$B$38:$B$65)+COUNTIF($B$38:$B$65,B48)-1 -> 6 | E48: =INDEX($A$38:$B$65,MATCH(ROW()-37,$D$38:$D$65,0),1) -> BILBAO | F48: =LOOKUP(E48,$A$38:$A$65,$B$38:$B$65) -> 3370 | G48: =LOOKUP(E48,$A$38:$A$65,$C$38:$C$65) -> 2148
A49: =A18 -> CEUTA | B49: =E18 -> 0 | C49: =D18 -> 0 | D49: =_xlfn.RANK.EQ(B49,$B$38:$B$65)+COUNTIF($B$38:$B$65,B49)-1 -> 28 | E49: =INDEX($A$38:$B$65,MATCH(ROW()-37,$D$38:$D$65,0),1) -> SANTA CRUZ DE TENERIFE | F49: =LOOKUP(E49,$A$38:$A$65,$B$38:$B$65) -> 2869 | G49: =LOOKUP(E49,$A$38:$A$65,$C$38:$C$65) -> 2275
... A65: =A34 -> VILAGARCIA | B65: =E34 -> 10 | C65: =D34 -> 52 | D65: =_xlfn.RANK.EQ(B65,$B$38:$B$65)+COUNTIF($B$38:$B$65,B65)-1 -> 20 | E65: =INDEX($A$38:$B$65,MATCH(ROW()-37,$D$38:$D$65,0),1) -> A CORUÑA | F65: =LOOKUP(E65,$A$38:$A$65,$B$38:$B$65) -> 0 | G65: =LOOKUP(E65,$A$38:$A$65,$C$38:$C$65) -> 0

Sheet TEUS nacional
F1: 10.2. CONTENEDORES ENTRADA-SALIDA NACIONAL (TEUS)
A5: Autoridad Portuaria | B5: ='Resumen general'!D6 -> Mes Diciembre | D5: ='Resumen general'!F6 -> Acumulado desde Enero | L5: ='Resumen general'!I4 -> Fecha: 05/02/2018
B6: ='Resumen general'!D7 -> 2015 | C6: ='Resumen general'!E7 -> 2016 | D6: ='Resumen general'!F7 -> 2015 | E6: ='Resumen general'!G7 -> 2016 | F6: Var. (%)
A7: A CORUÑA | B7: 0 | C7: 0 | D7: 102 | E7: 203 | F7: =((E7*100)/D7)-100 -> 99.019608
A8: ALICANTE | B8: 9205 | C8: 11697 | D8: 116867 | E8: 136749 | F8: =((E8*100)/D8)-100 -> 17.012501
A9: ALMERIA | B9: 170 | C9: 0 | D9: 2688 | E9: 421 | F9: =((E9*100)/D9)-100 -> -84.337798
A10: AVILES | B10: 0 | C10: 0 | D10: 0 | E10: 0
A11: BAHIA DE ALGECIRAS | B11: 113 | C11: 247 | D11: 2222 | E11: 4966 | F11: =((E11*100)/D11)-100 -> 123.49235
A12: BAHIA DE CADIZ | B12: 2999 | C12: 5422 | D12: 33744 | E12: 50356 | F12: =((E12*100)/D12)-100 -> 49.229493
A13: BALEARES | B13: 8354 | C13: 8662 | D13: 89505 | E13: 130189 | F13: =((E13*100)/D13)-100 -> 45.454444
A14: BARCELONA | B14: 19167 | C14: 18562 | D14: 216970 | E14: 242036 | F14: =((E14*100)/D14)-100 -> 11.552749
A15: BILBAO | B15: 6682 | C15: 5410 | D15: 72474 | E15: 66784 | F15: =((E15*100)/D15)-100 -> -7.8510914
A16: CARTAGENA | B16: 1580 | C16: 1486 | D16: 30012 | E16: 31829 | F16: =((E16*100)/D16)-100 -> 6.054245
A17: CASTELLON | B17: 1085 | C17: 26 | D17: 11707 | E17: 5782 | F17: =((E17*100)/D17)-100 -> -50.610746
A18: CEUTA | B18: 1542 | C18: 1810 | D18: 18172 | E18: 21696 | F18: =((E18*100)/D18)-100 -> 19.392472
A19: FERROL-SAN CIBRAO | B19: 0 | C19: 6 | D19: 8 | E19: 10 | F19: =((E19*100)/D19)-100 -> 25
A20: GIJON | B20: 572 | C20: 1711 | D20: 5679 | E20: 11779 | F20: =((E20*100)/D20)-100 -> 107.41328
A21: HUELVA | B21: 668 | C21: 762 | D21: 2792 | E21: 3286 | F21: =((E21*100)/D21)-100 -> 17.69341
A22: LAS PALMAS | B22: 34618 | C22: 36492 | D22: 394273 | E22: 431966 | F22: =((E22*100)/D22)-100 -> 9.5601271
... A28: SANTA CRUZ DE TENERIFE | B28: 26604 | C28: 27812 | D28: 306834 | E28: 325426 | F28: =((E28*100)/D28)-100 -> 6.0593024
A29: SANTANDER | B29: 0 | C29: 0 | D29: 0 | E29: 0
A30: SEVILLA | B30: 12556 | C30: 11923 | D30: 153395 | E30: 140880 | F30: =((E30*100)/D30)-100 -> -8.1586753
A31: TARRAGONA | B31: 521 | C31: 799 | D31: 10940 | E31: 10787 | F31: =((E31*100)/D31)-100 -> -1.3985375
A32: VALENCIA | B32: 14577 | C32: 16862 | D32: 160386 | E32: 204190 | F32: =((E32*100)/D32)-100 -> 27.311611
A33: VIGO | B33: 2566 | C33: 1391 | D33: 28931 | E33: 27431 | F33: =((E33*100)/D33)-100 -> -5.1847499
A34: VILAGARCIA | B34: 2186 | C34: 2329 | D34: 29849 | E34: 31626 | F34: =((E34*100)/D34)-100 -> 5.9532983
A35: Total | B35: =SUM(B7:B34) -> 149360 | C35: =SUM(C7:C34) -> 157029 | D35: =SUM(D7:D34) -> 1728964 | E35: =SUM(E7:E34) -> 1926876 | F35: =((E35*100)/D35)-100 -> 11.446855
B37: =E6 -> 2016 | C37: =D6 -> 2015 | F37: =B37 -> 2016 | G37: =C37 -> 2015
A38: =A7 -> A CORUÑA | B38: =E7 -> 203 | C38: =D7 -> 102 | D38: =_xlfn.RANK.EQ(B38,$B$38:$B$65)+COUNTIF($B$38:$B$65,B38)-1 -> 24 | E38: =INDEX($A$38:$B$65,MATCH(ROW()-37,$D$38:$D$65,0),1) -> LAS PALMAS | F38: =LOOKUP(E38,$A$38:$A$65,$B$38:$B$65) -> 431966 | G38: =LOOKUP(E38,$A$38:$A$65,$C$38:$C$65) -> 394273
A39: =A8 -> ALICANTE | B39: =E8 -> 136749 | C39: =D8 -> 116867 | D39: =_xlfn.RANK.EQ(B39,$B$38:$B$65)+COUNTIF($B$38:$B$65,B39)-1 -> 6 | E39: =INDEX($A$38:$B$65,MATCH(ROW()-37,$D$38:$D$65,0),1) -> SANTA CRUZ DE TENERIFE | F39: =LOOKUP(E39,$A$38:$A$65,$B$38:$B$65) -> 325426 | G39: =LOOKUP(E39,$A$38:$A$65,$C$38:$C$65) -> 306834
A40: =A9 -> ALMERIA | B40: =E9 -> 421 | C40: =D9 -> 2688 | D40: =_xlfn.RANK.EQ(B40,$B$38:$B$65)+COUNTIF($B$38:$B$65,B40)-1 -> 23 | E40: =INDEX($A$38:$B$65,MATCH(ROW()-37,$D$38:$D$65,0),1) -> BARCELONA | F40: =LOOKUP(E40,$A$38:$A$65,$B$38:$B$65) -> 242036 | G40: =LOOKUP(E40,$A$38:$A$65,$C$38:$C$65) -> 216970
A41: =A10 -> AVILES | B41: =E10 -> 0 | C41: =D10 -> 0 | D41: =_xlfn.RANK.EQ(B41,$B$38:$B$65)+COUNTIF($B$38:$B$65,B41)-1 -> 28 | E41: =INDEX($A$38:$B$65,MATCH(ROW()-37,$D$38:$D$65,0),1) -> VALENCIA | F41: =LOOKUP(E41,$A$38:$A$65,$B$38:$B$65) -> 204190 | G41: =LOOKUP(E41,$A$38:$A$65,$C$38:$C$65) -> 160386
A42: =A11 -> BAHIA DE ALGECIRAS | B42: =E11 -> 4966 | C42: =D11 -> 2222 | D42: =_xlfn.RANK.EQ(B42,$B$38:$B$65)+COUNTIF($B$38:$B$65,B42)-1 -> 19 | E42: =INDEX($A$38:$B$65,MATCH(ROW()-37,$D$38:$D$65,0),1) -> SEVILLA | F42: =LOOKUP(E42,$A$38:$A$65,$B$38:$B$65) -> 140880 | G42: =LOOKUP(E42,$A$38:$A$65,$C$38:$C$65) -> 153395
A43: =A12 -> BAHIA DE CADIZ | B43: =E12 -> 50356 | C43: =D12 -> 33744 | D43: =_xlfn.RANK.EQ(B43,$B$38:$B$65)+COUNTIF($B$38:$B$65,B43)-1 -> 9 | E43: =INDEX($A$38:$B$65,MATCH(ROW()-37,$D$38:$D$65,0),1) -> ALICANTE | F43: =LOOKUP(E43,$A$38:$A$65,$B$38:$B$65) -> 136749 | G43: =LOOKUP(E43,$A$38:$A$65,$C$38:$C$65) -> 116867
A44: =A13 -> BALEARES | B44: =E13 -> 130189 | C44: =D13 -> 89505 | D44: =_xlfn.RANK.EQ(B44,$B$38:$B$65)+COUNTIF($B$38:$B$65,B44)-1 -> 7 | E44: =INDEX($A$38:$B$65,MATCH(ROW()-37,$D$38:$D$65,0),1) -> BALEARES | F44: =LOOKUP(E44,$A$38:$A$65,$B$38:$B$65) -> 130189 | G44: =LOOKUP(E44,$A$38:$A$65,$C$38:$C$65) -> 89505
A45: =A14 -> BARCELONA | B45: =E14 -> 242036 | C45: =D14 -> 216970 | D45: =_xlfn.RANK.EQ(B45,$B$38:$B$65)+COUNTIF($B$38:$B$65,B45)-1 -> 3 | E45: =INDEX($A$38:$B$65,MATCH(ROW()-37,$D$38:$D$65,0),1) -> BILBAO | F45: =LOOKUP(E45,$A$38:$A$65,$B$38:$B$65) -> 66784 | G45: =LOOKUP(E45,$A$38:$A$65,$C$38:$C$65) -> 72474
A46: =A15 -> BILBAO | B46: =E15 -> 66784 | C46: =D15 -> 72474 | D46: =_xlfn.RANK.EQ(B46,$B$38:$B$65)+COUNTIF($B$38:$B$65,B46)-1 -> 8 | E46: =INDEX($A$38:$B$65,MATCH(ROW()-37,$D$38:$D$65,0),1) -> BAHIA DE CADIZ | F46: =LOOKUP(E46,$A$38:$A$65,$B$38:$B$65) -> 50356 | G46: =LOOKUP(E46,$A$38:$A$65,$C$38:$C$65) -> 33744
A47: =A16 -> CARTAGENA | B47: =E16 -> 31829 | C47: =D16 -> 30012 | D47: =_xlfn.RANK.EQ(B47,$B$38:$B$65)+COUNTIF($B$38:$B$65,B47)-1 -> 10 | E47: =INDEX($A$38:$B$65,MATCH(ROW()-37,$D$38:$D$65,0),1) -> CARTAGENA | F47: =LOOKUP(E47,$A$38:$A$65,$B$38:$B$65) -> 31829 | G47: =LOOKUP(E47,$A$38:$A$65,$C$38:$C$65) -> 30012
A48: =A17 -> CASTELLON | B48: =E17 -> 5782 | C48: =D17 -> 11707 | D48: =_xlfn.RANK.EQ(B48,$B$38:$B$65)+COUNTIF($B$38:$B$65,B48)-1 -> 18 | E48: =INDEX($A$38:$B$65,MATCH(ROW()-37,$D$38:$D$65,0),1) -> VILAGARCIA | F48: =LOOKUP(E48,$A$38:$A$65,$B$38:$B$65) -> 31626 | G48: =LOOKUP(E48,$A$38:$A$65,$C$38:$C$65) -> 29849
A49: =A18 -> CEUTA | B49: =E18 -> 21696 | C49: =D18 -> 18172 | D49: =_xlfn.RANK.EQ(B49,$B$38:$B$65)+COUNTIF($B$38:$B$65,B49)-1 -> 14 | E49: =INDEX($A$38:$B$65,MATCH(ROW()-37,$D$38:$D$65,0),1) -> VIGO | F49: =LOOKUP(E49,$A$38:$A$65,$B$38:$B$65) -> 27431 | G49: =LOOKUP(E49,$A$38:$A$65,$C$38:$C$65) -> 28931
... A65: =A34 -> VILAGARCIA | B65: =E34 -> 31626 | C65: =D34 -> 29849 | D65: =_xlfn.RANK.EQ(B65,$B$38:$B$65)+COUNTIF($B$38:$B$65,B65)-1 -> 11 | E65: =INDEX($A$38:$B$65,MATCH(ROW()-37,$D$38:$D$65,0),1) -> AVILES | F65: =LOOKUP(E65,$A$38:$A$65,$B$38:$B$65) -> 0 | G65: =LOOKUP(E65,$A$38:$A$65,$C$38:$C$65) -> 0

Sheet TEUS exterior
F1: 10.3. CONTENEDORES IMPORTACIÓN-EXPORTACIÓN EXTERIOR (TEUS)
A5: Autoridad Portuaria | B5: ='Resumen general'!D6 -> Mes Diciembre | D5: ='Resumen general'!F6 -> Acumulado desde Enero | L5: ='Resumen general'!I4 -> Fecha: 05/02/2018
B6: ='Resumen general'!D7 -> 2015 | C6: ='Resumen general'!E7 -> 2016 | D6: ='Resumen general'!F7 -> 2015 | E6: ='Resumen general'!G7 -> 2016 | F6: Var. (%)
A7: A CORUÑA | B7: 0 | C7: 0 | D7: 50 | E7: 11 | F7: =((E7*100)/D7)-100 -> -78
A8: ALICANTE | B8: 2031 | C8: 1716 | D8: 16683 | E8: 18167 | F8: =((E8*100)/D8)-100 -> 8.8952826
A9: ALMERIA | B9: 329 | C9: 570 | D9: 3414 | E9: 5823 | F9: =((E9*100)/D9)-100 -> 70.56239
A10: AVILES | B10: 0 | C10: 0 | D10: 0 | E10: 0
A11: BAHIA DE ALGECIRAS | B11: 29374 | C11: 29669 | D11: 369575 | E11: 373084 | F11: =((E11*100)/D11)-100 -> 0.94946898
A12: BAHIA DE CADIZ | B12: 1658 | C12: 1231 | D12: 33568 | E12: 23853 | F12: =((E12*100)/D12)-100 -> -28.941254
A13: BALEARES | B13: 5 | C13: 0 | D13: 36 | E13: 71 | F13: =((E13*100)/D13)-100 -> 97.222222
A14: BARCELONA | B14: 123865 | C14: 138038 | D14: 1462778 | E14: 1570848 | F14: =((E14*100)/D14)-100 -> 7.3879974
A15: BILBAO | B15: 51629 | C15: 54036 | D15: 552680 | E15: 526535 | F15: =((E15*100)/D15)-100 -> -4.7305855
A16: CARTAGENA | B16: 4448 | C16: 4154 | D16: 61295 | E16: 64050 | F16: =((E16*100)/D16)-100 -> 4.494657
A17: CASTELLON | B17: 15428 | C17: 14052 | D17: 194412 | E17: 197315 | F17: =((E17*100)/D17)-100 -> 1.4932206
A18: CEUTA | B18: 0 | C18: 0 | D18: 19 | E18: 25 | F18: =((E18*100)/D18)-100 -> 31.578947
A19: FERROL-SAN CIBRAO | B19: 123 | C19: 100 | D19: 944 | E19: 837 | F19: =((E19*100)/D19)-100 -> -11.334746
A20: GIJON | B20: 5619 | C20: 5150 | D20: 55326 | E20: 53713 | F20: =((E20*100)/D20)-100 -> -2.9154466
A21: HUELVA | B21: 491 | C21: 981 | D21: 5042 | E21: 8282 | F21: =((E21*100)/D21)-100 -> 64.260214
A22: LAS PALMAS | B22: 6077 | C22: 7201 | D22: 68577 | E22: 80538 | F22: =((E22*100)/D22)-100 -> 17.441708
... A25: MELILLA | B25: 829 | C25: 1278 | D25: 11725 | E25: 13710 | F25: =((E25*100)/D25)-100 -> 16.929638
A26: MOTRIL | B26: 0 | C26: 18 | D26: 0 | E26: 29
A27: PASAIA | B27: 343 | C27: 0 | D27: 3242 | E27: 6818 | F27: =((E27*100)/D27)-100 -> 110.30228
A28: SANTA CRUZ DE TENERIFE | B28: 3900 | C28: 3692 | D28: 36348 | E28: 42322 | F28: =((E28*100)/D28)-100 -> 16.435567
A29: SANTANDER | B29: 73 | C29: 203 | D29: 1145 | E29: 1263 | F29: =((E29*100)/D29)-100 -> 10.305677
A30: SEVILLA | B30: 95 | C30: 555 | D30: 8268 | E30: 4792 | F30: =((E30*100)/D30)-100 -> -42.041606
A31: TARRAGONA | B31: 4570 | C31: 4590 | D31: 54356 | E31: 53601 | F31: =((E31*100)/D31)-100 -> -1.3889911
A32: VALENCIA | B32: 151564 | C32: 153620 | D32: 1945876 | E32: 2007226 | F32: =((E32*100)/D32)-100 -> 3.1528217
A33: VIGO | B33: 12994 | C33: 11106 | D33: 162014 | E33: 147931 | F33: =((E33*100)/D33)-100 -> -8.6924587
A34: VILAGARCIA | B34: 60 | C34: 32 | D34: 672 | E34: 687 | F34: =((E34*100)/D34)-100 -> 2.2321429
A35: Total | B35: =SUM(B7:B34) -> 422214 | C35: =SUM(C7:C34) -> 441028 | D35: =SUM(D7:D34) -> 5105644 | E35: =SUM(E7:E34) -> 5272324 | F35: =((E35*100)/D35)-100 -> 3.2646224
B37: =E6 -> 2016 | C37: =D6 -> 2015 | F37: =B37 -> 2016 | G37: =C37 -> 2015
A38: =A7 -> A CORUÑA | B38: =E7 -> 11 | C38: =D7 -> 50 | D38: =_xlfn.RANK.EQ(B38,$B$38:$B$65)+COUNTIF($B$38:$B$65,B38)-1 -> 27 | E38: =INDEX($A$38:$B$65,MATCH(ROW()-37,$D$38:$D$65,0),1) -> VALENCIA | F38: =LOOKUP(E38,$A$38:$A$65,$B$38:$B$65) -> 2007226 | G38: =LOOKUP(E38,$A$38:$A$65,$C$38:$C$65) -> 1945876
A39: =A8 -> ALICANTE | B39: =E8 -> 18167 | C39: =D8 -> 16683 | D39: =_xlfn.RANK.EQ(B39,$B$38:$B$65)+COUNTIF($B$38:$B$65,B39)-1 -> 14 | E39: =INDEX($A$38:$B$65,MATCH(ROW()-37,$D$38:$D$65,0),1) -> BARCELONA | F39: =LOOKUP(E39,$A$38:$A$65,$B$38:$B$65) -> 1570848 | G39: =LOOKUP(E39,$A$38:$A$65,$C$38:$C$65) -> 1462778
A40: =A9 -> ALMERIA | B40: =E9 -> 5823 | C40: =D9 -> 3414 | D40: =_xlfn.RANK.EQ(B40,$B$38:$B$65)+COUNTIF($B$38:$B$65,B40)-1 -> 19 | E40: =INDEX($A$38:$B$65,MATCH(ROW()-37,$D$38:$D$65,0),1) -> BILBAO | F40: =LOOKUP(E40,$A$38:$A$65,$B$38:$B$65) -> 526535 | G40: =LOOKUP(E40,$A$38:$A$65,$C$38:$C$65) -> 552680
A41: =A10 -> AVILES | B41: =E10 -> 0 | C41: =D10 -> 0 | D41: =_xlfn.RANK.EQ(B41,$B$38:$B$65)+COUNTIF($B$38:$B$65,B41)-1 -> 28 | E41: =INDEX($A$38:$B$65,MATCH(ROW()-37,$D$38:$D$65,0),1) -> BAHIA DE ALGECIRAS | F41: =LOOKUP(E41,$A$38:$A$65,$B$38:$B$65) -> 373084 | G41: =LOOKUP(E41,$A$38:$A$65,$C$38:$C$65) -> 369575
A42: =A11 -> BAHIA DE ALGECIRAS | B42: =E11 -> 373084 | C42: =D11 -> 369575 | D42: =_xlfn.RANK.EQ(B42,$B$38:$B$65)+COUNTIF($B$38:$B$65,B42)-1 -> 4 | E42: =INDEX($A$38:$B$65,MATCH(ROW()-37,$D$38:$D$65,0),1) -> CASTELLON | F42: =LOOKUP(E42,$A$38:$A$65,$B$38:$B$65) -> 197315 | G42: =LOOKUP(E42,$A$38:$A$65,$C$38:$C$65) -> 194412
A43: =A12 -> BAHIA DE CADIZ | B43: =E12 -> 23853 | C43: =D12 -> 33568 | D43: =_xlfn.RANK.EQ(B43,$B$38:$B$65)+COUNTIF($B$38:$B$65,B43)-1 -> 13 | E43: =INDEX($A$38:$B$65,MATCH(ROW()-37,$D$38:$D$65,0),1) -> VIGO | F43: =LOOKUP(E43,$A$38:$A$65,$B$38:$B$65) -> 147931 | G43: =LOOKUP(E43,$A$38:$A$65,$C$38:$C$65) -> 162014
A44: =A13 -> BALEARES | B44: =E13 -> 71 | C44: =D13 -> 36 | D44: =_xlfn.RANK.EQ(B44,$B$38:$B$65)+COUNTIF($B$38:$B$65,B44)-1 -> 24 | E44: =INDEX($A$38:$B$65,MATCH(ROW()-37,$D$38:$D$65,0),1) -> LAS PALMAS | F44: =LOOKUP(E44,$A$38:$A$65,$B$38:$B$65) -> 80538 | G44: =LOOKUP(E44,$A$38:$A$65,$C$38:$C$65) -> 68577
A45: =A14 -> BARCELONA | B45: =E14 -> 1570848 | C45: =D14 -> 1462778 | D45: =_xlfn.RANK.EQ(B45,$B$38:$B$65)+COUNTIF($B$38:$B$65,B45)-1 -> 2 | E45: =INDEX($A$38:$B$65,MATCH(ROW()-37,$D$38:$D$65,0),1) -> CARTAGENA | F45: =LOOKUP(E45,$A$38:$A$65,$B$38:$B$65) -> 64050 | G45: =LOOKUP(E45,$A$38:$A$65,$C$38:$C$65) -> 61295
A46: =A15 -> BILBAO | B46: =E15 -> 526535 | C46: =D15 -> 552680 | D46: =_xlfn.RANK.EQ(B46,$B$38:$B$65)+COUNTIF($B$38:$B$65,B46)-1 -> 3 | E46: =INDEX($A$38:$B$65,MATCH(ROW()-37,$D$38:$D$65,0),1) -> MARIN Y RIA DE PONTEVEDRA | F46: =LOOKUP(E46,$A$38:$A$65,$B$38:$B$65) -> 55446 | G46: =LOOKUP(E46,$A$38:$A$65,$C$38:$C$65) -> 37072
A47: =A16 -> CARTAGENA | B47: =E16 -> 64050 | C47: =D16 -> 61295 | D47: =_xlfn.RANK.EQ(B47,$B$38:$B$65)+COUNTIF($B$38:$B$65,B47)-1 -> 8 | E47: =INDEX($A$38:$B$65,MATCH(ROW()-37,$D$38:$D$65,0),1) -> GIJON | F47: =LOOKUP(E47,$A$38:$A$65,$B$38:$B$65) -> 53713 | G47: =LOOKUP(E47,$A$38:$A$65,$C$38:$C$65) -> 55326
A48: =A17 -> CASTELLON | B48: =E17 -> 197315 | C48: =D17 -> 194412 | D48: =_xlfn.RANK.EQ(B48,$B$38:$B$65)+COUNTIF($B$38:$B$65,B48)-1 -> 5 | E48: =INDEX($A$38:$B$65,MATCH(ROW()-37,$D$38:$D$65,0),1) -> TARRAGONA | F48: =LOOKUP(E48,$A$38:$A$65,$B$38:$B$65) -> 53601 | G48: =LOOKUP(E48,$A$38:$A$65,$C$38:$C$65) -> 54356
A49: =A18 -> CEUTA | B49: =E18 -> 25 | C49: =D18 -> 19 | D49: =_xlfn.RANK.EQ(B49,$B$38:$B$65)+COUNTIF($B$38:$B$65,B49)-1 -> 26 | E49: =INDEX($A$38:$B$65,MATCH(ROW()-37,$D$38:$D$65,0),1) -> SANTA CRUZ DE TENERIFE | F49: =LOOKUP(E49,$A$38:$A$65,$B$38:$B$65) -> 42322 | G49: =LOOKUP(E49,$A$38:$A$65,$C$38:$C$65) -> 36348
... A65: =A34 -> VILAGARCIA | B65: =E34 -> 687 | C65: =D34 -> 672 | D65: =_xlfn.RANK.EQ(B65,$B$38:$B$65)+COUNTIF($B$38:$B$65,B65)-1 -> 23 | E65: =INDEX($A$38:$B$65,MATCH(ROW()-37,$D$38:$D$65,0),1) -> AVILES | F65: =LOOKUP(E65,$A$38:$A$65,$B$38:$B$65) -> 0 | G65: =LOOKUP(E65,$A$38:$A$65,$C$38:$C$65) -> 0

Sheet TEUS nacional y exterior
F1: 10.4. CONTENEDORES NACIONAL Y EXTERIOR (TEUS)
A5: Autoridad Portuaria | B5: ='Resumen general'!D6 -> Mes Diciembre | D5: ='Resumen general'!F6 -> Acumulado desde Enero | L5: ='Resumen general'!I4 -> Fecha: 05/02/2018
B6: ='Resumen general'!D7 -> 2015 | C6: ='Resumen general'!E7 -> 2016 | D6: ='Resumen general'!F7 -> 2015 | E6: ='Resumen general'!G7 -> 2016 | F6: Var. (%)
A7: A CORUÑA | B7: 0 | C7: 0 | D7: 152 | E7: 214 | F7: =((E7*100)/D7)-100 -> 40.789474
A8: ALICANTE | B8: 11236 | C8: 13413 | D8: 133550 | E8: 154916 | F8: =((E8*100)/D8)-100 -> 15.998502
A9: ALMERIA | B9: 499 | C9: 570 | D9: 6102 | E9: 6244 | F9: =((E9*100)/D9)-100 -> 2.3271059
A10: AVILES | B10: 0 | C10: 0 | D10: 0 | E10: 0
A11: BAHIA DE ALGECIRAS | B11: 29487 | C11: 29916 | D11: 371797 | E11: 378050 | F11: =((E11*100)/D11)-100 -> 1.6818318
A12: BAHIA DE CADIZ | B12: 4657 | C12: 6653 | D12: 67312 | E12: 74209 | F12: =((E12*100)/D12)-100 -> 10.246316
A13: BALEARES | B13: 8359 | C13: 8662 | D13: 89541 | E13: 130260 | F13: =((E13*100)/D13)-100 -> 45.475257
A14: BARCELONA | B14: 143032 | C14: 156598 | D14: 1679748 | E14: 1812885 | F14: =((E14*100)/D14)-100 -> 7.9260103
A15: BILBAO | B15: 58311 | C15: 59446 | D15: 625154 | E15: 593319 | F15: =((E15*100)/D15)-100 -> -5.0923452
A16: CARTAGENA | B16: 6028 | C16: 5640 | D16: 91372 | E16: 95879 | F16: =((E16*100)/D16)-100 -> 4.9325833
A17: CASTELLON | B17: 16513 | C17: 14078 | D17: 206119 | E17: 203097 | F17: =((E17*100)/D17)-100 -> -1.4661433
A18: CEUTA | B18: 1542 | C18: 1810 | D18: 18191 | E18: 21721 | F18: =((E18*100)/D18)-100 -> 19.4052
A19: FERROL-SAN CIBRAO | B19: 123 | C19: 106 | D19: 952 | E19: 847 | F19: =((E19*100)/D19)-100 -> -11.029412
A20: GIJON | B20: 6191 | C20: 6861 | D20: 61005 | E20: 65492 | F20: =((E20*100)/D20)-100 -> 7.3551348
A21: HUELVA | B21: 1159 | C21: 1743 | D21: 7834 | E21: 11568 | F21: =((E21*100)/D21)-100 -> 47.664029
A22: LAS PALMAS | B22: 40695 | C22: 43693 | D22: 462850 | E22: 512507 | F22: =((E22*100)/D22)-100 -> 10.72853
... A34: VILAGARCIA | B34: 2246 | C34: 2361 | D34: 30521 | E34: 32313 | F34: =((E34*100)/D34)-100 -> 5.8713673
A35: Total | B35: =SUM(B7:B34) -> 571574 | C35: =SUM(C7:C34) -> 598057 | D35: =SUM(D7:D34) -> 6834673 | E35: =SUM(E7:E34) -> 7199204 | F35: =((E35*100)/D35)-100 -> 5.3335544
B37: =E6 -> 2016 | C37: =D6 -> 2015 | F37: =B37 -> 2016 | G37: =C37 -> 2015
A38: =A7 -> A CORUÑA | B38: =E7 -> 214 | C38: =D7 -> 152 | D38: =_xlfn.RANK.EQ(B38,$B$38:$B$65)+COUNTIF($B$38:$B$65,B38)-1 -> 27 | E38: =INDEX($A$38:$B$65,MATCH(ROW()-37,$D$38:$D$65,0),1) -> VALENCIA | F38: =LOOKUP(E38,$A$38:$A$65,$B$38:$B$65) -> 2211416 | G38: =LOOKUP(E38,$A$38:$A$65,$C$38:$C$65) -> 2106262
A39: =A8 -> ALICANTE | B39: =E8 -> 154916 | C39: =D8 -> 133550 | D39: =_xlfn.RANK.EQ(B39,$B$38:$B$65)+COUNTIF($B$38:$B$65,B39)-1 -> 9 | E39: =INDEX($A$38:$B$65,MATCH(ROW()-37,$D$38:$D$65,0),1) -> BARCELONA | F39: =LOOKUP(E39,$A$38:$A$65,$B$38:$B$65) -> 1812885 | G39: =LOOKUP(E39,$A$38:$A$65,$C$38:$C$65) -> 1679748
A40: =A9 -> ALMERIA | B40: =E9 -> 6244 | C40: =D9 -> 6102 | D40: =_xlfn.RANK.EQ(B40,$B$38:$B$65)+COUNTIF($B$38:$B$65,B40)-1 -> 23 | E40: =INDEX($A$38:$B$65,MATCH(ROW()-37,$D$38:$D$65,0),1) -> BILBAO | F40: =LOOKUP(E40,$A$38:$A$65,$B$38:$B$65) -> 593319 | G40: =LOOKUP(E40,$A$38:$A$65,$C$38:$C$65) -> 625154
A41: =A10 -> AVILES | B41: =E10 -> 0 | C41: =D10 -> 0 | D41: =_xlfn.RANK.EQ(B41,$B$38:$B$65)+COUNTIF($B$38:$B$65,B41)-1 -> 28 | E41: =INDEX($A$38:$B$65,MATCH(ROW()-37,$D$38:$D$65,0),1) -> LAS PALMAS | F41: =LOOKUP(E41,$A$38:$A$65,$B$38:$B$65) -> 512507 | G41: =LOOKUP(E41,$A$38:$A$65,$C$38:$C$65) -> 462850
A42: =A11 -> BAHIA DE ALGECIRAS | B42: =E11 -> 378050 | C42: =D11 -> 371797 | D42: =_xlfn.RANK.EQ(B42,$B$38:$B$65)+COUNTIF($B$38:$B$65,B42)-1 -> 5 | E42: =INDEX($A$38:$B$65,MATCH(ROW()-37,$D$38:$D$65,0),1) -> BAHIA DE ALGECIRAS | F42: =LOOKUP(E42,$A$38:$A$65,$B$38:$B$65) -> 378050 | G42: =LOOKUP(E42,$A$38:$A$65,$C$38:$C$65) -> 371797
A43: =A12 -> BAHIA DE CADIZ | B43: =E12 -> 74209 | C43: =D12 -> 67312 | D43: =_xlfn.RANK.EQ(B43,$B$38:$B$65)+COUNTIF($B$38:$B$65,B43)-1 -> 13 | E43: =INDEX($A$38:$B$65,MATCH(ROW()-37,$D$38:$D$65,0),1) -> SANTA CRUZ DE TENERIFE | F43: =LOOKUP(E43,$A$38:$A$65,$B$38:$B$65) -> 367748 | G43: =LOOKUP(E43,$A$38:$A$65,$C$38:$C$65) -> 343182
A44: =A13 -> BALEARES | B44: =E13 -> 130260 | C44: =D13 -> 89541 | D44: =_xlfn.RANK.EQ(B44,$B$38:$B$65)+COUNTIF($B$38:$B$65,B44)-1 -> 11 | E44: =INDEX($A$38:$B$65,MATCH(ROW()-37,$D$38:$D$65,0),1) -> CASTELLON | F44: =LOOKUP(E44,$A$38:$A$65,$B$38:$B$65) -> 203097 | G44: =LOOKUP(E44,$A$38:$A$65,$C$38:$C$65) -> 206119
A45: =A14 -> BARCELONA | B45: =E14 -> 1812885 | C45: =D14 -> 1679748 | D45: =_xlfn.RANK.EQ(B45,$B$38:$B$65)+COUNTIF($B$38:$B$65,B45)-1 -> 2 | E45: =INDEX($A$38:$B$65,MATCH(ROW()-37,$D$38:$D$65,0),1) -> VIGO | F45: =LOOKUP(E45,$A$38:$A$65,$B$38:$B$65) -> 175362 | G45: =LOOKUP(E45,$A$38:$A$65,$C$38:$C$65) -> 190945
A46: =A15 -> BILBAO | B46: =E15 -> 593319 | C46: =D15 -> 625154 | D46: =_xlfn.RANK.EQ(B46,$B$38:$B$65)+COUNTIF($B$38:$B$65,B46)-1 -> 3 | E46: =INDEX($A$38:$B$65,MATCH(ROW()-37,$D$38:$D$65,0),1) -> ALICANTE | F46: =LOOKUP(E46,$A$38:$A$65,$B$38:$B$65) -> 154916 | G46: =LOOKUP(E46,$A$38:$A$65,$C$38:$C$65) -> 133550
A47: =A16 -> CARTAGENA | B47: =E16 -> 95879 | C47: =D16 -> 91372 | D47: =_xlfn.RANK.EQ(B47,$B$38:$B$65)+COUNTIF($B$38:$B$65,B47)-1 -> 12 | E47: =INDEX($A$38:$B$65,MATCH(ROW()-37,$D$38:$D$65,0),1) -> SEVILLA | F47: =LOOKUP(E47,$A$38:$A$65,$B$38:$B$65) -> 145672 | G47: =LOOKUP(E47,$A$38:$A$65,$C$38:$C$65) -> 161663
A48: =A17 -> CASTELLON | B48: =E17 -> 203097 | C48: =D17 -> 206119 | D48: =_xlfn.RANK.EQ(B48,$B$38:$B$65)+COUNTIF($B$38:$B$65,B48)-1 -> 7 | E48: =INDEX($A$38:$B$65,MATCH(ROW()-37,$D$38:$D$65,0),1) -> BALEARES | F48: =LOOKUP(E48,$A$38:$A$65,$B$38:$B$65) -> 130260 | G48: =LOOKUP(E48,$A$38:$A$65,$C$38:$C$65) -> 89541
A49: =A18 -> CEUTA | B49: =E18 -> 21721 | C49: =D18 -> 18191 | D49: =_xlfn.RANK.EQ(B49,$B$38:$B$65)+COUNTIF($B$38:$B$65,B49)-1 -> 20 | E49: =INDEX($A$38:$B$65,MATCH(ROW()-37,$D$38:$D$65,0),1) -> CARTAGENA | F49: =LOOKUP(E49,$A$38:$A$65,$B$38:$B$65) -> 95879 | G49: =LOOKUP(E49,$A$38:$A$65,$C$38:$C$65) -> 91372
... A65: =A34 -> VILAGARCIA | B65: =E34 -> 32313 | C65: =D34 -> 30521 | D65: =_xlfn.RANK.EQ(B65,$B$38:$B$65)+COUNTIF($B$38:$B$65,B65)-1 -> 18 | E65: =INDEX($A$38:$B$65,MATCH(ROW()-37,$D$38:$D$65,0),1) -> AVILES | F65: =LOOKUP(E65,$A$38:$A$65,$B$38:$B$65) -> 0 | G65: =LOOKUP(E65,$A$38:$A$65,$C$38:$C$65) -> 0

Sheet Pasajeros total
F1: 11. PASAJEROS EN RÉGIMEN DE TRANSPORTE Y DE CRUCERO (Nº)
A5: Autoridad Portuaria | B5: ='Resumen general'!D6 -> Mes Diciembre | D5: ='Resumen general'!F6 -> Acumulado desde Enero | L5: ='Resumen general'!I4 -> Fecha: 05/02/2018
B6: ='Resumen general'!D7 -> 2015 | C6: ='Resumen general'!E7 -> 2016 | D6: ='Resumen general'!F7 -> 2015 | E6: ='Resumen general'!G7 -> 2016 | F6: Var. (%)
A7: A CORUÑA | B7: 7074 | C7: 8425 | D7: 140451 | E7: 126735 | F7: =((E7*100)/D7)-100 -> -9.7656834
A8: ALICANTE | B8: 9922 | C8: 7067 | D8: 265679 | E8: 256671 | F8: =((E8*100)/D8)-100 -> -3.3905578
A9: ALMERIA | B9: 39641 | C9: 42218 | D9: 698384 | E9: 827251 | F9: =((E9*100)/D9)-100 -> 18.45217
A10: AVILES | B10: 0 | C10: 0 | D10: 2454 | E10: 2707 | F10: =((E10*100)/D10)-100 -> 10.309698
A11: BAHIA DE ALGECIRAS | B11: 418143 | C11: 377824 | D11: 5526934 | E11: 5618048 | F11: =((E11*100)/D11)-100 -> 1.6485451
A12: BAHIA DE CADIZ | B12: 17441 | C12: 14235 | D12: 432805 | E12: 406158 | F12: =((E12*100)/D12)-100 -> -6.1568143
A13: BALEARES | B13: 1285117 | C13: 219431 | D13: 7057817 | E13: 7782400 | F13: =((E13*100)/D13)-100 -> 10.26639
A14: BARCELONA | B14: 140165 | C14: 146228 | D14: 3707795 | E14: 3958960 | F14: =((E14*100)/D14)-100 -> 6.7739721
A15: BILBAO | B15: 5143 | C15: 6436 | D15: 165523 | E15: 190626 | F15: =((E15*100)/D15)-100 -> 15.165868
A16: CARTAGENA | B16: 3711 | C16: 514 | D16: 150795 | E16: 187813 | F16: =((E16*100)/D16)-100 -> 24.548559
A17: CASTELLON | B17: 0 | C17: 0 | D17: 366 | E17: 1095 | F17: =((E17*100)/D17)-100 -> 199.18033
A18: CEUTA | B18: 158065 | C18: 146492 | D18: 1986635 | E18: 1942939 | F18: =((E18*100)/D18)-100 -> -2.1994981
... A23: MALAGA | B23: 50702 | C23: 38862 | D23: 680614 | E23: 722838 | F23: =((E23*100)/D23)-100 -> 6.2038101
A24: MARIN Y RIA DE PONTEVEDRA | B24: 0 | C24: 0 | D24: 0 | E24: 0
A25: MELILLA | B25: 62512 | C25: 62385 | D25: 844260 | E25: 889954 | F25: =((E25*100)/D25)-100 -> 5.4123137
A26: MOTRIL | B26: 19777 | C26: 23640 | D26: 430002 | E26: 414096 | F26: =((E26*100)/D26)-100 -> -3.6990526
A27: PASAIA | B27: 758 | C27: 1 | D27: 758 | E27: 595 | F27: =((E27*100)/D27)-100 -> -21.503958
A28: SANTA CRUZ DE TENERIFE | B28: 518149 | C28: 494118 | D28: 5169364 | E28: 5330907 | F28: =((E28*100)/D28)-100 -> 3.1250073
A29: SANTANDER | B29: 7877 | C29: 7236 | D29: 217533 | E29: 218643 | F29: =((E29*100)/D29)-100 -> 0.51026741
A30: SEVILLA | B30: 738 | C30: 974 | D30: 17730 | E30: 21010 | F30: =((E30*100)/D30)-100 -> 18.499718
A31: TARRAGONA | B31: 0 | C31: 273 | D31: 12277 | E31: 13445 | F31: =((E31*100)/D31)-100 -> 9.5137249
A32: VALENCIA | B32: 38534 | C32: 53557 | D32: 744923 | E32: 910200 | F32: =((E32*100)/D32)-100 -> 22.187125
A33: VIGO | B33: 4993 | C33: 5271 | D33: 204979 | E33: 169223 | F33: =((E33*100)/D33)-100 -> -17.443738
A34: VILAGARCIA | B34: 0 | C34: 0 | D34: 1190 | E34: 758 | F34: =((E34*100)/D34)-100 -> -36.302521
A35: Total | B35: =SUM(B7:B34) -> 3074640 | C35: =SUM(C7:C34) -> 1926801 | D35: =SUM(D7:D34) -> 31071594 | E35: =SUM(E7:E34) -> 32493848 | F35: =((E35*100)/D35)-100 -> 4.5773448
B37: =E6 -> 2016 | C37: =D6 -> 2015 | F37: =B37 -> 2016 | G37: =C37 -> 2015
A38: =A7 -> A CORUÑA | B38: =E7 -> 126735 | C38: =D7 -> 140451 | D38: =_xlfn.RANK.EQ(B38,$B$38:$B$65)+COUNTIF($B$38:$B$65,B38)-1 -> 18 | E38: =INDEX($A$38:$B$65,MATCH(ROW()-37,$D$38:$D$65,0),1) -> BALEARES | F38: =LOOKUP(E38,$A$38:$A$65,$B$38:$B$65) -> 7782400 | G38: =LOOKUP(E38,$A$38:$A$65,$C$38:$C$65) -> 7057817
A39: =A8 -> ALICANTE | B39: =E8 -> 256671 | C39: =D8 -> 265679 | D39: =_xlfn.RANK.EQ(B39,$B$38:$B$65)+COUNTIF($B$38:$B$65,B39)-1 -> 13 | E39: =INDEX($A$38:$B$65,MATCH(ROW()-37,$D$38:$D$65,0),1) -> BAHIA DE ALGECIRAS | F39: =LOOKUP(E39,$A$38:$A$65,$B$38:$B$65) -> 5618048 | G39: =LOOKUP(E39,$A$38:$A$65,$C$38:$C$65) -> 5526934
A40: =A9 -> ALMERIA | B40: =E9 -> 827251 | C40: =D9 -> 698384 | D40: =_xlfn.RANK.EQ(B40,$B$38:$B$65)+COUNTIF($B$38:$B$65,B40)-1 -> 9 | E40: =INDEX($A$38:$B$65,MATCH(ROW()-37,$D$38:$D$65,0),1) -> SANTA CRUZ DE TENERIFE | F40: =LOOKUP(E40,$A$38:$A$65,$B$38:$B$65) -> 5330907 | G40: =LOOKUP(E40,$A$38:$A$65,$C$38:$C$65) -> 5169364
A41: =A10 -> AVILES | B41: =E10 -> 2707 | C41: =D10 -> 2454 | D41: =_xlfn.RANK.EQ(B41,$B$38:$B$65)+COUNTIF($B$38:$B$65,B41)-1 -> 24 | E41: =INDEX($A$38:$B$65,MATCH(ROW()-37,$D$38:$D$65,0),1) -> BARCELONA | F41: =LOOKUP(E41,$A$38:$A$65,$B$38:$B$65) -> 3958960 | G41: =LOOKUP(E41,$A$38:$A$65,$C$38:$C$65) -> 3707795
A42: =A11 -> BAHIA DE ALGECIRAS | B42: =E11 -> 5618048 | C42: =D11 -> 5526934 | D42: =_xlfn.RANK.EQ(B42,$B$38:$B$65)+COUNTIF($B$38:$B$65,B42)-1 -> 2 | E42: =INDEX($A$38:$B$65,MATCH(ROW()-37,$D$38:$D$65,0),1) -> LAS PALMAS | F42: =LOOKUP(E42,$A$38:$A$65,$B$38:$B$65) -> 2391051 | G42: =LOOKUP(E42,$A$38:$A$65,$C$38:$C$65) -> 2537437
A43: =A12 -> BAHIA DE CADIZ | B43: =E12 -> 406158 | C43: =D12 -> 432805 | D43: =_xlfn.RANK.EQ(B43,$B$38:$B$65)+COUNTIF($B$38:$B$65,B43)-1 -> 12 | E43: =INDEX($A$38:$B$65,MATCH(ROW()-37,$D$38:$D$65,0),1) -> CEUTA | F43: =LOOKUP(E43,$A$38:$A$65,$B$38:$B$65) -> 1942939 | G43: =LOOKUP(E43,$A$38:$A$65,$C$38:$C$65) -> 1986635
A44: =A13 -> BALEARES | B44: =E13 -> 7782400 | C44: =D13 -> 7057817 | D44: =_xlfn.RANK.EQ(B44,$B$38:$B$65)+COUNTIF($B$38:$B$65,B44)-1 -> 1 | E44: =INDEX($A$38:$B$65,MATCH(ROW()-37,$D$38:$D$65,0),1) -> VALENCIA | F44: =LOOKUP(E44,$A$38:$A$65,$B$38:$B$65) -> 910200 | G44: =LOOKUP(E44,$A$38:$A$65,$C$38:$C$65) -> 744923
A45: =A14 -> BARCELONA | B45: =E14 -> 3958960 | C45: =D14 -> 3707795 | D45: =_xlfn.RANK.EQ(B45,$B$38:$B$65)+COUNTIF($B$38:$B$65,B45)-1 -> 4 | E45: =INDEX($A$38:$B$65,MATCH(ROW()-37,$D$38:$D$65,0),1) -> MELILLA | F45: =LOOKUP(E45,$A$38:$A$65,$B$38:$B$65) -> 889954 | G45: =LOOKUP(E45,$A$38:$A$65,$C$38:$C$65) -> 844260
A46: =A15 -> BILBAO | B46: =E15 -> 190626 | C46: =D15 -> 165523 | D46: =_xlfn.RANK.EQ(B46,$B$38:$B$65)+COUNTIF($B$38:$B$65,B46)-1 -> 15 | E46: =INDEX($A$38:$B$65,MATCH(ROW()-37,$D$38:$D$65,0),1) -> ALMERIA | F46: =LOOKUP(E46,$A$38:$A$65,$B$38:$B$65) -> 827251 | G46: =LOOKUP(E46,$A$38:$A$65,$C$38:$C$65) -> 698384
A47: =A16 -> CARTAGENA | B47: =E16 -> 187813 | C47: =D16 -> 150795 | D47: =_xlfn.RANK.EQ(B47,$B$38:$B$65)+COUNTIF($B$38:$B$65,B47)-1 -> 16 | E47: =INDEX($A$38:$B$65,MATCH(ROW()-37,$D$38:$D$65,0),1) -> MALAGA | F47: =LOOKUP(E47,$A$38:$A$65,$B$38:$B$65) -> 722838 | G47: =LOOKUP(E47,$A$38:$A$65,$C$38:$C$65) -> 680614
A48: =A17 -> CASTELLON | B48: =E17 -> 1095 | C48: =D17 -> 366 | D48: =_xlfn.RANK.EQ(B48,$B$38:$B$65)+COUNTIF($B$38:$B$65,B48)-1 -> 25 | E48: =INDEX($A$38:$B$65,MATCH(ROW()-37,$D$38:$D$65,0),1) -> MOTRIL | F48: =LOOKUP(E48,$A$38:$A$65,$B$38:$B$65) -> 414096 | G48: =LOOKUP(E48,$A$38:$A$65,$C$38:$C$65) -> 430002
A49: =A18 -> CEUTA | B49: =E18 -> 1942939 | C49: =D18 -> 1986635 | D49: =_xlfn.RANK.EQ(B49,$B$38:$B$65)+COUNTIF($B$38:$B$65,B49)-1 -> 6 | E49: =INDEX($A$38:$B$65,MATCH(ROW()-37,$D$38:$D$65,0),1) -> BAHIA DE CADIZ | F49: =LOOKUP(E49,$A$38:$A$65,$B$38:$B$65) -> 406158 | G49: =LOOKUP(E49,$A$38:$A$65,$C$38:$C$65) -> 432805
... A65: =A34 -> VILAGARCIA | B65: =E34 -> 758 | C65: =D34 -> 1190 | D65: =_xlfn.RANK.EQ(B65,$B$38:$B$65)+COUNTIF($B$38:$B$65,B65)-1 -> 26 | E65: =INDEX($A$38:$B$65,MATCH(ROW()-37,$D$38:$D$65,0),1) -> MARIN Y RIA DE PONTEVEDRA | F65: =LOOKUP(E65,$A$38:$A$65,$B$38:$B$65) -> 0 | G65: =LOOKUP(E65,$A$38:$A$65,$C$38:$C$65) -> 0

Sheet Pasajeros crucero
F1: 11.1. PASAJEROS DE CRUCERO (Nº)
A5: Autoridad Portuaria | B5: ='Resumen general'!D6 -> Mes Diciembre | D5: ='Resumen general'!F6 -> Acumulado desde Enero | L5: ='Resumen general'!I4 -> Fecha: 05/02/2018
B6: ='Resumen general'!D7 -> 2015 | C6: ='Resumen general'!E7 -> 2016 | D6: ='Resumen general'!F7 -> 2015 | E6: ='Resumen general'!G7 -> 2016 | F6: Var. (%)
A7: A CORUÑA | B7: 7074 | C7: 8200 | D7: 140451 | E7: 126735 | F7: =((E7*100)/D7)-100 -> -9.7656834
A8: ALICANTE | B8: 3255 | C8: 455 | D8: 82316 | E8: 89000 | F8: =((E8*100)/D8)-100 -> 8.1199281
A9: ALMERIA | B9: 0 | C9: 0 | D9: 17304 | E9: 28692 | F9: =((E9*100)/D9)-100 -> 65.811373
A10: AVILES | B10: 0 | C10: 0 | D10: 2454 | E10: 2707 | F10: =((E10*100)/D10)-100 -> 10.309698
A11: BAHIA DE ALGECIRAS | B11: 0 | C11: 0 | D11: 0 | E11: 0
A12: BAHIA DE CADIZ | B12: 15936 | C12: 12959 | D12: 411455 | E12: 385067 | F12: =((E12*100)/D12)-100 -> -6.413338
A13: BALEARES | B13: 235393 | C13: 18153 | D13: 1958848 | E13: 1962155 | F13: =((E13*100)/D13)-100 -> 0.16882372
A14: BARCELONA | B14: 89738 | C14: 85247 | D14: 2540302 | E14: 2683594 | F14: =((E14*100)/D14)-100 -> 5.6407467
A15: BILBAO | B15: 1 | C15: 0 | D15: 70542 | E15: 86598 | F15: =((E15*100)/D15)-100 -> 22.760908
A16: CARTAGENA | B16: 3711 | C16: 1213 | D16: 150795 | E16: 187813 | F16: =((E16*100)/D16)-100 -> 24.548559
A17: CASTELLON | B17: 0 | C17: 0 | D17: 366 | E17: 1095 | F17: =((E17*100)/D17)-100 -> 199.18033
A18: CEUTA | B18: 0 | C18: 197 | D18: 1587 | E18: 19456 | F18: =((E18*100)/D18)-100 -> 1125.9609
A19: FERROL-SAN CIBRAO | B19: 0 | C19: 986 | D19: 21559 | E19: 20061 | F19: =((E19*100)/D19)-100 -> -6.9483742
A20: GIJON | B20: 40 | C20: 80 | D20: 16140 | E20: 32804 | F20: =((E20*100)/D20)-100 -> 103.24659
A21: HUELVA | B21: 0 | C21: 600 | D21: 3730 | E21: 19573 | F21: =((E21*100)/D21)-100 -> 424.74531
A22: LAS PALMAS | B22: 191272 | C22: 174482 | D22: 1252052 | E22: 1104585 | F22: =((E22*100)/D22)-100 -> -11.778025
A23: MALAGA | B23: 26927 | C23: 16310 | D23: 418503 | E23: 444176 | F23: =((E23*100)/D23)-100 -> 6.1344841
A24: MARIN Y RIA DE PONTEVEDRA | B24: 0 | C24: 0 | D24: 0 | E24: 0
A25: MELILLA | B25: 0 | C25: 0 | D25: 1352 | E25: 1224 | F25: =((E25*100)/D25)-100 -> -9.4674556
A26: MOTRIL | B26: 0 | C26: 0 | D26: 6481 | E26: 4570 | F26: =((E26*100)/D26)-100 -> -29.48619
A27: PASAIA | B27: 758 | C27: -2 | D27: 758 | E27: 573 | F27: =((E27*100)/D27)-100 -> -24.406332
A28: SANTA CRUZ DE TENERIFE | B28: 167848 | C28: 150018 | D28: 933417 | E28: 883339 | F28: =((E28*100)/D28)-100 -> -5.3650191
A29: SANTANDER | B29: 0 | C29: 0 | D29: 8614 | E29: 2354 | F29: =((E29*100)/D29)-100 -> -72.672394
A30: SEVILLA | B30: 738 | C30: 974 | D30: 17730 | E30: 21010 | F30: =((E30*100)/D30)-100 -> 18.499718
A31: TARRAGONA | B31: 0 | C31: 273 | D31: 12277 | E31: 13445 | F31: =((E31*100)/D31)-100 -> 9.5137249
A32: VALENCIA | B32: 10509 | C32: 7985 | D32: 371374 | E32: 403264 | F32: =((E32*100)/D32)-100 -> 8.5870309
A33: VIGO | B33: 4993 | C33: 5401 | D33: 204979 | E33: 169223 | F33: =((E33*100)/D33)-100 -> -17.443738
A34: VILAGARCIA | B34: 0 | C34: 0 | D34: 1190 | E34: 758 | F34: =((E34*100)/D34)-100 -> -36.302521
A35: Total | B35: =SUM(B7:B34) -> 758193 | C35: =SUM(C7:C34) -> 483531 | D35: =SUM(D7:D34) -> 8646576 | E35: =SUM(E7:E34) -> 8693871 | F35: =((E35*100)/D35)-100 -> 0.54697952
B37: =E6 -> 2016 | C37: =D6 -> 2015 | F37: =B37 -> 2016 | G37: =C37 -> 2015
A38: =A7 -> A CORUÑA | B38: =E7 -> 126735 | C38: =D7 -> 140451 | D38: =_xlfn.RANK.EQ(B38,$B$38:$B$65)+COUNTIF($B$38:$B$65,B38)-1 -> 10 | E38: =INDEX($A$38:$B$65,MATCH(ROW()-37,$D$38:$D$65,0),1) -> BARCELONA | F38: =LOOKUP(E38,$A$38:$A$65,$B$38:$B$65) -> 2683594 | G38: =LOOKUP(E38,$A$38:$A$65,$C$38:$C$65) -> 2540302
A39: =A8 -> ALICANTE | B39: =E8 -> 89000 | C39: =D8 -> 82316 | D39: =_xlfn.RANK.EQ(B39,$B$38:$B$65)+COUNTIF($B$38:$B$65,B39)-1 -> 11 | E39: =INDEX($A$38:$B$65,MATCH(ROW()-37,$D$38:$D$65,0),1) -> BALEARES | F39: =LOOKUP(E39,$A$38:$A$65,$B$38:$B$65) -> 1962155 | G39: =LOOKUP(E39,$A$38:$A$65,$C$38:$C$65) -> 1958848
A40: =A9 -> ALMERIA | B40: =E9 -> 28692 | C40: =D9 -> 17304 | D40: =_xlfn.RANK.EQ(B40,$B$38:$B$65)+COUNTIF($B$38:$B$65,B40)-1 -> 14 | E40: =INDEX($A$38:$B$65,MATCH(ROW()-37,$D$38:$D$65,0),1) -> LAS PALMAS | F40: =LOOKUP(E40,$A$38:$A$65,$B$38:$B$65) -> 1104585 | G40: =LOOKUP(E40,$A$38:$A$65,$C$38:$C$65) -> 1252052
A41: =A10 -> AVILES | B41: =E10 -> 2707 | C41: =D10 -> 2454 | D41: =_xlfn.RANK.EQ(B41,$B$38:$B$65)+COUNTIF($B$38:$B$65,B41)-1 -> 21 | E41: =INDEX($A$38:$B$65,MATCH(ROW()-37,$D$38:$D$65,0),1) -> SANTA CRUZ DE TENERIFE | F41: =LOOKUP(E41,$A$38:$A$65,$B$38:$B$65) -> 883339 | G41: =LOOKUP(E41,$A$38:$A$65,$C$38:$C$65) -> 933417
A42: =A11 -> BAHIA DE ALGECIRAS | B42: =E11 -> 0 | C42: =D11 -> 0 | D42: =_xlfn.RANK.EQ(B42,$B$38:$B$65)+COUNTIF($B$38:$B$65,B42)-1 -> 28 | E42: =INDEX($A$38:$B$65,MATCH(ROW()-37,$D$38:$D$65,0),1) -> MALAGA | F42: =LOOKUP(E42,$A$38:$A$65,$B$38:$B$65) -> 444176 | G42: =LOOKUP(E42,$A$38:$A$65,$C$38:$C$65) -> 418503
A43: =A12 -> BAHIA DE CADIZ | B43: =E12 -> 385067 | C43: =D12 -> 411455 | D43: =_xlfn.RANK.EQ(B43,$B$38:$B$65)+COUNTIF($B$38:$B$65,B43)-1 -> 7 | E43: =INDEX($A$38:$B$65,MATCH(ROW()-37,$D$38:$D$65,0),1) -> VALENCIA | F43: =LOOKUP(E43,$A$38:$A$65,$B$38:$B$65) -> 403264 | G43: =LOOKUP(E43,$A$38:$A$65,$C$38:$C$65) -> 371374
A44: =A13 -> BALEARES | B44: =E13 -> 1962155 | C44: =D13 -> 1958848 | D44: =_xlfn.RANK.EQ(B44,$B$38:$B$65)+COUNTIF($B$38:$B$65,B44)-1 -> 2 | E44: =INDEX($A$38:$B$65,MATCH(ROW()-37,$D$38:$D$65,0),1) -> BAHIA DE CADIZ | F44: =LOOKUP(E44,$A$38:$A$65,$B$38:$B$65) -> 385067 | G44: =LOOKUP(E44,$A$38:$A$65,$C$38:$C$65) -> 411455
A45: =A14 -> BARCELONA | B45: =E14 -> 2683594 | C45: =D14 -> 2540302 | D45: =_xlfn.RANK.EQ(B45,$B$38:$B$65)+COUNTIF($B$38:$B$65,B45)-1 -> 1 | E45: =INDEX($A$38:$B$65,MATCH(ROW()-37,$D$38:$D$65,0),1) -> CARTAGENA | F45: =LOOKUP(E45,$A$38:$A$65,$B$38:$B$65) -> 187813 | G45: =LOOKUP(E45,$A$38:$A$65,$C$38:$C$65) -> 150795
A46: =A15 -> BILBAO | B46: =E15 -> 86598 | C46: =D15 -> 70542 | D46: =_xlfn.RANK.EQ(B46,$B$38:$B$65)+COUNTIF($B$38:$B$65,B46)-1 -> 12 | E46: =INDEX($A$38:$B$65,MATCH(ROW()-37,$D$38:$D$65,0),1) -> VIGO | F46: =LOOKUP(E46,$A$38:$A$65,$B$38:$B$65) -> 169223 | G46: =LOOKUP(E46,$A$38:$A$65,$C$38:$C$65) -> 204979
A47: =A16 -> CARTAGENA | B47: =E16 -> 187813 | C47: =D16 -> 150795 | D47: =_xlfn.RANK.EQ(B47,$B$38:$B$65)+COUNTIF($B$38:$B$65,B47)-1 -> 8 | E47: =INDEX($A$38:$B$65,MATCH(ROW()-37,$D$38:$D$65,0),1) -> A CORUÑA | F47: =LOOKUP(E47,$A$38:$A$65,$B$38:$B$65) -> 126735 | G47: =LOOKUP(E47,$A$38:$A$65,$C$38:$C$65) -> 140451
A48: =A17 -> CASTELLON | B48: =E17 -> 1095 | C48: =D17 -> 366 | D48: =_xlfn.RANK.EQ(B48,$B$38:$B$65)+COUNTIF($B$38:$B$65,B48)-1 -> 24 | E48: =INDEX($A$38:$B$65,MATCH(ROW()-37,$D$38:$D$65,0),1) -> ALICANTE | F48: =LOOKUP(E48,$A$38:$A$65,$B$38:$B$65) -> 89000 | G48: =LOOKUP(E48,$A$38:$A$65,$C$38:$C$65) -> 82316
A49: =A18 -> CEUTA | B49: =E18 -> 19456 | C49: =D18 -> 1587 | D49: =_xlfn.RANK.EQ(B49,$B$38:$B$65)+COUNTIF($B$38:$B$65,B49)-1 -> 18 | E49: =INDEX($A$38:$B$65,MATCH(ROW()-37,$D$38:$D$65,0),1) -> BILBAO | F49: =LOOKUP(E49,$A$38:$A$65,$B$38:$B$65) -> 86598 | G49: =LOOKUP(E49,$A$38:$A$65,$C$38:$C$65) -> 70542
... A65: =A34 -> VILAGARCIA | B65: =E34 -> 758 | C65: =D34 -> 1190 | D65: =_xlfn.RANK.EQ(B65,$B$38:$B$65)+COUNTIF($B$38:$B$65,B65)-1 -> 25 | E65: =INDEX($A$38:$B$65,MATCH(ROW()-37,$D$38:$D$65,0),1) -> BAHIA DE ALGECIRAS | F65: =LOOKUP(E65,$A$38:$A$65,$B$38:$B$65) -> 0 | G65: =LOOKUP(E65,$A$38:$A$65,$C$38:$C$65) -> 0

Sheet Vehículos régimen pasaje
F1: 11.2. VEHICULOS DE TURISMO EN RÉGIMEN DE PASAJE (Nº)
A5: Autoridad Portuaria | B5: ='Resumen general'!D6 -> Mes Diciembre | D5: ='Resumen general'!F6 -> Acumulado desde Enero | L5: ='Resumen general'!I4 -> Fecha: 05/02/2018
B6: ='Resumen general'!D7 -> 2015 | C6: ='Resumen general'!E7 -> 2016 | D6: ='Resumen general'!F7 -> 2015 | E6: ='Resumen general'!G7 -> 2016 | F6: Var. (%)
A7: A CORUÑA | B7: 0 | C7: 0 | D7: 0 | E7: 0
A8: ALICANTE | B8: 2192 | C8: 1928 | D8: 49009 | E8: 45952 | F8: =((E8*100)/D8)-100 -> -6.2376298
A9: ALMERIA | B9: 7954 | C9: 9105 | D9: 133344 | E9: 164502 | F9: =((E9*100)/D9)-100 -> 23.366631
A10: AVILES | B10: 0 | C10: 0 | D10: 0 | E10: 0
A11: BAHIA DE ALGECIRAS | B11: 74667 | C11: 74080 | D11: 1144155 | E11: 1188930 | F11: =((E11*100)/D11)-100 -> 3.9133684
A12: BAHIA DE CADIZ | B12: 771 | C12: 670 | D12: 11050 | E12: 11058 | F12: =((E12*100)/D12)-100 -> 0.07239819
A13: BALEARES | B13: 64120 | C13: 34245 | D13: 523592 | E13: 566114 | F13: =((E13*100)/D13)-100 -> 8.1212089
A14: BARCELONA | B14: 13117 | C14: 16281 | D14: 294399 | E14: 329589 | F14: =((E14*100)/D14)-100 -> 11.953166
A15: BILBAO | B15: 2200 | C15: 2772 | D15: 40851 | E15: 44963 | F15: =((E15*100)/D15)-100 -> 10.065849
A16: CARTAGENA | B16: 0 | C16: 0 | D16: 0 | E16: 227
A17: CASTELLON | B17: 0 | C17: 0 | D17: 0 | E17: 0
A18: CEUTA | B18: 25754 | C18: 24403 | D18: 364100 | E18: 353756 | F18: =((E18*100)/D18)-100 -> -2.8409778
A19: FERROL-SAN CIBRAO | B19: 0 | C19: 0 | D19: 0 | E19: 0
A20: GIJON | B20: 0 | C20: 0 | D20: 0 | E20: 0
A21: HUELVA | B21: 1016 | C21: 1501 | D21: 17690 | E21: 19865 | F21: =((E21*100)/D21)-100 -> 12.295082
A22: LAS PALMAS | B22: 32654 | C22: 32899 | D22: 418729 | E22: 435695 | F22: =((E22*100)/D22)-100 -> 4.0517853
A23: MALAGA | B23: 2707 | C23: 2763 | D23: 32985 | E23: 35661 | F23: =((E23*100)/D23)-100 -> 8.1127785
A24: MARIN Y RIA DE PONTEVEDRA | B24: 0 | C24: 0 | D24: 0 | E24: 0
A25: MELILLA | B25: 10850 | C25: 11266 | D25: 155602 | E25: 164845 | F25: =((E25*100)/D25)-100 -> 5.940155
A26: MOTRIL | B26: 4327 | C26: 5613 | D26: 94398 | E26: 94875 | F26: =((E26*100)/D26)-100 -> 0.50530732
A27: PASAIA | B27: 0 | C27: 0 | D27: 0 | E27: 0
A28: SANTA CRUZ DE TENERIFE | B28: 89768 | C28: 89272 | D28: 1050980 | E28: 1112526 | F28: =((E28*100)/D28)-100 -> 5.8560582
A29: SANTANDER | B29: 3024 | C29: 3083 | D29: 83609 | E29: 87828 | F29: =((E29*100)/D29)-100 -> 5.0461075
A30: SEVILLA | B30: 507 | C30: 478 | D30: 560 | E30: 478 | F30: =((E30*100)/D30)-100 -> -14.642857
A31: TARRAGONA | B31: 0 | C31: -147 | D31: 0 | E31: 0
A32: VALENCIA | B32: 6020 | C32: 12493 | D32: 79259 | E32: 117814 | F32: =((E32*100)/D32)-100 -> 48.644318
A33: VIGO | B33: 0 | C33: 0 | D33: 0 | E33: 0
A34: VILAGARCIA | B34: 0 | C34: 0 | D34: 0 | E34: 0
A35: Total | B35: =SUM(B7:B34) -> 341648 | C35: =SUM(C7:C34) -> 322705 | D35: =SUM(D7:D34) -> 4494312 | E35: =SUM(E7:E34) -> 4774678 | F35: =((E35*100)/D35)-100 -> 6.2382407
B37: =E6 -> 2016 | C37: =D6 -> 2015 | F37: =B37 -> 2016 | G37: =C37 -> 2015
A38: =A7 -> A CORUÑA | B38: =E7 -> 0 | C38: =D7 -> 0 | D38: =_xlfn.RANK.EQ(B38,$B$38:$B$65)+COUNTIF($B$38:$B$65,B38)-1 -> 28 | E38: =INDEX($A$38:$B$65,MATCH(ROW()-37,$D$38:$D$65,0),1) -> BAHIA DE ALGECIRAS | F38: =LOOKUP(E38,$A$38:$A$65,$B$38:$B$65) -> 1188930 | G38: =LOOKUP(E38,$A$38:$A$65,$C$38:$C$65) -> 1144155
A39: =A8 -> ALICANTE | B39: =E8 -> 45952 | C39: =D8 -> 49009 | D39: =_xlfn.RANK.EQ(B39,$B$38:$B$65)+COUNTIF($B$38:$B$65,B39)-1 -> 12 | E39: =INDEX($A$38:$B$65,MATCH(ROW()-37,$D$38:$D$65,0),1) -> SANTA CRUZ DE TENERIFE | F39: =LOOKUP(E39,$A$38:$A$65,$B$38:$B$65) -> 1112526 | G39: =LOOKUP(E39,$A$38:$A$65,$C$38:$C$65) -> 1050980
A40: =A9 -> ALMERIA | B40: =E9 -> 164502 | C40: =D9 -> 133344 | D40: =_xlfn.RANK.EQ(B40,$B$38:$B$65)+COUNTIF($B$38:$B$65,B40)-1 -> 8 | E40: =INDEX($A$38:$B$65,MATCH(ROW()-37,$D$38:$D$65,0),1) -> BALEARES | F40: =LOOKUP(E40,$A$38:$A$65,$B$38:$B$65) -> 566114 | G40: =LOOKUP(E40,$A$38:$A$65,$C$38:$C$65) -> 523592
A41: =A10 -> AVILES | B41: =E10 -> 0 | C41: =D10 -> 0 | D41: =_xlfn.RANK.EQ(B41,$B$38:$B$65)+COUNTIF($B$38:$B$65,B41)-1 -> 28 | E41: =INDEX($A$38:$B$65,MATCH(ROW()-37,$D$38:$D$65,0),1) -> LAS PALMAS | F41: =LOOKUP(E41,$A$38:$A$65,$B$38:$B$65) -> 435695 | G41: =LOOKUP(E41,$A$38:$A$65,$C$38:$C$65) -> 418729
A42: =A11 -> BAHIA DE ALGECIRAS | B42: =E11 -> 1188930 | C42: =D11 -> 1144155 | D42: =_xlfn.RANK.EQ(B42,$B$38:$B$65)+COUNTIF($B$38:$B$65,B42)-1 -> 1 | E42: =INDEX($A$38:$B$65,MATCH(ROW()-37,$D$38:$D$65,0),1) -> CEUTA | F42: =LOOKUP(E42,$A$38:$A$65,$B$38:$B$65) -> 353756 | G42: =LOOKUP(E42,$A$38:$A$65,$C$38:$C$65) -> 364100
A43: =A12 -> BAHIA DE CADIZ | B43: =E12 -> 11058 | C43: =D12 -> 11050 | D43: =_xlfn.RANK.EQ(B43,$B$38:$B$65)+COUNTIF($B$38:$B$65,B43)-1 -> 16 | E43: =INDEX($A$38:$B$65,MATCH(ROW()-37,$D$38:$D$65,0),1) -> BARCELONA | F43: =LOOKUP(E43,$A$38:$A$65,$B$38:$B$65) -> 329589 | G43: =LOOKUP(E43,$A$38:$A$65,$C$38:$C$65) -> 294399
A44: =A13 -> BALEARES | B44: =E13 -> 566114 | C44: =D13 -> 523592 | D44: =_xlfn.RANK.EQ(B44,$B$38:$B$65)+COUNTIF($B$38:$B$65,B44)-1 -> 3 | E44: =INDEX($A$38:$B$65,MATCH(ROW()-37,$D$38:$D$65,0),1) -> MELILLA | F44: =LOOKUP(E44,$A$38:$A$65,$B$38:$B$65) -> 164845 | G44: =LOOKUP(E44,$A$38:$A$65,$C$38:$C$65) -> 155602
A45: =A14 -> BARCELONA | B45: =E14 -> 329589 | C45: =D14 -> 294399 | D45: =_xlfn.RANK.EQ(B45,$B$38:$B$65)+COUNTIF($B$38:$B$65,B45)-1 -> 6 | E45: =INDEX($A$38:$B$65,MATCH(ROW()-37,$D$38:$D$65,0),1) -> ALMERIA | F45: =LOOKUP(E45,$A$38:$A$65,$B$38:$B$65) -> 164502 | G45: =LOOKUP(E45,$A$38:$A$65,$C$38:$C$65) -> 133344
A46: =A15 -> BILBAO | B46: =E15 -> 44963 | C46: =D15 -> 40851 | D46: =_xlfn.RANK.EQ(B46,$B$38:$B$65)+COUNTIF($B$38:$B$65,B46)-1 -> 13 | E46: =INDEX($A$38:$B$65,MATCH(ROW()-37,$D$38:$D$65,0),1) -> VALENCIA | F46: =LOOKUP(E46,$A$38:$A$65,$B$38:$B$65) -> 117814 | G46: =LOOKUP(E46,$A$38:$A$65,$C$38:$C$65) -> 79259
A47: =A16 -> CARTAGENA | B47: =E16 -> 227 | C47: =D16 -> 0 | D47: =_xlfn.RANK.EQ(B47,$B$38:$B$65)+COUNTIF($B$38:$B$65,B47)-1 -> 18 | E47: =INDEX($A$38:$B$65,MATCH(ROW()-37,$D$38:$D$65,0),1) -> MOTRIL | F47: =LOOKUP(E47,$A$38:$A$65,$B$38:$B$65) -> 94875 | G47: =LOOKUP(E47,$A$38:$A$65,$C$38:$C$65) -> 94398
A48: =A17 -> CASTELLON | B48: =E17 -> 0 | C48: =D17 -> 0 | D48: =_xlfn.RANK.EQ(B48,$B$38:$B$65)+COUNTIF($B$38:$B$65,B48)-1 -> 28 | E48: =INDEX($A$38:$B$65,MATCH(ROW()-37,$D$38:$D$65,0),1) -> SANTANDER | F48: =LOOKUP(E48,$A$38:$A$65,$B$38:$B$65) -> 87828 | G48: =LOOKUP(E48,$A$38:$A$65,$C$38:$C$65) -> 83609
A49: =A18 -> CEUTA | B49: =E18 -> 353756 | C49: =D18 -> 364100 | D49: =_xlfn.RANK.EQ(B49,$B$38:$B$65)+COUNTIF($B$38:$B$65,B49)-1 -> 5 | E49: =INDEX($A$38:$B$65,MATCH(ROW()-37,$D$38:$D$65,0),1) -> ALICANTE | F49: =LOOKUP(E49,$A$38:$A$65,$B$38:$B$65) -> 45952 | G49: =LOOKUP(E49,$A$38:$A$65,$C$38:$C$65) -> 49009
... A65: =A34 -> VILAGARCIA | B65: =E34 -> 0 | C65: =D34 -> 0 | D65: =_xlfn.RANK.EQ(B65,$B$38:$B$65)+COUNTIF($B$38:$B$65,B65)-1 -> 28 | E65: =INDEX($A$38:$B$65,MATCH(ROW()-37,$D$38:$D$65,0),1) -> A CORUÑA | F65: =LOOKUP(E65,$A$38:$A$65,$B$38:$B$65) -> 0 | G65: =LOOKUP(E65,$A$38:$A$65,$C$38:$C$65) -> 0

Sheet Buques número
F1: 12.1. BUQUES MERCANTES (Nº)
A5: Autoridad Portuaria | B5: ='Resumen general'!D6 -> Mes Diciembre | D5: ='Resumen general'!F6 -> Acumulado desde Enero | L5: ='Resumen general'!I4 -> Fecha: 05/02/2018
B6: ='Resumen general'!D7 -> 2015 | C6: ='Resumen general'!E7 -> 2016 | D6: ='Resumen general'!F7 -> 2015 | E6: ='Resumen general'!G7 -> 2016 | F6: Var. (%)
A7: A CORUÑA | B7: 72 | C7: 112 | D7: 1132 | E7: 1209 | F7: =((E7*100)/D7)-100 -> 6.8021201
A8: ALICANTE | B8: 67 | C8: 68 | D8: 833 | E8: 923 | F8: =((E8*100)/D8)-100 -> 10.804322
A9: ALMERIA | B9: 105 | C9: 119 | D9: 1378 | E9: 1574 | F9: =((E9*100)/D9)-100 -> 14.223512
A10: AVILES | B10: 57 | C10: 85 | D10: 806 | E10: 824 | F10: =((E10*100)/D10)-100 -> 2.2332506
A11: BAHIA DE ALGECIRAS | B11: 2396 | C11: 2367 | D11: 28446 | E11: 29681 | F11: =((E11*100)/D11)-100 -> 4.3415594
A12: BAHIA DE CADIZ | B12: 46 | C12: 63 | D12: 980 | E12: 954 | F12: =((E12*100)/D12)-100 -> -2.6530612
A13: BALEARES | B13: 11544 | C13: 2053 | D13: 40596 | E13: 41871 | F13: =((E13*100)/D13)-100 -> 3.1407035
A14: BARCELONA | B14: 655 | C14: 702 | D14: 8046 | E14: 8728 | F14: =((E14*100)/D14)-100 -> 8.4762615
A15: BILBAO | B15: 223 | C15: 260 | D15: 2816 | E15: 2815 | F15: =((E15*100)/D15)-100 -> -0.035511364
A16: CARTAGENA | B16: 136 | C16: 99 | D16: 1862 | E16: 1908 | F16: =((E16*100)/D16)-100 -> 2.4704619
A17: CASTELLON | B17: 136 | C17: 140 | D17: 1515 | E17: 1655 | F17: =((E17*100)/D17)-100 -> 9.2409241
A18: CEUTA | B18: 868 | C18: 797 | D18: 10306 | E18: 10444 | F18: =((E18*100)/D18)-100 -> 1.3390258
... A34: VILAGARCIA | B34: 13 | C34: 25 | D34: 268 | E34: 301 | F34: =((E34*100)/D34)-100 -> 12.313433
A35: Total | B35: =SUM(B7:B34) -> 20190 | C35: =SUM(C7:C34) -> 10878 | D35: =SUM(D7:D34) -> 146732 | E35: =SUM(E7:E34) -> 151564 | F35: =((E35*100)/D35)-100 -> 3.2930785
B37: =E6 -> 2016 | C37: =D6 -> 2015 | F37: =B37 -> 2016 | G37: =C37 -> 2015
A38: =A7 -> A CORUÑA | B38: =E7 -> 1209 | C38: =D7 -> 1132 | D38: =_xlfn.RANK.EQ(B38,$B$38:$B$65)+COUNTIF($B$38:$B$65,B38)-1 -> 19 | E38: =INDEX($A$38:$B$65,MATCH(ROW()-37,$D$38:$D$65,0),1) -> BALEARES | F38: =LOOKUP(E38,$A$38:$A$65,$B$38:$B$65) -> 41871 | G38: =LOOKUP(E38,$A$38:$A$65,$C$38:$C$65) -> 40596
A39: =A8 -> ALICANTE | B39: =E8 -> 923 | C39: =D8 -> 833 | D39: =_xlfn.RANK.EQ(B39,$B$38:$B$65)+COUNTIF($B$38:$B$65,B39)-1 -> 25 | E39: =INDEX($A$38:$B$65,MATCH(ROW()-37,$D$38:$D$65,0),1) -> BAHIA DE ALGECIRAS | F39: =LOOKUP(E39,$A$38:$A$65,$B$38:$B$65) -> 29681 | G39: =LOOKUP(E39,$A$38:$A$65,$C$38:$C$65) -> 28446
A40: =A9 -> ALMERIA | B40: =E9 -> 1574 | C40: =D9 -> 1378 | D40: =_xlfn.RANK.EQ(B40,$B$38:$B$65)+COUNTIF($B$38:$B$65,B40)-1 -> 14 | E40: =INDEX($A$38:$B$65,MATCH(ROW()-37,$D$38:$D$65,0),1) -> SANTA CRUZ DE TENERIFE | F40: =LOOKUP(E40,$A$38:$A$65,$B$38:$B$65) -> 12518 | G40: =LOOKUP(E40,$A$38:$A$65,$C$38:$C$65) -> 12127
A41: =A10 -> AVILES | B41: =E10 -> 824 | C41: =D10 -> 806 | D41: =_xlfn.RANK.EQ(B41,$B$38:$B$65)+COUNTIF($B$38:$B$65,B41)-1 -> 26 | E41: =INDEX($A$38:$B$65,MATCH(ROW()-37,$D$38:$D$65,0),1) -> LAS PALMAS | F41: =LOOKUP(E41,$A$38:$A$65,$B$38:$B$65) -> 11554 | G41: =LOOKUP(E41,$A$38:$A$65,$C$38:$C$65) -> 11701
A42: =A11 -> BAHIA DE ALGECIRAS | B42: =E11 -> 29681 | C42: =D11 -> 28446 | D42: =_xlfn.RANK.EQ(B42,$B$38:$B$65)+COUNTIF($B$38:$B$65,B42)-1 -> 2 | E42: =INDEX($A$38:$B$65,MATCH(ROW()-37,$D$38:$D$65,0),1) -> CEUTA | F42: =LOOKUP(E42,$A$38:$A$65,$B$38:$B$65) -> 10444 | G42: =LOOKUP(E42,$A$38:$A$65,$C$38:$C$65) -> 10306
A43: =A12 -> BAHIA DE CADIZ | B43: =E12 -> 954 | C43: =D12 -> 980 | D43: =_xlfn.RANK.EQ(B43,$B$38:$B$65)+COUNTIF($B$38:$B$65,B43)-1 -> 24 | E43: =INDEX($A$38:$B$65,MATCH(ROW()-37,$D$38:$D$65,0),1) -> BARCELONA | F43: =LOOKUP(E43,$A$38:$A$65,$B$38:$B$65) -> 8728 | G43: =LOOKUP(E43,$A$38:$A$65,$C$38:$C$65) -> 8046
A44: =A13 -> BALEARES | B44: =E13 -> 41871 | C44: =D13 -> 40596 | D44: =_xlfn.RANK.EQ(B44,$B$38:$B$65)+COUNTIF($B$38:$B$65,B44)-1 -> 1 | E44: =INDEX($A$38:$B$65,MATCH(ROW()-37,$D$38:$D$65,0),1) -> VALENCIA | F44: =LOOKUP(E44,$A$38:$A$65,$B$38:$B$65) -> 7702 | G44: =LOOKUP(E44,$A$38:$A$65,$C$38:$C$65) -> 7728
A45: =A14 -> BARCELONA | B45: =E14 -> 8728 | C45: =D14 -> 8046 | D45: =_xlfn.RANK.EQ(B45,$B$38:$B$65)+COUNTIF($B$38:$B$65,B45)-1 -> 6 | E45: =INDEX($A$38:$B$65,MATCH(ROW()-37,$D$38:$D$65,0),1) -> BILBAO | F45: =LOOKUP(E45,$A$38:$A$65,$B$38:$B$65) -> 2815 | G45: =LOOKUP(E45,$A$38:$A$65,$C$38:$C$65) -> 2816
A46: =A15 -> BILBAO | B46: =E15 -> 2815 | C46: =D15 -> 2816 | D46: =_xlfn.RANK.EQ(B46,$B$38:$B$65)+COUNTIF($B$38:$B$65,B46)-1 -> 8 | E46: =INDEX($A$38:$B$65,MATCH(ROW()-37,$D$38:$D$65,0),1) -> TARRAGONA | F46: =LOOKUP(E46,$A$38:$A$65,$B$38:$B$65) -> 2643 | G46: =LOOKUP(E46,$A$38:$A$65,$C$38:$C$65) -> 2743
A47: =A16 -> CARTAGENA | B47: =E16 -> 1908 | C47: =D16 -> 1862 | D47: =_xlfn.RANK.EQ(B47,$B$38:$B$65)+COUNTIF($B$38:$B$65,B47)-1 -> 11 | E47: =INDEX($A$38:$B$65,MATCH(ROW()-37,$D$38:$D$65,0),1) -> HUELVA | F47: =LOOKUP(E47,$A$38:$A$65,$B$38:$B$65) -> 2191 | G47: =LOOKUP(E47,$A$38:$A$65,$C$38:$C$65) -> 1839
A48: =A17 -> CASTELLON | B48: =E17 -> 1655 | C48: =D17 -> 1515 | D48: =_xlfn.RANK.EQ(B48,$B$38:$B$65)+COUNTIF($B$38:$B$65,B48)-1 -> 12 | E48: =INDEX($A$38:$B$65,MATCH(ROW()-37,$D$38:$D$65,0),1) -> CARTAGENA | F48: =LOOKUP(E48,$A$38:$A$65,$B$38:$B$65) -> 1908 | G48: =LOOKUP(E48,$A$38:$A$65,$C$38:$C$65) -> 1862
A49: =A18 -> CEUTA | B49: =E18 -> 10444 | C49: =D18 -> 10306 | D49: =_xlfn.RANK.EQ(B49,$B$38:$B$65)+COUNTIF($B$38:$B$65,B49)-1 -> 5 | E49: =INDEX($A$38:$B$65,MATCH(ROW()-37,$D$38:$D$65,0),1) -> CASTELLON | F49: =LOOKUP(E49,$A$38:$A$65,$B$38:$B$65) -> 1655 | G49: =LOOKUP(E49,$A$38:$A$65,$C$38:$C$65) -> 1515
... A65: =A34 -> VILAGARCIA | B65: =E34 -> 301 | C65: =D34 -> 268 | D65: =_xlfn.RANK.EQ(B65,$B$38:$B$65)+COUNTIF($B$38:$B$65,B65)-1 -> 28 | E65: =INDEX($A$38:$B$65,MATCH(ROW()-37,$D$38:$D$65,0),1) -> VILAGARCIA | F65: =LOOKUP(E65,$A$38:$A$65,$B$38:$B$65) -> 301 | G65: =LOOKUP(E65,$A$38:$A$65,$C$38:$C$65) -> 268

Sheet Buques GT
F1: 12.2. BUQUES MERCANTES (Unidades de arqueo bruto)
A5: Autoridad Portuaria | B5: ='Resumen general'!D6 -> Mes Diciembre | D5: ='Resumen general'!F6 -> Acumulado desde Enero | L5: ='Resumen general'!I4 -> Fecha: 05/02/2018
B6: ='Resumen general'!D7 -> 2015 | C6: ='Resumen general'!E7 -> 2016 | D6: ='Resumen general'!F7 -> 2015 | E6: ='Resumen general'!G7 -> 2016 | F6: Var. (%)
A7: A CORUÑA | B7: 1270181 | C7: 1584554 | D7: 19258651 | E7: 18889724 | F7: =((E7*100)/D7)-100 -> -1.915643
A8: ALICANTE | B8: 784364 | C8: 771095 | D8: 11780091 | E8: 12817174 | F8: =((E8*100)/D8)-100 -> 8.8036926
A9: ALMERIA | B9: 2121711 | C9: 2221937 | D9: 24339136 | E9: 27621728 | F9: =((E9*100)/D9)-100 -> 13.486888
A10: AVILES | B10: 501499 | C10: 602140 | D10: 6014785 | E10: 6025883 | F10: =((E10*100)/D10)-100 -> 0.184512
A11: BAHIA DE ALGECIRAS | B11: 38222953 | C11: 34970681 | D11: 429586558 | E11: 452407013 | F11: =((E11*100)/D11)-100 -> 5.3121902
A12: BAHIA DE CADIZ | B12: 1415803 | C12: 1435381 | D12: 26578316 | E12: 25450980 | F12: =((E12*100)/D12)-100 -> -4.2415629
A13: BALEARES | B13: 21995623 | C13: 12534226 | D13: 194377121 | E13: 215107321 | F13: =((E13*100)/D13)-100 -> 10.664938
A14: BARCELONA | B14: 21433502 | C14: 23147056 | D14: 287501353 | E14: 310338799 | F14: =((E14*100)/D14)-100 -> 7.9434221
A15: BILBAO | B15: 3087174 | C15: 4215939 | D15: 42766934 | E15: 44810733 | F15: =((E15*100)/D15)-100 -> 4.7789234
A16: CARTAGENA | B16: 2540741 | C16: 2714790 | D16: 36606219 | E16: 37886995 | F16: =((E16*100)/D16)-100 -> 3.4987935
A17: CASTELLON | B17: 1896443 | C17: 2039679 | D17: 20587761 | E17: 22898695 | F17: =((E17*100)/D17)-100 -> 11.224795
A18: CEUTA | B18: 5194609 | C18: 4462547 | D18: 53396654 | E18: 59614987 | F18: =((E18*100)/D18)-100 -> 11.645548
... A34: VILAGARCIA | B34: 157355 | C34: 183225 | D34: 1642041 | E34: 1720024 | F34: =((E34*100)/D34)-100 -> 4.7491506
A35: Total | B35: =SUM(B7:B34) -> 183593011 | C35: =SUM(C7:C34) -> 174282552 | D35: =SUM(D7:D34) -> 2081223444 | E35: =SUM(E7:E34) -> 2184589058 | F35: =((E35*100)/D35)-100 -> 4.9665794
B37: =E6 -> 2016 | C37: =D6 -> 2015 | F37: =B37 -> 2016 | G37: =C37 -> 2015
A38: =A7 -> A CORUÑA | B38: =E7 -> 18889724 | C38: =D7 -> 19258651 | D38: =_xlfn.RANK.EQ(B38,$B$38:$B$65)+COUNTIF($B$38:$B$65,B38)-1 -> 20 | E38: =INDEX($A$38:$B$65,MATCH(ROW()-37,$D$38:$D$65,0),1) -> BAHIA DE ALGECIRAS | F38: =LOOKUP(E38,$A$38:$A$65,$B$38:$B$65) -> 452407013 | G38: =LOOKUP(E38,$A$38:$A$65,$C$38:$C$65) -> 429586558
A39: =A8 -> ALICANTE | B39: =E8 -> 12817174 | C39: =D8 -> 11780091 | D39: =_xlfn.RANK.EQ(B39,$B$38:$B$65)+COUNTIF($B$38:$B$65,B39)-1 -> 23 | E39: =INDEX($A$38:$B$65,MATCH(ROW()-37,$D$38:$D$65,0),1) -> BARCELONA | F39: =LOOKUP(E39,$A$38:$A$65,$B$38:$B$65) -> 310338799 | G39: =LOOKUP(E39,$A$38:$A$65,$C$38:$C$65) -> 287501353
A40: =A9 -> ALMERIA | B40: =E9 -> 27621728 | C40: =D9 -> 24339136 | D40: =_xlfn.RANK.EQ(B40,$B$38:$B$65)+COUNTIF($B$38:$B$65,B40)-1 -> 15 | E40: =INDEX($A$38:$B$65,MATCH(ROW()-37,$D$38:$D$65,0),1) -> VALENCIA | F40: =LOOKUP(E40,$A$38:$A$65,$B$38:$B$65) -> 255887783 | G40: =LOOKUP(E40,$A$38:$A$65,$C$38:$C$65) -> 240530194
A41: =A10 -> AVILES | B41: =E10 -> 6025883 | C41: =D10 -> 6014785 | D41: =_xlfn.RANK.EQ(B41,$B$38:$B$65)+COUNTIF($B$38:$B$65,B41)-1 -> 25 | E41: =INDEX($A$38:$B$65,MATCH(ROW()-37,$D$38:$D$65,0),1) -> LAS PALMAS | F41: =LOOKUP(E41,$A$38:$A$65,$B$38:$B$65) -> 234372337 | G41: =LOOKUP(E41,$A$38:$A$65,$C$38:$C$65) -> 243746494
A42: =A11 -> BAHIA DE ALGECIRAS | B42: =E11 -> 452407013 | C42: =D11 -> 429586558 | D42: =_xlfn.RANK.EQ(B42,$B$38:$B$65)+COUNTIF($B$38:$B$65,B42)-1 -> 1 | E42: =INDEX($A$38:$B$65,MATCH(ROW()-37,$D$38:$D$65,0),1) -> BALEARES | F42: =LOOKUP(E42,$A$38:$A$65,$B$38:$B$65) -> 215107321 | G42: =LOOKUP(E42,$A$38:$A$65,$C$38:$C$65) -> 194377121
A43: =A12 -> BAHIA DE CADIZ | B43: =E12 -> 25450980 | C43: =D12 -> 26578316 | D43: =_xlfn.RANK.EQ(B43,$B$38:$B$65)+COUNTIF($B$38:$B$65,B43)-1 -> 17 | E43: =INDEX($A$38:$B$65,MATCH(ROW()-37,$D$38:$D$65,0),1) -> SANTA CRUZ DE TENERIFE | F43: =LOOKUP(E43,$A$38:$A$65,$B$38:$B$65) -> 174830792 | G43: =LOOKUP(E43,$A$38:$A$65,$C$38:$C$65) -> 175281900
A44: =A13 -> BALEARES | B44: =E13 -> 215107321 | C44: =D13 -> 194377121 | D44: =_xlfn.RANK.EQ(B44,$B$38:$B$65)+COUNTIF($B$38:$B$65,B44)-1 -> 5 | E44: =INDEX($A$38:$B$65,MATCH(ROW()-37,$D$38:$D$65,0),1) -> CEUTA | F44: =LOOKUP(E44,$A$38:$A$65,$B$38:$B$65) -> 59614987 | G44: =LOOKUP(E44,$A$38:$A$65,$C$38:$C$65) -> 53396654
A45: =A14 -> BARCELONA | B45: =E14 -> 310338799 | C45: =D14 -> 287501353 | D45: =_xlfn.RANK.EQ(B45,$B$38:$B$65)+COUNTIF($B$38:$B$65,B45)-1 -> 2 | E45: =INDEX($A$38:$B$65,MATCH(ROW()-37,$D$38:$D$65,0),1) -> TARRAGONA | F45: =LOOKUP(E45,$A$38:$A$65,$B$38:$B$65) -> 46869069 | G45: =LOOKUP(E45,$A$38:$A$65,$C$38:$C$65) -> 46860772
A46: =A15 -> BILBAO | B46: =E15 -> 44810733 | C46: =D15 -> 42766934 | D46: =_xlfn.RANK.EQ(B46,$B$38:$B$65)+COUNTIF($B$38:$B$65,B46)-1 -> 9 | E46: =INDEX($A$38:$B$65,MATCH(ROW()-37,$D$38:$D$65,0),1) -> BILBAO | F46: =LOOKUP(E46,$A$38:$A$65,$B$38:$B$65) -> 44810733 | G46: =LOOKUP(E46,$A$38:$A$65,$C$38:$C$65) -> 42766934
A47: =A16 -> CARTAGENA | B47: =E16 -> 37886995 | C47: =D16 -> 36606219 | D47: =_xlfn.RANK.EQ(B47,$B$38:$B$65)+COUNTIF($B$38:$B$65,B47)-1 -> 10 | E47: =INDEX($A$38:$B$65,MATCH(ROW()-37,$D$38:$D$65,0),1) -> CARTAGENA | F47: =LOOKUP(E47,$A$38:$A$65,$B$38:$B$65) -> 37886995 | G47: =LOOKUP(E47,$A$38:$A$65,$C$38:$C$65) -> 36606219
A48: =A17 -> CASTELLON | B48: =E17 -> 22898695 | C48: =D17 -> 20587761 | D48: =_xlfn.RANK.EQ(B48,$B$38:$B$65)+COUNTIF($B$38:$B$65,B48)-1 -> 18 | E48: =INDEX($A$38:$B$65,MATCH(ROW()-37,$D$38:$D$65,0),1) -> MALAGA | F48: =LOOKUP(E48,$A$38:$A$65,$B$38:$B$65) -> 36469226 | G48: =LOOKUP(E48,$A$38:$A$65,$C$38:$C$65) -> 33360829
A49: =A18 -> CEUTA | B49: =E18 -> 59614987 | C49: =D18 -> 53396654 | D49: =_xlfn.RANK.EQ(B49,$B$38:$B$65)+COUNTIF($B$38:$B$65,B49)-1 -> 7 | E49: =INDEX($A$38:$B$65,MATCH(ROW()-37,$D$38:$D$65,0),1) -> MELILLA | F49: =LOOKUP(E49,$A$38:$A$65,$B$38:$B$65) -> 34058927 | G49: =LOOKUP(E49,$A$38:$A$65,$C$38:$C$65) -> 31747456
... A65: =A34 -> VILAGARCIA | B65: =E34 -> 1720024 | C65: =D34 -> 1642041 | D65: =_xlfn.RANK.EQ(B65,$B$38:$B$65)+COUNTIF($B$38:$B$65,B65)-1 -> 28 | E65: =INDEX($A$38:$B$65,MATCH(ROW()-37,$D$38:$D$65,0),1) -> VILAGARCIA | F65: =LOOKUP(E65,$A$38:$A$65,$B$38:$B$65) -> 1720024 | G65: =LOOKUP(E65,$A$38:$A$65,$C$38:$C$65) -> 1642041

Sheet Cruceros
F1: 12.3. CRUCEROS (Nº)
A5: Autoridad Portuaria | B5: ='Resumen general'!D6 -> Mes Diciembre | D5: ='Resumen general'!F6 -> Acumulado desde Enero | L5: ='Resumen general'!I4 -> Fecha: 05/02/2018
B6: ='Resumen general'!D7 -> 2015 | C6: ='Resumen general'!E7 -> 2016 | D6: ='Resumen general'!F7 -> 2015 | E6: ='Resumen general'!G7 -> 2016 | F6: Var. (%)
A7: A CORUÑA | B7: 4 | C7: 5 | D7: 92 | E7: 94 | F7: =((E7*100)/D7)-100 -> 2.173913
A8: ALICANTE | B8: 2 | C8: 2 | D8: 50 | E8: 54 | F8: =((E8*100)/D8)-100 -> 8
A9: ALMERIA | B9: 0 | C9: 0 | D9: 27 | E9: 39 | F9: =((E9*100)/D9)-100 -> 44.444444
A10: AVILES | B10: 0 | C10: 0 | D10: 4 | E10: 4 | F10: =((E10*100)/D10)-100 -> 0
A11: BAHIA DE ALGECIRAS | B11: 0 | C11: 1 | D11: 0 | E11: 2
A12: BAHIA DE CADIZ | B12: 13 | C12: 12 | D12: 295 | E12: 284 | F12: =((E12*100)/D12)-100 -> -3.7288136
A13: BALEARES | B13: 15 | C13: 10 | D13: 788 | E13: 741 | F13: =((E13*100)/D13)-100 -> -5.964467
A14: BARCELONA | B14: 27 | C14: 30 | D14: 750 | E14: 758 | F14: =((E14*100)/D14)-100 -> 1.0666667
A15: BILBAO | B15: 0 | C15: 0 | D15: 43 | E15: 51 | F15: =((E15*100)/D15)-100 -> 18.604651
A16: CARTAGENA | B16: 2 | C16: 2 | D16: 108 | E16: 121 | F16: =((E16*100)/D16)-100 -> 12.037037
A17: CASTELLON | B17: 0 | C17: 0 | D17: 2 | E17: 2 | F17: =((E17*100)/D17)-100 -> 0
A18: CEUTA | B18: 0 | C18: 2 | D18: 8 | E18: 17 | F18: =((E18*100)/D18)-100 -> 112.5
A19: FERROL-SAN CIBRAO | B19: 0 | C19: 2 | D19: 17 | E19: 24 | F19: =((E19*100)/D19)-100 -> 41.176471
A20: GIJON | B20: 0 | C20: 0 | D20: 13 | E20: 18 | F20: =((E20*100)/D20)-100 -> 38.461538
A21: HUELVA | B21: 0 | C21: 1 | D21: 6 | E21: 17 | F21: =((E21*100)/D21)-100 -> 183.33333
A22: LAS PALMAS | B22: 95 | C22: 98 | D22: 542 | E22: 524 | F22: =((E22*100)/D22)-100 -> -3.3210332
A23: MALAGA | B23: 11 | C23: 9 | D23: 238 | E23: 250 | F23: =((E23*100)/D23)-100 -> 5.0420168
A24: MARIN Y RIA DE PONTEVEDRA | B24: 0 | C24: 0 | D24: 0 | E24: 0
A25: MELILLA | B25: 0 | C25: 0 | D25: 3 | E25: 1 | F25: =((E25*100)/D25)-100 -> -66.666667
A26: MOTRIL | B26: 0 | C26: 0 | D26: 27 | E26: 21 | F26: =((E26*100)/D26)-100 -> -22.222222
A27: PASAIA | B27: 0 | C27: 3 | D27: 0 | E27: 3 | F27: =((E27*100)/D27)-100 -> #DIV/0!
A28: SANTA CRUZ DE TENERIFE | B28: 106 | C28: 92 | D28: 506 | E28: 526 | F28: =((E28*100)/D28)-100 -> 3.9525692
A29: SANTANDER | B29: 1 | C29: 0 | D29: 9 | E29: 6 | F29: =((E29*100)/D29)-100 -> -33.333333
A30: SEVILLA | B30: 3 | C30: 4 | D30: 64 | E30: 74 | F30: =((E30*100)/D30)-100 -> 15.625
A31: TARRAGONA | B31: 0 | C31: 1 | D31: 8 | E31: 22 | F31: =((E31*100)/D31)-100 -> 175
A32: VALENCIA | B32: 6 | C32: 5 | D32: 172 | E32: 181 | F32: =((E32*100)/D32)-100 -> 5.2325581
A33: VIGO | B33: 3 | C33: 4 | D33: 82 | E33: 83 | F33: =((E33*100)/D33)-100 -> 1.2195122
A34: VILAGARCIA | B34: 0 | C34: 0 | D34: 3 | E34: 3 | F34: =((E34*100)/D34)-100 -> 0
A35: Total | B35: =SUM(B7:B34) -> 288 | C35: =SUM(C7:C34) -> 283 | D35: =SUM(D7:D34) -> 3857 | E35: =SUM(E7:E34) -> 3920 | F35: =((E35*100)/D35)-100 -> 1.6333938
B37: =E6 -> 2016 | C37: =D6 -> 2015 | F37: =B37 -> 2016 | G37: =C37 -> 2015
A38: =A7 -> A CORUÑA | B38: =E7 -> 94 | C38: =D7 -> 92 | D38: =_xlfn.RANK.EQ(B38,$B$38:$B$65)+COUNTIF($B$38:$B$65,B38)-1 -> 9 | E38: =INDEX($A$38:$B$65,MATCH(ROW()-37,$D$38:$D$65,0),1) -> BARCELONA | F38: =LOOKUP(E38,$A$38:$A$65,$B$38:$B$65) -> 758 | G38: =LOOKUP(E38,$A$38:$A$65,$C$38:$C$65) -> 750
A39: =A8 -> ALICANTE | B39: =E8 -> 54 | C39: =D8 -> 50 | D39: =_xlfn.RANK.EQ(B39,$B$38:$B$65)+COUNTIF($B$38:$B$65,B39)-1 -> 12 | E39: =INDEX($A$38:$B$65,MATCH(ROW()-37,$D$38:$D$65,0),1) -> BALEARES | F39: =LOOKUP(E39,$A$38:$A$65,$B$38:$B$65) -> 741 | G39: =LOOKUP(E39,$A$38:$A$65,$C$38:$C$65) -> 788
A40: =A9 -> ALMERIA | B40: =E9 -> 39 | C40: =D9 -> 27 | D40: =_xlfn.RANK.EQ(B40,$B$38:$B$65)+COUNTIF($B$38:$B$65,B40)-1 -> 14 | E40: =INDEX($A$38:$B$65,MATCH(ROW()-37,$D$38:$D$65,0),1) -> SANTA CRUZ DE TENERIFE | F40: =LOOKUP(E40,$A$38:$A$65,$B$38:$B$65) -> 526 | G40: =LOOKUP(E40,$A$38:$A$65,$C$38:$C$65) -> 506
A41: =A10 -> AVILES | B41: =E10 -> 4 | C41: =D10 -> 4 | D41: =_xlfn.RANK.EQ(B41,$B$38:$B$65)+COUNTIF($B$38:$B$65,B41)-1 -> 22 | E41: =INDEX($A$38:$B$65,MATCH(ROW()-37,$D$38:$D$65,0),1) -> LAS PALMAS | F41: =LOOKUP(E41,$A$38:$A$65,$B$38:$B$65) -> 524 | G41: =LOOKUP(E41,$A$38:$A$65,$C$38:$C$65) -> 542
A42: =A11 -> BAHIA DE ALGECIRAS | B42: =E11 -> 2 | C42: =D11 -> 0 | D42: =_xlfn.RANK.EQ(B42,$B$38:$B$65)+COUNTIF($B$38:$B$65,B42)-1 -> 26 | E42: =INDEX($A$38:$B$65,MATCH(ROW()-37,$D$38:$D$65,0),1) -> BAHIA DE CADIZ | F42: =LOOKUP(E42,$A$38:$A$65,$B$38:$B$65) -> 284 | G42: =LOOKUP(E42,$A$38:$A$65,$C$38:$C$65) -> 295
A43: =A12 -> BAHIA DE CADIZ | B43: =E12 -> 284 | C43: =D12 -> 295 | D43: =_xlfn.RANK.EQ(B43,$B$38:$B$65)+COUNTIF($B$38:$B$65,B43)-1 -> 5 | E43: =INDEX($A$38:$B$65,MATCH(ROW()-37,$D$38:$D$65,0),1) -> MALAGA | F43: =LOOKUP(E43,$A$38:$A$65,$B$38:$B$65) -> 250 | G43: =LOOKUP(E43,$A$38:$A$65,$C$38:$C$65) -> 238
A44: =A13 -> BALEARES | B44: =E13 -> 741 | C44: =D13 -> 788 | D44: =_xlfn.RANK.EQ(B44,$B$38:$B$65)+COUNTIF($B$38:$B$65,B44)-1 -> 2 | E44: =INDEX($A$38:$B$65,MATCH(ROW()-37,$D$38:$D$65,0),1) -> VALENCIA | F44: =LOOKUP(E44,$A$38:$A$65,$B$38:$B$65) -> 181 | G44: =LOOKUP(E44,$A$38:$A$65,$C$38:$C$65) -> 172
A45: =A14 -> BARCELONA | B45: =E14 -> 758 | C45: =D14 -> 750 | D45: =_xlfn.RANK.EQ(B45,$B$38:$B$65)+COUNTIF($B$38:$B$65,B45)-1 -> 1 | E45: =INDEX($A$38:$B$65,MATCH(ROW()-37,$D$38:$D$65,0),1) -> CARTAGENA | F45: =LOOKUP(E45,$A$38:$A$65,$B$38:$B$65) -> 121 | G45: =LOOKUP(E45,$A$38:$A$65,$C$38:$C$65) -> 108
A46: =A15 -> BILBAO | B46: =E15 -> 51 | C46: =D15 -> 43 | D46: =_xlfn.RANK.EQ(B46,$B$38:$B$65)+COUNTIF($B$38:$B$65,B46)-1 -> 13 | E46: =INDEX($A$38:$B$65,MATCH(ROW()-37,$D$38:$D$65,0),1) -> A CORUÑA | F46: =LOOKUP(E46,$A$38:$A$65,$B$38:$B$65) -> 94 | G46: =LOOKUP(E46,$A$38:$A$65,$C$38:$C$65) -> 92
A47: =A16 -> CARTAGENA | B47: =E16 -> 121 | C47: =D16 -> 108 | D47: =_xlfn.RANK.EQ(B47,$B$38:$B$65)+COUNTIF($B$38:$B$65,B47)-1 -> 8 | E47: =INDEX($A$38:$B$65,MATCH(ROW()-37,$D$38:$D$65,0),1) -> VIGO | F47: =LOOKUP(E47,$A$38:$A$65,$B$38:$B$65) -> 83 | G47: =LOOKUP(E47,$A$38:$A$65,$C$38:$C$65) -> 82
A48: =A17 -> CASTELLON | B48: =E17 -> 2 | C48: =D17 -> 2 | D48: =_xlfn.RANK.EQ(B48,$B$38:$B$65)+COUNTIF($B$38:$B$65,B48)-1 -> 26 | E48: =INDEX($A$38:$B$65,MATCH(ROW()-37,$D$38:$D$65,0),1) -> SEVILLA | F48: =LOOKUP(E48,$A$38:$A$65,$B$38:$B$65) -> 74 | G48: =LOOKUP(E48,$A$38:$A$65,$C$38:$C$65) -> 64
A49: =A18 -> CEUTA | B49: =E18 -> 17 | C49: =D18 -> 8 | D49: =_xlfn.RANK.EQ(B49,$B$38:$B$65)+COUNTIF($B$38:$B$65,B49)-1 -> 20 | E49: =INDEX($A$38:$B$65,MATCH(ROW()-37,$D$38:$D$65,0),1) -> ALICANTE | F49: =LOOKUP(E49,$A$38:$A$65,$B$38:$B$65) -> 54 | G49: =LOOKUP(E49,$A$38:$A$65,$C$38:$C$65) -> 50
... A65: =A34 -> VILAGARCIA | B65: =E34 -> 3 | C65: =D34 -> 3 | D65: =_xlfn.RANK.EQ(B65,$B$38:$B$65)+COUNTIF($B$38:$B$65,B65)-1 -> 24 | E65: =INDEX($A$38:$B$65,MATCH(ROW()-37,$D$38:$D$65,0),1) -> MARIN Y RIA DE PONTEVEDRA | F65: =LOOKUP(E65,$A$38:$A$65,$B$38:$B$65) -> 0 | G65: =LOOKUP(E65,$A$38:$A$65,$C$38:$C$65) -> 0
