Workbook
Name CABECERA: Cruceros!$A$5:$F$6
Name CONCEPTO: 'Resumen general'!$A$6
Name LblRes00_Acum: 'Resumen general'!$F$6:$G$6
Name LblRes00_Mes: 'Resumen general'!$D$6:$E$6
Name LblRes00_Var: 'Resumen general'!$H$6:$I$6
Name LblRes01_1_Acum: 'Total presentación'!$D$5:$F$5
Name LblRes01_1_Mes: 'Total presentación'!$B$5:$C$5
Name LblRes01_Acum: 'Total tráfico'!$D$5:$F$5
Name LblRes01_Mes: 'Total tráfico'!$B$5:$C$5
Name LblRes02_Acum: Líquidos!$D$5:$F$5
Name LblRes02_Mes: Líquidos!$B$5:$C$5
Name LblRes03_Acum: Sólidos!$D$5:$F$5
Name LblRes03_Mes: Sólidos!$B$5:$C$5
Name LblRes04_Acum: 'Mercancía general'!$D$5:$F$5
Name LblRes04_Mes: 'Mercancía general'!$B$5:$C$5
Name LblRes05_Acum: Pesca!$D$5:$F$5
Name LblRes05_Mes: Pesca!$B$5:$C$5
Name LblRes06_Acum: Avituallamiento!$D$5:$F$5
Name LblRes06_Mes: Avituallamiento!$B$5:$C$5
Name LblRes07_1_Acum: 'Mercan. contene. tránsito'!$D$5:$F$5
Name LblRes07_1_Mes: 'Mercan. contene. tránsito'!$B$5:$C$5
Name LblRes07_Acum: 'Mercancías tránsito'!$D$5:$F$5
Name LblRes07_Mes: 'Mercancías tránsito'!$B$5:$C$5
Name LblRes08_Acum: 'Mercancías contenedores'!$D$5:$F$5
Name LblRes08_Mes: 'Mercancías contenedores'!$B$5:$C$5
Name LblRes09_Acum: 'Ro-Ro'!$D$5:$F$5
Name LblRes09_Mes: 'Ro-Ro'!$B$5:$C$5
Name LblRes10_1_Acum: 'TEUS tránsito'!$D$5:$F$5
Name LblRes10_1_Mes: 'TEUS tránsito'!$B$5:$C$5
Name LblRes10_2_Acum: 'TEUS nacional'!$D$5:$F$5
Name LblRes10_2_Mes: 'TEUS nacional'!$B$5:$C$5
Name LblRes10_3_Acum: 'TEUS exterior'!$D$5:$F$5
Name LblRes10_3_Mes: 'TEUS exterior'!$B$5:$C$5
Name LblRes10_4_Acum: 'TEUS nacional y exterior'!$D$5:$F$5
Name LblRes10_4_Mes: 'TEUS nacional y exterior'!$B$5:$C$5
Name LblRes10_Acum: TEUS!$D$5:$F$5
Name LblRes10_Mes: TEUS!$B$5:$C$5
Name LblRes11_1_Acum: 'Pasajeros crucero'!$D$5:$F$5
Name LblRes11_1_Mes: 'Pasajeros crucero'!$B$5:$C$5
Name LblRes11_2_Acum: 'Vehículos régimen pasaje'!$D$5:$F$5
Name LblRes11_2_Mes: 'Vehículos régimen pasaje'!$B$5:$C$5
Name LblRes11_Acum: 'Pasajeros total'!$D$5:$F$5
Name LblRes11_Mes: 'Pasajeros total'!$B$5:$C$5
Name LblRes12_1_Acum: 'Buques número'!$D$5:$F$5
Name LblRes12_1_Mes: 'Buques número'!$B$5:$C$5
Name LblRes12_2_Acum: 'Buques GT'!$D$5:$F$5
Name LblRes12_2_Mes: 'Buques GT'!$B$5:$C$5
Name LblRes12_3_Acum: Cruceros!$D$5:$F$5
Name LblRes12_3_Mes: Cruceros!$B$5:$C$5
Name PROVINCIAS: Cruceros!$A$5:$A$35
Name TxtFecha: Cruceros!$L$5

Sheet Portada e índice
I1: Dirección de Servicios y Competitividad
I2: Departamento de Estadística
G15: RESUMEN GENERAL DEL TRÁFICO PORTUARIO*
G16: diciembre 2016
K29: *Datos de cierre definitivos del Anuario Estadístico de Puertos del Estado 2016
F34: ÍNDICE
B37: 0. | C37: RESUMEN GENERAL DEL TRÁFICO PORTUARIO
B38: 1. | C38: TRÁFICO PORTUARIO
B39: 1.1. | C39: MERCANCÍAS SEGÚN SU FORMA DE PRESENTACIÓN
B40: 2. | C40: GRANELES LÍQUIDOS
B41: 3. | C41: GRANELES SÓLIDOS
B42: 4. | C42: MERCANCÍA GENERAL
B43: 5. | C43: PESCA
B44: 6. | C44: AVITUALLAMIENTO
B45: 7. | C45: MERCANCÍAS EN TRÁNSITO
B46: 7.1. | C46: MERCANCÍAS EN CONTENEDORES EN TRÁNSITO
B47: 8. | C47: MERCANCÍAS EN CONTENEDORES
B48: 9. | C48: TRÁFICO RO-RO
... B59: 12.3. | C59: CRUCEROS (unidades)

Sheet Resumen general
D1: 00. RESUMEN GENERAL DEL TRÁFICO PORTUARIO
I4: Fecha: 05/02/2018
A6: CONCEPTO | D6: Mes Diciembre | F6: Acumulado desde Enero | H6: Variación
D7: 2015 | E7: 2016 | F7: 2015 | G7: 2016 | H7: Diferencia | I7: %
A8: MERCANCÍAS SEGÚN SU PRESENTACIÓN | B8: GRANELES | C8: LÍQUIDOS | D8: =Líquidos!B35 -> 14012805 | E8: =Líquidos!C35 -> 14647070 | F8: =Líquidos!D35 -> 1.6805109e+08 | G8: =Líquidos!E35 -> 1.6758332e+08 | H8: =G8-F8 -> -467768.54 | I8: =((G8*100/F8)-100) -> -0.27834901
C9: SÓLIDOS | D9: =Sólidos!B35 -> 8672351.8 | E9: =Sólidos!C35 -> 8341804.8 | F9: =Sólidos!D35 -> 95972002 | G9: =Sólidos!E35 -> 91993448 | H9: =G9-F9 -> -3978553.9 | I9: =((G9*100/F9)-100) -> -4.145536
B10: MERCANCÍA GRAL. | C10: CONVENCIONAL | D10: =D12-D11 -> 4986505.1 | E10: =E12-E11 -> 5727845.6 | F10: =F12-F11 -> 65128935 | G10: =G12-G11 -> 67737010 | H10: =G10-F10 -> 2608074.4 | I10: =((G10*100/F10)-100) -> 4.0044788
C11: EN CONTENEDORES | D11: ='Mercancías contenedores'!B35 -> 13636117 | E11: ='Mercancías contenedores'!C35 -> 13884423 | F11: ='Mercancías contenedores'!D35 -> 1.5927614e+08 | G11: ='Mercancías contenedores'!E35 -> 1.6829421e+08 | H11: =G11-F11 -> 9018074.3 | I11: =((G11*100/F11)-100) -> 5.6619117
C12: TOTAL | D12: ='Mercancía general'!B35 -> 18622622 | E12: ='Mercancía general'!C35 -> 19612269 | F12: ='Mercancía general'!D35 -> 2.2440507e+08 | G12: ='Mercancía general'!E35 -> 2.3603122e+08 | H12: =G12-F12 -> 11626149 | I12: =((G12*100/F12)-100) -> 5.180876
C13: TOTAL | D13: =SUM(D12+D9+D8) -> 41307779 | E13: =SUM(E12+E9+E8) -> 42601144 | F13: =F8+F9+F12 -> 4.8842816e+08 | G13: =G12+G9+G8 -> 4.9560799e+08 | H13: =G13-F13 -> 7179826.2 | I13: =((G13*100/F13)-100) -> 1.4699861
A14: OTRAS MERCANCÍAS | B14: PESCA | C14: TOTAL PESCA | D14: =Pesca!B35 -> 20990 | E14: =Pesca!C35 -> 21216.411 | F14: =Pesca!D35 -> 220130.09 | G14: =Pesca!E35 -> 232934.41 | H14: =G14-F14 -> 12804.321 | I14: =((G14*100/F14)-100) -> 5.8167064
B15: AVITUALLAMIENTO | C15: PRODUCTOS PETROLÍFEROS | D15: 710514 | E15: 621268 | F15: 8084093 | G15: 8201008 | H15: =G15-F15 -> 116915 | I15: =((G15*100/F15)-100) -> 1.4462352
C16: OTROS | D16: =Avituallamiento!B35-'Resumen general'!D15 -> 244065 | E16: =Avituallamiento!C35-'Resumen general'!E15 -> 306808.8 | F16: 2098377 | G16: =Avituallamiento!E35-'Resumen general'!G15 -> 2122629.5 | H16: =G16-F16 -> 24252.5 | I16: =((G16*100/F16)-100) -> 1.1557742
B17: TRAFICO INTERIOR | C17: TOTAL TRAFICO INTERIOR | D17: 354212 | E17: 261959 | F17: 3607280 | G17: 3340077 | H17: =G17-F17 -> -267203 | I17: =((G17*100/F17)-100) -> -7.4073263
C18: TOTAL | D18: =SUM(D14:D17) -> 1329781 | E18: =SUM(E14:E17) -> 1211252.2 | F18: =SUM(F14+F15+F16+F17) -> 14009880 | G18: =G14+G15+G16+G17 -> 13896649 | H18: =G18-F18 -> -113231.18 | I18: =((G18*100/F18)-100) -> -0.80822376
C19: TOTAL TRÁFICO PORTUARIO | D19: =SUM(D13+D18) -> 42637560 | E19: =SUM(E13+E18) -> 43812396 | F19: =F18+F13 -> 5.0243804e+08 | G19: =G13+G18 -> 5.0950464e+08 | H19: =G19-F19 -> 7066595 | I19: =((G19*100/F19)-100) -> 1.406461
A21: OTRAS INFORMACIONES | B21: MERCANCÍAS | C21: EN TRÁNSITO | D21: ='Mercancías tránsito'!B35 -> 9603069.8 | E21: ='Mercancías tránsito'!C35 -> 10124346 | F21: ='Mercancías tránsito'!D35 -> 1.186056e+08 | G21: ='Mercancías tránsito'!E35 -> 1.2229877e+08 | H21: =G21-F21 -> 3693174.3 | I21: =((G21*100/F21)-100) -> 3.113828
C22: EN CONTENEDORES EN TRÁNSITO | D22: ='Mercan. contene. tránsito'!B35 -> 8006050 | E22: ='Mercan. contene. tránsito'!C35 -> 7601555.1 | F22: ='Mercan. contene. tránsito'!D35 -> 93947360 | G22: ='Mercan. contene. tránsito'!E35 -> 98509897 | H22: =G22-F22 -> 4562536.5 | I22: =((G22*100/F22)-100) -> 4.8564819
B23: TRÁFICO RO-RO | C23: TOTAL TRÁFICO RO-RO | D23: ='Ro-Ro'!B35 -> 4160662 | E23: ='Ro-Ro'!C35 -> 3870871.6 | F23: ='Ro-Ro'!D35 -> 51154407 | G23: ='Ro-Ro'!E35 -> 53447233 | H23: =G23-F23 -> 2292826.2 | I23: =((G23*100/F23)-100) -> 4.4821675
B24: CONTENEDORES (TEU) | C24: TOTAL CONTENEDORES (TEU) | D24: =TEUS!B35 -> 1232553 | E24: =TEUS!C35 -> 1272883.8 | F24: =TEUS!D35 -> 14293243 | G24: =TEUS!E35 -> 15154303 | H24: =G24-F24 -> 861060 | I24: =((G24*100/F24)-100) -> 6.0242453
C25: EN TRÁNSITO | D25: ='TEUS tránsito'!B35 -> 629354 | E25: ='TEUS tránsito'!C35 -> 647501 | F25: ='TEUS tránsito'!D35 -> 7426945 | G25: ='TEUS tránsito'!E35 -> 7922535 | H25: =G25-F25 -> 495590 | I25: =((G25*100/F25)-100) -> 6.6728648
C26: ENTRADAS-SALIDAS NACIONAL | D26: ='TEUS nacional'!B35 -> 149360 | E26: ='TEUS nacional'!C35 -> 157029 | F26: ='TEUS nacional'!D35 -> 1728964 | G26: ='TEUS nacional'!E35 -> 1926876 | H26: =G26-F26 -> 197912 | I26: =((G26*100/F26)-100) -> 11.446855
C27: IMPORT-EXPORT EXTERIOR | D27: ='TEUS exterior'!B35 -> 422214 | E27: ='TEUS exterior'!C35 -> 441028 | F27: ='TEUS exterior'!D35 -> 5105644 | G27: ='TEUS exterior'!E35 -> 5272324 | H27: =G27-F27 -> 166680 | I27: =((G27*100/F27)-100) -> 3.2646224
C28: NACIONAL Y EXTERIOR | D28: ='TEUS nacional y exterior'!B35 -> 571574 | E28: ='TEUS nacional y exterior'!C35 -> 598057 | F28: ='TEUS nacional y exterior'!D35 -> 6834673 | G28: ='TEUS nacional y exterior'!E35 -> 7199204 | H28: =G28-F28 -> 364531 | I28: =((G28*100/F28)-100) -> 5.3335544
B29: PASAJEROS | C29: REG. TRANSPORTE Y DE CRUCERO (nº) | D29: ='Pasajeros total'!B35 -> 3074640 | E29: ='Pasajeros total'!C35 -> 1926801 | F29: ='Pasajeros total'!D35 -> 31071594 | G29: ='Pasajeros total'!E35 -> 32493848 | H29: =G29-F29 -> 1422254 | I29: =((G29*100/F29)-100) -> 4.5773448
C30: DE CRUCERO (nº) | D30: ='Pasajeros crucero'!B35 -> 758193 | E30: ='Pasajeros crucero'!C35 -> 483531 | F30: ='Pasajeros crucero'!D35 -> 8646576 | G30: ='Pasajeros crucero'!E35 -> 8693871 | H30: =G30-F30 -> 47295 | I30: =((G30*100/F30)-100) -> 0.54697952
B31: VEHÍCULOS | C31: EN RÉGIMEN DE PASAJE | D31: ='Vehículos régimen pasaje'!B35 -> 341648 | E31: ='Vehículos régimen pasaje'!C35 -> 322705 | F31: ='Vehículos régimen pasaje'!D35 -> 4494312 | G31: ='Vehículos régimen pasaje'!E35 -> 4774678 | H31: =G31-F31 -> 280366 | I31: =((G31*100/F31)-100) -> 6.2382407
B32: BUQUES MERCANTES | C32: TOTAL BUQUES MERCANTES | D32: ='Buques número'!B35 -> 20190 | E32: ='Buques número'!C35 -> 10878 | F32: ='Buques número'!D35 -> 146732 | G32: ='Buques número'!E35 -> 151564 | H32: =G32-F32 -> 4832 | I32: =((G32*100/F32)-100) -> 3.2930785
C33: UDS. ARQUEO BRUTO (G.T.) | D33: ='Buques GT'!B35 -> 183593011 | E33: ='Buques GT'!C35 -> 174282552 | F33: ='Buques GT'!D35 -> 2081223444 | G33: ='Buques GT'!E35 -> 2184589058 | H33: =G33-F33 -> 103365614 | I33: =((G33*100/F33)-100) -> 4.9665794
C34: NÚMERO DE CRUCEROS | D34: =Cruceros!B35 -> 288 | E34: =Cruceros!C35 -> 283 | F34: =Cruceros!D35 -> 3857 | G34: =Cruceros!E35 -> 3920 | H34: =G34-F34 -> 63 | I34: =((G34*100/F34)-100) -> 1.6333938

Sheet Total tráfico
F1: 1. TRAFICO PORTUARIO (Toneladas)
A5: Autoridad Portuaria | B5: ='Resumen general'!D6 -> Mes Diciembre | D5: ='Resumen general'!F6 -> Acumulado desde Enero | L5: ='Resumen general'!I4 -> Fecha: 05/02/2018
B6: ='Resumen general'!D7 -> 2015 | C6: ='Resumen general'!E7 -> 2016 | D6: ='Resumen general'!F7 -> 2015 | E6: ='Resumen general'!G7 -> 2016 | F6: Var. (%)
A7: A CORUÑA | B7: 1131473 | C7: 1264172.6 | D7: 14152644 | E7: 13919795 | F7: =((E7*100)/D7)-100 -> -1.6452685
A8: ALICANTE | B8: 268644.41 | C8: 245025.3 | D8: 2616948.4 | E8: 3471563.3 | F8: =((E8*100)/D8)-100 -> 32.656925
A9: ALMERIA | B9: 498243 | C9: 546728.4 | D9: 6465011 | E9: 5467308.4 | F9: =((E9*100)/D9)-100 -> -15.432342
A10: AVILES | B10: 511424.89 | C10: 586583.03 | D10: 5173618.9 | E10: 4971467 | F10: =((E10*100)/D10)-100 -> -3.9073589
A11: BAHIA DE ALGECIRAS | B11: 8077714 | C11: 8602707.4 | D11: 98224216 | E11: 1.0317695e+08 | F11: =((E11*100)/D11)-100 -> 5.0422692
A12: BAHIA DE CADIZ | B12: 224756 | C12: 280516.2 | D12: 3410578 | E12: 3660047.2 | F12: =((E12*100)/D12)-100 -> 7.3145725
A13: BALEARES | B13: 952185 | C13: 1020749.8 | D13: 13526097 | E13: 14926741 | F13: =((E13*100)/D13)-100 -> 10.355122
A14: BARCELONA | B14: 4239787 | C14: 3863433.8 | D14: 47049743 | E14: 48653002 | F14: =((E14*100)/D14)-100 -> 3.4075825
A15: BILBAO | B15: 2623079 | C15: 3409814.3 | D15: 32874742 | E15: 32067270 | F15: =((E15*100)/D15)-100 -> -2.456207
A16: CARTAGENA | B16: 2917884 | C16: 2876768.3 | D16: 32670388 | E16: 31883686 | F16: =((E16*100)/D16)-100 -> -2.4079962
A17: CASTELLON | B17: 1562077 | C17: 1686264 | D17: 16474190 | E17: 17076583 | F17: =((E17*100)/D17)-100 -> 3.6565865
A18: CEUTA | B18: 191680.82 | C18: 242448.9 | D18: 2110007.8 | E18: 2478780.9 | F18: =((E18*100)/D18)-100 -> 17.477332
... A34: VILAGARCIA | B34: 110880.67 | C34: 115174.86 | D34: 1029714.7 | E34: 1111995 | F34: =((E34*100)/D34)-100 -> 7.9905951
A35: Total | B35: =SUM(B7:B34) -> 42637560 | C35: =SUM(C7:C34) -> 44084386 | D35: =SUM(D7:D34) -> 5.0243804e+08 | E35: =SUM(E7:E34) -> 5.0950464e+08 | F35: =((E35*100)/D35)-100 -> 1.4064607
B37: =E6 -> 2016 | C37: =D6 -> 2015 | F37: =B37 -> 2016 | G37: =C37 -> 2015
A38: =A7 -> A CORUÑA | B38: =E7 -> 13919795 | C38: =D7 -> 14152644 | D38: =_xlfn.RANK.EQ(B38,$B$38:$B$65)+COUNTIF($B$38:$B$65,B38)-1 -> 12 | E38: =INDEX($A$38:$B$65,MATCH(ROW()-37,$D$38:$D$65,0),1) -> BAHIA DE ALGECIRAS | F38: =LOOKUP(E38,$A$38:$A$65,$B$38:$B$65) -> 1.0317695e+08 | G38: =LOOKUP(E38,$A$38:$A$65,$C$38:$C$65) -> 98224216
A39: =A8 -> ALICANTE | B39: =E8 -> 3471563.3 | C39: =D8 -> 2616948.4 | D39: =_xlfn.RANK.EQ(B39,$B$38:$B$65)+COUNTIF($B$38:$B$65,B39)-1 -> 21 | E39: =INDEX($A$38:$B$65,MATCH(ROW()-37,$D$38:$D$65,0),1) -> VALENCIA | F39: =LOOKUP(E39,$A$38:$A$65,$B$38:$B$65) -> 71469813 | G39: =LOOKUP(E39,$A$38:$A$65,$C$38:$C$65) -> 70083977
A40: =A9 -> ALMERIA | B40: =E9 -> 5467308.4 | C40: =D9 -> 6465011 | D40: =_xlfn.RANK.EQ(B40,$B$38:$B$65)+COUNTIF($B$38:$B$65,B40)-1 -> 15 | E40: =INDEX($A$38:$B$65,MATCH(ROW()-37,$D$38:$D$65,0),1) -> BARCELONA | F40: =LOOKUP(E40,$A$38:$A$65,$B$38:$B$65) -> 48653002 | G40: =LOOKUP(E40,$A$38:$A$65,$C$38:$C$65) -> 47049743
A41: =A10 -> AVILES | B41: =E10 -> 4971467 | C41: =D10 -> 5173618.9 | D41: =_xlfn.RANK.EQ(B41,$B$38:$B$65)+COUNTIF($B$38:$B$65,B41)-1 -> 16 | E41: =INDEX($A$38:$B$65,MATCH(ROW()-37,$D$38:$D$65,0),1) -> BILBAO | F41: =LOOKUP(E41,$A$38:$A$65,$B$38:$B$65) -> 32067270 | G41: =LOOKUP(E41,$A$38:$A$65,$C$38:$C$65) -> 32874742
A42: =A11 -> BAHIA DE ALGECIRAS | B42: =E11 -> 1.0317695e+08 | C42: =D11 -> 98224216 | D42: =_xlfn.RANK.EQ(B42,$B$38:$B$65)+COUNTIF($B$38:$B$65,B42)-1 -> 1 | E42: =INDEX($A$38:$B$65,MATCH(ROW()-37,$D$38:$D$65,0),1) -> CARTAGENA | F42: =LOOKUP(E42,$A$38:$A$65,$B$38:$B$65) -> 31883686 | G42: =LOOKUP(E42,$A$38:$A$65,$C$38:$C$65) -> 32670388
A43: =A12 -> BAHIA DE CADIZ | B43: =E12 -> 3660047.2 | C43: =D12 -> 3410578 | D43: =_xlfn.RANK.EQ(B43,$B$38:$B$65)+COUNTIF($B$38:$B$65,B43)-1 -> 20 | E43: =INDEX($A$38:$B$65,MATCH(ROW()-37,$D$38:$D$65,0),1) -> TARRAGONA | F43: =LOOKUP(E43,$A$38:$A$65,$B$38:$B$65) -> 31351797 | G43: =LOOKUP(E43,$A$38:$A$65,$C$38:$C$65) -> 33034593
A44: =A13 -> BALEARES | B44: =E13 -> 14926741 | C44: =D13 -> 13526097 | D44: =_xlfn.RANK.EQ(B44,$B$38:$B$65)+COUNTIF($B$38:$B$65,B44)-1 -> 11 | E44: =INDEX($A$38:$B$65,MATCH(ROW()-37,$D$38:$D$65,0),1) -> HUELVA | F44: =LOOKUP(E44,$A$38:$A$65,$B$38:$B$65) -> 30557172 | G44: =LOOKUP(E44,$A$38:$A$65,$C$38:$C$65) -> 27375435
A45: =A14 -> BARCELONA | B45: =E14 -> 48653002 | C45: =D14 -> 47049743 | D45: =_xlfn.RANK.EQ(B45,$B$38:$B$65)+COUNTIF($B$38:$B$65,B45)-1 -> 3 | E45: =INDEX($A$38:$B$65,MATCH(ROW()-37,$D$38:$D$65,0),1) -> LAS PALMAS | F45: =LOOKUP(E45,$A$38:$A$65,$B$38:$B$65) -> 22801746 | G45: =LOOKUP(E45,$A$38:$A$65,$C$38:$C$65) -> 23579828
A46: =A15 -> BILBAO | B46: =E15 -> 32067270 | C46: =D15 -> 32874742 | D46: =_xlfn.RANK.EQ(B46,$B$38:$B$65)+COUNTIF($B$38:$B$65,B46)-1 -> 4 | E46: =INDEX($A$38:$B$65,MATCH(ROW()-37,$D$38:$D$65,0),1) -> GIJON | F46: =LOOKUP(E46,$A$38:$A$65,$B$38:$B$65) -> 18407334 | G46: =LOOKUP(E46,$A$38:$A$65,$C$38:$C$65) -> 21277873
A47: =A16 -> CARTAGENA | B47: =E16 -> 31883686 | C47: =D16 -> 32670388 | D47: =_xlfn.RANK.EQ(B47,$B$38:$B$65)+COUNTIF($B$38:$B$65,B47)-1 -> 5 | E47: =INDEX($A$38:$B$65,MATCH(ROW()-37,$D$38:$D$65,0),1) -> CASTELLON | F47: =LOOKUP(E47,$A$38:$A$65,$B$38:$B$65) -> 17076583 | G47: =LOOKUP(E47,$A$38:$A$65,$C$38:$C$65) -> 16474190
A48: =A17 -> CASTELLON | B48: =E17 -> 17076583 | C48: =D17 -> 16474190 | D48: =_xlfn.RANK.EQ(B48,$B$38:$B$65)+COUNTIF($B$38:$B$65,B48)-1 -> 10 | E48: =INDEX($A$38:$B$65,MATCH(ROW()-37,$D$38:$D$65,0),1) -> BALEARES | F48: =LOOKUP(E48,$A$38:$A$65,$B$38:$B$65) -> 14926741 | G48: =LOOKUP(E48,$A$38:$A$65,$C$38:$C$65) -> 13526097
A49: =A18 -> CEUTA | B49: =E18 -> 2478780.9 | C49: =D18 -> 2110007.8 | D49: =_xlfn.RANK.EQ(B49,$B$38:$B$65)+COUNTIF($B$38:$B$65,B49)-1 -> 24 | E49: =INDEX($A$38:$B$65,MATCH(ROW()-37,$D$38:$D$65,0),1) -> A CORUÑA | F49: =LOOKUP(E49,$A$38:$A$65,$B$38:$B$65) -> 13919795 | G49: =LOOKUP(E49,$A$38:$A$65,$C$38:$C$65) -> 14152644
... A65: =A34 -> VILAGARCIA | B65: =E34 -> 1111995 | C65: =D34 -> 1029714.7 | D65: =_xlfn.RANK.EQ(B65,$B$38:$B$65)+COUNTIF($B$38:$B$65,B65)-1 -> 28 | E65: =INDEX($A$38:$B$65,MATCH(ROW()-37,$D$38:$D$65,0),1) -> VILAGARCIA | F65: =LOOKUP(E65,$A$38:$A$65,$B$38:$B$65) -> 1111995 | G65: =LOOKUP(E65,$A$38:$A$65,$C$38:$C$65) -> 1029714.7

Sheet Total presentación
F1: 1.1. MERCANCÍAS SEGÚN SU FORMA DE PRESENTACIÓN
J2: (Toneladas)
A5: Autoridad Portuaria | B5: ='Resumen general'!D6 -> Mes Diciembre | D5: ='Resumen general'!F6 -> Acumulado desde Enero | L5: ='Resumen general'!I4 -> Fecha: 05/02/2018
B6: ='Resumen general'!D7 -> 2015 | C6: ='Resumen general'!E7 -> 2016 | D6: ='Resumen general'!F7 -> 2015 | E6: ='Resumen general'!G7 -> 2016 | F6: Var. (%)
A7: A CORUÑA | B7: 1077586 | C7: 1200603 | D7: 13764237 | E7: 13527098 | F7: =((E7*100)/D7)-100 -> -1.7228634
A8: ALICANTE | B8: 266590.74 | C8: 243599.53 | D8: 2586875.7 | E8: 3442580.5 | F8: =((E8*100)/D8)-100 -> 33.078697
A9: ALMERIA | B9: 492571 | C9: 541357 | D9: 6390544 | E9: 5390023 | F9: =((E9*100)/D9)-100 -> -15.656273
A10: AVILES | B10: 481898.54 | C10: 556160.09 | D10: 5108851.5 | E10: 4909133.1 | F10: =((E10*100)/D10)-100 -> -3.9092631
A11: BAHIA DE ALGECIRAS | B11: 7508920 | C11: 7853556 | D11: 91949559 | E11: 96861660 | F11: =((E11*100)/D11)-100 -> 5.3421692
A12: BAHIA DE CADIZ | B12: 215535 | C12: 271999 | D12: 3248105 | E12: 3497654 | F12: =((E12*100)/D12)-100 -> 7.6829105
A13: BALEARES | B13: 940657 | C13: 1014013 | D13: 13317584 | E13: 14676205 | F13: =((E13*100)/D13)-100 -> 10.201708
A14: BARCELONA | B14: 4175604 | C14: 3808116 | D14: 45921254 | E14: 47512963 | F14: =((E14*100)/D14)-100 -> 3.4661706
A15: BILBAO | B15: 2570385 | C15: 3399680.4 | D15: 32399823 | E15: 31948743 | F15: =((E15*100)/D15)-100 -> -1.3922286
A16: CARTAGENA | B16: 2907899 | C16: 2865396 | D16: 32578858 | E16: 31724623 | F16: =((E16*100)/D16)-100 -> -2.6220532
A17: CASTELLON | B17: 1560385 | C17: 1683633 | D17: 16444770 | E17: 17042674 | F17: =((E17*100)/D17)-100 -> 3.6358307
A18: CEUTA | B18: 138336 | C18: 206553 | D18: 1649280 | E18: 1934591 | F18: =((E18*100)/D18)-100 -> 17.299124
... A34: VILAGARCIA | B34: 110300.67 | C34: 114514.86 | D34: 1024904.7 | E34: 1105781.9 | F34: =((E34*100)/D34)-100 -> 7.8911915
A35: Total | B35: =SUM(B7:B34) -> 41307779 | C35: =SUM(C7:C34) -> 42601144 | D35: =SUM(D7:D34) -> 4.8842816e+08 | E35: =SUM(E7:E34) -> 4.9560799e+08 | F35: =((E35*100)/D35)-100 -> 1.4699861
B37: =E6 -> 2016 | C37: =D6 -> 2015 | F37: =B37 -> 2016 | G37: =C37 -> 2015
A38: =A7 -> A CORUÑA | B38: =E7 -> 13527098 | C38: =D7 -> 13764237 | D38: =_xlfn.RANK.EQ(B38,$B$38:$B$65)+COUNTIF($B$38:$B$65,B38)-1 -> 12 | E38: =INDEX($A$38:$B$65,MATCH(ROW()-37,$D$38:$D$65,0),1) -> BAHIA DE ALGECIRAS | F38: =LOOKUP(E38,$A$38:$A$65,$B$38:$B$65) -> 96861660 | G38: =LOOKUP(E38,$A$38:$A$65,$C$38:$C$65) -> 91949559
A39: =A8 -> ALICANTE | B39: =E8 -> 3442580.5 | C39: =D8 -> 2586875.7 | D39: =_xlfn.RANK.EQ(B39,$B$38:$B$65)+COUNTIF($B$38:$B$65,B39)-1 -> 21 | E39: =INDEX($A$38:$B$65,MATCH(ROW()-37,$D$38:$D$65,0),1) -> VALENCIA | F39: =LOOKUP(E39,$A$38:$A$65,$B$38:$B$65) -> 70995541 | G39: =LOOKUP(E39,$A$38:$A$65,$C$38:$C$65) -> 69601336
A40: =A9 -> ALMERIA | B40: =E9 -> 5390023 | C40: =D9 -> 6390544 | D40: =_xlfn.RANK.EQ(B40,$B$38:$B$65)+COUNTIF($B$38:$B$65,B40)-1 -> 15 | E40: =INDEX($A$38:$B$65,MATCH(ROW()-37,$D$38:$D$65,0),1) -> BARCELONA | F40: =LOOKUP(E40,$A$38:$A$65,$B$38:$B$65) -> 47512963 | G40: =LOOKUP(E40,$A$38:$A$65,$C$38:$C$65) -> 45921254
A41: =A10 -> AVILES | B41: =E10 -> 4909133.1 | C41: =D10 -> 5108851.5 | D41: =_xlfn.RANK.EQ(B41,$B$38:$B$65)+COUNTIF($B$38:$B$65,B41)-1 -> 16 | E41: =INDEX($A$38:$B$65,MATCH(ROW()-37,$D$38:$D$65,0),1) -> BILBAO | F41: =LOOKUP(E41,$A$38:$A$65,$B$38:$B$65) -> 31948743 | G41: =LOOKUP(E41,$A$38:$A$65,$C$38:$C$65) -> 32399823
A42: =A11 -> BAHIA DE ALGECIRAS | B42: =E11 -> 96861660 | C42: =D11 -> 91949559 | D42: =_xlfn.RANK.EQ(B42,$B$38:$B$65)+COUNTIF($B$38:$B$65,B42)-1 -> 1 | E42: =INDEX($A$38:$B$65,MATCH(ROW()-37,$D$38:$D$65,0),1) -> CARTAGENA | F42: =LOOKUP(E42,$A$38:$A$65,$B$38:$B$65) -> 31724623 | G42: =LOOKUP(E42,$A$38:$A$65,$C$38:$C$65) -> 32578858
A43: =A12 -> BAHIA DE CADIZ | B43: =E12 -> 3497654 | C43: =D12 -> 3248105 | D43: =_xlfn.RANK.EQ(B43,$B$38:$B$65)+COUNTIF($B$38:$B$65,B43)-1 -> 20 | E43: =INDEX($A$38:$B$65,MATCH(ROW()-37,$D$38:$D$65,0),1) -> TARRAGONA | F43: =LOOKUP(E43,$A$38:$A$65,$B$38:$B$65) -> 31328770 | G43: =LOOKUP(E43,$A$38:$A$65,$C$38:$C$65) -> 32934769
A44: =A13 -> BALEARES | B44: =E13 -> 14676205 | C44: =D13 -> 13317584 | D44: =_xlfn.RANK.EQ(B44,$B$38:$B$65)+COUNTIF($B$38:$B$65,B44)-1 -> 11 | E44: =INDEX($A$38:$B$65,MATCH(ROW()-37,$D$38:$D$65,0),1) -> HUELVA | F44: =LOOKUP(E44,$A$38:$A$65,$B$38:$B$65) -> 30381229 | G44: =LOOKUP(E44,$A$38:$A$65,$C$38:$C$65) -> 27216051
A45: =A14 -> BARCELONA | B45: =E14 -> 47512963 | C45: =D14 -> 45921254 | D45: =_xlfn.RANK.EQ(B45,$B$38:$B$65)+COUNTIF($B$38:$B$65,B45)-1 -> 3 | E45: =INDEX($A$38:$B$65,MATCH(ROW()-37,$D$38:$D$65,0),1) -> LAS PALMAS | F45: =LOOKUP(E45,$A$38:$A$65,$B$38:$B$65) -> 20192621 | G45: =LOOKUP(E45,$A$38:$A$65,$C$38:$C$65) -> 20981431
A46: =A15 -> BILBAO | B46: =E15 -> 31948743 | C46: =D15 -> 32399823 | D46: =_xlfn.RANK.EQ(B46,$B$38:$B$65)+COUNTIF($B$38:$B$65,B46)-1 -> 4 | E46: =INDEX($A$38:$B$65,MATCH(ROW()-37,$D$38:$D$65,0),1) -> GIJON | F46: =LOOKUP(E46,$A$38:$A$65,$B$38:$B$65) -> 18340528 | G46: =LOOKUP(E46,$A$38:$A$65,$C$38:$C$65) -> 21178589
A47: =A16 -> CARTAGENA | B47: =E16 -> 31724623 | C47: =D16 -> 32578858 | D47: =_xlfn.RANK.EQ(B47,$B$38:$B$65)+COUNTIF($B$38:$B$65,B47)-1 -> 5 | E47: =INDEX($A$38:$B$65,MATCH(ROW()-37,$D$38:$D$65,0),1) -> CASTELLON | F47: =LOOKUP(E47,$A$38:$A$65,$B$38:$B$65) -> 17042674 | G47: =LOOKUP(E47,$A$38:$A$65,$C$38:$C$65) -> 16444770
A48: =A17 -> CASTELLON | B48: =E17 -> 17042674 | C48: =D17 -> 16444770 | D48: =_xlfn.RANK.EQ(B48,$B$38:$B$65)+COUNTIF($B$38:$B$65,B48)-1 -> 10 | E48: =INDEX($A$38:$B$65,MATCH(ROW()-37,$D$38:$D$65,0),1) -> BALEARES | F48: =LOOKUP(E48,$A$38:$A$65,$B$38:$B$65) -> 14676205 | G48: =LOOKUP(E48,$A$38:$A$65,$C$38:$C$65) -> 13317584
A49: =A18 -> CEUTA | B49: =E18 -> 1934591 | C49: =D18 -> 1649280 | D49: =_xlfn.RANK.EQ(B49,$B$38:$B$65)+COUNTIF($B$38:$B$65,B49)-1 -> 26 | E49: =INDEX($A$38:$B$65,MATCH(ROW()-37,$D$38:$D$65,0),1) -> A CORUÑA | F49: =LOOKUP(E49,$A$38:$A$65,$B$38:$B$65) -> 13527098 | G49: =LOOKUP(E49,$A$38:$A$65,$C$38:$C$65) -> 13764237
... A65: =A34 -> VILAGARCIA | B65: =E34 -> 1105781.9 | C65: =D34 -> 1024904.7 | D65: =_xlfn.RANK.EQ(B65,$B$38:$B$65)+COUNTIF($B$38:$B$65,B65)-1 -> 28 | E65: =INDEX($A$38:$B$65,MATCH(ROW()-37,$D$38:$D$65,0),1) -> VILAGARCIA | F65: =LOOKUP(E65,$A$38:$A$65,$B$38:$B$65) -> 1105781.9 | G65: =LOOKUP(E65,$A$38:$A$65,$C$38:$C$65) -> 1024904.7

Sheet Líquidos
F1: 2. GRANELES LÍQUIDOS (Toneladas)
A5: Autoridad Portuaria | B5: ='Resumen general'!D6 -> Mes Diciembre | D5: ='Resumen general'!F6 -> Acumulado desde Enero | L5: ='Resumen general'!I4 -> Fecha: 05/02/2018
B6: ='Resumen general'!D7 -> 2015 | C6: ='Resumen general'!E7 -> 2016 | D6: ='Resumen general'!F7 -> 2015 | E6: ='Resumen general'!G7 -> 2016 | F6: Var. (%)
A7: A CORUÑA | B7: 531444 | C7: 670539 | D7: 7913588 | E7: 8169622 | F7: =((E7*100)/D7)-100 -> 3.2353719
A8: ALICANTE | B8: 15015 | C8: 11460.06 | D8: 56820.54 | E8: 43336.06 | F8: =((E8*100)/D8)-100 -> -23.7317
A9: ALMERIA | B9: 0 | C9: 0 | D9: 22926 | E9: 28465 | F9: =((E9*100)/D9)-100 -> 24.160342
A10: AVILES | B10: 69174 | C10: 55820.85 | D10: 630851.09 | E10: 625174.85 | F10: =((E10*100)/D10)-100 -> -0.89977494
A11: BAHIA DE ALGECIRAS | B11: 1963200 | C11: 2000578 | D11: 27344044 | E11: 27309859 | F11: =((E11*100)/D11)-100 -> -0.12501808
A12: BAHIA DE CADIZ | B12: 29781 | C12: 22332 | D12: 296224 | E12: 404838 | F12: =((E12*100)/D12)-100 -> 36.666172
A13: BALEARES | B13: 114663 | C13: 86522 | D13: 1524756 | E13: 1541653 | F13: =((E13*100)/D13)-100 -> 1.1081773
A14: BARCELONA | B14: 1268034 | C14: 835934 | D14: 12055321 | E14: 11415816 | F14: =((E14*100)/D14)-100 -> -5.304753
A15: BILBAO | B15: 1335794 | C15: 1828251.4 | D15: 18199807 | E15: 18087202 | F15: =((E15*100)/D15)-100 -> -0.61871315
A16: CARTAGENA | B16: 2215734 | C16: 2407327 | D16: 25741107 | E16: 25025669 | F16: =((E16*100)/D16)-100 -> -2.7793599
A17: CASTELLON | B17: 890637 | C17: 875566 | D17: 8654177 | E17: 8354528 | F17: =((E17*100)/D17)-100 -> -3.4624783
A18: CEUTA | B18: 52145 | C18: 118716 | D18: 626803 | E18: 876112 | F18: =((E18*100)/D18)-100 -> 39.774698
... A26: MOTRIL | B26: 108209 | C26: 102982 | D26: 1162031 | E26: 1197007 | F26: =((E26*100)/D26)-100 -> 3.0099025
A27: PASAIA | B27: 0 | C27: 0 | D27: 0 | E27: 0
A28: SANTA CRUZ DE TENERIFE | B28: 412079 | C28: 484249 | D28: 5732686 | E28: 6157862 | F28: =((E28*100)/D28)-100 -> 7.4166979
A29: SANTANDER | B29: 24998 | C29: 15973 | D29: 270926 | E29: 139775 | F29: =((E29*100)/D29)-100 -> -48.408421
A30: SEVILLA | B30: 54977 | C30: 16533 | D30: 274365 | E30: 229665 | F30: =((E30*100)/D30)-100 -> -16.292166
A31: TARRAGONA | B31: 1812612 | C31: 2078633 | D31: 22306303 | E31: 20268771 | F31: =((E31*100)/D31)-100 -> -9.134333
A32: VALENCIA | B32: 316585 | C32: 441744 | D32: 3814375 | E32: 3803068 | F32: =((E32*100)/D32)-100 -> -0.29643126
A33: VIGO | B33: 8480 | C33: 3000 | D33: 59580 | E33: 60452 | F33: =((E33*100)/D33)-100 -> 1.4635784
A34: VILAGARCIA | B34: 9172 | C34: 13187.09 | D34: 94856.57 | E34: 184160.09 | F34: =((E34*100)/D34)-100 -> 94.145846
A35: Total | B35: =SUM(B7:B34) -> 14012805 | C35: =SUM(C7:C34) -> 14647070 | D35: =SUM(D7:D34) -> 1.6805109e+08 | E35: =SUM(E7:E34) -> 1.6758332e+08 | F35: =((E35*100)/D35)-100 -> -0.27834901
B37: =E6 -> 2016 | C37: =D6 -> 2015 | F37: =B37 -> 2016 | G37: =C37 -> 2015
A38: =A7 -> A CORUÑA | B38: =E7 -> 8169622 | C38: =D7 -> 7913588 | D38: =_xlfn.RANK.EQ(B38,$B$38:$B$65)+COUNTIF($B$38:$B$65,B38)-1 -> 8 | E38: =INDEX($A$38:$B$65,MATCH(ROW()-37,$D$38:$D$65,0),1) -> BAHIA DE ALGECIRAS | F38: =LOOKUP(E38,$A$38:$A$65,$B$38:$B$65) -> 27309859 | G38: =LOOKUP(E38,$A$38:$A$65,$C$38:$C$65) -> 27344044
A39: =A8 -> ALICANTE | B39: =E8 -> 43336.06 | C39: =D8 -> 56820.54 | D39: =_xlfn.RANK.EQ(B39,$B$38:$B$65)+COUNTIF($B$38:$B$65,B39)-1 -> 25 | E39: =INDEX($A$38:$B$65,MATCH(ROW()-37,$D$38:$D$65,0),1) -> CARTAGENA | F39: =LOOKUP(E39,$A$38:$A$65,$B$38:$B$65) -> 25025669 | G39: =LOOKUP(E39,$A$38:$A$65,$C$38:$C$65) -> 25741107
A40: =A9 -> ALMERIA | B40: =E9 -> 28465 | C40: =D9 -> 22926 | D40: =_xlfn.RANK.EQ(B40,$B$38:$B$65)+COUNTIF($B$38:$B$65,B40)-1 -> 26 | E40: =INDEX($A$38:$B$65,MATCH(ROW()-37,$D$38:$D$65,0),1) -> HUELVA | F40: =LOOKUP(E40,$A$38:$A$65,$B$38:$B$65) -> 24136062 | G40: =LOOKUP(E40,$A$38:$A$65,$C$38:$C$65) -> 21598676
A41: =A10 -> AVILES | B41: =E10 -> 625174.85 | C41: =D10 -> 630851.09 | D41: =_xlfn.RANK.EQ(B41,$B$38:$B$65)+COUNTIF($B$38:$B$65,B41)-1 -> 17 | E41: =INDEX($A$38:$B$65,MATCH(ROW()-37,$D$38:$D$65,0),1) -> TARRAGONA | F41: =LOOKUP(E41,$A$38:$A$65,$B$38:$B$65) -> 20268771 | G41: =LOOKUP(E41,$A$38:$A$65,$C$38:$C$65) -> 22306303
A42: =A11 -> BAHIA DE ALGECIRAS | B42: =E11 -> 27309859 | C42: =D11 -> 27344044 | D42: =_xlfn.RANK.EQ(B42,$B$38:$B$65)+COUNTIF($B$38:$B$65,B42)-1 -> 1 | E42: =INDEX($A$38:$B$65,MATCH(ROW()-37,$D$38:$D$65,0),1) -> BILBAO | F42: =LOOKUP(E42,$A$38:$A$65,$B$38:$B$65) -> 18087202 | G42: =LOOKUP(E42,$A$38:$A$65,$C$38:$C$65) -> 18199807
A43: =A12 -> BAHIA DE CADIZ | B43: =E12 -> 404838 | C43: =D12 -> 296224 | D43: =_xlfn.RANK.EQ(B43,$B$38:$B$65)+COUNTIF($B$38:$B$65,B43)-1 -> 18 | E43: =INDEX($A$38:$B$65,MATCH(ROW()-37,$D$38:$D$65,0),1) -> BARCELONA | F43: =LOOKUP(E43,$A$38:$A$65,$B$38:$B$65) -> 11415816 | G43: =LOOKUP(E43,$A$38:$A$65,$C$38:$C$65) -> 12055321
A44: =A13 -> BALEARES | B44: =E13 -> 1541653 | C44: =D13 -> 1524756 | D44: =_xlfn.RANK.EQ(B44,$B$38:$B$65)+COUNTIF($B$38:$B$65,B44)-1 -> 13 | E44: =INDEX($A$38:$B$65,MATCH(ROW()-37,$D$38:$D$65,0),1) -> CASTELLON | F44: =LOOKUP(E44,$A$38:$A$65,$B$38:$B$65) -> 8354528 | G44: =LOOKUP(E44,$A$38:$A$65,$C$38:$C$65) -> 8654177
A45: =A14 -> BARCELONA | B45: =E14 -> 11415816 | C45: =D14 -> 12055321 | D45: =_xlfn.RANK.EQ(B45,$B$38:$B$65)+COUNTIF($B$38:$B$65,B45)-1 -> 6 | E45: =INDEX($A$38:$B$65,MATCH(ROW()-37,$D$38:$D$65,0),1) -> A CORUÑA | F45: =LOOKUP(E45,$A$38:$A$65,$B$38:$B$65) -> 8169622 | G45: =LOOKUP(E45,$A$38:$A$65,$C$38:$C$65) -> 7913588
A46: =A15 -> BILBAO | B46: =E15 -> 18087202 | C46: =D15 -> 18199807 | D46: =_xlfn.RANK.EQ(B46,$B$38:$B$65)+COUNTIF($B$38:$B$65,B46)-1 -> 5 | E46: =INDEX($A$38:$B$65,MATCH(ROW()-37,$D$38:$D$65,0),1) -> SANTA CRUZ DE TENERIFE | F46: =LOOKUP(E46,$A$38:$A$65,$B$38:$B$65) -> 6157862 | G46: =LOOKUP(E46,$A$38:$A$65,$C$38:$C$65) -> 5732686
A47: =A16 -> CARTAGENA | B47: =E16 -> 25025669 | C47: =D16 -> 25741107 | D47: =_xlfn.RANK.EQ(B47,$B$38:$B$65)+COUNTIF($B$38:$B$65,B47)-1 -> 2 | E47: =INDEX($A$38:$B$65,MATCH(ROW()-37,$D$38:$D$65,0),1) -> LAS PALMAS | F47: =LOOKUP(E47,$A$38:$A$65,$B$38:$B$65) -> 6119850 | G47: =LOOKUP(E47,$A$38:$A$65,$C$38:$C$65) -> 6385970
A48: =A17 -> CASTELLON | B48: =E17 -> 8354528 | C48: =D17 -> 8654177 | D48: =_xlfn.RANK.EQ(B48,$B$38:$B$65)+COUNTIF($B$38:$B$65,B48)-1 -> 7 | E48: =INDEX($A$38:$B$65,MATCH(ROW()-37,$D$38:$D$65,0),1) -> VALENCIA | F48: =LOOKUP(E48,$A$38:$A$65,$B$38:$B$65) -> 3803068 | G48: =LOOKUP(E48,$A$38:$A$65,$C$38:$C$65) -> 3814375
A49: =A18 -> CEUTA | B49: =E18 -> 876112 | C49: =D18 -> 626803 | D49: =_xlfn.RANK.EQ(B49,$B$38:$B$65)+COUNTIF($B$38:$B$65,B49)-1 -> 15 | E49: =INDEX($A$38:$B$65,MATCH(ROW()-37,$D$38:$D$65,0),1) -> FERROL-SAN CIBRAO | F49: =LOOKUP(E49,$A$38:$A$65,$B$38:$B$65) -> 2345048.8 | G49: =LOOKUP(E49,$A$38:$A$65,$C$38:$C$65) -> 2194480
... A65: =A34 -> VILAGARCIA | B65: =E34 -> 184160.09 | C65: =D34 -> 94856.57 | D65: =_xlfn.RANK.EQ(B65,$B$38:$B$65)+COUNTIF($B$38:$B$65,B65)-1 -> 20 | E65: =INDEX($A$38:$B$65,MATCH(ROW()-37,$D$38:$D$65,0),1) -> PASAIA | F65: =LOOKUP(E65,$A$38:$A$65,$B$38:$B$65) -> 0 | G65: =LOOKUP(E65,$A$38:$A$65,$C$38:$C$65) -> 0

Sheet Sólidos
F1: 3. GRANELES SÓLIDOS (Toneladas)
A5: Autoridad Portuaria | B5: ='Resumen general'!D6 -> Mes Diciembre | D5: ='Resumen general'!F6 -> Acumulado desde Enero | L5: ='Resumen general'!I4 -> Fecha: 05/02/2018
B6: ='Resumen general'!D7 -> 2015 | C6: ='Resumen general'!E7 -> 2016 | D6: ='Resumen general'!F7 -> 2015 | E6: ='Resumen general'!G7 -> 2016 | F6: Var. (%)
A7: A CORUÑA | B7: 454207 | C7: 448578 | D7: 4912338 | E7: 4345101 | F7: =((E7*100)/D7)-100 -> -11.54719
A8: ALICANTE | B8: 144550.99 | C8: 94270.34 | D8: 1244009 | E8: 1904456.3 | F8: =((E8*100)/D8)-100 -> 53.090239
A9: ALMERIA | B9: 438631 | C9: 481843 | D9: 5762813 | E9: 4695167 | F9: =((E9*100)/D9)-100 -> -18.526473
A10: AVILES | B10: 343379.14 | C10: 296135.46 | D10: 3260161.1 | E10: 2920900.5 | F10: =((E10*100)/D10)-100 -> -10.406255
A11: BAHIA DE ALGECIRAS | B11: 48755 | C11: 399110 | D11: 2130519 | E11: 1778840 | F11: =((E11*100)/D11)-100 -> -16.506729
A12: BAHIA DE CADIZ | B12: 66219 | C12: 142299 | D12: 1623696 | E12: 1763516 | F12: =((E12*100)/D12)-100 -> 8.6112179
A13: BALEARES | B13: 68331 | C13: 145351 | D13: 1215735 | E13: 1550899 | F13: =((E13*100)/D13)-100 -> 27.568837
A14: BARCELONA | B14: 458483 | C14: 446616 | D14: 4426087 | E14: 4430798 | F14: =((E14*100)/D14)-100 -> 0.10643713
A15: BILBAO | B15: 318012 | C15: 480783 | D15: 4528219 | E15: 4362064 | F15: =((E15*100)/D15)-100 -> -3.6693234
A16: CARTAGENA | B16: 580816 | C16: 372116 | D16: 5554193 | E16: 5304817 | F16: =((E16*100)/D16)-100 -> -4.4898692
A17: CASTELLON | B17: 410019 | C17: 501262 | D17: 4636911 | E17: 5198982 | F17: =((E17*100)/D17)-100 -> 12.121669
A18: CEUTA | B18: 1500 | C18: 0 | D18: 25625 | E18: 22249 | F18: =((E18*100)/D18)-100 -> -13.174634
... A34: VILAGARCIA | B34: 62574.36 | C34: 57030.16 | D34: 403439.36 | E34: 320553.16 | F34: =((E34*100)/D34)-100 -> -20.544897
A35: Total | B35: =SUM(B7:B34) -> 8672351.8 | C35: =SUM(C7:C34) -> 8341804.8 | D35: =SUM(D7:D34) -> 95972002 | E35: =SUM(E7:E34) -> 91993448 | F35: =((E35*100)/D35)-100 -> -4.145536
B37: =E6 -> 2016 | C37: =D6 -> 2015 | F37: =B37 -> 2016 | G37: =C37 -> 2015
A38: =A7 -> A CORUÑA | B38: =E7 -> 4345101 | C38: =D7 -> 4912338 | D38: =_xlfn.RANK.EQ(B38,$B$38:$B$65)+COUNTIF($B$38:$B$65,B38)-1 -> 10 | E38: =INDEX($A$38:$B$65,MATCH(ROW()-37,$D$38:$D$65,0),1) -> GIJON | F38: =LOOKUP(E38,$A$38:$A$65,$B$38:$B$65) -> 16023647 | G38: =LOOKUP(E38,$A$38:$A$65,$C$38:$C$65) -> 18905283
A39: =A8 -> ALICANTE | B39: =E8 -> 1904456.3 | C39: =D8 -> 1244009 | D39: =_xlfn.RANK.EQ(B39,$B$38:$B$65)+COUNTIF($B$38:$B$65,B39)-1 -> 15 | E39: =INDEX($A$38:$B$65,MATCH(ROW()-37,$D$38:$D$65,0),1) -> FERROL-SAN CIBRAO | F39: =LOOKUP(E39,$A$38:$A$65,$B$38:$B$65) -> 9406039 | G39: =LOOKUP(E39,$A$38:$A$65,$C$38:$C$65) -> 9839879
A40: =A9 -> ALMERIA | B40: =E9 -> 4695167 | C40: =D9 -> 5762813 | D40: =_xlfn.RANK.EQ(B40,$B$38:$B$65)+COUNTIF($B$38:$B$65,B40)-1 -> 7 | E40: =INDEX($A$38:$B$65,MATCH(ROW()-37,$D$38:$D$65,0),1) -> TARRAGONA | F40: =LOOKUP(E40,$A$38:$A$65,$B$38:$B$65) -> 9065474 | G40: =LOOKUP(E40,$A$38:$A$65,$C$38:$C$65) -> 8391029
A41: =A10 -> AVILES | B41: =E10 -> 2920900.5 | C41: =D10 -> 3260161.1 | D41: =_xlfn.RANK.EQ(B41,$B$38:$B$65)+COUNTIF($B$38:$B$65,B41)-1 -> 11 | E41: =INDEX($A$38:$B$65,MATCH(ROW()-37,$D$38:$D$65,0),1) -> HUELVA | F41: =LOOKUP(E41,$A$38:$A$65,$B$38:$B$65) -> 5759382.8 | G41: =LOOKUP(E41,$A$38:$A$65,$C$38:$C$65) -> 5137350.4
A42: =A11 -> BAHIA DE ALGECIRAS | B42: =E11 -> 1778840 | C42: =D11 -> 2130519 | D42: =_xlfn.RANK.EQ(B42,$B$38:$B$65)+COUNTIF($B$38:$B$65,B42)-1 -> 16 | E42: =INDEX($A$38:$B$65,MATCH(ROW()-37,$D$38:$D$65,0),1) -> CARTAGENA | F42: =LOOKUP(E42,$A$38:$A$65,$B$38:$B$65) -> 5304817 | G42: =LOOKUP(E42,$A$38:$A$65,$C$38:$C$65) -> 5554193
A43: =A12 -> BAHIA DE CADIZ | B43: =E12 -> 1763516 | C43: =D12 -> 1623696 | D43: =_xlfn.RANK.EQ(B43,$B$38:$B$65)+COUNTIF($B$38:$B$65,B43)-1 -> 17 | E43: =INDEX($A$38:$B$65,MATCH(ROW()-37,$D$38:$D$65,0),1) -> CASTELLON | F43: =LOOKUP(E43,$A$38:$A$65,$B$38:$B$65) -> 5198982 | G43: =LOOKUP(E43,$A$38:$A$65,$C$38:$C$65) -> 4636911
A44: =A13 -> BALEARES | B44: =E13 -> 1550899 | C44: =D13 -> 1215735 | D44: =_xlfn.RANK.EQ(B44,$B$38:$B$65)+COUNTIF($B$38:$B$65,B44)-1 -> 19 | E44: =INDEX($A$38:$B$65,MATCH(ROW()-37,$D$38:$D$65,0),1) -> ALMERIA | F44: =LOOKUP(E44,$A$38:$A$65,$B$38:$B$65) -> 4695167 | G44: =LOOKUP(E44,$A$38:$A$65,$C$38:$C$65) -> 5762813
A45: =A14 -> BARCELONA | B45: =E14 -> 4430798 | C45: =D14 -> 4426087 | D45: =_xlfn.RANK.EQ(B45,$B$38:$B$65)+COUNTIF($B$38:$B$65,B45)-1 -> 8 | E45: =INDEX($A$38:$B$65,MATCH(ROW()-37,$D$38:$D$65,0),1) -> BARCELONA | F45: =LOOKUP(E45,$A$38:$A$65,$B$38:$B$65) -> 4430798 | G45: =LOOKUP(E45,$A$38:$A$65,$C$38:$C$65) -> 4426087
A46: =A15 -> BILBAO | B46: =E15 -> 4362064 | C46: =D15 -> 4528219 | D46: =_xlfn.RANK.EQ(B46,$B$38:$B$65)+COUNTIF($B$38:$B$65,B46)-1 -> 9 | E46: =INDEX($A$38:$B$65,MATCH(ROW()-37,$D$38:$D$65,0),1) -> BILBAO | F46: =LOOKUP(E46,$A$38:$A$65,$B$38:$B$65) -> 4362064 | G46: =LOOKUP(E46,$A$38:$A$65,$C$38:$C$65) -> 4528219
A47: =A16 -> CARTAGENA | B47: =E16 -> 5304817 | C47: =D16 -> 5554193 | D47: =_xlfn.RANK.EQ(B47,$B$38:$B$65)+COUNTIF($B$38:$B$65,B47)-1 -> 5 | E47: =INDEX($A$38:$B$65,MATCH(ROW()-37,$D$38:$D$65,0),1) -> A CORUÑA | F47: =LOOKUP(E47,$A$38:$A$65,$B$38:$B$65) -> 4345101 | G47: =LOOKUP(E47,$A$38:$A$65,$C$38:$C$65) -> 4912338
A48: =A17 -> CASTELLON | B48: =E17 -> 5198982 | C48: =D17 -> 4636911 | D48: =_xlfn.RANK.EQ(B48,$B$38:$B$65)+COUNTIF($B$38:$B$65,B48)-1 -> 6 | E48: =INDEX($A$38:$B$65,MATCH(ROW()-37,$D$38:$D$65,0),1) -> AVILES | F48: =LOOKUP(E48,$A$38:$A$65,$B$38:$B$65) -> 2920900.5 | G48: =LOOKUP(E48,$A$38:$A$65,$C$38:$C$65) -> 3260161.1
A49: =A18 -> CEUTA | B49: =E18 -> 22249 | C49: =D18 -> 25625 | D49: =_xlfn.RANK.EQ(B49,$B$38:$B$65)+COUNTIF($B$38:$B$65,B49)-1 -> 27 | E49: =INDEX($A$38:$B$65,MATCH(ROW()-37,$D$38:$D$65,0),1) -> SANTANDER | F49: =LOOKUP(E49,$A$38:$A$65,$B$38:$B$65) -> 2823113 | G49: =LOOKUP(E49,$A$38:$A$65,$C$38:$C$65) -> 3518578
... A65: =A34 -> VILAGARCIA | B65: =E34 -> 320553.16 | C65: =D34 -> 403439.36 | D65: =_xlfn.RANK.EQ(B65,$B$38:$B$65)+COUNTIF($B$38:$B$65,B65)-1 -> 25 | E65: =INDEX($A$38:$B$65,MATCH(ROW()-37,$D$38:$D$65,0),1) -> MELILLA | F65: =LOOKUP(E65,$A$38:$A$65,$B$38:$B$65) -> 5825 | G65: =LOOKUP(E65,$A$38:$A$65,$C$38:$C$65) -> 3425

Sheet Mercancía general
F1: 4. MERCANCÍA GENERAL (Toneladas)
A5: Autoridad Portuaria | B5: ='Resumen general'!D6 -> Mes Diciembre | D5: ='Resumen general'!F6 -> Acumulado desde Enero | L5: ='Resumen general'!I4 -> Fecha: 05/02/2018
B6: ='Resumen general'!D7 -> 2015 | C6: ='Resumen general'!E7 -> 2016 | D6: ='Resumen general'!F7 -> 2015 | E6: ='Resumen general'!G7 -> 2016 | F6: Var. (%)
A7: A CORUÑA | B7: 91935 | C7: 81486 | D7: 938311 | E7: 1012375 | F7: =((E7*100)/D7)-100 -> 7.8933317
A8: ALICANTE | B8: 107025 | C8: 137869.13 | D8: 1286046.2 | E8: 1494788.1 | F8: =((E8*100)/D8)-100 -> 16.231292
A9: ALMERIA | B9: 53940 | C9: 59514 | D9: 604805 | E9: 666391 | F9: =((E9*100)/D9)-100 -> 10.182786
A10: AVILES | B10: 69345 | C10: 204203.78 | D10: 1217839.3 | E10: 1363057.8 | F10: =((E10*100)/D10)-100 -> 11.924272
A11: BAHIA DE ALGECIRAS | B11: 5496965 | C11: 5453868 | D11: 62474996 | E11: 67772961 | F11: =((E11*100)/D11)-100 -> 8.4801366
A12: BAHIA DE CADIZ | B12: 119535 | C12: 107368 | D12: 1328185 | E12: 1329300 | F12: =((E12*100)/D12)-100 -> 0.083949149
A13: BALEARES | B13: 757663 | C13: 782140 | D13: 10577093 | E13: 11583653 | F13: =((E13*100)/D13)-100 -> 9.5164144
A14: BARCELONA | B14: 2449087 | C14: 2525566 | D14: 29439846 | E14: 31666349 | F14: =((E14*100)/D14)-100 -> 7.5628894
A15: BILBAO | B15: 916579 | C15: 1090646 | D15: 9671797 | E15: 9499477 | F15: =((E15*100)/D15)-100 -> -1.7816751
A16: CARTAGENA | B16: 111349 | C16: 85953 | D16: 1283558 | E16: 1394137 | F16: =((E16*100)/D16)-100 -> 8.6150373
A17: CASTELLON | B17: 259729 | C17: 306805 | D17: 3153682 | E17: 3489164 | F17: =((E17*100)/D17)-100 -> 10.637788
A18: CEUTA | B18: 84691 | C18: 87837 | D18: 996852 | E18: 1036230 | F18: =((E18*100)/D18)-100 -> 3.9502353
... A34: VILAGARCIA | B34: 38555 | C34: 44297.61 | D34: 526608.74 | E34: 601068.61 | F34: =((E34*100)/D34)-100 -> 14.139505
A35: Total | B35: =SUM(B7:B34) -> 18622622 | C35: =SUM(C7:C34) -> 19612269 | D35: =SUM(D7:D34) -> 2.2440507e+08 | E35: =SUM(E7:E34) -> 2.3603122e+08 | F35: =((E35*100)/D35)-100 -> 5.180876
B37: =E6 -> 2016 | C37: =D6 -> 2015 | F37: =B37 -> 2016 | G37: =C37 -> 2015
A38: =A7 -> A CORUÑA | B38: =E7 -> 1012375 | C38: =D7 -> 938311 | D38: =_xlfn.RANK.EQ(B38,$B$38:$B$65)+COUNTIF($B$38:$B$65,B38)-1 -> 22 | E38: =INDEX($A$38:$B$65,MATCH(ROW()-37,$D$38:$D$65,0),1) -> BAHIA DE ALGECIRAS | F38: =LOOKUP(E38,$A$38:$A$65,$B$38:$B$65) -> 67772961 | G38: =LOOKUP(E38,$A$38:$A$65,$C$38:$C$65) -> 62474996
A39: =A8 -> ALICANTE | B39: =E8 -> 1494788.1 | C39: =D8 -> 1286046.2 | D39: =_xlfn.RANK.EQ(B39,$B$38:$B$65)+COUNTIF($B$38:$B$65,B39)-1 -> 15 | E39: =INDEX($A$38:$B$65,MATCH(ROW()-37,$D$38:$D$65,0),1) -> VALENCIA | F39: =LOOKUP(E39,$A$38:$A$65,$B$38:$B$65) -> 64660896 | G39: =LOOKUP(E39,$A$38:$A$65,$C$38:$C$65) -> 63102097
A40: =A9 -> ALMERIA | B40: =E9 -> 666391 | C40: =D9 -> 604805 | D40: =_xlfn.RANK.EQ(B40,$B$38:$B$65)+COUNTIF($B$38:$B$65,B40)-1 -> 25 | E40: =INDEX($A$38:$B$65,MATCH(ROW()-37,$D$38:$D$65,0),1) -> BARCELONA | F40: =LOOKUP(E40,$A$38:$A$65,$B$38:$B$65) -> 31666349 | G40: =LOOKUP(E40,$A$38:$A$65,$C$38:$C$65) -> 29439846
A41: =A10 -> AVILES | B41: =E10 -> 1363057.8 | C41: =D10 -> 1217839.3 | D41: =_xlfn.RANK.EQ(B41,$B$38:$B$65)+COUNTIF($B$38:$B$65,B41)-1 -> 17 | E41: =INDEX($A$38:$B$65,MATCH(ROW()-37,$D$38:$D$65,0),1) -> LAS PALMAS | F41: =LOOKUP(E41,$A$38:$A$65,$B$38:$B$65) -> 13538658 | G41: =LOOKUP(E41,$A$38:$A$65,$C$38:$C$65) -> 14111552
A42: =A11 -> BAHIA DE ALGECIRAS | B42: =E11 -> 67772961 | C42: =D11 -> 62474996 | D42: =_xlfn.RANK.EQ(B42,$B$38:$B$65)+COUNTIF($B$38:$B$65,B42)-1 -> 1 | E42: =INDEX($A$38:$B$65,MATCH(ROW()-37,$D$38:$D$65,0),1) -> BALEARES | F42: =LOOKUP(E42,$A$38:$A$65,$B$38:$B$65) -> 11583653 | G42: =LOOKUP(E42,$A$38:$A$65,$C$38:$C$65) -> 10577093
A43: =A12 -> BAHIA DE CADIZ | B43: =E12 -> 1329300 | C43: =D12 -> 1328185 | D43: =_xlfn.RANK.EQ(B43,$B$38:$B$65)+COUNTIF($B$38:$B$65,B43)-1 -> 18 | E43: =INDEX($A$38:$B$65,MATCH(ROW()-37,$D$38:$D$65,0),1) -> BILBAO | F43: =LOOKUP(E43,$A$38:$A$65,$B$38:$B$65) -> 9499477 | G43: =LOOKUP(E43,$A$38:$A$65,$C$38:$C$65) -> 9671797
A44: =A13 -> BALEARES | B44: =E13 -> 11583653 | C44: =D13 -> 10577093 | D44: =_xlfn.RANK.EQ(B44,$B$38:$B$65)+COUNTIF($B$38:$B$65,B44)-1 -> 5 | E44: =INDEX($A$38:$B$65,MATCH(ROW()-37,$D$38:$D$65,0),1) -> SANTA CRUZ DE TENERIFE | F44: =LOOKUP(E44,$A$38:$A$65,$B$38:$B$65) -> 6385031 | G44: =LOOKUP(E44,$A$38:$A$65,$C$38:$C$65) -> 5901512
A45: =A14 -> BARCELONA | B45: =E14 -> 31666349 | C45: =D14 -> 29439846 | D45: =_xlfn.RANK.EQ(B45,$B$38:$B$65)+COUNTIF($B$38:$B$65,B45)-1 -> 3 | E45: =INDEX($A$38:$B$65,MATCH(ROW()-37,$D$38:$D$65,0),1) -> VIGO | F45: =LOOKUP(E45,$A$38:$A$65,$B$38:$B$65) -> 3566241 | G45: =LOOKUP(E45,$A$38:$A$65,$C$38:$C$65) -> 3679943
A46: =A15 -> BILBAO | B46: =E15 -> 9499477 | C46: =D15 -> 9671797 | D46: =_xlfn.RANK.EQ(B46,$B$38:$B$65)+COUNTIF($B$38:$B$65,B46)-1 -> 6 | E46: =INDEX($A$38:$B$65,MATCH(ROW()-37,$D$38:$D$65,0),1) -> CASTELLON | F46: =LOOKUP(E46,$A$38:$A$65,$B$38:$B$65) -> 3489164 | G46: =LOOKUP(E46,$A$38:$A$65,$C$38:$C$65) -> 3153682
A47: =A16 -> CARTAGENA | B47: =E16 -> 1394137 | C47: =D16 -> 1283558 | D47: =_xlfn.RANK.EQ(B47,$B$38:$B$65)+COUNTIF($B$38:$B$65,B47)-1 -> 16 | E47: =INDEX($A$38:$B$65,MATCH(ROW()-37,$D$38:$D$65,0),1) -> SEVILLA | F47: =LOOKUP(E47,$A$38:$A$65,$B$38:$B$65) -> 2310497 | G47: =LOOKUP(E47,$A$38:$A$65,$C$38:$C$65) -> 2309007
A48: =A17 -> CASTELLON | B48: =E17 -> 3489164 | C48: =D17 -> 3153682 | D48: =_xlfn.RANK.EQ(B48,$B$38:$B$65)+COUNTIF($B$38:$B$65,B48)-1 -> 9 | E48: =INDEX($A$38:$B$65,MATCH(ROW()-37,$D$38:$D$65,0),1) -> PASAIA | F48: =LOOKUP(E48,$A$38:$A$65,$B$38:$B$65) -> 2294657 | G48: =LOOKUP(E48,$A$38:$A$65,$C$38:$C$65) -> 2044245
A49: =A18 -> CEUTA | B49: =E18 -> 1036230 | C49: =D18 -> 996852 | D49: =_xlfn.RANK.EQ(B49,$B$38:$B$65)+COUNTIF($B$38:$B$65,B49)-1 -> 21 | E49: =INDEX($A$38:$B$65,MATCH(ROW()-37,$D$38:$D$65,0),1) -> TARRAGONA | F49: =LOOKUP(E49,$A$38:$A$65,$B$38:$B$65) -> 1994525 | G49: =LOOKUP(E49,$A$38:$A$65,$C$38:$C$65) -> 2237437
... A65: =A34 -> VILAGARCIA | B65: =E34 -> 601068.61 | C65: =D34 -> 526608.74 | D65: =_xlfn.RANK.EQ(B65,$B$38:$B$65)+COUNTIF($B$38:$B$65,B65)-1 -> 26 | E65: =INDEX($A$38:$B$65,MATCH(ROW()-37,$D$38:$D$65,0),1) -> HUELVA | F65: =LOOKUP(E65,$A$38:$A$65,$B$38:$B$65) -> 485783.93 | G65: =LOOKUP(E65,$A$38:$A$65,$C$38:$C$65) -> 480024.16

Sheet Pesca
F1: 5. PESCA (Toneladas)
A5: Autoridad Portuaria | B5: ='Resumen general'!D6 -> Mes Diciembre | D5: ='Resumen general'!F6 -> Acumulado desde Enero | L5: ='Resumen general'!I4 -> Fecha: 05/02/2018
B6: ='Resumen general'!D7 -> 2015 | C6: ='Resumen general'!E7 -> 2016 | D6: ='Resumen general'!F7 -> 2015 | E6: ='Resumen general'!G7 -> 2016 | F6: Var. (%)
A7: A CORUÑA | B7: 1481 | C7: 3399.2 | D7: 43739 | E7: 43690.2 | F7: =((E7*100)/D7)-100 -> -0.11157091
A8: ALICANTE | B8: 18 | C8: 26.37 | D8: 226.54 | E8: 254.37 | F8: =((E8*100)/D8)-100 -> 12.284806
A9: ALMERIA | B9: 222 | C9: 76 | D9: 2717 | E9: 1945 | F9: =((E9*100)/D9)-100 -> -28.413692
A10: AVILES | B10: 1057 | C10: 650.94 | D10: 16673.35 | E10: 12556.94 | F10: =((E10*100)/D10)-100 -> -24.68856
A11: BAHIA DE ALGECIRAS | B11: 34 | C11: 53 | D11: 1102 | E11: 868 | F11: =((E11*100)/D11)-100 -> -21.23412
A12: BAHIA DE CADIZ | B12: 977 | C12: 927.2 | D12: 12926 | E12: 17333.2 | F12: =((E12*100)/D12)-100 -> 34.095621
A13: BALEARES | B13: 886 | C13: 221.4 | D13: 3057 | E13: 2990.4 | F13: =((E13*100)/D13)-100 -> -2.1786065
A14: BARCELONA | B14: 62 | C14: 10 | D14: 3378 | E14: 3314 | F14: =((E14*100)/D14)-100 -> -1.8946122
A15: BILBAO | B15: 0 | C15: 0 | D15: 0 | E15: 0
A16: CARTAGENA | B16: 30 | C16: 33 | D16: 598 | E16: 510 | F16: =((E16*100)/D16)-100 -> -14.715719
A17: CASTELLON | B17: 130 | C17: 151 | D17: 4138 | E17: 4731 | F17: =((E17*100)/D17)-100 -> 14.330594
A18: CEUTA | B18: 40 | C18: 34 | D18: 47.82 | E18: 34 | F18: =((E18*100)/D18)-100 -> -28.900042
A19: FERROL-SAN CIBRAO | B19: 32 | C19: 29.99 | D19: 268 | E19: 266.99 | F19: =((E19*100)/D19)-100 -> -0.37686567
A20: GIJON | B20: 1807 | C20: 309.2 | D20: 6781 | E20: 8284.2 | F20: =((E20*100)/D20)-100 -> 22.167822
A21: HUELVA | B21: 185 | C21: 162.59 | D21: 2293.95 | E21: 2031.59 | F21: =((E21*100)/D21)-100 -> -11.437041
A22: LAS PALMAS | B22: 93 | C22: 29 | D22: 1785 | E22: 1841 | F22: =((E22*100)/D22)-100 -> 3.1372549
A23: MALAGA | B23: 132 | C23: 6.54 | D23: 619.36 | E23: 638.54 | F23: =((E23*100)/D23)-100 -> 3.096745
A24: MARIN Y RIA DE PONTEVEDRA | B24: 144 | C24: 166.32 | D24: 1796.07 | E24: 2046.32 | F24: =((E24*100)/D24)-100 -> 13.933199
A25: MELILLA | B25: 0 | C25: 0 | D25: 0 | E25: 0
A26: MOTRIL | B26: 109 | C26: 50 | D26: 1325 | E26: 963 | F26: =((E26*100)/D26)-100 -> -27.320755
A27: PASAIA | B27: 2225 | C27: 2700.2 | D27: 23216 | E27: 27551.2 | F27: =((E27*100)/D27)-100 -> 18.673329
A28: SANTA CRUZ DE TENERIFE | B28: 296 | C28: 174 | D28: 5469 | E28: 7661 | F28: =((E28*100)/D28)-100 -> 40.080453
A29: SANTANDER | B29: 201 | C29: 210 | D29: 4215 | E29: 3577 | F29: =((E29*100)/D29)-100 -> -15.136418
A30: SEVILLA | B30: 0 | C30: 0 | D30: 0 | E30: 0
A31: TARRAGONA | B31: 392 | C31: 426.161 | D31: 4005 | E31: 4489.161 | F31: =((E31*100)/D31)-100 -> 12.088914
A32: VALENCIA | B32: 97 | C32: 103 | D32: 1891 | E32: 1991 | F32: =((E32*100)/D32)-100 -> 5.2882073
A33: VIGO | B33: 10340 | C33: 11267.3 | D33: 77863 | E33: 83366.3 | F33: =((E33*100)/D33)-100 -> 7.067927
A34: VILAGARCIA | B34: 0 | C34: 0 | D34: 0 | E34: 0
A35: Total | B35: =SUM(B7:B34) -> 20990 | C35: =SUM(C7:C34) -> 21216.411 | D35: =SUM(D7:D34) -> 220130.09 | E35: =SUM(E7:E34) -> 232934.41 | F35: =((E35*100)/D35)-100 -> 5.8167064
B37: =E6 -> 2016 | C37: =D6 -> 2015 | F37: =B37 -> 2016 | G37: =C37 -> 2015
A38: =A7 -> A CORUÑA | B38: =E7 -> 43690.2 | C38: =D7 -> 43739 | D38: =_xlfn.RANK.EQ(B38,$B$38:$B$65)+COUNTIF($B$38:$B$65,B38)-1 -> 2 | E38: =INDEX($A$38:$B$65,MATCH(ROW()-37,$D$38:$D$65,0),1) -> VIGO | F38: =LOOKUP(E38,$A$38:$A$65,$B$38:$B$65) -> 83366.3 | G38: =LOOKUP(E38,$A$38:$A$65,$C$38:$C$65) -> 77863
A39: =A8 -> ALICANTE | B39: =E8 -> 254.37 | C39: =D8 -> 226.54 | D39: =_xlfn.RANK.EQ(B39,$B$38:$B$65)+COUNTIF($B$38:$B$65,B39)-1 -> 23 | E39: =INDEX($A$38:$B$65,MATCH(ROW()-37,$D$38:$D$65,0),1) -> A CORUÑA | F39: =LOOKUP(E39,$A$38:$A$65,$B$38:$B$65) -> 43690.2 | G39: =LOOKUP(E39,$A$38:$A$65,$C$38:$C$65) -> 43739
A40: =A9 -> ALMERIA | B40: =E9 -> 1945 | C40: =D9 -> 2717 | D40: =_xlfn.RANK.EQ(B40,$B$38:$B$65)+COUNTIF($B$38:$B$65,B40)-1 -> 16 | E40: =INDEX($A$38:$B$65,MATCH(ROW()-37,$D$38:$D$65,0),1) -> PASAIA | F40: =LOOKUP(E40,$A$38:$A$65,$B$38:$B$65) -> 27551.2 | G40: =LOOKUP(E40,$A$38:$A$65,$C$38:$C$65) -> 23216
A41: =A10 -> AVILES | B41: =E10 -> 12556.94 | C41: =D10 -> 16673.35 | D41: =_xlfn.RANK.EQ(B41,$B$38:$B$65)+COUNTIF($B$38:$B$65,B41)-1 -> 5 | E41: =INDEX($A$38:$B$65,MATCH(ROW()-37,$D$38:$D$65,0),1) -> BAHIA DE CADIZ | F41: =LOOKUP(E41,$A$38:$A$65,$B$38:$B$65) -> 17333.2 | G41: =LOOKUP(E41,$A$38:$A$65,$C$38:$C$65) -> 12926
A42: =A11 -> BAHIA DE ALGECIRAS | B42: =E11 -> 868 | C42: =D11 -> 1102 | D42: =_xlfn.RANK.EQ(B42,$B$38:$B$65)+COUNTIF($B$38:$B$65,B42)-1 -> 19 | E42: =INDEX($A$38:$B$65,MATCH(ROW()-37,$D$38:$D$65,0),1) -> AVILES | F42: =LOOKUP(E42,$A$38:$A$65,$B$38:$B$65) -> 12556.94 | G42: =LOOKUP(E42,$A$38:$A$65,$C$38:$C$65) -> 16673.35
A43: =A12 -> BAHIA DE CADIZ | B43: =E12 -> 17333.2 | C43: =D12 -> 12926 | D43: =_xlfn.RANK.EQ(B43,$B$38:$B$65)+COUNTIF($B$38:$B$65,B43)-1 -> 4 | E43: =INDEX($A$38:$B$65,MATCH(ROW()-37,$D$38:$D$65,0),1) -> GIJON | F43: =LOOKUP(E43,$A$38:$A$65,$B$38:$B$65) -> 8284.2 | G43: =LOOKUP(E43,$A$38:$A$65,$C$38:$C$65) -> 6781
A44: =A13 -> BALEARES | B44: =E13 -> 2990.4 | C44: =D13 -> 3057 | D44: =_xlfn.RANK.EQ(B44,$B$38:$B$65)+COUNTIF($B$38:$B$65,B44)-1 -> 12 | E44: =INDEX($A$38:$B$65,MATCH(ROW()-37,$D$38:$D$65,0),1) -> SANTA CRUZ DE TENERIFE | F44: =LOOKUP(E44,$A$38:$A$65,$B$38:$B$65) -> 7661 | G44: =LOOKUP(E44,$A$38:$A$65,$C$38:$C$65) -> 5469
...

Sheet Avituallamiento
F1: 6. AVITUALLAMIENTO (Toneladas)
A5: Autoridad Portuaria | B5: ='Resumen general'!D6 -> Mes Diciembre | D5: ='Resumen general'!F6 -> Acumulado desde Enero | L5: ='Resumen general'!I4 -> Fecha: 05/02/2018
B6: ='Resumen general'!D7 -> 2015 | C6: ='Resumen general'!E7 -> 2016 | D6: ='Resumen general'!F7 -> 2015 | E6: ='Resumen general'!G7 -> 2016 | F6: Var. (%)
A7: A CORUÑA | B7: 28851 | C7: 37192.4 | D7: 73466 | E7: 71417.4 | F7: =((E7*100)/D7)-100 -> -2.7885008
A8: ALICANTE | B8: 2233 | C8: 1399.4 | D8: 29832 | E8: 28728.4 | F8: =((E8*100)/D8)-100 -> -3.6993832
A9: ALMERIA | B9: 5450 | C9: 5295.4 | D9: 71750 | E9: 75340.4 | F9: =((E9*100)/D9)-100 -> 5.0040418
A10: AVILES | B10: 28469 | C10: 29772 | D10: 48094 | E10: 49777 | F10: =((E10*100)/D10)-100 -> 3.499397
A11: BAHIA DE ALGECIRAS | B11: 282213 | C11: 240453.4 | D11: 3340394 | E11: 3301452 | F11: =((E11*100)/D11)-100 -> -1.1657906
A12: BAHIA DE CADIZ | B12: 8744 | C12: 7590 | D12: 149547 | E12: 145060 | F12: =((E12*100)/D12)-100 -> -3.0003945
A13: BALEARES | B13: 10699 | C13: 6947.4 | D13: 205456 | E13: 247545 | F13: =((E13*100)/D13)-100 -> 20.485651
A14: BARCELONA | B14: 64122 | C14: 55307.8 | D14: 1125112 | E14: 1136724.8 | F14: =((E14*100)/D14)-100 -> 1.0321461
A15: BILBAO | B15: 8996 | C15: 10134.9 | D15: 115903 | E15: 109403.9 | F15: =((E15*100)/D15)-100 -> -5.6073613
A16: CARTAGENA | B16: 9955 | C16: 11338.9 | D16: 90932 | E16: 155392.9 | F16: =((E16*100)/D16)-100 -> 70.889126
A17: CASTELLON | B17: 1562 | C17: 2480 | D17: 25282 | E17: 29178 | F17: =((E17*100)/D17)-100 -> 15.410173
A18: CEUTA | B18: 53305 | C18: 40241.9 | D18: 460680 | E18: 544155.9 | F18: =((E18*100)/D18)-100 -> 18.120148
... A34: VILAGARCIA | B34: 580 | C34: 660 | D34: 4810 | E34: 6213.2 | F34: =((E34*100)/D34)-100 -> 29.172557
A35: Total | B35: =SUM(B7:B34) -> 954579 | C35: =SUM(C7:C34) -> 928076.8 | D35: =SUM(D7:D34) -> 10182471 | E35: =SUM(E7:E34) -> 10323638 | F35: =((E35*100)/D35)-100 -> 1.3863678
B37: =E6 -> 2016 | C37: =D6 -> 2015 | F37: =B37 -> 2016 | G37: =C37 -> 2015
A38: =A7 -> A CORUÑA | B38: =E7 -> 71417.4 | C38: =D7 -> 73466 | D38: =_xlfn.RANK.EQ(B38,$B$38:$B$65)+COUNTIF($B$38:$B$65,B38)-1 -> 15 | E38: =INDEX($A$38:$B$65,MATCH(ROW()-37,$D$38:$D$65,0),1) -> BAHIA DE ALGECIRAS | F38: =LOOKUP(E38,$A$38:$A$65,$B$38:$B$65) -> 3301452 | G38: =LOOKUP(E38,$A$38:$A$65,$C$38:$C$65) -> 3340394
A39: =A8 -> ALICANTE | B39: =E8 -> 28728.4 | C39: =D8 -> 29832 | D39: =_xlfn.RANK.EQ(B39,$B$38:$B$65)+COUNTIF($B$38:$B$65,B39)-1 -> 23 | E39: =INDEX($A$38:$B$65,MATCH(ROW()-37,$D$38:$D$65,0),1) -> LAS PALMAS | F39: =LOOKUP(E39,$A$38:$A$65,$B$38:$B$65) -> 2607283 | G39: =LOOKUP(E39,$A$38:$A$65,$C$38:$C$65) -> 2596612
A40: =A9 -> ALMERIA | B40: =E9 -> 75340.4 | C40: =D9 -> 71750 | D40: =_xlfn.RANK.EQ(B40,$B$38:$B$65)+COUNTIF($B$38:$B$65,B40)-1 -> 14 | E40: =INDEX($A$38:$B$65,MATCH(ROW()-37,$D$38:$D$65,0),1) -> BARCELONA | F40: =LOOKUP(E40,$A$38:$A$65,$B$38:$B$65) -> 1136724.8 | G40: =LOOKUP(E40,$A$38:$A$65,$C$38:$C$65) -> 1125112
A41: =A10 -> AVILES | B41: =E10 -> 49777 | C41: =D10 -> 48094 | D41: =_xlfn.RANK.EQ(B41,$B$38:$B$65)+COUNTIF($B$38:$B$65,B41)-1 -> 18 | E41: =INDEX($A$38:$B$65,MATCH(ROW()-37,$D$38:$D$65,0),1) -> SANTA CRUZ DE TENERIFE | F41: =LOOKUP(E41,$A$38:$A$65,$B$38:$B$65) -> 646236 | G41: =LOOKUP(E41,$A$38:$A$65,$C$38:$C$65) -> 569417
A42: =A11 -> BAHIA DE ALGECIRAS | B42: =E11 -> 3301452 | C42: =D11 -> 3340394 | D42: =_xlfn.RANK.EQ(B42,$B$38:$B$65)+COUNTIF($B$38:$B$65,B42)-1 -> 1 | E42: =INDEX($A$38:$B$65,MATCH(ROW()-37,$D$38:$D$65,0),1) -> CEUTA | F42: =LOOKUP(E42,$A$38:$A$65,$B$38:$B$65) -> 544155.9 | G42: =LOOKUP(E42,$A$38:$A$65,$C$38:$C$65) -> 460680
A43: =A12 -> BAHIA DE CADIZ | B43: =E12 -> 145060 | C43: =D12 -> 149547 | D43: =_xlfn.RANK.EQ(B43,$B$38:$B$65)+COUNTIF($B$38:$B$65,B43)-1 -> 10 | E43: =INDEX($A$38:$B$65,MATCH(ROW()-37,$D$38:$D$65,0),1) -> VALENCIA | F43: =LOOKUP(E43,$A$38:$A$65,$B$38:$B$65) -> 472281 | G43: =LOOKUP(E43,$A$38:$A$65,$C$38:$C$65) -> 480750
A44: =A13 -> BALEARES | B44: =E13 -> 247545 | C44: =D13 -> 205456 | D44: =_xlfn.RANK.EQ(B44,$B$38:$B$65)+COUNTIF($B$38:$B$65,B44)-1 -> 7 | E44: =INDEX($A$38:$B$65,MATCH(ROW()-37,$D$38:$D$65,0),1) -> BALEARES | F44: =LOOKUP(E44,$A$38:$A$65,$B$38:$B$65) -> 247545 | G44: =LOOKUP(E44,$A$38:$A$65,$C$38:$C$65) -> 205456
A45: =A14 -> BARCELONA | B45: =E14 -> 1136724.8 | C45: =D14 -> 1125112 | D45: =_xlfn.RANK.EQ(B45,$B$38:$B$65)+COUNTIF($B$38:$B$65,B45)-1 -> 3 | E45: =INDEX($A$38:$B$65,MATCH(ROW()-37,$D$38:$D$65,0),1) -> VIGO | F45: =LOOKUP(E45,$A$38:$A$65,$B$38:$B$65) -> 175405.4 | G45: =LOOKUP(E45,$A$38:$A$65,$C$38:$C$65) -> 187771
A46: =A15 -> BILBAO | B46: =E15 -> 109403.9 | C46: =D15 -> 115903 | D46: =_xlfn.RANK.EQ(B46,$B$38:$B$65)+COUNTIF($B$38:$B$65,B46)-1 -> 12 | E46: =INDEX($A$38:$B$65,MATCH(ROW()-37,$D$38:$D$65,0),1) -> CARTAGENA | F46: =LOOKUP(E46,$A$38:$A$65,$B$38:$B$65) -> 155392.9 | G46: =LOOKUP(E46,$A$38:$A$65,$C$38:$C$65) -> 90932
A47: =A16 -> CARTAGENA | B47: =E16 -> 155392.9 | C47: =D16 -> 90932 | D47: =_xlfn.RANK.EQ(B47,$B$38:$B$65)+COUNTIF($B$38:$B$65,B47)-1 -> 9 | E47: =INDEX($A$38:$B$65,MATCH(ROW()-37,$D$38:$D$65,0),1) -> BAHIA DE CADIZ | F47: =LOOKUP(E47,$A$38:$A$65,$B$38:$B$65) -> 145060 | G47: =LOOKUP(E47,$A$38:$A$65,$C$38:$C$65) -> 149547
A48: =A17 -> CASTELLON | B48: =E17 -> 29178 | C48: =D17 -> 25282 | D48: =_xlfn.RANK.EQ(B48,$B$38:$B$65)+COUNTIF($B$38:$B$65,B48)-1 -> 22 | E48: =INDEX($A$38:$B$65,MATCH(ROW()-37,$D$38:$D$65,0),1) -> HUELVA | F48: =LOOKUP(E48,$A$38:$A$65,$B$38:$B$65) -> 142844 | G48: =LOOKUP(E48,$A$38:$A$65,$C$38:$C$65) -> 140844
A49: =A18 -> CEUTA | B49: =E18 -> 544155.9 | C49: =D18 -> 460680 | D49: =_xlfn.RANK.EQ(B49,$B$38:$B$65)+COUNTIF($B$38:$B$65,B49)-1 -> 5 | E49: =INDEX($A$38:$B$65,MATCH(ROW()-37,$D$38:$D$65,0),1) -> BILBAO | F49: =LOOKUP(E49,$A$38:$A$65,$B$38:$B$65) -> 109403.9 | G49: =LOOKUP(E49,$A$38:$A$65,$C$38:$C$65) -> 115903
... A65: =A34 -> VILAGARCIA | B65: =E34 -> 6213.2 | C65: =D34 -> 4810 | D65: =_xlfn.RANK.EQ(B65,$B$38:$B$65)+COUNTIF($B$38:$B$65,B65)-1 -> 28 | E65: =INDEX($A$38:$B$65,MATCH(ROW()-37,$D$38:$D$65,0),1) -> VILAGARCIA | F65: =LOOKUP(E65,$A$38:$A$65,$B$38:$B$65) -> 6213.2 | G65: =LOOKUP(E65,$A$38:$A$65,$C$38:$C$65) -> 4810

Sheet Mercancías tránsito
F1: 7. MERCANCÍAS EN TRÁNSITO (Toneladas)
A5: Autoridad Portuaria | B5: ='Resumen general'!D6 -> Mes Diciembre | D5: ='Resumen general'!F6 -> Acumulado desde Enero | L5: ='Resumen general'!I4 -> Fecha: 05/02/2018
B6: ='Resumen general'!D7 -> 2015 | C6: ='Resumen general'!E7 -> 2016 | D6: ='Resumen general'!F7 -> 2015 | E6: ='Resumen general'!G7 -> 2016 | F6: Var. (%)
A7: A CORUÑA | B7: 0 | C7: 0 | D7: 2500 | E7: 7521 | F7: =((E7*100)/D7)-100 -> 200.84
A8: ALICANTE | B8: 2830.56 | C8: 2747.59 | D8: 5526.56 | E8: 60776.59 | F8: =((E8*100)/D8)-100 -> 999.71827
A9: ALMERIA | B9: 0 | C9: 70 | D9: 0 | E9: 670
A10: AVILES | B10: 0 | C10: 0.22 | D10: 18826.64 | E10: 61246.22 | F10: =((E10*100)/D10)-100 -> 225.31679
A11: BAHIA DE ALGECIRAS | B11: 5310534 | C11: 5326549.3 | D11: 61928104 | E11: 66765930 | F11: =((E11*100)/D11)-100 -> 7.8120045
A12: BAHIA DE CADIZ | B12: 18663 | C12: 20564.3 | D12: 360303 | E12: 453621.3 | F12: =((E12*100)/D12)-100 -> 25.899951
A13: BALEARES | B13: 0 | C13: 0 | D13: 0 | E13: 340
A14: BARCELONA | B14: 606843 | C14: 785115 | D14: 7675451 | E14: 8450581.6 | F14: =((E14*100)/D14)-100 -> 10.098828
A15: BILBAO | B15: 5761 | C15: 35513 | D15: 30002 | E15: 97951.2 | F15: =((E15*100)/D15)-100 -> 226.48223
A16: CARTAGENA | B16: 10600 | C16: 0 | D16: 167190 | E16: 3820 | F16: =((E16*100)/D16)-100 -> -97.715174
A17: CASTELLON | B17: 5341 | C17: 77031.5 | D17: 108294 | E17: 445300.5 | F17: =((E17*100)/D17)-100 -> 311.19591
A18: CEUTA | B18: 0 | C18: 0 | D18: 0 | E18: 30576
A19: FERROL-SAN CIBRAO | B19: 1 | C19: 1.57 | D19: 3605 | E19: 315.57 | F19: =((E19*100)/D19)-100 -> -91.246325
A20: GIJON | B20: 42093 | C20: 16232.3 | D20: 282610 | E20: 189491.3 | F20: =((E20*100)/D20)-100 -> -32.949542
A21: HUELVA | B21: 74561.24 | C21: 209023.74 | D21: 1564880.2 | E21: 2438285.7 | F21: =((E21*100)/D21)-100 -> 55.812929
A22: LAS PALMAS | B22: 646229 | C22: 745588.8 | D22: 8956695 | E22: 7525652 | F22: =((E22*100)/D22)-100 -> -15.977355
A23: MALAGA | B23: 22896.46 | C23: 4659.65 | D23: 23582.46 | E23: 215297.65 | F23: =((E23*100)/D23)-100 -> 812.95671
A24: MARIN Y RIA DE PONTEVEDRA | B24: 331.7 | C24: 20528.28 | D24: 17750.7 | E24: 46672.28 | F24: =((E24*100)/D24)-100 -> 162.93205
A25: MELILLA | B25: 0 | C25: 0 | D25: 0 | E25: 0
A26: MOTRIL | B26: 0 | C26: 0 | D26: 5 | E26: 108 | F26: =((E26*100)/D26)-100 -> 2060
A27: PASAIA | B27: 414 | C27: 3781.5 | D27: 8042 | E27: 23864.5 | F27: =((E27*100)/D27)-100 -> 196.74832
A28: SANTA CRUZ DE TENERIFE | B28: 5115 | C28: 3232.3 | D28: 30693 | E28: 35643.3 | F28: =((E28*100)/D28)-100 -> 16.128433
A29: SANTANDER | B29: 693 | C29: 3231 | D29: 5903 | E29: 7825 | F29: =((E29*100)/D29)-100 -> 32.559715
A30: SEVILLA | B30: 0 | C30: 0 | D30: 0 | E30: 0
A31: TARRAGONA | B31: 253094 | C31: 236056 | D31: 5125517 | E31: 2678147 | F31: =((E31*100)/D31)-100 -> -47.748744
A32: VALENCIA | B32: 2581913 | C32: 2620547.3 | D32: 32084550 | E32: 32578524 | F32: =((E32*100)/D32)-100 -> 1.5396018
A33: VIGO | B33: 15056 | C33: 13872.3 | D33: 205368 | E33: 180510.3 | F33: =((E33*100)/D33)-100 -> -12.103979
A34: VILAGARCIA | B34: 99.83 | C34: 0 | D34: 198.83 | E34: 100.11 | F34: =((E34*100)/D34)-100 -> -49.650455
A35: Total | B35: =SUM(B7:B34) -> 9603069.8 | C35: =SUM(C7:C34) -> 10124346 | D35: =SUM(D7:D34) -> 1.186056e+08 | E35: =SUM(E7:E34) -> 1.2229877e+08 | F35: =((E35*100)/D35)-100 -> 3.113828
B37: =E6 -> 2016 | C37: =D6 -> 2015 | F37: =B37 -> 2016 | G37: =C37 -> 2015
A38: =A7 -> A CORUÑA | B38: =E7 -> 7521 | C38: =D7 -> 2500 | D38: =_xlfn.RANK.EQ(B38,$B$38:$B$65)+COUNTIF($B$38:$B$65,B38)-1 -> 20 | E38: =INDEX($A$38:$B$65,MATCH(ROW()-37,$D$38:$D$65,0),1) -> BAHIA DE ALGECIRAS | F38: =LOOKUP(E38,$A$38:$A$65,$B$38:$B$65) -> 66765930 | G38: =LOOKUP(E38,$A$38:$A$65,$C$38:$C$65) -> 61928104
A39: =A8 -> ALICANTE | B39: =E8 -> 60776.59 | C39: =D8 -> 5526.56 | D39: =_xlfn.RANK.EQ(B39,$B$38:$B$65)+COUNTIF($B$38:$B$65,B39)-1 -> 14 | E39: =INDEX($A$38:$B$65,MATCH(ROW()-37,$D$38:$D$65,0),1) -> VALENCIA | F39: =LOOKUP(E39,$A$38:$A$65,$B$38:$B$65) -> 32578524 | G39: =LOOKUP(E39,$A$38:$A$65,$C$38:$C$65) -> 32084550
A40: =A9 -> ALMERIA | B40: =E9 -> 670 | C40: =D9 -> 0 | D40: =_xlfn.RANK.EQ(B40,$B$38:$B$65)+COUNTIF($B$38:$B$65,B40)-1 -> 22 | E40: =INDEX($A$38:$B$65,MATCH(ROW()-37,$D$38:$D$65,0),1) -> BARCELONA | F40: =LOOKUP(E40,$A$38:$A$65,$B$38:$B$65) -> 8450581.6 | G40: =LOOKUP(E40,$A$38:$A$65,$C$38:$C$65) -> 7675451
A41: =A10 -> AVILES | B41: =E10 -> 61246.22 | C41: =D10 -> 18826.64 | D41: =_xlfn.RANK.EQ(B41,$B$38:$B$65)+COUNTIF($B$38:$B$65,B41)-1 -> 13 | E41: =INDEX($A$38:$B$65,MATCH(ROW()-37,$D$38:$D$65,0),1) -> LAS PALMAS | F41: =LOOKUP(E41,$A$38:$A$65,$B$38:$B$65) -> 7525652 | G41: =LOOKUP(E41,$A$38:$A$65,$C$38:$C$65) -> 8956695
A42: =A11 -> BAHIA DE ALGECIRAS | B42: =E11 -> 66765930 | C42: =D11 -> 61928104 | D42: =_xlfn.RANK.EQ(B42,$B$38:$B$65)+COUNTIF($B$38:$B$65,B42)-1 -> 1 | E42: =INDEX($A$38:$B$65,MATCH(ROW()-37,$D$38:$D$65,0),1) -> TARRAGONA | F42: =LOOKUP(E42,$A$38:$A$65,$B$38:$B$65) -> 2678147 | G42: =LOOKUP(E42,$A$38:$A$65,$C$38:$C$65) -> 5125517
A43: =A12 -> BAHIA DE CADIZ | B43: =E12 -> 453621.3 | C43: =D12 -> 360303 | D43: =_xlfn.RANK.EQ(B43,$B$38:$B$65)+COUNTIF($B$38:$B$65,B43)-1 -> 7 | E43: =INDEX($A$38:$B$65,MATCH(ROW()-37,$D$38:$D$65,0),1) -> HUELVA | F43: =LOOKUP(E43,$A$38:$A$65,$B$38:$B$65) -> 2438285.7 | G43: =LOOKUP(E43,$A$38:$A$65,$C$38:$C$65) -> 1564880.2
