Workbook
Name CABECERA: Cruceros!$A$5:$F$6
Name CONCEPTO: 'Resumen general'!$A$6
Name LblRes00_Acum: 'Resumen general'!$F$6:$G$6
Name LblRes00_Mes: 'Resumen general'!$D$6:$E$6
Name LblRes00_Var: 'Resumen general'!$H$6:$I$6
Name LblRes01_1_Acum: 'Total presentación'!$D$5:$F$5
Name LblRes01_1_Mes: 'Total presentación'!$B$5:$C$5
Name LblRes01_Acum: 'Automóviles régimen mercancía'!$D$5:$F$5
Name LblRes01_Acum: 'Ro-Ro remolques'!$D$5:$F$5
Name LblRes01_Acum: 'Total tráfico'!$D$5:$F$5
Name LblRes01_Mes: 'Automóviles régimen mercancía'!$B$5:$C$5
Name LblRes01_Mes: 'Ro-Ro remolques'!$B$5:$C$5
Name LblRes01_Mes: 'Total tráfico'!$B$5:$C$5
Name LblRes02_Acum: Líquidos!$D$5:$F$5
Name LblRes02_Mes: Líquidos!$B$5:$C$5
Name LblRes03_Acum: Sólidos!$D$5:$F$5
Name LblRes03_Mes: Sólidos!$B$5:$C$5
Name LblRes04_Acum: 'Mercancía general'!$D$5:$F$5
Name LblRes04_Mes: 'Mercancía general'!$B$5:$C$5
Name LblRes05_Acum: Pesca!$D$5:$F$5
Name LblRes05_Mes: Pesca!$B$5:$C$5
Name LblRes06_Acum: Avituallamiento!$D$5:$F$5
Name LblRes06_Mes: Avituallamiento!$B$5:$C$5
Name LblRes07_1_Acum: 'Mercan. contene. tránsito'!$D$5:$F$5
Name LblRes07_1_Mes: 'Mercan. contene. tránsito'!$B$5:$C$5
Name LblRes07_Acum: 'Mercancías tránsito'!$D$5:$F$5
Name LblRes07_Mes: 'Mercancías tránsito'!$B$5:$C$5
Name LblRes08_Acum: 'Mercancías contenedores'!$D$5:$F$5
Name LblRes08_Mes: 'Mercancías contenedores'!$B$5:$C$5
Name LblRes09_Acum: 'Ro-Ro'!$D$5:$F$5
Name LblRes09_Mes: 'Ro-Ro'!$B$5:$C$5
Name LblRes10_1_Acum: 'TEUS tránsito'!$D$5:$F$5
Name LblRes10_1_Mes: 'TEUS tránsito'!$B$5:$C$5
Name LblRes10_2_Acum: 'TEUS nacional'!$D$5:$F$5
Name LblRes10_2_Mes: 'TEUS nacional'!$B$5:$C$5
Name LblRes10_3_Acum: 'TEUS exterior'!$D$5:$F$5
Name LblRes10_3_Mes: 'TEUS exterior'!$B$5:$C$5
Name LblRes10_4_Acum: 'TEUS nacional y exterior'!$D$5:$F$5
Name LblRes10_4_Mes: 'TEUS nacional y exterior'!$B$5:$C$5
Name LblRes10_Acum: TEUS!$D$5:$F$5
Name LblRes10_Mes: TEUS!$B$5:$C$5
Name LblRes11_1_Acum: 'Pasajeros crucero'!$D$5:$F$5
Name LblRes11_1_Mes: 'Pasajeros crucero'!$B$5:$C$5
Name LblRes11_2_Acum: 'Automóviles régimen pasaje'!$D$5:$F$5
Name LblRes11_2_Mes: 'Automóviles régimen pasaje'!$B$5:$C$5
Name LblRes11_Acum: 'Pasajeros total'!$D$5:$F$5
Name LblRes11_Mes: 'Pasajeros total'!$B$5:$C$5
Name LblRes12_1_Acum: 'Buques número'!$D$5:$F$5
Name LblRes12_1_Mes: 'Buques número'!$B$5:$C$5
Name LblRes12_2_Acum: 'Buques GT'!$D$5:$F$5
Name LblRes12_2_Mes: 'Buques GT'!$B$5:$C$5
Name LblRes12_3_Acum: Cruceros!$D$5:$F$5
Name LblRes12_3_Mes: Cruceros!$B$5:$C$5
Name PROVINCIAS: Cruceros!$A$5:$A$35
Name TxtFecha: Cruceros!$L$5

Sheet Portada e índice
I1: Dirección de Planificación y Desarrollo
I2: Departamento de Estadística
G15: RESUMEN GENERAL DEL TRÁFICO PORTUARIO*
G16: diciembre 2017
K29: *Datos de cierre definitivos del Anuario Estadístico de Puertos del Estado 2017
F33: ÍNDICE
B36: 0. | C36: RESUMEN GENERAL DEL TRÁFICO PORTUARIO
B37: 1. | C37: TRÁFICO PORTUARIO
B38: 1.1. | C38: MERCANCÍAS SEGÚN SU FORMA DE PRESENTACIÓN
B39: 2. | C39: GRANELES LÍQUIDOS
B40: 3. | C40: GRANELES SÓLIDOS
B41: 4. | C41: MERCANCÍA GENERAL
B42: 4.1. | C42: MERCANCÍAS EN CONTENEDORES
B43: 5. | C43: PESCA
B44: 6. | C44: AVITUALLAMIENTO
B45: 6.1. | C45: AVITUALLAMIENTO DE COMBUSTIBLES LÍQUIDOS
B46: 7. | C46: TRÁFICO INTERIOR
B47: 8. | C47: MERCANCÍAS EN TRÁNSITO
... B62: 13.2. | C62: CRUCEROS (unidades)

Sheet Resumen general
D1: 00. RESUMEN GENERAL DEL TRÁFICO PORTUARIO
I4: Fecha: 20/12/2018
A6: CONCEPTO | D6: Mes diciembre | F6: Acumulado desde enero | H6: Variación
D7: 2016 | E7: 2017 | F7: 2016 | G7: 2017 | H7: Diferencia | I7: %
A8: MERCANCÍAS SEGÚN SU PRESENTACIÓN | B8: GRANELES | C8: LÍQUIDOS | D8: =Líquidos!B35 -> 14647070 | E8: =Líquidos!C35 -> 14514026 | F8: =Líquidos!D35 -> 1.6758332e+08 | G8: =Líquidos!E35 -> 1.7824283e+08 | H8: =G8-F8 -> 10659509 | I8: =((G8*100/F8)-100) -> 6.3607223
C9: SÓLIDOS | D9: =Sólidos!B35 -> 8341804.8 | E9: =Sólidos!C35 -> 8579383 | F9: =Sólidos!D35 -> 91993448 | G9: =Sólidos!E35 -> 1.0142872e+08 | H9: =G9-F9 -> 9435267.9 | I9: =((G9*100/F9)-100) -> 10.256456
B10: MERCANCÍA GRAL. | C10: CONVENCIONAL | D10: =D12-D11 -> 5727845.6 | E10: =E12-E11 -> 5550311 | F10: =F12-F11 -> 67737010 | G10: =G12-G11 -> 71013095 | H10: =G10-F10 -> 3276085.1 | I10: =((G10*100/F10)-100) -> 4.8364773
C11: EN CONTENEDORES | D11: ='Mercancías contenedores'!B35 -> 13884423 | E11: ='Mercancías contenedores'!C35 -> 14859486 | F11: ='Mercancías contenedores'!D35 -> 1.6829421e+08 | G11: ='Mercancías contenedores'!E35 -> 1.8145292e+08 | H11: =G11-F11 -> 13158709 | I11: =((G11*100/F11)-100) -> 7.8188721
C12: TOTAL | D12: ='Mercancía general'!B35 -> 19612269 | E12: ='Mercancía general'!C35 -> 20409797 | F12: ='Mercancía general'!D35 -> 2.3603122e+08 | G12: ='Mercancía general'!E35 -> 2.5246602e+08 | H12: =G12-F12 -> 16434794 | I12: =((G12*100/F12)-100) -> 6.9629747
C13: TOTAL | D13: =+D8+D9+D12 -> 42601144 | E13: =+E8+E9+E12 -> 43503206 | F13: =+F8+F9+F12 -> 4.9560799e+08 | G13: =+G8+G9+G12 -> 5.3213756e+08 | H13: =G13-F13 -> 36529572 | I13: =((G13*100/F13)-100) -> 7.3706584
A14: OTRAS MERCANCÍAS | B14: PESCA | C14: TOTAL PESCA | D14: =Pesca!B35 -> 21216.411 | E14: =Pesca!C35 -> 18660 | F14: =Pesca!D35 -> 232934.41 | G14: =Pesca!E35 -> 243073.37 | H14: =G14-F14 -> 10138.962 | I14: =((G14*100/F14)-100) -> 4.3527111
B15: AVITUALLAMIENTO | C15: COMBUSTIBLES LÍQUIDOS | D15: ='Avit. combustibles'!B35 -> 621268 | E15: ='Avit. combustibles'!C35 -> 646054 | F15: ='Avit. combustibles'!D35 -> 8201007.5 | G15: ='Avit. combustibles'!E35 -> 7987162 | H15: =G15-F15 -> -213845.5 | I15: =((G15*100/F15)-100) -> -2.6075516
C16: OTROS | D16: =Avituallamiento!B35-'Resumen general'!D15 -> 306808.8 | E16: =Avituallamiento!C35-'Resumen general'!E15 -> 175370 | F16: 2122630 | G16: =Avituallamiento!E35-'Resumen general'!G15 -> 2132311.5 | H16: =G16-F16 -> 9681.5 | I16: =((G16*100/F16)-100) -> 0.4561087
B17: TRAFICO INTERIOR | C17: TOTAL TRAFICO INTERIOR | D17: ='Tráfico interior'!B35 -> 261959 | E17: ='Tráfico interior'!C35 -> 103744 | F17: ='Tráfico interior'!D35 -> 3340077 | G17: ='Tráfico interior'!E35 -> 2722259.3 | H17: =G17-F17 -> -617817.72 | I17: =((G17*100/F17)-100) -> -18.49711
C18: TOTAL | D18: =+D14+D15+D16+D17 -> 1211252.2 | E18: =+E14+E15+E16+E17 -> 943828 | F18: =+F14+F15+F16+F17 -> 13896649 | G18: =+G14+G15+G16+G17 -> 13084806 | H18: =G18-F18 -> -811842.76 | I18: =((G18*100/F18)-100) -> -5.8420038
C19: TOTAL TRÁFICO PORTUARIO (*) | D19: =+D13+D18 -> 43812396 | E19: =+E13+E18 -> 44447034 | F19: =+F13+F18 -> 5.0950464e+08 | G19: =+G13+G18 -> 5.4522236e+08 | H19: =G19-F19 -> 35717729 | I19: =((G19*100/F19)-100) -> 7.0102853
A21: OTRAS INFORMACIONES | B21: MERCANCÍAS | C21: EN TRÁNSITO | D21: ='Mercancías tránsito'!B35 -> 10124346 | E21: ='Mercancías tránsito'!C35 -> 11501467 | F21: ='Mercancías tránsito'!D35 -> 1.2229877e+08 | G21: ='Mercancías tránsito'!E35 -> 1.3732969e+08 | H21: =G21-F21 -> 15030916 | I21: =((G21*100/F21)-100) -> 12.290325
C22: EN CONTENEDORES EN TRÁNSITO | D22: ='Mercan. contene. tránsito'!B35 -> 7601555.1 | E22: ='Mercan. contene. tránsito'!C35 -> 8967232 | F22: ='Mercan. contene. tránsito'!D35 -> 98509897 | G22: ='Mercan. contene. tránsito'!E35 -> 1.0901849e+08 | H22: =G22-F22 -> 10508589 | I22: =((G22*100/F22)-100) -> 10.667547
B23: TRÁFICO RO-RO | C23: TOTAL TRÁFICO RO-RO | D23: ='Ro-Ro'!B35 -> 3870871.6 | E23: ='Ro-Ro'!C35 -> 4280968 | F23: ='Ro-Ro'!D35 -> 54647615 | G23: ='Ro-Ro'!E35 -> 58074195 | H23: =G23-F23 -> 3426579.6 | I23: =((G23*100/F23)-100) -> 6.2703186
C24: REMOLQUES, SEMIRR. Y PLATAF. (uds.) | D24: ='Ro-Ro remolques'!B35 -> 102015 | E24: ='Ro-Ro remolques'!C35 -> 102625 | F24: ='Ro-Ro remolques'!D35 -> 1447934 | G24: ='Ro-Ro remolques'!E35 -> 1311908 | H24: =G24-F24 -> -136026 | I24: =((G24*100/F24)-100) -> -9.394489
B25: CONTENEDORES | C25: TOTAL CONTENEDORES (TEUS) | D25: =TEUS!B35 -> 1272883.8 | E25: =TEUS!C35 -> 1319703 | F25: =TEUS!D35 -> 15154303 | G25: =TEUS!E35 -> 15951635 | H25: =G25-F25 -> 797331.95 | I25: =((G25*100/F25)-100) -> 5.2614229
C26: EN TRÁNSITO (TEUS) | D26: ='TEUS tránsito'!B35 -> 647501 | E26: ='TEUS tránsito'!C35 -> 720357 | F26: ='TEUS tránsito'!D35 -> 7899204 | G26: ='TEUS tránsito'!E35 -> 8501480 | H26: =G26-F26 -> 602276 | I26: =((G26*100/F26)-100) -> 7.6245151
C27: ENTRADAS-SALIDAS NACIONAL (TEUS) | D27: ='TEUS nacional'!B35 -> 157029 | E27: ='TEUS nacional'!C35 -> 164191 | F27: ='TEUS nacional'!D35 -> 1926876 | G27: ='TEUS nacional'!E35 -> 1972377 | H27: =G27-F27 -> 45501 | I27: =((G27*100/F27)-100) -> 2.361387
C28: IMPORT-EXPORT EXTERIOR (TEUS) | D28: ='TEUS exterior'!B35 -> 441028 | E28: ='TEUS exterior'!C35 -> 435156 | F28: ='TEUS exterior'!D35 -> 5272324 | G28: ='TEUS exterior'!E35 -> 5477777.7 | H28: =G28-F28 -> 205453.7 | I28: =((G28*100/F28)-100) -> 3.8968337
C29: NACIONAL Y EXTERIOR (TEUS) | D29: ='TEUS nacional y exterior'!B35 -> 598057 | E29: ='TEUS nacional y exterior'!C35 -> 599346 | F29: ='TEUS nacional y exterior'!D35 -> 7199204 | G29: ='TEUS nacional y exterior'!E35 -> 7450154.7 | H29: =G29-F29 -> 250950.7 | I29: =((G29*100/F29)-100) -> 3.4858118
B30: PASAJEROS | C30: REG. TRANSPORTE Y DE CRUCERO (uds.) | D30: ='Pasajeros total'!B35 -> 1926801 | E30: ='Pasajeros total'!C35 -> 2246606 | F30: ='Pasajeros total'!D35 -> 32493848 | G30: ='Pasajeros total'!E35 -> 34072845 | H30: =G30-F30 -> 1578997 | I30: =((G30*100/F30)-100) -> 4.8593721
C31: DE CRUCERO (uds.) | D31: ='Pasajeros crucero'!B35 -> 483531 | E31: ='Pasajeros crucero'!C35 -> 704958 | F31: ='Pasajeros crucero'!D35 -> 8693871 | G31: ='Pasajeros crucero'!E35 -> 9281923 | H31: =G31-F31 -> 588052 | I31: =((G31*100/F31)-100) -> 6.7639835
B32: AUTOMÓVILES | C32: EN RÉGIMEN DE PASAJE (uds) | D32: ='Automóviles régimen pasaje'!B35 -> 322705 | E32: ='Automóviles régimen pasaje'!C35 -> 368994 | F32: ='Automóviles régimen pasaje'!D35 -> 4774678 | G32: ='Automóviles régimen pasaje'!E35 -> 5060699 | H32: =G32-F32 -> 286021 | I32: =((G32*100/F32)-100) -> 5.9903725
C33: EN RÉGIMEN DE MERCANCÍA (**) | D33: ='Automóviles régimen mercancía'!B35 -> 272290 | E33: ='Automóviles régimen mercancía'!C35 -> 611191 | F33: ='Automóviles régimen mercancía'!D35 -> 3474460 | G33: ='Automóviles régimen mercancía'!E35 -> 3484212 | H33: =G33-F33 -> 9752 | I33: =((G33*100/F33)-100) -> 0.28067671
B34: BUQUES MERCANTES | C34: TOTAL BUQUES MERCANTES (uds) | D34: ='Buques número'!B35 -> 10878 | E34: ='Buques número'!C35 -> 11227 | F34: ='Buques número'!D35 -> 151564 | G34: ='Buques número'!E35 -> 155631 | H34: =G34-F34 -> 4067 | I34: =((G34*100/F34)-100) -> 2.6833549
C35: UDS. ARQUEO BRUTO (G.T.) | D35: ='Buques GT'!B35 -> 174282552 | E35: ='Buques GT'!C35 -> 179365124 | F35: ='Buques GT'!D35 -> 2184589058 | G35: ='Buques GT'!E35 -> 2218905453 | H35: =G35-F35 -> 34316395 | I35: =((G35*100/F35)-100) -> 1.5708398
C36: CRUCEROS (uds) | D36: =Cruceros!B35 -> 283 | E36: =Cruceros!C35 -> 331 | F36: =Cruceros!D35 -> 3920 | G36: =Cruceros!E35 -> 4238 | H36: =G36-F36 -> 318 | I36: =((G36*100/F36)-100) -> 8.1122449
A37: (*) Incluye cargas, descargas, tránsitos y transbordos.
A38: (**) Solo turismos, autobuses y camiones

Sheet Total tráfico
F1: 1. TRÁFICO PORTUARIO (toneladas)
A5: Autoridad Portuaria | B5: ='Resumen general'!D6 -> Mes diciembre | D5: ='Resumen general'!F6 -> Acumulado desde enero | L5: ='Resumen general'!I4 -> Fecha: 20/12/2018
B6: ='Resumen general'!D7 -> 2016 | C6: ='Resumen general'!E7 -> 2017 | D6: ='Resumen general'!F7 -> 2016 | E6: ='Resumen general'!G7 -> 2017 | F6: Var. (%)
A7: A CORUÑA | B7: =Líquidos!B7+Sólidos!B7+'Mercancía general'!B7+Pesca!B7+Avituallamiento!B7+'Tráfico interior'!B7 -> 1264172.6 | C7: =Líquidos!C7+Sólidos!C7+'Mercancía general'!C7+Pesca!C7+Avituallamiento!C7+'Tráfico interior'!C7 -> 1354083 | D7: 13919795 | E7: 15198929 | F7: =((E7*100)/D7)-100 -> 9.1893184
A8: ALICANTE | B8: =Líquidos!B8+Sólidos!B8+'Mercancía general'!B8+Pesca!B8+Avituallamiento!B8+'Tráfico interior'!B8 -> 245025.3 | C8: =Líquidos!C8+Sólidos!C8+'Mercancía general'!C8+Pesca!C8+Avituallamiento!C8+'Tráfico interior'!C8 -> 258409 | D8: 3471563.3 | E8: 3447603.9 | F8: =((E8*100)/D8)-100 -> -0.69016235
A9: ALMERÍA | B9: =Líquidos!B9+Sólidos!B9+'Mercancía general'!B9+Pesca!B9+Avituallamiento!B9+'Tráfico interior'!B9 -> 546728.4 | C9: =Líquidos!C9+Sólidos!C9+'Mercancía general'!C9+Pesca!C9+Avituallamiento!C9+'Tráfico interior'!C9 -> 614880 | D9: 5467308.4 | E9: 6381126.7 | F9: =((E9*100)/D9)-100 -> 16.714225
A10: AVILÉS | B10: =Líquidos!B10+Sólidos!B10+'Mercancía general'!B10+Pesca!B10+Avituallamiento!B10+'Tráfico interior'!B10 -> 586583.03 | C10: =Líquidos!C10+Sólidos!C10+'Mercancía general'!C10+Pesca!C10+Avituallamiento!C10+'Tráfico interior'!C10 -> 409226 | D10: 4971467 | E10: 4806910 | F10: =((E10*100)/D10)-100 -> -3.3100306
A11: BAHÍA DE ALGECIRAS | B11: =Líquidos!B11+Sólidos!B11+'Mercancía general'!B11+Pesca!B11+Avituallamiento!B11+'Tráfico interior'!B11 -> 8322363.4 | C11: =Líquidos!C11+Sólidos!C11+'Mercancía general'!C11+Pesca!C11+Avituallamiento!C11+'Tráfico interior'!C11 -> 8139234 | D11: 1.0317695e+08 | E11: 1.0155597e+08 | F11: =((E11*100)/D11)-100 -> -1.5710626
A12: BAHÍA DE CÁDIZ | B12: =Líquidos!B12+Sólidos!B12+'Mercancía general'!B12+Pesca!B12+Avituallamiento!B12+'Tráfico interior'!B12 -> 280516.2 | C12: =Líquidos!C12+Sólidos!C12+'Mercancía general'!C12+Pesca!C12+Avituallamiento!C12+'Tráfico interior'!C12 -> 298994 | D12: 3660047.2 | E12: 4115251.6 | F12: =((E12*100)/D12)-100 -> 12.437119
A13: BALEARES | B13: =Líquidos!B13+Sólidos!B13+'Mercancía general'!B13+Pesca!B13+Avituallamiento!B13+'Tráfico interior'!B13 -> 1021181.8 | C13: =Líquidos!C13+Sólidos!C13+'Mercancía general'!C13+Pesca!C13+Avituallamiento!C13+'Tráfico interior'!C13 -> 959165 | D13: 14926741 | E13: 15649443 | F13: =((E13*100)/D13)-100 -> 4.8416622
A14: BARCELONA | B14: =Líquidos!B14+Sólidos!B14+'Mercancía general'!B14+Pesca!B14+Avituallamiento!B14+'Tráfico interior'!B14 -> 3863433.8 | C14: =Líquidos!C14+Sólidos!C14+'Mercancía general'!C14+Pesca!C14+Avituallamiento!C14+'Tráfico interior'!C14 -> 5109085 | D14: 48653002 | E14: 61366941 | F14: =((E14*100)/D14)-100 -> 26.13187
A15: BILBAO | B15: =Líquidos!B15+Sólidos!B15+'Mercancía general'!B15+Pesca!B15+Avituallamiento!B15+'Tráfico interior'!B15 -> 3409815.3 | C15: =Líquidos!C15+Sólidos!C15+'Mercancía general'!C15+Pesca!C15+Avituallamiento!C15+'Tráfico interior'!C15 -> 3352425 | D15: 32067270 | E15: 34306674 | F15: =((E15*100)/D15)-100 -> 6.983456
A16: CARTAGENA | B16: =Líquidos!B16+Sólidos!B16+'Mercancía general'!B16+Pesca!B16+Avituallamiento!B16+'Tráfico interior'!B16 -> 2876767.9 | C16: =Líquidos!C16+Sólidos!C16+'Mercancía general'!C16+Pesca!C16+Avituallamiento!C16+'Tráfico interior'!C16 -> 2613132 | D16: 31883686 | E16: 34688199 | F16: =((E16*100)/D16)-100 -> 8.796075
A17: CASTELLÓN | B17: =Líquidos!B17+Sólidos!B17+'Mercancía general'!B17+Pesca!B17+Avituallamiento!B17+'Tráfico interior'!B17 -> 1686264 | C17: =Líquidos!C17+Sólidos!C17+'Mercancía general'!C17+Pesca!C17+Avituallamiento!C17+'Tráfico interior'!C17 -> 1116165 | D17: 17076583 | E17: 17910534 | F17: =((E17*100)/D17)-100 -> 4.8835949
A18: CEUTA | B18: =Líquidos!B18+Sólidos!B18+'Mercancía general'!B18+Pesca!B18+Avituallamiento!B18+'Tráfico interior'!B18 -> 246828.9 | C18: =Líquidos!C18+Sólidos!C18+'Mercancía general'!C18+Pesca!C18+Avituallamiento!C18+'Tráfico interior'!C18 -> 216924 | D18: 2478780.9 | E18: 2545552.9 | F18: =((E18*100)/D18)-100 -> 2.6937436
... A34: VILAGARCÍA | B34: =Líquidos!B34+Sólidos!B34+'Mercancía general'!B34+Pesca!B34+Avituallamiento!B34+'Tráfico interior'!B34 -> 115174.86 | C34: =Líquidos!C34+Sólidos!C34+'Mercancía general'!C34+Pesca!C34+Avituallamiento!C34+'Tráfico interior'!C34 -> 104339 | D34: 1111995 | E34: 1205966.4 | F34: =((E34*100)/D34)-100 -> 8.4506999
A35: Total | B35: =SUM(B7:B34) -> 43812396 | C35: =SUM(C7:C34) -> 44447034 | D35: =SUM(D7:D34) -> 5.0950464e+08 | E35: =SUM(E7:E34) -> 5.4522236e+08 | F35: =((E35*100)/D35)-100 -> 7.0102853
A36: Incluye cargas, descargas, tránsitos y transbordos.
B38: =E6 -> 2017 | C38: =D6 -> 2016 | F38: =B38 -> 2017 | G38: =C38 -> 2016
A39: =A7 -> A CORUÑA | B39: =E7 -> 15198929 | C39: =D7 -> 13919795 | D39: =_xlfn.RANK.EQ(B39,$B$39:$B$66)+COUNTIF($B$39:$B$66,B39)-1 -> 12 | E39: =INDEX($A$39:$B$66,MATCH(ROW()-38,$D$39:$D$66,0),1) -> BAHÍA DE ALGECIRAS | F39: =LOOKUP(E39,$A$39:$A$66,$B$39:$B$66) -> 1.0155597e+08 | G39: =LOOKUP(E39,$A$39:$A$66,$C$39:$C$66) -> 1.0317695e+08
A40: =A8 -> ALICANTE | B40: =E8 -> 3447603.9 | C40: =D8 -> 3471563.3 | D40: =_xlfn.RANK.EQ(B40,$B$39:$B$66)+COUNTIF($B$39:$B$66,B40)-1 -> 21 | E40: =INDEX($A$39:$B$66,MATCH(ROW()-38,$D$39:$D$66,0),1) -> VALENCIA | F40: =LOOKUP(E40,$A$39:$A$66,$B$39:$B$66) -> 73559877 | G40: =LOOKUP(E40,$A$39:$A$66,$C$39:$C$66) -> 71469813
A41: =A9 -> ALMERÍA | B41: =E9 -> 6381126.7 | C41: =D9 -> 5467308.4 | D41: =_xlfn.RANK.EQ(B41,$B$39:$B$66)+COUNTIF($B$39:$B$66,B41)-1 -> 15 | E41: =INDEX($A$39:$B$66,MATCH(ROW()-38,$D$39:$D$66,0),1) -> BARCELONA | F41: =LOOKUP(E41,$A$39:$A$66,$B$39:$B$66) -> 61366941 | G41: =LOOKUP(E41,$A$39:$A$66,$C$39:$C$66) -> 48653002
A42: =A10 -> AVILÉS | B42: =E10 -> 4806910 | C42: =D10 -> 4971467 | D42: =_xlfn.RANK.EQ(B42,$B$39:$B$66)+COUNTIF($B$39:$B$66,B42)-1 -> 17 | E42: =INDEX($A$39:$B$66,MATCH(ROW()-38,$D$39:$D$66,0),1) -> CARTAGENA | F42: =LOOKUP(E42,$A$39:$A$66,$B$39:$B$66) -> 34688199 | G42: =LOOKUP(E42,$A$39:$A$66,$C$39:$C$66) -> 31883686
A43: =A11 -> BAHÍA DE ALGECIRAS | B43: =E11 -> 1.0155597e+08 | C43: =D11 -> 1.0317695e+08 | D43: =_xlfn.RANK.EQ(B43,$B$39:$B$66)+COUNTIF($B$39:$B$66,B43)-1 -> 1 | E43: =INDEX($A$39:$B$66,MATCH(ROW()-38,$D$39:$D$66,0),1) -> BILBAO | F43: =LOOKUP(E43,$A$39:$A$66,$B$39:$B$66) -> 34306674 | G43: =LOOKUP(E43,$A$39:$A$66,$C$39:$C$66) -> 32067270
A44: =A12 -> BAHÍA DE CÁDIZ | B44: =E12 -> 4115251.6 | C44: =D12 -> 3660047.2 | D44: =_xlfn.RANK.EQ(B44,$B$39:$B$66)+COUNTIF($B$39:$B$66,B44)-1 -> 20 | E44: =INDEX($A$39:$B$66,MATCH(ROW()-38,$D$39:$D$66,0),1) -> TARRAGONA | F44: =LOOKUP(E44,$A$39:$A$66,$B$39:$B$66) -> 33700184 | G44: =LOOKUP(E44,$A$39:$A$66,$C$39:$C$66) -> 31351797
A45: =A13 -> BALEARES | B45: =E13 -> 15649443 | C45: =D13 -> 14926741 | D45: =_xlfn.RANK.EQ(B45,$B$39:$B$66)+COUNTIF($B$39:$B$66,B45)-1 -> 11 | E45: =INDEX($A$39:$B$66,MATCH(ROW()-38,$D$39:$D$66,0),1) -> HUELVA | F45: =LOOKUP(E45,$A$39:$A$66,$B$39:$B$66) -> 32332572 | G45: =LOOKUP(E45,$A$39:$A$66,$C$39:$C$66) -> 30557172
A46: =A14 -> BARCELONA | B46: =E14 -> 61366941 | C46: =D14 -> 48653002 | D46: =_xlfn.RANK.EQ(B46,$B$39:$B$66)+COUNTIF($B$39:$B$66,B46)-1 -> 3 | E46: =INDEX($A$39:$B$66,MATCH(ROW()-38,$D$39:$D$66,0),1) -> LAS PALMAS | F46: =LOOKUP(E46,$A$39:$A$66,$B$39:$B$66) -> 27021629 | G46: =LOOKUP(E46,$A$39:$A$66,$C$39:$C$66) -> 22801746
A47: =A15 -> BILBAO | B47: =E15 -> 34306674 | C47: =D15 -> 32067270 | D47: =_xlfn.RANK.EQ(B47,$B$39:$B$66)+COUNTIF($B$39:$B$66,B47)-1 -> 5 | E47: =INDEX($A$39:$B$66,MATCH(ROW()-38,$D$39:$D$66,0),1) -> GIJÓN | F47: =LOOKUP(E47,$A$39:$A$66,$B$39:$B$66) -> 21820520 | G47: =LOOKUP(E47,$A$39:$A$66,$C$39:$C$66) -> 18407334
A48: =A16 -> CARTAGENA | B48: =E16 -> 34688199 | C48: =D16 -> 31883686 | D48: =_xlfn.RANK.EQ(B48,$B$39:$B$66)+COUNTIF($B$39:$B$66,B48)-1 -> 4 | E48: =INDEX($A$39:$B$66,MATCH(ROW()-38,$D$39:$D$66,0),1) -> CASTELLÓN | F48: =LOOKUP(E48,$A$39:$A$66,$B$39:$B$66) -> 17910534 | G48: =LOOKUP(E48,$A$39:$A$66,$C$39:$C$66) -> 17076583
A49: =A17 -> CASTELLÓN | B49: =E17 -> 17910534 | C49: =D17 -> 17076583 | D49: =_xlfn.RANK.EQ(B49,$B$39:$B$66)+COUNTIF($B$39:$B$66,B49)-1 -> 10 | E49: =INDEX($A$39:$B$66,MATCH(ROW()-38,$D$39:$D$66,0),1) -> BALEARES | F49: =LOOKUP(E49,$A$39:$A$66,$B$39:$B$66) -> 15649443 | G49: =LOOKUP(E49,$A$39:$A$66,$C$39:$C$66) -> 14926741
A50: =A18 -> CEUTA | B50: =E18 -> 2545552.9 | C50: =D18 -> 2478780.9 | D50: =_xlfn.RANK.EQ(B50,$B$39:$B$66)+COUNTIF($B$39:$B$66,B50)-1 -> 24 | E50: =INDEX($A$39:$B$66,MATCH(ROW()-38,$D$39:$D$66,0),1) -> A CORUÑA | F50: =LOOKUP(E50,$A$39:$A$66,$B$39:$B$66) -> 15198929 | G50: =LOOKUP(E50,$A$39:$A$66,$C$39:$C$66) -> 13919795
... A66: =A34 -> VILAGARCÍA | B66: =E34 -> 1205966.4 | C66: =D34 -> 1111995 | D66: =_xlfn.RANK.EQ(B66,$B$39:$B$66)+COUNTIF($B$39:$B$66,B66)-1 -> 27 | E66: =INDEX($A$39:$B$66,MATCH(ROW()-38,$D$39:$D$66,0),1) -> MELILLA | F66: =LOOKUP(E66,$A$39:$A$66,$B$39:$B$66) -> 1152554 | G66: =LOOKUP(E66,$A$39:$A$66,$C$39:$C$66) -> 1162986

Sheet Total presentación
F1: 1.1. MERCANCÍAS SEGÚN SU FORMA DE PRESENTACIÓN
I2: (toneladas)
A5: Autoridad Portuaria | B5: ='Resumen general'!D6 -> Mes diciembre | D5: ='Resumen general'!F6 -> Acumulado desde enero | L5: ='Resumen general'!I4 -> Fecha: 20/12/2018
B6: ='Resumen general'!D7 -> 2016 | C6: ='Resumen general'!E7 -> 2017 | D6: ='Resumen general'!F7 -> 2016 | E6: ='Resumen general'!G7 -> 2017 | F6: Var. (%)
A7: A CORUÑA | B7: 1200603 | C7: 1296082 | D7: 13527098 | E7: 14760612 | F7: =((E7*100)/D7)-100 -> 9.1188369
A8: ALICANTE | B8: 243599.53 | C8: 256343 | D8: 3442580.5 | E8: 3421610.7 | F8: =((E8*100)/D8)-100 -> -0.60913114
A9: ALMERÍA | B9: 541357 | C9: 606239 | D9: 5390023 | E9: 6290241 | F9: =((E9*100)/D9)-100 -> 16.701561
A10: AVILÉS | B10: 556160.09 | C10: 405423 | D10: 4909133.1 | E10: 4751857.2 | F10: =((E10*100)/D10)-100 -> -3.20374
A11: BAHÍA DE ALGECIRAS | B11: 7853556 | C11: 7866973 | D11: 96861660 | E11: 96330454 | F11: =((E11*100)/D11)-100 -> -0.5484172
A12: BAHÍA DE CÁDIZ | B12: 271999 | C12: 291656 | D12: 3497654 | E12: 3986793 | F12: =((E12*100)/D12)-100 -> 13.984774
A13: BALEARES | B13: 1014013 | C13: 951330 | D13: 14676205 | E13: 15408802 | F13: =((E13*100)/D13)-100 -> 4.9917332
A14: BARCELONA | B14: 3808116 | C14: 5015868 | D14: 47512963 | E14: 60070134 | F14: =((E14*100)/D14)-100 -> 26.428937
A15: BILBAO | B15: 3399680.4 | C15: 3343309 | D15: 31948743 | E15: 34194982 | F15: =((E15*100)/D15)-100 -> 7.0307573
A16: CARTAGENA | B16: 2865396 | C16: 2607692 | D16: 31724623 | E16: 34532347 | F16: =((E16*100)/D16)-100 -> 8.850299
A17: CASTELLÓN | B17: 1683633 | C17: 1114606 | D17: 17042674 | E17: 17882185 | F17: =((E17*100)/D17)-100 -> 4.9259347
A18: CEUTA | B18: 206553 | C18: 151433 | D18: 1934591 | E18: 1881096 | F18: =((E18*100)/D18)-100 -> -2.765184
... A34: VILAGARCÍA | B34: 114514.86 | C34: 104177 | D34: 1105781.9 | E34: 1201759.4 | F34: =((E34*100)/D34)-100 -> 8.6796052
A35: Total | B35: =SUM(B7:B34) -> 42601144 | C35: =SUM(C7:C34) -> 43503206 | D35: =SUM(D7:D34) -> 4.9560799e+08 | E35: =SUM(E7:E34) -> 5.3213756e+08 | F35: =((E35*100)/D35)-100 -> 7.3706584
A36: Incluye cargas, descargas, tránsitos y transbordos.
B38: =E6 -> 2017 | C38: =D6 -> 2016 | F38: =B38 -> 2017 | G38: =C38 -> 2016
A39: =A7 -> A CORUÑA | B39: =E7 -> 14760612 | C39: =D7 -> 13527098 | D39: =_xlfn.RANK.EQ(B39,$B$39:$B$66)+COUNTIF($B$39:$B$66,B39)-1 -> 12 | E39: =INDEX($A$39:$B$66,MATCH(ROW()-38,$D$39:$D$66,0),1) -> BAHÍA DE ALGECIRAS | F39: =LOOKUP(E39,$A$39:$A$66,$B$39:$B$66) -> 96330454 | G39: =LOOKUP(E39,$A$39:$A$66,$C$39:$C$66) -> 96861660
A40: =A8 -> ALICANTE | B40: =E8 -> 3421610.7 | C40: =D8 -> 3442580.5 | D40: =_xlfn.RANK.EQ(B40,$B$39:$B$66)+COUNTIF($B$39:$B$66,B40)-1 -> 21 | E40: =INDEX($A$39:$B$66,MATCH(ROW()-38,$D$39:$D$66,0),1) -> VALENCIA | F40: =LOOKUP(E40,$A$39:$A$66,$B$39:$B$66) -> 73249473 | G40: =LOOKUP(E40,$A$39:$A$66,$C$39:$C$66) -> 70995541
A41: =A9 -> ALMERÍA | B41: =E9 -> 6290241 | C41: =D9 -> 5390023 | D41: =_xlfn.RANK.EQ(B41,$B$39:$B$66)+COUNTIF($B$39:$B$66,B41)-1 -> 15 | E41: =INDEX($A$39:$B$66,MATCH(ROW()-38,$D$39:$D$66,0),1) -> BARCELONA | F41: =LOOKUP(E41,$A$39:$A$66,$B$39:$B$66) -> 60070134 | G41: =LOOKUP(E41,$A$39:$A$66,$C$39:$C$66) -> 47512963
A42: =A10 -> AVILÉS | B42: =E10 -> 4751857.2 | C42: =D10 -> 4909133.1 | D42: =_xlfn.RANK.EQ(B42,$B$39:$B$66)+COUNTIF($B$39:$B$66,B42)-1 -> 17 | E42: =INDEX($A$39:$B$66,MATCH(ROW()-38,$D$39:$D$66,0),1) -> CARTAGENA | F42: =LOOKUP(E42,$A$39:$A$66,$B$39:$B$66) -> 34532347 | G42: =LOOKUP(E42,$A$39:$A$66,$C$39:$C$66) -> 31724623
A43: =A11 -> BAHÍA DE ALGECIRAS | B43: =E11 -> 96330454 | C43: =D11 -> 96861660 | D43: =_xlfn.RANK.EQ(B43,$B$39:$B$66)+COUNTIF($B$39:$B$66,B43)-1 -> 1 | E43: =INDEX($A$39:$B$66,MATCH(ROW()-38,$D$39:$D$66,0),1) -> BILBAO | F43: =LOOKUP(E43,$A$39:$A$66,$B$39:$B$66) -> 34194982 | G43: =LOOKUP(E43,$A$39:$A$66,$C$39:$C$66) -> 31948743
A44: =A12 -> BAHÍA DE CÁDIZ | B44: =E12 -> 3986793 | C44: =D12 -> 3497654 | D44: =_xlfn.RANK.EQ(B44,$B$39:$B$66)+COUNTIF($B$39:$B$66,B44)-1 -> 19 | E44: =INDEX($A$39:$B$66,MATCH(ROW()-38,$D$39:$D$66,0),1) -> TARRAGONA | F44: =LOOKUP(E44,$A$39:$A$66,$B$39:$B$66) -> 33620952 | G44: =LOOKUP(E44,$A$39:$A$66,$C$39:$C$66) -> 31328770
A45: =A13 -> BALEARES | B45: =E13 -> 15408802 | C45: =D13 -> 14676205 | D45: =_xlfn.RANK.EQ(B45,$B$39:$B$66)+COUNTIF($B$39:$B$66,B45)-1 -> 11 | E45: =INDEX($A$39:$B$66,MATCH(ROW()-38,$D$39:$D$66,0),1) -> HUELVA | F45: =LOOKUP(E45,$A$39:$A$66,$B$39:$B$66) -> 32177373 | G45: =LOOKUP(E45,$A$39:$A$66,$C$39:$C$66) -> 30381229
A46: =A14 -> BARCELONA | B46: =E14 -> 60070134 | C46: =D14 -> 47512963 | D46: =_xlfn.RANK.EQ(B46,$B$39:$B$66)+COUNTIF($B$39:$B$66,B46)-1 -> 3 | E46: =INDEX($A$39:$B$66,MATCH(ROW()-38,$D$39:$D$66,0),1) -> LAS PALMAS | F46: =LOOKUP(E46,$A$39:$A$66,$B$39:$B$66) -> 24342113 | G46: =LOOKUP(E46,$A$39:$A$66,$C$39:$C$66) -> 20192621
A47: =A15 -> BILBAO | B47: =E15 -> 34194982 | C47: =D15 -> 31948743 | D47: =_xlfn.RANK.EQ(B47,$B$39:$B$66)+COUNTIF($B$39:$B$66,B47)-1 -> 5 | E47: =INDEX($A$39:$B$66,MATCH(ROW()-38,$D$39:$D$66,0),1) -> GIJÓN | F47: =LOOKUP(E47,$A$39:$A$66,$B$39:$B$66) -> 21736236 | G47: =LOOKUP(E47,$A$39:$A$66,$C$39:$C$66) -> 18340528
A48: =A16 -> CARTAGENA | B48: =E16 -> 34532347 | C48: =D16 -> 31724623 | D48: =_xlfn.RANK.EQ(B48,$B$39:$B$66)+COUNTIF($B$39:$B$66,B48)-1 -> 4 | E48: =INDEX($A$39:$B$66,MATCH(ROW()-38,$D$39:$D$66,0),1) -> CASTELLÓN | F48: =LOOKUP(E48,$A$39:$A$66,$B$39:$B$66) -> 17882185 | G48: =LOOKUP(E48,$A$39:$A$66,$C$39:$C$66) -> 17042674
A49: =A17 -> CASTELLÓN | B49: =E17 -> 17882185 | C49: =D17 -> 17042674 | D49: =_xlfn.RANK.EQ(B49,$B$39:$B$66)+COUNTIF($B$39:$B$66,B49)-1 -> 10 | E49: =INDEX($A$39:$B$66,MATCH(ROW()-38,$D$39:$D$66,0),1) -> BALEARES | F49: =LOOKUP(E49,$A$39:$A$66,$B$39:$B$66) -> 15408802 | G49: =LOOKUP(E49,$A$39:$A$66,$C$39:$C$66) -> 14676205
A50: =A18 -> CEUTA | B50: =E18 -> 1881096 | C50: =D18 -> 1934591 | D50: =_xlfn.RANK.EQ(B50,$B$39:$B$66)+COUNTIF($B$39:$B$66,B50)-1 -> 26 | E50: =INDEX($A$39:$B$66,MATCH(ROW()-38,$D$39:$D$66,0),1) -> A CORUÑA | F50: =LOOKUP(E50,$A$39:$A$66,$B$39:$B$66) -> 14760612 | G50: =LOOKUP(E50,$A$39:$A$66,$C$39:$C$66) -> 13527098
... A66: =A34 -> VILAGARCÍA | B66: =E34 -> 1201759.4 | C66: =D34 -> 1105781.9 | D66: =_xlfn.RANK.EQ(B66,$B$39:$B$66)+COUNTIF($B$39:$B$66,B66)-1 -> 27 | E66: =INDEX($A$39:$B$66,MATCH(ROW()-38,$D$39:$D$66,0),1) -> MELILLA | F66: =LOOKUP(E66,$A$39:$A$66,$B$39:$B$66) -> 1147234 | G66: =LOOKUP(E66,$A$39:$A$66,$C$39:$C$66) -> 1141881

Sheet Líquidos
F1: 2. GRANELES LÍQUIDOS (toneladas)
A5: Autoridad Portuaria | B5: ='Resumen general'!D6 -> Mes diciembre | D5: ='Resumen general'!F6 -> Acumulado desde enero | L5: ='Resumen general'!I4 -> Fecha: 20/12/2018
B6: ='Resumen general'!D7 -> 2016 | C6: ='Resumen general'!E7 -> 2017 | D6: ='Resumen general'!F7 -> 2016 | E6: ='Resumen general'!G7 -> 2017 | F6: Var. (%)
A7: A CORUÑA | B7: 670539 | C7: 729071 | D7: 8169622 | E7: 8788868 | F7: =((E7*100)/D7)-100 -> 7.5798611
A8: ALICANTE | B8: 11460.06 | C8: 1600 | D8: 43336.06 | E8: 41228.69 | F8: =((E8*100)/D8)-100 -> -4.8628556
A9: ALMERÍA | B9: 0 | C9: 0 | D9: 28465 | E9: 31656 | F9: =((E9*100)/D9)-100 -> 11.210258
A10: AVILÉS | B10: 55820.85 | C10: 70525 | D10: 625174.85 | E10: 658157.57 | F10: =((E10*100)/D10)-100 -> 5.2757593
A11: BAHÍA DE ALGECIRAS | B11: 2000578 | C11: 2150888 | D11: 27309859 | E11: 28774987 | F11: =((E11*100)/D11)-100 -> 5.3648318
A12: BAHÍA DE CÁDIZ | B12: 22332 | C12: 35419 | D12: 404838 | E12: 578775 | F12: =((E12*100)/D12)-100 -> 42.964593
A13: BALEARES | B13: 86522 | C13: 53454 | D13: 1541653 | E13: 1553351 | F13: =((E13*100)/D13)-100 -> 0.75879592
A14: BARCELONA | B14: 835934 | C14: 1374654 | D14: 11415816 | E14: 14483623 | F14: =((E14*100)/D14)-100 -> 26.873305
A15: BILBAO | B15: 1828251.4 | C15: 1912653 | D15: 18087202 | E15: 19783840 | F15: =((E15*100)/D15)-100 -> 9.3803208
A16: CARTAGENA | B16: 2407327 | C16: 2024965 | D16: 25025669 | E16: 27177908 | F16: =((E16*100)/D16)-100 -> 8.6001257
A17: CASTELLÓN | B17: 875566 | C17: 384838 | D17: 8354528 | E17: 7834585 | F17: =((E17*100)/D17)-100 -> -6.2234874
A18: CEUTA | B18: 118716 | C18: 95639 | D18: 876112 | E18: 994798 | F18: =((E18*100)/D18)-100 -> 13.546898
... A26: MOTRIL | B26: 102982 | C26: 61251 | D26: 1197007 | E26: 1049953 | F26: =((E26*100)/D26)-100 -> -12.285141
A27: PASAIA | B27: 0 | C27: 0 | D27: 0 | E27: 0
A28: SANTA CRUZ DE TENERIFE | B28: 484249 | C28: 400956 | D28: 6157862 | E28: 5137879 | F28: =((E28*100)/D28)-100 -> -16.563915
A29: SANTANDER | B29: 15973 | C29: 25422 | D29: 139775 | E29: 234493 | F29: =((E29*100)/D29)-100 -> 67.764622
A30: SEVILLA | B30: 16533 | C30: 58055 | D30: 229665 | E30: 422753 | F30: =((E30*100)/D30)-100 -> 84.07376
A31: TARRAGONA | B31: 2078633 | C31: 1666130 | D31: 20268771 | E31: 22035857 | F31: =((E31*100)/D31)-100 -> 8.7182691
A32: VALENCIA | B32: 441744 | C32: 159902 | D32: 3803068 | E32: 3203487 | F32: =((E32*100)/D32)-100 -> -15.765719
A33: VIGO | B33: 3000 | C33: 0 | D33: 60452 | E33: 67776 | F33: =((E33*100)/D33)-100 -> 12.115397
A34: VILAGARCÍA | B34: 13187.09 | C34: 13504 | D34: 184160.09 | E34: 193687.34 | F34: =((E34*100)/D34)-100 -> 5.1733522
A35: Total | B35: =SUM(B7:B34) -> 14647070 | C35: =SUM(C7:C34) -> 14514026 | D35: =SUM(D7:D34) -> 1.6758332e+08 | E35: =SUM(E7:E34) -> 1.7824283e+08 | F35: =((E35*100)/D35)-100 -> 6.3607223
A36: Incluye cargas, descargas, tránsitos y transbordos.
B38: =E6 -> 2017 | C38: =D6 -> 2016 | F38: =B38 -> 2017 | G38: =C38 -> 2016
A39: =A7 -> A CORUÑA | B39: =E7 -> 8788868 | C39: =D7 -> 8169622 | D39: =_xlfn.RANK.EQ(B39,$B$39:$B$66)+COUNTIF($B$39:$B$66,B39)-1 -> 7 | E39: =INDEX($A$39:$B$66,MATCH(ROW()-38,$D$39:$D$66,0),1) -> BAHÍA DE ALGECIRAS | F39: =LOOKUP(E39,$A$39:$A$66,$B$39:$B$66) -> 28774987 | G39: =LOOKUP(E39,$A$39:$A$66,$C$39:$C$66) -> 27309859
A40: =A8 -> ALICANTE | B40: =E8 -> 41228.69 | C40: =D8 -> 43336.06 | D40: =_xlfn.RANK.EQ(B40,$B$39:$B$66)+COUNTIF($B$39:$B$66,B40)-1 -> 25 | E40: =INDEX($A$39:$B$66,MATCH(ROW()-38,$D$39:$D$66,0),1) -> CARTAGENA | F40: =LOOKUP(E40,$A$39:$A$66,$B$39:$B$66) -> 27177908 | G40: =LOOKUP(E40,$A$39:$A$66,$C$39:$C$66) -> 25025669
A41: =A9 -> ALMERÍA | B41: =E9 -> 31656 | C41: =D9 -> 28465 | D41: =_xlfn.RANK.EQ(B41,$B$39:$B$66)+COUNTIF($B$39:$B$66,B41)-1 -> 26 | E41: =INDEX($A$39:$B$66,MATCH(ROW()-38,$D$39:$D$66,0),1) -> HUELVA | F41: =LOOKUP(E41,$A$39:$A$66,$B$39:$B$66) -> 24904547 | G41: =LOOKUP(E41,$A$39:$A$66,$C$39:$C$66) -> 24136062
A42: =A10 -> AVILÉS | B42: =E10 -> 658157.57 | C42: =D10 -> 625174.85 | D42: =_xlfn.RANK.EQ(B42,$B$39:$B$66)+COUNTIF($B$39:$B$66,B42)-1 -> 17 | E42: =INDEX($A$39:$B$66,MATCH(ROW()-38,$D$39:$D$66,0),1) -> TARRAGONA | F42: =LOOKUP(E42,$A$39:$A$66,$B$39:$B$66) -> 22035857 | G42: =LOOKUP(E42,$A$39:$A$66,$C$39:$C$66) -> 20268771
A43: =A11 -> BAHÍA DE ALGECIRAS | B43: =E11 -> 28774987 | C43: =D11 -> 27309859 | D43: =_xlfn.RANK.EQ(B43,$B$39:$B$66)+COUNTIF($B$39:$B$66,B43)-1 -> 1 | E43: =INDEX($A$39:$B$66,MATCH(ROW()-38,$D$39:$D$66,0),1) -> BILBAO | F43: =LOOKUP(E43,$A$39:$A$66,$B$39:$B$66) -> 19783840 | G43: =LOOKUP(E43,$A$39:$A$66,$C$39:$C$66) -> 18087202
A44: =A12 -> BAHÍA DE CÁDIZ | B44: =E12 -> 578775 | C44: =D12 -> 404838 | D44: =_xlfn.RANK.EQ(B44,$B$39:$B$66)+COUNTIF($B$39:$B$66,B44)-1 -> 18 | E44: =INDEX($A$39:$B$66,MATCH(ROW()-38,$D$39:$D$66,0),1) -> BARCELONA | F44: =LOOKUP(E44,$A$39:$A$66,$B$39:$B$66) -> 14483623 | G44: =LOOKUP(E44,$A$39:$A$66,$C$39:$C$66) -> 11415816
A45: =A13 -> BALEARES | B45: =E13 -> 1553351 | C45: =D13 -> 1541653 | D45: =_xlfn.RANK.EQ(B45,$B$39:$B$66)+COUNTIF($B$39:$B$66,B45)-1 -> 13 | E45: =INDEX($A$39:$B$66,MATCH(ROW()-38,$D$39:$D$66,0),1) -> A CORUÑA | F45: =LOOKUP(E45,$A$39:$A$66,$B$39:$B$66) -> 8788868 | G45: =LOOKUP(E45,$A$39:$A$66,$C$39:$C$66) -> 8169622
A46: =A14 -> BARCELONA | B46: =E14 -> 14483623 | C46: =D14 -> 11415816 | D46: =_xlfn.RANK.EQ(B46,$B$39:$B$66)+COUNTIF($B$39:$B$66,B46)-1 -> 6 | E46: =INDEX($A$39:$B$66,MATCH(ROW()-38,$D$39:$D$66,0),1) -> CASTELLÓN | F46: =LOOKUP(E46,$A$39:$A$66,$B$39:$B$66) -> 7834585 | G46: =LOOKUP(E46,$A$39:$A$66,$C$39:$C$66) -> 8354528
A47: =A15 -> BILBAO | B47: =E15 -> 19783840 | C47: =D15 -> 18087202 | D47: =_xlfn.RANK.EQ(B47,$B$39:$B$66)+COUNTIF($B$39:$B$66,B47)-1 -> 5 | E47: =INDEX($A$39:$B$66,MATCH(ROW()-38,$D$39:$D$66,0),1) -> LAS PALMAS | F47: =LOOKUP(E47,$A$39:$A$66,$B$39:$B$66) -> 6849513 | G47: =LOOKUP(E47,$A$39:$A$66,$C$39:$C$66) -> 6119850
A48: =A16 -> CARTAGENA | B48: =E16 -> 27177908 | C48: =D16 -> 25025669 | D48: =_xlfn.RANK.EQ(B48,$B$39:$B$66)+COUNTIF($B$39:$B$66,B48)-1 -> 2 | E48: =INDEX($A$39:$B$66,MATCH(ROW()-38,$D$39:$D$66,0),1) -> SANTA CRUZ DE TENERIFE | F48: =LOOKUP(E48,$A$39:$A$66,$B$39:$B$66) -> 5137879 | G48: =LOOKUP(E48,$A$39:$A$66,$C$39:$C$66) -> 6157862
A49: =A17 -> CASTELLÓN | B49: =E17 -> 7834585 | C49: =D17 -> 8354528 | D49: =_xlfn.RANK.EQ(B49,$B$39:$B$66)+COUNTIF($B$39:$B$66,B49)-1 -> 8 | E49: =INDEX($A$39:$B$66,MATCH(ROW()-38,$D$39:$D$66,0),1) -> VALENCIA | F49: =LOOKUP(E49,$A$39:$A$66,$B$39:$B$66) -> 3203487 | G49: =LOOKUP(E49,$A$39:$A$66,$C$39:$C$66) -> 3803068
A50: =A18 -> CEUTA | B50: =E18 -> 994798 | C50: =D18 -> 876112 | D50: =_xlfn.RANK.EQ(B50,$B$39:$B$66)+COUNTIF($B$39:$B$66,B50)-1 -> 15 | E50: =INDEX($A$39:$B$66,MATCH(ROW()-38,$D$39:$D$66,0),1) -> FERROL-SAN CIBRAO | F50: =LOOKUP(E50,$A$39:$A$66,$B$39:$B$66) -> 2313028.4 | G50: =LOOKUP(E50,$A$39:$A$66,$C$39:$C$66) -> 2345048.8
... A66: =A34 -> VILAGARCÍA | B66: =E34 -> 193687.34 | C66: =D34 -> 184160.09 | D66: =_xlfn.RANK.EQ(B66,$B$39:$B$66)+COUNTIF($B$39:$B$66,B66)-1 -> 21 | E66: =INDEX($A$39:$B$66,MATCH(ROW()-38,$D$39:$D$66,0),1) -> MARÍN Y RÍA DE PONTEVEDRA | F66: =LOOKUP(E66,$A$39:$A$66,$B$39:$B$66) -> 0 | G66: =LOOKUP(E66,$A$39:$A$66,$C$39:$C$66) -> 3.5

Sheet Sólidos
F1: 3. GRANELES SÓLIDOS (toneladas)
A5: Autoridad Portuaria | B5: ='Resumen general'!D6 -> Mes diciembre | D5: ='Resumen general'!F6 -> Acumulado desde enero | L5: ='Resumen general'!I4 -> Fecha: 20/12/2018
B6: ='Resumen general'!D7 -> 2016 | C6: ='Resumen general'!E7 -> 2017 | D6: ='Resumen general'!F7 -> 2016 | E6: ='Resumen general'!G7 -> 2017 | F6: Var. (%)
A7: A CORUÑA | B7: 448578 | C7: 505663 | D7: 4345101 | E7: 5057024 | F7: =((E7*100)/D7)-100 -> 16.384498
A8: ALICANTE | B8: 94270.34 | C8: 119149 | D8: 1904456.3 | E8: 1877180.2 | F8: =((E8*100)/D8)-100 -> -1.4322287
A9: ALMERÍA | B9: 481843 | C9: 552214 | D9: 4695167 | E9: 5618871 | F9: =((E9*100)/D9)-100 -> 19.673507
A10: AVILÉS | B10: 296135.46 | C10: 225930 | D10: 2920900.5 | E10: 2879679.5 | F10: =((E10*100)/D10)-100 -> -1.4112425
A11: BAHÍA DE ALGECIRAS | B11: 399110 | C11: 219938 | D11: 1778840 | E11: 2102907 | F11: =((E11*100)/D11)-100 -> 18.217884
A12: BAHÍA DE CÁDIZ | B12: 142299 | C12: 131474 | D12: 1763516 | E12: 1747589 | F12: =((E12*100)/D12)-100 -> -0.90313896
A13: BALEARES | B13: 145351 | C13: 126044 | D13: 1550899 | E13: 1610651 | F13: =((E13*100)/D13)-100 -> 3.8527332
A14: BARCELONA | B14: 446616 | C14: 352402 | D14: 4430798 | E14: 4465637 | F14: =((E14*100)/D14)-100 -> 0.78629177
A15: BILBAO | B15: 480783 | C15: 405774 | D15: 4362064 | E15: 4543164 | F15: =((E15*100)/D15)-100 -> 4.1517043
A16: CARTAGENA | B16: 372116 | C16: 469293 | D16: 5304817 | E16: 5820338 | F16: =((E16*100)/D16)-100 -> 9.717979
A17: CASTELLÓN | B17: 501262 | C17: 491299 | D17: 5198982 | E17: 6463716 | F17: =((E17*100)/D17)-100 -> 24.32657
A18: CEUTA | B18: 0 | C18: 0 | D18: 22249 | E18: 17469 | F18: =((E18*100)/D18)-100 -> -21.484112
... A34: VILAGARCÍA | B34: 57030.16 | C34: 51015 | D34: 320553.16 | E34: 421101.14 | F34: =((E34*100)/D34)-100 -> 31.367022
A35: Total | B35: =SUM(B7:B34) -> 8341804.8 | C35: =SUM(C7:C34) -> 8579383 | D35: =SUM(D7:D34) -> 91993448 | E35: =SUM(E7:E34) -> 1.0142872e+08 | F35: =((E35*100)/D35)-100 -> 10.256456
A36: Incluye cargas, descargas, tránsitos y transbordos.
B38: =E6 -> 2017 | C38: =D6 -> 2016 | F38: =B38 -> 2017 | G38: =C38 -> 2016
A39: =A7 -> A CORUÑA | B39: =E7 -> 5057024 | C39: =D7 -> 4345101 | D39: =_xlfn.RANK.EQ(B39,$B$39:$B$66)+COUNTIF($B$39:$B$66,B39)-1 -> 8 | E39: =INDEX($A$39:$B$66,MATCH(ROW()-38,$D$39:$D$66,0),1) -> GIJÓN | F39: =LOOKUP(E39,$A$39:$A$66,$B$39:$B$66) -> 19220421 | G39: =LOOKUP(E39,$A$39:$A$66,$C$39:$C$66) -> 16023647
A40: =A8 -> ALICANTE | B40: =E8 -> 1877180.2 | C40: =D8 -> 1904456.3 | D40: =_xlfn.RANK.EQ(B40,$B$39:$B$66)+COUNTIF($B$39:$B$66,B40)-1 -> 16 | E40: =INDEX($A$39:$B$66,MATCH(ROW()-38,$D$39:$D$66,0),1) -> FERROL-SAN CIBRAO | F40: =LOOKUP(E40,$A$39:$A$66,$B$39:$B$66) -> 10455812 | G40: =LOOKUP(E40,$A$39:$A$66,$C$39:$C$66) -> 9406039
A41: =A9 -> ALMERÍA | B41: =E9 -> 5618871 | C41: =D9 -> 4695167 | D41: =_xlfn.RANK.EQ(B41,$B$39:$B$66)+COUNTIF($B$39:$B$66,B41)-1 -> 7 | E41: =INDEX($A$39:$B$66,MATCH(ROW()-38,$D$39:$D$66,0),1) -> TARRAGONA | F41: =LOOKUP(E41,$A$39:$A$66,$B$39:$B$66) -> 9505432 | G41: =LOOKUP(E41,$A$39:$A$66,$C$39:$C$66) -> 9065474
A42: =A10 -> AVILÉS | B42: =E10 -> 2879679.5 | C42: =D10 -> 2920900.5 | D42: =_xlfn.RANK.EQ(B42,$B$39:$B$66)+COUNTIF($B$39:$B$66,B42)-1 -> 12 | E42: =INDEX($A$39:$B$66,MATCH(ROW()-38,$D$39:$D$66,0),1) -> HUELVA | F42: =LOOKUP(E42,$A$39:$A$66,$B$39:$B$66) -> 6487378.1 | G42: =LOOKUP(E42,$A$39:$A$66,$C$39:$C$66) -> 5759382.8
A43: =A11 -> BAHÍA DE ALGECIRAS | B43: =E11 -> 2102907 | C43: =D11 -> 1778840 | D43: =_xlfn.RANK.EQ(B43,$B$39:$B$66)+COUNTIF($B$39:$B$66,B43)-1 -> 15 | E43: =INDEX($A$39:$B$66,MATCH(ROW()-38,$D$39:$D$66,0),1) -> CASTELLÓN | F43: =LOOKUP(E43,$A$39:$A$66,$B$39:$B$66) -> 6463716 | G43: =LOOKUP(E43,$A$39:$A$66,$C$39:$C$66) -> 5198982
A44: =A12 -> BAHÍA DE CÁDIZ | B44: =E12 -> 1747589 | C44: =D12 -> 1763516 | D44: =_xlfn.RANK.EQ(B44,$B$39:$B$66)+COUNTIF($B$39:$B$66,B44)-1 -> 17 | E44: =INDEX($A$39:$B$66,MATCH(ROW()-38,$D$39:$D$66,0),1) -> CARTAGENA | F44: =LOOKUP(E44,$A$39:$A$66,$B$39:$B$66) -> 5820338 | G44: =LOOKUP(E44,$A$39:$A$66,$C$39:$C$66) -> 5304817
A45: =A13 -> BALEARES | B45: =E13 -> 1610651 | C45: =D13 -> 1550899 | D45: =_xlfn.RANK.EQ(B45,$B$39:$B$66)+COUNTIF($B$39:$B$66,B45)-1 -> 19 | E45: =INDEX($A$39:$B$66,MATCH(ROW()-38,$D$39:$D$66,0),1) -> ALMERÍA | F45: =LOOKUP(E45,$A$39:$A$66,$B$39:$B$66) -> 5618871 | G45: =LOOKUP(E45,$A$39:$A$66,$C$39:$C$66) -> 4695167
A46: =A14 -> BARCELONA | B46: =E14 -> 4465637 | C46: =D14 -> 4430798 | D46: =_xlfn.RANK.EQ(B46,$B$39:$B$66)+COUNTIF($B$39:$B$66,B46)-1 -> 10 | E46: =INDEX($A$39:$B$66,MATCH(ROW()-38,$D$39:$D$66,0),1) -> A CORUÑA | F46: =LOOKUP(E46,$A$39:$A$66,$B$39:$B$66) -> 5057024 | G46: =LOOKUP(E46,$A$39:$A$66,$C$39:$C$66) -> 4345101
A47: =A15 -> BILBAO | B47: =E15 -> 4543164 | C47: =D15 -> 4362064 | D47: =_xlfn.RANK.EQ(B47,$B$39:$B$66)+COUNTIF($B$39:$B$66,B47)-1 -> 9 | E47: =INDEX($A$39:$B$66,MATCH(ROW()-38,$D$39:$D$66,0),1) -> BILBAO | F47: =LOOKUP(E47,$A$39:$A$66,$B$39:$B$66) -> 4543164 | G47: =LOOKUP(E47,$A$39:$A$66,$C$39:$C$66) -> 4362064
A48: =A16 -> CARTAGENA | B48: =E16 -> 5820338 | C48: =D16 -> 5304817 | D48: =_xlfn.RANK.EQ(B48,$B$39:$B$66)+COUNTIF($B$39:$B$66,B48)-1 -> 6 | E48: =INDEX($A$39:$B$66,MATCH(ROW()-38,$D$39:$D$66,0),1) -> BARCELONA | F48: =LOOKUP(E48,$A$39:$A$66,$B$39:$B$66) -> 4465637 | G48: =LOOKUP(E48,$A$39:$A$66,$C$39:$C$66) -> 4430798
A49: =A17 -> CASTELLÓN | B49: =E17 -> 6463716 | C49: =D17 -> 5198982 | D49: =_xlfn.RANK.EQ(B49,$B$39:$B$66)+COUNTIF($B$39:$B$66,B49)-1 -> 5 | E49: =INDEX($A$39:$B$66,MATCH(ROW()-38,$D$39:$D$66,0),1) -> SANTANDER | F49: =LOOKUP(E49,$A$39:$A$66,$B$39:$B$66) -> 3476272 | G49: =LOOKUP(E49,$A$39:$A$66,$C$39:$C$66) -> 2823113
A50: =A18 -> CEUTA | B50: =E18 -> 17469 | C50: =D18 -> 22249 | D50: =_xlfn.RANK.EQ(B50,$B$39:$B$66)+COUNTIF($B$39:$B$66,B50)-1 -> 27 | E50: =INDEX($A$39:$B$66,MATCH(ROW()-38,$D$39:$D$66,0),1) -> AVILÉS | F50: =LOOKUP(E50,$A$39:$A$66,$B$39:$B$66) -> 2879679.5 | G50: =LOOKUP(E50,$A$39:$A$66,$C$39:$C$66) -> 2920900.5
... A66: =A34 -> VILAGARCÍA | B66: =E34 -> 421101.14 | C66: =D34 -> 320553.16 | D66: =_xlfn.RANK.EQ(B66,$B$39:$B$66)+COUNTIF($B$39:$B$66,B66)-1 -> 24 | E66: =INDEX($A$39:$B$66,MATCH(ROW()-38,$D$39:$D$66,0),1) -> MELILLA | F66: =LOOKUP(E66,$A$39:$A$66,$B$39:$B$66) -> 7372 | G66: =LOOKUP(E66,$A$39:$A$66,$C$39:$C$66) -> 5825

Sheet Mercancía general
F1: 4. MERCANCÍA GENERAL (toneladas)
A5: Autoridad Portuaria | B5: ='Resumen general'!D6 -> Mes diciembre | D5: ='Resumen general'!F6 -> Acumulado desde enero | L5: ='Resumen general'!I4 -> Fecha: 20/12/2018
B6: ='Resumen general'!D7 -> 2016 | C6: ='Resumen general'!E7 -> 2017 | D6: ='Resumen general'!F7 -> 2016 | E6: ='Resumen general'!G7 -> 2017 | F6: Var. (%)
A7: A CORUÑA | B7: 81486 | C7: 61348 | D7: 1012375 | E7: 914720 | F7: =((E7*100)/D7)-100 -> -9.6461292
A8: ALICANTE | B8: 137869.13 | C8: 135594 | D8: 1494788.1 | E8: 1503201.8 | F8: =((E8*100)/D8)-100 -> 0.56286974
A9: ALMERÍA | B9: 59514 | C9: 54025 | D9: 666391 | E9: 639714 | F9: =((E9*100)/D9)-100 -> -4.0032053
A10: AVILÉS | B10: 204203.78 | C10: 108968 | D10: 1363057.8 | E10: 1214020.2 | F10: =((E10*100)/D10)-100 -> -10.934063
A11: BAHÍA DE ALGECIRAS | B11: 5453868 | C11: 5496147 | D11: 67772961 | E11: 65452560 | F11: =((E11*100)/D11)-100 -> -3.4237858
A12: BAHÍA DE CÁDIZ | B12: 107368 | C12: 124763 | D12: 1329300 | E12: 1660429 | F12: =((E12*100)/D12)-100 -> 24.910028
A13: BALEARES | B13: 782140 | C13: 771832 | D13: 11583653 | E13: 12244800 | F13: =((E13*100)/D13)-100 -> 5.7075864
A14: BARCELONA | B14: 2525566 | C14: 3288812 | D14: 31666349 | E14: 41120874 | F14: =((E14*100)/D14)-100 -> 29.856694
A15: BILBAO | B15: 1090646 | C15: 1024882 | D15: 9499477 | E15: 9867978 | F15: =((E15*100)/D15)-100 -> 3.8791715
A16: CARTAGENA | B16: 85953 | C16: 113434 | D16: 1394137 | E16: 1534101 | F16: =((E16*100)/D16)-100 -> 10.039472
A17: CASTELLÓN | B17: 306805 | C17: 238469 | D17: 3489164 | E17: 3583884 | F17: =((E17*100)/D17)-100 -> 2.7146904
A18: CEUTA | B18: 87837 | C18: 55794 | D18: 1036230 | E18: 868829 | F18: =((E18*100)/D18)-100 -> -16.154811
... A34: VILAGARCÍA | B34: 44297.61 | C34: 39658 | D34: 601068.61 | E34: 586970.88 | F34: =((E34*100)/D34)-100 -> -2.3454444
A35: Total | B35: =SUM(B7:B34) -> 19612269 | C35: =SUM(C7:C34) -> 20409797 | D35: =SUM(D7:D34) -> 2.3603122e+08 | E35: =SUM(E7:E34) -> 2.5246602e+08 | F35: =((E35*100)/D35)-100 -> 6.9629747
A36: Incluye cargas, descargas, tránsitos y transbordos.
B38: =E6 -> 2017 | C38: =D6 -> 2016 | F38: =B38 -> 2017 | G38: =C38 -> 2016
A39: =A7 -> A CORUÑA | B39: =E7 -> 914720 | C39: =D7 -> 1012375 | D39: =_xlfn.RANK.EQ(B39,$B$39:$B$66)+COUNTIF($B$39:$B$66,B39)-1 -> 22 | E39: =INDEX($A$39:$B$66,MATCH(ROW()-38,$D$39:$D$66,0),1) -> VALENCIA | F39: =LOOKUP(E39,$A$39:$A$66,$B$39:$B$66) -> 67767129 | G39: =LOOKUP(E39,$A$39:$A$66,$C$39:$C$66) -> 64660896
A40: =A8 -> ALICANTE | B40: =E8 -> 1503201.8 | C40: =D8 -> 1494788.1 | D40: =_xlfn.RANK.EQ(B40,$B$39:$B$66)+COUNTIF($B$39:$B$66,B40)-1 -> 18 | E40: =INDEX($A$39:$B$66,MATCH(ROW()-38,$D$39:$D$66,0),1) -> BAHÍA DE ALGECIRAS | F40: =LOOKUP(E40,$A$39:$A$66,$B$39:$B$66) -> 65452560 | G40: =LOOKUP(E40,$A$39:$A$66,$C$39:$C$66) -> 67772961
A41: =A9 -> ALMERÍA | B41: =E9 -> 639714 | C41: =D9 -> 666391 | D41: =_xlfn.RANK.EQ(B41,$B$39:$B$66)+COUNTIF($B$39:$B$66,B41)-1 -> 27 | E41: =INDEX($A$39:$B$66,MATCH(ROW()-38,$D$39:$D$66,0),1) -> BARCELONA | F41: =LOOKUP(E41,$A$39:$A$66,$B$39:$B$66) -> 41120874 | G41: =LOOKUP(E41,$A$39:$A$66,$C$39:$C$66) -> 31666349
A42: =A10 -> AVILÉS | B42: =E10 -> 1214020.2 | C42: =D10 -> 1363057.8 | D42: =_xlfn.RANK.EQ(B42,$B$39:$B$66)+COUNTIF($B$39:$B$66,B42)-1 -> 19 | E42: =INDEX($A$39:$B$66,MATCH(ROW()-38,$D$39:$D$66,0),1) -> LAS PALMAS | F42: =LOOKUP(E42,$A$39:$A$66,$B$39:$B$66) -> 16933001 | G42: =LOOKUP(E42,$A$39:$A$66,$C$39:$C$66) -> 13538658
A43: =A11 -> BAHÍA DE ALGECIRAS | B43: =E11 -> 65452560 | C43: =D11 -> 67772961 | D43: =_xlfn.RANK.EQ(B43,$B$39:$B$66)+COUNTIF($B$39:$B$66,B43)-1 -> 2 | E43: =INDEX($A$39:$B$66,MATCH(ROW()-38,$D$39:$D$66,0),1) -> BALEARES | F43: =LOOKUP(E43,$A$39:$A$66,$B$39:$B$66) -> 12244800 | G43: =LOOKUP(E43,$A$39:$A$66,$C$39:$C$66) -> 11583653
A44: =A12 -> BAHÍA DE CÁDIZ | B44: =E12 -> 1660429 | C44: =D12 -> 1329300 | D44: =_xlfn.RANK.EQ(B44,$B$39:$B$66)+COUNTIF($B$39:$B$66,B44)-1 -> 14 | E44: =INDEX($A$39:$B$66,MATCH(ROW()-38,$D$39:$D$66,0),1) -> BILBAO | F44: =LOOKUP(E44,$A$39:$A$66,$B$39:$B$66) -> 9867978 | G44: =LOOKUP(E44,$A$39:$A$66,$C$39:$C$66) -> 9499477
A45: =A13 -> BALEARES | B45: =E13 -> 12244800 | C45: =D13 -> 11583653 | D45: =_xlfn.RANK.EQ(B45,$B$39:$B$66)+COUNTIF($B$39:$B$66,B45)-1 -> 5 | E45: =INDEX($A$39:$B$66,MATCH(ROW()-38,$D$39:$D$66,0),1) -> SANTA CRUZ DE TENERIFE | F45: =LOOKUP(E45,$A$39:$A$66,$B$39:$B$66) -> 7391132 | G45: =LOOKUP(E45,$A$39:$A$66,$C$39:$C$66) -> 6385031
A46: =A14 -> BARCELONA | B46: =E14 -> 41120874 | C46: =D14 -> 31666349 | D46: =_xlfn.RANK.EQ(B46,$B$39:$B$66)+COUNTIF($B$39:$B$66,B46)-1 -> 3 | E46: =INDEX($A$39:$B$66,MATCH(ROW()-38,$D$39:$D$66,0),1) -> VIGO | F46: =LOOKUP(E46,$A$39:$A$66,$B$39:$B$66) -> 3637839.5 | G46: =LOOKUP(E46,$A$39:$A$66,$C$39:$C$66) -> 3566241
A47: =A15 -> BILBAO | B47: =E15 -> 9867978 | C47: =D15 -> 9499477 | D47: =_xlfn.RANK.EQ(B47,$B$39:$B$66)+COUNTIF($B$39:$B$66,B47)-1 -> 6 | E47: =INDEX($A$39:$B$66,MATCH(ROW()-38,$D$39:$D$66,0),1) -> CASTELLÓN | F47: =LOOKUP(E47,$A$39:$A$66,$B$39:$B$66) -> 3583884 | G47: =LOOKUP(E47,$A$39:$A$66,$C$39:$C$66) -> 3489164
A48: =A16 -> CARTAGENA | B48: =E16 -> 1534101 | C48: =D16 -> 1394137 | D48: =_xlfn.RANK.EQ(B48,$B$39:$B$66)+COUNTIF($B$39:$B$66,B48)-1 -> 17 | E48: =INDEX($A$39:$B$66,MATCH(ROW()-38,$D$39:$D$66,0),1) -> PASAIA | F48: =LOOKUP(E48,$A$39:$A$66,$B$39:$B$66) -> 2085298 | G48: =LOOKUP(E48,$A$39:$A$66,$C$39:$C$66) -> 2294657
A49: =A17 -> CASTELLÓN | B49: =E17 -> 3583884 | C49: =D17 -> 3489164 | D49: =_xlfn.RANK.EQ(B49,$B$39:$B$66)+COUNTIF($B$39:$B$66,B49)-1 -> 9 | E49: =INDEX($A$39:$B$66,MATCH(ROW()-38,$D$39:$D$66,0),1) -> TARRAGONA | F49: =LOOKUP(E49,$A$39:$A$66,$B$39:$B$66) -> 2079663 | G49: =LOOKUP(E49,$A$39:$A$66,$C$39:$C$66) -> 1994525
A50: =A18 -> CEUTA | B50: =E18 -> 868829 | C50: =D18 -> 1036230 | D50: =_xlfn.RANK.EQ(B50,$B$39:$B$66)+COUNTIF($B$39:$B$66,B50)-1 -> 23 | E50: =INDEX($A$39:$B$66,MATCH(ROW()-38,$D$39:$D$66,0),1) -> SEVILLA | F50: =LOOKUP(E50,$A$39:$A$66,$B$39:$B$66) -> 1901287 | G50: =LOOKUP(E50,$A$39:$A$66,$C$39:$C$66) -> 2310497
... A66: =A34 -> VILAGARCÍA | B66: =E34 -> 586970.88 | C66: =D34 -> 601068.61 | D66: =_xlfn.RANK.EQ(B66,$B$39:$B$66)+COUNTIF($B$39:$B$66,B66)-1 -> 28 | E66: =INDEX($A$39:$B$66,MATCH(ROW()-38,$D$39:$D$66,0),1) -> VILAGARCÍA | F66: =LOOKUP(E66,$A$39:$A$66,$B$39:$B$66) -> 586970.88 | G66: =LOOKUP(E66,$A$39:$A$66,$C$39:$C$66) -> 601068.61

Sheet Mercancías contenedores
F1: 4.1. MERCANCÍAS EN CONTENEDORES (toneladas)
A5: Autoridad Portuaria | B5: ='Resumen general'!D6 -> Mes diciembre | D5: ='Resumen general'!F6 -> Acumulado desde enero | L5: ='Resumen general'!I4 -> Fecha: 20/12/2018
B6: ='Resumen general'!D7 -> 2016 | C6: ='Resumen general'!E7 -> 2017 | D6: ='Resumen general'!F7 -> 2016 | E6: ='Resumen general'!G7 -> 2017 | F6: Var. (%)
A7: A CORUÑA | B7: 0 | C7: 0 | D7: 565 | E7: 6 | F7: =((E7*100)/D7)-100 -> -98.938053
A8: ALICANTE | B8: 107983.56 | C8: 118195 | D8: 1223631.6 | E8: 1258641.8 | F8: =((E8*100)/D8)-100 -> 2.8611766
A9: ALMERÍA | B9: 2450 | C9: 2125 | D9: 42615 | E9: 34934 | F9: =((E9*100)/D9)-100 -> -18.02417
A10: AVILÉS | B10: 0 | C10: 0 | D10: 2 | E10: 0 | F10: =((E10*100)/D10)-100 -> -100
A11: BAHÍA DE ALGECIRAS | B11: 4748404 | C11: 4819683 | D11: 60178589 | E11: 57600003 | F11: =((E11*100)/D11)-100 -> -4.2848894
A12: BAHÍA DE CÁDIZ | B12: 45434 | C12: 54504 | D12: 581737 | E12: 644765 | F12: =((E12*100)/D12)-100 -> 10.834449
A13: BALEARES | B13: 60801 | C13: 51980 | D13: 847084 | E13: 813517 | F13: =((E13*100)/D13)-100 -> -3.9626531
A14: BARCELONA | B14: 1845854 | C14: 2490444 | D14: 20929309 | E14: 29911225 | F14: =((E14*100)/D14)-100 -> 42.915492
A15: BILBAO | B15: 668165 | C15: 709846 | D15: 6372959 | E15: 6464560 | F15: =((E15*100)/D15)-100 -> 1.4373386
A16: CARTAGENA | B16: 72177 | C16: 89857 | D16: 1171162 | E16: 1223604 | F16: =((E16*100)/D16)-100 -> 4.4777751
A17: CASTELLÓN | B17: 279321 | C17: 217705 | D17: 3225695 | E17: 3276619 | F17: =((E17*100)/D17)-100 -> 1.5786985
A18: CEUTA | B18: 13503 | C18: 6845 | D18: 157954 | E18: 125217 | F18: =((E18*100)/D18)-100 -> -20.725654
... A34: VILAGARCÍA | B34: 19949.83 | C34: 25065 | D34: 278909.83 | E34: 293923.05 | F34: =((E34*100)/D34)-100 -> 5.3828221
A35: Total | B35: =SUM(B7:B34) -> 13884423 | C35: =SUM(C7:C34) -> 14859486 | D35: =SUM(D7:D34) -> 1.6829421e+08 | E35: =SUM(E7:E34) -> 1.8145292e+08 | F35: =((E35*100)/D35)-100 -> 7.8188721
A36: Incluye cargas, descargas, tránsitos y transbordos.
B38: =E6 -> 2017 | C38: =D6 -> 2016 | F38: =B38 -> 2017 | G38: =C38 -> 2016
A39: =A7 -> A CORUÑA | B39: =E7 -> 6 | C39: =D7 -> 565 | D39: =_xlfn.RANK.EQ(B39,$B$39:$B$66)+COUNTIF($B$39:$B$66,B39)-1 -> 27 | E39: =INDEX($A$39:$B$66,MATCH(ROW()-38,$D$39:$D$66,0),1) -> BAHÍA DE ALGECIRAS | F39: =LOOKUP(E39,$A$39:$A$66,$B$39:$B$66) -> 57600003 | G39: =LOOKUP(E39,$A$39:$A$66,$C$39:$C$66) -> 60178589
A40: =A8 -> ALICANTE | B40: =E8 -> 1258641.8 | C40: =D8 -> 1223631.6 | D40: =_xlfn.RANK.EQ(B40,$B$39:$B$66)+COUNTIF($B$39:$B$66,B40)-1 -> 9 | E40: =INDEX($A$39:$B$66,MATCH(ROW()-38,$D$39:$D$66,0),1) -> VALENCIA | F40: =LOOKUP(E40,$A$39:$A$66,$B$39:$B$66) -> 55978616 | G40: =LOOKUP(E40,$A$39:$A$66,$C$39:$C$66) -> 53872459
A41: =A9 -> ALMERÍA | B41: =E9 -> 34934 | C41: =D9 -> 42615 | D41: =_xlfn.RANK.EQ(B41,$B$39:$B$66)+COUNTIF($B$39:$B$66,B41)-1 -> 24 | E41: =INDEX($A$39:$B$66,MATCH(ROW()-38,$D$39:$D$66,0),1) -> BARCELONA | F41: =LOOKUP(E41,$A$39:$A$66,$B$39:$B$66) -> 29911225 | G41: =LOOKUP(E41,$A$39:$A$66,$C$39:$C$66) -> 20929309
A42: =A10 -> AVILÉS | B42: =E10 -> 0 | C42: =D10 -> 2 | D42: =_xlfn.RANK.EQ(B42,$B$39:$B$66)+COUNTIF($B$39:$B$66,B42)-1 -> 28 | E42: =INDEX($A$39:$B$66,MATCH(ROW()-38,$D$39:$D$66,0),1) -> LAS PALMAS | F42: =LOOKUP(E42,$A$39:$A$66,$B$39:$B$66) -> 12806963 | G42: =LOOKUP(E42,$A$39:$A$66,$C$39:$C$66) -> 9427479
A43: =A11 -> BAHÍA DE ALGECIRAS | B43: =E11 -> 57600003 | C43: =D11 -> 60178589 | D43: =_xlfn.RANK.EQ(B43,$B$39:$B$66)+COUNTIF($B$39:$B$66,B43)-1 -> 1 | E43: =INDEX($A$39:$B$66,MATCH(ROW()-38,$D$39:$D$66,0),1) -> BILBAO | F43: =LOOKUP(E43,$A$39:$A$66,$B$39:$B$66) -> 6464560 | G43: =LOOKUP(E43,$A$39:$A$66,$C$39:$C$66) -> 6372959
A44: =A12 -> BAHÍA DE CÁDIZ | B44: =E12 -> 644765 | C44: =D12 -> 581737 | D44: =_xlfn.RANK.EQ(B44,$B$39:$B$66)+COUNTIF($B$39:$B$66,B44)-1 -> 15 | E44: =INDEX($A$39:$B$66,MATCH(ROW()-38,$D$39:$D$66,0),1) -> SANTA CRUZ DE TENERIFE | F44: =LOOKUP(E44,$A$39:$A$66,$B$39:$B$66) -> 3699948 | G44: =LOOKUP(E44,$A$39:$A$66,$C$39:$C$66) -> 2870636
A45: =A13 -> BALEARES | B45: =E13 -> 813517 | C45: =D13 -> 847084 | D45: =_xlfn.RANK.EQ(B45,$B$39:$B$66)+COUNTIF($B$39:$B$66,B45)-1 -> 14 | E45: =INDEX($A$39:$B$66,MATCH(ROW()-38,$D$39:$D$66,0),1) -> CASTELLÓN | F45: =LOOKUP(E45,$A$39:$A$66,$B$39:$B$66) -> 3276619 | G45: =LOOKUP(E45,$A$39:$A$66,$C$39:$C$66) -> 3225695
A46: =A14 -> BARCELONA | B46: =E14 -> 29911225 | C46: =D14 -> 20929309 | D46: =_xlfn.RANK.EQ(B46,$B$39:$B$66)+COUNTIF($B$39:$B$66,B46)-1 -> 3 | E46: =INDEX($A$39:$B$66,MATCH(ROW()-38,$D$39:$D$66,0),1) -> VIGO | F46: =LOOKUP(E46,$A$39:$A$66,$B$39:$B$66) -> 2590411 | G46: =LOOKUP(E46,$A$39:$A$66,$C$39:$C$66) -> 2584834
A47: =A15 -> BILBAO | B47: =E15 -> 6464560 | C47: =D15 -> 6372959 | D47: =_xlfn.RANK.EQ(B47,$B$39:$B$66)+COUNTIF($B$39:$B$66,B47)-1 -> 5 | E47: =INDEX($A$39:$B$66,MATCH(ROW()-38,$D$39:$D$66,0),1) -> ALICANTE | F47: =LOOKUP(E47,$A$39:$A$66,$B$39:$B$66) -> 1258641.8 | G47: =LOOKUP(E47,$A$39:$A$66,$C$39:$C$66) -> 1223631.6
A48: =A16 -> CARTAGENA | B48: =E16 -> 1223604 | C48: =D16 -> 1171162 | D48: =_xlfn.RANK.EQ(B48,$B$39:$B$66)+COUNTIF($B$39:$B$66,B48)-1 -> 10 | E48: =INDEX($A$39:$B$66,MATCH(ROW()-38,$D$39:$D$66,0),1) -> CARTAGENA | F48: =LOOKUP(E48,$A$39:$A$66,$B$39:$B$66) -> 1223604 | G48: =LOOKUP(E48,$A$39:$A$66,$C$39:$C$66) -> 1171162
A49: =A17 -> CASTELLÓN | B49: =E17 -> 3276619 | C49: =D17 -> 3225695 | D49: =_xlfn.RANK.EQ(B49,$B$39:$B$66)+COUNTIF($B$39:$B$66,B49)-1 -> 7 | E49: =INDEX($A$39:$B$66,MATCH(ROW()-38,$D$39:$D$66,0),1) -> GIJÓN | F49: =LOOKUP(E49,$A$39:$A$66,$B$39:$B$66) -> 909346 | G49: =LOOKUP(E49,$A$39:$A$66,$C$39:$C$66) -> 820984
A50: =A18 -> CEUTA | B50: =E18 -> 125217 | C50: =D18 -> 157954 | D50: =_xlfn.RANK.EQ(B50,$B$39:$B$66)+COUNTIF($B$39:$B$66,B50)-1 -> 21 | E50: =INDEX($A$39:$B$66,MATCH(ROW()-38,$D$39:$D$66,0),1) -> MARÍN Y RÍA DE PONTEVEDRA | F50: =LOOKUP(E50,$A$39:$A$66,$B$39:$B$66) -> 899456 | G50: =LOOKUP(E50,$A$39:$A$66,$C$39:$C$66) -> 615786.13
... A66: =A34 -> VILAGARCÍA | B66: =E34 -> 293923.05 | C66: =D34 -> 278909.83 | D66: =_xlfn.RANK.EQ(B66,$B$39:$B$66)+COUNTIF($B$39:$B$66,B66)-1 -> 19 | E66: =INDEX($A$39:$B$66,MATCH(ROW()-38,$D$39:$D$66,0),1) -> AVILÉS | F66: =LOOKUP(E66,$A$39:$A$66,$B$39:$B$66) -> 0 | G66: =LOOKUP(E66,$A$39:$A$66,$C$39:$C$66) -> 2

Sheet Pesca
F1: 5. PESCA (toneladas)
A5: Autoridad Portuaria | B5: ='Resumen general'!D6 -> Mes diciembre | D5: ='Resumen general'!F6 -> Acumulado desde enero | L5: ='Resumen general'!I4 -> Fecha: 20/12/2018
B6: ='Resumen general'!D7 -> 2016 | C6: ='Resumen general'!E7 -> 2017 | D6: ='Resumen general'!F7 -> 2016 | E6: ='Resumen general'!G7 -> 2017 | F6: Var. (%)
A7: A CORUÑA | B7: 3399.2 | C7: 2178 | D7: 43690.2 | E7: 51102.289 | F7: =((E7*100)/D7)-100 -> 16.965107
A8: ALICANTE | B8: 26.37 | C8: 24 | D8: 254.37 | E8: 1668.957 | F8: =((E8*100)/D8)-100 -> 556.11393
A9: ALMERÍA | B9: 76 | C9: 241 | D9: 1945 | E9: 3465.653 | F9: =((E9*100)/D9)-100 -> 78.182674
A10: AVILÉS | B10: 650.94 | C10: 664 | D10: 12556.94 | E10: 13568.722 | F10: =((E10*100)/D10)-100 -> 8.0575522
A11: BAHÍA DE ALGECIRAS | B11: 53 | C11: 31 | D11: 868 | E11: 1014.97 | F11: =((E11*100)/D11)-100 -> 16.932028
A12: BAHÍA DE CÁDIZ | B12: 927.2 | C12: 987 | D12: 17333.2 | E12: 16293.623 | F12: =((E12*100)/D12)-100 -> -5.9976058
A13: BALEARES | B13: 221.4 | C13: 118 | D13: 2990.4 | E13: 3004.166 | F13: =((E13*100)/D13)-100 -> 0.46033975
A14: BARCELONA | B14: 10 | C14: 25 | D14: 3314 | E14: 2961.48 | F14: =((E14*100)/D14)-100 -> -10.637296
A15: BILBAO | B15: 0 | C15: 0 | D15: 0 | E15: 0
A16: CARTAGENA | B16: 33 | C16: 28 | D16: 510 | E16: 517.271 | F16: =((E16*100)/D16)-100 -> 1.4256863
A17: CASTELLÓN | B17: 151 | C17: 98 | D17: 4731 | E17: 4291.133 | F17: =((E17*100)/D17)-100 -> -9.2975481
A18: CEUTA | B18: 34 | C18: 0 | D18: 34 | E18: 27.902
A19: FERROL-SAN CIBRAO | B19: 29.99 | C19: 19 | D19: 266.99 | E19: 219.407 | F19: =((E19*100)/D19)-100 -> -17.822016
A20: GIJÓN | B20: 309.2 | C20: 157 | D20: 8284.2 | E20: 7364.836 | F20: =((E20*100)/D20)-100 -> -11.097801
A21: HUELVA | B21: 162.59 | C21: 147 | D21: 2031.59 | E21: 2009.576 | F21: =((E21*100)/D21)-100 -> -1.0835848
A22: LAS PALMAS | B22: 29 | C22: 31 | D22: 1841 | E22: 707.778 | F22: =((E22*100)/D22)-100 -> -61.554699
A23: MÁLAGA | B23: 6.54 | C23: 45 | D23: 638.54 | E23: 500.829 | F23: =((E23*100)/D23)-100 -> -21.566542
A24: MARÍN Y RÍA DE PONTEVEDRA | B24: 166.32 | C24: 150 | D24: 2046.32 | E24: 1944.756 | F24: =((E24*100)/D24)-100 -> -4.9632511
A25: MELILLA | B25: 0 | C25: 0 | D25: 0 | E25: 0
A26: MOTRIL | B26: 50 | C26: 48 | D26: 963 | E26: 1709.633 | F26: =((E26*100)/D26)-100 -> 77.531983
A27: PASAIA | B27: 2700.2 | C27: 1874 | D27: 27551.2 | E27: 25988.819 | F27: =((E27*100)/D27)-100 -> -5.6708274
A28: SANTA CRUZ DE TENERIFE | B28: 174 | C28: 158 | D28: 7661 | E28: 5921.679 | F28: =((E28*100)/D28)-100 -> -22.703577
A29: SANTANDER | B29: 210 | C29: 354 | D29: 3577 | E29: 4056.542 | F29: =((E29*100)/D29)-100 -> 13.406262
A30: SEVILLA | B30: 0 | C30: 0 | D30: 0 | E30: 0
A31: TARRAGONA | B31: 426.161 | C31: 170 | D31: 4489.161 | E31: 3669.412 | F31: =((E31*100)/D31)-100 -> -18.260628
A32: VALENCIA | B32: 103 | C32: 78 | D32: 1991 | E32: 1937.241 | F32: =((E32*100)/D32)-100 -> -2.7001005
A33: VIGO | B33: 11267.3 | C33: 11035 | D33: 83366.3 | E33: 89126.699 | F33: =((E33*100)/D33)-100 -> 6.9097453
A34: VILAGARCÍA | B34: 0 | C34: 0 | D34: 0 | E34: 0
A35: Total | B35: =SUM(B7:B34) -> 21216.411 | C35: =SUM(C7:C34) -> 18660 | D35: =SUM(D7:D34) -> 232934.41 | E35: =SUM(E7:E34) -> 243073.37 | F35: =((E35*100)/D35)-100 -> 4.3527111
B38: =E6 -> 2017 | C38: =D6 -> 2016 | F38: =B38 -> 2017 | G38: =C38 -> 2016
A39: =A7 -> A CORUÑA | B39: =E7 -> 51102.289 | C39: =D7 -> 43690.2 | D39: =_xlfn.RANK.EQ(B39,$B$39:$B$66)+COUNTIF($B$39:$B$66,B39)-1 -> 2 | E39: =INDEX($A$39:$B$66,MATCH(ROW()-38,$D$39:$D$66,0),1) -> VIGO | F39: =LOOKUP(E39,$A$39:$A$66,$B$39:$B$66) -> 89126.699 | G39: =LOOKUP(E39,$A$39:$A$66,$C$39:$C$66) -> 83366.3
A40: =A8 -> ALICANTE | B40: =E8 -> 1668.957 | C40: =D8 -> 254.37 | D40: =_xlfn.RANK.EQ(B40,$B$39:$B$66)+COUNTIF($B$39:$B$66,B40)-1 -> 18 | E40: =INDEX($A$39:$B$66,MATCH(ROW()-38,$D$39:$D$66,0),1) -> A CORUÑA | F40: =LOOKUP(E40,$A$39:$A$66,$B$39:$B$66) -> 51102.289 | G40: =LOOKUP(E40,$A$39:$A$66,$C$39:$C$66) -> 43690.2
A41: =A9 -> ALMERÍA | B41: =E9 -> 3465.653 | C41: =D9 -> 1945 | D41: =_xlfn.RANK.EQ(B41,$B$39:$B$66)+COUNTIF($B$39:$B$66,B41)-1 -> 11 | E41: =INDEX($A$39:$B$66,MATCH(ROW()-38,$D$39:$D$66,0),1) -> PASAIA | F41: =LOOKUP(E41,$A$39:$A$66,$B$39:$B$66) -> 25988.819 | G41: =LOOKUP(E41,$A$39:$A$66,$C$39:$C$66) -> 27551.2
A42: =A10 -> AVILÉS | B42: =E10 -> 13568.722 | C42: =D10 -> 12556.94 | D42: =_xlfn.RANK.EQ(B42,$B$39:$B$66)+COUNTIF($B$39:$B$66,B42)-1 -> 5 | E42: =INDEX($A$39:$B$66,MATCH(ROW()-38,$D$39:$D$66,0),1) -> BAHÍA DE CÁDIZ | F42: =LOOKUP(E42,$A$39:$A$66,$B$39:$B$66) -> 16293.623 | G42: =LOOKUP(E42,$A$39:$A$66,$C$39:$C$66) -> 17333.2
A43: =A11 -> BAHÍA DE ALGECIRAS | B43: =E11 -> 1014.97 | C43: =D11 -> 868 | D43: =_xlfn.RANK.EQ(B43,$B$39:$B$66)+COUNTIF($B$39:$B$66,B43)-1 -> 19 | E43: =INDEX($A$39:$B$66,MATCH(ROW()-38,$D$39:$D$66,0),1) -> AVILÉS | F43: =LOOKUP(E43,$A$39:$A$66,$B$39:$B$66) -> 13568.722 | G43: =LOOKUP(E43,$A$39:$A$66,$C$39:$C$66) -> 12556.94
A44: =A12 -> BAHÍA DE CÁDIZ | B44: =E12 -> 16293.623 | C44: =D12 -> 17333.2 | D44: =_xlfn.RANK.EQ(B44,$B$39:$B$66)+COUNTIF($B$39:$B$66,B44)-1 -> 4 | E44: =INDEX($A$39:$B$66,MATCH(ROW()-38,$D$39:$D$66,0),1) -> GIJÓN | F44: =LOOKUP(E44,$A$39:$A$66,$B$39:$B$66) -> 7364.836 | G44: =LOOKUP(E44,$A$39:$A$66,$C$39:$C$66) -> 8284.2
A45: =A13 -> BALEARES | B45: =E13 -> 3004.166 | C45: =D13 -> 2990.4 | D45: =_xlfn.RANK.EQ(B45,$B$39:$B$66)+COUNTIF($B$39:$B$66,B45)-1 -> 12 | E45: =INDEX($A$39:$B$66,MATCH(ROW()-38,$D$39:$D$66,0),1) -> SANTA CRUZ DE TENERIFE | F45: =LOOKUP(E45,$A$39:$A$66,$B$39:$B$66) -> 5921.679 | G45: =LOOKUP(E45,$A$39:$A$66,$C$39:$C$66) -> 7661
A46: =A14 -> BARCELONA | B46: =E14 -> 2961.48 | C46: =D14 -> 3314 | D46: =_xlfn.RANK.EQ(B46,$B$39:$B$66)+COUNTIF($B$39:$B$66,B46)-1 -> 13 | E46: =INDEX($A$39:$B$66,MATCH(ROW()-38,$D$39:$D$66,0),1) -> CASTELLÓN | F46: =LOOKUP(E46,$A$39:$A$66,$B$39:$B$66) -> 4291.133 | G46: =LOOKUP(E46,$A$39:$A$66,$C$39:$C$66) -> 4731
A47: =A15 -> BILBAO | B47: =E15 -> 0 | C47: =D15 -> 0 | D47: =_xlfn.RANK.EQ(B47,$B$39:$B$66)+COUNTIF($B$39:$B$66,B47)-1 -> 28 | E47: =INDEX($A$39:$B$66,MATCH(ROW()-38,$D$39:$D$66,0),1) -> SANTANDER | F47: =LOOKUP(E47,$A$39:$A$66,$B$39:$B$66) -> 4056.542 | G47: =LOOKUP(E47,$A$39:$A$66,$C$39:$C$66) -> 3577
A48: =A16 -> CARTAGENA | B48: =E16 -> 517.271 | C48: =D16 -> 510 | D48: =_xlfn.RANK.EQ(B48,$B$39:$B$66)+COUNTIF($B$39:$B$66,B48)-1 -> 21 | E48: =INDEX($A$39:$B$66,MATCH(ROW()-38,$D$39:$D$66,0),1) -> TARRAGONA | F48: =LOOKUP(E48,$A$39:$A$66,$B$39:$B$66) -> 3669.412 | G48: =LOOKUP(E48,$A$39:$A$66,$C$39:$C$66) -> 4489.161
A49: =A17 -> CASTELLÓN | B49: =E17 -> 4291.133 | C49: =D17 -> 4731 | D49: =_xlfn.RANK.EQ(B49,$B$39:$B$66)+COUNTIF($B$39:$B$66,B49)-1 -> 8 | E49: =INDEX($A$39:$B$66,MATCH(ROW()-38,$D$39:$D$66,0),1) -> ALMERÍA | F49: =LOOKUP(E49,$A$39:$A$66,$B$39:$B$66) -> 3465.653 | G49: =LOOKUP(E49,$A$39:$A$66,$C$39:$C$66) -> 1945
A50: =A18 -> CEUTA | B50: =E18 -> 27.902 | C50: =D18 -> 34 | D50: =_xlfn.RANK.EQ(B50,$B$39:$B$66)+COUNTIF($B$39:$B$66,B50)-1 -> 24 | E50: =INDEX($A$39:$B$66,MATCH(ROW()-38,$D$39:$D$66,0),1) -> BALEARES | F50: =LOOKUP(E50,$A$39:$A$66,$B$39:$B$66) -> 3004.166 | G50: =LOOKUP(E50,$A$39:$A$66,$C$39:$C$66) -> 2990.4
... A66: =A34 -> VILAGARCÍA | B66: =E34 -> 0 | C66: =D34 -> 0 | D66: =_xlfn.RANK.EQ(B66,$B$39:$B$66)+COUNTIF($B$39:$B$66,B66)-1 -> 28 | E66: =INDEX($A$39:$B$66,MATCH(ROW()-38,$D$39:$D$66,0),1) -> BILBAO | F66: =LOOKUP(E66,$A$39:$A$66,$B$39:$B$66) -> 0 | G66: =LOOKUP(E66,$A$39:$A$66,$C$39:$C$66) -> 0

Sheet Avituallamiento
F1: 6. AVITUALLAMIENTO (toneladas)
A5: Autoridad Portuaria | B5: ='Resumen general'!D6 -> Mes diciembre | D5: ='Resumen general'!F6 -> Acumulado desde enero | L5: ='Resumen general'!I4 -> Fecha: 20/12/2018
B6: ='Resumen general'!D7 -> 2016 | C6: ='Resumen general'!E7 -> 2017 | D6: ='Resumen general'!F7 -> 2016 | E6: ='Resumen general'!G7 -> 2017 | F6: Var. (%)
A7: A CORUÑA | B7: 37192.4 | C7: 27045 | D7: 71417.4 | E7: 84165 | F7: =((E7*100)/D7)-100 -> 17.849432
A8: ALICANTE | B8: 1399.4 | C8: 2042 | D8: 28728.4 | E8: 24296 | F8: =((E8*100)/D8)-100 -> -15.428635
A9: ALMERÍA | B9: 5295.4 | C9: 8400 | D9: 75340.4 | E9: 87420 | F9: =((E9*100)/D9)-100 -> 16.033363
A10: AVILÉS | B10: 29772 | C10: 3139 | D10: 49777 | E10: 41484 | F10: =((E10*100)/D10)-100 -> -16.660305
A11: BAHÍA DE ALGECIRAS | B11: 240453.4 | C11: 210454 | D11: 3301452 | E11: 2833641 | F11: =((E11*100)/D11)-100 -> -14.169856
A12: BAHÍA DE CÁDIZ | B12: 7590 | C12: 6351 | D12: 145060 | E12: 112165 | F12: =((E12*100)/D12)-100 -> -22.676823
A13: BALEARES | B13: 6947.4 | C13: 7655 | D13: 247545 | E13: 236555 | F13: =((E13*100)/D13)-100 -> -4.4395968
A14: BARCELONA | B14: 55307.8 | C14: 93192 | D14: 1136724.8 | E14: 1293845.5 | F14: =((E14*100)/D14)-100 -> 13.822229
A15: BILBAO | B15: 10134.9 | C15: 9116 | D15: 109403.9 | E15: 111692 | F15: =((E15*100)/D15)-100 -> 2.0914245
A16: CARTAGENA | B16: 11338.9 | C16: 5412 | D16: 155392.9 | E16: 155335 | F16: =((E16*100)/D16)-100 -> -0.03726039
A17: CASTELLÓN | B17: 2480 | C17: 1461 | D17: 29178 | E17: 24058 | F17: =((E17*100)/D17)-100 -> -17.547467
A18: CEUTA | B18: 40241.9 | C18: 65491 | D18: 544155.9 | E18: 664429 | F18: =((E18*100)/D18)-100 -> 22.102692
... A34: VILAGARCÍA | B34: 660 | C34: 162 | D34: 6213 | E34: 4207 | F34: =((E34*100)/D34)-100 -> -32.28714
A35: Total | B35: =SUM(B7:B34) -> 928076.8 | C35: =SUM(C7:C34) -> 821424 | D35: =SUM(D7:D34) -> 10323637 | E35: =SUM(E7:E34) -> 10119474 | F35: =((E35*100)/D35)-100 -> -1.9776277
B38: =E6 -> 2017 | C38: =D6 -> 2016 | F38: =B38 -> 2017 | G38: =C38 -> 2016
A39: =A7 -> A CORUÑA | B39: =E7 -> 84165 | C39: =D7 -> 71417.4 | D39: =_xlfn.RANK.EQ(B39,$B$39:$B$66)+COUNTIF($B$39:$B$66,B39)-1 -> 15 | E39: =INDEX($A$39:$B$66,MATCH(ROW()-38,$D$39:$D$66,0),1) -> BAHÍA DE ALGECIRAS | F39: =LOOKUP(E39,$A$39:$A$66,$B$39:$B$66) -> 2833641 | G39: =LOOKUP(E39,$A$39:$A$66,$C$39:$C$66) -> 3301452
A40: =A8 -> ALICANTE | B40: =E8 -> 24296 | C40: =D8 -> 28728.4 | D40: =_xlfn.RANK.EQ(B40,$B$39:$B$66)+COUNTIF($B$39:$B$66,B40)-1 -> 22 | E40: =INDEX($A$39:$B$66,MATCH(ROW()-38,$D$39:$D$66,0),1) -> LAS PALMAS | F40: =LOOKUP(E40,$A$39:$A$66,$B$39:$B$66) -> 2678808 | G40: =LOOKUP(E40,$A$39:$A$66,$C$39:$C$66) -> 2607283
A41: =A9 -> ALMERÍA | B41: =E9 -> 87420 | C41: =D9 -> 75340.4 | D41: =_xlfn.RANK.EQ(B41,$B$39:$B$66)+COUNTIF($B$39:$B$66,B41)-1 -> 14 | E41: =INDEX($A$39:$B$66,MATCH(ROW()-38,$D$39:$D$66,0),1) -> BARCELONA | F41: =LOOKUP(E41,$A$39:$A$66,$B$39:$B$66) -> 1293845.5 | G41: =LOOKUP(E41,$A$39:$A$66,$C$39:$C$66) -> 1136724.8
A42: =A10 -> AVILÉS | B42: =E10 -> 41484 | C42: =D10 -> 49777 | D42: =_xlfn.RANK.EQ(B42,$B$39:$B$66)+COUNTIF($B$39:$B$66,B42)-1 -> 18 | E42: =INDEX($A$39:$B$66,MATCH(ROW()-38,$D$39:$D$66,0),1) -> SANTA CRUZ DE TENERIFE | F42: =LOOKUP(E42,$A$39:$A$66,$B$39:$B$66) -> 725736 | G42: =LOOKUP(E42,$A$39:$A$66,$C$39:$C$66) -> 646236
A43: =A11 -> BAHÍA DE ALGECIRAS | B43: =E11 -> 2833641 | C43: =D11 -> 3301452 | D43: =_xlfn.RANK.EQ(B43,$B$39:$B$66)+COUNTIF($B$39:$B$66,B43)-1 -> 1 | E43: =INDEX($A$39:$B$66,MATCH(ROW()-38,$D$39:$D$66,0),1) -> CEUTA | F43: =LOOKUP(E43,$A$39:$A$66,$B$39:$B$66) -> 664429 | G43: =LOOKUP(E43,$A$39:$A$66,$C$39:$C$66) -> 544155.9
A44: =A12 -> BAHÍA DE CÁDIZ | B44: =E12 -> 112165 | C44: =D12 -> 145060 | D44: =_xlfn.RANK.EQ(B44,$B$39:$B$66)+COUNTIF($B$39:$B$66,B44)-1 -> 11 | E44: =INDEX($A$39:$B$66,MATCH(ROW()-38,$D$39:$D$66,0),1) -> VALENCIA | F44: =LOOKUP(E44,$A$39:$A$66,$B$39:$B$66) -> 308467 | G44: =LOOKUP(E44,$A$39:$A$66,$C$39:$C$66) -> 472281
A45: =A13 -> BALEARES | B45: =E13 -> 236555 | C45: =D13 -> 247545 | D45: =_xlfn.RANK.EQ(B45,$B$39:$B$66)+COUNTIF($B$39:$B$66,B45)-1 -> 7 | E45: =INDEX($A$39:$B$66,MATCH(ROW()-38,$D$39:$D$66,0),1) -> BALEARES | F45: =LOOKUP(E45,$A$39:$A$66,$B$39:$B$66) -> 236555 | G45: =LOOKUP(E45,$A$39:$A$66,$C$39:$C$66) -> 247545
A46: =A14 -> BARCELONA | B46: =E14 -> 1293845.5 | C46: =D14 -> 1136724.8 | D46: =_xlfn.RANK.EQ(B46,$B$39:$B$66)+COUNTIF($B$39:$B$66,B46)-1 -> 3 | E46: =INDEX($A$39:$B$66,MATCH(ROW()-38,$D$39:$D$66,0),1) -> VIGO | F46: =LOOKUP(E46,$A$39:$A$66,$B$39:$B$66) -> 171736 | G46: =LOOKUP(E46,$A$39:$A$66,$C$39:$C$66) -> 175405
A47: =A15 -> BILBAO | B47: =E15 -> 111692 | C47: =D15 -> 109403.9 | D47: =_xlfn.RANK.EQ(B47,$B$39:$B$66)+COUNTIF($B$39:$B$66,B47)-1 -> 12 | E47: =INDEX($A$39:$B$66,MATCH(ROW()-38,$D$39:$D$66,0),1) -> CARTAGENA | F47: =LOOKUP(E47,$A$39:$A$66,$B$39:$B$66) -> 155335 | G47: =LOOKUP(E47,$A$39:$A$66,$C$39:$C$66) -> 155392.9
A48: =A16 -> CARTAGENA | B48: =E16 -> 155335 | C48: =D16 -> 155392.9 | D48: =_xlfn.RANK.EQ(B48,$B$39:$B$66)+COUNTIF($B$39:$B$66,B48)-1 -> 9 | E48: =INDEX($A$39:$B$66,MATCH(ROW()-38,$D$39:$D$66,0),1) -> HUELVA | F48: =LOOKUP(E48,$A$39:$A$66,$B$39:$B$66) -> 147574 | G48: =LOOKUP(E48,$A$39:$A$66,$C$39:$C$66) -> 142844
A49: =A17 -> CASTELLÓN | B49: =E17 -> 24058 | C49: =D17 -> 29178 | D49: =_xlfn.RANK.EQ(B49,$B$39:$B$66)+COUNTIF($B$39:$B$66,B49)-1 -> 23 | E49: =INDEX($A$39:$B$66,MATCH(ROW()-38,$D$39:$D$66,0),1) -> BAHÍA DE CÁDIZ | F49: =LOOKUP(E49,$A$39:$A$66,$B$39:$B$66) -> 112165 | G49: =LOOKUP(E49,$A$39:$A$66,$C$39:$C$66) -> 145060
A50: =A18 -> CEUTA | B50: =E18 -> 664429 | C50: =D18 -> 544155.9 | D50: =_xlfn.RANK.EQ(B50,$B$39:$B$66)+COUNTIF($B$39:$B$66,B50)-1 -> 5 | E50: =INDEX($A$39:$B$66,MATCH(ROW()-38,$D$39:$D$66,0),1) -> BILBAO | F50: =LOOKUP(E50,$A$39:$A$66,$B$39:$B$66) -> 111692 | G50: =LOOKUP(E50,$A$39:$A$66,$C$39:$C$66) -> 109403.9
... A66: =A34 -> VILAGARCÍA | B66: =E34 -> 4207 | C66: =D34 -> 6213 | D66: =_xlfn.RANK.EQ(B66,$B$39:$B$66)+COUNTIF($B$39:$B$66,B66)-1 -> 28 | E66: =INDEX($A$39:$B$66,MATCH(ROW()-38,$D$39:$D$66,0),1) -> VILAGARCÍA | F66: =LOOKUP(E66,$A$39:$A$66,$B$39:$B$66) -> 4207 | G66: =LOOKUP(E66,$A$39:$A$66,$C$39:$C$66) -> 6213

Sheet Avit. combustibles
F1: 6.1. AVITUALLAMIENTO DE COMBUSTIBLES LÍQUIDOS
I2: (toneladas)
A5: Autoridad Portuaria | B5: ='Resumen general'!D6 -> Mes diciembre | D5: ='Resumen general'!F6 -> Acumulado desde enero | L5: ='Resumen general'!I4 -> Fecha: 20/12/2018
B6: ='Resumen general'!D7 -> 2016 | C6: ='Resumen general'!E7 -> 2017 | D6: ='Resumen general'!F7 -> 2016 | E6: ='Resumen general'!G7 -> 2017 | F6: Var. (%)
A7: A CORUÑA | B7: 1892 | C7: 2031 | D7: 26587.3 | E7: 34903 | F7: =((E7*100)/D7)-100 -> 31.276963
A8: ALICANTE | B8: 204 | C8: 338 | D8: 3994 | E8: 3621 | F8: =((E8*100)/D8)-100 -> -9.3390085
A9: ALMERÍA | B9: 2413 | C9: 3458 | D9: 29559.1 | E9: 40129 | F9: =((E9*100)/D9)-100 -> 35.758531
A10: AVILÉS | B10: 592 | C10: 565 | D10: 10596 | E10: 8685 | F10: =((E10*100)/D10)-100 -> -18.035108
A11: BAHÍA DE ALGECIRAS | B11: 227732 | C11: 200224 | D11: 3118244 | E11: 2653087 | F11: =((E11*100)/D11)-100 -> -14.917274
A12: BAHÍA DE CÁDIZ | B12: 978 | C12: 0 | D12: 15695 | E12: 18207 | F12: =((E12*100)/D12)-100 -> 16.005097
A13: BALEARES | B13: 190 | C13: 221 | D13: 5509 | E13: 5358 | F13: =((E13*100)/D13)-100 -> -2.7409693
A14: BARCELONA | B14: 39644 | C14: 72471 | D14: 832787.4 | E14: 963326 | F14: =((E14*100)/D14)-100 -> 15.674901
A15: BILBAO | B15: 5905 | C15: 5726 | D15: 61500 | E15: 67592 | F15: =((E15*100)/D15)-100 -> 9.9056911
A16: CARTAGENA | B16: 827 | C16: 0 | D16: 8354 | E16: 8602 | F16: =((E16*100)/D16)-100 -> 2.9686378
A17: CASTELLÓN | C17: 0 | E17: 0
A18: CEUTA | B18: 38369 | C18: 62547 | D18: 517280 | E18: 639611 | F18: =((E18*100)/D18)-100 -> 23.648894
A19: FERROL-SAN CIBRAO | B19: 671 | C19: 725 | D19: 4672 | E19: 7043 | F19: =((E19*100)/D19)-100 -> 50.749144
A20: GIJÓN | B20: 3126 | C20: 3713 | D20: 47135 | E20: 49000 | F20: =((E20*100)/D20)-100 -> 3.9567201
A21: HUELVA | B21: 11927 | C21: 12407 | D21: 124420 | E21: 128427 | F21: =((E21*100)/D21)-100 -> 3.2205433
A22: LAS PALMAS | B22: 191197 | C22: 197288 | D22: 2315985.3 | E22: 2381345 | F22: =((E22*100)/D22)-100 -> 2.822112
A23: MÁLAGA | B23: 3391 | C23: 2465 | D23: 30614 | E23: 41161 | F23: =((E23*100)/D23)-100 -> 34.451558
A24: MARÍN Y RÍA DE PONTEVEDRA | B24: 524 | C24: 0 | D24: 12637 | E24: 9728 | F24: =((E24*100)/D24)-100 -> -23.019704
A25: MELILLA | C25: 0 | E25: 0
A26: MOTRIL | B26: 2307 | C26: 2295 | D26: 27650 | E26: 20607 | F26: =((E26*100)/D26)-100 -> -25.471971
A27: PASAIA | B27: 1874 | C27: 1409 | D27: 13686 | E27: 10458 | F27: =((E27*100)/D27)-100 -> -23.586146
A28: SANTA CRUZ DE TENERIFE | B28: 46204 | C28: 49611 | D28: 502948 | E28: 550812 | F28: =((E28*100)/D28)-100 -> 9.5166896
A29: SANTANDER | B29: 729 | C29: 808 | D29: 7693 | E29: 8045 | F29: =((E29*100)/D29)-100 -> 4.5755882
A30: SEVILLA | C30: 0 | E30: 9057
A31: TARRAGONA | B31: 476 | C31: 3978 | D31: 13239.4 | E31: 22406 | F31: =((E31*100)/D31)-100 -> 69.237277
A32: VALENCIA | B32: 29910 | C32: 15917 | D32: 392993 | E32: 226673 | F32: =((E32*100)/D32)-100 -> -42.321365
A33: VIGO | B33: 10139 | C33: 7857 | D33: 76549 | E33: 78723 | F33: =((E33*100)/D33)-100 -> 2.840011
A34: VILAGARCÍA | B34: 47 | C34: 0 | D34: 680 | E34: 556 | F34: =((E34*100)/D34)-100 -> -18.235294
A35: Total | B35: =SUM(B7:B34) -> 621268 | C35: =SUM(C7:C34) -> 646054 | D35: =SUM(D7:D34) -> 8201007.5 | E35: =SUM(E7:E34) -> 7987162 | F35: =((E35*100)/D35)-100 -> -2.6075516
B38: =E6 -> 2017 | C38: =D6 -> 2016 | F38: =B38 -> 2017 | G38: =C38 -> 2016
A39: =A7 -> A CORUÑA | B39: =E7 -> 34903 | C39: =D7 -> 26587.3 | D39: =_xlfn.RANK.EQ(B39,$B$39:$B$66)+COUNTIF($B$39:$B$66,B39)-1 -> 13 | E39: =INDEX($A$39:$B$66,MATCH(ROW()-38,$D$39:$D$66,0),1) -> BAHÍA DE ALGECIRAS | F39: =LOOKUP(E39,$A$39:$A$66,$B$39:$B$66) -> 2653087 | G39: =LOOKUP(E39,$A$39:$A$66,$C$39:$C$66) -> 3118244
A40: =A8 -> ALICANTE | B40: =E8 -> 3621 | C40: =D8 -> 3994 | D40: =_xlfn.RANK.EQ(B40,$B$39:$B$66)+COUNTIF($B$39:$B$66,B40)-1 -> 25 | E40: =INDEX($A$39:$B$66,MATCH(ROW()-38,$D$39:$D$66,0),1) -> LAS PALMAS | F40: =LOOKUP(E40,$A$39:$A$66,$B$39:$B$66) -> 2381345 | G40: =LOOKUP(E40,$A$39:$A$66,$C$39:$C$66) -> 2315985.3
A41: =A9 -> ALMERÍA | B41: =E9 -> 40129 | C41: =D9 -> 29559.1 | D41: =_xlfn.RANK.EQ(B41,$B$39:$B$66)+COUNTIF($B$39:$B$66,B41)-1 -> 12 | E41: =INDEX($A$39:$B$66,MATCH(ROW()-38,$D$39:$D$66,0),1) -> BARCELONA | F41: =LOOKUP(E41,$A$39:$A$66,$B$39:$B$66) -> 963326 | G41: =LOOKUP(E41,$A$39:$A$66,$C$39:$C$66) -> 832787.4
A42: =A10 -> AVILÉS | B42: =E10 -> 8685 | C42: =D10 -> 10596 | D42: =_xlfn.RANK.EQ(B42,$B$39:$B$66)+COUNTIF($B$39:$B$66,B42)-1 -> 20 | E42: =INDEX($A$39:$B$66,MATCH(ROW()-38,$D$39:$D$66,0),1) -> CEUTA | F42: =LOOKUP(E42,$A$39:$A$66,$B$39:$B$66) -> 639611 | G42: =LOOKUP(E42,$A$39:$A$66,$C$39:$C$66) -> 517280
A43: =A11 -> BAHÍA DE ALGECIRAS | B43: =E11 -> 2653087 | C43: =D11 -> 3118244 | D43: =_xlfn.RANK.EQ(B43,$B$39:$B$66)+COUNTIF($B$39:$B$66,B43)-1 -> 1 | E43: =INDEX($A$39:$B$66,MATCH(ROW()-38,$D$39:$D$66,0),1) -> SANTA CRUZ DE TENERIFE | F43: =LOOKUP(E43,$A$39:$A$66,$B$39:$B$66) -> 550812 | G43: =LOOKUP(E43,$A$39:$A$66,$C$39:$C$66) -> 502948
A44: =A12 -> BAHÍA DE CÁDIZ | B44: =E12 -> 18207 | C44: =D12 -> 15695 | D44: =_xlfn.RANK.EQ(B44,$B$39:$B$66)+COUNTIF($B$39:$B$66,B44)-1 -> 16 | E44: =INDEX($A$39:$B$66,MATCH(ROW()-38,$D$39:$D$66,0),1) -> VALENCIA | F44: =LOOKUP(E44,$A$39:$A$66,$B$39:$B$66) -> 226673 | G44: =LOOKUP(E44,$A$39:$A$66,$C$39:$C$66) -> 392993
A45: =A13 -> BALEARES | B45: =E13 -> 5358 | C45: =D13 -> 5509 | D45: =_xlfn.RANK.EQ(B45,$B$39:$B$66)+COUNTIF($B$39:$B$66,B45)-1 -> 24 | E45: =INDEX($A$39:$B$66,MATCH(ROW()-38,$D$39:$D$66,0),1) -> HUELVA | F45: =LOOKUP(E45,$A$39:$A$66,$B$39:$B$66) -> 128427 | G45: =LOOKUP(E45,$A$39:$A$66,$C$39:$C$66) -> 124420
A46: =A14 -> BARCELONA | B46: =E14 -> 963326 | C46: =D14 -> 832787.4 | D46: =_xlfn.RANK.EQ(B46,$B$39:$B$66)+COUNTIF($B$39:$B$66,B46)-1 -> 3 | E46: =INDEX($A$39:$B$66,MATCH(ROW()-38,$D$39:$D$66,0),1) -> VIGO | F46: =LOOKUP(E46,$A$39:$A$66,$B$39:$B$66) -> 78723 | G46: =LOOKUP(E46,$A$39:$A$66,$C$39:$C$66) -> 76549
A47: =A15 -> BILBAO | B47: =E15 -> 67592 | C47: =D15 -> 61500 | D47: =_xlfn.RANK.EQ(B47,$B$39:$B$66)+COUNTIF($B$39:$B$66,B47)-1 -> 9 | E47: =INDEX($A$39:$B$66,MATCH(ROW()-38,$D$39:$D$66,0),1) -> BILBAO | F47: =LOOKUP(E47,$A$39:$A$66,$B$39:$B$66) -> 67592 | G47: =LOOKUP(E47,$A$39:$A$66,$C$39:$C$66) -> 61500
A48: =A16 -> CARTAGENA | B48: =E16 -> 8602 | C48: =D16 -> 8354 | D48: =_xlfn.RANK.EQ(B48,$B$39:$B$66)+COUNTIF($B$39:$B$66,B48)-1 -> 21 | E48: =INDEX($A$39:$B$66,MATCH(ROW()-38,$D$39:$D$66,0),1) -> GIJÓN | F48: =LOOKUP(E48,$A$39:$A$66,$B$39:$B$66) -> 49000 | G48: =LOOKUP(E48,$A$39:$A$66,$C$39:$C$66) -> 47135
A49: =A17 -> CASTELLÓN | B49: =E17 -> 0 | C49: =D17 -> 0 | D49: =_xlfn.RANK.EQ(B49,$B$39:$B$66)+COUNTIF($B$39:$B$66,B49)-1 -> 28 | E49: =INDEX($A$39:$B$66,MATCH(ROW()-38,$D$39:$D$66,0),1) -> MÁLAGA | F49: =LOOKUP(E49,$A$39:$A$66,$B$39:$B$66) -> 41161 | G49: =LOOKUP(E49,$A$39:$A$66,$C$39:$C$66) -> 30614
A50: =A18 -> CEUTA | B50: =E18 -> 639611 | C50: =D18 -> 517280 | D50: =_xlfn.RANK.EQ(B50,$B$39:$B$66)+COUNTIF($B$39:$B$66,B50)-1 -> 4 | E50: =INDEX($A$39:$B$66,MATCH(ROW()-38,$D$39:$D$66,0),1) -> ALMERÍA | F50: =LOOKUP(E50,$A$39:$A$66,$B$39:$B$66) -> 40129 | G50: =LOOKUP(E50,$A$39:$A$66,$C$39:$C$66) -> 29559.1
... A66: =A34 -> VILAGARCÍA | B66: =E34 -> 556 | C66: =D34 -> 680 | D66: =_xlfn.RANK.EQ(B66,$B$39:$B$66)+COUNTIF($B$39:$B$66,B66)-1 -> 26 | E66: =INDEX($A$39:$B$66,MATCH(ROW()-38,$D$39:$D$66,0),1) -> CASTELLÓN | F66: =LOOKUP(E66,$A$39:$A$66,$B$39:$B$66) -> 0 | G66: =LOOKUP(E66,$A$39:$A$66,$C$39:$C$66) -> 0

Sheet Tráfico interior
F1: 7. TRÁFICO INTERIOR (toneladas)
A5: Autoridad Portuaria | B5: ='Resumen general'!D6 -> Mes diciembre | D5: ='Resumen general'!F6 -> Acumulado desde enero | L5: ='Resumen general'!I4 -> Fecha: 20/12/2018
B6: ='Resumen general'!D7 -> 2016 | C6: ='Resumen general'!E7 -> 2017 | D6: ='Resumen general'!F7 -> 2016 | E6: ='Resumen general'!G7 -> 2017 | F6: Var. (%)
A7: A CORUÑA | B7: 22978 | C7: 28778 | D7: 277590 | E7: 303050 | F7: =((E7*100)/D7)-100 -> 9.1718001
A8: ALICANTE | B8: 0 | C8: 0 | D8: 0 | E8: 28.22
A9: ALMERÍA | B9: 0 | C9: 0 | D9: 0 | E9: 0
A10: AVILÉS | B10: 0 | C10: 0 | D10: 0 | E10: 0
A11: BAHÍA DE ALGECIRAS | B11: 228301 | C11: 61776 | D11: 3012965 | E11: 2390861 | F11: =((E11*100)/D11)-100 -> -20.647568
A12: BAHÍA DE CÁDIZ | B12: 0 | C12: 0 | D12: 0 | E12: 0
A13: BALEARES | B13: 0 | C13: 62 | D13: 0 | E13: 1082
A14: BARCELONA | B14: 0 | C14: 0 | D14: 0 | E14: 0
A15: BILBAO | B15: 0 | C15: 0 | D15: 9123 | E15: 0 | F15: =((E15*100)/D15)-100 -> -100
A16: CARTAGENA | B16: 0 | C16: 0 | D16: 3160 | E16: 0 | F16: =((E16*100)/D16)-100 -> -100
A17: CASTELLÓN | B17: 0 | C17: 0 | D17: 0 | E17: 0
A18: CEUTA | B18: 0 | C18: 0 | D18: 0 | E18: 0
A19: FERROL-SAN CIBRAO | B19: 0 | C19: 13094 | D19: 173 | E19: 15354.02 | F19: =((E19*100)/D19)-100 -> 8775.1561
A20: GIJÓN | B20: 0 | C20: 0 | D20: 139 | E20: 8 | F20: =((E20*100)/D20)-100 -> -94.244604
A21: HUELVA | B21: 10498 | C21: 0 | D21: 31067 | E21: 5616.04 | F21: =((E21*100)/D21)-100 -> -81.922812
A22: LAS PALMAS | B22: 0 | C22: 0 | D22: 0 | E22: 0
A23: MÁLAGA | B23: 0 | C23: 0 | D23: 0 | E23: 0
A24: MARÍN Y RÍA DE PONTEVEDRA | B24: 0 | C24: 0 | D24: 0 | E24: 0
A25: MELILLA | B25: 0 | C25: 0 | D25: 0 | E25: 0
A26: MOTRIL | B26: 0 | C26: 0 | D26: 0 | E26: 0
A27: PASAIA | B27: 0 | C27: 0 | D27: 0 | E27: 0
A28: SANTA CRUZ DE TENERIFE | B28: 182 | C28: 34 | D28: 2185 | E28: 656 | F28: =((E28*100)/D28)-100 -> -69.977117
A29: SANTANDER | B29: 0 | C29: 0 | D29: 0 | E29: 0
A30: SEVILLA | B30: 0 | C30: 0 | D30: 0 | E30: 0
A31: TARRAGONA | B31: 0 | C31: 0 | D31: 3675 | E31: 0 | F31: =((E31*100)/D31)-100 -> -100
A32: VALENCIA | B32: 0 | C32: 0 | D32: 0 | E32: 0
A33: VIGO | B33: 0 | C33: 0 | D33: 0 | E33: 5604
A34: VILAGARCÍA | B34: 0 | C34: 0 | D34: 0 | E34: 0
A35: Total | B35: =SUM(B7:B34) -> 261959 | C35: =SUM(C7:C34) -> 103744 | D35: =SUM(D7:D34) -> 3340077 | E35: =SUM(E7:E34) -> 2722259.3 | F35: =((E35*100)/D35)-100 -> -18.49711
A36: Incluye cargas, descargas, tránsitos y transbordos.
B38: =E6 -> 2017 | C38: =D6 -> 2016 | F38: =B38 -> 2017 | G38: =C38 -> 2016
A39: =A7 -> A CORUÑA | B39: =E7 -> 303050 | C39: =D7 -> 277590 | D39: =_xlfn.RANK.EQ(B39,$B$39:$B$66)+COUNTIF($B$39:$B$66,B39)-1 -> 2 | E39: =INDEX($A$39:$B$66,MATCH(ROW()-38,$D$39:$D$66,0),1) -> BAHÍA DE ALGECIRAS | F39: =LOOKUP(E39,$A$39:$A$66,$B$39:$B$66) -> 2390861 | G39: =LOOKUP(E39,$A$39:$A$66,$C$39:$C$66) -> 3012965
A40: =A8 -> ALICANTE | B40: =E8 -> 28.22 | C40: =D8 -> 0 | D40: =_xlfn.RANK.EQ(B40,$B$39:$B$66)+COUNTIF($B$39:$B$66,B40)-1 -> 8 | E40: =INDEX($A$39:$B$66,MATCH(ROW()-38,$D$39:$D$66,0),1) -> A CORUÑA | F40: =LOOKUP(E40,$A$39:$A$66,$B$39:$B$66) -> 303050 | G40: =LOOKUP(E40,$A$39:$A$66,$C$39:$C$66) -> 277590
A41: =A9 -> ALMERÍA | B41: =E9 -> 0 | C41: =D9 -> 0 | D41: =_xlfn.RANK.EQ(B41,$B$39:$B$66)+COUNTIF($B$39:$B$66,B41)-1 -> 28 | E41: =INDEX($A$39:$B$66,MATCH(ROW()-38,$D$39:$D$66,0),1) -> FERROL-SAN CIBRAO | F41: =LOOKUP(E41,$A$39:$A$66,$B$39:$B$66) -> 15354.02 | G41: =LOOKUP(E41,$A$39:$A$66,$C$39:$C$66) -> 173
A42: =A10 -> AVILÉS | B42: =E10 -> 0 | C42: =D10 -> 0 | D42: =_xlfn.RANK.EQ(B42,$B$39:$B$66)+COUNTIF($B$39:$B$66,B42)-1 -> 28 | E42: =INDEX($A$39:$B$66,MATCH(ROW()-38,$D$39:$D$66,0),1) -> HUELVA | F42: =LOOKUP(E42,$A$39:$A$66,$B$39:$B$66) -> 5616.04 | G42: =LOOKUP(E42,$A$39:$A$66,$C$39:$C$66) -> 31067
A43: =A11 -> BAHÍA DE ALGECIRAS | B43: =E11 -> 2390861 | C43: =D11 -> 3012965 | D43: =_xlfn.RANK.EQ(B43,$B$39:$B$66)+COUNTIF($B$39:$B$66,B43)-1 -> 1 | E43: =INDEX($A$39:$B$66,MATCH(ROW()-38,$D$39:$D$66,0),1) -> VIGO | F43: =LOOKUP(E43,$A$39:$A$66,$B$39:$B$66) -> 5604 | G43: =LOOKUP(E43,$A$39:$A$66,$C$39:$C$66) -> 0
A44: =A12 -> BAHÍA DE CÁDIZ | B44: =E12 -> 0 | C44: =D12 -> 0 | D44: =_xlfn.RANK.EQ(B44,$B$39:$B$66)+COUNTIF($B$39:$B$66,B44)-1 -> 28 | E44: =INDEX($A$39:$B$66,MATCH(ROW()-38,$D$39:$D$66,0),1) -> BALEARES | F44: =LOOKUP(E44,$A$39:$A$66,$B$39:$B$66) -> 1082 | G44: =LOOKUP(E44,$A$39:$A$66,$C$39:$C$66) -> 0
A45: =A13 -> BALEARES | B45: =E13 -> 1082 | C45: =D13 -> 0 | D45: =_xlfn.RANK.EQ(B45,$B$39:$B$66)+COUNTIF($B$39:$B$66,B45)-1 -> 6 | E45: =INDEX($A$39:$B$66,MATCH(ROW()-38,$D$39:$D$66,0),1) -> SANTA CRUZ DE TENERIFE | F45: =LOOKUP(E45,$A$39:$A$66,$B$39:$B$66) -> 656 | G45: =LOOKUP(E45,$A$39:$A$66,$C$39:$C$66) -> 2185
A46: =A14 -> BARCELONA | B46: =E14 -> 0 | C46: =D14 -> 0 | D46: =_xlfn.RANK.EQ(B46,$B$39:$B$66)+COUNTIF($B$39:$B$66,B46)-1 -> 28 | E46: =INDEX($A$39:$B$66,MATCH(ROW()-38,$D$39:$D$66,0),1) -> ALICANTE | F46: =LOOKUP(E46,$A$39:$A$66,$B$39:$B$66) -> 28.22 | G46: =LOOKUP(E46,$A$39:$A$66,$C$39:$C$66) -> 0
A47: =A15 -> BILBAO | B47: =E15 -> 0 | C47: =D15 -> 9123 | D47: =_xlfn.RANK.EQ(B47,$B$39:$B$66)+COUNTIF($B$39:$B$66,B47)-1 -> 28 | E47: =INDEX($A$39:$B$66,MATCH(ROW()-38,$D$39:$D$66,0),1) -> GIJÓN | F47: =LOOKUP(E47,$A$39:$A$66,$B$39:$B$66) -> 8 | G47: =LOOKUP(E47,$A$39:$A$66,$C$39:$C$66) -> 139
A48: =A16 -> CARTAGENA | B48: =E16 -> 0 | C48: =D16 -> 3160 | D48: =_xlfn.RANK.EQ(B48,$B$39:$B$66)+COUNTIF($B$39:$B$66,B48)-1 -> 28 | E48: MELILLA | F48: =LOOKUP(E48,$A$39:$A$66,$B$39:$B$66) -> 0 | G48: =LOOKUP(E48,$A$39:$A$66,$C$39:$C$66) -> 0
A49: =A17 -> CASTELLÓN | B49: =E17 -> 0 | C49: =D17 -> 0 | D49: =_xlfn.RANK.EQ(B49,$B$39:$B$66)+COUNTIF($B$39:$B$66,B49)-1 -> 28 | E49: =INDEX($A$39:$B$66,MATCH(ROW()-38,$D$39:$D$66,0),1) -> #N/A | F49: =LOOKUP(E49,$A$39:$A$66,$B$39:$B$66) -> #N/A | G49: =LOOKUP(E49,$A$39:$A$66,$C$39:$C$66) -> #N/A
A50: =A18 -> CEUTA | B50: =E18 -> 0 | C50: =D18 -> 0 | D50: =_xlfn.RANK.EQ(B50,$B$39:$B$66)+COUNTIF($B$39:$B$66,B50)-1 -> 28 | E50: =INDEX($A$39:$B$66,MATCH(ROW()-38,$D$39:$D$66,0),1) -> #N/A | F50: =LOOKUP(E50,$A$39:$A$66,$B$39:$B$66) -> #N/A | G50: =LOOKUP(E50,$A$39:$A$66,$C$39:$C$66) -> #N/A
A51: =A19 -> FERROL-SAN CIBRAO | B51: =E19 -> 15354.02 | C51: =D19 -> 173 | D51: =_xlfn.RANK.EQ(B51,$B$39:$B$66)+COUNTIF($B$39:$B$66,B51)-1 -> 3 | E51: =INDEX($A$39:$B$66,MATCH(ROW()-38,$D$39:$D$66,0),1) -> #N/A | F51: =LOOKUP(E51,$A$39:$A$66,$B$39:$B$66) -> #N/A | G51: =LOOKUP(E51,$A$39:$A$66,$C$39:$C$66) -> #N/A
A52: =A20 -> GIJÓN | B52: =E20 -> 8 | C52: =D20 -> 139 | D52: =_xlfn.RANK.EQ(B52,$B$39:$B$66)+COUNTIF($B$39:$B$66,B52)-1 -> 9 | E52: =INDEX($A$39:$B$66,MATCH(ROW()-38,$D$39:$D$66,0),1) -> #N/A | F52: =LOOKUP(E52,$A$39:$A$66,$B$39:$B$66) -> #N/A | G52: =LOOKUP(E52,$A$39:$A$66,$C$39:$C$66) -> #N/A
A53: =A21 -> HUELVA | B53: =E21 -> 5616.04 | C53: =D21 -> 31067 | D53: =_xlfn.RANK.EQ(B53,$B$39:$B$66)+COUNTIF($B$39:$B$66,B53)-1 -> 4 | E53: =INDEX($A$39:$B$66,MATCH(ROW()-38,$D$39:$D$66,0),1) -> #N/A | F53: =LOOKUP(E53,$A$39:$A$66,$B$39:$B$66) -> #N/A | G53: =LOOKUP(E53,$A$39:$A$66,$C$39:$C$66) -> #N/A
A54: =A22 -> LAS PALMAS | B54: =E22 -> 0 | C54: =D22 -> 0 | D54: =_xlfn.RANK.EQ(B54,$B$39:$B$66)+COUNTIF($B$39:$B$66,B54)-1 -> 28 | E54: =INDEX($A$39:$B$66,MATCH(ROW()-38,$D$39:$D$66,0),1) -> #N/A | F54: =LOOKUP(E54,$A$39:$A$66,$B$39:$B$66) -> #N/A | G54: =LOOKUP(E54,$A$39:$A$66,$C$39:$C$66) -> #N/A
A55: =A23 -> MÁLAGA | B55: =E23 -> 0 | C55: =D23 -> 0 | D55: =_xlfn.RANK.EQ(B55,$B$39:$B$66)+COUNTIF($B$39:$B$66,B55)-1 -> 28 | E55: =INDEX($A$39:$B$66,MATCH(ROW()-38,$D$39:$D$66,0),1) -> #N/A | F55: =LOOKUP(E55,$A$39:$A$66,$B$39:$B$66) -> #N/A | G55: =LOOKUP(E55,$A$39:$A$66,$C$39:$C$66) -> #N/A
A56: =A24 -> MARÍN Y RÍA DE PONTEVEDRA | B56: =E24 -> 0 | C56: =D24 -> 0 | D56: =_xlfn.RANK.EQ(B56,$B$39:$B$66)+COUNTIF($B$39:$B$66,B56)-1 -> 28 | E56: =INDEX($A$39:$B$66,MATCH(ROW()-38,$D$39:$D$66,0),1) -> #N/A | F56: =LOOKUP(E56,$A$39:$A$66,$B$39:$B$66) -> #N/A | G56: =LOOKUP(E56,$A$39:$A$66,$C$39:$C$66) -> #N/A
A57: =A25 -> MELILLA | B57: =E25 -> 0 | C57: =D25 -> 0 | D57: =_xlfn.RANK.EQ(B57,$B$39:$B$66)+COUNTIF($B$39:$B$66,B57)-1 -> 28 | E57: =INDEX($A$39:$B$66,MATCH(ROW()-38,$D$39:$D$66,0),1) -> #N/A | F57: =LOOKUP(E57,$A$39:$A$66,$B$39:$B$66) -> #N/A | G57: =LOOKUP(E57,$A$39:$A$66,$C$39:$C$66) -> #N/A
A58: =A26 -> MOTRIL | B58: =E26 -> 0 | C58: =D26 -> 0 | D58: =_xlfn.RANK.EQ(B58,$B$39:$B$66)+COUNTIF($B$39:$B$66,B58)-1 -> 28 | E58: =INDEX($A$39:$B$66,MATCH(ROW()-38,$D$39:$D$66,0),1) -> #N/A | F58: =LOOKUP(E58,$A$39:$A$66,$B$39:$B$66) -> #N/A | G58: =LOOKUP(E58,$A$39:$A$66,$C$39:$C$66) -> #N/A
A59: =A27 -> PASAIA | B59: =E27 -> 0 | C59: =D27 -> 0 | D59: =_xlfn.RANK.EQ(B59,$B$39:$B$66)+COUNTIF($B$39:$B$66,B59)-1 -> 28 | E59: =INDEX($A$39:$B$66,MATCH(ROW()-38,$D$39:$D$66,0),1) -> #N/A | F59: =LOOKUP(E59,$A$39:$A$66,$B$39:$B$66) -> #N/A | G59: =LOOKUP(E59,$A$39:$A$66,$C$39:$C$66) -> #N/A
A60: =A28 -> SANTA CRUZ DE TENERIFE | B60: =E28 -> 656 | C60: =D28 -> 2185 | D60: =_xlfn.RANK.EQ(B60,$B$39:$B$66)+COUNTIF($B$39:$B$66,B60)-1 -> 7 | E60: =INDEX($A$39:$B$66,MATCH(ROW()-38,$D$39:$D$66,0),1) -> #N/A | F60: =LOOKUP(E60,$A$39:$A$66,$B$39:$B$66) -> #N/A | G60: =LOOKUP(E60,$A$39:$A$66,$C$39:$C$66) -> #N/A
... A66: =A34 -> VILAGARCÍA | B66: =E34 -> 0 | C66: =D34 -> 0 | D66: =_xlfn.RANK.EQ(B66,$B$39:$B$66)+COUNTIF($B$39:$B$66,B66)-1 -> 28 | E66: =INDEX($A$39:$B$66,MATCH(ROW()-38,$D$39:$D$66,0),1) -> ALMERÍA | F66: =LOOKUP(E66,$A$39:$A$66,$B$39:$B$66) -> 0 | G66: =LOOKUP(E66,$A$39:$A$66,$C$39:$C$66) -> 0

Sheet Mercancías tránsito
F1: 8. MERCANCÍAS EN TRÁNSITO (toneladas)
A5: Autoridad Portuaria | B5: ='Resumen general'!D6 -> Mes diciembre | D5: ='Resumen general'!F6 -> Acumulado desde enero | L5: ='Resumen general'!I4 -> Fecha: 20/12/2018
B6: ='Resumen general'!D7 -> 2016 | C6: ='Resumen general'!E7 -> 2017 | D6: ='Resumen general'!F7 -> 2016 | E6: ='Resumen general'!G7 -> 2017 | F6: Var. (%)
A7: A CORUÑA | B7: 0 | C7: 0 | D7: 7521 | E7: 0 | F7: =((E7*100)/D7)-100 -> -100
A8: ALICANTE | B8: 2747.59 | C8: 15662 | D8: 60776.59 | E8: 42828.93 | F8: =((E8*100)/D8)-100 -> -29.530548
A9: ALMERÍA | B9: 70 | C9: 0 | D9: 670 | E9: 190 | F9: =((E9*100)/D9)-100 -> -71.641791
A10: AVILÉS | B10: 0.22 | C10: 0 | D10: 61246.22 | E10: 51638.03 | F10: =((E10*100)/D10)-100 -> -15.687809
A11: BAHÍA DE ALGECIRAS | B11: 5326549.3 | C11: 5356921 | D11: 66765930 | E11: 65136337 | F11: =((E11*100)/D11)-100 -> -2.4407558
A12: BAHÍA DE CÁDIZ | B12: 20564.3 | C12: 42782 | D12: 453621.3 | E12: 547374 | F12: =((E12*100)/D12)-100 -> 20.667614
A13: BALEARES | B13: 0 | C13: 6754 | D13: 340 | E13: 106748 | F13: =((E13*100)/D13)-100 -> 31296.471
A14: BARCELONA | B14: 785115 | C14: 1692311 | D14: 8450581.6 | E14: 18172770 | F14: =((E14*100)/D14)-100 -> 115.04757
A15: BILBAO | B15: 35513 | C15: 69238 | D15: 97951.2 | E15: 103532.8 | F15: =((E15*100)/D15)-100 -> 5.6983477
A16: CARTAGENA | B16: 0 | C16: 0 | D16: 3820 | E16: 0 | F16: =((E16*100)/D16)-100 -> -100
A17: CASTELLÓN | B17: 77031.5 | C17: 5615 | D17: 445300.5 | E17: 498967 | F17: =((E17*100)/D17)-100 -> 12.051749
A18: CEUTA | B18: 0 | C18: 0 | D18: 30576 | E18: 0 | F18: =((E18*100)/D18)-100 -> -100
... A24: MARÍN Y RÍA DE PONTEVEDRA | B24: 20528.28 | C24: 10790 | D24: 46672.28 | E24: 95053 | F24: =((E24*100)/D24)-100 -> 103.6605
A25: MELILLA | B25: 0 | C25: 0 | D25: 0 | E25: 58
A26: MOTRIL | B26: 0 | C26: 0 | D26: 108 | E26: 0 | F26: =((E26*100)/D26)-100 -> -100
A27: PASAIA | B27: 3781.5 | C27: 738 | D27: 23864.5 | E27: 11104 | F27: =((E27*100)/D27)-100 -> -53.470636
A28: SANTA CRUZ DE TENERIFE | B28: 3232.3 | C28: 64060 | D28: 35643.3 | E28: 652569 | F28: =((E28*100)/D28)-100 -> 1730.8322
A29: SANTANDER | B29: 3231 | C29: 0 | D29: 7825 | E29: 7592 | F29: =((E29*100)/D29)-100 -> -2.9776358
A30: SEVILLA | B30: 0 | C30: 0 | D30: 0 | E30: 0
A31: TARRAGONA | B31: 236056 | C31: 329856 | D31: 2678147 | E31: 3248634 | F31: =((E31*100)/D31)-100 -> 21.301557
A32: VALENCIA | B32: 2620547.3 | C32: 2661330 | D32: 32578524 | E32: 34157135 | F32: =((E32*100)/D32)-100 -> 4.8455562
A33: VIGO | B33: 13872.3 | C33: 17001 | D33: 180510.3 | E33: 250818 | F33: =((E33*100)/D33)-100 -> 38.949412
A34: VILAGARCÍA | B34: 0 | C34: 4506 | D34: 100.11 | E34: 39213.1 | F34: =((E34*100)/D34)-100 -> 39070.013
A35: Total | B35: =SUM(B7:B34) -> 10124346 | C35: =SUM(C7:C34) -> 11501467 | D35: =SUM(D7:D34) -> 1.2229877e+08 | E35: =SUM(E7:E34) -> 1.3732969e+08 | F35: =((E35*100)/D35)-100 -> 12.290325
A36: No incluye transbordos.
B38: =E6 -> 2017 | C38: =D6 -> 2016 | F38: =B38 -> 2017 | G38: =C38 -> 2016
A39: =A7 -> A CORUÑA | B39: =E7 -> 0 | C39: =D7 -> 7521 | D39: =_xlfn.RANK.EQ(B39,$B$39:$B$66)+COUNTIF($B$39:$B$66,B39)-1 -> 28 | E39: =INDEX($A$39:$B$66,MATCH(ROW()-38,$D$39:$D$66,0),1) -> BAHÍA DE ALGECIRAS | F39: =LOOKUP(E39,$A$39:$A$66,$B$39:$B$66) -> 65136337 | G39: =LOOKUP(E39,$A$39:$A$66,$C$39:$C$66) -> 66765930
A40: =A8 -> ALICANTE | B40: =E8 -> 42828.93 | C40: =D8 -> 60776.59 | D40: =_xlfn.RANK.EQ(B40,$B$39:$B$66)+COUNTIF($B$39:$B$66,B40)-1 -> 18 | E40: =INDEX($A$39:$B$66,MATCH(ROW()-38,$D$39:$D$66,0),1) -> VALENCIA | F40: =LOOKUP(E40,$A$39:$A$66,$B$39:$B$66) -> 34157135 | G40: =LOOKUP(E40,$A$39:$A$66,$C$39:$C$66) -> 32578524
A41: =A9 -> ALMERÍA | B41: =E9 -> 190 | C41: =D9 -> 670 | D41: =_xlfn.RANK.EQ(B41,$B$39:$B$66)+COUNTIF($B$39:$B$66,B41)-1 -> 22 | E41: =INDEX($A$39:$B$66,MATCH(ROW()-38,$D$39:$D$66,0),1) -> BARCELONA | F41: =LOOKUP(E41,$A$39:$A$66,$B$39:$B$66) -> 18172770 | G41: =LOOKUP(E41,$A$39:$A$66,$C$39:$C$66) -> 8450581.6
A42: =A10 -> AVILÉS | B42: =E10 -> 51638.03 | C42: =D10 -> 61246.22 | D42: =_xlfn.RANK.EQ(B42,$B$39:$B$66)+COUNTIF($B$39:$B$66,B42)-1 -> 17 | E42: =INDEX($A$39:$B$66,MATCH(ROW()-38,$D$39:$D$66,0),1) -> LAS PALMAS | F42: =LOOKUP(E42,$A$39:$A$66,$B$39:$B$66) -> 10910910 | G42: =LOOKUP(E42,$A$39:$A$66,$C$39:$C$66) -> 7525652
A43: =A11 -> BAHÍA DE ALGECIRAS | B43: =E11 -> 65136337 | C43: =D11 -> 66765930 | D43: =_xlfn.RANK.EQ(B43,$B$39:$B$66)+COUNTIF($B$39:$B$66,B43)-1 -> 1 | E43: =INDEX($A$39:$B$66,MATCH(ROW()-38,$D$39:$D$66,0),1) -> TARRAGONA | F43: =LOOKUP(E43,$A$39:$A$66,$B$39:$B$66) -> 3248634 | G43: =LOOKUP(E43,$A$39:$A$66,$C$39:$C$66) -> 2678147
A44: =A12 -> BAHÍA DE CÁDIZ | B44: =E12 -> 547374 | C44: =D12 -> 453621.3 | D44: =_xlfn.RANK.EQ(B44,$B$39:$B$66)+COUNTIF($B$39:$B$66,B44)-1 -> 8 | E44: =INDEX($A$39:$B$66,MATCH(ROW()-38,$D$39:$D$66,0),1) -> HUELVA | F44: =LOOKUP(E44,$A$39:$A$66,$B$39:$B$66) -> 2873885.2 | G44: =LOOKUP(E44,$A$39:$A$66,$C$39:$C$66) -> 2438285.7
A45: =A13 -> BALEARES | B45: =E13 -> 106748 | C45: =D13 -> 340 | D45: =_xlfn.RANK.EQ(B45,$B$39:$B$66)+COUNTIF($B$39:$B$66,B45)-1 -> 13 | E45: =INDEX($A$39:$B$66,MATCH(ROW()-38,$D$39:$D$66,0),1) -> SANTA CRUZ DE TENERIFE | F45: =LOOKUP(E45,$A$39:$A$66,$B$39:$B$66) -> 652569 | G45: =LOOKUP(E45,$A$39:$A$66,$C$39:$C$66) -> 35643.3
A46: =A14 -> BARCELONA | B46: =E14 -> 18172770 | C46: =D14 -> 8450581.6 | D46: =_xlfn.RANK.EQ(B46,$B$39:$B$66)+COUNTIF($B$39:$B$66,B46)-1 -> 3 | E46: =INDEX($A$39:$B$66,MATCH(ROW()-38,$D$39:$D$66,0),1) -> BAHÍA DE CÁDIZ | F46: =LOOKUP(E46,$A$39:$A$66,$B$39:$B$66) -> 547374 | G46: =LOOKUP(E46,$A$39:$A$66,$C$39:$C$66) -> 453621.3
A47: =A15 -> BILBAO | B47: =E15 -> 103532.8 | C47: =D15 -> 97951.2 | D47: =_xlfn.RANK.EQ(B47,$B$39:$B$66)+COUNTIF($B$39:$B$66,B47)-1 -> 14 | E47: =INDEX($A$39:$B$66,MATCH(ROW()-38,$D$39:$D$66,0),1) -> CASTELLÓN | F47: =LOOKUP(E47,$A$39:$A$66,$B$39:$B$66) -> 498967 | G47: =LOOKUP(E47,$A$39:$A$66,$C$39:$C$66) -> 445300.5
A48: =A16 -> CARTAGENA | B48: =E16 -> 0 | C48: =D16 -> 3820 | D48: =_xlfn.RANK.EQ(B48,$B$39:$B$66)+COUNTIF($B$39:$B$66,B48)-1 -> 28 | E48: =INDEX($A$39:$B$66,MATCH(ROW()-38,$D$39:$D$66,0),1) -> VIGO | F48: =LOOKUP(E48,$A$39:$A$66,$B$39:$B$66) -> 250818 | G48: =LOOKUP(E48,$A$39:$A$66,$C$39:$C$66) -> 180510.3
A49: =A17 -> CASTELLÓN | B49: =E17 -> 498967 | C49: =D17 -> 445300.5 | D49: =_xlfn.RANK.EQ(B49,$B$39:$B$66)+COUNTIF($B$39:$B$66,B49)-1 -> 9 | E49: =INDEX($A$39:$B$66,MATCH(ROW()-38,$D$39:$D$66,0),1) -> MÁLAGA | F49: =LOOKUP(E49,$A$39:$A$66,$B$39:$B$66) -> 188143.85 | G49: =LOOKUP(E49,$A$39:$A$66,$C$39:$C$66) -> 215297.65
A50: =A18 -> CEUTA | B50: =E18 -> 0 | C50: =D18 -> 30576 | D50: =_xlfn.RANK.EQ(B50,$B$39:$B$66)+COUNTIF($B$39:$B$66,B50)-1 -> 28 | E50: =INDEX($A$39:$B$66,MATCH(ROW()-38,$D$39:$D$66,0),1) -> GIJÓN | F50: =LOOKUP(E50,$A$39:$A$66,$B$39:$B$66) -> 167554 | G50: =LOOKUP(E50,$A$39:$A$66,$C$39:$C$66) -> 189491.3
... A66: =A34 -> VILAGARCÍA | B66: =E34 -> 39213.1 | C66: =D34 -> 100.11 | D66: =_xlfn.RANK.EQ(B66,$B$39:$B$66)+COUNTIF($B$39:$B$66,B66)-1 -> 19 | E66: =INDEX($A$39:$B$66,MATCH(ROW()-38,$D$39:$D$66,0),1) -> A CORUÑA | F66: =LOOKUP(E66,$A$39:$A$66,$B$39:$B$66) -> 0 | G66: =LOOKUP(E66,$A$39:$A$66,$C$39:$C$66) -> 7521

Sheet Mercan. contene. tránsito
F1: 8.1. MERCANCÍAS EN CONTENEDORES EN TRÁNSITO (toneladas)
A5: Autoridad Portuaria | B5: ='Resumen general'!D6 -> Mes diciembre | D5: ='Resumen general'!F6 -> Acumulado desde enero | L5: ='Resumen general'!I4 -> Fecha: 20/12/2018
B6: ='Resumen general'!D7 -> 2016 | C6: ='Resumen general'!E7 -> 2017 | D6: ='Resumen general'!F7 -> 2016 | E6: ='Resumen general'!G7 -> 2017 | F6: Var. (%)
A7: A CORUÑA | B7: 0 | C7: 0 | D7: 0 | E7: 0
A8: ALICANTE | B8: 2747.55 | C8: 15662 | D8: 60765.55 | E8: 0 | F8: =((E8*100)/D8)-100 -> -100
A9: ALMERÍA | B9: 52 | C9: 0 | D9: 550 | E9: 0 | F9: =((E9*100)/D9)-100 -> -100
A10: AVILÉS | B10: 0 | C10: 0 | D10: 0 | E10: 0
A11: BAHÍA DE ALGECIRAS | B11: 4274567 | C11: 4447742 | D11: 55566824 | E11: 52862527 | F11: =((E11*100)/D11)-100 -> -4.8667475
A12: BAHÍA DE CÁDIZ | B12: 0 | C12: 0 | D12: 1467 | E12: 43341 | F12: =((E12*100)/D12)-100 -> 2854.3967
A13: BALEARES | B13: 0 | C13: 37 | D13: 51 | E13: 3151.4 | F13: =((E13*100)/D13)-100 -> 6079.2157
A14: BARCELONA | B14: 273898 | C14: 1194539 | D14: 4368853 | E14: 12475170 | F14: =((E14*100)/D14)-100 -> 185.54795
A15: BILBAO | B15: 20114 | C15: 2074 | D15: 73558 | E15: 36015 | F15: =((E15*100)/D15)-100 -> -51.038636
A16: CARTAGENA | B16: 0 | C16: 0 | D16: 3820 | E16: 0 | F16: =((E16*100)/D16)-100 -> -100
A17: CASTELLÓN | B17: 0 | C17: 5615 | D17: 6128 | E17: 492914 | F17: =((E17*100)/D17)-100 -> 7943.6358
A18: CEUTA | B18: 0 | C18: 0 | D18: 0 | E18: 0
A19: FERROL-SAN CIBRAO | B19: 1.57 | C19: 0 | D19: 315.57 | E19: 0 | F19: =((E19*100)/D19)-100 -> -100
A20: GIJÓN | B20: 0 | C20: 0 | D20: 810 | E20: 0 | F20: =((E20*100)/D20)-100 -> -100
A21: HUELVA | B21: 0 | C21: 2046 | D21: 51674.92 | E21: 10761.22 | F21: =((E21*100)/D21)-100 -> -79.175159
A22: LAS PALMAS | B22: 537141 | C22: 602628 | D22: 5531324 | E22: 8461487.4 | F22: =((E22*100)/D22)-100 -> 52.973997
A23: MÁLAGA | B23: 4660.02 | C23: 0 | D23: 202423.02 | E23: 178892.57 | F23: =((E23*100)/D23)-100 -> -11.624394
A24: MARÍN Y RÍA DE PONTEVEDRA | B24: 10528 | C24: 10790 | D24: 46666.86 | E24: 95030.4 | F24: =((E24*100)/D24)-100 -> 103.63573
A25: MELILLA | B25: 0 | C25: 0 | D25: 0 | E25: 58
A26: MOTRIL | B26: 0 | C26: 0 | D26: 108 | E26: 0 | F26: =((E26*100)/D26)-100 -> -100
A27: PASAIA | B27: 0 | C27: 0 | D27: 0 | E27: 0
A28: SANTA CRUZ DE TENERIFE | B28: 2634 | C28: 63112 | D28: 31820 | E28: 642811 | F28: =((E28*100)/D28)-100 -> 1920.1477
A29: SANTANDER | B29: 0 | C29: 0 | D29: 27 | E29: 0 | F29: =((E29*100)/D29)-100 -> -100
A30: SEVILLA | B30: 0 | C30: 0 | D30: 0 | E30: 0
A31: TARRAGONA | B31: 0 | C31: 68 | D31: 17091 | E31: 38143 | F31: =((E31*100)/D31)-100 -> 123.17594
A32: VALENCIA | B32: 2467027 | C32: 2615405 | D32: 32422883 | E32: 33521539 | F32: =((E32*100)/D32)-100 -> 3.3885191
A33: VIGO | B33: 8185 | C33: 7514 | D33: 122663 | E33: 156608.5 | F33: =((E33*100)/D33)-100 -> 27.673789
A34: VILAGARCÍA | B34: 0 | C34: 0 | D34: 73.32 | E34: 36.3 | F34: =((E34*100)/D34)-100 -> -50.490998
A35: Total | B35: =SUM(B7:B34) -> 7601555.1 | C35: =SUM(C7:C34) -> 8967232 | D35: =SUM(D7:D34) -> 98509897 | E35: =SUM(E7:E34) -> 1.0901849e+08 | F35: =((E35*100)/D35)-100 -> 10.667547
A36: No incluye transbordos.
B38: =E6 -> 2017 | C38: =D6 -> 2016 | F38: =B38 -> 2017 | G38: =C38 -> 2016
A39: =A7 -> A CORUÑA | B39: =E7 -> 0 | C39: =D7 -> 0 | D39: =_xlfn.RANK.EQ(B39,$B$39:$B$66)+COUNTIF($B$39:$B$66,B39)-1 -> 28 | E39: =INDEX($A$39:$B$66,MATCH(ROW()-38,$D$39:$D$66,0),1) -> BAHÍA DE ALGECIRAS | F39: =LOOKUP(E39,$A$39:$A$66,$B$39:$B$66) -> 52862527 | G39: =LOOKUP(E39,$A$39:$A$66,$C$39:$C$66) -> 55566824
A40: =A8 -> ALICANTE | B40: =E8 -> 0 | C40: =D8 -> 60765.55 | D40: =_xlfn.RANK.EQ(B40,$B$39:$B$66)+COUNTIF($B$39:$B$66,B40)-1 -> 28 | E40: =INDEX($A$39:$B$66,MATCH(ROW()-38,$D$39:$D$66,0),1) -> VALENCIA | F40: =LOOKUP(E40,$A$39:$A$66,$B$39:$B$66) -> 33521539 | G40: =LOOKUP(E40,$A$39:$A$66,$C$39:$C$66) -> 32422883
A41: =A9 -> ALMERÍA | B41: =E9 -> 0 | C41: =D9 -> 550 | D41: =_xlfn.RANK.EQ(B41,$B$39:$B$66)+COUNTIF($B$39:$B$66,B41)-1 -> 28 | E41: =INDEX($A$39:$B$66,MATCH(ROW()-38,$D$39:$D$66,0),1) -> BARCELONA | F41: =LOOKUP(E41,$A$39:$A$66,$B$39:$B$66) -> 12475170 | G41: =LOOKUP(E41,$A$39:$A$66,$C$39:$C$66) -> 4368853
A42: =A10 -> AVILÉS | B42: =E10 -> 0 | C42: =D10 -> 0 | D42: =_xlfn.RANK.EQ(B42,$B$39:$B$66)+COUNTIF($B$39:$B$66,B42)-1 -> 28 | E42: =INDEX($A$39:$B$66,MATCH(ROW()-38,$D$39:$D$66,0),1) -> LAS PALMAS | F42: =LOOKUP(E42,$A$39:$A$66,$B$39:$B$66) -> 8461487.4 | G42: =LOOKUP(E42,$A$39:$A$66,$C$39:$C$66) -> 5531324
A43: =A11 -> BAHÍA DE ALGECIRAS | B43: =E11 -> 52862527 | C43: =D11 -> 55566824 | D43: =_xlfn.RANK.EQ(B43,$B$39:$B$66)+COUNTIF($B$39:$B$66,B43)-1 -> 1 | E43: =INDEX($A$39:$B$66,MATCH(ROW()-38,$D$39:$D$66,0),1) -> SANTA CRUZ DE TENERIFE | F43: =LOOKUP(E43,$A$39:$A$66,$B$39:$B$66) -> 642811 | G43: =LOOKUP(E43,$A$39:$A$66,$C$39:$C$66) -> 31820
A44: =A12 -> BAHÍA DE CÁDIZ | B44: =E12 -> 43341 | C44: =D12 -> 1467 | D44: =_xlfn.RANK.EQ(B44,$B$39:$B$66)+COUNTIF($B$39:$B$66,B44)-1 -> 10 | E44: =INDEX($A$39:$B$66,MATCH(ROW()-38,$D$39:$D$66,0),1) -> CASTELLÓN | F44: =LOOKUP(E44,$A$39:$A$66,$B$39:$B$66) -> 492914 | G44: =LOOKUP(E44,$A$39:$A$66,$C$39:$C$66) -> 6128
A45: =A13 -> BALEARES | B45: =E13 -> 3151.4 | C45: =D13 -> 51 | D45: =_xlfn.RANK.EQ(B45,$B$39:$B$66)+COUNTIF($B$39:$B$66,B45)-1 -> 14 | E45: =INDEX($A$39:$B$66,MATCH(ROW()-38,$D$39:$D$66,0),1) -> MÁLAGA | F45: =LOOKUP(E45,$A$39:$A$66,$B$39:$B$66) -> 178892.57 | G45: =LOOKUP(E45,$A$39:$A$66,$C$39:$C$66) -> 202423.02
A46: =A14 -> BARCELONA | B46: =E14 -> 12475170 | C46: =D14 -> 4368853 | D46: =_xlfn.RANK.EQ(B46,$B$39:$B$66)+COUNTIF($B$39:$B$66,B46)-1 -> 3 | E46: =INDEX($A$39:$B$66,MATCH(ROW()-38,$D$39:$D$66,0),1) -> VIGO | F46: =LOOKUP(E46,$A$39:$A$66,$B$39:$B$66) -> 156608.5 | G46: =LOOKUP(E46,$A$39:$A$66,$C$39:$C$66) -> 122663
A47: =A15 -> BILBAO | B47: =E15 -> 36015 | C47: =D15 -> 73558 | D47: =_xlfn.RANK.EQ(B47,$B$39:$B$66)+COUNTIF($B$39:$B$66,B47)-1 -> 12 | E47: =INDEX($A$39:$B$66,MATCH(ROW()-38,$D$39:$D$66,0),1) -> MARÍN Y RÍA DE PONTEVEDRA | F47: =LOOKUP(E47,$A$39:$A$66,$B$39:$B$66) -> 95030.4 | G47: =LOOKUP(E47,$A$39:$A$66,$C$39:$C$66) -> 46666.86
A48: =A16 -> CARTAGENA | B48: =E16 -> 0 | C48: =D16 -> 3820 | D48: =_xlfn.RANK.EQ(B48,$B$39:$B$66)+COUNTIF($B$39:$B$66,B48)-1 -> 28 | E48: =INDEX($A$39:$B$66,MATCH(ROW()-38,$D$39:$D$66,0),1) -> BAHÍA DE CÁDIZ | F48: =LOOKUP(E48,$A$39:$A$66,$B$39:$B$66) -> 43341 | G48: =LOOKUP(E48,$A$39:$A$66,$C$39:$C$66) -> 1467
A49: =A17 -> CASTELLÓN | B49: =E17 -> 492914 | C49: =D17 -> 6128 | D49: =_xlfn.RANK.EQ(B49,$B$39:$B$66)+COUNTIF($B$39:$B$66,B49)-1 -> 6 | E49: =INDEX($A$39:$B$66,MATCH(ROW()-38,$D$39:$D$66,0),1) -> TARRAGONA | F49: =LOOKUP(E49,$A$39:$A$66,$B$39:$B$66) -> 38143 | G49: =LOOKUP(E49,$A$39:$A$66,$C$39:$C$66) -> 17091
A50: =A18 -> CEUTA | B50: =E18 -> 0 | C50: =D18 -> 0 | D50: =_xlfn.RANK.EQ(B50,$B$39:$B$66)+COUNTIF($B$39:$B$66,B50)-1 -> 28 | E50: =INDEX($A$39:$B$66,MATCH(ROW()-38,$D$39:$D$66,0),1) -> BILBAO | F50: =LOOKUP(E50,$A$39:$A$66,$B$39:$B$66) -> 36015 | G50: =LOOKUP(E50,$A$39:$A$66,$C$39:$C$66) -> 73558
... A66: =A34 -> VILAGARCÍA | B66: =E34 -> 36.3 | C66: =D34 -> 73.32 | D66: =_xlfn.RANK.EQ(B66,$B$39:$B$66)+COUNTIF($B$39:$B$66,B66)-1 -> 16 | E66: =INDEX($A$39:$B$66,MATCH(ROW()-38,$D$39:$D$66,0),1) -> A CORUÑA | F66: =LOOKUP(E66,$A$39:$A$66,$B$39:$B$66) -> 0 | G66: =LOOKUP(E66,$A$39:$A$66,$C$39:$C$66) -> 0

Sheet Ro-Ro
F1: 9. TRÁFICO RO-RO (toneladas)
A5: Autoridad Portuaria | B5: ='Resumen general'!D6 -> Mes diciembre | D5: ='Resumen general'!F6 -> Acumulado desde enero | L5: ='Resumen general'!I4 -> Fecha: 20/12/2018
B6: ='Resumen general'!D7 -> 2016 | C6: ='Resumen general'!E7 -> 2017 | D6: ='Resumen general'!F7 -> 2016 | E6: ='Resumen general'!G7 -> 2017 | F6: Var. (%)
A7: A CORUÑA | B7: 0 | C7: 0 | D7: 0 | E7: 0
A8: ALICANTE | B8: 9125 | C8: 10436 | D8: 111104.77 | E8: 95217.39 | F8: =((E8*100)/D8)-100 -> -14.299458
A9: ALMERÍA | B9: 40133 | C9: 46721 | D9: 413477 | E9: 432697 | F9: =((E9*100)/D9)-100 -> 4.6483843
A10: AVILÉS | B10: 0 | C10: 0 | D10: 0 | E10: 0
A11: BAHÍA DE ALGECIRAS | B11: 641108 | C11: 649459 | D11: 7421041 | E11: 7712375 | F11: =((E11*100)/D11)-100 -> 3.9257835
A12: BAHÍA DE CÁDIZ | B12: 82927 | C12: 95699 | D12: 796064 | E12: 894289 | F12: =((E12*100)/D12)-100 -> 12.338832
A13: BALEARES | B13: 769104 | C13: 767307 | D13: 11472643 | E13: 12150479 | F13: =((E13*100)/D13)-100 -> 5.9082811
A14: BARCELONA | B14: 772802 | C14: 694122 | D14: 10695544 | E14: 11198738 | F14: =((E14*100)/D14)-100 -> 4.7047118
A15: BILBAO | B15: 0 | C15: 51694 | D15: 639396 | E15: 810439 | F15: =((E15*100)/D15)-100 -> 26.750715
A16: CARTAGENA | B16: 0 | C16: 0 | D16: 0 | E16: 0
A17: CASTELLÓN | B17: 43240 | C17: 30521 | D17: 621141 | E17: 537427 | F17: =((E17*100)/D17)-100 -> -13.477455
A18: CEUTA | B18: 85884 | C18: 55905 | D18: 1035249 | E18: 867997 | F18: =((E18*100)/D18)-100 -> -16.155727
A19: FERROL-SAN CIBRAO | B19: 5224.27 | C19: 7211 | D19: 72308.27 | E19: 71182.22 | F19: =((E19*100)/D19)-100 -> -1.5572907
A20: GIJÓN | B20: 0 | C20: 0 | D20: 4361 | E20: 978 | F20: =((E20*100)/D20)-100 -> -77.573951
A21: HUELVA | B21: 11620.28 | C21: 14353 | D21: 146515.28 | E21: 151001.64 | F21: =((E21*100)/D21)-100 -> 3.0620424
A22: LAS PALMAS | B22: 140116 | C22: 334306 | D22: 3325562 | E22: 4180212 | F22: =((E22*100)/D22)-100 -> 25.699416
A23: MÁLAGA | B23: 40660.07 | C23: 38451 | D23: 521997.07 | E23: 530236.23 | F23: =((E23*100)/D23)-100 -> 1.578392
A24: MARÍN Y RÍA DE PONTEVEDRA | B24: 121997 | C24: 0 | D24: 0 | E24: 0
A25: MELILLA | B25: 0 | C25: 51314 | D25: 826879.6 | E25: 852972 | F25: =((E25*100)/D25)-100 -> 3.1555259
A26: MOTRIL | B26: 17664 | C26: 53181 | D26: 359156 | E26: 589055.8 | F26: =((E26*100)/D26)-100 -> 64.011126
A27: PASAIA | B27: 33780 | C27: 49151 | D27: 598521 | E27: 601098 | F27: =((E27*100)/D27)-100 -> 0.43056133
A28: SANTA CRUZ DE TENERIFE | B28: 250942.5 | C28: 314633 | D28: 3744377.5 | E28: 3816001.8 | F28: =((E28*100)/D28)-100 -> 1.9128493
A29: SANTANDER | B29: 121080 | C29: 112485 | D29: 1411294 | E29: 1551574 | F29: =((E29*100)/D29)-100 -> 9.9398141
A30: SEVILLA | B30: 0 | C30: 15843 | D30: 256104 | E30: 201609 | F30: =((E30*100)/D30)-100 -> -21.278465
A31: TARRAGONA | B31: 19123.5 | C31: 26776 | D31: 222468.5 | E31: 296632 | F31: =((E31*100)/D31)-100 -> 33.33663
A32: VALENCIA | B32: 583816 | C32: 779970 | D32: 8939023 | E32: 9452523 | F32: =((E32*100)/D32)-100 -> 5.7444757
A33: VIGO | B33: 80525 | C33: 81430 | D33: 1013389 | E33: 1079461 | F33: =((E33*100)/D33)-100 -> 6.519905
A34: VILAGARCÍA | B34: 0 | C34: 0 | D34: 0 | E34: 0
A35: Total | B35: =SUM(B7:B34) -> 3870871.6 | C35: =SUM(C7:C34) -> 4280968 | D35: =SUM(D7:D34) -> 54647615 | E35: =SUM(E7:E34) -> 58074195 | F35: =((E35*100)/D35)-100 -> 6.2703186
A36: Incluye cargas, descargas, tránsitos y transbordos.
B38: =E6 -> 2017 | C38: =D6 -> 2016 | F38: =B38 -> 2017 | G38: =C38 -> 2016
A39: =A7 -> A CORUÑA | B39: =E7 -> 0 | C39: =D7 -> 0 | D39: =_xlfn.RANK.EQ(B39,$B$39:$B$66)+COUNTIF($B$39:$B$66,B39)-1 -> 28 | E39: =INDEX($A$39:$B$66,MATCH(ROW()-38,$D$39:$D$66,0),1) -> BALEARES | F39: =LOOKUP(E39,$A$39:$A$66,$B$39:$B$66) -> 12150479 | G39: =LOOKUP(E39,$A$39:$A$66,$C$39:$C$66) -> 11472643
A40: =A8 -> ALICANTE | B40: =E8 -> 95217.39 | C40: =D8 -> 111104.77 | D40: =_xlfn.RANK.EQ(B40,$B$39:$B$66)+COUNTIF($B$39:$B$66,B40)-1 -> 21 | E40: =INDEX($A$39:$B$66,MATCH(ROW()-38,$D$39:$D$66,0),1) -> BARCELONA | F40: =LOOKUP(E40,$A$39:$A$66,$B$39:$B$66) -> 11198738 | G40: =LOOKUP(E40,$A$39:$A$66,$C$39:$C$66) -> 10695544
A41: =A9 -> ALMERÍA | B41: =E9 -> 432697 | C41: =D9 -> 413477 | D41: =_xlfn.RANK.EQ(B41,$B$39:$B$66)+COUNTIF($B$39:$B$66,B41)-1 -> 17 | E41: =INDEX($A$39:$B$66,MATCH(ROW()-38,$D$39:$D$66,0),1) -> VALENCIA | F41: =LOOKUP(E41,$A$39:$A$66,$B$39:$B$66) -> 9452523 | G41: =LOOKUP(E41,$A$39:$A$66,$C$39:$C$66) -> 8939023
A42: =A10 -> AVILÉS | B42: =E10 -> 0 | C42: =D10 -> 0 | D42: =_xlfn.RANK.EQ(B42,$B$39:$B$66)+COUNTIF($B$39:$B$66,B42)-1 -> 28 | E42: =INDEX($A$39:$B$66,MATCH(ROW()-38,$D$39:$D$66,0),1) -> BAHÍA DE ALGECIRAS | F42: =LOOKUP(E42,$A$39:$A$66,$B$39:$B$66) -> 7712375 | G42: =LOOKUP(E42,$A$39:$A$66,$C$39:$C$66) -> 7421041
A43: =A11 -> BAHÍA DE ALGECIRAS | B43: =E11 -> 7712375 | C43: =D11 -> 7421041 | D43: =_xlfn.RANK.EQ(B43,$B$39:$B$66)+COUNTIF($B$39:$B$66,B43)-1 -> 4 | E43: =INDEX($A$39:$B$66,MATCH(ROW()-38,$D$39:$D$66,0),1) -> LAS PALMAS | F43: =LOOKUP(E43,$A$39:$A$66,$B$39:$B$66) -> 4180212 | G43: =LOOKUP(E43,$A$39:$A$66,$C$39:$C$66) -> 3325562
A44: =A12 -> BAHÍA DE CÁDIZ | B44: =E12 -> 894289 | C44: =D12 -> 796064 | D44: =_xlfn.RANK.EQ(B44,$B$39:$B$66)+COUNTIF($B$39:$B$66,B44)-1 -> 9 | E44: =INDEX($A$39:$B$66,MATCH(ROW()-38,$D$39:$D$66,0),1) -> SANTA CRUZ DE TENERIFE | F44: =LOOKUP(E44,$A$39:$A$66,$B$39:$B$66) -> 3816001.8 | G44: =LOOKUP(E44,$A$39:$A$66,$C$39:$C$66) -> 3744377.5
A45: =A13 -> BALEARES | B45: =E13 -> 12150479 | C45: =D13 -> 11472643 | D45: =_xlfn.RANK.EQ(B45,$B$39:$B$66)+COUNTIF($B$39:$B$66,B45)-1 -> 1 | E45: =INDEX($A$39:$B$66,MATCH(ROW()-38,$D$39:$D$66,0),1) -> SANTANDER | F45: =LOOKUP(E45,$A$39:$A$66,$B$39:$B$66) -> 1551574 | G45: =LOOKUP(E45,$A$39:$A$66,$C$39:$C$66) -> 1411294
A46: =A14 -> BARCELONA | B46: =E14 -> 11198738 | C46: =D14 -> 10695544 | D46: =_xlfn.RANK.EQ(B46,$B$39:$B$66)+COUNTIF($B$39:$B$66,B46)-1 -> 2 | E46: =INDEX($A$39:$B$66,MATCH(ROW()-38,$D$39:$D$66,0),1) -> VIGO | F46: =LOOKUP(E46,$A$39:$A$66,$B$39:$B$66) -> 1079461 | G46: =LOOKUP(E46,$A$39:$A$66,$C$39:$C$66) -> 1013389
A47: =A15 -> BILBAO | B47: =E15 -> 810439 | C47: =D15 -> 639396 | D47: =_xlfn.RANK.EQ(B47,$B$39:$B$66)+COUNTIF($B$39:$B$66,B47)-1 -> 12 | E47: =INDEX($A$39:$B$66,MATCH(ROW()-38,$D$39:$D$66,0),1) -> BAHÍA DE CÁDIZ | F47: =LOOKUP(E47,$A$39:$A$66,$B$39:$B$66) -> 894289 | G47: =LOOKUP(E47,$A$39:$A$66,$C$39:$C$66) -> 796064
A48: =A16 -> CARTAGENA | B48: =E16 -> 0 | C48: =D16 -> 0 | D48: =_xlfn.RANK.EQ(B48,$B$39:$B$66)+COUNTIF($B$39:$B$66,B48)-1 -> 28 | E48: =INDEX($A$39:$B$66,MATCH(ROW()-38,$D$39:$D$66,0),1) -> CEUTA | F48: =LOOKUP(E48,$A$39:$A$66,$B$39:$B$66) -> 867997 | G48: =LOOKUP(E48,$A$39:$A$66,$C$39:$C$66) -> 1035249
A49: =A17 -> CASTELLÓN | B49: =E17 -> 537427 | C49: =D17 -> 621141 | D49: =_xlfn.RANK.EQ(B49,$B$39:$B$66)+COUNTIF($B$39:$B$66,B49)-1 -> 15 | E49: =INDEX($A$39:$B$66,MATCH(ROW()-38,$D$39:$D$66,0),1) -> MELILLA | F49: =LOOKUP(E49,$A$39:$A$66,$B$39:$B$66) -> 852972 | G49: =LOOKUP(E49,$A$39:$A$66,$C$39:$C$66) -> 826879.6
A50: =A18 -> CEUTA | B50: =E18 -> 867997 | C50: =D18 -> 1035249 | D50: =_xlfn.RANK.EQ(B50,$B$39:$B$66)+COUNTIF($B$39:$B$66,B50)-1 -> 10 | E50: =INDEX($A$39:$B$66,MATCH(ROW()-38,$D$39:$D$66,0),1) -> BILBAO | F50: =LOOKUP(E50,$A$39:$A$66,$B$39:$B$66) -> 810439 | G50: =LOOKUP(E50,$A$39:$A$66,$C$39:$C$66) -> 639396
... A64: =A32 -> VALENCIA | B64: =E32 -> 9452523 | C64: =D32 -> 8939023 | D64: =_xlfn.RANK.EQ(B64,$B$39:$B$66)+COUNTIF($B$39:$B$66,B64)-1 -> 3 | E64: =INDEX($A$39:$B$66,MATCH(ROW()-38,$D$39:$D$66,0),1) -> #N/A | F64: =LOOKUP(E64,$A$39:$A$66,$B$39:$B$66) -> #N/A | G64: =LOOKUP(E64,$A$39:$A$66,$C$39:$C$66) -> #N/A
A65: =A33 -> VIGO | B65: =E33 -> 1079461 | C65: =D33 -> 1013389 | D65: =_xlfn.RANK.EQ(B65,$B$39:$B$66)+COUNTIF($B$39:$B$66,B65)-1 -> 8 | E65: =INDEX($A$39:$B$66,MATCH(ROW()-38,$D$39:$D$66,0),1) -> #N/A | F65: =LOOKUP(E65,$A$39:$A$66,$B$39:$B$66) -> #N/A
A66: =A34 -> VILAGARCÍA | B66: =E34 -> 0 | C66: =D34 -> 0 | D66: =_xlfn.RANK.EQ(B66,$B$39:$B$66)+COUNTIF($B$39:$B$66,B66)-1 -> 28 | E66: =INDEX($A$39:$B$66,MATCH(ROW()-38,$D$39:$D$66,0),1) -> A CORUÑA | F66: =LOOKUP(E66,$A$39:$A$66,$B$39:$B$66) -> 0

Sheet Ro-Ro remolques
E1: 9.1. TRÁFICO RO-RO DE REMOLQUES, SEMIRREMOLQUES Y PLATAFORMAS
I2: (unidades)
A5: Autoridad Portuaria | B5: ='Resumen general'!D6 -> Mes diciembre | D5: ='Resumen general'!F6 -> Acumulado desde enero | L5: ='Resumen general'!I4 -> Fecha: 20/12/2018
B6: ='Resumen general'!D7 -> 2016 | C6: ='Resumen general'!E7 -> 2017 | D6: ='Resumen general'!F7 -> 2016 | E6: ='Resumen general'!G7 -> 2017 | F6: Var. (%)
A7: A CORUÑA | B7: 0 | C7: 0 | D7: 0 | E7: 0
A8: ALICANTE | B8: 21 | C8: 144 | D8: 1149 | E8: 845 | F8: =((E8*100)/D8)-100 -> -26.457789
A9: ALMERÍA | B9: 999 | C9: 1172 | D9: 11044 | E9: 11353 | F9: =((E9*100)/D9)-100 -> 2.7978993
A10: AVILÉS | B10: 0 | C10: 0 | D10: 0 | E10: 0
A11: BAHÍA DE ALGECIRAS | B11: 18944 | C11: 17911 | D11: 244769 | E11: 110486 | F11: =((E11*100)/D11)-100 -> -54.861114
A12: BAHÍA DE CÁDIZ | B12: 2163 | C12: 2937 | D12: 23502 | E12: 27992 | F12: =((E12*100)/D12)-100 -> 19.104757
A13: BALEARES | B13: 15782 | C13: 16340 | D13: 253898 | E13: 262132 | F13: =((E13*100)/D13)-100 -> 3.2430346
A14: BARCELONA | B14: 13201 | C14: 13126 | D14: 201504 | E14: 200325 | F14: =((E14*100)/D14)-100 -> -0.58510005
A15: BILBAO | B15: 339 | C15: 1485 | D15: 10338 | E15: 17144 | F15: =((E15*100)/D15)-100 -> 65.834784
A16: CARTAGENA | B16: 0 | C16: 0 | D16: 0 | E16: 0
A17: CASTELLÓN | B17: 0 | C17: 0 | D17: 0 | E17: 0
A18: CEUTA | B18: 1530 | C18: 1457 | D18: 29649 | E18: 17692 | F18: =((E18*100)/D18)-100 -> -40.32851
A19: FERROL-SAN CIBRAO | B19: 59 | C19: 76 | D19: 2114 | E19: 3152 | F19: =((E19*100)/D19)-100 -> 49.10123
A20: GIJÓN | B20: 0 | C20: 0 | D20: 77 | E20: 34 | F20: =((E20*100)/D20)-100 -> -55.844156
A21: HUELVA | B21: 581 | C21: 638 | D21: 45146 | E21: 6430 | F21: =((E21*100)/D21)-100 -> -85.757321
A22: LAS PALMAS | B22: 11880 | C22: 12298 | D22: 143627 | E22: 145622 | F22: =((E22*100)/D22)-100 -> 1.3890146
A23: MÁLAGA | B23: 1566 | C23: 1272 | D23: 23568 | E23: 23096 | F23: =((E23*100)/D23)-100 -> -2.0027155
A24: MARÍN Y RÍA DE PONTEVEDRA | B24: 0 | C24: 0 | D24: 0 | E24: 0
A25: MELILLA | B25: 2739 | C25: 2007 | D25: 34271 | E25: 34427 | F25: =((E25*100)/D25)-100 -> 0.45519535
A26: MOTRIL | B26: 1502 | C26: 2088 | D26: 12972 | E26: 21104 | F26: =((E26*100)/D26)-100 -> 62.688868
A27: PASAIA | B27: 0 | C27: 356 | D27: 0 | E27: 0
A28: SANTA CRUZ DE TENERIFE | B28: 9702 | C28: 10297 | D28: 140704 | E28: 143184 | F28: =((E28*100)/D28)-100 -> 1.7625654
A29: SANTANDER | B29: 1346 | C29: 1375 | D29: 15943 | E29: 17277 | F29: =((E29*100)/D29)-100 -> 8.3673085
A30: SEVILLA | B30: 745 | C30: 687 | D30: 11037 | E30: 8898 | F30: =((E30*100)/D30)-100 -> -19.380266
A31: TARRAGONA | B31: 0 | C31: 0 | D31: 7 | E31: 0 | F31: =((E31*100)/D31)-100 -> -100
A32: VALENCIA | B32: 17771 | C32: 15711 | D32: 225722 | E32: 242863 | F32: =((E32*100)/D32)-100 -> 7.5938544
A33: VIGO | B33: 1145 | C33: 1248 | D33: 16893 | E33: 17852 | F33: =((E33*100)/D33)-100 -> 5.6769076
A34: VILAGARCÍA | B34: 0 | C34: 0 | D34: 0 | E34: 0
A35: Total | B35: =SUM(B7:B34) -> 102015 | C35: =SUM(C7:C34) -> 102625 | D35: =SUM(D7:D34) -> 1447934 | E35: =SUM(E7:E34) -> 1311908 | F35: =((E35*100)/D35)-100 -> -9.394489
A36: Incluye cargas, descargas, tránsitos y transbordos.
B38: =E6 -> 2017 | C38: =D6 -> 2016 | F38: =B38 -> 2017 | G38: =C38 -> 2016
A39: =A7 -> A CORUÑA | B39: =E7 -> 0 | C39: =D7 -> 0 | D39: =_xlfn.RANK.EQ(B39,$B$39:$B$66)+COUNTIF($B$39:$B$66,B39)-1 -> 28 | E39: =INDEX($A$39:$B$66,MATCH(ROW()-38,$D$39:$D$66,0),1) -> BALEARES | F39: =LOOKUP(E39,$A$39:$A$66,$B$39:$B$66) -> 262132 | G39: =LOOKUP(E39,$A$39:$A$66,$C$39:$C$66) -> 253898
A40: =A8 -> ALICANTE | B40: =E8 -> 845 | C40: =D8 -> 1149 | D40: =_xlfn.RANK.EQ(B40,$B$39:$B$66)+COUNTIF($B$39:$B$66,B40)-1 -> 19 | E40: =INDEX($A$39:$B$66,MATCH(ROW()-38,$D$39:$D$66,0),1) -> VALENCIA | F40: =LOOKUP(E40,$A$39:$A$66,$B$39:$B$66) -> 242863 | G40: =LOOKUP(E40,$A$39:$A$66,$C$39:$C$66) -> 225722
A41: =A9 -> ALMERÍA | B41: =E9 -> 11353 | C41: =D9 -> 11044 | D41: =_xlfn.RANK.EQ(B41,$B$39:$B$66)+COUNTIF($B$39:$B$66,B41)-1 -> 15 | E41: =INDEX($A$39:$B$66,MATCH(ROW()-38,$D$39:$D$66,0),1) -> BARCELONA | F41: =LOOKUP(E41,$A$39:$A$66,$B$39:$B$66) -> 200325 | G41: =LOOKUP(E41,$A$39:$A$66,$C$39:$C$66) -> 201504
A42: =A10 -> AVILÉS | B42: =E10 -> 0 | C42: =D10 -> 0 | D42: =_xlfn.RANK.EQ(B42,$B$39:$B$66)+COUNTIF($B$39:$B$66,B42)-1 -> 28 | E42: =INDEX($A$39:$B$66,MATCH(ROW()-38,$D$39:$D$66,0),1) -> LAS PALMAS | F42: =LOOKUP(E42,$A$39:$A$66,$B$39:$B$66) -> 145622 | G42: =LOOKUP(E42,$A$39:$A$66,$C$39:$C$66) -> 143627
A43: =A11 -> BAHÍA DE ALGECIRAS | B43: =E11 -> 110486 | C43: =D11 -> 244769 | D43: =_xlfn.RANK.EQ(B43,$B$39:$B$66)+COUNTIF($B$39:$B$66,B43)-1 -> 6 | E43: =INDEX($A$39:$B$66,MATCH(ROW()-38,$D$39:$D$66,0),1) -> SANTA CRUZ DE TENERIFE | F43: =LOOKUP(E43,$A$39:$A$66,$B$39:$B$66) -> 143184 | G43: =LOOKUP(E43,$A$39:$A$66,$C$39:$C$66) -> 140704
A44: =A12 -> BAHÍA DE CÁDIZ | B44: =E12 -> 27992 | C44: =D12 -> 23502 | D44: =_xlfn.RANK.EQ(B44,$B$39:$B$66)+COUNTIF($B$39:$B$66,B44)-1 -> 8 | E44: =INDEX($A$39:$B$66,MATCH(ROW()-38,$D$39:$D$66,0),1) -> BAHÍA DE ALGECIRAS | F44: =LOOKUP(E44,$A$39:$A$66,$B$39:$B$66) -> 110486 | G44: =LOOKUP(E44,$A$39:$A$66,$C$39:$C$66) -> 244769
A45: =A13 -> BALEARES | B45: =E13 -> 262132 | C45: =D13 -> 253898 | D45: =_xlfn.RANK.EQ(B45,$B$39:$B$66)+COUNTIF($B$39:$B$66,B45)-1 -> 1 | E45: =INDEX($A$39:$B$66,MATCH(ROW()-38,$D$39:$D$66,0),1) -> MELILLA | F45: =LOOKUP(E45,$A$39:$A$66,$B$39:$B$66) -> 34427 | G45: =LOOKUP(E45,$A$39:$A$66,$C$39:$C$66) -> 34271
A46: =A14 -> BARCELONA | B46: =E14 -> 200325 | C46: =D14 -> 201504 | D46: =_xlfn.RANK.EQ(B46,$B$39:$B$66)+COUNTIF($B$39:$B$66,B46)-1 -> 3 | E46: =INDEX($A$39:$B$66,MATCH(ROW()-38,$D$39:$D$66,0),1) -> BAHÍA DE CÁDIZ | F46: =LOOKUP(E46,$A$39:$A$66,$B$39:$B$66) -> 27992 | G46: =LOOKUP(E46,$A$39:$A$66,$C$39:$C$66) -> 23502
A47: =A15 -> BILBAO | B47: =E15 -> 17144 | C47: =D15 -> 10338 | D47: =_xlfn.RANK.EQ(B47,$B$39:$B$66)+COUNTIF($B$39:$B$66,B47)-1 -> 14 | E47: =INDEX($A$39:$B$66,MATCH(ROW()-38,$D$39:$D$66,0),1) -> MÁLAGA | F47: =LOOKUP(E47,$A$39:$A$66,$B$39:$B$66) -> 23096 | G47: =LOOKUP(E47,$A$39:$A$66,$C$39:$C$66) -> 23568
A48: =A16 -> CARTAGENA | B48: =E16 -> 0 | C48: =D16 -> 0 | D48: =_xlfn.RANK.EQ(B48,$B$39:$B$66)+COUNTIF($B$39:$B$66,B48)-1 -> 28 | E48: =INDEX($A$39:$B$66,MATCH(ROW()-38,$D$39:$D$66,0),1) -> MOTRIL | F48: =LOOKUP(E48,$A$39:$A$66,$B$39:$B$66) -> 21104 | G48: =LOOKUP(E48,$A$39:$A$66,$C$39:$C$66) -> 12972
A49: =A17 -> CASTELLÓN | B49: =E17 -> 0 | C49: =D17 -> 0 | D49: =_xlfn.RANK.EQ(B49,$B$39:$B$66)+COUNTIF($B$39:$B$66,B49)-1 -> 28 | E49: =INDEX($A$39:$B$66,MATCH(ROW()-38,$D$39:$D$66,0),1) -> VIGO | F49: =LOOKUP(E49,$A$39:$A$66,$B$39:$B$66) -> 17852 | G49: =LOOKUP(E49,$A$39:$A$66,$C$39:$C$66) -> 16893
A50: =A18 -> CEUTA | B50: =E18 -> 17692 | C50: =D18 -> 29649 | D50: =_xlfn.RANK.EQ(B50,$B$39:$B$66)+COUNTIF($B$39:$B$66,B50)-1 -> 12 | E50: =INDEX($A$39:$B$66,MATCH(ROW()-38,$D$39:$D$66,0),1) -> CEUTA | F50: =LOOKUP(E50,$A$39:$A$66,$B$39:$B$66) -> 17692 | G50: =LOOKUP(E50,$A$39:$A$66,$C$39:$C$66) -> 29649
... A66: =A34 -> VILAGARCÍA | B66: =E34 -> 0 | C66: =D34 -> 0 | D66: =_xlfn.RANK.EQ(B66,$B$39:$B$66)+COUNTIF($B$39:$B$66,B66)-1 -> 28 | E66: =INDEX($A$39:$B$66,MATCH(ROW()-38,$D$39:$D$66,0),1) -> A CORUÑA | F66: =LOOKUP(E66,$A$39:$A$66,$B$39:$B$66) -> 0 | G66: =LOOKUP(E66,$A$39:$A$66,$C$39:$C$66) -> 0

Sheet TEUS
F1: 10. CONTENEDORES (TEUS)
A5: Autoridad Portuaria | B5: ='Resumen general'!D6 -> Mes diciembre | D5: ='Resumen general'!F6 -> Acumulado desde enero | L5: ='Resumen general'!I4 -> Fecha: 20/12/2018
B6: ='Resumen general'!D7 -> 2016 | C6: ='Resumen general'!E7 -> 2017 | D6: ='Resumen general'!F7 -> 2016 | E6: ='Resumen general'!G7 -> 2017 | F6: Var. (%)
A7: A CORUÑA | B7: 0 | C7: 0 | D7: 214 | E7: 3 | F7: =((E7*100)/D7)-100 -> -98.598131
A8: ALICANTE | B8: 13567 | C8: 15132 | D8: 159664 | E8: 164410 | F8: =((E8*100)/D8)-100 -> 2.9724922
A9: ALMERÍA | B9: 575.75 | C9: 504 | D9: 6290.75 | E9: 6606 | F9: =((E9*100)/D9)-100 -> 5.0113262
A10: AVILÉS | B10: 2 | C10: 0 | D10: 2 | E10: 0 | F10: =((E10*100)/D10)-100 -> -100
A11: BAHÍA DE ALGECIRAS | B11: 375642 | C11: 379068 | D11: 4761444 | E11: 4389851 | F11: =((E11*100)/D11)-100 -> -7.8042081
A12: BAHÍA DE CÁDIZ | B12: 6053 | C12: 6799 | D12: 74321 | E12: 82188 | F12: =((E12*100)/D12)-100 -> 10.585164
A13: BALEARES | B13: 8662 | C13: 7567 | D13: 130268 | E13: 120762 | F13: =((E13*100)/D13)-100 -> -7.2972641
A14: BARCELONA | B14: 194795 | C14: 231332 | D14: 2236961 | E14: 2968757 | F14: =((E14*100)/D14)-100 -> 32.713847
A15: BILBAO | B15: 60206 | C15: 65991 | D15: 596689 | E15: 604871 | F15: =((E15*100)/D15)-100 -> 1.3712336
A16: CARTAGENA | B16: 5640 | C16: 5663 | D16: 96127 | E16: 89931 | F16: =((E16*100)/D16)-100 -> -6.4456396
A17: CASTELLÓN | B17: 17425 | C17: 18268 | D17: 226903 | E17: 240895 | F17: =((E17*100)/D17)-100 -> 6.1665117
A18: CEUTA | B18: 1879 | C18: 728 | D18: 21790 | E18: 16036 | F18: =((E18*100)/D18)-100 -> -26.406609
... A34: VILAGARCÍA | B34: 2361 | C34: 2741 | D34: 32323 | E34: 34508 | F34: =((E34*100)/D34)-100 -> 6.7598923
A35: Total | B35: =SUM(B7:B34) -> 1272883.8 | C35: =SUM(C7:C34) -> 1319703 | D35: =SUM(D7:D34) -> 15154303 | E35: =SUM(E7:E34) -> 15951635 | F35: =((E35*100)/D35)-100 -> 5.2614229
A36: Incluye cargas, descargas, tránsitos y transbordos.
B38: =E6 -> 2017 | C38: =D6 -> 2016 | F38: =B38 -> 2017 | G38: =C38 -> 2016
A39: =A7 -> A CORUÑA | B39: =E7 -> 3 | C39: =D7 -> 214 | D39: =_xlfn.RANK.EQ(B39,$B$39:$B$66)+COUNTIF($B$39:$B$66,B39)-1 -> 27 | E39: =INDEX($A$39:$B$66,MATCH(ROW()-38,$D$39:$D$66,0),1) -> VALENCIA | F39: =LOOKUP(E39,$A$39:$A$66,$B$39:$B$66) -> 4832156 | G39: =LOOKUP(E39,$A$39:$A$66,$C$39:$C$66) -> 4732136
A40: =A8 -> ALICANTE | B40: =E8 -> 164410 | C40: =D8 -> 159664 | D40: =_xlfn.RANK.EQ(B40,$B$39:$B$66)+COUNTIF($B$39:$B$66,B40)-1 -> 9 | E40: =INDEX($A$39:$B$66,MATCH(ROW()-38,$D$39:$D$66,0),1) -> BAHÍA DE ALGECIRAS | F40: =LOOKUP(E40,$A$39:$A$66,$B$39:$B$66) -> 4389851 | G40: =LOOKUP(E40,$A$39:$A$66,$C$39:$C$66) -> 4761444
A41: =A9 -> ALMERÍA | B41: =E9 -> 6606 | C41: =D9 -> 6290.75 | D41: =_xlfn.RANK.EQ(B41,$B$39:$B$66)+COUNTIF($B$39:$B$66,B41)-1 -> 24 | E41: =INDEX($A$39:$B$66,MATCH(ROW()-38,$D$39:$D$66,0),1) -> BARCELONA | F41: =LOOKUP(E41,$A$39:$A$66,$B$39:$B$66) -> 2968757 | G41: =LOOKUP(E41,$A$39:$A$66,$C$39:$C$66) -> 2236961
A42: =A10 -> AVILÉS | B42: =E10 -> 0 | C42: =D10 -> 2 | D42: =_xlfn.RANK.EQ(B42,$B$39:$B$66)+COUNTIF($B$39:$B$66,B42)-1 -> 28 | E42: =INDEX($A$39:$B$66,MATCH(ROW()-38,$D$39:$D$66,0),1) -> LAS PALMAS | F42: =LOOKUP(E42,$A$39:$A$66,$B$39:$B$66) -> 1183327 | G42: =LOOKUP(E42,$A$39:$A$66,$C$39:$C$66) -> 945534
A43: =A11 -> BAHÍA DE ALGECIRAS | B43: =E11 -> 4389851 | C43: =D11 -> 4761444 | D43: =_xlfn.RANK.EQ(B43,$B$39:$B$66)+COUNTIF($B$39:$B$66,B43)-1 -> 2 | E43: =INDEX($A$39:$B$66,MATCH(ROW()-38,$D$39:$D$66,0),1) -> BILBAO | F43: =LOOKUP(E43,$A$39:$A$66,$B$39:$B$66) -> 604871 | G43: =LOOKUP(E43,$A$39:$A$66,$C$39:$C$66) -> 596689
A44: =A12 -> BAHÍA DE CÁDIZ | B44: =E12 -> 82188 | C44: =D12 -> 74321 | D44: =_xlfn.RANK.EQ(B44,$B$39:$B$66)+COUNTIF($B$39:$B$66,B44)-1 -> 15 | E44: =INDEX($A$39:$B$66,MATCH(ROW()-38,$D$39:$D$66,0),1) -> SANTA CRUZ DE TENERIFE | F44: =LOOKUP(E44,$A$39:$A$66,$B$39:$B$66) -> 467144 | G44: =LOOKUP(E44,$A$39:$A$66,$C$39:$C$66) -> 370645
A45: =A13 -> BALEARES | B45: =E13 -> 120762 | C45: =D13 -> 130268 | D45: =_xlfn.RANK.EQ(B45,$B$39:$B$66)+COUNTIF($B$39:$B$66,B45)-1 -> 10 | E45: =INDEX($A$39:$B$66,MATCH(ROW()-38,$D$39:$D$66,0),1) -> CASTELLÓN | F45: =LOOKUP(E45,$A$39:$A$66,$B$39:$B$66) -> 240895 | G45: =LOOKUP(E45,$A$39:$A$66,$C$39:$C$66) -> 226903
A46: =A14 -> BARCELONA | B46: =E14 -> 2968757 | C46: =D14 -> 2236961 | D46: =_xlfn.RANK.EQ(B46,$B$39:$B$66)+COUNTIF($B$39:$B$66,B46)-1 -> 3 | E46: =INDEX($A$39:$B$66,MATCH(ROW()-38,$D$39:$D$66,0),1) -> VIGO | F46: =LOOKUP(E46,$A$39:$A$66,$B$39:$B$66) -> 219438 | G46: =LOOKUP(E46,$A$39:$A$66,$C$39:$C$66) -> 218044
A47: =A15 -> BILBAO | B47: =E15 -> 604871 | C47: =D15 -> 596689 | D47: =_xlfn.RANK.EQ(B47,$B$39:$B$66)+COUNTIF($B$39:$B$66,B47)-1 -> 5 | E47: =INDEX($A$39:$B$66,MATCH(ROW()-38,$D$39:$D$66,0),1) -> ALICANTE | F47: =LOOKUP(E47,$A$39:$A$66,$B$39:$B$66) -> 164410 | G47: =LOOKUP(E47,$A$39:$A$66,$C$39:$C$66) -> 159664
A48: =A16 -> CARTAGENA | B48: =E16 -> 89931 | C48: =D16 -> 96127 | D48: =_xlfn.RANK.EQ(B48,$B$39:$B$66)+COUNTIF($B$39:$B$66,B48)-1 -> 12 | E48: =INDEX($A$39:$B$66,MATCH(ROW()-38,$D$39:$D$66,0),1) -> BALEARES | F48: =LOOKUP(E48,$A$39:$A$66,$B$39:$B$66) -> 120762 | G48: =LOOKUP(E48,$A$39:$A$66,$C$39:$C$66) -> 130268
A49: =A17 -> CASTELLÓN | B49: =E17 -> 240895 | C49: =D17 -> 226903 | D49: =_xlfn.RANK.EQ(B49,$B$39:$B$66)+COUNTIF($B$39:$B$66,B49)-1 -> 7 | E49: =INDEX($A$39:$B$66,MATCH(ROW()-38,$D$39:$D$66,0),1) -> SEVILLA | F49: =LOOKUP(E49,$A$39:$A$66,$B$39:$B$66) -> 105566 | G49: =LOOKUP(E49,$A$39:$A$66,$C$39:$C$66) -> 145672
A50: =A18 -> CEUTA | B50: =E18 -> 16036 | C50: =D18 -> 21790 | D50: =_xlfn.RANK.EQ(B50,$B$39:$B$66)+COUNTIF($B$39:$B$66,B50)-1 -> 21 | E50: =INDEX($A$39:$B$66,MATCH(ROW()-38,$D$39:$D$66,0),1) -> CARTAGENA | F50: =LOOKUP(E50,$A$39:$A$66,$B$39:$B$66) -> 89931 | G50: =LOOKUP(E50,$A$39:$A$66,$C$39:$C$66) -> 96127
... A66: =A34 -> VILAGARCÍA | B66: =E34 -> 34508 | C66: =D34 -> 32323 | D66: =_xlfn.RANK.EQ(B66,$B$39:$B$66)+COUNTIF($B$39:$B$66,B66)-1 -> 20 | E66: =INDEX($A$39:$B$66,MATCH(ROW()-38,$D$39:$D$66,0),1) -> AVILÉS | F66: =LOOKUP(E66,$A$39:$A$66,$B$39:$B$66) -> 0 | G66: =LOOKUP(E66,$A$39:$A$66,$C$39:$C$66) -> 2

Sheet TEUS tránsito
F1: 10.1. CONTENEDORES EN TRÁNSITO (TEUS)
A5: Autoridad Portuaria | B5: ='Resumen general'!D6 -> Mes diciembre | D5: ='Resumen general'!F6 -> Acumulado desde enero | L5: ='Resumen general'!I4 -> Fecha: 20/12/2018
B6: ='Resumen general'!D7 -> 2016 | C6: ='Resumen general'!E7 -> 2017 | D6: ='Resumen general'!F7 -> 2016 | E6: ='Resumen general'!G7 -> 2017 | F6: Var. (%)
A7: A CORUÑA | B7: 0 | C7: 0 | D7: 0 | E7: 0
A8: ALICANTE | B8: 154 | C8: 1178 | D8: 4748 | E8: 2903 | F8: =((E8*100)/D8)-100 -> -38.858467
A9: ALMERÍA | B9: 6 | C9: 0 | D9: 47 | E9: 14 | F9: =((E9*100)/D9)-100 -> -70.212766
A10: AVILÉS | B10: 0 | C10: 0 | D10: 0 | E10: 0
A11: BAHÍA DE ALGECIRAS | B11: 345820 | C11: 348237 | D11: 4383488 | E11: 4007706 | F11: =((E11*100)/D11)-100 -> -8.5726709
A12: BAHÍA DE CÁDIZ | B12: 0 | C12: 0 | D12: 112 | E12: 137 | F12: =((E12*100)/D12)-100 -> 22.321429
A13: BALEARES | B13: 0 | C13: 10 | D13: 8 | E13: 503 | F13: -70.212766
A14: BARCELONA | B14: 47409 | C14: 89924 | D14: 431750 | E14: 1068292 | F14: =((E14*100)/D14)-100 -> 147.43301
A15: BILBAO | B15: 760 | C15: 173 | D15: 3370 | E15: 2626 | F15: =((E15*100)/D15)-100 -> -22.077151
A16: CARTAGENA | B16: 0 | C16: 0 | D16: 248 | E16: 0 | F16: =((E16*100)/D16)-100 -> -100
A17: CASTELLÓN | B17: 3347 | C17: 454 | D17: 23806 | E17: 30859 | F17: =((E17*100)/D17)-100 -> 29.626985
A18: CEUTA | B18: 0 | C18: 0 | D18: 0 | E18: 0
A19: FERROL-SAN CIBRAO | B19: 0 | C19: 0 | D19: 38 | E19: 0 | F19: =((E19*100)/D19)-100 -> -100
A20: GIJÓN | B20: 0 | C20: 0 | D20: 287 | E20: 0 | F20: =((E20*100)/D20)-100 -> -100
A21: HUELVA | B21: 0 | C21: 154 | D21: 254 | E21: 750 | F21: =((E21*100)/D21)-100 -> 195.27559
A22: LAS PALMAS | B22: 42702 | C22: 50304 | D22: 409696 | E22: 615841 | F22: =((E22*100)/D22)-100 -> 50.316576
A23: MÁLAGA | B23: 2217 | C23: 0 | D23: 88814 | E23: 48930 | F23: =((E23*100)/D23)-100 -> -44.907334
A24: MARÍN Y RÍA DE PONTEVEDRA | B24: 2708 | C24: 1263 | D24: 7121 | E24: 12504 | F24: =((E24*100)/D24)-100 -> 75.593316
A25: MELILLA | B25: 0 | C25: 0 | D25: 0 | E25: 4
A26: MOTRIL | B26: 0 | C26: 0 | D26: 54 | E26: 0 | F26: =((E26*100)/D26)-100 -> -100
A27: PASAIA | B27: 0 | C27: 0 | D27: 0 | E27: 0
A28: SANTA CRUZ DE TENERIFE | B28: 240 | C28: 19849 | D28: 2869 | E28: 65237 | F28: =((E28*100)/D28)-100 -> 2173.8585
A29: SANTANDER | B29: 0 | C29: 0 | D29: 5 | E29: 0 | F29: =((E29*100)/D29)-100 -> -100
A30: SEVILLA | B30: 0 | C30: 0 | D30: 0 | E30: 0
A31: TARRAGONA | B31: 1310 | C31: 4 | D31: 19278 | E31: 3845 | F31: =((E31*100)/D31)-100 -> -80.054985
A32: VALENCIA | B32: 200203 | C32: 208327 | D32: 2514252 | E32: 2631748 | F32: =((E32*100)/D32)-100 -> 4.673199
A33: VIGO | B33: 625 | C33: 480 | D33: 8949 | E33: 9563 | F33: =((E33*100)/D33)-100 -> 6.8611018
A34: VILAGARCÍA | B34: 0 | C34: 0 | D34: 10 | E34: 18 | F34: =((E34*100)/D34)-100 -> 80
A35: Total | B35: =SUM(B7:B34) -> 647501 | C35: =SUM(C7:C34) -> 720357 | D35: =SUM(D7:D34) -> 7899204 | E35: =SUM(E7:E34) -> 8501480 | F35: =((E35*100)/D35)-100 -> 7.6245151
A36: No incluye transbordos.
B38: =E6 -> 2017 | C38: =D6 -> 2016 | F38: =B38 -> 2017 | G38: =C38 -> 2016
A39: =A7 -> A CORUÑA | B39: =E7 -> 0 | C39: =D7 -> 0 | D39: =_xlfn.RANK.EQ(B39,$B$39:$B$66)+COUNTIF($B$39:$B$66,B39)-1 -> 28 | E39: =INDEX($A$39:$B$66,MATCH(ROW()-38,$D$39:$D$66,0),1) -> BAHÍA DE ALGECIRAS | F39: =LOOKUP(E39,$A$39:$A$66,$B$39:$B$66) -> 4007706 | G39: =LOOKUP(E39,$A$39:$A$66,$C$39:$C$66) -> 4383488
A40: =A8 -> ALICANTE | B40: =E8 -> 2903 | C40: =D8 -> 4748 | D40: =_xlfn.RANK.EQ(B40,$B$39:$B$66)+COUNTIF($B$39:$B$66,B40)-1 -> 11 | E40: =INDEX($A$39:$B$66,MATCH(ROW()-38,$D$39:$D$66,0),1) -> VALENCIA | F40: =LOOKUP(E40,$A$39:$A$66,$B$39:$B$66) -> 2631748 | G40: =LOOKUP(E40,$A$39:$A$66,$C$39:$C$66) -> 2514252
A41: =A9 -> ALMERÍA | B41: =E9 -> 14 | C41: =D9 -> 47 | D41: =_xlfn.RANK.EQ(B41,$B$39:$B$66)+COUNTIF($B$39:$B$66,B41)-1 -> 17 | E41: =INDEX($A$39:$B$66,MATCH(ROW()-38,$D$39:$D$66,0),1) -> BARCELONA | F41: =LOOKUP(E41,$A$39:$A$66,$B$39:$B$66) -> 1068292 | G41: =LOOKUP(E41,$A$39:$A$66,$C$39:$C$66) -> 431750
A42: =A10 -> AVILÉS | B42: =E10 -> 0 | C42: =D10 -> 0 | D42: =_xlfn.RANK.EQ(B42,$B$39:$B$66)+COUNTIF($B$39:$B$66,B42)-1 -> 28 | E42: =INDEX($A$39:$B$66,MATCH(ROW()-38,$D$39:$D$66,0),1) -> LAS PALMAS | F42: =LOOKUP(E42,$A$39:$A$66,$B$39:$B$66) -> 615841 | G42: =LOOKUP(E42,$A$39:$A$66,$C$39:$C$66) -> 409696
A43: =A11 -> BAHÍA DE ALGECIRAS | B43: =E11 -> 4007706 | C43: =D11 -> 4383488 | D43: =_xlfn.RANK.EQ(B43,$B$39:$B$66)+COUNTIF($B$39:$B$66,B43)-1 -> 1 | E43: =INDEX($A$39:$B$66,MATCH(ROW()-38,$D$39:$D$66,0),1) -> SANTA CRUZ DE TENERIFE | F43: =LOOKUP(E43,$A$39:$A$66,$B$39:$B$66) -> 65237 | G43: =LOOKUP(E43,$A$39:$A$66,$C$39:$C$66) -> 2869
A44: =A12 -> BAHÍA DE CÁDIZ | B44: =E12 -> 137 | C44: =D12 -> 112 | D44: =_xlfn.RANK.EQ(B44,$B$39:$B$66)+COUNTIF($B$39:$B$66,B44)-1 -> 15 | E44: =INDEX($A$39:$B$66,MATCH(ROW()-38,$D$39:$D$66,0),1) -> MÁLAGA | F44: =LOOKUP(E44,$A$39:$A$66,$B$39:$B$66) -> 48930 | G44: =LOOKUP(E44,$A$39:$A$66,$C$39:$C$66) -> 88814
A45: =A13 -> BALEARES | B45: =E13 -> 503 | C45: =D13 -> 8 | D45: =_xlfn.RANK.EQ(B45,$B$39:$B$66)+COUNTIF($B$39:$B$66,B45)-1 -> 14 | E45: =INDEX($A$39:$B$66,MATCH(ROW()-38,$D$39:$D$66,0),1) -> CASTELLÓN | F45: =LOOKUP(E45,$A$39:$A$66,$B$39:$B$66) -> 30859 | G45: =LOOKUP(E45,$A$39:$A$66,$C$39:$C$66) -> 23806
A46: =A14 -> BARCELONA | B46: =E14 -> 1068292 | C46: =D14 -> 431750 | D46: =_xlfn.RANK.EQ(B46,$B$39:$B$66)+COUNTIF($B$39:$B$66,B46)-1 -> 3 | E46: =INDEX($A$39:$B$66,MATCH(ROW()-38,$D$39:$D$66,0),1) -> MARÍN Y RÍA DE PONTEVEDRA | F46: =LOOKUP(E46,$A$39:$A$66,$B$39:$B$66) -> 12504 | G46: =LOOKUP(E46,$A$39:$A$66,$C$39:$C$66) -> 7121
A47: =A15 -> BILBAO | B47: =E15 -> 2626 | C47: =D15 -> 3370 | D47: =_xlfn.RANK.EQ(B47,$B$39:$B$66)+COUNTIF($B$39:$B$66,B47)-1 -> 12 | E47: =INDEX($A$39:$B$66,MATCH(ROW()-38,$D$39:$D$66,0),1) -> VIGO | F47: =LOOKUP(E47,$A$39:$A$66,$B$39:$B$66) -> 9563 | G47: =LOOKUP(E47,$A$39:$A$66,$C$39:$C$66) -> 8949
A48: =A16 -> CARTAGENA | B48: =E16 -> 0 | C48: =D16 -> 248 | D48: =_xlfn.RANK.EQ(B48,$B$39:$B$66)+COUNTIF($B$39:$B$66,B48)-1 -> 28 | E48: =INDEX($A$39:$B$66,MATCH(ROW()-38,$D$39:$D$66,0),1) -> TARRAGONA | F48: =LOOKUP(E48,$A$39:$A$66,$B$39:$B$66) -> 3845 | G48: =LOOKUP(E48,$A$39:$A$66,$C$39:$C$66) -> 19278
A49: =A17 -> CASTELLÓN | B49: =E17 -> 30859 | C49: =D17 -> 23806 | D49: =_xlfn.RANK.EQ(B49,$B$39:$B$66)+COUNTIF($B$39:$B$66,B49)-1 -> 7 | E49: =INDEX($A$39:$B$66,MATCH(ROW()-38,$D$39:$D$66,0),1) -> ALICANTE | F49: =LOOKUP(E49,$A$39:$A$66,$B$39:$B$66) -> 2903 | G49: =LOOKUP(E49,$A$39:$A$66,$C$39:$C$66) -> 4748
A50: =A18 -> CEUTA | B50: =E18 -> 0 | C50: =D18 -> 0 | D50: =_xlfn.RANK.EQ(B50,$B$39:$B$66)+COUNTIF($B$39:$B$66,B50)-1 -> 28 | E50: =INDEX($A$39:$B$66,MATCH(ROW()-38,$D$39:$D$66,0),1) -> BILBAO | F50: =LOOKUP(E50,$A$39:$A$66,$B$39:$B$66) -> 2626 | G50: =LOOKUP(E50,$A$39:$A$66,$C$39:$C$66) -> 3370
... A66: =A34 -> VILAGARCÍA | B66: =E34 -> 18 | C66: =D34 -> 10 | D66: =_xlfn.RANK.EQ(B66,$B$39:$B$66)+COUNTIF($B$39:$B$66,B66)-1 -> 16 | E66: =INDEX($A$39:$B$66,MATCH(ROW()-38,$D$39:$D$66,0),1) -> A CORUÑA | F66: =LOOKUP(E66,$A$39:$A$66,$B$39:$B$66) -> 0 | G66: =LOOKUP(E66,$A$39:$A$66,$C$39:$C$66) -> 0

Sheet TEUS nacional
F1: 10.2. CONTENEDORES ENTRADA-SALIDA NACIONAL (TEUS)
A5: Autoridad Portuaria | B5: ='Resumen general'!D6 -> Mes diciembre | D5: ='Resumen general'!F6 -> Acumulado desde enero | L5: ='Resumen general'!I4 -> Fecha: 20/12/2018
B6: ='Resumen general'!D7 -> 2016 | C6: ='Resumen general'!E7 -> 2017 | D6: ='Resumen general'!F7 -> 2016 | E6: ='Resumen general'!G7 -> 2017 | F6: Var. (%)
A7: A CORUÑA | B7: 0 | C7: 0 | D7: 203 | E7: 0 | F7: =((E7*100)/D7)-100 -> -100
A8: ALICANTE | B8: 11697 | C8: 13151 | D8: 136749 | E8: 144431 | F8: =((E8*100)/D8)-100 -> 5.6175914
A9: ALMERÍA | B9: 0 | C9: 6 | D9: 421 | E9: 256 | F9: =((E9*100)/D9)-100 -> -39.192399
A10: AVILÉS | B10: 0 | C10: 0 | D10: 0 | E10: 0
A11: BAHÍA DE ALGECIRAS | B11: 247 | C11: 8 | D11: 4966 | E11: 2521 | F11: =((E11*100)/D11)-100 -> -49.234797
A12: BAHÍA DE CÁDIZ | B12: 5422 | C12: 4879 | D12: 50356 | E12: 54646 | F12: =((E12*100)/D12)-100 -> 8.5193423
A13: BALEARES | B13: 8662 | C13: 7557 | D13: 130189 | E13: 120210 | F13: =((E13*100)/D13)-100 -> -7.6650101
A14: BARCELONA | B14: 18562 | C14: 19640 | D14: 242036 | E14: 249632 | F14: =((E14*100)/D14)-100 -> 3.1383761
A15: BILBAO | B15: 5410 | C15: 6841 | D15: 66784 | E15: 71221 | F15: =((E15*100)/D15)-100 -> 6.6438069
A16: CARTAGENA | B16: 1486 | C16: 755 | D16: 31829 | E16: 15023 | F16: =((E16*100)/D16)-100 -> -52.800905
A17: CASTELLÓN | B17: 26 | C17: 676 | D17: 5782 | E17: 5799 | F17: =((E17*100)/D17)-100 -> 0.29401591
A18: CEUTA | B18: 1810 | C18: 724 | D18: 21696 | E18: 16023 | F18: =((E18*100)/D18)-100 -> -26.147677
A19: FERROL-SAN CIBRAO | B19: 6 | C19: 0 | D19: 10 | E19: 100 | F19: =((E19*100)/D19)-100 -> 900
A20: GIJÓN | B20: 1711 | C20: 521 | D20: 11779 | E20: 17639 | F20: =((E20*100)/D20)-100 -> 49.749554
A21: HUELVA | B21: 762 | C21: 4982 | D21: 3286 | E21: 44283 | F21: =((E21*100)/D21)-100 -> 1247.6263
A22: LAS PALMAS | B22: 36492 | C22: 40814 | D22: 431966 | E22: 466443 | F22: =((E22*100)/D22)-100 -> 7.9814152
... A26: MOTRIL | B26: 175 | C26: 0 | D26: 2543 | E26: 1276 | F26: =((E26*100)/D26)-100 -> -49.823044
A27: PASAIA | B27: 0 | C27: 0 | D27: 0 | E27: 0
A28: SANTA CRUZ DE TENERIFE | B28: 27812 | C28: 30861 | D28: 325426 | E28: 348983 | F28: =((E28*100)/D28)-100 -> 7.2388193
A29: SANTANDER | B29: 0 | C29: 0 | D29: 0 | E29: 0
A30: SEVILLA | B30: 11923 | C30: 9687 | D30: 140880 | E30: 100725 | F30: =((E30*100)/D30)-100 -> -28.502981
A31: TARRAGONA | B31: 799 | C31: 849 | D31: 10787 | E31: 10350 | F31: =((E31*100)/D31)-100 -> -4.0511727
A32: VALENCIA | B32: 16862 | C32: 15237 | D32: 204190 | E32: 201209 | F32: =((E32*100)/D32)-100 -> -1.4599148
A33: VIGO | B33: 1391 | C33: 1595 | D33: 27431 | E33: 23084 | F33: =((E33*100)/D33)-100 -> -15.847034
A34: VILAGARCÍA | B34: 2329 | C34: 2678 | D34: 31626 | E34: 33745 | F34: =((E34*100)/D34)-100 -> 6.7001834
A35: Total | B35: =SUM(B7:B34) -> 157029 | C35: =SUM(C7:C34) -> 164191 | D35: =SUM(D7:D34) -> 1926876 | E35: =SUM(E7:E34) -> 1972377 | F35: =((E35*100)/D35)-100 -> 2.361387
A36: No incluye tránsitos ni transbordos. Navegación de cabotaje.
B38: =E6 -> 2017 | C38: =D6 -> 2016 | F38: =B38 -> 2017 | G38: =C38 -> 2016
A39: =A7 -> A CORUÑA | B39: =E7 -> 0 | C39: =D7 -> 203 | D39: =_xlfn.RANK.EQ(B39,$B$39:$B$66)+COUNTIF($B$39:$B$66,B39)-1 -> 28 | E39: =INDEX($A$39:$B$66,MATCH(ROW()-38,$D$39:$D$66,0),1) -> LAS PALMAS | F39: =LOOKUP(E39,$A$39:$A$66,$B$39:$B$66) -> 466443 | G39: =LOOKUP(E39,$A$39:$A$66,$C$39:$C$66) -> 431966
A40: =A8 -> ALICANTE | B40: =E8 -> 144431 | C40: =D8 -> 136749 | D40: =_xlfn.RANK.EQ(B40,$B$39:$B$66)+COUNTIF($B$39:$B$66,B40)-1 -> 5 | E40: =INDEX($A$39:$B$66,MATCH(ROW()-38,$D$39:$D$66,0),1) -> SANTA CRUZ DE TENERIFE | F40: =LOOKUP(E40,$A$39:$A$66,$B$39:$B$66) -> 348983 | G40: =LOOKUP(E40,$A$39:$A$66,$C$39:$C$66) -> 325426
A41: =A9 -> ALMERÍA | B41: =E9 -> 256 | C41: =D9 -> 421 | D41: =_xlfn.RANK.EQ(B41,$B$39:$B$66)+COUNTIF($B$39:$B$66,B41)-1 -> 23 | E41: =INDEX($A$39:$B$66,MATCH(ROW()-38,$D$39:$D$66,0),1) -> BARCELONA | F41: =LOOKUP(E41,$A$39:$A$66,$B$39:$B$66) -> 249632 | G41: =LOOKUP(E41,$A$39:$A$66,$C$39:$C$66) -> 242036
A42: =A10 -> AVILÉS | B42: =E10 -> 0 | C42: =D10 -> 0 | D42: =_xlfn.RANK.EQ(B42,$B$39:$B$66)+COUNTIF($B$39:$B$66,B42)-1 -> 28 | E42: =INDEX($A$39:$B$66,MATCH(ROW()-38,$D$39:$D$66,0),1) -> VALENCIA | F42: =LOOKUP(E42,$A$39:$A$66,$B$39:$B$66) -> 201209 | G42: =LOOKUP(E42,$A$39:$A$66,$C$39:$C$66) -> 204190
A43: =A11 -> BAHÍA DE ALGECIRAS | B43: =E11 -> 2521 | C43: =D11 -> 4966 | D43: =_xlfn.RANK.EQ(B43,$B$39:$B$66)+COUNTIF($B$39:$B$66,B43)-1 -> 21 | E43: =INDEX($A$39:$B$66,MATCH(ROW()-38,$D$39:$D$66,0),1) -> ALICANTE | F43: =LOOKUP(E43,$A$39:$A$66,$B$39:$B$66) -> 144431 | G43: =LOOKUP(E43,$A$39:$A$66,$C$39:$C$66) -> 136749
A44: =A12 -> BAHÍA DE CÁDIZ | B44: =E12 -> 54646 | C44: =D12 -> 50356 | D44: =_xlfn.RANK.EQ(B44,$B$39:$B$66)+COUNTIF($B$39:$B$66,B44)-1 -> 9 | E44: =INDEX($A$39:$B$66,MATCH(ROW()-38,$D$39:$D$66,0),1) -> BALEARES | F44: =LOOKUP(E44,$A$39:$A$66,$B$39:$B$66) -> 120210 | G44: =LOOKUP(E44,$A$39:$A$66,$C$39:$C$66) -> 130189
A45: =A13 -> BALEARES | B45: =E13 -> 120210 | C45: =D13 -> 130189 | D45: =_xlfn.RANK.EQ(B45,$B$39:$B$66)+COUNTIF($B$39:$B$66,B45)-1 -> 6 | E45: =INDEX($A$39:$B$66,MATCH(ROW()-38,$D$39:$D$66,0),1) -> SEVILLA | F45: =LOOKUP(E45,$A$39:$A$66,$B$39:$B$66) -> 100725 | G45: =LOOKUP(E45,$A$39:$A$66,$C$39:$C$66) -> 140880
A46: =A14 -> BARCELONA | B46: =E14 -> 249632 | C46: =D14 -> 242036 | D46: =_xlfn.RANK.EQ(B46,$B$39:$B$66)+COUNTIF($B$39:$B$66,B46)-1 -> 3 | E46: =INDEX($A$39:$B$66,MATCH(ROW()-38,$D$39:$D$66,0),1) -> BILBAO | F46: =LOOKUP(E46,$A$39:$A$66,$B$39:$B$66) -> 71221 | G46: =LOOKUP(E46,$A$39:$A$66,$C$39:$C$66) -> 66784
A47: =A15 -> BILBAO | B47: =E15 -> 71221 | C47: =D15 -> 66784 | D47: =_xlfn.RANK.EQ(B47,$B$39:$B$66)+COUNTIF($B$39:$B$66,B47)-1 -> 8 | E47: =INDEX($A$39:$B$66,MATCH(ROW()-38,$D$39:$D$66,0),1) -> BAHÍA DE CÁDIZ | F47: =LOOKUP(E47,$A$39:$A$66,$B$39:$B$66) -> 54646 | G47: =LOOKUP(E47,$A$39:$A$66,$C$39:$C$66) -> 50356
A48: =A16 -> CARTAGENA | B48: =E16 -> 15023 | C48: =D16 -> 31829 | D48: =_xlfn.RANK.EQ(B48,$B$39:$B$66)+COUNTIF($B$39:$B$66,B48)-1 -> 17 | E48: =INDEX($A$39:$B$66,MATCH(ROW()-38,$D$39:$D$66,0),1) -> HUELVA | F48: =LOOKUP(E48,$A$39:$A$66,$B$39:$B$66) -> 44283 | G48: =LOOKUP(E48,$A$39:$A$66,$C$39:$C$66) -> 3286
A49: =A17 -> CASTELLÓN | B49: =E17 -> 5799 | C49: =D17 -> 5782 | D49: =_xlfn.RANK.EQ(B49,$B$39:$B$66)+COUNTIF($B$39:$B$66,B49)-1 -> 19 | E49: =INDEX($A$39:$B$66,MATCH(ROW()-38,$D$39:$D$66,0),1) -> VILAGARCÍA | F49: =LOOKUP(E49,$A$39:$A$66,$B$39:$B$66) -> 33745 | G49: =LOOKUP(E49,$A$39:$A$66,$C$39:$C$66) -> 31626
A50: =A18 -> CEUTA | B50: =E18 -> 16023 | C50: =D18 -> 21696 | D50: =_xlfn.RANK.EQ(B50,$B$39:$B$66)+COUNTIF($B$39:$B$66,B50)-1 -> 16 | E50: =INDEX($A$39:$B$66,MATCH(ROW()-38,$D$39:$D$66,0),1) -> MELILLA | F50: =LOOKUP(E50,$A$39:$A$66,$B$39:$B$66) -> 23925 | G50: =LOOKUP(E50,$A$39:$A$66,$C$39:$C$66) -> 25735
... A66: =A34 -> VILAGARCÍA | B66: =E34 -> 33745 | C66: =D34 -> 31626 | D66: =_xlfn.RANK.EQ(B66,$B$39:$B$66)+COUNTIF($B$39:$B$66,B66)-1 -> 11 | E66: =INDEX($A$39:$B$66,MATCH(ROW()-38,$D$39:$D$66,0),1) -> A CORUÑA | F66: =LOOKUP(E66,$A$39:$A$66,$B$39:$B$66) -> 0 | G66: =LOOKUP(E66,$A$39:$A$66,$C$39:$C$66) -> 203

Sheet TEUS exterior
F1: 10.3. CONTENEDORES IMPORTACIÓN-EXPORTACIÓN EXTERIOR (TEUS)
A5: Autoridad Portuaria | B5: ='Resumen general'!D6 -> Mes diciembre | D5: ='Resumen general'!F6 -> Acumulado desde enero | L5: ='Resumen general'!I4 -> Fecha: 20/12/2018
B6: ='Resumen general'!D7 -> 2016 | C6: ='Resumen general'!E7 -> 2017 | D6: ='Resumen general'!F7 -> 2016 | E6: ='Resumen general'!G7 -> 2017 | F6: Var. (%)
A7: A CORUÑA | B7: 0 | C7: 0 | D7: 11 | E7: 3 | F7: =((E7*100)/D7)-100 -> -72.727273
A8: ALICANTE | B8: 1716 | C8: 803 | D8: 18167 | E8: 17076 | F8: =((E8*100)/D8)-100 -> -6.0053944
A9: ALMERÍA | B9: 570 | C9: 498 | D9: 5823 | E9: 6336 | F9: =((E9*100)/D9)-100 -> 8.8098918
A10: AVILÉS | B10: 0 | C10: 0 | D10: 0 | E10: 0
A11: BAHÍA DE ALGECIRAS | B11: 29669 | C11: 30823 | D11: 373084 | E11: 379659 | F11: =((E11*100)/D11)-100 -> 1.7623377
A12: BAHÍA DE CÁDIZ | B12: 1231 | C12: 1920 | D12: 23853 | E12: 27405 | F12: =((E12*100)/D12)-100 -> 14.891209
A13: BALEARES | B13: 0 | C13: 0 | D13: 71 | E13: 49 | F13: =((E13*100)/D13)-100 -> -30.985915
A14: BARCELONA | B14: 138038 | C14: 121769 | D14: 1570848 | E14: 1679703 | F14: =((E14*100)/D14)-100 -> 6.9296966
A15: BILBAO | B15: 54036 | C15: 58977 | D15: 526535 | E15: 531024 | F15: =((E15*100)/D15)-100 -> 0.85255491
A16: CARTAGENA | B16: 4154 | C16: 4908 | D16: 64050 | E16: 74908 | F16: =((E16*100)/D16)-100 -> 16.952381
A17: CASTELLÓN | B17: 14052 | C17: 17138 | D17: 197315 | E17: 204237 | F17: =((E17*100)/D17)-100 -> 3.5080962
A18: CEUTA | B18: 0 | C18: 4 | D18: 25 | E18: 13 | F18: =((E18*100)/D18)-100 -> -48
A19: FERROL-SAN CIBRAO | B19: 100 | C19: 48 | D19: 837 | E19: 355 | F19: =((E19*100)/D19)-100 -> -57.586619
A20: GIJÓN | B20: 5150 | C20: 4763 | D20: 53713 | E20: 58706 | F20: =((E20*100)/D20)-100 -> 9.2957012
A21: HUELVA | B21: 981 | C21: 1736 | D21: 8282 | E21: 13133 | F21: =((E21*100)/D21)-100 -> 58.572809
A22: LAS PALMAS | B22: 7201 | C22: 8239 | D22: 80538 | E22: 101043 | F22: =((E22*100)/D22)-100 -> 25.460031
... A31: TARRAGONA | B31: 4590 | C31: 4367 | D31: 53601 | E31: 48693 | F31: =((E31*100)/D31)-100 -> -9.1565456
A32: VALENCIA | B32: 153620 | C32: 153269 | D32: 2007226 | E32: =1999199+14273.7 -> 2013472.7 | F32: =((E32*100)/D32)-100 -> 0.3112106
A33: VIGO | B33: 11106 | C33: 11718 | D33: 147931 | E33: 151229 | F33: =((E33*100)/D33)-100 -> 2.2294178
A34: VILAGARCÍA | B34: 32 | C34: 63 | D34: 687 | E34: 745 | F34: =((E34*100)/D34)-100 -> 8.4425036
A35: Total | B35: =SUM(B7:B34) -> 441028 | C35: =SUM(C7:C34) -> 435156 | D35: =SUM(D7:D34) -> 5272324 | E35: =SUM(E7:E34) -> 5477777.7 | F35: =((E35*100)/D35)-100 -> 3.8968337
A36: No incluye tránsitos ni transbordos. Navegación de exterior.
B38: =E6 -> 2017 | C38: =D6 -> 2016 | F38: =B38 -> 2017 | G38: =C38 -> 2016
A39: =A7 -> A CORUÑA | B39: =E7 -> 3 | C39: =D7 -> 11 | D39: =_xlfn.RANK.EQ(B39,$B$39:$B$66)+COUNTIF($B$39:$B$66,B39)-1 -> 27 | E39: =INDEX($A$39:$B$66,MATCH(ROW()-38,$D$39:$D$66,0),1) -> VALENCIA | F39: =LOOKUP(E39,$A$39:$A$66,$B$39:$B$66) -> 2013472.7 | G39: =LOOKUP(E39,$A$39:$A$66,$C$39:$C$66) -> 2007226
A40: =A8 -> ALICANTE | B40: =E8 -> 17076 | C40: =D8 -> 18167 | D40: =_xlfn.RANK.EQ(B40,$B$39:$B$66)+COUNTIF($B$39:$B$66,B40)-1 -> 15 | E40: =INDEX($A$39:$B$66,MATCH(ROW()-38,$D$39:$D$66,0),1) -> BARCELONA | F40: =LOOKUP(E40,$A$39:$A$66,$B$39:$B$66) -> 1679703 | G40: =LOOKUP(E40,$A$39:$A$66,$C$39:$C$66) -> 1570848
A41: =A9 -> ALMERÍA | B41: =E9 -> 6336 | C41: =D9 -> 5823 | D41: =_xlfn.RANK.EQ(B41,$B$39:$B$66)+COUNTIF($B$39:$B$66,B41)-1 -> 19 | E41: =INDEX($A$39:$B$66,MATCH(ROW()-38,$D$39:$D$66,0),1) -> BILBAO | F41: =LOOKUP(E41,$A$39:$A$66,$B$39:$B$66) -> 531024 | G41: =LOOKUP(E41,$A$39:$A$66,$C$39:$C$66) -> 526535
A42: =A10 -> AVILÉS | B42: =E10 -> 0 | C42: =D10 -> 0 | D42: =_xlfn.RANK.EQ(B42,$B$39:$B$66)+COUNTIF($B$39:$B$66,B42)-1 -> 28 | E42: =INDEX($A$39:$B$66,MATCH(ROW()-38,$D$39:$D$66,0),1) -> BAHÍA DE ALGECIRAS | F42: =LOOKUP(E42,$A$39:$A$66,$B$39:$B$66) -> 379659 | G42: =LOOKUP(E42,$A$39:$A$66,$C$39:$C$66) -> 373084
A43: =A11 -> BAHÍA DE ALGECIRAS | B43: =E11 -> 379659 | C43: =D11 -> 373084 | D43: =_xlfn.RANK.EQ(B43,$B$39:$B$66)+COUNTIF($B$39:$B$66,B43)-1 -> 4 | E43: =INDEX($A$39:$B$66,MATCH(ROW()-38,$D$39:$D$66,0),1) -> CASTELLÓN | F43: =LOOKUP(E43,$A$39:$A$66,$B$39:$B$66) -> 204237 | G43: =LOOKUP(E43,$A$39:$A$66,$C$39:$C$66) -> 197315
A44: =A12 -> BAHÍA DE CÁDIZ | B44: =E12 -> 27405 | C44: =D12 -> 23853 | D44: =_xlfn.RANK.EQ(B44,$B$39:$B$66)+COUNTIF($B$39:$B$66,B44)-1 -> 13 | E44: =INDEX($A$39:$B$66,MATCH(ROW()-38,$D$39:$D$66,0),1) -> VIGO | F44: =LOOKUP(E44,$A$39:$A$66,$B$39:$B$66) -> 151229 | G44: =LOOKUP(E44,$A$39:$A$66,$C$39:$C$66) -> 147931
A45: =A13 -> BALEARES | B45: =E13 -> 49 | C45: =D13 -> 71 | D45: =_xlfn.RANK.EQ(B45,$B$39:$B$66)+COUNTIF($B$39:$B$66,B45)-1 -> 24 | E45: =INDEX($A$39:$B$66,MATCH(ROW()-38,$D$39:$D$66,0),1) -> LAS PALMAS | F45: =LOOKUP(E45,$A$39:$A$66,$B$39:$B$66) -> 101043 | G45: =LOOKUP(E45,$A$39:$A$66,$C$39:$C$66) -> 80538
A46: =A14 -> BARCELONA | B46: =E14 -> 1679703 | C46: =D14 -> 1570848 | D46: =_xlfn.RANK.EQ(B46,$B$39:$B$66)+COUNTIF($B$39:$B$66,B46)-1 -> 2 | E46: =INDEX($A$39:$B$66,MATCH(ROW()-38,$D$39:$D$66,0),1) -> CARTAGENA | F46: =LOOKUP(E46,$A$39:$A$66,$B$39:$B$66) -> 74908 | G46: =LOOKUP(E46,$A$39:$A$66,$C$39:$C$66) -> 64050
A47: =A15 -> BILBAO | B47: =E15 -> 531024 | C47: =D15 -> 526535 | D47: =_xlfn.RANK.EQ(B47,$B$39:$B$66)+COUNTIF($B$39:$B$66,B47)-1 -> 3 | E47: =INDEX($A$39:$B$66,MATCH(ROW()-38,$D$39:$D$66,0),1) -> MARÍN Y RÍA DE PONTEVEDRA | F47: =LOOKUP(E47,$A$39:$A$66,$B$39:$B$66) -> 72010 | G47: =LOOKUP(E47,$A$39:$A$66,$C$39:$C$66) -> 55446
A48: =A16 -> CARTAGENA | B48: =E16 -> 74908 | C48: =D16 -> 64050 | D48: =_xlfn.RANK.EQ(B48,$B$39:$B$66)+COUNTIF($B$39:$B$66,B48)-1 -> 8 | E48: =INDEX($A$39:$B$66,MATCH(ROW()-38,$D$39:$D$66,0),1) -> GIJÓN | F48: =LOOKUP(E48,$A$39:$A$66,$B$39:$B$66) -> 58706 | G48: =LOOKUP(E48,$A$39:$A$66,$C$39:$C$66) -> 53713
A49: =A17 -> CASTELLÓN | B49: =E17 -> 204237 | C49: =D17 -> 197315 | D49: =_xlfn.RANK.EQ(B49,$B$39:$B$66)+COUNTIF($B$39:$B$66,B49)-1 -> 5 | E49: =INDEX($A$39:$B$66,MATCH(ROW()-38,$D$39:$D$66,0),1) -> SANTA CRUZ DE TENERIFE | F49: =LOOKUP(E49,$A$39:$A$66,$B$39:$B$66) -> 52636 | G49: =LOOKUP(E49,$A$39:$A$66,$C$39:$C$66) -> 42322
A50: =A18 -> CEUTA | B50: =E18 -> 13 | C50: =D18 -> 25 | D50: =_xlfn.RANK.EQ(B50,$B$39:$B$66)+COUNTIF($B$39:$B$66,B50)-1 -> 25 | E50: =INDEX($A$39:$B$66,MATCH(ROW()-38,$D$39:$D$66,0),1) -> TARRAGONA | F50: =LOOKUP(E50,$A$39:$A$66,$B$39:$B$66) -> 48693 | G50: =LOOKUP(E50,$A$39:$A$66,$C$39:$C$66) -> 53601
... A66: =A34 -> VILAGARCÍA | B66: =E34 -> 745 | C66: =D34 -> 687 | D66: =_xlfn.RANK.EQ(B66,$B$39:$B$66)+COUNTIF($B$39:$B$66,B66)-1 -> 21 | E66: =INDEX($A$39:$B$66,MATCH(ROW()-38,$D$39:$D$66,0),1) -> AVILÉS | F66: =LOOKUP(E66,$A$39:$A$66,$B$39:$B$66) -> 0 | G66: =LOOKUP(E66,$A$39:$A$66,$C$39:$C$66) -> 0

Sheet TEUS nacional y exterior
F1: 10.4. CONTENEDORES NACIONAL Y EXTERIOR (TEUS)
A5: Autoridad Portuaria | B5: ='Resumen general'!D6 -> Mes diciembre | D5: ='Resumen general'!F6 -> Acumulado desde enero | L5: ='Resumen general'!I4 -> Fecha: 20/12/2018
B6: ='Resumen general'!D7 -> 2016 | C6: ='Resumen general'!E7 -> 2017 | D6: ='Resumen general'!F7 -> 2016 | E6: ='Resumen general'!G7 -> 2017 | F6: Var. (%)
A7: A CORUÑA | B7: 0 | C7: 0 | D7: 214 | E7: 3 | F7: =((E7*100)/D7)-100 -> -98.598131
A8: ALICANTE | B8: 13413 | C8: 13954 | D8: 154916 | E8: 161507 | F8: =((E8*100)/D8)-100 -> 4.2545638
A9: ALMERÍA | B9: 570 | C9: 504 | D9: 6244 | E9: 6592 | F9: =((E9*100)/D9)-100 -> 5.5733504
A10: AVILÉS | B10: 0 | C10: 0 | D10: 0 | E10: 0
A11: BAHÍA DE ALGECIRAS | B11: 29916 | C11: 30831 | D11: 378050 | E11: 382180 | F11: =((E11*100)/D11)-100 -> 1.0924481
A12: BAHÍA DE CÁDIZ | B12: 6653 | C12: 6799 | D12: 74209 | E12: 82051 | F12: =((E12*100)/D12)-100 -> 10.567451
A13: BALEARES | B13: 8662 | C13: 7557 | D13: 130260 | E13: 120259 | F13: =((E13*100)/D13)-100 -> -7.6777215
A14: BARCELONA | B14: 156598 | C14: 141408 | D14: 1812885 | E14: 1929335 | F14: =((E14*100)/D14)-100 -> 6.4234632
A15: BILBAO | B15: 59446 | C15: 65818 | D15: 593319 | E15: 602245 | F15: =((E15*100)/D15)-100 -> 1.5044184
A16: CARTAGENA | B16: 5640 | C16: 5663 | D16: 95879 | E16: 89931 | F16: =((E16*100)/D16)-100 -> -6.2036525
A17: CASTELLÓN | B17: 14078 | C17: 17814 | D17: 203097 | E17: 210036 | F17: =((E17*100)/D17)-100 -> 3.416594
A18: CEUTA | B18: 1810 | C18: 728 | D18: 21721 | E18: 16036 | F18: =((E18*100)/D18)-100 -> -26.172828
A19: FERROL-SAN CIBRAO | B19: 106 | C19: 48 | D19: 847 | E19: 455 | F19: =((E19*100)/D19)-100 -> -46.280992
A20: GIJÓN | B20: 6861 | C20: 5284 | D20: 65492 | E20: 76345 | F20: =((E20*100)/D20)-100 -> 16.57149
A21: HUELVA | B21: 1743 | C21: 6718 | D21: 11568 | E21: 57416 | F21: =((E21*100)/D21)-100 -> 396.33472
A22: LAS PALMAS | B22: 43693 | C22: 49053 | D22: 512507 | E22: 567486 | F22: =((E22*100)/D22)-100 -> 10.727463
... A31: TARRAGONA | B31: 5389 | C31: 5216 | D31: 64388 | E31: 59043 | F31: =((E31*100)/D31)-100 -> -8.3012363
A32: VALENCIA | B32: 170483 | C32: 168506 | D32: 2211416 | E32: =+'TEUS nacional'!E32+'TEUS exterior'!E32 -> 2214681.7 | F32: =((E32*100)/D32)-100 -> 0.14767461
A33: VIGO | B33: 12497 | C33: 13313 | D33: 175362 | E33: 174313 | F33: =((E33*100)/D33)-100 -> -0.59819117
A34: VILAGARCÍA | B34: 2361 | C34: 2741 | D34: 32313 | E34: 34490 | F34: =((E34*100)/D34)-100 -> 6.7372265
A35: Total | B35: =SUM(B7:B34) -> 598057 | C35: =SUM(C7:C34) -> 599346 | D35: =SUM(D7:D34) -> 7199204 | E35: =SUM(E7:E34) -> 7450154.7 | F35: =((E35*100)/D35)-100 -> 3.4858118
A36: No incluye tránsitos ni transbordos. Navegación de cabotaje y exterior.
B38: =E6 -> 2017 | C38: =D6 -> 2016 | F38: =B38 -> 2017 | G38: =C38 -> 2016
A39: =A7 -> A CORUÑA | B39: =E7 -> 3 | C39: =D7 -> 214 | D39: =_xlfn.RANK.EQ(B39,$B$39:$B$66)+COUNTIF($B$39:$B$66,B39)-1 -> 27 | E39: =INDEX($A$39:$B$66,MATCH(ROW()-38,$D$39:$D$66,0),1) -> VALENCIA | F39: =LOOKUP(E39,$A$39:$A$66,$B$39:$B$66) -> 2214681.7 | G39: =LOOKUP(E39,$A$39:$A$66,$C$39:$C$66) -> 2211416
A40: =A8 -> ALICANTE | B40: =E8 -> 161507 | C40: =D8 -> 154916 | D40: =_xlfn.RANK.EQ(B40,$B$39:$B$66)+COUNTIF($B$39:$B$66,B40)-1 -> 9 | E40: =INDEX($A$39:$B$66,MATCH(ROW()-38,$D$39:$D$66,0),1) -> BARCELONA | F40: =LOOKUP(E40,$A$39:$A$66,$B$39:$B$66) -> 1929335 | G40: =LOOKUP(E40,$A$39:$A$66,$C$39:$C$66) -> 1812885
A41: =A9 -> ALMERÍA | B41: =E9 -> 6592 | C41: =D9 -> 6244 | D41: =_xlfn.RANK.EQ(B41,$B$39:$B$66)+COUNTIF($B$39:$B$66,B41)-1 -> 23 | E41: =INDEX($A$39:$B$66,MATCH(ROW()-38,$D$39:$D$66,0),1) -> BILBAO | F41: =LOOKUP(E41,$A$39:$A$66,$B$39:$B$66) -> 602245 | G41: =LOOKUP(E41,$A$39:$A$66,$C$39:$C$66) -> 593319
A42: =A10 -> AVILÉS | B42: =E10 -> 0 | C42: =D10 -> 0 | D42: =_xlfn.RANK.EQ(B42,$B$39:$B$66)+COUNTIF($B$39:$B$66,B42)-1 -> 28 | E42: =INDEX($A$39:$B$66,MATCH(ROW()-38,$D$39:$D$66,0),1) -> LAS PALMAS | F42: =LOOKUP(E42,$A$39:$A$66,$B$39:$B$66) -> 567486 | G42: =LOOKUP(E42,$A$39:$A$66,$C$39:$C$66) -> 512507
A43: =A11 -> BAHÍA DE ALGECIRAS | B43: =E11 -> 382180 | C43: =D11 -> 378050 | D43: =_xlfn.RANK.EQ(B43,$B$39:$B$66)+COUNTIF($B$39:$B$66,B43)-1 -> 6 | E43: =INDEX($A$39:$B$66,MATCH(ROW()-38,$D$39:$D$66,0),1) -> SANTA CRUZ DE TENERIFE | F43: =LOOKUP(E43,$A$39:$A$66,$B$39:$B$66) -> 401619 | G43: =LOOKUP(E43,$A$39:$A$66,$C$39:$C$66) -> 367748
A44: =A12 -> BAHÍA DE CÁDIZ | B44: =E12 -> 82051 | C44: =D12 -> 74209 | D44: =_xlfn.RANK.EQ(B44,$B$39:$B$66)+COUNTIF($B$39:$B$66,B44)-1 -> 13 | E44: =INDEX($A$39:$B$66,MATCH(ROW()-38,$D$39:$D$66,0),1) -> BAHÍA DE ALGECIRAS | F44: =LOOKUP(E44,$A$39:$A$66,$B$39:$B$66) -> 382180 | G44: =LOOKUP(E44,$A$39:$A$66,$C$39:$C$66) -> 378050
A45: =A13 -> BALEARES | B45: =E13 -> 120259 | C45: =D13 -> 130260 | D45: =_xlfn.RANK.EQ(B45,$B$39:$B$66)+COUNTIF($B$39:$B$66,B45)-1 -> 10 | E45: =INDEX($A$39:$B$66,MATCH(ROW()-38,$D$39:$D$66,0),1) -> CASTELLÓN | F45: =LOOKUP(E45,$A$39:$A$66,$B$39:$B$66) -> 210036 | G45: =LOOKUP(E45,$A$39:$A$66,$C$39:$C$66) -> 203097
A46: =A14 -> BARCELONA | B46: =E14 -> 1929335 | C46: =D14 -> 1812885 | D46: =_xlfn.RANK.EQ(B46,$B$39:$B$66)+COUNTIF($B$39:$B$66,B46)-1 -> 2 | E46: =INDEX($A$39:$B$66,MATCH(ROW()-38,$D$39:$D$66,0),1) -> VIGO | F46: =LOOKUP(E46,$A$39:$A$66,$B$39:$B$66) -> 174313 | G46: =LOOKUP(E46,$A$39:$A$66,$C$39:$C$66) -> 175362
A47: =A15 -> BILBAO | B47: =E15 -> 602245 | C47: =D15 -> 593319 | D47: =_xlfn.RANK.EQ(B47,$B$39:$B$66)+COUNTIF($B$39:$B$66,B47)-1 -> 3 | E47: =INDEX($A$39:$B$66,MATCH(ROW()-38,$D$39:$D$66,0),1) -> ALICANTE | F47: =LOOKUP(E47,$A$39:$A$66,$B$39:$B$66) -> 161507 | G47: =LOOKUP(E47,$A$39:$A$66,$C$39:$C$66) -> 154916
A48: =A16 -> CARTAGENA | B48: =E16 -> 89931 | C48: =D16 -> 95879 | D48: =_xlfn.RANK.EQ(B48,$B$39:$B$66)+COUNTIF($B$39:$B$66,B48)-1 -> 12 | E48: =INDEX($A$39:$B$66,MATCH(ROW()-38,$D$39:$D$66,0),1) -> BALEARES | F48: =LOOKUP(E48,$A$39:$A$66,$B$39:$B$66) -> 120259 | G48: =LOOKUP(E48,$A$39:$A$66,$C$39:$C$66) -> 130260
A49: =A17 -> CASTELLÓN | B49: =E17 -> 210036 | C49: =D17 -> 203097 | D49: =_xlfn.RANK.EQ(B49,$B$39:$B$66)+COUNTIF($B$39:$B$66,B49)-1 -> 7 | E49: =INDEX($A$39:$B$66,MATCH(ROW()-38,$D$39:$D$66,0),1) -> SEVILLA | F49: =LOOKUP(E49,$A$39:$A$66,$B$39:$B$66) -> 105566 | G49: =LOOKUP(E49,$A$39:$A$66,$C$39:$C$66) -> 145672
A50: =A18 -> CEUTA | B50: =E18 -> 16036 | C50: =D18 -> 21721 | D50: =_xlfn.RANK.EQ(B50,$B$39:$B$66)+COUNTIF($B$39:$B$66,B50)-1 -> 21 | E50: =INDEX($A$39:$B$66,MATCH(ROW()-38,$D$39:$D$66,0),1) -> CARTAGENA | F50: =LOOKUP(E50,$A$39:$A$66,$B$39:$B$66) -> 89931 | G50: =LOOKUP(E50,$A$39:$A$66,$C$39:$C$66) -> 95879
... A66: =A34 -> VILAGARCÍA | B66: =E34 -> 34490 | C66: =D34 -> 32313 | D66: =_xlfn.RANK.EQ(B66,$B$39:$B$66)+COUNTIF($B$39:$B$66,B66)-1 -> 20 | E66: =INDEX($A$39:$B$66,MATCH(ROW()-38,$D$39:$D$66,0),1) -> AVILÉS | F66: =LOOKUP(E66,$A$39:$A$66,$B$39:$B$66) -> 0 | G66: =LOOKUP(E66,$A$39:$A$66,$C$39:$C$66) -> 0

Sheet Pasajeros total
F1: 11. PASAJEROS EN RÉGIMEN DE TRANSPORTE Y DE CRUCERO
I2: (unidades)
A5: Autoridad Portuaria | B5: ='Resumen general'!D6 -> Mes diciembre | D5: ='Resumen general'!F6 -> Acumulado desde enero | L5: ='Resumen general'!I4 -> Fecha: 20/12/2018
B6: ='Resumen general'!D7 -> 2016 | C6: ='Resumen general'!E7 -> 2017 | D6: ='Resumen general'!F7 -> 2016 | E6: ='Resumen general'!G7 -> 2017 | F6: Var. (%)
A7: A CORUÑA | B7: 8425 | C7: 9606 | D7: 126735 | E7: 184069 | F7: =((E7*100)/D7)-100 -> 45.239279
A8: ALICANTE | B8: 7067 | C8: 10886 | D8: 256671 | E8: 227208 | F8: =((E8*100)/D8)-100 -> -11.478897
A9: ALMERÍA | B9: 42218 | C9: 49808 | D9: 827251 | E9: 951468 | F9: =((E9*100)/D9)-100 -> 15.015636
A10: AVILÉS | B10: 0 | C10: 305 | D10: 2707 | E10: 2512 | F10: =((E10*100)/D10)-100 -> -7.2035464
A11: BAHÍA DE ALGECIRAS | B11: 377824 | C11: 359222 | D11: 5618048 | E11: 5539129 | F11: =((E11*100)/D11)-100 -> -1.4047406
A12: BAHÍA DE CÁDIZ | B12: 14235 | C12: 27735 | D12: 406158 | E12: 408255 | F12: =((E12*100)/D12)-100 -> 0.51630154
A13: BALEARES | B13: 219431 | C13: 273314 | D13: 7782400 | E13: 8248346 | F13: =((E13*100)/D13)-100 -> 5.9871762
A14: BARCELONA | B14: 146228 | C14: 187070 | D14: 3958960 | E14: 4136999 | F14: =((E14*100)/D14)-100 -> 4.4971154
A15: BILBAO | B15: 6436 | C15: 4698 | D15: 190626 | E15: 186546 | F15: =((E15*100)/D15)-100 -> -2.1403166
A16: CARTAGENA | B16: 514 | C16: 3826 | D16: 187813 | E16: 236279 | F16: =((E16*100)/D16)-100 -> 25.805455
A17: CASTELLÓN | B17: 0 | C17: 0 | D17: 1095 | E17: 411 | F17: =((E17*100)/D17)-100 -> -62.465753
A18: CEUTA | B18: 146492 | C18: 159908 | D18: 1942939 | E18: 1900403 | F18: =((E18*100)/D18)-100 -> -2.1892607
... A23: MÁLAGA | B23: 38862 | C23: 45196 | D23: 722838 | E23: 808530 | F23: =((E23*100)/D23)-100 -> 11.854938
A24: MARÍN Y RÍA DE PONTEVEDRA | B24: 0 | C24: 0 | D24: 0 | E24: 143
A25: MELILLA | B25: 62385 | C25: 64556 | D25: 889954 | E25: 833033 | F25: =((E25*100)/D25)-100 -> -6.3959486
A26: MOTRIL | B26: 23640 | C26: 21615 | D26: 414096 | E26: 349126 | F26: =((E26*100)/D26)-100 -> -15.689599
A27: PASAIA | B27: 1 | C27: 0 | D27: 595 | E27: 815 | F27: =((E27*100)/D27)-100 -> 36.97479
A28: SANTA CRUZ DE TENERIFE | B28: 494118 | C28: 608510 | D28: 5330907 | E28: 5884404 | F28: =((E28*100)/D28)-100 -> 10.382792
A29: SANTANDER | B29: 7236 | C29: 5832 | D29: 218643 | E29: 234214 | F29: =((E29*100)/D29)-100 -> 7.1216549
A30: SEVILLA | B30: 974 | C30: 433 | D30: 21010 | E30: 23916 | F30: =((E30*100)/D30)-100 -> 13.831509
A31: TARRAGONA | B31: 273 | C31: 0 | D31: 13445 | E31: 51394 | F31: =((E31*100)/D31)-100 -> 282.25363
A32: VALENCIA | B32: 53557 | C32: 60360 | D32: 910200 | E32: 1062580 | F32: =((E32*100)/D32)-100 -> 16.741376
A33: VIGO | B33: 5271 | C33: 1164 | D33: 169223 | E33: 140188 | F33: =((E33*100)/D33)-100 -> -17.157833
A34: VILAGARCÍA | B34: 0 | C34: 0 | D34: 758 | E34: 1596 | F34: =((E34*100)/D34)-100 -> 110.55409
A35: Total | B35: =SUM(B7:B34) -> 1926801 | C35: =SUM(C7:C34) -> 2246606 | D35: =SUM(D7:D34) -> 32493848 | E35: =SUM(E7:E34) -> 34072845 | F35: =((E35*100)/D35)-100 -> 4.8593721
A36: Incluye embarques, desembarques y en tránsito.
B38: =E6 -> 2017 | C38: =D6 -> 2016 | F38: =B38 -> 2017 | G38: =C38 -> 2016
A39: =A7 -> A CORUÑA | B39: =E7 -> 184069 | C39: =D7 -> 126735 | D39: =_xlfn.RANK.EQ(B39,$B$39:$B$66)+COUNTIF($B$39:$B$66,B39)-1 -> 17 | E39: =INDEX($A$39:$B$66,MATCH(ROW()-38,$D$39:$D$66,0),1) -> BALEARES | F39: =LOOKUP(E39,$A$39:$A$66,$B$39:$B$66) -> 8248346 | G39: =LOOKUP(E39,$A$39:$A$66,$C$39:$C$66) -> 7782400
A40: =A8 -> ALICANTE | B40: =E8 -> 227208 | C40: =D8 -> 256671 | D40: =_xlfn.RANK.EQ(B40,$B$39:$B$66)+COUNTIF($B$39:$B$66,B40)-1 -> 15 | E40: =INDEX($A$39:$B$66,MATCH(ROW()-38,$D$39:$D$66,0),1) -> SANTA CRUZ DE TENERIFE | F40: =LOOKUP(E40,$A$39:$A$66,$B$39:$B$66) -> 5884404 | G40: =LOOKUP(E40,$A$39:$A$66,$C$39:$C$66) -> 5330907
A41: =A9 -> ALMERÍA | B41: =E9 -> 951468 | C41: =D9 -> 827251 | D41: =_xlfn.RANK.EQ(B41,$B$39:$B$66)+COUNTIF($B$39:$B$66,B41)-1 -> 8 | E41: =INDEX($A$39:$B$66,MATCH(ROW()-38,$D$39:$D$66,0),1) -> BAHÍA DE ALGECIRAS | F41: =LOOKUP(E41,$A$39:$A$66,$B$39:$B$66) -> 5539129 | G41: =LOOKUP(E41,$A$39:$A$66,$C$39:$C$66) -> 5618048
A42: =A10 -> AVILÉS | B42: =E10 -> 2512 | C42: =D10 -> 2707 | D42: =_xlfn.RANK.EQ(B42,$B$39:$B$66)+COUNTIF($B$39:$B$66,B42)-1 -> 24 | E42: =INDEX($A$39:$B$66,MATCH(ROW()-38,$D$39:$D$66,0),1) -> BARCELONA | F42: =LOOKUP(E42,$A$39:$A$66,$B$39:$B$66) -> 4136999 | G42: =LOOKUP(E42,$A$39:$A$66,$C$39:$C$66) -> 3958960
A43: =A11 -> BAHÍA DE ALGECIRAS | B43: =E11 -> 5539129 | C43: =D11 -> 5618048 | D43: =_xlfn.RANK.EQ(B43,$B$39:$B$66)+COUNTIF($B$39:$B$66,B43)-1 -> 3 | E43: =INDEX($A$39:$B$66,MATCH(ROW()-38,$D$39:$D$66,0),1) -> LAS PALMAS | F43: =LOOKUP(E43,$A$39:$A$66,$B$39:$B$66) -> 2574972 | G43: =LOOKUP(E43,$A$39:$A$66,$C$39:$C$66) -> 2391051
A44: =A12 -> BAHÍA DE CÁDIZ | B44: =E12 -> 408255 | C44: =D12 -> 406158 | D44: =_xlfn.RANK.EQ(B44,$B$39:$B$66)+COUNTIF($B$39:$B$66,B44)-1 -> 11 | E44: =INDEX($A$39:$B$66,MATCH(ROW()-38,$D$39:$D$66,0),1) -> CEUTA | F44: =LOOKUP(E44,$A$39:$A$66,$B$39:$B$66) -> 1900403 | G44: =LOOKUP(E44,$A$39:$A$66,$C$39:$C$66) -> 1942939
A45: =A13 -> BALEARES | B45: =E13 -> 8248346 | C45: =D13 -> 7782400 | D45: =_xlfn.RANK.EQ(B45,$B$39:$B$66)+COUNTIF($B$39:$B$66,B45)-1 -> 1 | E45: =INDEX($A$39:$B$66,MATCH(ROW()-38,$D$39:$D$66,0),1) -> VALENCIA | F45: =LOOKUP(E45,$A$39:$A$66,$B$39:$B$66) -> 1062580 | G45: =LOOKUP(E45,$A$39:$A$66,$C$39:$C$66) -> 910200
A46: =A14 -> BARCELONA | B46: =E14 -> 4136999 | C46: =D14 -> 3958960 | D46: =_xlfn.RANK.EQ(B46,$B$39:$B$66)+COUNTIF($B$39:$B$66,B46)-1 -> 4 | E46: =INDEX($A$39:$B$66,MATCH(ROW()-38,$D$39:$D$66,0),1) -> ALMERÍA | F46: =LOOKUP(E46,$A$39:$A$66,$B$39:$B$66) -> 951468 | G46: =LOOKUP(E46,$A$39:$A$66,$C$39:$C$66) -> 827251
A47: =A15 -> BILBAO | B47: =E15 -> 186546 | C47: =D15 -> 190626 | D47: =_xlfn.RANK.EQ(B47,$B$39:$B$66)+COUNTIF($B$39:$B$66,B47)-1 -> 16 | E47: =INDEX($A$39:$B$66,MATCH(ROW()-38,$D$39:$D$66,0),1) -> MELILLA | F47: =LOOKUP(E47,$A$39:$A$66,$B$39:$B$66) -> 833033 | G47: =LOOKUP(E47,$A$39:$A$66,$C$39:$C$66) -> 889954
A48: =A16 -> CARTAGENA | B48: =E16 -> 236279 | C48: =D16 -> 187813 | D48: =_xlfn.RANK.EQ(B48,$B$39:$B$66)+COUNTIF($B$39:$B$66,B48)-1 -> 13 | E48: =INDEX($A$39:$B$66,MATCH(ROW()-38,$D$39:$D$66,0),1) -> MÁLAGA | F48: =LOOKUP(E48,$A$39:$A$66,$B$39:$B$66) -> 808530 | G48: =LOOKUP(E48,$A$39:$A$66,$C$39:$C$66) -> 722838
A49: =A17 -> CASTELLÓN | B49: =E17 -> 411 | C49: =D17 -> 1095 | D49: =_xlfn.RANK.EQ(B49,$B$39:$B$66)+COUNTIF($B$39:$B$66,B49)-1 -> 27 | E49: =INDEX($A$39:$B$66,MATCH(ROW()-38,$D$39:$D$66,0),1) -> BAHÍA DE CÁDIZ | F49: =LOOKUP(E49,$A$39:$A$66,$B$39:$B$66) -> 408255 | G49: =LOOKUP(E49,$A$39:$A$66,$C$39:$C$66) -> 406158
A50: =A18 -> CEUTA | B50: =E18 -> 1900403 | C50: =D18 -> 1942939 | D50: =_xlfn.RANK.EQ(B50,$B$39:$B$66)+COUNTIF($B$39:$B$66,B50)-1 -> 6 | E50: =INDEX($A$39:$B$66,MATCH(ROW()-38,$D$39:$D$66,0),1) -> MOTRIL | F50: =LOOKUP(E50,$A$39:$A$66,$B$39:$B$66) -> 349126 | G50: =LOOKUP(E50,$A$39:$A$66,$C$39:$C$66) -> 414096
... A66: =A34 -> VILAGARCÍA | B66: =E34 -> 1596 | C66: =D34 -> 758 | D66: =_xlfn.RANK.EQ(B66,$B$39:$B$66)+COUNTIF($B$39:$B$66,B66)-1 -> 25 | E66: =INDEX($A$39:$B$66,MATCH(ROW()-38,$D$39:$D$66,0),1) -> MARÍN Y RÍA DE PONTEVEDRA | F66: =LOOKUP(E66,$A$39:$A$66,$B$39:$B$66) -> 143 | G66: =LOOKUP(E66,$A$39:$A$66,$C$39:$C$66) -> 0

Sheet Pasajeros crucero
F1: 11.1. PASAJEROS DE CRUCERO (unidades)
A5: Autoridad Portuaria | B5: ='Resumen general'!D6 -> Mes diciembre | D5: ='Resumen general'!F6 -> Acumulado desde enero | L5: ='Resumen general'!I4 -> Fecha: 20/12/2018
B6: ='Resumen general'!D7 -> 2016 | C6: ='Resumen general'!E7 -> 2017 | D6: ='Resumen general'!F7 -> 2016 | E6: ='Resumen general'!G7 -> 2017 | F6: Var. (%)
A7: A CORUÑA | B7: 8200 | C7: 9606 | D7: 126735 | E7: 184069 | F7: =((E7*100)/D7)-100 -> 45.239279
A8: ALICANTE | B8: 455 | C8: 6652 | D8: 89000 | E8: 86482 | F8: =((E8*100)/D8)-100 -> -2.8292135
A9: ALMERÍA | B9: 0 | C9: 1053 | D9: 28692 | E9: 25975 | F9: =((E9*100)/D9)-100 -> -9.4695385
A10: AVILÉS | B10: 0 | C10: 305 | D10: 2707 | E10: 2512 | F10: =((E10*100)/D10)-100 -> -7.2035464
A11: BAHÍA DE ALGECIRAS | B11: 0 | C11: 0 | D11: 0 | E11: 381
A12: BAHÍA DE CÁDIZ | B12: 12959 | C12: 26361 | D12: 385067 | E12: 387109 | F12: =((E12*100)/D12)-100 -> 0.53029732
A13: BALEARES | B13: 18153 | C13: 60068 | D13: 1962155 | E13: 2130517 | F13: =((E13*100)/D13)-100 -> 8.5804638
A14: BARCELONA | B14: 85247 | C14: 116315 | D14: 2683594 | E14: 2712247 | F14: =((E14*100)/D14)-100 -> 1.0677099
A15: BILBAO | B15: 0 | C15: 0 | D15: 86598 | E15: 84209 | F15: =((E15*100)/D15)-100 -> -2.7587242
A16: CARTAGENA | B16: 1213 | C16: 3826 | D16: 187813 | E16: 236279 | F16: =((E16*100)/D16)-100 -> 25.805455
A17: CASTELLÓN | B17: 0 | C17: 0 | D17: 1095 | E17: 411 | F17: =((E17*100)/D17)-100 -> -62.465753
A18: CEUTA | B18: 197 | C18: 1769 | D18: 19456 | E18: 17045 | F18: =((E18*100)/D18)-100 -> -12.392064
A19: FERROL-SAN CIBRAO | B19: 986 | C19: 0 | D19: 20061 | E19: 20379 | F19: =((E19*100)/D19)-100 -> 1.5851652
A20: GIJÓN | B20: 80 | C20: 0 | D20: 32804 | E20: 21813 | F20: =((E20*100)/D20)-100 -> -33.50506
A21: HUELVA | B21: 600 | C21: 0 | D21: 19573 | E21: 6359 | F21: =((E21*100)/D21)-100 -> -67.511368
A22: LAS PALMAS | B22: 174482 | C22: 253136 | D22: 1104585 | E22: 1243114 | F22: =((E22*100)/D22)-100 -> 12.541271
A23: MÁLAGA | B23: 16310 | C23: 20622 | D23: 444176 | E23: 509644 | F23: =((E23*100)/D23)-100 -> 14.739202
A24: MARÍN Y RÍA DE PONTEVEDRA | B24: 0 | C24: 0 | D24: 0 | E24: 143
A25: MELILLA | B25: 0 | C25: 0 | D25: 1224 | E25: 0 | F25: =((E25*100)/D25)-100 -> -100
A26: MOTRIL | B26: 0 | C26: 0 | D26: 4570 | E26: 4005 | F26: =((E26*100)/D26)-100 -> -12.363239
A27: PASAIA | B27: -2 | C27: 0 | D27: 573 | E27: 809 | F27: =((E27*100)/D27)-100 -> 41.186736
A28: SANTA CRUZ DE TENERIFE | B28: 150018 | C28: 191362 | D28: 883339 | E28: 964336 | F28: =((E28*100)/D28)-100 -> 9.1694129
A29: SANTANDER | B29: 0 | C29: 0 | D29: 2354 | E29: 14663 | F29: =((E29*100)/D29)-100 -> 522.8972
A30: SEVILLA | B30: 974 | C30: 433 | D30: 21010 | E30: 23916 | F30: =((E30*100)/D30)-100 -> 13.831509
A31: TARRAGONA | B31: 273 | C31: 0 | D31: 13445 | E31: 51394 | F31: =((E31*100)/D31)-100 -> 282.25363
A32: VALENCIA | B32: 7985 | C32: 12286 | D32: 403264 | E32: 412328 | F32: =((E32*100)/D32)-100 -> 2.2476591
A33: VIGO | B33: 5401 | C33: 1164 | D33: 169223 | E33: 140188 | F33: =((E33*100)/D33)-100 -> -17.157833
A34: VILAGARCÍA | B34: 0 | C34: 0 | D34: 758 | E34: 1596 | F34: =((E34*100)/D34)-100 -> 110.55409
A35: Total | B35: =SUM(B7:B34) -> 483531 | C35: =SUM(C7:C34) -> 704958 | D35: =SUM(D7:D34) -> 8693871 | E35: =SUM(E7:E34) -> 9281923 | F35: =((E35*100)/D35)-100 -> 6.7639835
A36: Incluye embarques (inicio de línea), desembarques (fin de línea) y en tránsito.
B38: =E6 -> 2017 | C38: =D6 -> 2016 | F38: =B38 -> 2017 | G38: =C38 -> 2016
A39: =A7 -> A CORUÑA | B39: =E7 -> 184069 | C39: =D7 -> 126735 | D39: =_xlfn.RANK.EQ(B39,$B$39:$B$66)+COUNTIF($B$39:$B$66,B39)-1 -> 9 | E39: =INDEX($A$39:$B$66,MATCH(ROW()-38,$D$39:$D$66,0),1) -> BARCELONA | F39: =LOOKUP(E39,$A$39:$A$66,$B$39:$B$66) -> 2712247 | G39: =LOOKUP(E39,$A$39:$A$66,$C$39:$C$66) -> 2683594
A40: =A8 -> ALICANTE | B40: =E8 -> 86482 | C40: =D8 -> 89000 | D40: =_xlfn.RANK.EQ(B40,$B$39:$B$66)+COUNTIF($B$39:$B$66,B40)-1 -> 11 | E40: =INDEX($A$39:$B$66,MATCH(ROW()-38,$D$39:$D$66,0),1) -> BALEARES | F40: =LOOKUP(E40,$A$39:$A$66,$B$39:$B$66) -> 2130517 | G40: =LOOKUP(E40,$A$39:$A$66,$C$39:$C$66) -> 1962155
A41: =A9 -> ALMERÍA | B41: =E9 -> 25975 | C41: =D9 -> 28692 | D41: =_xlfn.RANK.EQ(B41,$B$39:$B$66)+COUNTIF($B$39:$B$66,B41)-1 -> 14 | E41: =INDEX($A$39:$B$66,MATCH(ROW()-38,$D$39:$D$66,0),1) -> LAS PALMAS | F41: =LOOKUP(E41,$A$39:$A$66,$B$39:$B$66) -> 1243114 | G41: =LOOKUP(E41,$A$39:$A$66,$C$39:$C$66) -> 1104585
A42: =A10 -> AVILÉS | B42: =E10 -> 2512 | C42: =D10 -> 2707 | D42: =_xlfn.RANK.EQ(B42,$B$39:$B$66)+COUNTIF($B$39:$B$66,B42)-1 -> 22 | E42: =INDEX($A$39:$B$66,MATCH(ROW()-38,$D$39:$D$66,0),1) -> SANTA CRUZ DE TENERIFE | F42: =LOOKUP(E42,$A$39:$A$66,$B$39:$B$66) -> 964336 | G42: =LOOKUP(E42,$A$39:$A$66,$C$39:$C$66) -> 883339
A43: =A11 -> BAHÍA DE ALGECIRAS | B43: =E11 -> 381 | C43: =D11 -> 0 | D43: =_xlfn.RANK.EQ(B43,$B$39:$B$66)+COUNTIF($B$39:$B$66,B43)-1 -> 26 | E43: =INDEX($A$39:$B$66,MATCH(ROW()-38,$D$39:$D$66,0),1) -> MÁLAGA | F43: =LOOKUP(E43,$A$39:$A$66,$B$39:$B$66) -> 509644 | G43: =LOOKUP(E43,$A$39:$A$66,$C$39:$C$66) -> 444176
A44: =A12 -> BAHÍA DE CÁDIZ | B44: =E12 -> 387109 | C44: =D12 -> 385067 | D44: =_xlfn.RANK.EQ(B44,$B$39:$B$66)+COUNTIF($B$39:$B$66,B44)-1 -> 7 | E44: =INDEX($A$39:$B$66,MATCH(ROW()-38,$D$39:$D$66,0),1) -> VALENCIA | F44: =LOOKUP(E44,$A$39:$A$66,$B$39:$B$66) -> 412328 | G44: =LOOKUP(E44,$A$39:$A$66,$C$39:$C$66) -> 403264
A45: =A13 -> BALEARES | B45: =E13 -> 2130517 | C45: =D13 -> 1962155 | D45: =_xlfn.RANK.EQ(B45,$B$39:$B$66)+COUNTIF($B$39:$B$66,B45)-1 -> 2 | E45: =INDEX($A$39:$B$66,MATCH(ROW()-38,$D$39:$D$66,0),1) -> BAHÍA DE CÁDIZ | F45: =LOOKUP(E45,$A$39:$A$66,$B$39:$B$66) -> 387109 | G45: =LOOKUP(E45,$A$39:$A$66,$C$39:$C$66) -> 385067
A46: =A14 -> BARCELONA | B46: =E14 -> 2712247 | C46: =D14 -> 2683594 | D46: =_xlfn.RANK.EQ(B46,$B$39:$B$66)+COUNTIF($B$39:$B$66,B46)-1 -> 1 | E46: =INDEX($A$39:$B$66,MATCH(ROW()-38,$D$39:$D$66,0),1) -> CARTAGENA | F46: =LOOKUP(E46,$A$39:$A$66,$B$39:$B$66) -> 236279 | G46: =LOOKUP(E46,$A$39:$A$66,$C$39:$C$66) -> 187813
A47: =A15 -> BILBAO | B47: =E15 -> 84209 | C47: =D15 -> 86598 | D47: =_xlfn.RANK.EQ(B47,$B$39:$B$66)+COUNTIF($B$39:$B$66,B47)-1 -> 12 | E47: =INDEX($A$39:$B$66,MATCH(ROW()-38,$D$39:$D$66,0),1) -> A CORUÑA | F47: =LOOKUP(E47,$A$39:$A$66,$B$39:$B$66) -> 184069 | G47: =LOOKUP(E47,$A$39:$A$66,$C$39:$C$66) -> 126735
A48: =A16 -> CARTAGENA | B48: =E16 -> 236279 | C48: =D16 -> 187813 | D48: =_xlfn.RANK.EQ(B48,$B$39:$B$66)+COUNTIF($B$39:$B$66,B48)-1 -> 8 | E48: =INDEX($A$39:$B$66,MATCH(ROW()-38,$D$39:$D$66,0),1) -> VIGO | F48: =LOOKUP(E48,$A$39:$A$66,$B$39:$B$66) -> 140188 | G48: =LOOKUP(E48,$A$39:$A$66,$C$39:$C$66) -> 169223
A49: =A17 -> CASTELLÓN | B49: =E17 -> 411 | C49: =D17 -> 1095 | D49: =_xlfn.RANK.EQ(B49,$B$39:$B$66)+COUNTIF($B$39:$B$66,B49)-1 -> 25 | E49: =INDEX($A$39:$B$66,MATCH(ROW()-38,$D$39:$D$66,0),1) -> ALICANTE | F49: =LOOKUP(E49,$A$39:$A$66,$B$39:$B$66) -> 86482 | G49: =LOOKUP(E49,$A$39:$A$66,$C$39:$C$66) -> 89000
A50: =A18 -> CEUTA | B50: =E18 -> 17045 | C50: =D18 -> 19456 | D50: =_xlfn.RANK.EQ(B50,$B$39:$B$66)+COUNTIF($B$39:$B$66,B50)-1 -> 18 | E50: =INDEX($A$39:$B$66,MATCH(ROW()-38,$D$39:$D$66,0),1) -> BILBAO | F50: =LOOKUP(E50,$A$39:$A$66,$B$39:$B$66) -> 84209 | G50: =LOOKUP(E50,$A$39:$A$66,$C$39:$C$66) -> 86598
... A66: =A34 -> VILAGARCÍA | B66: =E34 -> 1596 | C66: =D34 -> 758 | D66: =_xlfn.RANK.EQ(B66,$B$39:$B$66)+COUNTIF($B$39:$B$66,B66)-1 -> 23 | E66: =INDEX($A$39:$B$66,MATCH(ROW()-38,$D$39:$D$66,0),1) -> MELILLA | F66: =LOOKUP(E66,$A$39:$A$66,$B$39:$B$66) -> 0 | G66: =LOOKUP(E66,$A$39:$A$66,$C$39:$C$66) -> 1224

Sheet Automóviles régimen pasaje
F1: 12.1. AUTOMÓVILES EN RÉGIMEN DE PASAJE (unidades)
A5: Autoridad Portuaria | B5: ='Resumen general'!D6 -> Mes diciembre | D5: ='Resumen general'!F6 -> Acumulado desde enero | L5: ='Resumen general'!I4 -> Fecha: 20/12/2018
B6: ='Resumen general'!D7 -> 2016 | C6: ='Resumen general'!E7 -> 2017 | D6: ='Resumen general'!F7 -> 2016 | E6: ='Resumen general'!G7 -> 2017 | F6: Var. (%)
A7: A CORUÑA | B7: 0 | C7: 0 | D7: 0 | E7: 0
A8: ALICANTE | B8: 1928 | C8: 1390 | D8: 45952 | E8: 39297 | F8: =((E8*100)/D8)-100 -> -14.482503
A9: ALMERÍA | B9: 9105 | C9: 11136 | D9: 164502 | E9: 204745 | F9: =((E9*100)/D9)-100 -> 24.463532
A10: AVILÉS | B10: 0 | C10: 0 | D10: 0 | E10: 0
A11: BAHÍA DE ALGECIRAS | B11: 74080 | C11: 71802 | D11: 1188930 | E11: 1194299 | F11: =((E11*100)/D11)-100 -> 0.45158252
A12: BAHÍA DE CÁDIZ | B12: 670 | C12: 825 | D12: 11058 | E12: 11200 | F12: =((E12*100)/D12)-100 -> 1.2841382
A13: BALEARES | B13: 34245 | C13: 40408 | D13: 566114 | E13: 633133 | F13: =((E13*100)/D13)-100 -> 11.838428
A14: BARCELONA | B14: 16281 | C14: 20668 | D14: 329589 | E14: 370549 | F14: =((E14*100)/D14)-100 -> 12.427599
A15: BILBAO | B15: 2772 | C15: 2153 | D15: 44963 | E15: 44964 | F15: =((E15*100)/D15)-100 -> 0.0022240509
A16: CARTAGENA | B16: 0 | C16: 0 | D16: 227 | E16: 0 | F16: =((E16*100)/D16)-100 -> -100
A17: CASTELLÓN | B17: 0 | C17: 0 | D17: 0 | E17: 0
A18: CEUTA | B18: 24403 | C18: 33954 | D18: 353756 | E18: 378111 | F18: =((E18*100)/D18)-100 -> 6.8846889
A19: FERROL-SAN CIBRAO | B19: 0 | C19: 0 | D19: 0 | E19: 0
A20: GIJÓN | B20: 0 | C20: 0 | D20: 0 | E20: 0
A21: HUELVA | B21: 1501 | C21: 1730 | D21: 19865 | E21: 20717 | F21: =((E21*100)/D21)-100 -> 4.2889504
A22: LAS PALMAS | B22: 32899 | C22: 36399 | D22: 435695 | E22: 466203 | F22: =((E22*100)/D22)-100 -> 7.002146
A23: MÁLAGA | B23: 2763 | C23: 3048 | D23: 35661 | E23: 37925 | F23: =((E23*100)/D23)-100 -> 6.3486722
A24: MARÍN Y RÍA DE PONTEVEDRA | B24: 0 | C24: 0 | D24: 0 | E24: 0
A25: MELILLA | B25: 11266 | C25: 11877 | D25: 164845 | E25: 151579 | F25: =((E25*100)/D25)-100 -> -8.0475598
A26: MOTRIL | B26: 5613 | C26: 4860 | D26: 94875 | E26: 78149 | F26: =((E26*100)/D26)-100 -> -17.629513
A27: PASAIA | B27: 0 | C27: 0 | D27: 0 | E27: 0
A28: SANTA CRUZ DE TENERIFE | B28: 89272 | C28: 112854 | D28: 1112526 | E28: 1271313 | F28: =((E28*100)/D28)-100 -> 14.272655
A29: SANTANDER | B29: 3083 | C29: 2565 | D29: 87828 | E29: 0 | F29: =((E29*100)/D29)-100 -> -100
A30: SEVILLA | B30: 478 | C30: 0 | D30: 478 | E30: 588 | F30: =((E30*100)/D30)-100 -> 23.012552
A31: TARRAGONA | B31: -147 | C31: 0 | D31: 0 | E31: 0
A32: VALENCIA | B32: 12493 | C32: 13325 | D32: 117814 | E32: 157927 | F32: =((E32*100)/D32)-100 -> 34.047736
A33: VIGO | B33: 0 | C33: 0 | D33: 0 | E33: 0
A34: VILAGARCÍA | B34: 0 | C34: 0 | D34: 0 | E34: 0
A35: Total | B35: =SUM(B7:B34) -> 322705 | C35: =SUM(C7:C34) -> 368994 | D35: =SUM(D7:D34) -> 4774678 | E35: =SUM(E7:E34) -> 5060699 | F35: =((E35*100)/D35)-100 -> 5.9903725
A36: Incluye embarques, desembarques y en tránsito.
B38: =E6 -> 2017 | C38: =D6 -> 2016 | F38: =B38 -> 2017 | G38: =C38 -> 2016
A39: =A7 -> A CORUÑA | B39: =E7 -> 0 | C39: =D7 -> 0 | D39: =_xlfn.RANK.EQ(B39,$B$39:$B$66)+COUNTIF($B$39:$B$66,B39)-1 -> 28 | E39: =INDEX($A$39:$B$66,MATCH(ROW()-38,$D$39:$D$66,0),1) -> SANTA CRUZ DE TENERIFE | F39: =LOOKUP(E39,$A$39:$A$66,$B$39:$B$66) -> 1271313 | G39: =LOOKUP(E39,$A$39:$A$66,$C$39:$C$66) -> 1112526
A40: =A8 -> ALICANTE | B40: =E8 -> 39297 | C40: =D8 -> 45952 | D40: =_xlfn.RANK.EQ(B40,$B$39:$B$66)+COUNTIF($B$39:$B$66,B40)-1 -> 12 | E40: =INDEX($A$39:$B$66,MATCH(ROW()-38,$D$39:$D$66,0),1) -> BAHÍA DE ALGECIRAS | F40: =LOOKUP(E40,$A$39:$A$66,$B$39:$B$66) -> 1194299 | G40: =LOOKUP(E40,$A$39:$A$66,$C$39:$C$66) -> 1188930
A41: =A9 -> ALMERÍA | B41: =E9 -> 204745 | C41: =D9 -> 164502 | D41: =_xlfn.RANK.EQ(B41,$B$39:$B$66)+COUNTIF($B$39:$B$66,B41)-1 -> 7 | E41: =INDEX($A$39:$B$66,MATCH(ROW()-38,$D$39:$D$66,0),1) -> BALEARES | F41: =LOOKUP(E41,$A$39:$A$66,$B$39:$B$66) -> 633133 | G41: =LOOKUP(E41,$A$39:$A$66,$C$39:$C$66) -> 566114
A42: =A10 -> AVILÉS | B42: =E10 -> 0 | C42: =D10 -> 0 | D42: =_xlfn.RANK.EQ(B42,$B$39:$B$66)+COUNTIF($B$39:$B$66,B42)-1 -> 28 | E42: =INDEX($A$39:$B$66,MATCH(ROW()-38,$D$39:$D$66,0),1) -> LAS PALMAS | F42: =LOOKUP(E42,$A$39:$A$66,$B$39:$B$66) -> 466203 | G42: =LOOKUP(E42,$A$39:$A$66,$C$39:$C$66) -> 435695
A43: =A11 -> BAHÍA DE ALGECIRAS | B43: =E11 -> 1194299 | C43: =D11 -> 1188930 | D43: =_xlfn.RANK.EQ(B43,$B$39:$B$66)+COUNTIF($B$39:$B$66,B43)-1 -> 2 | E43: =INDEX($A$39:$B$66,MATCH(ROW()-38,$D$39:$D$66,0),1) -> CEUTA | F43: =LOOKUP(E43,$A$39:$A$66,$B$39:$B$66) -> 378111 | G43: =LOOKUP(E43,$A$39:$A$66,$C$39:$C$66) -> 353756
A44: =A12 -> BAHÍA DE CÁDIZ | B44: =E12 -> 11200 | C44: =D12 -> 11058 | D44: =_xlfn.RANK.EQ(B44,$B$39:$B$66)+COUNTIF($B$39:$B$66,B44)-1 -> 15 | E44: =INDEX($A$39:$B$66,MATCH(ROW()-38,$D$39:$D$66,0),1) -> BARCELONA | F44: =LOOKUP(E44,$A$39:$A$66,$B$39:$B$66) -> 370549 | G44: =LOOKUP(E44,$A$39:$A$66,$C$39:$C$66) -> 329589
A45: =A13 -> BALEARES | B45: =E13 -> 633133 | C45: =D13 -> 566114 | D45: =_xlfn.RANK.EQ(B45,$B$39:$B$66)+COUNTIF($B$39:$B$66,B45)-1 -> 3 | E45: =INDEX($A$39:$B$66,MATCH(ROW()-38,$D$39:$D$66,0),1) -> ALMERÍA | F45: =LOOKUP(E45,$A$39:$A$66,$B$39:$B$66) -> 204745 | G45: =LOOKUP(E45,$A$39:$A$66,$C$39:$C$66) -> 164502
A46: =A14 -> BARCELONA | B46: =E14 -> 370549 | C46: =D14 -> 329589 | D46: =_xlfn.RANK.EQ(B46,$B$39:$B$66)+COUNTIF($B$39:$B$66,B46)-1 -> 6 | E46: =INDEX($A$39:$B$66,MATCH(ROW()-38,$D$39:$D$66,0),1) -> VALENCIA | F46: =LOOKUP(E46,$A$39:$A$66,$B$39:$B$66) -> 157927 | G46: =LOOKUP(E46,$A$39:$A$66,$C$39:$C$66) -> 117814
A47: =A15 -> BILBAO | B47: =E15 -> 44964 | C47: =D15 -> 44963 | D47: =_xlfn.RANK.EQ(B47,$B$39:$B$66)+COUNTIF($B$39:$B$66,B47)-1 -> 11 | E47: =INDEX($A$39:$B$66,MATCH(ROW()-38,$D$39:$D$66,0),1) -> MELILLA | F47: =LOOKUP(E47,$A$39:$A$66,$B$39:$B$66) -> 151579 | G47: =LOOKUP(E47,$A$39:$A$66,$C$39:$C$66) -> 164845
A48: =A16 -> CARTAGENA | B48: =E16 -> 0 | C48: =D16 -> 227 | D48: =_xlfn.RANK.EQ(B48,$B$39:$B$66)+COUNTIF($B$39:$B$66,B48)-1 -> 28 | E48: =INDEX($A$39:$B$66,MATCH(ROW()-38,$D$39:$D$66,0),1) -> MOTRIL | F48: =LOOKUP(E48,$A$39:$A$66,$B$39:$B$66) -> 78149 | G48: =LOOKUP(E48,$A$39:$A$66,$C$39:$C$66) -> 94875
A49: =A17 -> CASTELLÓN | B49: =E17 -> 0 | C49: =D17 -> 0 | D49: =_xlfn.RANK.EQ(B49,$B$39:$B$66)+COUNTIF($B$39:$B$66,B49)-1 -> 28 | E49: =INDEX($A$39:$B$66,MATCH(ROW()-38,$D$39:$D$66,0),1) -> BILBAO | F49: =LOOKUP(E49,$A$39:$A$66,$B$39:$B$66) -> 44964 | G49: =LOOKUP(E49,$A$39:$A$66,$C$39:$C$66) -> 44963
A50: =A18 -> CEUTA | B50: =E18 -> 378111 | C50: =D18 -> 353756 | D50: =_xlfn.RANK.EQ(B50,$B$39:$B$66)+COUNTIF($B$39:$B$66,B50)-1 -> 5 | E50: =INDEX($A$39:$B$66,MATCH(ROW()-38,$D$39:$D$66,0),1) -> ALICANTE | F50: =LOOKUP(E50,$A$39:$A$66,$B$39:$B$66) -> 39297 | G50: =LOOKUP(E50,$A$39:$A$66,$C$39:$C$66) -> 45952
... A66: =A34 -> VILAGARCÍA | B66: =E34 -> 0 | C66: =D34 -> 0 | D66: =_xlfn.RANK.EQ(B66,$B$39:$B$66)+COUNTIF($B$39:$B$66,B66)-1 -> 28 | E66: =INDEX($A$39:$B$66,MATCH(ROW()-38,$D$39:$D$66,0),1) -> A CORUÑA | F66: =LOOKUP(E66,$A$39:$A$66,$B$39:$B$66) -> 0 | G66: =LOOKUP(E66,$A$39:$A$66,$C$39:$C$66) -> 0

Sheet Automóviles régimen mercancía
E1: 12.2. TURISMOS, AUTOBUSES Y CAMIONES EN RÉGIMEN DE MERCANCÍA
H2: (unidades)
A5: Autoridad Portuaria | B5: ='Resumen general'!D6 -> Mes diciembre | D5: ='Resumen general'!F6 -> Acumulado desde enero | L5: ='Resumen general'!I4 -> Fecha: 20/12/2018
B6: ='Resumen general'!D7 -> 2016 | C6: ='Resumen general'!E7 -> 2017 | D6: ='Resumen general'!F7 -> 2016 | E6: ='Resumen general'!G7 -> 2017 | F6: Var. (%)
A7: A CORUÑA | B7: 0 | C7: 0 | D7: 0 | E7: 0
A8: ALICANTE | B8: 0 | C8: 4 | D8: 1932 | E8: 142 | F8: =((E8*100)/D8)-100 -> -92.650104
A9: ALMERÍA | B9: 59 | C9: 591 | D9: 662 | E9: 360 | F9: =((E9*100)/D9)-100 -> -45.619335
A10: AVILÉS | B10: 0 | C10: 0 | D10: 0 | E10: 0
A11: BAHÍA DE ALGECIRAS | B11: 11 | C11: 6020 | D11: 124 | E11: 2165 | F11: =((E11*100)/D11)-100 -> 1645.9677
A12: BAHÍA DE CÁDIZ | B12: 924 | C12: 3174 | D12: 14283 | E12: 16002 | F12: =((E12*100)/D12)-100 -> 12.035287
A13: BALEARES | B13: 11338 | C13: 32968 | D13: 165952 | E13: 172695 | F13: =((E13*100)/D13)-100 -> 4.0632231
A14: BARCELONA | B14: 71610 | C14: 145883 | D14: 916179 | E14: 836465 | F14: =((E14*100)/D14)-100 -> -8.7007015
A15: BILBAO | B15: 278 | C15: 3230 | D15: 8843 | E15: 7107 | F15: =((E15*100)/D15)-100 -> -19.631347
A16: CARTAGENA | B16: 0 | C16: 0 | D16: 0 | E16: 0
A17: CASTELLÓN | B17: 0 | C17: 0 | D17: 1800 | E17: 563 | F17: =((E17*100)/D17)-100 -> -68.722222
A18: CEUTA | B18: 108 | C18: 1578 | D18: 1205 | E18: 43 | F18: =((E18*100)/D18)-100 -> -96.431535
A19: FERROL-SAN CIBRAO | B19: 0 | C19: 0 | D19: 0 | E19: 0
A20: GIJÓN | B20: 0 | C20: 0 | D20: 399 | E20: 2 | F20: =((E20*100)/D20)-100 -> -99.498747
A21: HUELVA | B21: 0 | C21: 32 | D21: 31 | E21: 15 | F21: =((E21*100)/D21)-100 -> -51.612903
A22: LAS PALMAS | B22: 8815 | C22: 30850 | D22: 94526 | E22: 103245 | F22: =((E22*100)/D22)-100 -> 9.2239172
A23: MÁLAGA | B23: 0 | C23: 216 | D23: 57162 | E23: 54751 | F23: =((E23*100)/D23)-100 -> -4.217837
A24: MARÍN Y RÍA DE PONTEVEDRA | B24: 0 | C24: 0 | D24: 0 | E24: 0
A25: MELILLA | B25: 157 | C25: 1768 | D25: 11507 | E25: 1639 | F25: =((E25*100)/D25)-100 -> -85.756496
A26: MOTRIL | B26: 60 | C26: 1457 | D26: 575 | E26: 453 | F26: =((E26*100)/D26)-100 -> -21.217391
A27: PASAIA | B27: 13662 | C27: 48057 | D27: 249547 | E27: 234705 | F27: =((E27*100)/D27)-100 -> -5.947577
A28: SANTA CRUZ DE TENERIFE | B28: 6455 | C28: 28452 | D28: 64415 | E28: 74283 | F28: =((E28*100)/D28)-100 -> 15.319413
A29: SANTANDER | B29: 44379 | C29: 68371 | D29: 495200 | E29: 497303 | F29: =((E29*100)/D29)-100 -> 0.4246769
A30: SEVILLA | B30: 203 | C30: 183 | D30: 5821 | E30: 3860 | F30: =((E30*100)/D30)-100 -> -33.68837
A31: TARRAGONA | B31: 12045 | C31: 37432 | D31: 153299 | E31: 200360 | F31: =((E31*100)/D31)-100 -> 30.69883
A32: VALENCIA | B32: 61600 | C32: 125902 | D32: 773694 | E32: 793093 | F32: =((E32*100)/D32)-100 -> 2.507322
A33: VIGO | B33: 40586 | C33: 75023 | D33: 457304 | E33: 484961 | F33: =((E33*100)/D33)-100 -> 6.0478369
A34: VILAGARCÍA | B34: 0 | C34: 0 | D34: 0 | E34: 0
A35: Total | B35: =SUM(B7:B34) -> 272290 | C35: =SUM(C7:C34) -> 611191 | D35: =SUM(D7:D34) -> 3474460 | E35: =SUM(E7:E34) -> 3484212 | F35: =((E35*100)/D35)-100 -> 0.28067671
A36: Incluye cargas, descargas, tránsitos y transbordos. Sólo turismos, autobuses y camiones.
B38: =E6 -> 2017 | C38: =D6 -> 2016 | F38: =B38 -> 2017 | G38: =C38 -> 2016
A39: =A7 -> A CORUÑA | B39: =E7 -> 0 | C39: =D7 -> 0 | D39: =_xlfn.RANK.EQ(B39,$B$39:$B$66)+COUNTIF($B$39:$B$66,B39)-1 -> 28 | E39: =INDEX($A$39:$B$66,MATCH(ROW()-38,$D$39:$D$66,0),1) -> BARCELONA | F39: =LOOKUP(E39,$A$39:$A$66,$B$39:$B$66) -> 836465 | G39: =LOOKUP(E39,$A$39:$A$66,$C$39:$C$66) -> 916179
A40: =A8 -> ALICANTE | B40: =E8 -> 142 | C40: =D8 -> 1932 | D40: =_xlfn.RANK.EQ(B40,$B$39:$B$66)+COUNTIF($B$39:$B$66,B40)-1 -> 19 | E40: =INDEX($A$39:$B$66,MATCH(ROW()-38,$D$39:$D$66,0),1) -> VALENCIA | F40: =LOOKUP(E40,$A$39:$A$66,$B$39:$B$66) -> 793093 | G40: =LOOKUP(E40,$A$39:$A$66,$C$39:$C$66) -> 773694
A41: =A9 -> ALMERÍA | B41: =E9 -> 360 | C41: =D9 -> 662 | D41: =_xlfn.RANK.EQ(B41,$B$39:$B$66)+COUNTIF($B$39:$B$66,B41)-1 -> 18 | E41: =INDEX($A$39:$B$66,MATCH(ROW()-38,$D$39:$D$66,0),1) -> SANTANDER | F41: =LOOKUP(E41,$A$39:$A$66,$B$39:$B$66) -> 497303 | G41: =LOOKUP(E41,$A$39:$A$66,$C$39:$C$66) -> 495200
A42: =A10 -> AVILÉS | B42: =E10 -> 0 | C42: =D10 -> 0 | D42: =_xlfn.RANK.EQ(B42,$B$39:$B$66)+COUNTIF($B$39:$B$66,B42)-1 -> 28 | E42: =INDEX($A$39:$B$66,MATCH(ROW()-38,$D$39:$D$66,0),1) -> VIGO | F42: =LOOKUP(E42,$A$39:$A$66,$B$39:$B$66) -> 484961 | G42: =LOOKUP(E42,$A$39:$A$66,$C$39:$C$66) -> 457304
A43: =A11 -> BAHÍA DE ALGECIRAS | B43: =E11 -> 2165 | C43: =D11 -> 124 | D43: =_xlfn.RANK.EQ(B43,$B$39:$B$66)+COUNTIF($B$39:$B$66,B43)-1 -> 14 | E43: =INDEX($A$39:$B$66,MATCH(ROW()-38,$D$39:$D$66,0),1) -> PASAIA | F43: =LOOKUP(E43,$A$39:$A$66,$B$39:$B$66) -> 234705 | G43: =LOOKUP(E43,$A$39:$A$66,$C$39:$C$66) -> 249547
A44: =A12 -> BAHÍA DE CÁDIZ | B44: =E12 -> 16002 | C44: =D12 -> 14283 | D44: =_xlfn.RANK.EQ(B44,$B$39:$B$66)+COUNTIF($B$39:$B$66,B44)-1 -> 11 | E44: =INDEX($A$39:$B$66,MATCH(ROW()-38,$D$39:$D$66,0),1) -> TARRAGONA | F44: =LOOKUP(E44,$A$39:$A$66,$B$39:$B$66) -> 200360 | G44: =LOOKUP(E44,$A$39:$A$66,$C$39:$C$66) -> 153299
A45: =A13 -> BALEARES | B45: =E13 -> 172695 | C45: =D13 -> 165952 | D45: =_xlfn.RANK.EQ(B45,$B$39:$B$66)+COUNTIF($B$39:$B$66,B45)-1 -> 7 | E45: =INDEX($A$39:$B$66,MATCH(ROW()-38,$D$39:$D$66,0),1) -> BALEARES | F45: =LOOKUP(E45,$A$39:$A$66,$B$39:$B$66) -> 172695 | G45: =LOOKUP(E45,$A$39:$A$66,$C$39:$C$66) -> 165952
A46: =A14 -> BARCELONA | B46: =E14 -> 836465 | C46: =D14 -> 916179 | D46: =_xlfn.RANK.EQ(B46,$B$39:$B$66)+COUNTIF($B$39:$B$66,B46)-1 -> 1 | E46: =INDEX($A$39:$B$66,MATCH(ROW()-38,$D$39:$D$66,0),1) -> LAS PALMAS | F46: =LOOKUP(E46,$A$39:$A$66,$B$39:$B$66) -> 103245 | G46: =LOOKUP(E46,$A$39:$A$66,$C$39:$C$66) -> 94526
A47: =A15 -> BILBAO | B47: =E15 -> 7107 | C47: =D15 -> 8843 | D47: =_xlfn.RANK.EQ(B47,$B$39:$B$66)+COUNTIF($B$39:$B$66,B47)-1 -> 12 | E47: =INDEX($A$39:$B$66,MATCH(ROW()-38,$D$39:$D$66,0),1) -> SANTA CRUZ DE TENERIFE | F47: =LOOKUP(E47,$A$39:$A$66,$B$39:$B$66) -> 74283 | G47: =LOOKUP(E47,$A$39:$A$66,$C$39:$C$66) -> 64415
A48: =A16 -> CARTAGENA | B48: =E16 -> 0 | C48: =D16 -> 0 | D48: =_xlfn.RANK.EQ(B48,$B$39:$B$66)+COUNTIF($B$39:$B$66,B48)-1 -> 28 | E48: =INDEX($A$39:$B$66,MATCH(ROW()-38,$D$39:$D$66,0),1) -> MÁLAGA | F48: =LOOKUP(E48,$A$39:$A$66,$B$39:$B$66) -> 54751 | G48: =LOOKUP(E48,$A$39:$A$66,$C$39:$C$66) -> 57162
A49: =A17 -> CASTELLÓN | B49: =E17 -> 563 | C49: =D17 -> 1800 | D49: =_xlfn.RANK.EQ(B49,$B$39:$B$66)+COUNTIF($B$39:$B$66,B49)-1 -> 16 | E49: =INDEX($A$39:$B$66,MATCH(ROW()-38,$D$39:$D$66,0),1) -> BAHÍA DE CÁDIZ | F49: =LOOKUP(E49,$A$39:$A$66,$B$39:$B$66) -> 16002 | G49: =LOOKUP(E49,$A$39:$A$66,$C$39:$C$66) -> 14283
A50: =A18 -> CEUTA | B50: =E18 -> 43 | C50: =D18 -> 1205 | D50: =_xlfn.RANK.EQ(B50,$B$39:$B$66)+COUNTIF($B$39:$B$66,B50)-1 -> 20 | E50: =INDEX($A$39:$B$66,MATCH(ROW()-38,$D$39:$D$66,0),1) -> BILBAO | F50: =LOOKUP(E50,$A$39:$A$66,$B$39:$B$66) -> 7107 | G50: =LOOKUP(E50,$A$39:$A$66,$C$39:$C$66) -> 8843
... A66: =A34 -> VILAGARCÍA | B66: =E34 -> 0 | C66: =D34 -> 0 | D66: =_xlfn.RANK.EQ(B66,$B$39:$B$66)+COUNTIF($B$39:$B$66,B66)-1 -> 28 | E66: =INDEX($A$39:$B$66,MATCH(ROW()-38,$D$39:$D$66,0),1) -> A CORUÑA | F66: =LOOKUP(E66,$A$39:$A$66,$B$39:$B$66) -> 0 | G66: =LOOKUP(E66,$A$39:$A$66,$C$39:$C$66) -> 0

Sheet Buques número
F1: 13. BUQUES MERCANTES (unidades)
A5: Autoridad Portuaria | B5: ='Resumen general'!D6 -> Mes diciembre | D5: ='Resumen general'!F6 -> Acumulado desde enero | L5: ='Resumen general'!I4 -> Fecha: 20/12/2018
B6: ='Resumen general'!D7 -> 2016 | C6: ='Resumen general'!E7 -> 2017 | D6: ='Resumen general'!F7 -> 2016 | E6: ='Resumen general'!G7 -> 2017 | F6: Var. (%)
A7: A CORUÑA | B7: 112 | C7: 96 | D7: 1209 | E7: 1195 | F7: =((E7*100)/D7)-100 -> -1.1579818
A8: ALICANTE | B8: 68 | C8: 63 | D8: 923 | E8: 838 | F8: =((E8*100)/D8)-100 -> -9.2091008
A9: ALMERÍA | B9: 119 | C9: 144 | D9: 1574 | E9: 2074 | F9: =((E9*100)/D9)-100 -> 31.766201
A10: AVILÉS | B10: 85 | C10: 59 | D10: 824 | E10: 829 | F10: =((E10*100)/D10)-100 -> 0.60679612
A11: BAHÍA DE ALGECIRAS | B11: 2367 | C11: 2177 | D11: 29681 | E11: 28249 | F11: =((E11*100)/D11)-100 -> -4.8246353
A12: BAHÍA DE CÁDIZ | B12: 63 | C12: 88 | D12: 954 | E12: 1149 | F12: =((E12*100)/D12)-100 -> 20.440252
A13: BALEARES | B13: 2053 | C13: 2011 | D13: 41871 | E13: 44214 | F13: =((E13*100)/D13)-100 -> 5.5957584
A14: BARCELONA | B14: 702 | C14: 688 | D14: 8728 | E14: 8974 | F14: =((E14*100)/D14)-100 -> 2.8185151
A15: BILBAO | B15: 260 | C15: 236 | D15: 2815 | E15: 2855 | F15: =((E15*100)/D15)-100 -> 1.4209591
A16: CARTAGENA | B16: 99 | C16: 179 | D16: 1908 | E16: 2127 | F16: =((E16*100)/D16)-100 -> 11.477987
A17: CASTELLÓN | B17: 140 | C17: 130 | D17: 1655 | E17: 1705 | F17: =((E17*100)/D17)-100 -> 3.021148
A18: CEUTA | B18: 797 | C18: 941 | D18: 10444 | E18: 10772 | F18: =((E18*100)/D18)-100 -> 3.1405592
... A34: VILAGARCÍA | B34: 25 | C34: 23 | D34: 301 | E34: 323 | F34: =((E34*100)/D34)-100 -> 7.3089701
A35: Total | B35: =SUM(B7:B34) -> 10878 | C35: =SUM(C7:C34) -> 11227 | D35: =SUM(D7:D34) -> 151564 | E35: =SUM(E7:E34) -> 155631 | F35: =((E35*100)/D35)-100 -> 2.6833549
A36: Incluye tanques, graneleros, de carga general, ro-ro, solo de pasaje, cruceros, portacontenedores y otros buques mercantes.
B38: =E6 -> 2017 | C38: =D6 -> 2016 | F38: =B38 -> 2017 | G38: =C38 -> 2016
A39: =A7 -> A CORUÑA | B39: =E7 -> 1195 | C39: =D7 -> 1209 | D39: =_xlfn.RANK.EQ(B39,$B$39:$B$66)+COUNTIF($B$39:$B$66,B39)-1 -> 20 | E39: =INDEX($A$39:$B$66,MATCH(ROW()-38,$D$39:$D$66,0),1) -> BALEARES | F39: =LOOKUP(E39,$A$39:$A$66,$B$39:$B$66) -> 44214 | G39: =LOOKUP(E39,$A$39:$A$66,$C$39:$C$66) -> 41871
A40: =A8 -> ALICANTE | B40: =E8 -> 838 | C40: =D8 -> 923 | D40: =_xlfn.RANK.EQ(B40,$B$39:$B$66)+COUNTIF($B$39:$B$66,B40)-1 -> 25 | E40: =INDEX($A$39:$B$66,MATCH(ROW()-38,$D$39:$D$66,0),1) -> BAHÍA DE ALGECIRAS | F40: =LOOKUP(E40,$A$39:$A$66,$B$39:$B$66) -> 28249 | G40: =LOOKUP(E40,$A$39:$A$66,$C$39:$C$66) -> 29681
A41: =A9 -> ALMERÍA | B41: =E9 -> 2074 | C41: =D9 -> 1574 | D41: =_xlfn.RANK.EQ(B41,$B$39:$B$66)+COUNTIF($B$39:$B$66,B41)-1 -> 12 | E41: =INDEX($A$39:$B$66,MATCH(ROW()-38,$D$39:$D$66,0),1) -> SANTA CRUZ DE TENERIFE | F41: =LOOKUP(E41,$A$39:$A$66,$B$39:$B$66) -> 13359 | G41: =LOOKUP(E41,$A$39:$A$66,$C$39:$C$66) -> 12518
A42: =A10 -> AVILÉS | B42: =E10 -> 829 | C42: =D10 -> 824 | D42: =_xlfn.RANK.EQ(B42,$B$39:$B$66)+COUNTIF($B$39:$B$66,B42)-1 -> 26 | E42: =INDEX($A$39:$B$66,MATCH(ROW()-38,$D$39:$D$66,0),1) -> LAS PALMAS | F42: =LOOKUP(E42,$A$39:$A$66,$B$39:$B$66) -> 11446 | G42: =LOOKUP(E42,$A$39:$A$66,$C$39:$C$66) -> 11554
A43: =A11 -> BAHÍA DE ALGECIRAS | B43: =E11 -> 28249 | C43: =D11 -> 29681 | D43: =_xlfn.RANK.EQ(B43,$B$39:$B$66)+COUNTIF($B$39:$B$66,B43)-1 -> 2 | E43: =INDEX($A$39:$B$66,MATCH(ROW()-38,$D$39:$D$66,0),1) -> CEUTA | F43: =LOOKUP(E43,$A$39:$A$66,$B$39:$B$66) -> 10772 | G43: =LOOKUP(E43,$A$39:$A$66,$C$39:$C$66) -> 10444
A44: =A12 -> BAHÍA DE CÁDIZ | B44: =E12 -> 1149 | C44: =D12 -> 954 | D44: =_xlfn.RANK.EQ(B44,$B$39:$B$66)+COUNTIF($B$39:$B$66,B44)-1 -> 21 | E44: =INDEX($A$39:$B$66,MATCH(ROW()-38,$D$39:$D$66,0),1) -> BARCELONA | F44: =LOOKUP(E44,$A$39:$A$66,$B$39:$B$66) -> 8974 | G44: =LOOKUP(E44,$A$39:$A$66,$C$39:$C$66) -> 8728
A45: =A13 -> BALEARES | B45: =E13 -> 44214 | C45: =D13 -> 41871 | D45: =_xlfn.RANK.EQ(B45,$B$39:$B$66)+COUNTIF($B$39:$B$66,B45)-1 -> 1 | E45: =INDEX($A$39:$B$66,MATCH(ROW()-38,$D$39:$D$66,0),1) -> VALENCIA | F45: =LOOKUP(E45,$A$39:$A$66,$B$39:$B$66) -> 7715 | G45: =LOOKUP(E45,$A$39:$A$66,$C$39:$C$66) -> 7702
A46: =A14 -> BARCELONA | B46: =E14 -> 8974 | C46: =D14 -> 8728 | D46: =_xlfn.RANK.EQ(B46,$B$39:$B$66)+COUNTIF($B$39:$B$66,B46)-1 -> 6 | E46: =INDEX($A$39:$B$66,MATCH(ROW()-38,$D$39:$D$66,0),1) -> BILBAO | F46: =LOOKUP(E46,$A$39:$A$66,$B$39:$B$66) -> 2855 | G46: =LOOKUP(E46,$A$39:$A$66,$C$39:$C$66) -> 2815
A47: =A15 -> BILBAO | B47: =E15 -> 2855 | C47: =D15 -> 2815 | D47: =_xlfn.RANK.EQ(B47,$B$39:$B$66)+COUNTIF($B$39:$B$66,B47)-1 -> 8 | E47: =INDEX($A$39:$B$66,MATCH(ROW()-38,$D$39:$D$66,0),1) -> TARRAGONA | F47: =LOOKUP(E47,$A$39:$A$66,$B$39:$B$66) -> 2655 | G47: =LOOKUP(E47,$A$39:$A$66,$C$39:$C$66) -> 2643
A48: =A16 -> CARTAGENA | B48: =E16 -> 2127 | C48: =D16 -> 1908 | D48: =_xlfn.RANK.EQ(B48,$B$39:$B$66)+COUNTIF($B$39:$B$66,B48)-1 -> 11 | E48: =INDEX($A$39:$B$66,MATCH(ROW()-38,$D$39:$D$66,0),1) -> HUELVA | F48: =LOOKUP(E48,$A$39:$A$66,$B$39:$B$66) -> 2291 | G48: =LOOKUP(E48,$A$39:$A$66,$C$39:$C$66) -> 2191
A49: =A17 -> CASTELLÓN | B49: =E17 -> 1705 | C49: =D17 -> 1655 | D49: =_xlfn.RANK.EQ(B49,$B$39:$B$66)+COUNTIF($B$39:$B$66,B49)-1 -> 15 | E49: =INDEX($A$39:$B$66,MATCH(ROW()-38,$D$39:$D$66,0),1) -> CARTAGENA | F49: =LOOKUP(E49,$A$39:$A$66,$B$39:$B$66) -> 2127 | G49: =LOOKUP(E49,$A$39:$A$66,$C$39:$C$66) -> 1908
A50: =A18 -> CEUTA | B50: =E18 -> 10772 | C50: =D18 -> 10444 | D50: =_xlfn.RANK.EQ(B50,$B$39:$B$66)+COUNTIF($B$39:$B$66,B50)-1 -> 5 | E50: =INDEX($A$39:$B$66,MATCH(ROW()-38,$D$39:$D$66,0),1) -> ALMERÍA | F50: =LOOKUP(E50,$A$39:$A$66,$B$39:$B$66) -> 2074 | G50: =LOOKUP(E50,$A$39:$A$66,$C$39:$C$66) -> 1574
... A66: =A34 -> VILAGARCÍA | B66: =E34 -> 323 | C66: =D34 -> 301 | D66: =_xlfn.RANK.EQ(B66,$B$39:$B$66)+COUNTIF($B$39:$B$66,B66)-1 -> 28 | E66: =INDEX($A$39:$B$66,MATCH(ROW()-38,$D$39:$D$66,0),1) -> VILAGARCÍA | F66: =LOOKUP(E66,$A$39:$A$66,$B$39:$B$66) -> 323 | G66: =LOOKUP(E66,$A$39:$A$66,$C$39:$C$66) -> 301

Sheet Buques GT
F1: 13.1. BUQUES MERCANTES (unidades de arqueo bruto)
A5: Autoridad Portuaria | B5: ='Resumen general'!D6 -> Mes diciembre | D5: ='Resumen general'!F6 -> Acumulado desde enero | L5: ='Resumen general'!I4 -> Fecha: 20/12/2018
B6: ='Resumen general'!D7 -> 2016 | C6: ='Resumen general'!E7 -> 2017 | D6: ='Resumen general'!F7 -> 2016 | E6: ='Resumen general'!G7 -> 2017 | F6: Var. (%)
A7: A CORUÑA | B7: 1584554 | C7: 1714599 | D7: 18889724 | E7: 21753225 | F7: =((E7*100)/D7)-100 -> 15.159041
A8: ALICANTE | B8: 771095 | C8: 857739 | D8: 12817174 | E8: 12163393 | F8: =((E8*100)/D8)-100 -> -5.1008202
A9: ALMERÍA | B9: 2221937 | C9: 2506792 | D9: 27621728 | E9: 33671744 | F9: =((E9*100)/D9)-100 -> 21.903105
A10: AVILÉS | B10: 602140 | C10: 457361 | D10: 6025883 | E10: 5912947 | F10: =((E10*100)/D10)-100 -> -1.8741818
A11: BAHÍA DE ALGECIRAS | B11: 34970681 | C11: 32134437 | D11: 452407013 | E11: 406252774 | F11: =((E11*100)/D11)-100 -> -10.201928
A12: BAHÍA DE CÁDIZ | B12: 1435381 | C12: 1823963 | D12: 25450980 | E12: 26686705 | F12: =((E12*100)/D12)-100 -> 4.855314
A13: BALEARES | B13: 12534226 | C13: 13003940 | D13: 215107321 | E13: 222818378 | F13: =((E13*100)/D13)-100 -> 3.5847487
A14: BARCELONA | B14: 23147056 | C14: 24114789 | D14: 310338799 | E14: 329412544 | F14: =((E14*100)/D14)-100 -> 6.1461039
A15: BILBAO | B15: 4215939 | C15: 3845733 | D15: 44810733 | E15: 46789495 | F15: =((E15*100)/D15)-100 -> 4.4158215
A16: CARTAGENA | B16: 2714790 | C16: 2809479 | D16: 37886995 | E16: 42134157 | F16: =((E16*100)/D16)-100 -> 11.210079
A17: CASTELLÓN | B17: 2039679 | C17: 1869833 | D17: 22898695 | E17: 24777843 | F17: =((E17*100)/D17)-100 -> 8.2063541
A18: CEUTA | B18: 4462547 | C18: 6084267 | D18: 59614987 | E18: 64123650 | F18: =((E18*100)/D18)-100 -> 7.562969
... A34: VILAGARCÍA | B34: 183225 | C34: 212237 | D34: 1720024 | E34: 2310409 | F34: =((E34*100)/D34)-100 -> 34.32423
A35: Total | B35: =SUM(B7:B34) -> 174282552 | C35: =SUM(C7:C34) -> 179365124 | D35: =SUM(D7:D34) -> 2184589058 | E35: =SUM(E7:E34) -> 2218905453 | F35: =((E35*100)/D35)-100 -> 1.5708398
A36: Unidades de arqueo bruto en G.T.
B38: =E6 -> 2017 | C38: =D6 -> 2016 | F38: =B38 -> 2017 | G38: =C38 -> 2016
A39: =A7 -> A CORUÑA | B39: =E7 -> 21753225 | C39: =D7 -> 18889724 | D39: =_xlfn.RANK.EQ(B39,$B$39:$B$66)+COUNTIF($B$39:$B$66,B39)-1 -> 19 | E39: =INDEX($A$39:$B$66,MATCH(ROW()-38,$D$39:$D$66,0),1) -> BAHÍA DE ALGECIRAS | F39: =LOOKUP(E39,$A$39:$A$66,$B$39:$B$66) -> 406252774 | G39: =LOOKUP(E39,$A$39:$A$66,$C$39:$C$66) -> 452407013
A40: =A8 -> ALICANTE | B40: =E8 -> 12163393 | C40: =D8 -> 12817174 | D40: =_xlfn.RANK.EQ(B40,$B$39:$B$66)+COUNTIF($B$39:$B$66,B40)-1 -> 23 | E40: =INDEX($A$39:$B$66,MATCH(ROW()-38,$D$39:$D$66,0),1) -> BARCELONA | F40: =LOOKUP(E40,$A$39:$A$66,$B$39:$B$66) -> 329412544 | G40: =LOOKUP(E40,$A$39:$A$66,$C$39:$C$66) -> 310338799
A41: =A9 -> ALMERÍA | B41: =E9 -> 33671744 | C41: =D9 -> 27621728 | D41: =_xlfn.RANK.EQ(B41,$B$39:$B$66)+COUNTIF($B$39:$B$66,B41)-1 -> 15 | E41: =INDEX($A$39:$B$66,MATCH(ROW()-38,$D$39:$D$66,0),1) -> VALENCIA | F41: =LOOKUP(E41,$A$39:$A$66,$B$39:$B$66) -> 256175377 | G41: =LOOKUP(E41,$A$39:$A$66,$C$39:$C$66) -> 255887783
A42: =A10 -> AVILÉS | B42: =E10 -> 5912947 | C42: =D10 -> 6025883 | D42: =_xlfn.RANK.EQ(B42,$B$39:$B$66)+COUNTIF($B$39:$B$66,B42)-1 -> 25 | E42: =INDEX($A$39:$B$66,MATCH(ROW()-38,$D$39:$D$66,0),1) -> LAS PALMAS | F42: =LOOKUP(E42,$A$39:$A$66,$B$39:$B$66) -> 241050065 | G42: =LOOKUP(E42,$A$39:$A$66,$C$39:$C$66) -> 234372337
A43: =A11 -> BAHÍA DE ALGECIRAS | B43: =E11 -> 406252774 | C43: =D11 -> 452407013 | D43: =_xlfn.RANK.EQ(B43,$B$39:$B$66)+COUNTIF($B$39:$B$66,B43)-1 -> 1 | E43: =INDEX($A$39:$B$66,MATCH(ROW()-38,$D$39:$D$66,0),1) -> BALEARES | F43: =LOOKUP(E43,$A$39:$A$66,$B$39:$B$66) -> 222818378 | G43: =LOOKUP(E43,$A$39:$A$66,$C$39:$C$66) -> 215107321
A44: =A12 -> BAHÍA DE CÁDIZ | B44: =E12 -> 26686705 | C44: =D12 -> 25450980 | D44: =_xlfn.RANK.EQ(B44,$B$39:$B$66)+COUNTIF($B$39:$B$66,B44)-1 -> 17 | E44: =INDEX($A$39:$B$66,MATCH(ROW()-38,$D$39:$D$66,0),1) -> SANTA CRUZ DE TENERIFE | F44: =LOOKUP(E44,$A$39:$A$66,$B$39:$B$66) -> 185585177 | G44: =LOOKUP(E44,$A$39:$A$66,$C$39:$C$66) -> 174830792
A45: =A13 -> BALEARES | B45: =E13 -> 222818378 | C45: =D13 -> 215107321 | D45: =_xlfn.RANK.EQ(B45,$B$39:$B$66)+COUNTIF($B$39:$B$66,B45)-1 -> 5 | E45: =INDEX($A$39:$B$66,MATCH(ROW()-38,$D$39:$D$66,0),1) -> CEUTA | F45: =LOOKUP(E45,$A$39:$A$66,$B$39:$B$66) -> 64123650 | G45: =LOOKUP(E45,$A$39:$A$66,$C$39:$C$66) -> 59614987
A46: =A14 -> BARCELONA | B46: =E14 -> 329412544 | C46: =D14 -> 310338799 | D46: =_xlfn.RANK.EQ(B46,$B$39:$B$66)+COUNTIF($B$39:$B$66,B46)-1 -> 2 | E46: =INDEX($A$39:$B$66,MATCH(ROW()-38,$D$39:$D$66,0),1) -> TARRAGONA | F46: =LOOKUP(E46,$A$39:$A$66,$B$39:$B$66) -> 48043269 | G46: =LOOKUP(E46,$A$39:$A$66,$C$39:$C$66) -> 46869069
A47: =A15 -> BILBAO | B47: =E15 -> 46789495 | C47: =D15 -> 44810733 | D47: =_xlfn.RANK.EQ(B47,$B$39:$B$66)+COUNTIF($B$39:$B$66,B47)-1 -> 9 | E47: =INDEX($A$39:$B$66,MATCH(ROW()-38,$D$39:$D$66,0),1) -> BILBAO | F47: =LOOKUP(E47,$A$39:$A$66,$B$39:$B$66) -> 46789495 | G47: =LOOKUP(E47,$A$39:$A$66,$C$39:$C$66) -> 44810733
A48: =A16 -> CARTAGENA | B48: =E16 -> 42134157 | C48: =D16 -> 37886995 | D48: =_xlfn.RANK.EQ(B48,$B$39:$B$66)+COUNTIF($B$39:$B$66,B48)-1 -> 10 | E48: =INDEX($A$39:$B$66,MATCH(ROW()-38,$D$39:$D$66,0),1) -> CARTAGENA | F48: =LOOKUP(E48,$A$39:$A$66,$B$39:$B$66) -> 42134157 | G48: =LOOKUP(E48,$A$39:$A$66,$C$39:$C$66) -> 37886995
A49: =A17 -> CASTELLÓN | B49: =E17 -> 24777843 | C49: =D17 -> 22898695 | D49: =_xlfn.RANK.EQ(B49,$B$39:$B$66)+COUNTIF($B$39:$B$66,B49)-1 -> 18 | E49: =INDEX($A$39:$B$66,MATCH(ROW()-38,$D$39:$D$66,0),1) -> MÁLAGA | F49: =LOOKUP(E49,$A$39:$A$66,$B$39:$B$66) -> 38049983 | G49: =LOOKUP(E49,$A$39:$A$66,$C$39:$C$66) -> 36469226
A50: =A18 -> CEUTA | B50: =E18 -> 64123650 | C50: =D18 -> 59614987 | D50: =_xlfn.RANK.EQ(B50,$B$39:$B$66)+COUNTIF($B$39:$B$66,B50)-1 -> 7 | E50: =INDEX($A$39:$B$66,MATCH(ROW()-38,$D$39:$D$66,0),1) -> MELILLA | F50: =LOOKUP(E50,$A$39:$A$66,$B$39:$B$66) -> 37819321 | G50: =LOOKUP(E50,$A$39:$A$66,$C$39:$C$66) -> 34058927
... A66: =A34 -> VILAGARCÍA | B66: =E34 -> 2310409 | C66: =D34 -> 1720024 | D66: =_xlfn.RANK.EQ(B66,$B$39:$B$66)+COUNTIF($B$39:$B$66,B66)-1 -> 28 | E66: =INDEX($A$39:$B$66,MATCH(ROW()-38,$D$39:$D$66,0),1) -> VILAGARCÍA | F66: =LOOKUP(E66,$A$39:$A$66,$B$39:$B$66) -> 2310409 | G66: =LOOKUP(E66,$A$39:$A$66,$C$39:$C$66) -> 1720024

Sheet Cruceros
F1: 13.2. CRUCEROS (unidades)
A5: Autoridad Portuaria | B5: ='Resumen general'!D6 -> Mes diciembre | D5: ='Resumen general'!F6 -> Acumulado desde enero | L5: ='Resumen general'!I4 -> Fecha: 20/12/2018
B6: ='Resumen general'!D7 -> 2016 | C6: ='Resumen general'!E7 -> 2017 | D6: ='Resumen general'!F7 -> 2016 | E6: ='Resumen general'!G7 -> 2017 | F6: Var. (%)
A7: A CORUÑA | B7: 5 | C7: 8 | D7: 94 | E7: 124 | F7: =((E7*100)/D7)-100 -> 31.914894
A8: ALICANTE | B8: 2 | C8: 4 | D8: 54 | E8: 56 | F8: =((E8*100)/D8)-100 -> 3.7037037
A9: ALMERÍA | B9: 0 | C9: 1 | D9: 39 | E9: 38 | F9: =((E9*100)/D9)-100 -> -2.5641026
A10: AVILÉS | B10: 0 | C10: 1 | D10: 4 | E10: 4 | F10: =((E10*100)/D10)-100 -> 0
A11: BAHÍA DE ALGECIRAS | B11: 1 | C11: 0 | D11: 2 | E11: 2 | F11: =((E11*100)/D11)-100 -> 0
A12: BAHÍA DE CÁDIZ | B12: 12 | C12: 18 | D12: 284 | E12: 291 | F12: =((E12*100)/D12)-100 -> 2.4647887
A13: BALEARES | B13: 10 | C13: 14 | D13: 741 | E13: 825 | F13: =((E13*100)/D13)-100 -> 11.336032
A14: BARCELONA | B14: 30 | C14: 32 | D14: 758 | E14: 775 | F14: =((E14*100)/D14)-100 -> 2.2427441
A15: BILBAO | B15: 0 | C15: 0 | D15: 51 | E15: 61 | F15: =((E15*100)/D15)-100 -> 19.607843
A16: CARTAGENA | B16: 2 | C16: 3 | D16: 121 | E16: 152 | F16: =((E16*100)/D16)-100 -> 25.619835
A17: CASTELLÓN | B17: 0 | C17: 0 | D17: 2 | E17: 1 | F17: =((E17*100)/D17)-100 -> -50
A18: CEUTA | B18: 2 | C18: 1 | D18: 17 | E18: 10 | F18: =((E18*100)/D18)-100 -> -41.176471
... A23: MÁLAGA | B23: 9 | C23: 10 | D23: 250 | E23: 299 | F23: =((E23*100)/D23)-100 -> 19.6
A24: MARÍN Y RÍA DE PONTEVEDRA | B24: 0 | C24: 0 | D24: 0 | E24: 1
A25: MELILLA | B25: 0 | C25: 0 | D25: 1 | E25: 0 | F25: =((E25*100)/D25)-100 -> -100
A26: MOTRIL | B26: 0 | C26: 0 | D26: 21 | E26: 31 | F26: =((E26*100)/D26)-100 -> 47.619048
A27: PASAIA | B27: 3 | C27: 0 | D27: 3 | E27: 9 | F27: =((E27*100)/D27)-100 -> 200
A28: SANTA CRUZ DE TENERIFE | B28: 92 | C28: 110 | D28: 526 | E28: 539 | F28: =((E28*100)/D28)-100 -> 2.4714829
A29: SANTANDER | B29: 0 | C29: 0 | D29: 6 | E29: 11 | F29: =((E29*100)/D29)-100 -> 83.333333
A30: SEVILLA | B30: 4 | C30: 3 | D30: 74 | E30: 80 | F30: =((E30*100)/D30)-100 -> 8.1081081
A31: TARRAGONA | B31: 1 | C31: 0 | D31: 22 | E31: 36 | F31: =((E31*100)/D31)-100 -> 63.636364
A32: VALENCIA | B32: 5 | C32: 7 | D32: 181 | E32: 203 | F32: =((E32*100)/D32)-100 -> 12.154696
A33: VIGO | B33: 4 | C33: 2 | D33: 83 | E33: 73 | F33: =((E33*100)/D33)-100 -> -12.048193
A34: VILAGARCÍA | B34: 0 | C34: 0 | D34: 3 | E34: 6 | F34: =((E34*100)/D34)-100 -> 100
A35: Total | B35: =SUM(B7:B34) -> 283 | C35: =SUM(C7:C34) -> 331 | D35: =SUM(D7:D34) -> 3920 | E35: =SUM(E7:E34) -> 4238 | F35: =((E35*100)/D35)-100 -> 8.1122449
B38: =E6 -> 2017 | C38: =D6 -> 2016 | F38: =B38 -> 2017 | G38: =C38 -> 2016
A39: =A7 -> A CORUÑA | B39: =E7 -> 124 | C39: =D7 -> 94 | D39: =_xlfn.RANK.EQ(B39,$B$39:$B$66)+COUNTIF($B$39:$B$66,B39)-1 -> 9 | E39: =INDEX($A$39:$B$66,MATCH(ROW()-38,$D$39:$D$66,0),1) -> BALEARES | F39: =LOOKUP(E39,$A$39:$A$66,$B$39:$B$66) -> 825 | G39: =LOOKUP(E39,$A$39:$A$66,$C$39:$C$66) -> 741
A40: =A8 -> ALICANTE | B40: =E8 -> 56 | C40: =D8 -> 54 | D40: =_xlfn.RANK.EQ(B40,$B$39:$B$66)+COUNTIF($B$39:$B$66,B40)-1 -> 13 | E40: =INDEX($A$39:$B$66,MATCH(ROW()-38,$D$39:$D$66,0),1) -> BARCELONA | F40: =LOOKUP(E40,$A$39:$A$66,$B$39:$B$66) -> 775 | G40: =LOOKUP(E40,$A$39:$A$66,$C$39:$C$66) -> 758
A41: =A9 -> ALMERÍA | B41: =E9 -> 38 | C41: =D9 -> 39 | D41: =_xlfn.RANK.EQ(B41,$B$39:$B$66)+COUNTIF($B$39:$B$66,B41)-1 -> 14 | E41: =INDEX($A$39:$B$66,MATCH(ROW()-38,$D$39:$D$66,0),1) -> LAS PALMAS | F41: =LOOKUP(E41,$A$39:$A$66,$B$39:$B$66) -> 565 | G41: =LOOKUP(E41,$A$39:$A$66,$C$39:$C$66) -> 524
A42: =A10 -> AVILÉS | B42: =E10 -> 4 | C42: =D10 -> 4 | D42: =_xlfn.RANK.EQ(B42,$B$39:$B$66)+COUNTIF($B$39:$B$66,B42)-1 -> 24 | E42: =INDEX($A$39:$B$66,MATCH(ROW()-38,$D$39:$D$66,0),1) -> SANTA CRUZ DE TENERIFE | F42: =LOOKUP(E42,$A$39:$A$66,$B$39:$B$66) -> 539 | G42: =LOOKUP(E42,$A$39:$A$66,$C$39:$C$66) -> 526
A43: =A11 -> BAHÍA DE ALGECIRAS | B43: =E11 -> 2 | C43: =D11 -> 2 | D43: =_xlfn.RANK.EQ(B43,$B$39:$B$66)+COUNTIF($B$39:$B$66,B43)-1 -> 25 | E43: =INDEX($A$39:$B$66,MATCH(ROW()-38,$D$39:$D$66,0),1) -> MÁLAGA | F43: =LOOKUP(E43,$A$39:$A$66,$B$39:$B$66) -> 299 | G43: =LOOKUP(E43,$A$39:$A$66,$C$39:$C$66) -> 250
A44: =A12 -> BAHÍA DE CÁDIZ | B44: =E12 -> 291 | C44: =D12 -> 284 | D44: =_xlfn.RANK.EQ(B44,$B$39:$B$66)+COUNTIF($B$39:$B$66,B44)-1 -> 6 | E44: =INDEX($A$39:$B$66,MATCH(ROW()-38,$D$39:$D$66,0),1) -> BAHÍA DE CÁDIZ | F44: =LOOKUP(E44,$A$39:$A$66,$B$39:$B$66) -> 291 | G44: =LOOKUP(E44,$A$39:$A$66,$C$39:$C$66) -> 284
A45: =A13 -> BALEARES | B45: =E13 -> 825 | C45: =D13 -> 741 | D45: =_xlfn.RANK.EQ(B45,$B$39:$B$66)+COUNTIF($B$39:$B$66,B45)-1 -> 1 | E45: =INDEX($A$39:$B$66,MATCH(ROW()-38,$D$39:$D$66,0),1) -> VALENCIA | F45: =LOOKUP(E45,$A$39:$A$66,$B$39:$B$66) -> 203 | G45: =LOOKUP(E45,$A$39:$A$66,$C$39:$C$66) -> 181
A46: =A14 -> BARCELONA | B46: =E14 -> 775 | C46: =D14 -> 758 | D46: =_xlfn.RANK.EQ(B46,$B$39:$B$66)+COUNTIF($B$39:$B$66,B46)-1 -> 2 | E46: =INDEX($A$39:$B$66,MATCH(ROW()-38,$D$39:$D$66,0),1) -> CARTAGENA | F46: =LOOKUP(E46,$A$39:$A$66,$B$39:$B$66) -> 152 | G46: =LOOKUP(E46,$A$39:$A$66,$C$39:$C$66) -> 121
A47: =A15 -> BILBAO | B47: =E15 -> 61 | C47: =D15 -> 51 | D47: =_xlfn.RANK.EQ(B47,$B$39:$B$66)+COUNTIF($B$39:$B$66,B47)-1 -> 12 | E47: =INDEX($A$39:$B$66,MATCH(ROW()-38,$D$39:$D$66,0),1) -> A CORUÑA | F47: =LOOKUP(E47,$A$39:$A$66,$B$39:$B$66) -> 124 | G47: =LOOKUP(E47,$A$39:$A$66,$C$39:$C$66) -> 94
A48: =A16 -> CARTAGENA | B48: =E16 -> 152 | C48: =D16 -> 121 | D48: =_xlfn.RANK.EQ(B48,$B$39:$B$66)+COUNTIF($B$39:$B$66,B48)-1 -> 8 | E48: VIGO | F48: =LOOKUP(E48,$A$39:$A$66,$B$39:$B$66) -> 73 | G48: =LOOKUP(E48,$A$39:$A$66,$C$39:$C$66) -> 83
A49: =A17 -> CASTELLÓN | B49: =E17 -> 1 | C49: =D17 -> 2 | D49: =_xlfn.RANK.EQ(B49,$B$39:$B$66)+COUNTIF($B$39:$B$66,B49)-1 -> 27 | E49: =INDEX($A$39:$B$66,MATCH(ROW()-38,$D$39:$D$66,0),1) -> VIGO | F49: =LOOKUP(E49,$A$39:$A$66,$B$39:$B$66) -> 73 | G49: =LOOKUP(E49,$A$39:$A$66,$C$39:$C$66) -> 83
A50: =A18 -> CEUTA | B50: =E18 -> 10 | C50: =D18 -> 17 | D50: =_xlfn.RANK.EQ(B50,$B$39:$B$66)+COUNTIF($B$39:$B$66,B50)-1 -> 20 | E50: =INDEX($A$39:$B$66,MATCH(ROW()-38,$D$39:$D$66,0),1) -> BILBAO | F50: =LOOKUP(E50,$A$39:$A$66,$B$39:$B$66) -> 61 | G50: =LOOKUP(E50,$A$39:$A$66,$C$39:$C$66) -> 51
A51: =A19 -> FERROL-SAN CIBRAO | B51: =E19 -> 23 | C51: =D19 -> 24 | D51: =_xlfn.RANK.EQ(B51,$B$39:$B$66)+COUNTIF($B$39:$B$66,B51)-1 -> 17 | E51: =INDEX($A$39:$B$66,MATCH(ROW()-38,$D$39:$D$66,0),1) -> ALICANTE | F51: =LOOKUP(E51,$A$39:$A$66,$B$39:$B$66) -> 56 | G51: =LOOKUP(E51,$A$39:$A$66,$C$39:$C$66) -> 54
A52: =A20 -> GIJÓN | B52: =E20 -> 17 | C52: =D20 -> 18 | D52: =_xlfn.RANK.EQ(B52,$B$39:$B$66)+COUNTIF($B$39:$B$66,B52)-1 -> 18 | E52: =INDEX($A$39:$B$66,MATCH(ROW()-38,$D$39:$D$66,0),1) -> ALMERÍA | F52: =LOOKUP(E52,$A$39:$A$66,$B$39:$B$66) -> 38 | G52: =LOOKUP(E52,$A$39:$A$66,$C$39:$C$66) -> 39
A53: =A21 -> HUELVA | B53: =E21 -> 6 | C53: =D21 -> 17 | D53: =_xlfn.RANK.EQ(B53,$B$39:$B$66)+COUNTIF($B$39:$B$66,B53)-1 -> 23 | E53: =INDEX($A$39:$B$66,MATCH(ROW()-38,$D$39:$D$66,0),1) -> TARRAGONA | F53: =LOOKUP(E53,$A$39:$A$66,$B$39:$B$66) -> 36 | G53: =LOOKUP(E53,$A$39:$A$66,$C$39:$C$66) -> 22
A54: =A22 -> LAS PALMAS | B54: =E22 -> 565 | C54: =D22 -> 524 | D54: =_xlfn.RANK.EQ(B54,$B$39:$B$66)+COUNTIF($B$39:$B$66,B54)-1 -> 3 | E54: =INDEX($A$39:$B$66,MATCH(ROW()-38,$D$39:$D$66,0),1) -> MOTRIL | F54: =LOOKUP(E54,$A$39:$A$66,$B$39:$B$66) -> 31 | G54: =LOOKUP(E54,$A$39:$A$66,$C$39:$C$66) -> 21
A55: =A23 -> MÁLAGA | B55: =E23 -> 299 | C55: =D23 -> 250 | D55: =_xlfn.RANK.EQ(B55,$B$39:$B$66)+COUNTIF($B$39:$B$66,B55)-1 -> 5 | E55: =INDEX($A$39:$B$66,MATCH(ROW()-38,$D$39:$D$66,0),1) -> FERROL-SAN CIBRAO | F55: =LOOKUP(E55,$A$39:$A$66,$B$39:$B$66) -> 23 | G55: =LOOKUP(E55,$A$39:$A$66,$C$39:$C$66) -> 24
A56: =A24 -> MARÍN Y RÍA DE PONTEVEDRA | B56: =E24 -> 1 | C56: =D24 -> 0 | D56: =_xlfn.RANK.EQ(B56,$B$39:$B$66)+COUNTIF($B$39:$B$66,B56)-1 -> 27 | E56: =INDEX($A$39:$B$66,MATCH(ROW()-38,$D$39:$D$66,0),1) -> GIJÓN | F56: =LOOKUP(E56,$A$39:$A$66,$B$39:$B$66) -> 17 | G56: =LOOKUP(E56,$A$39:$A$66,$C$39:$C$66) -> 18
A57: =A25 -> MELILLA | B57: =E25 -> 0 | C57: =D25 -> 1 | D57: =_xlfn.RANK.EQ(B57,$B$39:$B$66)+COUNTIF($B$39:$B$66,B57)-1 -> 28 | E57: =INDEX($A$39:$B$66,MATCH(ROW()-38,$D$39:$D$66,0),1) -> SANTANDER | F57: =LOOKUP(E57,$A$39:$A$66,$B$39:$B$66) -> 11 | G57: =LOOKUP(E57,$A$39:$A$66,$C$39:$C$66) -> 6
A58: =A26 -> MOTRIL | B58: =E26 -> 31 | C58: =D26 -> 21 | D58: =_xlfn.RANK.EQ(B58,$B$39:$B$66)+COUNTIF($B$39:$B$66,B58)-1 -> 16 | E58: =INDEX($A$39:$B$66,MATCH(ROW()-38,$D$39:$D$66,0),1) -> CEUTA | F58: =LOOKUP(E58,$A$39:$A$66,$B$39:$B$66) -> 10 | G58: =LOOKUP(E58,$A$39:$A$66,$C$39:$C$66) -> 17
A59: =A27 -> PASAIA | B59: =E27 -> 9 | C59: =D27 -> 3 | D59: =_xlfn.RANK.EQ(B59,$B$39:$B$66)+COUNTIF($B$39:$B$66,B59)-1 -> 21 | E59: =INDEX($A$39:$B$66,MATCH(ROW()-38,$D$39:$D$66,0),1) -> PASAIA | F59: =LOOKUP(E59,$A$39:$A$66,$B$39:$B$66) -> 9 | G59: =LOOKUP(E59,$A$39:$A$66,$C$39:$C$66) -> 3
