Workbook
Name CABECERA: Cruceros!$A$5:$F$6
Name CONCEPTO: 'Resumen general'!$A$6
Name LblRes00_Acum: 'Resumen general'!$F$6:$G$6
Name LblRes00_Mes: 'Resumen general'!$D$6:$E$6
Name LblRes00_Var: 'Resumen general'!$H$6:$I$6
Name LblRes01_1_Acum: 'Total presentación'!$D$5:$F$5
Name LblRes01_1_Mes: 'Total presentación'!$B$5:$C$5
Name LblRes01_Acum: 'Automóviles régimen mercancía'!$D$5:$F$5
Name LblRes01_Acum: 'Ro-Ro remolques'!$D$5:$F$5
Name LblRes01_Acum: 'Total tráfico'!$D$5:$F$5
Name LblRes01_Mes: 'Automóviles régimen mercancía'!$B$5:$C$5
Name LblRes01_Mes: 'Ro-Ro remolques'!$B$5:$C$5
Name LblRes01_Mes: 'Total tráfico'!$B$5:$C$5
Name LblRes02_Acum: Líquidos!$D$5:$F$5
Name LblRes02_Mes: Líquidos!$B$5:$C$5
Name LblRes03_Acum: Sólidos!$D$5:$F$5
Name LblRes03_Mes: Sólidos!$B$5:$C$5
Name LblRes04_Acum: 'Mercancía general'!$D$5:$F$5
Name LblRes04_Mes: 'Mercancía general'!$B$5:$C$5
Name LblRes05_Acum: Pesca!$D$5:$F$5
Name LblRes05_Mes: Pesca!$B$5:$C$5
Name LblRes06_Acum: Avituallamiento!$D$5:$F$5
Name LblRes06_Mes: Avituallamiento!$B$5:$C$5
Name LblRes07_1_Acum: 'Mercan. contene. tránsito'!$D$5:$F$5
Name LblRes07_1_Mes: 'Mercan. contene. tránsito'!$B$5:$C$5
Name LblRes07_Acum: 'Mercancías tránsito'!$D$5:$F$5
Name LblRes07_Mes: 'Mercancías tránsito'!$B$5:$C$5
Name LblRes08_Acum: 'Mercancías contenedores'!$D$5:$F$5
Name LblRes08_Mes: 'Mercancías contenedores'!$B$5:$C$5
Name LblRes09_Acum: 'Ro-Ro'!$D$5:$F$5
Name LblRes09_Mes: 'Ro-Ro'!$B$5:$C$5
Name LblRes10_1_Acum: 'TEUS tránsito'!$D$5:$F$5
Name LblRes10_1_Mes: 'TEUS tránsito'!$B$5:$C$5
Name LblRes10_2_Acum: 'TEUS nacional'!$D$5:$F$5
Name LblRes10_2_Mes: 'TEUS nacional'!$B$5:$C$5
Name LblRes10_3_Acum: 'TEUS exterior'!$D$5:$F$5
Name LblRes10_3_Mes: 'TEUS exterior'!$B$5:$C$5
Name LblRes10_4_Acum: 'TEUS nacional y exterior'!$D$5:$F$5
Name LblRes10_4_Mes: 'TEUS nacional y exterior'!$B$5:$C$5
Name LblRes10_Acum: TEUS!$D$5:$F$5
Name LblRes10_Mes: TEUS!$B$5:$C$5
Name LblRes11_1_Acum: 'Pasajeros crucero'!$D$5:$F$5
Name LblRes11_1_Mes: 'Pasajeros crucero'!$B$5:$C$5
Name LblRes11_2_Acum: 'Automóviles régimen pasaje'!$D$5:$F$5
Name LblRes11_2_Mes: 'Automóviles régimen pasaje'!$B$5:$C$5
Name LblRes11_Acum: 'Pasajeros total'!$D$5:$F$5
Name LblRes11_Mes: 'Pasajeros total'!$B$5:$C$5
Name LblRes12_1_Acum: 'Buques número'!$D$5:$F$5
Name LblRes12_1_Mes: 'Buques número'!$B$5:$C$5
Name LblRes12_2_Acum: 'Buques GT'!$D$5:$F$5
Name LblRes12_2_Mes: 'Buques GT'!$B$5:$C$5
Name LblRes12_3_Acum: Cruceros!$D$5:$F$5
Name LblRes12_3_Mes: Cruceros!$B$5:$C$5
Name PROVINCIAS: Cruceros!$A$5:$A$35
Name TxtFecha: Cruceros!$L$5

Sheet Portada e índice
I1: Dirección de Planificación y Desarrollo
I2: Departamento de Estadística
G15: RESUMEN GENERAL DEL TRÁFICO PORTUARIO*
G16: diciembre 2017
K29: *Datos de cierre definitivos del Anuario Estadístico de Puertos del Estado 2017
F33: ÍNDICE
B36: 0. | C36: RESUMEN GENERAL DEL TRÁFICO PORTUARIO
B37: 1. | C37: TRÁFICO PORTUARIO
B38: 1.1. | C38: MERCANCÍAS SEGÚN SU FORMA DE PRESENTACIÓN
B39: 2. | C39: GRANELES LÍQUIDOS
B40: 3. | C40: GRANELES SÓLIDOS
B41: 4. | C41: MERCANCÍA GENERAL
B42: 4.1. | C42: MERCANCÍAS EN CONTENEDORES
B43: 5. | C43: PESCA
B44: 6. | C44: AVITUALLAMIENTO
B45: 6.1. | C45: AVITUALLAMIENTO DE COMBUSTIBLES LÍQUIDOS
B46: 7. | C46: TRÁFICO INTERIOR
B47: 8. | C47: MERCANCÍAS EN TRÁNSITO
... B62: 13.2. | C62: CRUCEROS (unidades)

Sheet Resumen general
D1: 00. RESUMEN GENERAL DEL TRÁFICO PORTUARIO
I4: Fecha: 20/12/2018
A6: CONCEPTO | D6: Mes diciembre | F6: Acumulado desde enero | H6: Variación
D7: 2016 | E7: 2017 | F7: 2016 | G7: 2017 | H7: Diferencia | I7: %
A8: MERCANCÍAS SEGÚN SU PRESENTACIÓN | B8: GRANELES | C8: LÍQUIDOS | D8: =Líquidos!B35 -> 14647070 | E8: =Líquidos!C35 -> 14514026 | F8: =Líquidos!D35 -> 1.6758332e+08 | G8: =Líquidos!E35 -> 1.7824283e+08 | H8: =G8-F8 -> 10659509 | I8: =((G8*100/F8)-100) -> 6.3607223
C9: SÓLIDOS | D9: =Sólidos!B35 -> 8341804.8 | E9: =Sólidos!C35 -> 8579383 | F9: =Sólidos!D35 -> 91993448 | G9: =Sólidos!E35 -> 1.0142872e+08 | H9: =G9-F9 -> 9435267.9 | I9: =((G9*100/F9)-100) -> 10.256456
B10: MERCANCÍA GRAL. | C10: CONVENCIONAL | D10: =D12-D11 -> 5727845.6 | E10: =E12-E11 -> 5550311 | F10: =F12-F11 -> 67737010 | G10: =G12-G11 -> 71013095 | H10: =G10-F10 -> 3276085.1 | I10: =((G10*100/F10)-100) -> 4.8364773
C11: EN CONTENEDORES | D11: ='Mercancías contenedores'!B35 -> 13884423 | E11: ='Mercancías contenedores'!C35 -> 14859486 | F11: ='Mercancías contenedores'!D35 -> 1.6829421e+08 | G11: ='Mercancías contenedores'!E35 -> 1.8145292e+08 | H11: =G11-F11 -> 13158709 | I11: =((G11*100/F11)-100) -> 7.8188721
C12: TOTAL | D12: ='Mercancía general'!B35 -> 19612269 | E12: ='Mercancía general'!C35 -> 20409797 | F12: ='Mercancía general'!D35 -> 2.3603122e+08 | G12: ='Mercancía general'!E35 -> 2.5246602e+08 | H12: =G12-F12 -> 16434794 | I12: =((G12*100/F12)-100) -> 6.9629747
C13: TOTAL | D13: =+D8+D9+D12 -> 42601144 | E13: =+E8+E9+E12 -> 43503206 | F13: =+F8+F9+F12 -> 4.9560799e+08 | G13: =+G8+G9+G12 -> 5.3213756e+08 | H13: =G13-F13 -> 36529572 | I13: =((G13*100/F13)-100) -> 7.3706584
A14: OTRAS MERCANCÍAS | B14: PESCA | C14: TOTAL PESCA | D14: =Pesca!B35 -> 21216.411 | E14: =Pesca!C35 -> 18660 | F14: =Pesca!D35 -> 232934.41 | G14: =Pesca!E35 -> 243073.37 | H14: =G14-F14 -> 10138.962 | I14: =((G14*100/F14)-100) -> 4.3527111
B15: AVITUALLAMIENTO | C15: COMBUSTIBLES LÍQUIDOS | D15: ='Avit. combustibles'!B35 -> 621268 | E15: ='Avit. combustibles'!C35 -> 646054 | F15: ='Avit. combustibles'!D35 -> 8201007.5 | G15: ='Avit. combustibles'!E35 -> 7987162 | H15: =G15-F15 -> -213845.5 | I15: =((G15*100/F15)-100) -> -2.6075516
C16: OTROS | D16: =Avituallamiento!B35-'Resumen general'!D15 -> 306808.8 | E16: =Avituallamiento!C35-'Resumen general'!E15 -> 175370 | F16: 2122630 | G16: =Avituallamiento!E35-'Resumen general'!G15 -> 2132311.5 | H16: =G16-F16 -> 9681.5 | I16: =((G16*100/F16)-100) -> 0.4561087
B17: TRAFICO INTERIOR | C17: TOTAL TRAFICO INTERIOR | D17: ='Tráfico interior'!B35 -> 261959 | E17: ='Tráfico interior'!C35 -> 103744 | F17: ='Tráfico interior'!D35 -> 3340077 | G17: ='Tráfico interior'!E35 -> 2722259.3 | H17: =G17-F17 -> -617817.72 | I17: =((G17*100/F17)-100) -> -18.49711
C18: TOTAL | D18: =+D14+D15+D16+D17 -> 1211252.2 | E18: =+E14+E15+E16+E17 -> 943828 | F18: =+F14+F15+F16+F17 -> 13896649 | G18: =+G14+G15+G16+G17 -> 13084806 | H18: =G18-F18 -> -811842.76 | I18: =((G18*100/F18)-100) -> -5.8420038
C19: TOTAL TRÁFICO PORTUARIO (*) | D19: =+D13+D18 -> 43812396 | E19: =+E13+E18 -> 44447034 | F19: =+F13+F18 -> 5.0950464e+08 | G19: =+G13+G18 -> 5.4522236e+08 | H19: =G19-F19 -> 35717729 | I19: =((G19*100/F19)-100) -> 7.0102853
A21: OTRAS INFORMACIONES | B21: MERCANCÍAS | C21: EN TRÁNSITO | D21: ='Mercancías tránsito'!B35 -> 10124346 | E21: ='Mercancías tránsito'!C35 -> 11501467 | F21: ='Mercancías tránsito'!D35 -> 1.2229877e+08 | G21: ='Mercancías tránsito'!E35 -> 1.3732969e+08 | H21: =G21-F21 -> 15030916 | I21: =((G21*100/F21)-100) -> 12.290325
C22: EN CONTENEDORES EN TRÁNSITO | D22: ='Mercan. contene. tránsito'!B35 -> 7601555.1 | E22: ='Mercan. contene. tránsito'!C35 -> 8967232 | F22: ='Mercan. contene. tránsito'!D35 -> 98509897 | G22: ='Mercan. contene. tránsito'!E35 -> 1.0901849e+08 | H22: =G22-F22 -> 10508589 | I22: =((G22*100/F22)-100) -> 10.667547
B23: TRÁFICO RO-RO | C23: TOTAL TRÁFICO RO-RO | D23: ='Ro-Ro'!B35 -> 3870871.6 | E23: ='Ro-Ro'!C35 -> 4280968 | F23: ='Ro-Ro'!D35 -> 54647615 | G23: ='Ro-Ro'!E35 -> 58074195 | H23: =G23-F23 -> 3426579.6 | I23: =((G23*100/F23)-100) -> 6.2703186
C24: REMOLQUES, SEMIRR. Y PLATAF. (uds.) | D24: ='Ro-Ro remolques'!B35 -> 102015 | E24: ='Ro-Ro remolques'!C35 -> 102625 | F24: ='Ro-Ro remolques'!D35 -> 1447934 | G24: ='Ro-Ro remolques'!E35 -> 1311908 | H24: =G24-F24 -> -136026 | I24: =((G24*100/F24)-100) -> -9.394489
B25: CONTENEDORES | C25: TOTAL CONTENEDORES (TEUS) | D25: =TEUS!B35 -> 1272883.8 | E25: =TEUS!C35 -> 1319703 | F25: =TEUS!D35 -> 15154303 | G25: =TEUS!E35 -> 15951635 | H25: =G25-F25 -> 797331.95 | I25: =((G25*100/F25)-100) -> 5.2614229
C26: EN TRÁNSITO (TEUS) | D26: ='TEUS tránsito'!B35 -> 647501 | E26: ='TEUS tránsito'!C35 -> 720357 | F26: ='TEUS tránsito'!D35 -> 7899204 | G26: ='TEUS tránsito'!E35 -> 8501480 | H26: =G26-F26 -> 602276 | I26: =((G26*100/F26)-100) -> 7.6245151
C27: ENTRADAS-SALIDAS NACIONAL (TEUS) | D27: ='TEUS nacional'!B35 -> 157029 | E27: ='TEUS nacional'!C35 -> 164191 | F27: ='TEUS nacional'!D35 -> 1926876 | G27: ='TEUS nacional'!E35 -> 1972377 | H27: =G27-F27 -> 45501 | I27: =((G27*100/F27)-100) -> 2.361387
C28: IMPORT-EXPORT EXTERIOR (TEUS) | D28: ='TEUS exterior'!B35 -> 441028 | E28: ='TEUS exterior'!C35 -> 435156 | F28: ='TEUS exterior'!D35 -> 5272324 | G28: ='TEUS exterior'!E35 -> 5477777.7 | H28: =G28-F28 -> 205453.7 | I28: =((G28*100/F28)-100) -> 3.8968337
C29: NACIONAL Y EXTERIOR (TEUS) | D29: ='TEUS nacional y exterior'!B35 -> 598057 | E29: ='TEUS nacional y exterior'!C35 -> 599346 | F29: ='TEUS nacional y exterior'!D35 -> 7199204 | G29: ='TEUS nacional y exterior'!E35 -> 7450154.7 | H29: =G29-F29 -> 250950.7 | I29: =((G29*100/F29)-100) -> 3.4858118
B30: PASAJEROS | C30: REG. TRANSPORTE Y DE CRUCERO (uds.) | D30: ='Pasajeros total'!B35 -> 1926801 | E30: ='Pasajeros total'!C35 -> 2246606 | F30: ='Pasajeros total'!D35 -> 32493848 | G30: ='Pasajeros total'!E35 -> 34072845 | H30: =G30-F30 -> 1578997 | I30: =((G30*100/F30)-100) -> 4.8593721
C31: DE CRUCERO (uds.) | D31: ='Pasajeros crucero'!B35 -> 483531 | E31: ='Pasajeros crucero'!C35 -> 704958 | F31: ='Pasajeros crucero'!D35 -> 8693871 | G31: ='Pasajeros crucero'!E35 -> 9281923 | H31: =G31-F31 -> 588052 | I31: =((G31*100/F31)-100) -> 6.7639835
B32: AUTOMÓVILES | C32: EN RÉGIMEN DE PASAJE (uds) | D32: ='Automóviles régimen pasaje'!B35 -> 322705 | E32: ='Automóviles régimen pasaje'!C35 -> 368994 | F32: ='Automóviles régimen pasaje'!D35 -> 4774678 | G32: ='Automóviles régimen pasaje'!E35 -> 5060699 | H32: =G32-F32 -> 286021 | I32: =((G32*100/F32)-100) -> 5.9903725
C33: EN RÉGIMEN DE MERCANCÍA (**) | D33: ='Automóviles régimen mercancía'!B35 -> 272290 | E33: ='Automóviles régimen mercancía'!C35 -> 611191 | F33: ='Automóviles régimen mercancía'!D35 -> 3474460 | G33: ='Automóviles régimen mercancía'!E35 -> 3484212 | H33: =G33-F33 -> 9752 | I33: =((G33*100/F33)-100) -> 0.28067671
B34: BUQUES MERCANTES | C34: TOTAL BUQUES MERCANTES (uds) | D34: ='Buques número'!B35 -> 10878 | E34: ='Buques número'!C35 -> 11227 | F34: ='Buques número'!D35 -> 151564 | G34: ='Buques número'!E35 -> 155631 | H34: =G34-F34 -> 4067 | I34: =((G34*100/F34)-100) -> 2.6833549
C35: UDS. ARQUEO BRUTO (G.T.) | D35: ='Buques GT'!B35 -> 174282552 | E35: ='Buques GT'!C35 -> 179365124 | F35: ='Buques GT'!D35 -> 2184589058 | G35: ='Buques GT'!E35 -> 2218905453 | H35: =G35-F35 -> 34316395 | I35: =((G35*100/F35)-100) -> 1.5708398
C36: CRUCEROS (uds) | D36: =Cruceros!B35 -> 283 | E36: =Cruceros!C35 -> 331 | F36: =Cruceros!D35 -> 3920 | G36: =Cruceros!E35 -> 4238 | H36: =G36-F36 -> 318 | I36: =((G36*100/F36)-100) -> 8.1122449
A37: (*) Incluye cargas, descargas, tránsitos y transbordos.
A38: (**) Solo turismos, autobuses y camiones

Sheet Total tráfico
F1: 1. TRÁFICO PORTUARIO (toneladas)
A5: Autoridad Portuaria | B5: ='Resumen general'!D6 -> Mes diciembre | D5: ='Resumen general'!F6 -> Acumulado desde enero | L5: ='Resumen general'!I4 -> Fecha: 20/12/2018
B6: ='Resumen general'!D7 -> 2016 | C6: ='Resumen general'!E7 -> 2017 | D6: ='Resumen general'!F7 -> 2016 | E6: ='Resumen general'!G7 -> 2017 | F6: Var. (%)
A7: A CORUÑA | B7: =Líquidos!B7+Sólidos!B7+'Mercancía general'!B7+Pesca!B7+Avituallamiento!B7+'Tráfico interior'!B7 -> 1264172.6 | C7: =Líquidos!C7+Sólidos!C7+'Mercancía general'!C7+Pesca!C7+Avituallamiento!C7+'Tráfico interior'!C7 -> 1354083 | D7: 13919795 | E7: 15198929 | F7: =((E7*100)/D7)-100 -> 9.1893184
A8: ALICANTE | B8: =Líquidos!B8+Sólidos!B8+'Mercancía general'!B8+Pesca!B8+Avituallamiento!B8+'Tráfico interior'!B8 -> 245025.3 | C8: =Líquidos!C8+Sólidos!C8+'Mercancía general'!C8+Pesca!C8+Avituallamiento!C8+'Tráfico interior'!C8 -> 258409 | D8: 3471563.3 | E8: 3447603.9 | F8: =((E8*100)/D8)-100 -> -0.69016235
A9: ALMERÍA | B9: =Líquidos!B9+Sólidos!B9+'Mercancía general'!B9+Pesca!B9+Avituallamiento!B9+'Tráfico interior'!B9 -> 546728.4 | C9: =Líquidos!C9+Sólidos!C9+'Mercancía general'!C9+Pesca!C9+Avituallamiento!C9+'Tráfico interior'!C9 -> 614880 | D9: 5467308.4 | E9: 6381126.7 | F9: =((E9*100)/D9)-100 -> 16.714225
A10: AVILÉS | B10: =Líquidos!B10+Sólidos!B10+'Mercancía general'!B10+Pesca!B10+Avituallamiento!B10+'Tráfico interior'!B10 -> 586583.03 | C10: =Líquidos!C10+Sólidos!C10+'Mercancía general'!C10+Pesca!C10+Avituallamiento!C10+'Tráfico interior'!C10 -> 409226 | D10: 4971467 | E10: 4806910 | F10: =((E10*100)/D10)-100 -> -3.3100306
A11: BAHÍA DE ALGECIRAS | B11: =Líquidos!B11+Sólidos!B11+'Mercancía general'!B11+Pesca!B11+Avituallamiento!B11+'Tráfico interior'!B11 -> 8322363.4 | C11: =Líquidos!C11+Sólidos!C11+'Mercancía general'!C11+Pesca!C11+Avituallamiento!C11+'Tráfico interior'!C11 -> 8139234 | D11: 1.0317695e+08 | E11: 1.0155597e+08 | F11: =((E11*100)/D11)-100 -> -1.5710626
A12: BAHÍA DE CÁDIZ | B12: =Líquidos!B12+Sólidos!B12+'Mercancía general'!B12+Pesca!B12+Avituallamiento!B12+'Tráfico interior'!B12 -> 280516.2 | C12: =Líquidos!C12+Sólidos!C12+'Mercancía general'!C12+Pesca!C12+Avituallamiento!C12+'Tráfico interior'!C12 -> 298994 | D12: 3660047.2 | E12: 4115251.6 | F12: =((E12*100)/D12)-100 -> 12.437119
A13: BALEARES | B13: =Líquidos!B13+Sólidos!B13+'Mercancía general'!B13+Pesca!B13+Avituallamiento!B13+'Tráfico interior'!B13 -> 1021181.8 | C13: =Líquidos!C13+Sólidos!C13+'Mercancía general'!C13+Pesca!C13+Avituallamiento!C13+'Tráfico interior'!C13 -> 959165 | D13: 14926741 | E13: 15649443 | F13: =((E13*100)/D13)-100 -> 4.8416622
A14: BARCELONA | B14: =Líquidos!B14+Sólidos!B14+'Mercancía general'!B14+Pesca!B14+Avituallamiento!B14+'Tráfico interior'!B14 -> 3863433.8 | C14: =Líquidos!C14+Sólidos!C14+'Mercancía general'!C14+Pesca!C14+Avituallamiento!C14+'Tráfico interior'!C14 -> 5109085 | D14: 48653002 | E14: 61366941 | F14: =((E14*100)/D14)-100 -> 26.13187
A15: BILBAO | B15: =Líquidos!B15+Sólidos!B15+'Mercancía general'!B15+Pesca!B15+Avituallamiento!B15+'Tráfico interior'!B15 -> 3409815.3 | C15: =Líquidos!C15+Sólidos!C15+'Mercancía general'!C15+Pesca!C15+Avituallamiento!C15+'Tráfico interior'!C15 -> 3352425 | D15: 32067270 | E15: 34306674 | F15: =((E15*100)/D15)-100 -> 6.983456
A16: CARTAGENA | B16: =Líquidos!B16+Sólidos!B16+'Mercancía general'!B16+Pesca!B16+Avituallamiento!B16+'Tráfico interior'!B16 -> 2876767.9 | C16: =Líquidos!C16+Sólidos!C16+'Mercancía general'!C16+Pesca!C16+Avituallamiento!C16+'Tráfico interior'!C16 -> 2613132 | D16: 31883686 | E16: 34688199 | F16: =((E16*100)/D16)-100 -> 8.796075
A17: CASTELLÓN | B17: =Líquidos!B17+Sólidos!B17+'Mercancía general'!B17+Pesca!B17+Avituallamiento!B17+'Tráfico interior'!B17 -> 1686264 | C17: =Líquidos!C17+Sólidos!C17+'Mercancía general'!C17+Pesca!C17+Avituallamiento!C17+'Tráfico interior'!C17 -> 1116165 | D17: 17076583 | E17: 17910534 | F17: =((E17*100)/D17)-100 -> 4.8835949
A18: CEUTA | B18: =Líquidos!B18+Sólidos!B18+'Mercancía general'!B18+Pesca!B18+Avituallamiento!B18+'Tráfico interior'!B18 -> 246828.9 | C18: =Líquidos!C18+Sólidos!C18+'Mercancía general'!C18+Pesca!C18+Avituallamiento!C18+'Tráfico interior'!C18 -> 216924 | D18: 2478780.9 | E18: 2545552.9 | F18: =((E18*100)/D18)-100 -> 2.6937436
... A34: VILAGARCÍA | B34: =Líquidos!B34+Sólidos!B34+'Mercancía general'!B34+Pesca!B34+Avituallamiento!B34+'Tráfico interior'!B34 -> 115174.86 | C34: =Líquidos!C34+Sólidos!C34+'Mercancía general'!C34+Pesca!C34+Avituallamiento!C34+'Tráfico interior'!C34 -> 104339 | D34: 1111995 | E34: 1205966.4 | F34: =((E34*100)/D34)-100 -> 8.4506999
A35: Total | B35: =SUM(B7:B34) -> 43812396 | C35: =SUM(C7:C34) -> 44447034 | D35: =SUM(D7:D34) -> 5.0950464e+08 | E35: =SUM(E7:E34) -> 5.4522236e+08 | F35: =((E35*100)/D35)-100 -> 7.0102853
A36: Incluye cargas, descargas, tránsitos y transbordos.
B38: =E6 -> 2017 | C38: =D6 -> 2016 | F38: =B38 -> 2017 | G38: =C38 -> 2016
A39: =A7 -> A CORUÑA | B39: =E7 -> 15198929 | C39: =D7 -> 13919795 | D39: =_xlfn.RANK.EQ(B39,$B$39:$B$66)+COUNTIF($B$39:$B$66,B39)-1 -> 12 | E39: =INDEX($A$39:$B$66,MATCH(ROW()-38,$D$39:$D$66,0),1) -> BAHÍA DE ALGECIRAS | F39: =LOOKUP(E39,$A$39:$A$66,$B$39:$B$66) -> 1.0155597e+08 | G39: =LOOKUP(E39,$A$39:$A$66,$C$39:$C$66) -> 1.0317695e+08
A40: =A8 -> ALICANTE | B40: =E8 -> 3447603.9 | C40: =D8 -> 3471563.3 | D40: =_xlfn.RANK.EQ(B40,$B$39:$B$66)+COUNTIF($B$39:$B$66,B40)-1 -> 21 | E40: =INDEX($A$39:$B$66,MATCH(ROW()-38,$D$39:$D$66,0),1) -> VALENCIA | F40: =LOOKUP(E40,$A$39:$A$66,$B$39:$B$66) -> 73559877 | G40: =LOOKUP(E40,$A$39:$A$66,$C$39:$C$66) -> 71469813
A41: =A9 -> ALMERÍA | B41: =E9 -> 6381126.7 | C41: =D9 -> 5467308.4 | D41: =_xlfn.RANK.EQ(B41,$B$39:$B$66)+COUNTIF($B$39:$B$66,B41)-1 -> 15 | E41: =INDEX($A$39:$B$66,MATCH(ROW()-38,$D$39:$D$66,0),1) -> BARCELONA | F41: =LOOKUP(E41,$A$39:$A$66,$B$39:$B$66) -> 61366941 | G41: =LOOKUP(E41,$A$39:$A$66,$C$39:$C$66) -> 48653002
A42: =A10 -> AVILÉS | B42: =E10 -> 4806910 | C42: =D10 -> 4971467 | D42: =_xlfn.RANK.EQ(B42,$B$39:$B$66)+COUNTIF($B$39:$B$66,B42)-1 -> 17 | E42: =INDEX($A$39:$B$66,MATCH(ROW()-38,$D$39:$D$66,0),1) -> CARTAGENA | F42: =LOOKUP(E42,$A$39:$A$66,$B$39:$B$66) -> 34688199 | G42: =LOOKUP(E42,$A$39:$A$66,$C$39:$C$66) -> 31883686
A43: =A11 -> BAHÍA DE ALGECIRAS | B43: =E11 -> 1.0155597e+08 | C43: =D11 -> 1.0317695e+08 | D43: =_xlfn.RANK.EQ(B43,$B$39:$B$66)+COUNTIF($B$39:$B$66,B43)-1 -> 1 | E43: =INDEX($A$39:$B$66,MATCH(ROW()-38,$D$39:$D$66,0),1) -> BILBAO | F43: =LOOKUP(E43,$A$39:$A$66,$B$39:$B$66) -> 34306674 | G43: =LOOKUP(E43,$A$39:$A$66,$C$39:$C$66) -> 32067270
A44: =A12 -> BAHÍA DE CÁDIZ | B44: =E12 -> 4115251.6 | C44: =D12 -> 3660047.2 | D44: =_xlfn.RANK.EQ(B44,$B$39:$B$66)+COUNTIF($B$39:$B$66,B44)-1 -> 20 | E44: =INDEX($A$39:$B$66,MATCH(ROW()-38,$D$39:$D$66,0),1) -> TARRAGONA | F44: =LOOKUP(E44,$A$39:$A$66,$B$39:$B$66) -> 33700184 | G44: =LOOKUP(E44,$A$39:$A$66,$C$39:$C$66) -> 31351797
A45: =A13 -> BALEARES | B45: =E13 -> 15649443 | C45: =D13 -> 14926741 | D45: =_xlfn.RANK.EQ(B45,$B$39:$B$66)+COUNTIF($B$39:$B$66,B45)-1 -> 11 | E45: =INDEX($A$39:$B$66,MATCH(ROW()-38,$D$39:$D$66,0),1) -> HUELVA | F45: =LOOKUP(E45,$A$39:$A$66,$B$39:$B$66) -> 32332572 | G45: =LOOKUP(E45,$A$39:$A$66,$C$39:$C$66) -> 30557172
A46: =A14 -> BARCELONA | B46: =E14 -> 61366941 | C46: =D14 -> 48653002 | D46: =_xlfn.RANK.EQ(B46,$B$39:$B$66)+COUNTIF($B$39:$B$66,B46)-1 -> 3 | E46: =INDEX($A$39:$B$66,MATCH(ROW()-38,$D$39:$D$66,0),1) -> LAS PALMAS | F46: =LOOKUP(E46,$A$39:$A$66,$B$39:$B$66) -> 27021629 | G46: =LOOKUP(E46,$A$39:$A$66,$C$39:$C$66) -> 22801746
A47: =A15 -> BILBAO | B47: =E15 -> 34306674 | C47: =D15 -> 32067270 | D47: =_xlfn.RANK.EQ(B47,$B$39:$B$66)+COUNTIF($B$39:$B$66,B47)-1 -> 5 | E47: =INDEX($A$39:$B$66,MATCH(ROW()-38,$D$39:$D$66,0),1) -> GIJÓN | F47: =LOOKUP(E47,$A$39:$A$66,$B$39:$B$66) -> 21820520 | G47: =LOOKUP(E47,$A$39:$A$66,$C$39:$C$66) -> 18407334
A48: =A16 -> CARTAGENA | B48: =E16 -> 34688199 | C48: =D16 -> 31883686 | D48: =_xlfn.RANK.EQ(B48,$B$39:$B$66)+COUNTIF($B$39:$B$66,B48)-1 -> 4 | E48: =INDEX($A$39:$B$66,MATCH(ROW()-38,$D$39:$D$66,0),1) -> CASTELLÓN | F48: =LOOKUP(E48,$A$39:$A$66,$B$39:$B$66) -> 17910534 | G48: =LOOKUP(E48,$A$39:$A$66,$C$39:$C$66) -> 17076583
A49: =A17 -> CASTELLÓN | B49: =E17 -> 17910534 | C49: =D17 -> 17076583 | D49: =_xlfn.RANK.EQ(B49,$B$39:$B$66)+COUNTIF($B$39:$B$66,B49)-1 -> 10 | E49: =INDEX($A$39:$B$66,MATCH(ROW()-38,$D$39:$D$66,0),1) -> BALEARES | F49: =LOOKUP(E49,$A$39:$A$66,$B$39:$B$66) -> 15649443 | G49: =LOOKUP(E49,$A$39:$A$66,$C$39:$C$66) -> 14926741
A50: =A18 -> CEUTA | B50: =E18 -> 2545552.9 | C50: =D18 -> 2478780.9 | D50: =_xlfn.RANK.EQ(B50,$B$39:$B$66)+COUNTIF($B$39:$B$66,B50)-1 -> 24 | E50: =INDEX($A$39:$B$66,MATCH(ROW()-38,$D$39:$D$66,0),1) -> A CORUÑA | F50: =LOOKUP(E50,$A$39:$A$66,$B$39:$B$66) -> 15198929 | G50: =LOOKUP(E50,$A$39:$A$66,$C$39:$C$66) -> 13919795
... A66: =A34 -> VILAGARCÍA | B66: =E34 -> 1205966.4 | C66: =D34 -> 1111995 | D66: =_xlfn.RANK.EQ(B66,$B$39:$B$66)+COUNTIF($B$39:$B$66,B66)-1 -> 27 | E66: =INDEX($A$39:$B$66,MATCH(ROW()-38,$D$39:$D$66,0),1) -> MELILLA | F66: =LOOKUP(E66,$A$39:$A$66,$B$39:$B$66) -> 1152554 | G66: =LOOKUP(E66,$A$39:$A$66,$C$39:$C$66) -> 1162986

Sheet Total presentación
F1: 1.1. MERCANCÍAS SEGÚN SU FORMA DE PRESENTACIÓN
I2: (toneladas)
A5: Autoridad Portuaria | B5: ='Resumen general'!D6 -> Mes diciembre | D5: ='Resumen general'!F6 -> Acumulado desde enero | L5: ='Resumen general'!I4 -> Fecha: 20/12/2018
B6: ='Resumen general'!D7 -> 2016 | C6: ='Resumen general'!E7 -> 2017 | D6: ='Resumen general'!F7 -> 2016 | E6: ='Resumen general'!G7 -> 2017 | F6: Var. (%)
A7: A CORUÑA | B7: 1200603 | C7: 1296082 | D7: 13527098 | E7: 14760612 | F7: =((E7*100)/D7)-100 -> 9.1188369
A8: ALICANTE | B8: 243599.53 | C8: 256343 | D8: 3442580.5 | E8: 3421610.7 | F8: =((E8*100)/D8)-100 -> -0.60913114
A9: ALMERÍA | B9: 541357 | C9: 606239 | D9: 5390023 | E9: 6290241 | F9: =((E9*100)/D9)-100 -> 16.701561
A10: AVILÉS | B10: 556160.09 | C10: 405423 | D10: 4909133.1 | E10: 4751857.2 | F10: =((E10*100)/D10)-100 -> -3.20374
A11: BAHÍA DE ALGECIRAS | B11: 7853556 | C11: 7866973 | D11: 96861660 | E11: 96330454 | F11: =((E11*100)/D11)-100 -> -0.5484172
A12: BAHÍA DE CÁDIZ | B12: 271999 | C12: 291656 | D12: 3497654 | E12: 3986793 | F12: =((E12*100)/D12)-100 -> 13.984774
A13: BALEARES | B13: 1014013 | C13: 951330 | D13: 14676205 | E13: 15408802 | F13: =((E13*100)/D13)-100 -> 4.9917332
A14: BARCELONA | B14: 3808116 | C14: 5015868 | D14: 47512963 | E14: 60070134 | F14: =((E14*100)/D14)-100 -> 26.428937
A15: BILBAO | B15: 3399680.4 | C15: 3343309 | D15: 31948743 | E15: 34194982 | F15: =((E15*100)/D15)-100 -> 7.0307573
A16: CARTAGENA | B16: 2865396 | C16: 2607692 | D16: 31724623 | E16: 34532347 | F16: =((E16*100)/D16)-100 -> 8.850299
A17: CASTELLÓN | B17: 1683633 | C17: 1114606 | D17: 17042674 | E17: 17882185 | F17: =((E17*100)/D17)-100 -> 4.9259347
A18: CEUTA | B18: 206553 | C18: 151433 | D18: 1934591 | E18: 1881096 | F18: =((E18*100)/D18)-100 -> -2.765184
... A34: VILAGARCÍA | B34: 114514.86 | C34: 104177 | D34: 1105781.9 | E34: 1201759.4 | F34: =((E34*100)/D34)-100 -> 8.6796052
A35: Total | B35: =SUM(B7:B34) -> 42601144 | C35: =SUM(C7:C34) -> 43503206 | D35: =SUM(D7:D34) -> 4.9560799e+08 | E35: =SUM(E7:E34) -> 5.3213756e+08 | F35: =((E35*100)/D35)-100 -> 7.3706584
A36: Incluye cargas, descargas, tránsitos y transbordos.
B38: =E6 -> 2017 | C38: =D6 -> 2016 | F38: =B38 -> 2017 | G38: =C38 -> 2016
A39: =A7 -> A CORUÑA | B39: =E7 -> 14760612 | C39: =D7 -> 13527098 | D39: =_xlfn.RANK.EQ(B39,$B$39:$B$66)+COUNTIF($B$39:$B$66,B39)-1 -> 12 | E39: =INDEX($A$39:$B$66,MATCH(ROW()-38,$D$39:$D$66,0),1) -> BAHÍA DE ALGECIRAS | F39: =LOOKUP(E39,$A$39:$A$66,$B$39:$B$66) -> 96330454 | G39: =LOOKUP(E39,$A$39:$A$66,$C$39:$C$66) -> 96861660
A40: =A8 -> ALICANTE | B40: =E8 -> 3421610.7 | C40: =D8 -> 3442580.5 | D40: =_xlfn.RANK.EQ(B40,$B$39:$B$66)+COUNTIF($B$39:$B$66,B40)-1 -> 21 | E40: =INDEX($A$39:$B$66,MATCH(ROW()-38,$D$39:$D$66,0),1) -> VALENCIA | F40: =LOOKUP(E40,$A$39:$A$66,$B$39:$B$66) -> 73249473 | G40: =LOOKUP(E40,$A$39:$A$66,$C$39:$C$66) -> 70995541
A41: =A9 -> ALMERÍA | B41: =E9 -> 6290241 | C41: =D9 -> 5390023 | D41: =_xlfn.RANK.EQ(B41,$B$39:$B$66)+COUNTIF($B$39:$B$66,B41)-1 -> 15 | E41: =INDEX($A$39:$B$66,MATCH(ROW()-38,$D$39:$D$66,0),1) -> BARCELONA | F41: =LOOKUP(E41,$A$39:$A$66,$B$39:$B$66) -> 60070134 | G41: =LOOKUP(E41,$A$39:$A$66,$C$39:$C$66) -> 47512963
A42: =A10 -> AVILÉS | B42: =E10 -> 4751857.2 | C42: =D10 -> 4909133.1 | D42: =_xlfn.RANK.EQ(B42,$B$39:$B$66)+COUNTIF($B$39:$B$66,B42)-1 -> 17 | E42: =INDEX($A$39:$B$66,MATCH(ROW()-38,$D$39:$D$66,0),1) -> CARTAGENA | F42: =LOOKUP(E42,$A$39:$A$66,$B$39:$B$66) -> 34532347 | G42: =LOOKUP(E42,$A$39:$A$66,$C$39:$C$66) -> 31724623
A43: =A11 -> BAHÍA DE ALGECIRAS | B43: =E11 -> 96330454 | C43: =D11 -> 96861660 | D43: =_xlfn.RANK.EQ(B43,$B$39:$B$66)+COUNTIF($B$39:$B$66,B43)-1 -> 1 | E43: =INDEX($A$39:$B$66,MATCH(ROW()-38,$D$39:$D$66,0),1) -> BILBAO | F43: =LOOKUP(E43,$A$39:$A$66,$B$39:$B$66) -> 34194982 | G43: =LOOKUP(E43,$A$39:$A$66,$C$39:$C$66) -> 31948743
A44: =A12 -> BAHÍA DE CÁDIZ | B44: =E12 -> 3986793 | C44: =D12 -> 3497654 | D44: =_xlfn.RANK.EQ(B44,$B$39:$B$66)+COUNTIF($B$39:$B$66,B44)-1 -> 19 | E44: =INDEX($A$39:$B$66,MATCH(ROW()-38,$D$39:$D$66,0),1) -> TARRAGONA | F44: =LOOKUP(E44,$A$39:$A$66,$B$39:$B$66) -> 33620952 | G44: =LOOKUP(E44,$A$39:$A$66,$C$39:$C$66) -> 31328770
A45: =A13 -> BALEARES | B45: =E13 -> 15408802 | C45: =D13 -> 14676205 | D45: =_xlfn.RANK.EQ(B45,$B$39:$B$66)+COUNTIF($B$39:$B$66,B45)-1 -> 11 | E45: =INDEX($A$39:$B$66,MATCH(ROW()-38,$D$39:$D$66,0),1) -> HUELVA | F45: =LOOKUP(E45,$A$39:$A$66,$B$39:$B$66) -> 32177373 | G45: =LOOKUP(E45,$A$39:$A$66,$C$39:$C$66) -> 30381229
A46: =A14 -> BARCELONA | B46: =E14 -> 60070134 | C46: =D14 -> 47512963 | D46: =_xlfn.RANK.EQ(B46,$B$39:$B$66)+COUNTIF($B$39:$B$66,B46)-1 -> 3 | E46: =INDEX($A$39:$B$66,MATCH(ROW()-38,$D$39:$D$66,0),1) -> LAS PALMAS | F46: =LOOKUP(E46,$A$39:$A$66,$B$39:$B$66) -> 24342113 | G46: =LOOKUP(E46,$A$39:$A$66,$C$39:$C$66) -> 20192621
A47: =A15 -> BILBAO | B47: =E15 -> 34194982 | C47: =D15 -> 31948743 | D47: =_xlfn.RANK.EQ(B47,$B$39:$B$66)+COUNTIF($B$39:$B$66,B47)-1 -> 5 | E47: =INDEX($A$39:$B$66,MATCH(ROW()-38,$D$39:$D$66,0),1) -> GIJÓN | F47: =LOOKUP(E47,$A$39:$A$66,$B$39:$B$66) -> 21736236 | G47: =LOOKUP(E47,$A$39:$A$66,$C$39:$C$66) -> 18340528
A48: =A16 -> CARTAGENA | B48: =E16 -> 34532347 | C48: =D16 -> 31724623 | D48: =_xlfn.RANK.EQ(B48,$B$39:$B$66)+COUNTIF($B$39:$B$66,B48)-1 -> 4 | E48: =INDEX($A$39:$B$66,MATCH(ROW()-38,$D$39:$D$66,0),1) -> CASTELLÓN | F48: =LOOKUP(E48,$A$39:$A$66,$B$39:$B$66) -> 17882185 | G48: =LOOKUP(E48,$A$39:$A$66,$C$39:$C$66) -> 17042674
A49: =A17 -> CASTELLÓN | B49: =E17 -> 17882185 | C49: =D17 -> 17042674 | D49: =_xlfn.RANK.EQ(B49,$B$39:$B$66)+COUNTIF($B$39:$B$66,B49)-1 -> 10 | E49: =INDEX($A$39:$B$66,MATCH(ROW()-38,$D$39:$D$66,0),1) -> BALEARES | F49: =LOOKUP(E49,$A$39:$A$66,$B$39:$B$66) -> 15408802 | G49: =LOOKUP(E49,$A$39:$A$66,$C$39:$C$66) -> 14676205
A50: =A18 -> CEUTA | B50: =E18 -> 1881096 | C50: =D18 -> 1934591 | D50: =_xlfn.RANK.EQ(B50,$B$39:$B$66)+COUNTIF($B$39:$B$66,B50)-1 -> 26 | E50: =INDEX($A$39:$B$66,MATCH(ROW()-38,$D$39:$D$66,0),1) -> A CORUÑA | F50: =LOOKUP(E50,$A$39:$A$66,$B$39:$B$66) -> 14760612 | G50: =LOOKUP(E50,$A$39:$A$66,$C$39:$C$66) -> 13527098
... A66: =A34 -> VILAGARCÍA | B66: =E34 -> 1201759.4 | C66: =D34 -> 1105781.9 | D66: =_xlfn.RANK.EQ(B66,$B$39:$B$66)+COUNTIF($B$39:$B$66,B66)-1 -> 27 | E66: =INDEX($A$39:$B$66,MATCH(ROW()-38,$D$39:$D$66,0),1) -> MELILLA | F66: =LOOKUP(E66,$A$39:$A$66,$B$39:$B$66) -> 1147234 | G66: =LOOKUP(E66,$A$39:$A$66,$C$39:$C$66) -> 1141881

Sheet Líquidos
F1: 2. GRANELES LÍQUIDOS (toneladas)
A5: Autoridad Portuaria | B5: ='Resumen general'!D6 -> Mes diciembre | D5: ='Resumen general'!F6 -> Acumulado desde enero | L5: ='Resumen general'!I4 -> Fecha: 20/12/2018
B6: ='Resumen general'!D7 -> 2016 | C6: ='Resumen general'!E7 -> 2017 | D6: ='Resumen general'!F7 -> 2016 | E6: ='Resumen general'!G7 -> 2017 | F6: Var. (%)
A7: A CORUÑA | B7: 670539 | C7: 729071 | D7: 8169622 | E7: 8788868 | F7: =((E7*100)/D7)-100 -> 7.5798611
A8: ALICANTE | B8: 11460.06 | C8: 1600 | D8: 43336.06 | E8: 41228.69 | F8: =((E8*100)/D8)-100 -> -4.8628556
A9: ALMERÍA | B9: 0 | C9: 0 | D9: 28465 | E9: 31656 | F9: =((E9*100)/D9)-100 -> 11.210258
A10: AVILÉS | B10: 55820.85 | C10: 70525 | D10: 625174.85 | E10: 658157.57 | F10: =((E10*100)/D10)-100 -> 5.2757593
A11: BAHÍA DE ALGECIRAS | B11: 2000578 | C11: 2150888 | D11: 27309859 | E11: 28774987 | F11: =((E11*100)/D11)-100 -> 5.3648318
A12: BAHÍA DE CÁDIZ | B12: 22332 | C12: 35419 | D12: 404838 | E12: 578775 | F12: =((E12*100)/D12)-100 -> 42.964593
A13: BALEARES | B13: 86522 | C13: 53454 | D13: 1541653 | E13: 1553351 | F13: =((E13*100)/D13)-100 -> 0.75879592
A14: BARCELONA | B14: 835934 | C14: 1374654 | D14: 11415816 | E14: 14483623 | F14: =((E14*100)/D14)-100 -> 26.873305
A15: BILBAO | B15: 1828251.4 | C15: 1912653 | D15: 18087202 | E15: 19783840 | F15: =((E15*100)/D15)-100 -> 9.3803208
A16: CARTAGENA | B16: 2407327 | C16: 2024965 | D16: 25025669 | E16: 27177908 | F16: =((E16*100)/D16)-100 -> 8.6001257
A17: CASTELLÓN | B17: 875566 | C17: 384838 | D17: 8354528 | E17: 7834585 | F17: =((E17*100)/D17)-100 -> -6.2234874
A18: CEUTA | B18: 118716 | C18: 95639 | D18: 876112 | E18: 994798 | F18: =((E18*100)/D18)-100 -> 13.546898
... A26: MOTRIL | B26: 102982 | C26: 61251 | D26: 1197007 | E26: 1049953 | F26: =((E26*100)/D26)-100 -> -12.285141
A27: PASAIA | B27: 0 | C27: 0 | D27: 0 | E27: 0
A28: SANTA CRUZ DE TENERIFE | B28: 484249 | C28: 400956 | D28: 6157862 | E28: 5137879 | F28: =((E28*100)/D28)-100 -> -16.563915
A29: SANTANDER | B29: 15973 | C29: 25422 | D29: 139775 | E29: 234493 | F29: =((E29*100)/D29)-100 -> 67.764622
A30: SEVILLA | B30: 16533 | C30: 58055 | D30: 229665 | E30: 422753 | F30: =((E30*100)/D30)-100 -> 84.07376
A31: TARRAGONA | B31: 2078633 | C31: 1666130 | D31: 20268771 | E31: 22035857 | F31: =((E31*100)/D31)-100 -> 8.7182691
A32: VALENCIA | B32: 441744 | C32: 159902 | D32: 3803068 | E32: 3203487 | F32: =((E32*100)/D32)-100 -> -15.765719
A33: VIGO | B33: 3000 | C33: 0 | D33: 60452 | E33: 67776 | F33: =((E33*100)/D33)-100 -> 12.115397
A34: VILAGARCÍA | B34: 13187.09 | C34: 13504 | D34: 184160.09 | E34: 193687.34 | F34: =((E34*100)/D34)-100 -> 5.1733522
A35: Total | B35: =SUM(B7:B34) -> 14647070 | C35: =SUM(C7:C34) -> 14514026 | D35: =SUM(D7:D34) -> 1.6758332e+08 | E35: =SUM(E7:E34) -> 1.7824283e+08 | F35: =((E35*100)/D35)-100 -> 6.3607223
A36: Incluye cargas, descargas, tránsitos y transbordos.
B38: =E6 -> 2017 | C38: =D6 -> 2016 | F38: =B38 -> 2017 | G38: =C38 -> 2016
A39: =A7 -> A CORUÑA | B39: =E7 -> 8788868 | C39: =D7 -> 8169622 | D39: =_xlfn.RANK.EQ(B39,$B$39:$B$66)+COUNTIF($B$39:$B$66,B39)-1 -> 7 | E39: =INDEX($A$39:$B$66,MATCH(ROW()-38,$D$39:$D$66,0),1) -> BAHÍA DE ALGECIRAS | F39: =LOOKUP(E39,$A$39:$A$66,$B$39:$B$66) -> 28774987 | G39: =LOOKUP(E39,$A$39:$A$66,$C$39:$C$66) -> 27309859
A40: =A8 -> ALICANTE | B40: =E8 -> 41228.69 | C40: =D8 -> 43336.06 | D40: =_xlfn.RANK.EQ(B40,$B$39:$B$66)+COUNTIF($B$39:$B$66,B40)-1 -> 25 | E40: =INDEX($A$39:$B$66,MATCH(ROW()-38,$D$39:$D$66,0),1) -> CARTAGENA | F40: =LOOKUP(E40,$A$39:$A$66,$B$39:$B$66) -> 27177908 | G40: =LOOKUP(E40,$A$39:$A$66,$C$39:$C$66) -> 25025669
A41: =A9 -> ALMERÍA | B41: =E9 -> 31656 | C41: =D9 -> 28465 | D41: =_xlfn.RANK.EQ(B41,$B$39:$B$66)+COUNTIF($B$39:$B$66,B41)-1 -> 26 | E41: =INDEX($A$39:$B$66,MATCH(ROW()-38,$D$39:$D$66,0),1) -> HUELVA | F41: =LOOKUP(E41,$A$39:$A$66,$B$39:$B$66) -> 24904547 | G41: =LOOKUP(E41,$A$39:$A$66,$C$39:$C$66) -> 24136062
A42: =A10 -> AVILÉS | B42: =E10 -> 658157.57 | C42: =D10 -> 625174.85 | D42: =_xlfn.RANK.EQ(B42,$B$39:$B$66)+COUNTIF($B$39:$B$66,B42)-1 -> 17 | E42: =INDEX($A$39:$B$66,MATCH(ROW()-38,$D$39:$D$66,0),1) -> TARRAGONA | F42: =LOOKUP(E42,$A$39:$A$66,$B$39:$B$66) -> 22035857 | G42: =LOOKUP(E42,$A$39:$A$66,$C$39:$C$66) -> 20268771
A43: =A11 -> BAHÍA DE ALGECIRAS | B43: =E11 -> 28774987 | C43: =D11 -> 27309859 | D43: =_xlfn.RANK.EQ(B43,$B$39:$B$66)+COUNTIF($B$39:$B$66,B43)-1 -> 1 | E43: =INDEX($A$39:$B$66,MATCH(ROW()-38,$D$39:$D$66,0),1) -> BILBAO | F43: =LOOKUP(E43,$A$39:$A$66,$B$39:$B$66) -> 19783840 | G43: =LOOKUP(E43,$A$39:$A$66,$C$39:$C$66) -> 18087202
A44: =A12 -> BAHÍA DE CÁDIZ | B44: =E12 -> 578775 | C44: =D12 -> 404838 | D44: =_xlfn.RANK.EQ(B44,$B$39:$B$66)+COUNTIF($B$39:$B$66,B44)-1 -> 18 | E44: =INDEX($A$39:$B$66,MATCH(ROW()-38,$D$39:$D$66,0),1) -> BARCELONA | F44: =LOOKUP(E44,$A$39:$A$66,$B$39:$B$66) -> 14483623 | G44: =LOOKUP(E44,$A$39:$A$66,$C$39:$C$66) -> 11415816
A45: =A13 -> BALEARES | B45: =E13 -> 1553351 | C45: =D13 -> 1541653 | D45: =_xlfn.RANK.EQ(B45,$B$39:$B$66)+COUNTIF($B$39:$B$66,B45)-1 -> 13 | E45: =INDEX($A$39:$B$66,MATCH(ROW()-38,$D$39:$D$66,0),1) -> A CORUÑA | F45: =LOOKUP(E45,$A$39:$A$66,$B$39:$B$66) -> 8788868 | G45: =LOOKUP(E45,$A$39:$A$66,$C$39:$C$66) -> 8169622
A46: =A14 -> BARCELONA | B46: =E14 -> 14483623 | C46: =D14 -> 11415816 | D46: =_xlfn.RANK.EQ(B46,$B$39:$B$66)+COUNTIF($B$39:$B$66,B46)-1 -> 6 | E46: =INDEX($A$39:$B$66,MATCH(ROW()-38,$D$39:$D$66,0),1) -> CASTELLÓN | F46: =LOOKUP(E46,$A$39:$A$66,$B$39:$B$66) -> 7834585 | G46: =LOOKUP(E46,$A$39:$A$66,$C$39:$C$66) -> 8354528
A47: =A15 -> BILBAO | B47: =E15 -> 19783840 | C47: =D15 -> 18087202 | D47: =_xlfn.RANK.EQ(B47,$B$39:$B$66)+COUNTIF($B$39:$B$66,B47)-1 -> 5 | E47: =INDEX($A$39:$B$66,MATCH(ROW()-38,$D$39:$D$66,0),1) -> LAS PALMAS | F47: =LOOKUP(E47,$A$39:$A$66,$B$39:$B$66) -> 6849513 | G47: =LOOKUP(E47,$A$39:$A$66,$C$39:$C$66) -> 6119850
A48: =A16 -> CARTAGENA | B48: =E16 -> 27177908 | C48: =D16 -> 25025669 | D48: =_xlfn.RANK.EQ(B48,$B$39:$B$66)+COUNTIF($B$39:$B$66,B48)-1 -> 2 | E48: =INDEX($A$39:$B$66,MATCH(ROW()-38,$D$39:$D$66,0),1) -> SANTA CRUZ DE TENERIFE | F48: =LOOKUP(E48,$A$39:$A$66,$B$39:$B$66) -> 5137879 | G48: =LOOKUP(E48,$A$39:$A$66,$C$39:$C$66) -> 6157862
A49: =A17 -> CASTELLÓN | B49: =E17 -> 7834585 | C49: =D17 -> 8354528 | D49: =_xlfn.RANK.EQ(B49,$B$39:$B$66)+COUNTIF($B$39:$B$66,B49)-1 -> 8 | E49: =INDEX($A$39:$B$66,MATCH(ROW()-38,$D$39:$D$66,0),1) -> VALENCIA | F49: =LOOKUP(E49,$A$39:$A$66,$B$39:$B$66) -> 3203487 | G49: =LOOKUP(E49,$A$39:$A$66,$C$39:$C$66) -> 3803068
A50: =A18 -> CEUTA | B50: =E18 -> 994798 | C50: =D18 -> 876112 | D50: =_xlfn.RANK.EQ(B50,$B$39:$B$66)+COUNTIF($B$39:$B$66,B50)-1 -> 15 | E50: =INDEX($A$39:$B$66,MATCH(ROW()-38,$D$39:$D$66,0),1) -> FERROL-SAN CIBRAO | F50: =LOOKUP(E50,$A$39:$A$66,$B$39:$B$66) -> 2313028.4 | G50: =LOOKUP(E50,$A$39:$A$66,$C$39:$C$66) -> 2345048.8
... A66: =A34 -> VILAGARCÍA | B66: =E34 -> 193687.34 | C66: =D34 -> 184160.09 | D66: =_xlfn.RANK.EQ(B66,$B$39:$B$66)+COUNTIF($B$39:$B$66,B66)-1 -> 21 | E66: =INDEX($A$39:$B$66,MATCH(ROW()-38,$D$39:$D$66,0),1) -> MARÍN Y RÍA DE PONTEVEDRA | F66: =LOOKUP(E66,$A$39:$A$66,$B$39:$B$66) -> 0 | G66: =LOOKUP(E66,$A$39:$A$66,$C$39:$C$66) -> 3.5

Sheet Sólidos
F1: 3. GRANELES SÓLIDOS (toneladas)
A5: Autoridad Portuaria | B5: ='Resumen general'!D6 -> Mes diciembre | D5: ='Resumen general'!F6 -> Acumulado desde enero | L5: ='Resumen general'!I4 -> Fecha: 20/12/2018
B6: ='Resumen general'!D7 -> 2016 | C6: ='Resumen general'!E7 -> 2017 | D6: ='Resumen general'!F7 -> 2016 | E6: ='Resumen general'!G7 -> 2017 | F6: Var. (%)
A7: A CORUÑA | B7: 448578 | C7: 505663 | D7: 4345101 | E7: 5057024 | F7: =((E7*100)/D7)-100 -> 16.384498
A8: ALICANTE | B8: 94270.34 | C8: 119149 | D8: 1904456.3 | E8: 1877180.2 | F8: =((E8*100)/D8)-100 -> -1.4322287
A9: ALMERÍA | B9: 481843 | C9: 552214 | D9: 4695167 | E9: 5618871 | F9: =((E9*100)/D9)-100 -> 19.673507
A10: AVILÉS | B10: 296135.46 | C10: 225930 | D10: 2920900.5 | E10: 2879679.5 | F10: =((E10*100)/D10)-100 -> -1.4112425
A11: BAHÍA DE ALGECIRAS | B11: 399110 | C11: 219938 | D11: 1778840 | E11: 2102907 | F11: =((E11*100)/D11)-100 -> 18.217884
A12: BAHÍA DE CÁDIZ | B12: 142299 | C12: 131474 | D12: 1763516 | E12: 1747589 | F12: =((E12*100)/D12)-100 -> -0.90313896
A13: BALEARES | B13: 145351 | C13: 126044 | D13: 1550899 | E13: 1610651 | F13: =((E13*100)/D13)-100 -> 3.8527332
A14: BARCELONA | B14: 446616 | C14: 352402 | D14: 4430798 | E14: 4465637 | F14: =((E14*100)/D14)-100 -> 0.78629177
A15: BILBAO | B15: 480783 | C15: 405774 | D15: 4362064 | E15: 4543164 | F15: =((E15*100)/D15)-100 -> 4.1517043
A16: CARTAGENA | B16: 372116 | C16: 469293 | D16: 5304817 | E16: 5820338 | F16: =((E16*100)/D16)-100 -> 9.717979
A17: CASTELLÓN | B17: 501262 | C17: 491299 | D17: 5198982 | E17: 6463716 | F17: =((E17*100)/D17)-100 -> 24.32657
A18: CEUTA | B18: 0 | C18: 0 | D18: 22249 | E18: 17469 | F18: =((E18*100)/D18)-100 -> -21.484112
... A34: VILAGARCÍA | B34: 57030.16 | C34: 51015 | D34: 320553.16 | E34: 421101.14 | F34: =((E34*100)/D34)-100 -> 31.367022
A35: Total | B35: =SUM(B7:B34) -> 8341804.8 | C35: =SUM(C7:C34) -> 8579383 | D35: =SUM(D7:D34) -> 91993448 | E35: =SUM(E7:E34) -> 1.0142872e+08 | F35: =((E35*100)/D35)-100 -> 10.256456
A36: Incluye cargas, descargas, tránsitos y transbordos.
B38: =E6 -> 2017 | C38: =D6 -> 2016 | F38: =B38 -> 2017 | G38: =C38 -> 2016
A39: =A7 -> A CORUÑA | B39: =E7 -> 5057024 | C39: =D7 -> 4345101 | D39: =_xlfn.RANK.EQ(B39,$B$39:$B$66)+COUNTIF($B$39:$B$66,B39)-1 -> 8 | E39: =INDEX($A$39:$B$66,MATCH(ROW()-38,$D$39:$D$66,0),1) -> GIJÓN | F39: =LOOKUP(E39,$A$39:$A$66,$B$39:$B$66) -> 19220421 | G39: =LOOKUP(E39,$A$39:$A$66,$C$39:$C$66) -> 16023647
A40: =A8 -> ALICANTE | B40: =E8 -> 1877180.2 | C40: =D8 -> 1904456.3 | D40: =_xlfn.RANK.EQ(B40,$B$39:$B$66)+COUNTIF($B$39:$B$66,B40)-1 -> 16 | E40: =INDEX($A$39:$B$66,MATCH(ROW()-38,$D$39:$D$66,0),1) -> FERROL-SAN CIBRAO | F40: =LOOKUP(E40,$A$39:$A$66,$B$39:$B$66) -> 10455812 | G40: =LOOKUP(E40,$A$39:$A$66,$C$39:$C$66) -> 9406039
A41: =A9 -> ALMERÍA | B41: =E9 -> 5618871 | C41: =D9 -> 4695167 | D41: =_xlfn.RANK.EQ(B41,$B$39:$B$66)+COUNTIF($B$39:$B$66,B41)-1 -> 7 | E41: =INDEX($A$39:$B$66,MATCH(ROW()-38,$D$39:$D$66,0),1) -> TARRAGONA | F41: =LOOKUP(E41,$A$39:$A$66,$B$39:$B$66) -> 9505432 | G41: =LOOKUP(E41,$A$39:$A$66,$C$39:$C$66) -> 9065474
A42: =A10 -> AVILÉS | B42: =E10 -> 2879679.5 | C42: =D10 -> 2920900.5 | D42: =_xlfn.RANK.EQ(B42,$B$39:$B$66)+COUNTIF($B$39:$B$66,B42)-1 -> 12 | E42: =INDEX($A$39:$B$66,MATCH(ROW()-38,$D$39:$D$66,0),1) -> HUELVA | F42: =LOOKUP(E42,$A$39:$A$66,$B$39:$B$66) -> 6487378.1 | G42: =LOOKUP(E42,$A$39:$A$66,$C$39:$C$66) -> 5759382.8
A43: =A11 -> BAHÍA DE ALGECIRAS | B43: =E11 -> 2102907 | C43: =D11 -> 1778840 | D43: =_xlfn.RANK.EQ(B43,$B$39:$B$66)+COUNTIF($B$39:$B$66,B43)-1 -> 15 | E43: =INDEX($A$39:$B$66,MATCH(ROW()-38,$D$39:$D$66,0),1) -> CASTELLÓN | F43: =LOOKUP(E43,$A$39:$A$66,$B$39:$B$66) -> 6463716 | G43: =LOOKUP(E43,$A$39:$A$66,$C$39:$C$66) -> 5198982
A44: =A12 -> BAHÍA DE CÁDIZ | B44: =E12 -> 1747589 | C44: =D12 -> 1763516 | D44: =_xlfn.RANK.EQ(B44,$B$39:$B$66)+COUNTIF($B$39:$B$66,B44)-1 -> 17 | E44: =INDEX($A$39:$B$66,MATCH(ROW()-38,$D$39:$D$66,0),1) -> CARTAGENA | F44: =LOOKUP(E44,$A$39:$A$66,$B$39:$B$66) -> 5820338 | G44: =LOOKUP(E44,$A$39:$A$66,$C$39:$C$66) -> 5304817
A45: =A13 -> BALEARES | B45: =E13 -> 1610651 | C45: =D13 -> 1550899 | D45: =_xlfn.RANK.EQ(B45,$B$39:$B$66)+COUNTIF($B$39:$B$66,B45)-1 -> 19 | E45: =INDEX($A$39:$B$66,MATCH(ROW()-38,$D$39:$D$66,0),1) -> ALMERÍA | F45: =LOOKUP(E45,$A$39:$A$66,$B$39:$B$66) -> 5618871 | G45: =LOOKUP(E45,$A$39:$A$66,$C$39:$C$66) -> 4695167
A46: =A14 -> BARCELONA | B46: =E14 -> 4465637 | C46: =D14 -> 4430798 | D46: =_xlfn.RANK.EQ(B46,$B$39:$B$66)+COUNTIF($B$39:$B$66,B46)-1 -> 10 | E46: =INDEX($A$39:$B$66,MATCH(ROW()-38,$D$39:$D$66,0),1) -> A CORUÑA | F46: =LOOKUP(E46,$A$39:$A$66,$B$39:$B$66) -> 5057024 | G46: =LOOKUP(E46,$A$39:$A$66,$C$39:$C$66) -> 4345101
A47: =A15 -> BILBAO | B47: =E15 -> 4543164 | C47: =D15 -> 4362064 | D47: =_xlfn.RANK.EQ(B47,$B$39:$B$66)+COUNTIF($B$39:$B$66,B47)-1 -> 9 | E47: =INDEX($A$39:$B$66,MATCH(ROW()-38,$D$39:$D$66,0),1) -> BILBAO | F47: =LOOKUP(E47,$A$39:$A$66,$B$39:$B$66) -> 4543164 | G47: =LOOKUP(E47,$A$39:$A$66,$C$39:$C$66) -> 4362064
A48: =A16 -> CARTAGENA | B48: =E16 -> 5820338 | C48: =D16 -> 5304817 | D48: =_xlfn.RANK.EQ(B48,$B$39:$B$66)+COUNTIF($B$39:$B$66,B48)-1 -> 6 | E48: =INDEX($A$39:$B$66,MATCH(ROW()-38,$D$39:$D$66,0),1) -> BARCELONA | F48: =LOOKUP(E48,$A$39:$A$66,$B$39:$B$66) -> 4465637 | G48: =LOOKUP(E48,$A$39:$A$66,$C$39:$C$66) -> 4430798
A49: =A17 -> CASTELLÓN | B49: =E17 -> 6463716 | C49: =D17 -> 5198982 | D49: =_xlfn.RANK.EQ(B49,$B$39:$B$66)+COUNTIF($B$39:$B$66,B49)-1 -> 5 | E49: =INDEX($A$39:$B$66,MATCH(ROW()-38,$D$39:$D$66,0),1) -> SANTANDER | F49: =LOOKUP(E49,$A$39:$A$66,$B$39:$B$66) -> 3476272 | G49: =LOOKUP(E49,$A$39:$A$66,$C$39:$C$66) -> 2823113
A50: =A18 -> CEUTA | B50: =E18 -> 17469 | C50: =D18 -> 22249 | D50: =_xlfn.RANK.EQ(B50,$B$39:$B$66)+COUNTIF($B$39:$B$66,B50)-1 -> 27 | E50: =INDEX($A$39:$B$66,MATCH(ROW()-38,$D$39:$D$66,0),1) -> AVILÉS | F50: =LOOKUP(E50,$A$39:$A$66,$B$39:$B$66) -> 2879679.5 | G50: =LOOKUP(E50,$A$39:$A$66,$C$39:$C$66) -> 2920900.5
... A66: =A34 -> VILAGARCÍA | B66: =E34 -> 421101.14 | C66: =D34 -> 320553.16 | D66: =_xlfn.RANK.EQ(B66,$B$39:$B$66)+COUNTIF($B$39:$B$66,B66)-1 -> 24 | E66: =INDEX($A$39:$B$66,MATCH(ROW()-38,$D$39:$D$66,0),1) -> MELILLA | F66: =LOOKUP(E66,$A$39:$A$66,$B$39:$B$66) -> 7372 | G66: =LOOKUP(E66,$A$39:$A$66,$C$39:$C$66) -> 5825

Sheet Mercancía general
F1: 4. MERCANCÍA GENERAL (toneladas)
A5: Autoridad Portuaria | B5: ='Resumen general'!D6 -> Mes diciembre | D5: ='Resumen general'!F6 -> Acumulado desde enero | L5: ='Resumen general'!I4 -> Fecha: 20/12/2018
B6: ='Resumen general'!D7 -> 2016 | C6: ='Resumen general'!E7 -> 2017 | D6: ='Resumen general'!F7 -> 2016 | E6: ='Resumen general'!G7 -> 2017 | F6: Var. (%)
A7: A CORUÑA | B7: 81486 | C7: 61348 | D7: 1012375 | E7: 914720 | F7: =((E7*100)/D7)-100 -> -9.6461292
A8: ALICANTE | B8: 137869.13 | C8: 135594 | D8: 1494788.1 | E8: 1503201.8 | F8: =((E8*100)/D8)-100 -> 0.56286974
A9: ALMERÍA | B9: 59514 | C9: 54025 | D9: 666391 | E9: 639714 | F9: =((E9*100)/D9)-100 -> -4.0032053
A10: AVILÉS | B10: 204203.78 | C10: 108968 | D10: 1363057.8 | E10: 1214020.2 | F10: =((E10*100)/D10)-100 -> -10.934063
A11: BAHÍA DE ALGECIRAS | B11: 5453868 | C11: 5496147 | D11: 67772961 | E11: 65452560 | F11: =((E11*100)/D11)-100 -> -3.4237858
A12: BAHÍA DE CÁDIZ | B12: 107368 | C12: 124763 | D12: 1329300 | E12: 1660429 | F12: =((E12*100)/D12)-100 -> 24.910028
A13: BALEARES | B13: 782140 | C13: 771832 | D13: 11583653 | E13: 12244800 | F13: =((E13*100)/D13)-100 -> 5.7075864
A14: BARCELONA | B14: 2525566 | C14: 3288812 | D14: 31666349 | E14: 41120874 | F14: =((E14*100)/D14)-100 -> 29.856694
A15: BILBAO | B15: 1090646 | C15: 1024882 | D15: 9499477 | E15: 9867978 | F15: =((E15*100)/D15)-100 -> 3.8791715
A16: CARTAGENA | B16: 85953 | C16: 113434 | D16: 1394137 | E16: 1534101 | F16: =((E16*100)/D16)-100 -> 10.039472
A17: CASTELLÓN | B17: 306805 | C17: 238469 | D17: 3489164 | E17: 3583884 | F17: =((E17*100)/D17)-100 -> 2.7146904
A18: CEUTA | B18: 87837 | C18: 55794 | D18: 1036230 | E18: 868829 | F18: =((E18*100)/D18)-100 -> -16.154811
... A34: VILAGARCÍA | B34: 44297.61 | C34: 39658 | D34: 601068.61 | E34: 586970.88 | F34: =((E34*100)/D34)-100 -> -2.3454444
A35: Total | B35: =SUM(B7:B34) -> 19612269 | C35: =SUM(C7:C34) -> 20409797 | D35: =SUM(D7:D34) -> 2.3603122e+08 | E35: =SUM(E7:E34) -> 2.5246602e+08 | F35: =((E35*100)/D35)-100 -> 6.9629747
A36: Incluye cargas, descargas, tránsitos y transbordos.
B38: =E6 -> 2017 | C38: =D6 -> 2016 | F38: =B38 -> 2017 | G38: =C38 -> 2016
A39: =A7 -> A CORUÑA | B39: =E7 -> 914720 | C39: =D7 -> 1012375 | D39: =_xlfn.RANK.EQ(B39,$B$39:$B$66)+COUNTIF($B$39:$B$66,B39)-1 -> 22 | E39: =INDEX($A$39:$B$66,MATCH(ROW()-38,$D$39:$D$66,0),1) -> VALENCIA | F39: =LOOKUP(E39,$A$39:$A$66,$B$39:$B$66) -> 67767129 | G39: =LOOKUP(E39,$A$39:$A$66,$C$39:$C$66) -> 64660896
A40: =A8 -> ALICANTE | B40: =E8 -> 1503201.8 | C40: =D8 -> 1494788.1 | D40: =_xlfn.RANK.EQ(B40,$B$39:$B$66)+COUNTIF($B$39:$B$66,B40)-1 -> 18 | E40: =INDEX($A$39:$B$66,MATCH(ROW()-38,$D$39:$D$66,0),1) -> BAHÍA DE ALGECIRAS | F40: =LOOKUP(E40,$A$39:$A$66,$B$39:$B$66) -> 65452560 | G40: =LOOKUP(E40,$A$39:$A$66,$C$39:$C$66) -> 67772961
A41: =A9 -> ALMERÍA | B41: =E9 -> 639714 | C41: =D9 -> 666391 | D41: =_xlfn.RANK.EQ(B41,$B$39:$B$66)+COUNTIF($B$39:$B$66,B41)-1 -> 27 | E41: =INDEX($A$39:$B$66,MATCH(ROW()-38,$D$39:$D$66,0),1) -> BARCELONA | F41: =LOOKUP(E41,$A$39:$A$66,$B$39:$B$66) -> 41120874 | G41: =LOOKUP(E41,$A$39:$A$66,$C$39:$C$66) -> 31666349
A42: =A10 -> AVILÉS | B42: =E10 -> 1214020.2 | C42: =D10 -> 1363057.8 | D42: =_xlfn.RANK.EQ(B42,$B$39:$B$66)+COUNTIF($B$39:$B$66,B42)-1 -> 19 | E42: =INDEX($A$39:$B$66,MATCH(ROW()-38,$D$39:$D$66,0),1) -> LAS PALMAS | F42: =LOOKUP(E42,$A$39:$A$66,$B$39:$B$66) -> 16933001 | G42: =LOOKUP(E42,$A$39:$A$66,$C$39:$C$66) -> 13538658
A43: =A11 -> BAHÍA DE ALGECIRAS | B43: =E11 -> 65452560 | C43: =D11 -> 67772961 | D43: =_xlfn.RANK.EQ(B43,$B$39:$B$66)+COUNTIF($B$39:$B$66,B43)-1 -> 2 | E43: =INDEX($A$39:$B$66,MATCH(ROW()-38,$D$39:$D$66,0),1) -> BALEARES | F43: =LOOKUP(E43,$A$39:$A$66,$B$39:$B$66) -> 12244800 | G43: =LOOKUP(E43,$A$39:$A$66,$C$39:$C$66) -> 11583653
A44: =A12 -> BAHÍA DE CÁDIZ | B44: =E12 -> 1660429 | C44: =D12 -> 1329300 | D44: =_xlfn.RANK.EQ(B44,$B$39:$B$66)+COUNTIF($B$39:$B$66,B44)-1 -> 14 | E44: =INDEX($A$39:$B$66,MATCH(ROW()-38,$D$39:$D$66,0),1) -> BILBAO | F44: =LOOKUP(E44,$A$39:$A$66,$B$39:$B$66) -> 9867978 | G44: =LOOKUP(E44,$A$39:$A$66,$C$39:$C$66) -> 9499477
A45: =A13 -> BALEARES | B45: =E13 -> 12244800 | C45: =D13 -> 11583653 | D45: =_xlfn.RANK.EQ(B45,$B$39:$B$66)+COUNTIF($B$39:$B$66,B45)-1 -> 5 | E45: =INDEX($A$39:$B$66,MATCH(ROW()-38,$D$39:$D$66,0),1) -> SANTA CRUZ DE TENERIFE | F45: =LOOKUP(E45,$A$39:$A$66,$B$39:$B$66) -> 7391132 | G45: =LOOKUP(E45,$A$39:$A$66,$C$39:$C$66) -> 6385031
A46: =A14 -> BARCELONA | B46: =E14 -> 41120874 | C46: =D14 -> 31666349 | D46: =_xlfn.RANK.EQ(B46,$B$39:$B$66)+COUNTIF($B$39:$B$66,B46)-1 -> 3 | E46: =INDEX($A$39:$B$66,MATCH(ROW()-38,$D$39:$D$66,0),1) -> VIGO | F46: =LOOKUP(E46,$A$39:$A$66,$B$39:$B$66) -> 3637839.5 | G46: =LOOKUP(E46,$A$39:$A$66,$C$39:$C$66) -> 3566241
A47: =A15 -> BILBAO | B47: =E15 -> 9867978 | C47: =D15 -> 9499477 | D47: =_xlfn.RANK.EQ(B47,$B$39:$B$66)+COUNTIF($B$39:$B$66,B47)-1 -> 6 | E47: =INDEX($A$39:$B$66,MATCH(ROW()-38,$D$39:$D$66,0),1) -> CASTELLÓN | F47: =LOOKUP(E47,$A$39:$A$66,$B$39:$B$66) -> 3583884 | G47: =LOOKUP(E47,$A$39:$A$66,$C$39:$C$66) -> 3489164
A48: =A16 -> CARTAGENA | B48: =E16 -> 1534101 | C48: =D16 -> 1394137 | D48: =_xlfn.RANK.EQ(B48,$B$39:$B$66)+COUNTIF($B$39:$B$66,B48)-1 -> 17 | E48: =INDEX($A$39:$B$66,MATCH(ROW()-38,$D$39:$D$66,0),1) -> PASAIA | F48: =LOOKUP(E48,$A$39:$A$66,$B$39:$B$66) -> 2085298 | G48: =LOOKUP(E48,$A$39:$A$66,$C$39:$C$66) -> 2294657
A49: =A17 -> CASTELLÓN | B49: =E17 -> 3583884 | C49: =D17 -> 3489164 | D49: =_xlfn.RANK.EQ(B49,$B$39:$B$66)+COUNTIF($B$39:$B$66,B49)-1 -> 9 | E49: =INDEX($A$39:$B$66,MATCH(ROW()-38,$D$39:$D$66,0),1) -> TARRAGONA | F49: =LOOKUP(E49,$A$39:$A$66,$B$39:$B$66) -> 2079663 | G49: =LOOKUP(E49,$A$39:$A$66,$C$39:$C$66) -> 1994525
A50: =A18 -> CEUTA | B50: =E18 -> 868829 | C50: =D18 -> 1036230 | D50: =_xlfn.RANK.EQ(B50,$B$39:$B$66)+COUNTIF($B$39:$B$66,B50)-1 -> 23 | E50: =INDEX($A$39:$B$66,MATCH(ROW()-38,$D$39:$D$66,0),1) -> SEVILLA | F50: =LOOKUP(E50,$A$39:$A$66,$B$39:$B$66) -> 1901287 | G50: =LOOKUP(E50,$A$39:$A$66,$C$39:$C$66) -> 2310497
... A66: =A34 -> VILAGARCÍA | B66: =E34 -> 586970.88 | C66: =D34 -> 601068.61 | D66: =_xlfn.RANK.EQ(B66,$B$39:$B$66)+COUNTIF($B$39:$B$66,B66)-1 -> 28 | E66: =INDEX($A$39:$B$66,MATCH(ROW()-38,$D$39:$D$66,0),1) -> VILAGARCÍA | F66: =LOOKUP(E66,$A$39:$A$66,$B$39:$B$66) -> 586970.88 | G66: =LOOKUP(E66,$A$39:$A$66,$C$39:$C$66) -> 601068.61

Sheet Mercancías contenedores
F1: 4.1. MERCANCÍAS EN CONTENEDORES (toneladas)
A5: Autoridad Portuaria | B5: ='Resumen general'!D6 -> Mes diciembre | D5: ='Resumen general'!F6 -> Acumulado desde enero | L5: ='Resumen general'!I4 -> Fecha: 20/12/2018
B6: ='Resumen general'!D7 -> 2016 | C6: ='Resumen general'!E7 -> 2017 | D6: ='Resumen general'!F7 -> 2016 | E6: ='Resumen general'!G7 -> 2017 | F6: Var. (%)
A7: A CORUÑA | B7: 0 | C7: 0 | D7: 565 | E7: 6 | F7: =((E7*100)/D7)-100 -> -98.938053
A8: ALICANTE | B8: 107983.56 | C8: 118195 | D8: 1223631.6 | E8: 1258641.8 | F8: =((E8*100)/D8)-100 -> 2.8611766
A9: ALMERÍA | B9: 2450 | C9: 2125 | D9: 42615 | E9: 34934 | F9: =((E9*100)/D9)-100 -> -18.02417
A10: AVILÉS | B10: 0 | C10: 0 | D10: 2 | E10: 0 | F10: =((E10*100)/D10)-100 -> -100
A11: BAHÍA DE ALGECIRAS | B11: 4748404 | C11: 4819683 | D11: 60178589 | E11: 57600003 | F11: =((E11*100)/D11)-100 -> -4.2848894
A12: BAHÍA DE CÁDIZ | B12: 45434 | C12: 54504 | D12: 581737 | E12: 644765 | F12: =((E12*100)/D12)-100 -> 10.834449
A13: BALEARES | B13: 60801 | C13: 51980 | D13: 847084 | E13: 813517 | F13: =((E13*100)/D13)-100 -> -3.9626531
A14: BARCELONA | B14: 1845854 | C14: 2490444 | D14: 20929309 | E14: 29911225 | F14: =((E14*100)/D14)-100 -> 42.915492
A15: BILBAO | B15: 668165 | C15: 709846 | D15: 6372959 | E15: 6464560 | F15: =((E15*100)/D15)-100 -> 1.4373386
A16: CARTAGENA | B16: 72177 | C16: 89857 | D16: 1171162 | E16: 1223604 | F16: =((E16*100)/D16)-100 -> 4.4777751
A17: CASTELLÓN | B17: 279321 | C17: 217705 | D17: 3225695 | E17: 3276619 | F17: =((E17*100)/D17)-100 -> 1.5786985
A18: CEUTA | B18: 13503 | C18: 6845 | D18: 157954 | E18: 125217 | F18: =((E18*100)/D18)-100 -> -20.725654
... A34: VILAGARCÍA | B34: 19949.83 | C34: 25065 | D34: 278909.83 | E34: 293923.05 | F34: =((E34*100)/D34)-100 -> 5.3828221
A35: Total | B35: =SUM(B7:B34) -> 13884423 | C35: =SUM(C7:C34) -> 14859486 | D35: =SUM(D7:D34) -> 1.6829421e+08 | E35: =SUM(E7:E34) -> 1.8145292e+08 | F35: =((E35*100)/D35)-100 -> 7.8188721
A36: Incluye cargas, descargas, tránsitos y transbordos.
B38: =E6 -> 2017 | C38: =D6 -> 2016 | F38: =B38 -> 2017 | G38: =C38 -> 2016
A39: =A7 -> A CORUÑA | B39: =E7 -> 6 | C39: =D7 -> 565 | D39: =_xlfn.RANK.EQ(B39,$B$39:$B$66)+COUNTIF($B$39:$B$66,B39)-1 -> 27 | E39: =INDEX($A$39:$B$66,MATCH(ROW()-38,$D$39:$D$66,0),1) -> BAHÍA DE ALGECIRAS | F39: =LOOKUP(E39,$A$39:$A$66,$B$39:$B$66) -> 57600003 | G39: =LOOKUP(E39,$A$39:$A$66,$C$39:$C$66) -> 60178589
A40: =A8 -> ALICANTE | B40: =E8 -> 1258641.8 | C40: =D8 -> 1223631.6 | D40: =_xlfn.RANK.EQ(B40,$B$39:$B$66)+COUNTIF($B$39:$B$66,B40)-1 -> 9 | E40: =INDEX($A$39:$B$66,MATCH(ROW()-38,$D$39:$D$66,0),1) -> VALENCIA | F40: =LOOKUP(E40,$A$39:$A$66,$B$39:$B$66) -> 55978616 | G40: =LOOKUP(E40,$A$39:$A$66,$C$39:$C$66) -> 53872459
A41: =A9 -> ALMERÍA | B41: =E9 -> 34934 | C41: =D9 -> 42615 | D41: =_xlfn.RANK.EQ(B41,$B$39:$B$66)+COUNTIF($B$39:$B$66,B41)-1 -> 24 | E41: =INDEX($A$39:$B$66,MATCH(ROW()-38,$D$39:$D$66,0),1) -> BARCELONA | F41: =LOOKUP(E41,$A$39:$A$66,$B$39:$B$66) -> 29911225 | G41: =LOOKUP(E41,$A$39:$A$66,$C$39:$C$66) -> 20929309
A42: =A10 -> AVILÉS | B42: =E10 -> 0 | C42: =D10 -> 2 | D42: =_xlfn.RANK.EQ(B42,$B$39:$B$66)+COUNTIF($B$39:$B$66,B42)-1 -> 28 | E42: =INDEX($A$39:$B$66,MATCH(ROW()-38,$D$39:$D$66,0),1) -> LAS PALMAS | F42: =LOOKUP(E42,$A$39:$A$66,$B$39:$B$66) -> 12806963 | G42: =LOOKUP(E42,$A$39:$A$66,$C$39:$C$66) -> 9427479
A43: =A11 -> BAHÍA DE ALGECIRAS | B43: =E11 -> 57600003 | C43: =D11 -> 60178589 | D43: =_xlfn.RANK.EQ(B43,$B$39:$B$66)+COUNTIF($B$39:$B$66,B43)-1 -> 1 | E43: =INDEX($A$39:$B$66,MATCH(ROW()-38,$D$39:$D$66,0),1) -> BILBAO | F43: =LOOKUP(E43,$A$39:$A$66,$B$39:$B$66) -> 6464560 | G43: =LOOKUP(E43,$A$39:$A$66,$C$39:$C$66) -> 6372959
A44: =A12 -> BAHÍA DE CÁDIZ | B44: =E12 -> 644765 | C44: =D12 -> 581737 | D44: =_xlfn.RANK.EQ(B44,$B$39:$B$66)+COUNTIF($B$39:$B$66,B44)-1 -> 15 | E44: =INDEX($A$39:$B$66,MATCH(ROW()-38,$D$39:$D$66,0),1) -> SANTA CRUZ DE TENERIFE | F44: =LOOKUP(E44,$A$39:$A$66,$B$39:$B$66) -> 3699948 | G44: =LOOKUP(E44,$A$39:$A$66,$C$39:$C$66) -> 2870636
A45: =A13 -> BALEARES | B45: =E13 -> 813517 | C45: =D13 -> 847084 | D45: =_xlfn.RANK.EQ(B45,$B$39:$B$66)+COUNTIF($B$39:$B$66,B45)-1 -> 14 | E45: =INDEX($A$39:$B$66,MATCH(ROW()-38,$D$39:$D$66,0),1) -> CASTELLÓN | F45: =LOOKUP(E45,$A$39:$A$66,$B$39:$B$66) -> 3276619 | G45: =LOOKUP(E45,$A$39:$A$66,$C$39:$C$66) -> 3225695
A46: =A14 -> BARCELONA | B46: =E14 -> 29911225 | C46: =D14 -> 20929309 | D46: =_xlfn.RANK.EQ(B46,$B$39:$B$66)+COUNTIF($B$39:$B$66,B46)-1 -> 3 | E46: =INDEX($A$39:$B$66,MATCH(ROW()-38,$D$39:$D$66,0),1) -> VIGO | F46: =LOOKUP(E46,$A$39:$A$66,$B$39:$B$66) -> 2590411 | G46: =LOOKUP(E46,$A$39:$A$66,$C$39:$C$66) -> 2584834
A47: =A15 -> BILBAO | B47: =E15 -> 6464560 | C47: =D15 -> 6372959 | D47: =_xlfn.RANK.EQ(B47,$B$39:$B$66)+COUNTIF($B$39:$B$66,B47)-1 -> 5 | E47: =INDEX($A$39:$B$66,MATCH(ROW()-38,$D$39:$D$66,0),1) -> ALICANTE | F47: =LOOKUP(E47,$A$39:$A$66,$B$39:$B$66) -> 1258641.8 | G47: =LOOKUP(E47,$A$39:$A$66,$C$39:$C$66) -> 1223631.6
A48: =A16 -> CARTAGENA | B48: =E16 -> 1223604 | C48: =D16 -> 1171162 | D48: =_xlfn.RANK.EQ(B48,$B$39:$B$66)+COUNTIF($B$39:$B$66,B48)-1 -> 10 | E48: =INDEX($A$39:$B$66,MATCH(ROW()-38,$D$39:$D$66,0),1) -> CARTAGENA | F48: =LOOKUP(E48,$A$39:$A$66,$B$39:$B$66) -> 1223604 | G48: =LOOKUP(E48,$A$39:$A$66,$C$39:$C$66) -> 1171162
A49: =A17 -> CASTELLÓN | B49: =E17 -> 3276619 | C49: =D17 -> 3225695 | D49: =_xlfn.RANK.EQ(B49,$B$39:$B$66)+COUNTIF($B$39:$B$66,B49)-1 -> 7 | E49: =INDEX($A$39:$B$66,MATCH(ROW()-38,$D$39:$D$66,0),1) -> GIJÓN | F49: =LOOKUP(E49,$A$39:$A$66,$B$39:$B$66) -> 909346 | G49: =LOOKUP(E49,$A$39:$A$66,$C$39:$C$66) -> 820984
A50: =A18 -> CEUTA | B50: =E18 -> 125217 | C50: =D18 -> 157954 | D50: =_xlfn.RANK.EQ(B50,$B$39:$B$66)+COUNTIF($B$39:$B$66,B50)-1 -> 21 | E50: =INDEX($A$39:$B$66,MATCH(ROW()-38,$D$39:$D$66,0),1) -> MARÍN Y RÍA DE PONTEVEDRA | F50: =LOOKUP(E50,$A$39:$A$66,$B$39:$B$66) -> 899456 | G50: =LOOKUP(E50,$A$39:$A$66,$C$39:$C$66) -> 615786.13
... A66: =A34 -> VILAGARCÍA | B66: =E34 -> 293923.05 | C66: =D34 -> 278909.83 | D66: =_xlfn.RANK.EQ(B66,$B$39:$B$66)+COUNTIF($B$39:$B$66,B66)-1 -> 19 | E66: =INDEX($A$39:$B$66,MATCH(ROW()-38,$D$39:$D$66,0),1) -> AVILÉS | F66: =LOOKUP(E66,$A$39:$A$66,$B$39:$B$66) -> 0 | G66: =LOOKUP(E66,$A$39:$A$66,$C$39:$C$66) -> 2

Sheet Pesca
F1: 5. PESCA (toneladas)
A5: Autoridad Portuaria | B5: ='Resumen general'!D6 -> Mes diciembre | D5: ='Resumen general'!F6 -> Acumulado desde enero | L5: ='Resumen general'!I4 -> Fecha: 20/12/2018
B6: ='Resumen general'!D7 -> 2016 | C6: ='Resumen general'!E7 -> 2017 | D6: ='Resumen general'!F7 -> 2016 | E6: ='Resumen general'!G7 -> 2017 | F6: Var. (%)
A7: A CORUÑA | B7: 3399.2 | C7: 2178 | D7: 43690.2 | E7: 51102.289 | F7: =((E7*100)/D7)-100 -> 16.965107
A8: ALICANTE | B8: 26.37 | C8: 24 | D8: 254.37 | E8: 1668.957 | F8: =((E8*100)/D8)-100 -> 556.11393
A9: ALMERÍA | B9: 76 | C9: 241 | D9: 1945 | E9: 3465.653 | F9: =((E9*100)/D9)-100 -> 78.182674
A10: AVILÉS | B10: 650.94 | C10: 664 | D10: 12556.94 | E10: 13568.722 | F10: =((E10*100)/D10)-100 -> 8.0575522
A11: BAHÍA DE ALGECIRAS | B11: 53 | C11: 31 | D11: 868 | E11: 1014.97 | F11: =((E11*100)/D11)-100 -> 16.932028
A12: BAHÍA DE CÁDIZ | B12: 927.2 | C12: 987 | D12: 17333.2 | E12: 16293.623 | F12: =((E12*100)/D12)-100 -> -5.9976058
A13: BALEARES | B13: 221.4 | C13: 118 | D13: 2990.4 | E13: 3004.166 | F13: =((E13*100)/D13)-100 -> 0.46033975
A14: BARCELONA | B14: 10 | C14: 25 | D14: 3314 | E14: 2961.48 | F14: =((E14*100)/D14)-100 -> -10.637296
A15: BILBAO | B15: 0 | C15: 0 | D15: 0 | E15: 0
A16: CARTAGENA | B16: 33 | C16: 28 | D16: 510 | E16: 517.271 | F16: =((E16*100)/D16)-100 -> 1.4256863
A17: CASTELLÓN | B17: 151 | C17: 98 | D17: 4731 | E17: 4291.133 | F17: =((E17*100)/D17)-100 -> -9.2975481
A18: CEUTA | B18: 34 | C18: 0 | D18: 34 | E18: 27.902
A19: FERROL-SAN CIBRAO | B19: 29.99 | C19: 19 | D19: 266.99 | E19: 219.407 | F19: =((E19*100)/D19)-100 -> -17.822016
A20: GIJÓN | B20: 309.2 | C20: 157 | D20: 8284.2 | E20: 7364.836 | F20: =((E20*100)/D20)-100 -> -11.097801
A21: HUELVA | B21: 162.59 | C21: 147 | D21: 2031.59 | E21: 2009.576 | F21: =((E21*100)/D21)-100 -> -1.0835848
A22: LAS PALMAS | B22: 29 | C22: 31 | D22: 1841 | E22: 707.778 | F22: =((E22*100)/D22)-100 -> -61.554699
A23: MÁLAGA | B23: 6.54 | C23: 45 | D23: 638.54 | E23: 500.829 | F23: =((E23*100)/D23)-100 -> -21.566542
A24: MARÍN Y RÍA DE PONTEVEDRA | B24: 166.32 | C24: 150 | D24: 2046.32 | E24: 1944.756 | F24: =((E24*100)/D24)-100 -> -4.9632511
A25: MELILLA | B25: 0 | C25: 0 | D25: 0 | E25: 0
A26: MOTRIL | B26: 50 | C26: 48 | D26: 963 | E26: 1709.633 | F26: =((E26*100)/D26)-100 -> 77.531983
A27: PASAIA | B27: 2700.2 | C27: 1874 | D27: 27551.2 | E27: 25988.819 | F27: =((E27*100)/D27)-100 -> -5.6708274
A28: SANTA CRUZ DE TENERIFE | B28: 174 | C28: 158 | D28: 7661 | E28: 5921.679 | F28: =((E28*100)/D28)-100 -> -22.703577
A29: SANTANDER | B29: 210 | C29: 354 | D29: 3577 | E29: 4056.542 | F29: =((E29*100)/D29)-100 -> 13.406262
A30: SEVILLA | B30: 0 | C30: 0 | D30: 0 | E30: 0
A31: TARRAGONA | B31: 426.161 | C31: 170 | D31: 4489.161 | E31: 3669.412 | F31: =((E31*100)/D31)-100 -> -18.260628
A32: VALENCIA | B32: 103 | C32: 78 | D32: 1991 | E32: 1937.241 | F32: =((E32*100)/D32)-100 -> -2.7001005
A33: VIGO | B33: 11267.3 | C33: 11035 | D33: 83366.3 | E33: 89126.699 | F33: =((E33*100)/D33)-100 -> 6.9097453
A34: VILAGARCÍA | B34: 0 | C34: 0 | D34: 0 | E34: 0
A35: Total | B35: =SUM(B7:B34) -> 21216.411 | C35: =SUM(C7:C34) -> 18660 | D35: =SUM(D7:D34) -> 232934.41 | E35: =SUM(E7:E34) -> 243073.37 | F35: =((E35*100)/D35)-100 -> 4.3527111
B38: =E6 -> 2017 | C38: =D6 -> 2016 | F38: =B38 -> 2017 | G38: =C38 -> 2016
A39: =A7 -> A CORUÑA | B39: =E7 -> 51102.289 | C39: =D7 -> 43690.2 | D39: =_xlfn.RANK.EQ(B39,$B$39:$B$66)+COUNTIF($B$39:$B$66,B39)-1 -> 2 | E39: =INDEX($A$39:$B$66,MATCH(ROW()-38,$D$39:$D$66,0),1) -> VIGO | F39: =LOOKUP(E39,$A$39:$A$66,$B$39:$B$66) -> 89126.699 | G39: =LOOKUP(E39,$A$39:$A$66,$C$39:$C$66) -> 83366.3
A40: =A8 -> ALICANTE | B40: =E8 -> 1668.957 | C40: =D8 -> 254.37 | D40: =_xlfn.RANK.EQ(B40,$B$39:$B$66)+COUNTIF($B$39:$B$66,B40)-1 -> 18 | E40: =INDEX($A$39:$B$66,MATCH(ROW()-38,$D$39:$D$66,0),1) -> A CORUÑA | F40: =LOOKUP(E40,$A$39:$A$66,$B$39:$B$66) -> 51102.289 | G40: =LOOKUP(E40,$A$39:$A$66,$C$39:$C$66) -> 43690.2
A41: =A9 -> ALMERÍA | B41: =E9 -> 3465.653 | C41: =D9 -> 1945 | D41: =_xlfn.RANK.EQ(B41,$B$39:$B$66)+COUNTIF($B$39:$B$66,B41)-1 -> 11 | E41: =INDEX($A$39:$B$66,MATCH(ROW()-38,$D$39:$D$66,0),1) -> PASAIA | F41: =LOOKUP(E41,$A$39:$A$66,$B$39:$B$66) -> 25988.819 | G41: =LOOKUP(E41,$A$39:$A$66,$C$39:$C$66) -> 27551.2
A42: =A10 -> AVILÉS | B42: =E10 -> 13568.722 | C42: =D10 -> 12556.94 | D42: =_xlfn.RANK.EQ(B42,$B$39:$B$66)+COUNTIF($B$39:$B$66,B42)-1 -> 5 | E42: =INDEX($A$39:$B$66,MATCH(ROW()-38,$D$39:$D$66,0),1) -> BAHÍA DE CÁDIZ | F42: =LOOKUP(E42,$A$39:$A$66,$B$39:$B$66) -> 16293.623 | G42: =LOOKUP(E42,$A$39:$A$66,$C$39:$C$66) -> 17333.2
A43: =A11 -> BAHÍA DE ALGECIRAS | B43: =E11 -> 1014.97 | C43: =D11 -> 868 | D43: =_xlfn.RANK.EQ(B43,$B$39:$B$66)+COUNTIF($B$39:$B$66,B43)-1 -> 19 | E43: =INDEX($A$39:$B$66,MATCH(ROW()-38,$D$39:$D$66,0),1) -> AVILÉS | F43: =LOOKUP(E43,$A$39:$A$66,$B$39:$B$66) -> 13568.722 | G43: =LOOKUP(E43,$A$39:$A$66,$C$39:$C$66) -> 12556.94
A44: =A12 -> BAHÍA DE CÁDIZ | B44: =E12 -> 16293.623 | C44: =D12 -> 17333.2 | D44: =_xlfn.RANK.EQ(B44,$B$39:$B$66)+COUNTIF($B$39:$B$66,B44)-1 -> 4 | E44: =INDEX($A$39:$B$66,MATCH(ROW()-38,$D$39:$D$66,0),1) -> GIJÓN | F44: =LOOKUP(E44,$A$39:$A$66,$B$39:$B$66) -> 7364.836 | G44: =LOOKUP(E44,$A$39:$A$66,$C$39:$C$66) -> 8284.2
A45: =A13 -> BALEARES | B45: =E13 -> 3004.166 | C45: =D13 -> 2990.4 | D45: =_xlfn.RANK.EQ(B45,$B$39:$B$66)+COUNTIF($B$39:$B$66,B45)-1 -> 12 | E45: =INDEX($A$39:$B$66,MATCH(ROW()-38,$D$39:$D$66,0),1) -> SANTA CRUZ DE TENERIFE | F45: =LOOKUP(E45,$A$39:$A$66,$B$39:$B$66) -> 5921.679 | G45: =LOOKUP(E45,$A$39:$A$66,$C$39:$C$66) -> 7661
...

Sheet Avituallamiento
F1: 6. AVITUALLAMIENTO (toneladas)
A5: Autoridad Portuaria | B5: ='Resumen general'!D6 -> Mes diciembre | D5: ='Resumen general'!F6 -> Acumulado desde enero | L5: ='Resumen general'!I4 -> Fecha: 20/12/2018
B6: ='Resumen general'!D7 -> 2016 | C6: ='Resumen general'!E7 -> 2017 | D6: ='Resumen general'!F7 -> 2016 | E6: ='Resumen general'!G7 -> 2017 | F6: Var. (%)
A7: A CORUÑA | B7: 37192.4 | C7: 27045 | D7: 71417.4 | E7: 84165 | F7: =((E7*100)/D7)-100 -> 17.849432
A8: ALICANTE | B8: 1399.4 | C8: 2042 | D8: 28728.4 | E8: 24296 | F8: =((E8*100)/D8)-100 -> -15.428635
A9: ALMERÍA | B9: 5295.4 | C9: 8400 | D9: 75340.4 | E9: 87420 | F9: =((E9*100)/D9)-100 -> 16.033363
A10: AVILÉS | B10: 29772 | C10: 3139 | D10: 49777 | E10: 41484 | F10: =((E10*100)/D10)-100 -> -16.660305
A11: BAHÍA DE ALGECIRAS | B11: 240453.4 | C11: 210454 | D11: 3301452 | E11: 2833641 | F11: =((E11*100)/D11)-100 -> -14.169856
A12: BAHÍA DE CÁDIZ | B12: 7590 | C12: 6351 | D12: 145060 | E12: 112165 | F12: =((E12*100)/D12)-100 -> -22.676823
A13: BALEARES | B13: 6947.4 | C13: 7655 | D13: 247545 | E13: 236555 | F13: =((E13*100)/D13)-100 -> -4.4395968
