Workbook
Name CABECERA: Cruceros!$A$5:$F$6
Name CONCEPTO: 'Resumen general'!$A$6
Name LblRes00_Acum: 'Resumen general'!$F$6:$G$6
Name LblRes00_Mes: 'Resumen general'!$D$6:$E$6
Name LblRes00_Var: 'Resumen general'!$H$6:$I$6
Name LblRes01_1_Acum: 'Total presentación'!$D$5:$F$5
Name LblRes01_1_Mes: 'Total presentación'!$B$5:$C$5
Name LblRes01_Acum: 'Automóviles régimen mercancía'!$D$5:$F$5
Name LblRes01_Acum: 'Ro-Ro remolques'!$D$5:$F$5
Name LblRes01_Acum: 'Total tráfico'!$D$5:$F$5
Name LblRes01_Mes: 'Automóviles régimen mercancía'!$B$5:$C$5
Name LblRes01_Mes: 'Ro-Ro remolques'!$B$5:$C$5
Name LblRes01_Mes: 'Total tráfico'!$B$5:$C$5
Name LblRes02_Acum: Líquidos!$D$5:$F$5
Name LblRes02_Mes: Líquidos!$B$5:$C$5
Name LblRes03_Acum: Sólidos!$D$5:$F$5
Name LblRes03_Mes: Sólidos!$B$5:$C$5
Name LblRes04_Acum: 'Mercancía general'!$D$5:$F$5
Name LblRes04_Mes: 'Mercancía general'!$B$5:$C$5
Name LblRes05_Acum: Pesca!$D$5:$F$5
Name LblRes05_Mes: Pesca!$B$5:$C$5
Name LblRes06_Acum: Avituallamiento!$D$5:$F$5
Name LblRes06_Mes: Avituallamiento!$B$5:$C$5
Name LblRes07_1_Acum: 'Mercan. contene. tránsito'!$D$5:$F$5
Name LblRes07_1_Mes: 'Mercan. contene. tránsito'!$B$5:$C$5
Name LblRes07_Acum: 'Mercancías tránsito'!$D$5:$F$5
Name LblRes07_Mes: 'Mercancías tránsito'!$B$5:$C$5
Name LblRes08_Acum: 'Mercancías contenedores'!$D$5:$F$5
Name LblRes08_Mes: 'Mercancías contenedores'!$B$5:$C$5
Name LblRes09_Acum: 'Ro-Ro'!$D$5:$F$5
Name LblRes09_Mes: 'Ro-Ro'!$B$5:$C$5
Name LblRes10_1_Acum: 'TEUS tránsito'!$D$5:$F$5
Name LblRes10_1_Mes: 'TEUS tránsito'!$B$5:$C$5
Name LblRes10_2_Acum: 'TEUS nacional'!$D$5:$F$5
Name LblRes10_2_Mes: 'TEUS nacional'!$B$5:$C$5
Name LblRes10_3_Acum: 'TEUS exterior'!$D$5:$F$5
Name LblRes10_3_Mes: 'TEUS exterior'!$B$5:$C$5
Name LblRes10_4_Acum: 'TEUS nacional y exterior'!$D$5:$F$5
Name LblRes10_4_Mes: 'TEUS nacional y exterior'!$B$5:$C$5
Name LblRes10_Acum: TEUS!$D$5:$F$5
Name LblRes10_Mes: TEUS!$B$5:$C$5
Name LblRes11_1_Acum: 'Pasajeros crucero'!$D$5:$F$5
Name LblRes11_1_Mes: 'Pasajeros crucero'!$B$5:$C$5
Name LblRes11_2_Acum: 'Automóviles régimen pasaje'!$D$5:$F$5
Name LblRes11_2_Mes: 'Automóviles régimen pasaje'!$B$5:$C$5
Name LblRes11_Acum: 'Pasajeros total'!$D$5:$F$5
Name LblRes11_Mes: 'Pasajeros total'!$B$5:$C$5
Name LblRes12_1_Acum: 'Buques número'!$D$5:$F$5
Name LblRes12_1_Mes: 'Buques número'!$B$5:$C$5
Name LblRes12_2_Acum: 'Buques GT'!$D$5:$F$5
Name LblRes12_2_Mes: 'Buques GT'!$B$5:$C$5
Name LblRes12_3_Acum: Cruceros!$D$5:$F$5
Name LblRes12_3_Mes: Cruceros!$B$5:$C$5
Name PROVINCIAS: Cruceros!$A$5:$A$35
Name TxtFecha: Cruceros!$L$5

Sheet Portada e índice
I1: Dirección de Planificación y Desarrollo
I2: Departamento de Estadística
G15: RESUMEN GENERAL DEL TRÁFICO PORTUARIO*
G16: marzo 2018
K29: * Datos mensuales facilitados por las AA.PP., sujetos a posibles modificaciones.
F33: ÍNDICE
B36: 0. | C36: RESUMEN GENERAL DEL TRÁFICO PORTUARIO
B37: 1. | C37: TRÁFICO PORTUARIO
B38: 1.1. | C38: MERCANCÍAS SEGÚN SU FORMA DE PRESENTACIÓN
B39: 2. | C39: GRANELES LÍQUIDOS
B40: 3. | C40: GRANELES SÓLIDOS
B41: 4. | C41: MERCANCÍA GENERAL
B42: 4.1. | C42: MERCANCÍAS EN CONTENEDORES
B43: 5. | C43: PESCA
B44: 6. | C44: AVITUALLAMIENTO
B45: 6.1. | C45: AVITUALLAMIENTO DE COMBUSTIBLES LÍQUIDOS
B46: 7. | C46: TRÁFICO INTERIOR
B47: 8. | C47: MERCANCÍAS EN TRÁNSITO
... B62: 13.2. | C62: CRUCEROS (unidades)

Sheet Resumen general
D1: 00. RESUMEN GENERAL DEL TRÁFICO PORTUARIO
I4: Fecha: 12/02/2019
A6: CONCEPTO | D6: Mes marzo | F6: Acumulado desde enero | H6: Variación
D7: 2017 | E7: 2018 | F7: 2017 | G7: 2018 | H7: Diferencia | I7: %
A8: MERCANCÍAS SEGÚN SU PRESENTACIÓN | B8: GRANELES | C8: LÍQUIDOS | D8: =Líquidos!B35 -> 14227437 | E8: =Líquidos!C35 -> 15237193 | F8: =Líquidos!D35 -> 43216619 | G8: =Líquidos!E35 -> 44566652 | H8: =G8-F8 -> 1350033 | I8: =((G8*100/F8)-100) -> 3.1238746
C9: SÓLIDOS | D9: =Sólidos!B35 -> 8439516 | E9: =Sólidos!C35 -> 8218999 | F9: =Sólidos!D35 -> 23141918 | G9: =Sólidos!E35 -> 24460058 | H9: =G9-F9 -> 1318140 | I9: =((G9*100/F9)-100) -> 5.6958978
B10: MERCANCÍA GRAL. | C10: CONVENCIONAL | D10: =D12-D11 -> 6536096 | E10: =E12-E11 -> 6538926 | F10: =F12-F11 -> 16878739 | G10: =G12-G11 -> 18123284 | H10: =G10-F10 -> 1244545 | I10: =((G10*100/F10)-100) -> 7.3734477
C11: EN CONTENEDORES | D11: ='Mercancías contenedores'!B35 -> 14730750 | E11: ='Mercancías contenedores'!C35 -> 16331798 | F11: ='Mercancías contenedores'!D35 -> 41143701 | G11: ='Mercancías contenedores'!E35 -> 45622867 | H11: =G11-F11 -> 4479166 | I11: =((G11*100/F11)-100) -> 10.886639
C12: TOTAL | D12: ='Mercancía general'!B35 -> 21266846 | E12: ='Mercancía general'!C35 -> 22870724 | F12: ='Mercancía general'!D35 -> 58022440 | G12: ='Mercancía general'!E35 -> 63746151 | H12: =G12-F12 -> 5723711 | I12: =((G12*100/F12)-100) -> 9.8646506
C13: TOTAL | D13: =+D8+D9+D12 -> 43933799 | E13: =+E8+E9+E12 -> 46326916 | F13: =+F8+F9+F12 -> 124380977 | G13: =+G8+G9+G12 -> 132772861 | H13: =G13-F13 -> 8391884 | I13: =((G13*100/F13)-100) -> 6.7469192
A14: OTRAS MERCANCÍAS | B14: PESCA | C14: TOTAL PESCA | D14: =Pesca!B35 -> 26440 | E14: =Pesca!C35 -> 19397 | F14: =Pesca!D35 -> 53651 | G14: =Pesca!E35 -> 45478 | H14: =G14-F14 -> -8173 | I14: =((G14*100/F14)-100) -> -15.23364
B15: AVITUALLAMIENTO | C15: COMBUSTIBLES LÍQUIDOS | D15: ='Avit. combustibles'!B35 -> 642547 | E15: ='Avit. combustibles'!C35 -> 686287 | F15: ='Avit. combustibles'!D35 -> 1821550 | G15: ='Avit. combustibles'!E35 -> 1921182 | H15: =G15-F15 -> 99632 | I15: =((G15*100/F15)-100) -> 5.4696275
C16: OTROS | D16: =Avituallamiento!B35-'Resumen general'!D15 -> 145680 | E16: =Avituallamiento!C35-'Resumen general'!E15 -> 152616 | F16: =Avituallamiento!D35-'Resumen general'!F15 -> 396464 | G16: =Avituallamiento!E35-'Resumen general'!G15 -> 421351 | H16: =G16-F16 -> 24887 | I16: =((G16*100/F16)-100) -> 6.2772408
B17: TRAFICO INTERIOR | C17: TOTAL TRAFICO INTERIOR | D17: ='Tráfico interior'!B35 -> 233441 | E17: ='Tráfico interior'!C35 -> 126986 | F17: ='Tráfico interior'!D35 -> 704818 | G17: ='Tráfico interior'!E35 -> 1524519 | H17: =G17-F17 -> 819701 | I17: =((G17*100/F17)-100) -> 116.29967
C18: TOTAL | D18: =+D14+D15+D16+D17 -> 1048108 | E18: =+E14+E15+E16+E17 -> 985286 | F18: =+F14+F15+F16+F17 -> 2976483 | G18: =+G14+G15+G16+G17 -> 3912530 | H18: =G18-F18 -> 936047 | I18: =((G18*100/F18)-100) -> 31.448088
C19: TOTAL TRÁFICO PORTUARIO (*) | D19: =+D13+D18 -> 44981907 | E19: =+E13+E18 -> 47312202 | F19: =+F13+F18 -> 127357460 | G19: =+G13+G18 -> 136685391 | H19: =G19-F19 -> 9327931 | I19: =((G19*100/F19)-100) -> 7.3242125
A21: OTRAS INFORMACIONES | B21: MERCANCÍAS | C21: EN TRÁNSITO | D21: ='Mercancías tránsito'!B35 -> 10986878 | E21: ='Mercancías tránsito'!C35 -> 12988466 | F21: ='Mercancías tránsito'!D35 -> 30835591 | G21: ='Mercancías tránsito'!E35 -> 35365235 | H21: =G21-F21 -> 4529644 | I21: =((G21*100/F21)-100) -> 14.689662
C22: EN CONTENEDORES EN TRÁNSITO | D22: ='Mercan. contene. tránsito'!B35 -> 8499872 | E22: ='Mercan. contene. tránsito'!C35 -> 10084236 | F22: ='Mercan. contene. tránsito'!D35 -> 24017889 | G22: ='Mercan. contene. tránsito'!E35 -> 27586704 | H22: =G22-F22 -> 3568815 | I22: =((G22*100/F22)-100) -> 14.858987
B23: TRÁFICO RO-RO | C23: TOTAL TRÁFICO RO-RO | D23: ='Ro-Ro'!B35 -> 5369992 | E23: ='Ro-Ro'!C35 -> 5395517 | F23: ='Ro-Ro'!D35 -> 13842771 | G23: ='Ro-Ro'!E35 -> 14812116 | H23: =G23-F23 -> 969345 | I23: =((G23*100/F23)-100) -> 7.0025358
C24: REMOLQUES, SEMIRR. Y PLATAF. (uds.) | D24: ='Ro-Ro remolques'!B35 -> 126485 | E24: ='Ro-Ro remolques'!C35 -> 128101 | F24: ='Ro-Ro remolques'!D35 -> 331256 | G24: ='Ro-Ro remolques'!E35 -> 351008 | H24: =G24-F24 -> 19752 | I24: =((G24*100/F24)-100) -> 5.9627599
B25: CONTENEDORES | C25: TOTAL CONTENEDORES (TEUS) | D25: =TEUS!B35 -> 1280956 | E25: =TEUS!C35 -> 1421434 | F25: =TEUS!D35 -> 3618184 | G25: =TEUS!E35 -> 4073576 | H25: =G25-F25 -> 455392 | I25: =((G25*100/F25)-100) -> 12.586203
C26: EN TRÁNSITO (TEUS) | D26: ='TEUS tránsito'!B35 -> 651535 | E26: ='TEUS tránsito'!C35 -> 785828 | F26: ='TEUS tránsito'!D35 -> 1880441 | G26: ='TEUS tránsito'!E35 -> 2219968 | H26: =G26-F26 -> 339527 | I26: =((G26*100/F26)-100) -> 18.055711
C27: ENTRADAS-SALIDAS NACIONAL (TEUS) | D27: ='TEUS nacional'!B35 -> 174887 | E27: ='TEUS nacional'!C35 -> 171831 | F27: ='TEUS nacional'!D35 -> 472914 | G27: ='TEUS nacional'!E35 -> 480091 | H27: =G27-F27 -> 7177 | I27: =((G27*100/F27)-100) -> 1.5176121
C28: IMPORT-EXPORT EXTERIOR (TEUS) | D28: ='TEUS exterior'!B35 -> 454534 | E28: ='TEUS exterior'!C35 -> 463776 | F28: ='TEUS exterior'!D35 -> 1264829 | G28: ='TEUS exterior'!E35 -> 1373519 | H28: =G28-F28 -> 108690 | I28: =((G28*100/F28)-100) -> 8.5932565
C29: NACIONAL Y EXTERIOR (TEUS) | D29: ='TEUS nacional y exterior'!B35 -> 629421 | E29: ='TEUS nacional y exterior'!C35 -> 635607 | F29: ='TEUS nacional y exterior'!D35 -> 1737743 | G29: ='TEUS nacional y exterior'!E35 -> 1853609 | H29: =G29-F29 -> 115866 | I29: =((G29*100/F29)-100) -> 6.6676143
B30: PASAJEROS | C30: REG. TRANSPORTE Y DE CRUCERO (nº) | D30: ='Pasajeros total'!B35 -> 1796563 | E30: ='Pasajeros total'!C35 -> 2204389 | F30: ='Pasajeros total'!D35 -> 4916732 | G30: ='Pasajeros total'!E35 -> 5779541 | H30: =G30-F30 -> 862809 | I30: =((G30*100/F30)-100) -> 17.548424
C31: DE CRUCERO (nº) | D31: ='Pasajeros crucero'!B35 -> 402949 | E31: ='Pasajeros crucero'!C35 -> 616678 | F31: ='Pasajeros crucero'!D35 -> 1087021 | G31: ='Pasajeros crucero'!E35 -> 1647527 | H31: =G31-F31 -> 560506 | I31: =((G31*100/F31)-100) -> 51.563493
B32: AUTOMÓVILES | C32: EN RÉGIMEN DE PASAJE (uds) | D32: ='Automóviles régimen pasaje'!B35 -> 283474 | E32: ='Automóviles régimen pasaje'!C35 -> 352219 | F32: ='Automóviles régimen pasaje'!D35 -> 812615 | G32: ='Automóviles régimen pasaje'!E35 -> 925890 | H32: =G32-F32 -> 113275 | I32: =((G32*100/F32)-100) -> 13.939565
C33: EN RÉGIMEN DE MERCANCÍA (**) | D33: ='Automóviles régimen mercancía'!B35 -> 355443 | E33: ='Automóviles régimen mercancía'!C35 -> 335978 | F33: ='Automóviles régimen mercancía'!D35 -> 862752 | G33: ='Automóviles régimen mercancía'!E35 -> 870953 | H33: =G33-F33 -> 8201 | I33: =((G33*100/F33)-100) -> 0.95056285
B34: BUQUES MERCANTES | C34: TOTAL BUQUES MERCANTES (uds) | D34: ='Buques número'!B35 -> 11186 | E34: ='Buques número'!C35 -> 11358 | F34: ='Buques número'!D35 -> 31823 | G34: ='Buques número'!E35 -> 33148 | H34: =G34-F34 -> 1325 | I34: =((G34*100/F34)-100) -> 4.1636552
C35: UDS. ARQUEO BRUTO (G.T.) | D35: ='Buques GT'!B35 -> 169559382 | E35: ='Buques GT'!C35 -> 178376351 | F35: ='Buques GT'!D35 -> 480123420 | G35: ='Buques GT'!E35 -> 514681663 | H35: =G35-F35 -> 34558243 | I35: =((G35*100/F35)-100) -> 7.1977832
C36: CRUCEROS (uds) | D36: =Cruceros!B35 -> 198 | E36: =Cruceros!C35 -> 283 | F36: =Cruceros!D35 -> 523 | G36: =Cruceros!E35 -> 712 | H36: =G36-F36 -> 189 | I36: =((G36*100/F36)-100) -> 36.137667
A37: (*) Incluye cargas, descargas, tránsitos y transbordos.
A38: (**) Solo turismos, autobuses y camiones

Sheet Total tráfico
F1: 1. TRÁFICO PORTUARIO (toneladas)
A5: Autoridad Portuaria | B5: ='Resumen general'!D6 -> Mes marzo | D5: ='Resumen general'!F6 -> Acumulado desde enero | L5: ='Resumen general'!I4 -> Fecha: 12/02/2019
B6: ='Resumen general'!D7 -> 2017 | C6: ='Resumen general'!E7 -> 2018 | D6: ='Resumen general'!F7 -> 2017 | E6: ='Resumen general'!G7 -> 2018 | F6: Var. (%)
A7: A CORUÑA | B7: 1046438 | C7: 1071751 | D7: 3386771 | E7: 3790514 | F7: =((E7*100)/D7)-100 -> 11.921178
A8: ALICANTE | B8: 263491 | C8: 271416 | D8: 762423 | E8: 791988 | F8: =((E8*100)/D8)-100 -> 3.8777686
A9: ALMERÍA | B9: 555969 | C9: 619069 | D9: 1519153 | E9: 1561969 | F9: =((E9*100)/D9)-100 -> 2.8184126
A10: AVILÉS | B10: 430123 | C10: 423548 | D10: 1107679 | E10: 1313546 | F10: =((E10*100)/D10)-100 -> 18.585439
A11: BAHÍA DE ALGECIRAS | B11: 7853296 | C11: 9156030 | D11: 23660348 | E11: 27422989 | F11: =((E11*100)/D11)-100 -> 15.902729
A12: BAHÍA DE CÁDIZ | B12: 290211 | C12: 306175 | D12: 1030118 | E12: 999534 | F12: =((E12*100)/D12)-100 -> -2.9689803
A13: BALEARES | B13: 1387900 | C13: 1357177 | D13: 3382065 | E13: 3572870 | F13: =((E13*100)/D13)-100 -> 5.6416716
A14: BARCELONA | B14: 5230282 | C14: 5831762 | D14: 13978584 | E14: 16601997 | F14: =((E14*100)/D14)-100 -> 18.767373
A15: BILBAO | B15: 2673231 | C15: 2985849 | D15: 7118839 | E15: 8691130 | F15: =((E15*100)/D15)-100 -> 22.08634
A16: CARTAGENA | B16: 2811736 | C16: 2310533 | D16: 8572861 | E16: 7945653 | F16: =((E16*100)/D16)-100 -> -7.316204
A17: CASTELLÓN | B17: 1516055 | C17: 1487911 | D17: 4268555 | E17: 4737686 | F17: =((E17*100)/D17)-100 -> 10.990394
A18: CEUTA | B18: 219810 | C18: 202118 | D18: 656626 | E18: 589334 | F18: =((E18*100)/D18)-100 -> -10.248147
... A34: VILAGARCÍA | B34: 104436 | C34: 68001 | D34: 259672 | E34: 266035 | F34: =((E34*100)/D34)-100 -> 2.450399
A35: Total | B35: =SUM(B7:B34) -> 44981907 | C35: =SUM(C7:C34) -> 47312202 | D35: =SUM(D7:D34) -> 127357460 | E35: =SUM(E7:E34) -> 136685391 | F35: =((E35*100)/D35)-100 -> 7.3242125
A36: Incluye cargas, descargas, tránsitos y transbordos.
B38: =E6 -> 2018 | C38: =D6 -> 2017 | F38: =B38 -> 2018 | G38: =C38 -> 2017
A39: =A7 -> A CORUÑA | B39: =E7 -> 3790514 | C39: =D7 -> 3386771 | D39: =_xlfn.RANK.EQ(B39,$B$39:$B$66)+COUNTIF($B$39:$B$66,B39)-1 -> 11 | E39: =INDEX($A$39:$B$66,MATCH(ROW()-38,$D$39:$D$66,0),1) -> BAHÍA DE ALGECIRAS | F39: =LOOKUP(E39,$A$39:$A$66,$B$39:$B$66) -> 27422989 | G39: =LOOKUP(E39,$A$39:$A$66,$C$39:$C$66) -> 23660348
A40: =A8 -> ALICANTE | B40: =E8 -> 791988 | C40: =D8 -> 762423 | D40: =_xlfn.RANK.EQ(B40,$B$39:$B$66)+COUNTIF($B$39:$B$66,B40)-1 -> 21 | E40: =INDEX($A$39:$B$66,MATCH(ROW()-38,$D$39:$D$66,0),1) -> VALENCIA | F40: =LOOKUP(E40,$A$39:$A$66,$B$39:$B$66) -> 18047381 | G40: =LOOKUP(E40,$A$39:$A$66,$C$39:$C$66) -> 17357837
A41: =A9 -> ALMERÍA | B41: =E9 -> 1561969 | C41: =D9 -> 1519153 | D41: =_xlfn.RANK.EQ(B41,$B$39:$B$66)+COUNTIF($B$39:$B$66,B41)-1 -> 15 | E41: =INDEX($A$39:$B$66,MATCH(ROW()-38,$D$39:$D$66,0),1) -> BARCELONA | F41: =LOOKUP(E41,$A$39:$A$66,$B$39:$B$66) -> 16601997 | G41: =LOOKUP(E41,$A$39:$A$66,$C$39:$C$66) -> 13978584
A42: =A10 -> AVILÉS | B42: =E10 -> 1313546 | C42: =D10 -> 1107679 | D42: =_xlfn.RANK.EQ(B42,$B$39:$B$66)+COUNTIF($B$39:$B$66,B42)-1 -> 17 | E42: =INDEX($A$39:$B$66,MATCH(ROW()-38,$D$39:$D$66,0),1) -> BILBAO | F42: =LOOKUP(E42,$A$39:$A$66,$B$39:$B$66) -> 8691130 | G42: =LOOKUP(E42,$A$39:$A$66,$C$39:$C$66) -> 7118839
A43: =A11 -> BAHÍA DE ALGECIRAS | B43: =E11 -> 27422989 | C43: =D11 -> 23660348 | D43: =_xlfn.RANK.EQ(B43,$B$39:$B$66)+COUNTIF($B$39:$B$66,B43)-1 -> 1 | E43: =INDEX($A$39:$B$66,MATCH(ROW()-38,$D$39:$D$66,0),1) -> TARRAGONA | F43: =LOOKUP(E43,$A$39:$A$66,$B$39:$B$66) -> 8403853 | G43: =LOOKUP(E43,$A$39:$A$66,$C$39:$C$66) -> 7976491
A44: =A12 -> BAHÍA DE CÁDIZ | B44: =E12 -> 999534 | C44: =D12 -> 1030118 | D44: =_xlfn.RANK.EQ(B44,$B$39:$B$66)+COUNTIF($B$39:$B$66,B44)-1 -> 20 | E44: =INDEX($A$39:$B$66,MATCH(ROW()-38,$D$39:$D$66,0),1) -> CARTAGENA | F44: =LOOKUP(E44,$A$39:$A$66,$B$39:$B$66) -> 7945653 | G44: =LOOKUP(E44,$A$39:$A$66,$C$39:$C$66) -> 8572861
A45: =A13 -> BALEARES | B45: =E13 -> 3572870 | C45: =D13 -> 3382065 | D45: =_xlfn.RANK.EQ(B45,$B$39:$B$66)+COUNTIF($B$39:$B$66,B45)-1 -> 12 | E45: =INDEX($A$39:$B$66,MATCH(ROW()-38,$D$39:$D$66,0),1) -> HUELVA | F45: =LOOKUP(E45,$A$39:$A$66,$B$39:$B$66) -> 7840652 | G45: =LOOKUP(E45,$A$39:$A$66,$C$39:$C$66) -> 7787022
A46: =A14 -> BARCELONA | B46: =E14 -> 16601997 | C46: =D14 -> 13978584 | D46: =_xlfn.RANK.EQ(B46,$B$39:$B$66)+COUNTIF($B$39:$B$66,B46)-1 -> 3 | E46: =INDEX($A$39:$B$66,MATCH(ROW()-38,$D$39:$D$66,0),1) -> LAS PALMAS | F46: =LOOKUP(E46,$A$39:$A$66,$B$39:$B$66) -> 6592925 | G46: =LOOKUP(E46,$A$39:$A$66,$C$39:$C$66) -> 6238563
A47: =A15 -> BILBAO | B47: =E15 -> 8691130 | C47: =D15 -> 7118839 | D47: =_xlfn.RANK.EQ(B47,$B$39:$B$66)+COUNTIF($B$39:$B$66,B47)-1 -> 4 | E47: =INDEX($A$39:$B$66,MATCH(ROW()-38,$D$39:$D$66,0),1) -> CASTELLÓN | F47: =LOOKUP(E47,$A$39:$A$66,$B$39:$B$66) -> 4737686 | G47: =LOOKUP(E47,$A$39:$A$66,$C$39:$C$66) -> 4268555
A48: =A16 -> CARTAGENA | B48: =E16 -> 7945653 | C48: =D16 -> 8572861 | D48: =_xlfn.RANK.EQ(B48,$B$39:$B$66)+COUNTIF($B$39:$B$66,B48)-1 -> 6 | E48: =INDEX($A$39:$B$66,MATCH(ROW()-38,$D$39:$D$66,0),1) -> GIJÓN | F48: =LOOKUP(E48,$A$39:$A$66,$B$39:$B$66) -> 4700616 | G48: =LOOKUP(E48,$A$39:$A$66,$C$39:$C$66) -> 5359110
A49: =A17 -> CASTELLÓN | B49: =E17 -> 4737686 | C49: =D17 -> 4268555 | D49: =_xlfn.RANK.EQ(B49,$B$39:$B$66)+COUNTIF($B$39:$B$66,B49)-1 -> 9 | E49: =INDEX($A$39:$B$66,MATCH(ROW()-38,$D$39:$D$66,0),1) -> A CORUÑA | F49: =LOOKUP(E49,$A$39:$A$66,$B$39:$B$66) -> 3790514 | G49: =LOOKUP(E49,$A$39:$A$66,$C$39:$C$66) -> 3386771
A50: =A18 -> CEUTA | B50: =E18 -> 589334 | C50: =D18 -> 656626 | D50: =_xlfn.RANK.EQ(B50,$B$39:$B$66)+COUNTIF($B$39:$B$66,B50)-1 -> 26 | E50: =INDEX($A$39:$B$66,MATCH(ROW()-38,$D$39:$D$66,0),1) -> BALEARES | F50: =LOOKUP(E50,$A$39:$A$66,$B$39:$B$66) -> 3572870 | G50: =LOOKUP(E50,$A$39:$A$66,$C$39:$C$66) -> 3382065
... A66: =A34 -> VILAGARCÍA | B66: =E34 -> 266035 | C66: =D34 -> 259672 | D66: =_xlfn.RANK.EQ(B66,$B$39:$B$66)+COUNTIF($B$39:$B$66,B66)-1 -> 27 | E66: =INDEX($A$39:$B$66,MATCH(ROW()-38,$D$39:$D$66,0),1) -> MELILLA | F66: =LOOKUP(E66,$A$39:$A$66,$B$39:$B$66) -> 213637 | G66: =LOOKUP(E66,$A$39:$A$66,$C$39:$C$66) -> 279981

Sheet Total presentación
F1: 1.1. MERCANCÍAS SEGÚN SU FORMA DE PRESENTACIÓN
I2: (toneladas)
A5: Autoridad Portuaria | B5: ='Resumen general'!D6 -> Mes marzo | D5: ='Resumen general'!F6 -> Acumulado desde enero | L5: ='Resumen general'!I4 -> Fecha: 12/02/2019
B6: ='Resumen general'!D7 -> 2017 | C6: ='Resumen general'!E7 -> 2018 | D6: ='Resumen general'!F7 -> 2017 | E6: ='Resumen general'!G7 -> 2018 | F6: Var. (%)
A7: A CORUÑA | B7: 1012155 | C7: 1039363 | D7: 3300301 | E7: 3691437 | F7: =((E7*100)/D7)-100 -> 11.851525
A8: ALICANTE | B8: 261183 | C8: 269429 | D8: 757211 | E8: 784475 | F8: =((E8*100)/D8)-100 -> 3.6005816
A9: ALMERÍA | B9: 551269 | C9: 612601 | D9: 1503373 | E9: 1543902 | F9: =((E9*100)/D9)-100 -> 2.6958712
A10: AVILÉS | B10: 424258 | C10: 417897 | D10: 1094393 | E10: 1297939 | F10: =((E10*100)/D10)-100 -> 18.598986
A11: BAHÍA DE ALGECIRAS | B11: 7401613 | C11: 8844889 | D11: 22312944 | E11: 25406295 | F11: =((E11*100)/D11)-100 -> 13.863482
A12: BAHÍA DE CÁDIZ | B12: 277689 | C12: 295637 | D12: 998796 | E12: 974773 | F12: =((E12*100)/D12)-100 -> -2.4051959
A13: BALEARES | B13: 1384179 | C13: 1344560 | D13: 3369274 | E13: 3544290 | F13: =((E13*100)/D13)-100 -> 5.1944722
A14: BARCELONA | B14: 5156554 | C14: 5693788 | D14: 13785217 | E14: 16238703 | F14: =((E14*100)/D14)-100 -> 17.79795
A15: BILBAO | B15: 2664062 | C15: 2976992 | D15: 7094226 | E15: 8665241 | F15: =((E15*100)/D15)-100 -> 22.144981
A16: CARTAGENA | B16: 2808123 | C16: 2303335 | D16: 8562309 | E16: 7932090 | F16: =((E16*100)/D16)-100 -> -7.3603861
A17: CASTELLÓN | B17: 1513842 | C17: 1485731 | D17: 4262671 | E17: 4732424 | F17: =((E17*100)/D17)-100 -> 11.020156
A18: CEUTA | B18: 173336 | C18: 134023 | D18: 511646 | E18: 401058 | F18: =((E18*100)/D18)-100 -> -21.614163
... A34: VILAGARCÍA | B34: 104014 | C34: 67727 | D34: 258267 | E34: 264721 | F34: =((E34*100)/D34)-100 -> 2.4989643
A35: Total | B35: =SUM(B7:B34) -> 43933799 | C35: =SUM(C7:C34) -> 46326916 | D35: =SUM(D7:D34) -> 124380977 | E35: =SUM(E7:E34) -> 132772861 | F35: =((E35*100)/D35)-100 -> 6.7469192
A36: Incluye cargas, descargas, tránsitos y transbordos.
B38: =E6 -> 2018 | C38: =D6 -> 2017 | F38: =B38 -> 2018 | G38: =C38 -> 2017
A39: =A7 -> A CORUÑA | B39: =E7 -> 3691437 | C39: =D7 -> 3300301 | D39: =_xlfn.RANK.EQ(B39,$B$39:$B$66)+COUNTIF($B$39:$B$66,B39)-1 -> 11 | E39: =INDEX($A$39:$B$66,MATCH(ROW()-38,$D$39:$D$66,0),1) -> BAHÍA DE ALGECIRAS | F39: =LOOKUP(E39,$A$39:$A$66,$B$39:$B$66) -> 25406295 | G39: =LOOKUP(E39,$A$39:$A$66,$C$39:$C$66) -> 22312944
A40: =A8 -> ALICANTE | B40: =E8 -> 784475 | C40: =D8 -> 757211 | D40: =_xlfn.RANK.EQ(B40,$B$39:$B$66)+COUNTIF($B$39:$B$66,B40)-1 -> 21 | E40: =INDEX($A$39:$B$66,MATCH(ROW()-38,$D$39:$D$66,0),1) -> VALENCIA | F40: =LOOKUP(E40,$A$39:$A$66,$B$39:$B$66) -> 17979293 | G40: =LOOKUP(E40,$A$39:$A$66,$C$39:$C$66) -> 17290419
A41: =A9 -> ALMERÍA | B41: =E9 -> 1543902 | C41: =D9 -> 1503373 | D41: =_xlfn.RANK.EQ(B41,$B$39:$B$66)+COUNTIF($B$39:$B$66,B41)-1 -> 15 | E41: =INDEX($A$39:$B$66,MATCH(ROW()-38,$D$39:$D$66,0),1) -> BARCELONA | F41: =LOOKUP(E41,$A$39:$A$66,$B$39:$B$66) -> 16238703 | G41: =LOOKUP(E41,$A$39:$A$66,$C$39:$C$66) -> 13785217
A42: =A10 -> AVILÉS | B42: =E10 -> 1297939 | C42: =D10 -> 1094393 | D42: =_xlfn.RANK.EQ(B42,$B$39:$B$66)+COUNTIF($B$39:$B$66,B42)-1 -> 17 | E42: =INDEX($A$39:$B$66,MATCH(ROW()-38,$D$39:$D$66,0),1) -> BILBAO | F42: =LOOKUP(E42,$A$39:$A$66,$B$39:$B$66) -> 8665241 | G42: =LOOKUP(E42,$A$39:$A$66,$C$39:$C$66) -> 7094226
A43: =A11 -> BAHÍA DE ALGECIRAS | B43: =E11 -> 25406295 | C43: =D11 -> 22312944 | D43: =_xlfn.RANK.EQ(B43,$B$39:$B$66)+COUNTIF($B$39:$B$66,B43)-1 -> 1 | E43: =INDEX($A$39:$B$66,MATCH(ROW()-38,$D$39:$D$66,0),1) -> TARRAGONA | F43: =LOOKUP(E43,$A$39:$A$66,$B$39:$B$66) -> 8379744 | G43: =LOOKUP(E43,$A$39:$A$66,$C$39:$C$66) -> 7961536
A44: =A12 -> BAHÍA DE CÁDIZ | B44: =E12 -> 974773 | C44: =D12 -> 998796 | D44: =_xlfn.RANK.EQ(B44,$B$39:$B$66)+COUNTIF($B$39:$B$66,B44)-1 -> 19 | E44: =INDEX($A$39:$B$66,MATCH(ROW()-38,$D$39:$D$66,0),1) -> CARTAGENA | F44: =LOOKUP(E44,$A$39:$A$66,$B$39:$B$66) -> 7932090 | G44: =LOOKUP(E44,$A$39:$A$66,$C$39:$C$66) -> 8562309
A45: =A13 -> BALEARES | B45: =E13 -> 3544290 | C45: =D13 -> 3369274 | D45: =_xlfn.RANK.EQ(B45,$B$39:$B$66)+COUNTIF($B$39:$B$66,B45)-1 -> 12 | E45: =INDEX($A$39:$B$66,MATCH(ROW()-38,$D$39:$D$66,0),1) -> HUELVA | F45: =LOOKUP(E45,$A$39:$A$66,$B$39:$B$66) -> 7798867 | G45: =LOOKUP(E45,$A$39:$A$66,$C$39:$C$66) -> 7743580
A46: =A14 -> BARCELONA | B46: =E14 -> 16238703 | C46: =D14 -> 13785217 | D46: =_xlfn.RANK.EQ(B46,$B$39:$B$66)+COUNTIF($B$39:$B$66,B46)-1 -> 3 | E46: =INDEX($A$39:$B$66,MATCH(ROW()-38,$D$39:$D$66,0),1) -> LAS PALMAS | F46: =LOOKUP(E46,$A$39:$A$66,$B$39:$B$66) -> 5913769 | G46: =LOOKUP(E46,$A$39:$A$66,$C$39:$C$66) -> 5595877
A47: =A15 -> BILBAO | B47: =E15 -> 8665241 | C47: =D15 -> 7094226 | D47: =_xlfn.RANK.EQ(B47,$B$39:$B$66)+COUNTIF($B$39:$B$66,B47)-1 -> 4 | E47: =INDEX($A$39:$B$66,MATCH(ROW()-38,$D$39:$D$66,0),1) -> CASTELLÓN | F47: =LOOKUP(E47,$A$39:$A$66,$B$39:$B$66) -> 4732424 | G47: =LOOKUP(E47,$A$39:$A$66,$C$39:$C$66) -> 4262671
A48: =A16 -> CARTAGENA | B48: =E16 -> 7932090 | C48: =D16 -> 8562309 | D48: =_xlfn.RANK.EQ(B48,$B$39:$B$66)+COUNTIF($B$39:$B$66,B48)-1 -> 6 | E48: =INDEX($A$39:$B$66,MATCH(ROW()-38,$D$39:$D$66,0),1) -> GIJÓN | F48: =LOOKUP(E48,$A$39:$A$66,$B$39:$B$66) -> 4688223 | G48: =LOOKUP(E48,$A$39:$A$66,$C$39:$C$66) -> 5342691
A49: =A17 -> CASTELLÓN | B49: =E17 -> 4732424 | C49: =D17 -> 4262671 | D49: =_xlfn.RANK.EQ(B49,$B$39:$B$66)+COUNTIF($B$39:$B$66,B49)-1 -> 9 | E49: =INDEX($A$39:$B$66,MATCH(ROW()-38,$D$39:$D$66,0),1) -> A CORUÑA | F49: =LOOKUP(E49,$A$39:$A$66,$B$39:$B$66) -> 3691437 | G49: =LOOKUP(E49,$A$39:$A$66,$C$39:$C$66) -> 3300301
A50: =A18 -> CEUTA | B50: =E18 -> 401058 | C50: =D18 -> 511646 | D50: =_xlfn.RANK.EQ(B50,$B$39:$B$66)+COUNTIF($B$39:$B$66,B50)-1 -> 26 | E50: =INDEX($A$39:$B$66,MATCH(ROW()-38,$D$39:$D$66,0),1) -> BALEARES | F50: =LOOKUP(E50,$A$39:$A$66,$B$39:$B$66) -> 3544290 | G50: =LOOKUP(E50,$A$39:$A$66,$C$39:$C$66) -> 3369274
... A66: =A34 -> VILAGARCÍA | B66: =E34 -> 264721 | C66: =D34 -> 258267 | D66: =_xlfn.RANK.EQ(B66,$B$39:$B$66)+COUNTIF($B$39:$B$66,B66)-1 -> 27 | E66: =INDEX($A$39:$B$66,MATCH(ROW()-38,$D$39:$D$66,0),1) -> MELILLA | F66: =LOOKUP(E66,$A$39:$A$66,$B$39:$B$66) -> 212227 | G66: =LOOKUP(E66,$A$39:$A$66,$C$39:$C$66) -> 278727

Sheet Líquidos
F1: 2. GRANELES LÍQUIDOS (toneladas)
A5: Autoridad Portuaria | B5: ='Resumen general'!D6 -> Mes marzo | D5: ='Resumen general'!F6 -> Acumulado desde enero | L5: ='Resumen general'!I4 -> Fecha: 12/02/2019
B6: ='Resumen general'!D7 -> 2017 | C6: ='Resumen general'!E7 -> 2018 | D6: ='Resumen general'!F7 -> 2017 | E6: ='Resumen general'!G7 -> 2018 | F6: Var. (%)
A7: A CORUÑA | B7: 577420 | C7: 722323 | D7: 2088366 | E7: 2315240 | F7: =((E7*100)/D7)-100 -> 10.863709
A8: ALICANTE | B8: 7432 | C8: 8865 | D8: 11745 | E8: 14445 | F8: =((E8*100)/D8)-100 -> 22.988506
A9: ALMERÍA | B9: 4200 | C9: 3802 | D9: 10103 | E9: 12313 | F9: =((E9*100)/D9)-100 -> 21.874691
A10: AVILÉS | B10: 61086 | C10: 35138 | D10: 150686 | E10: 132957 | F10: =((E10*100)/D10)-100 -> -11.765526
A11: BAHÍA DE ALGECIRAS | B11: 2331703 | C11: 2865880 | D11: 6891844 | E11: 8122295 | F11: =((E11*100)/D11)-100 -> 17.853727
A12: BAHÍA DE CÁDIZ | B12: 36497 | C12: 218 | D12: 110466 | E12: 43332 | F12: =((E12*100)/D12)-100 -> -60.773451
A13: BALEARES | B13: 92136 | C13: 124713 | D13: 254941 | E13: 323089 | F13: =((E13*100)/D13)-100 -> 26.730891
A14: BARCELONA | B14: 1252025 | C14: 1451496 | D14: 3524027 | E14: 4065573 | F14: =((E14*100)/D14)-100 -> 15.367249
A15: BILBAO | B15: 1317847 | C15: 1809542 | D15: 3959523 | E15: 5061561 | F15: =((E15*100)/D15)-100 -> 27.832595
A16: CARTAGENA | B16: 2244462 | C16: 1771491 | D16: 6967131 | E16: 6101891 | F16: =((E16*100)/D16)-100 -> -12.418885
A17: CASTELLÓN | B17: 632107 | C17: 660254 | D17: 2072454 | E17: 2428358 | F17: =((E17*100)/D17)-100 -> 17.173071
A18: CEUTA | B18: 72846 | C18: 71773 | D18: 239337 | E18: 212637 | F18: =((E18*100)/D18)-100 -> -11.155818
... A34: VILAGARCÍA | B34: 23380 | C34: 8194 | D34: 42711 | E34: 38780 | F34: =((E34*100)/D34)-100 -> -9.203718
A35: Total | B35: =SUM(B7:B34) -> 14227437 | C35: =SUM(C7:C34) -> 15237193 | D35: =SUM(D7:D34) -> 43216619 | E35: =SUM(E7:E34) -> 44566652 | F35: =((E35*100)/D35)-100 -> 3.1238746
A36: Incluye cargas, descargas, tránsitos y transbordos.
B38: =E6 -> 2018 | C38: =D6 -> 2017 | F38: =B38 -> 2018 | G38: =C38 -> 2017
A39: =A7 -> A CORUÑA | B39: =E7 -> 2315240 | C39: =D7 -> 2088366 | D39: =_xlfn.RANK.EQ(B39,$B$39:$B$66)+COUNTIF($B$39:$B$66,B39)-1 -> 8 | E39: =INDEX($A$39:$B$66,MATCH(ROW()-38,$D$39:$D$66,0),1) -> BAHÍA DE ALGECIRAS | F39: =LOOKUP(E39,$A$39:$A$66,$B$39:$B$66) -> 8122295 | G39: =LOOKUP(E39,$A$39:$A$66,$C$39:$C$66) -> 6891844
A40: =A8 -> ALICANTE | B40: =E8 -> 14445 | C40: =D8 -> 11745 | D40: =_xlfn.RANK.EQ(B40,$B$39:$B$66)+COUNTIF($B$39:$B$66,B40)-1 -> 24 | E40: =INDEX($A$39:$B$66,MATCH(ROW()-38,$D$39:$D$66,0),1) -> CARTAGENA | F40: =LOOKUP(E40,$A$39:$A$66,$B$39:$B$66) -> 6101891 | G40: =LOOKUP(E40,$A$39:$A$66,$C$39:$C$66) -> 6967131
A41: =A9 -> ALMERÍA | B41: =E9 -> 12313 | C41: =D9 -> 10103 | D41: =_xlfn.RANK.EQ(B41,$B$39:$B$66)+COUNTIF($B$39:$B$66,B41)-1 -> 25 | E41: =INDEX($A$39:$B$66,MATCH(ROW()-38,$D$39:$D$66,0),1) -> HUELVA | F41: =LOOKUP(E41,$A$39:$A$66,$B$39:$B$66) -> 5897756 | G41: =LOOKUP(E41,$A$39:$A$66,$C$39:$C$66) -> 6133947
A42: =A10 -> AVILÉS | B42: =E10 -> 132957 | C42: =D10 -> 150686 | D42: =_xlfn.RANK.EQ(B42,$B$39:$B$66)+COUNTIF($B$39:$B$66,B42)-1 -> 17 | E42: =INDEX($A$39:$B$66,MATCH(ROW()-38,$D$39:$D$66,0),1) -> TARRAGONA | F42: =LOOKUP(E42,$A$39:$A$66,$B$39:$B$66) -> 5127738 | G42: =LOOKUP(E42,$A$39:$A$66,$C$39:$C$66) -> 5268434
A43: =A11 -> BAHÍA DE ALGECIRAS | B43: =E11 -> 8122295 | C43: =D11 -> 6891844 | D43: =_xlfn.RANK.EQ(B43,$B$39:$B$66)+COUNTIF($B$39:$B$66,B43)-1 -> 1 | E43: =INDEX($A$39:$B$66,MATCH(ROW()-38,$D$39:$D$66,0),1) -> BILBAO | F43: =LOOKUP(E43,$A$39:$A$66,$B$39:$B$66) -> 5061561 | G43: =LOOKUP(E43,$A$39:$A$66,$C$39:$C$66) -> 3959523
A44: =A12 -> BAHÍA DE CÁDIZ | B44: =E12 -> 43332 | C44: =D12 -> 110466 | D44: =_xlfn.RANK.EQ(B44,$B$39:$B$66)+COUNTIF($B$39:$B$66,B44)-1 -> 20 | E44: =INDEX($A$39:$B$66,MATCH(ROW()-38,$D$39:$D$66,0),1) -> BARCELONA | F44: =LOOKUP(E44,$A$39:$A$66,$B$39:$B$66) -> 4065573 | G44: =LOOKUP(E44,$A$39:$A$66,$C$39:$C$66) -> 3524027
A45: =A13 -> BALEARES | B45: =E13 -> 323089 | C45: =D13 -> 254941 | D45: =_xlfn.RANK.EQ(B45,$B$39:$B$66)+COUNTIF($B$39:$B$66,B45)-1 -> 14 | E45: =INDEX($A$39:$B$66,MATCH(ROW()-38,$D$39:$D$66,0),1) -> CASTELLÓN | F45: =LOOKUP(E45,$A$39:$A$66,$B$39:$B$66) -> 2428358 | G45: =LOOKUP(E45,$A$39:$A$66,$C$39:$C$66) -> 2072454
A46: =A14 -> BARCELONA | B46: =E14 -> 4065573 | C46: =D14 -> 3524027 | D46: =_xlfn.RANK.EQ(B46,$B$39:$B$66)+COUNTIF($B$39:$B$66,B46)-1 -> 6 | E46: =INDEX($A$39:$B$66,MATCH(ROW()-38,$D$39:$D$66,0),1) -> A CORUÑA | F46: =LOOKUP(E46,$A$39:$A$66,$B$39:$B$66) -> 2315240 | G46: =LOOKUP(E46,$A$39:$A$66,$C$39:$C$66) -> 2088366
A47: =A15 -> BILBAO | B47: =E15 -> 5061561 | C47: =D15 -> 3959523 | D47: =_xlfn.RANK.EQ(B47,$B$39:$B$66)+COUNTIF($B$39:$B$66,B47)-1 -> 5 | E47: =INDEX($A$39:$B$66,MATCH(ROW()-38,$D$39:$D$66,0),1) -> LAS PALMAS | F47: =LOOKUP(E47,$A$39:$A$66,$B$39:$B$66) -> 1644841 | G47: =LOOKUP(E47,$A$39:$A$66,$C$39:$C$66) -> 1781756
A48: =A16 -> CARTAGENA | B48: =E16 -> 6101891 | C48: =D16 -> 6967131 | D48: =_xlfn.RANK.EQ(B48,$B$39:$B$66)+COUNTIF($B$39:$B$66,B48)-1 -> 2 | E48: =INDEX($A$39:$B$66,MATCH(ROW()-38,$D$39:$D$66,0),1) -> SANTA CRUZ DE TENERIFE | F48: =LOOKUP(E48,$A$39:$A$66,$B$39:$B$66) -> 1242335 | G48: =LOOKUP(E48,$A$39:$A$66,$C$39:$C$66) -> 1415080
A49: =A17 -> CASTELLÓN | B49: =E17 -> 2428358 | C49: =D17 -> 2072454 | D49: =_xlfn.RANK.EQ(B49,$B$39:$B$66)+COUNTIF($B$39:$B$66,B49)-1 -> 7 | E49: =INDEX($A$39:$B$66,MATCH(ROW()-38,$D$39:$D$66,0),1) -> VALENCIA | F49: =LOOKUP(E49,$A$39:$A$66,$B$39:$B$66) -> 579420 | G49: =LOOKUP(E49,$A$39:$A$66,$C$39:$C$66) -> 1028812
A50: =A18 -> CEUTA | B50: =E18 -> 212637 | C50: =D18 -> 239337 | D50: =_xlfn.RANK.EQ(B50,$B$39:$B$66)+COUNTIF($B$39:$B$66,B50)-1 -> 15 | E50: =INDEX($A$39:$B$66,MATCH(ROW()-38,$D$39:$D$66,0),1) -> FERROL-SAN CIBRAO | F50: =LOOKUP(E50,$A$39:$A$66,$B$39:$B$66) -> 457338 | G50: =LOOKUP(E50,$A$39:$A$66,$C$39:$C$66) -> 627541
... A66: =A34 -> VILAGARCÍA | B66: =E34 -> 38780 | C66: =D34 -> 42711 | D66: =_xlfn.RANK.EQ(B66,$B$39:$B$66)+COUNTIF($B$39:$B$66,B66)-1 -> 21 | E66: =INDEX($A$39:$B$66,MATCH(ROW()-38,$D$39:$D$66,0),1) -> MARÍN Y RÍA DE PONTEVEDRA | F66: =LOOKUP(E66,$A$39:$A$66,$B$39:$B$66) -> 0 | G66: =LOOKUP(E66,$A$39:$A$66,$C$39:$C$66) -> 0

Sheet Sólidos
F1: 3. GRANELES SÓLIDOS (toneladas)
A5: Autoridad Portuaria | B5: ='Resumen general'!D6 -> Mes marzo | D5: ='Resumen general'!F6 -> Acumulado desde enero | L5: ='Resumen general'!I4 -> Fecha: 12/02/2019
B6: ='Resumen general'!D7 -> 2017 | C6: ='Resumen general'!E7 -> 2018 | D6: ='Resumen general'!F7 -> 2017 | E6: ='Resumen general'!G7 -> 2018 | F6: Var. (%)
A7: A CORUÑA | B7: 365308 | C7: 242206 | D7: 1009662 | E7: 1142383 | F7: =((E7*100)/D7)-100 -> 13.145092
A8: ALICANTE | B8: 119658 | C8: 145291 | D8: 371050 | E8: 427063 | F8: =((E8*100)/D8)-100 -> 15.095809
A9: ALMERÍA | B9: 484138 | C9: 567106 | D9: 1345113 | E9: 1422063 | F9: =((E9*100)/D9)-100 -> 5.720709
A10: AVILÉS | B10: 263475 | C10: 248618 | D10: 653198 | E10: 803877 | F10: =((E10*100)/D10)-100 -> 23.067891
A11: BAHÍA DE ALGECIRAS | B11: 49082 | C11: 59309 | D11: 406044 | E11: 313630 | F11: =((E11*100)/D11)-100 -> -22.759602
A12: BAHÍA DE CÁDIZ | B12: 89493 | C12: 160059 | D12: 464822 | E12: 528951 | F12: =((E12*100)/D12)-100 -> 13.796464
A13: BALEARES | B13: 162484 | C13: 130719 | D13: 378389 | E13: 378464 | F13: =((E13*100)/D13)-100 -> 0.019820872
A14: BARCELONA | B14: 405428 | C14: 390648 | D14: 897445 | E14: 1188052 | F14: =((E14*100)/D14)-100 -> 32.381594
A15: BILBAO | B15: 346674 | C15: 324427 | D15: 891557 | E15: 1211393 | F15: =((E15*100)/D15)-100 -> 35.87387
A16: CARTAGENA | B16: 457979 | C16: 428599 | D16: 1285836 | E16: 1506950 | F16: =((E16*100)/D16)-100 -> 17.196128
A17: CASTELLÓN | B17: 539838 | C17: 504798 | D17: 1272766 | E17: 1451309 | F17: =((E17*100)/D17)-100 -> 14.027952
A18: CEUTA | B18: 1500 | C18: 1500 | D18: 9732 | E18: 7254 | F18: =((E18*100)/D18)-100 -> -25.462392
... A34: VILAGARCÍA | B34: 29506 | C34: 13615 | D34: 73409 | E34: 86170 | F34: =((E34*100)/D34)-100 -> 17.383427
A35: Total | B35: =SUM(B7:B34) -> 8439516 | C35: =SUM(C7:C34) -> 8218999 | D35: =SUM(D7:D34) -> 23141918 | E35: =SUM(E7:E34) -> 24460058 | F35: =((E35*100)/D35)-100 -> 5.6958978
A36: Incluye cargas, descargas, tránsitos y transbordos.
B38: =E6 -> 2018 | C38: =D6 -> 2017 | F38: =B38 -> 2018 | G38: =C38 -> 2017
A39: =A7 -> A CORUÑA | B39: =E7 -> 1142383 | C39: =D7 -> 1009662 | D39: =_xlfn.RANK.EQ(B39,$B$39:$B$66)+COUNTIF($B$39:$B$66,B39)-1 -> 10 | E39: =INDEX($A$39:$B$66,MATCH(ROW()-38,$D$39:$D$66,0),1) -> GIJÓN | F39: =LOOKUP(E39,$A$39:$A$66,$B$39:$B$66) -> 4118818 | G39: =LOOKUP(E39,$A$39:$A$66,$C$39:$C$66) -> 4722490
A40: =A8 -> ALICANTE | B40: =E8 -> 427063 | C40: =D8 -> 371050 | D40: =_xlfn.RANK.EQ(B40,$B$39:$B$66)+COUNTIF($B$39:$B$66,B40)-1 -> 16 | E40: =INDEX($A$39:$B$66,MATCH(ROW()-38,$D$39:$D$66,0),1) -> TARRAGONA | F40: =LOOKUP(E40,$A$39:$A$66,$B$39:$B$66) -> 2729432 | G40: =LOOKUP(E40,$A$39:$A$66,$C$39:$C$66) -> 2261205
A41: =A9 -> ALMERÍA | B41: =E9 -> 1422063 | C41: =D9 -> 1345113 | D41: =_xlfn.RANK.EQ(B41,$B$39:$B$66)+COUNTIF($B$39:$B$66,B41)-1 -> 7 | E41: =INDEX($A$39:$B$66,MATCH(ROW()-38,$D$39:$D$66,0),1) -> FERROL-SAN CIBRAO | F41: =LOOKUP(E41,$A$39:$A$66,$B$39:$B$66) -> 2448553 | G41: =LOOKUP(E41,$A$39:$A$66,$C$39:$C$66) -> 2956219
A42: =A10 -> AVILÉS | B42: =E10 -> 803877 | C42: =D10 -> 653198 | D42: =_xlfn.RANK.EQ(B42,$B$39:$B$66)+COUNTIF($B$39:$B$66,B42)-1 -> 11 | E42: =INDEX($A$39:$B$66,MATCH(ROW()-38,$D$39:$D$66,0),1) -> HUELVA | F42: =LOOKUP(E42,$A$39:$A$66,$B$39:$B$66) -> 1665661 | G42: =LOOKUP(E42,$A$39:$A$66,$C$39:$C$66) -> 1446271
A43: =A11 -> BAHÍA DE ALGECIRAS | B43: =E11 -> 313630 | C43: =D11 -> 406044 | D43: =_xlfn.RANK.EQ(B43,$B$39:$B$66)+COUNTIF($B$39:$B$66,B43)-1 -> 19 | E43: =INDEX($A$39:$B$66,MATCH(ROW()-38,$D$39:$D$66,0),1) -> CARTAGENA | F43: =LOOKUP(E43,$A$39:$A$66,$B$39:$B$66) -> 1506950 | G43: =LOOKUP(E43,$A$39:$A$66,$C$39:$C$66) -> 1285836
A44: =A12 -> BAHÍA DE CÁDIZ | B44: =E12 -> 528951 | C44: =D12 -> 464822 | D44: =_xlfn.RANK.EQ(B44,$B$39:$B$66)+COUNTIF($B$39:$B$66,B44)-1 -> 15 | E44: =INDEX($A$39:$B$66,MATCH(ROW()-38,$D$39:$D$66,0),1) -> CASTELLÓN | F44: =LOOKUP(E44,$A$39:$A$66,$B$39:$B$66) -> 1451309 | G44: =LOOKUP(E44,$A$39:$A$66,$C$39:$C$66) -> 1272766
A45: =A13 -> BALEARES | B45: =E13 -> 378464 | C45: =D13 -> 378389 | D45: =_xlfn.RANK.EQ(B45,$B$39:$B$66)+COUNTIF($B$39:$B$66,B45)-1 -> 18 | E45: =INDEX($A$39:$B$66,MATCH(ROW()-38,$D$39:$D$66,0),1) -> ALMERÍA | F45: =LOOKUP(E45,$A$39:$A$66,$B$39:$B$66) -> 1422063 | G45: =LOOKUP(E45,$A$39:$A$66,$C$39:$C$66) -> 1345113
A46: =A14 -> BARCELONA | B46: =E14 -> 1188052 | C46: =D14 -> 897445 | D46: =_xlfn.RANK.EQ(B46,$B$39:$B$66)+COUNTIF($B$39:$B$66,B46)-1 -> 9 | E46: =INDEX($A$39:$B$66,MATCH(ROW()-38,$D$39:$D$66,0),1) -> BILBAO | F46: =LOOKUP(E46,$A$39:$A$66,$B$39:$B$66) -> 1211393 | G46: =LOOKUP(E46,$A$39:$A$66,$C$39:$C$66) -> 891557
A47: =A15 -> BILBAO | B47: =E15 -> 1211393 | C47: =D15 -> 891557 | D47: =_xlfn.RANK.EQ(B47,$B$39:$B$66)+COUNTIF($B$39:$B$66,B47)-1 -> 8 | E47: =INDEX($A$39:$B$66,MATCH(ROW()-38,$D$39:$D$66,0),1) -> BARCELONA | F47: =LOOKUP(E47,$A$39:$A$66,$B$39:$B$66) -> 1188052 | G47: =LOOKUP(E47,$A$39:$A$66,$C$39:$C$66) -> 897445
A48: =A16 -> CARTAGENA | B48: =E16 -> 1506950 | C48: =D16 -> 1285836 | D48: =_xlfn.RANK.EQ(B48,$B$39:$B$66)+COUNTIF($B$39:$B$66,B48)-1 -> 5 | E48: =INDEX($A$39:$B$66,MATCH(ROW()-38,$D$39:$D$66,0),1) -> A CORUÑA | F48: =LOOKUP(E48,$A$39:$A$66,$B$39:$B$66) -> 1142383 | G48: =LOOKUP(E48,$A$39:$A$66,$C$39:$C$66) -> 1009662
A49: =A17 -> CASTELLÓN | B49: =E17 -> 1451309 | C49: =D17 -> 1272766 | D49: =_xlfn.RANK.EQ(B49,$B$39:$B$66)+COUNTIF($B$39:$B$66,B49)-1 -> 6 | E49: =INDEX($A$39:$B$66,MATCH(ROW()-38,$D$39:$D$66,0),1) -> AVILÉS | F49: =LOOKUP(E49,$A$39:$A$66,$B$39:$B$66) -> 803877 | G49: =LOOKUP(E49,$A$39:$A$66,$C$39:$C$66) -> 653198
A50: =A18 -> CEUTA | B50: =E18 -> 7254 | C50: =D18 -> 9732 | D50: =_xlfn.RANK.EQ(B50,$B$39:$B$66)+COUNTIF($B$39:$B$66,B50)-1 -> 27 | E50: =INDEX($A$39:$B$66,MATCH(ROW()-38,$D$39:$D$66,0),1) -> SANTANDER | F50: =LOOKUP(E50,$A$39:$A$66,$B$39:$B$66) -> 732054 | G50: =LOOKUP(E50,$A$39:$A$66,$C$39:$C$66) -> 666301
... A66: =A34 -> VILAGARCÍA | B66: =E34 -> 86170 | C66: =D34 -> 73409 | D66: =_xlfn.RANK.EQ(B66,$B$39:$B$66)+COUNTIF($B$39:$B$66,B66)-1 -> 25 | E66: =INDEX($A$39:$B$66,MATCH(ROW()-38,$D$39:$D$66,0),1) -> MELILLA | F66: =LOOKUP(E66,$A$39:$A$66,$B$39:$B$66) -> 24 | G66: =LOOKUP(E66,$A$39:$A$66,$C$39:$C$66) -> 1501

Sheet Mercancía general
F1: 4. MERCANCÍA GENERAL (toneladas)
A5: Autoridad Portuaria | B5: ='Resumen general'!D6 -> Mes marzo | D5: ='Resumen general'!F6 -> Acumulado desde enero | L5: ='Resumen general'!I4 -> Fecha: 12/02/2019
B6: ='Resumen general'!D7 -> 2017 | C6: ='Resumen general'!E7 -> 2018 | D6: ='Resumen general'!F7 -> 2017 | E6: ='Resumen general'!G7 -> 2018 | F6: Var. (%)
A7: A CORUÑA | B7: 69427 | C7: 74834 | D7: 202273 | E7: 233814 | F7: =((E7*100)/D7)-100 -> 15.593282
A8: ALICANTE | B8: 134093 | C8: 115273 | D8: 374416 | E8: 342967 | F8: =((E8*100)/D8)-100 -> -8.3994808
A9: ALMERÍA | B9: 62931 | C9: 41693 | D9: 148157 | E9: 109526 | F9: =((E9*100)/D9)-100 -> -26.074367
A10: AVILÉS | B10: 99697 | C10: 134141 | D10: 290509 | E10: 361105 | F10: =((E10*100)/D10)-100 -> 24.300796
A11: BAHÍA DE ALGECIRAS | B11: 5020828 | C11: 5919700 | D11: 15015056 | E11: 16970370 | F11: =((E11*100)/D11)-100 -> 13.022356
A12: BAHÍA DE CÁDIZ | B12: 151699 | C12: 135360 | D12: 423508 | E12: 402490 | F12: =((E12*100)/D12)-100 -> -4.9628342
A13: BALEARES | B13: 1129559 | C13: 1089128 | D13: 2735944 | E13: 2842737 | F13: =((E13*100)/D13)-100 -> 3.9033328
A14: BARCELONA | B14: 3499101 | C14: 3851644 | D14: 9363745 | E14: 10985078 | F14: =((E14*100)/D14)-100 -> 17.315006
A15: BILBAO | B15: 999541 | C15: 843023 | D15: 2243146 | E15: 2392287 | F15: =((E15*100)/D15)-100 -> 6.6487424
A16: CARTAGENA | B16: 105682 | C16: 103245 | D16: 309342 | E16: 323249 | F16: =((E16*100)/D16)-100 -> 4.4956715
A17: CASTELLÓN | B17: 341897 | C17: 320679 | D17: 917451 | E17: 852757 | F17: =((E17*100)/D17)-100 -> -7.0514938
A18: CEUTA | B18: 98990 | C18: 60750 | D18: 262577 | E18: 181167 | F18: =((E18*100)/D18)-100 -> -31.004239
... A34: VILAGARCÍA | B34: 51128 | C34: 45918 | D34: 142147 | E34: 139771 | F34: =((E34*100)/D34)-100 -> -1.6715091
A35: Total | B35: =SUM(B7:B34) -> 21266846 | C35: =SUM(C7:C34) -> 22870724 | D35: =SUM(D7:D34) -> 58022440 | E35: =SUM(E7:E34) -> 63746151 | F35: =((E35*100)/D35)-100 -> 9.8646506
A36: Incluye cargas, descargas, tránsitos y transbordos.
B38: =E6 -> 2018 | C38: =D6 -> 2017 | F38: =B38 -> 2018 | G38: =C38 -> 2017
A39: =A7 -> A CORUÑA | B39: =E7 -> 233814 | C39: =D7 -> 202273 | D39: =_xlfn.RANK.EQ(B39,$B$39:$B$66)+COUNTIF($B$39:$B$66,B39)-1 -> 23 | E39: =INDEX($A$39:$B$66,MATCH(ROW()-38,$D$39:$D$66,0),1) -> BAHÍA DE ALGECIRAS | F39: =LOOKUP(E39,$A$39:$A$66,$B$39:$B$66) -> 16970370 | G39: =LOOKUP(E39,$A$39:$A$66,$C$39:$C$66) -> 15015056
A40: =A8 -> ALICANTE | B40: =E8 -> 342967 | C40: =D8 -> 374416 | D40: =_xlfn.RANK.EQ(B40,$B$39:$B$66)+COUNTIF($B$39:$B$66,B40)-1 -> 18 | E40: =INDEX($A$39:$B$66,MATCH(ROW()-38,$D$39:$D$66,0),1) -> VALENCIA | F40: =LOOKUP(E40,$A$39:$A$66,$B$39:$B$66) -> 16856534 | G40: =LOOKUP(E40,$A$39:$A$66,$C$39:$C$66) -> 15795751
A41: =A9 -> ALMERÍA | B41: =E9 -> 109526 | C41: =D9 -> 148157 | D41: =_xlfn.RANK.EQ(B41,$B$39:$B$66)+COUNTIF($B$39:$B$66,B41)-1 -> 28 | E41: =INDEX($A$39:$B$66,MATCH(ROW()-38,$D$39:$D$66,0),1) -> BARCELONA | F41: =LOOKUP(E41,$A$39:$A$66,$B$39:$B$66) -> 10985078 | G41: =LOOKUP(E41,$A$39:$A$66,$C$39:$C$66) -> 9363745
A42: =A10 -> AVILÉS | B42: =E10 -> 361105 | C42: =D10 -> 290509 | D42: =_xlfn.RANK.EQ(B42,$B$39:$B$66)+COUNTIF($B$39:$B$66,B42)-1 -> 17 | E42: =INDEX($A$39:$B$66,MATCH(ROW()-38,$D$39:$D$66,0),1) -> LAS PALMAS | F42: =LOOKUP(E42,$A$39:$A$66,$B$39:$B$66) -> 4160050 | G42: =LOOKUP(E42,$A$39:$A$66,$C$39:$C$66) -> 3720212
A43: =A11 -> BAHÍA DE ALGECIRAS | B43: =E11 -> 16970370 | C43: =D11 -> 15015056 | D43: =_xlfn.RANK.EQ(B43,$B$39:$B$66)+COUNTIF($B$39:$B$66,B43)-1 -> 1 | E43: =INDEX($A$39:$B$66,MATCH(ROW()-38,$D$39:$D$66,0),1) -> BALEARES | F43: =LOOKUP(E43,$A$39:$A$66,$B$39:$B$66) -> 2842737 | G43: =LOOKUP(E43,$A$39:$A$66,$C$39:$C$66) -> 2735944
A44: =A12 -> BAHÍA DE CÁDIZ | B44: =E12 -> 402490 | C44: =D12 -> 423508 | D44: =_xlfn.RANK.EQ(B44,$B$39:$B$66)+COUNTIF($B$39:$B$66,B44)-1 -> 14 | E44: =INDEX($A$39:$B$66,MATCH(ROW()-38,$D$39:$D$66,0),1) -> BILBAO | F44: =LOOKUP(E44,$A$39:$A$66,$B$39:$B$66) -> 2392287 | G44: =LOOKUP(E44,$A$39:$A$66,$C$39:$C$66) -> 2243146
A45: =A13 -> BALEARES | B45: =E13 -> 2842737 | C45: =D13 -> 2735944 | D45: =_xlfn.RANK.EQ(B45,$B$39:$B$66)+COUNTIF($B$39:$B$66,B45)-1 -> 5 | E45: =INDEX($A$39:$B$66,MATCH(ROW()-38,$D$39:$D$66,0),1) -> SANTA CRUZ DE TENERIFE | F45: =LOOKUP(E45,$A$39:$A$66,$B$39:$B$66) -> 1886032 | G45: =LOOKUP(E45,$A$39:$A$66,$C$39:$C$66) -> 1654584
A46: =A14 -> BARCELONA | B46: =E14 -> 10985078 | C46: =D14 -> 9363745 | D46: =_xlfn.RANK.EQ(B46,$B$39:$B$66)+COUNTIF($B$39:$B$66,B46)-1 -> 3 | E46: =INDEX($A$39:$B$66,MATCH(ROW()-38,$D$39:$D$66,0),1) -> VIGO | F46: =LOOKUP(E46,$A$39:$A$66,$B$39:$B$66) -> 871860 | G46: =LOOKUP(E46,$A$39:$A$66,$C$39:$C$66) -> 837223
A47: =A15 -> BILBAO | B47: =E15 -> 2392287 | C47: =D15 -> 2243146 | D47: =_xlfn.RANK.EQ(B47,$B$39:$B$66)+COUNTIF($B$39:$B$66,B47)-1 -> 6 | E47: =INDEX($A$39:$B$66,MATCH(ROW()-38,$D$39:$D$66,0),1) -> CASTELLÓN | F47: =LOOKUP(E47,$A$39:$A$66,$B$39:$B$66) -> 852757 | G47: =LOOKUP(E47,$A$39:$A$66,$C$39:$C$66) -> 917451
A48: =A16 -> CARTAGENA | B48: =E16 -> 323249 | C48: =D16 -> 309342 | D48: =_xlfn.RANK.EQ(B48,$B$39:$B$66)+COUNTIF($B$39:$B$66,B48)-1 -> 19 | E48: =INDEX($A$39:$B$66,MATCH(ROW()-38,$D$39:$D$66,0),1) -> TARRAGONA | F48: =LOOKUP(E48,$A$39:$A$66,$B$39:$B$66) -> 522574 | G48: =LOOKUP(E48,$A$39:$A$66,$C$39:$C$66) -> 431897
A49: =A17 -> CASTELLÓN | B49: =E17 -> 852757 | C49: =D17 -> 917451 | D49: =_xlfn.RANK.EQ(B49,$B$39:$B$66)+COUNTIF($B$39:$B$66,B49)-1 -> 9 | E49: =INDEX($A$39:$B$66,MATCH(ROW()-38,$D$39:$D$66,0),1) -> PASAIA | F49: =LOOKUP(E49,$A$39:$A$66,$B$39:$B$66) -> 521791 | G49: =LOOKUP(E49,$A$39:$A$66,$C$39:$C$66) -> 499934
A50: =A18 -> CEUTA | B50: =E18 -> 181167 | C50: =D18 -> 262577 | D50: =_xlfn.RANK.EQ(B50,$B$39:$B$66)+COUNTIF($B$39:$B$66,B50)-1 -> 25 | E50: =INDEX($A$39:$B$66,MATCH(ROW()-38,$D$39:$D$66,0),1) -> SANTANDER | F50: =LOOKUP(E50,$A$39:$A$66,$B$39:$B$66) -> 518415 | G50: =LOOKUP(E50,$A$39:$A$66,$C$39:$C$66) -> 441949
... A66: =A34 -> VILAGARCÍA | B66: =E34 -> 139771 | C66: =D34 -> 142147 | D66: =_xlfn.RANK.EQ(B66,$B$39:$B$66)+COUNTIF($B$39:$B$66,B66)-1 -> 26 | E66: =INDEX($A$39:$B$66,MATCH(ROW()-38,$D$39:$D$66,0),1) -> ALMERÍA | F66: =LOOKUP(E66,$A$39:$A$66,$B$39:$B$66) -> 109526 | G66: =LOOKUP(E66,$A$39:$A$66,$C$39:$C$66) -> 148157

Sheet Mercancías contenedores
F1: 4.1. MERCANCÍAS EN CONTENEDORES (toneladas)
A5: Autoridad Portuaria | B5: ='Resumen general'!D6 -> Mes marzo | D5: ='Resumen general'!F6 -> Acumulado desde enero | L5: ='Resumen general'!I4 -> Fecha: 12/02/2019
B6: ='Resumen general'!D7 -> 2017 | C6: ='Resumen general'!E7 -> 2018 | D6: ='Resumen general'!F7 -> 2017 | E6: ='Resumen general'!G7 -> 2018 | F6: Var. (%)
A7: A CORUÑA | B7: 2 | C7: 0 | D7: 2 | E7: 2 | F7: =((E7*100)/D7)-100 -> 0
A8: ALICANTE | B8: 109578 | C8: 107569 | D8: 310579 | E8: 298051 | F8: =((E8*100)/D8)-100 -> -4.0337563
A9: ALMERÍA | B9: 3252 | C9: 3776 | D9: 8973 | E9: 10065 | F9: =((E9*100)/D9)-100 -> 12.169843
A10: AVILÉS | B10: 0 | C10: 0 | D10: 0 | E10: 0 | F10: =((E10*100)/D10)-100 -> #DIV/0!
A11: BAHÍA DE ALGECIRAS | B11: 4167062 | C11: 5086641 | D11: 12725601 | E11: 14703684 | F11: =((E11*100)/D11)-100 -> 15.544122
A12: BAHÍA DE CÁDIZ | B12: 57969 | C12: 50428 | D12: 164483 | E12: 158874 | F12: =((E12*100)/D12)-100 -> -3.4100789
A13: BALEARES | B13: 76373 | C13: 72826 | D13: 190894 | E13: 185946 | F13: =((E13*100)/D13)-100 -> -2.5920144
A14: BARCELONA | B14: 2455183 | C14: 2825539 | D14: 6757638 | E14: 8265722 | F14: =((E14*100)/D14)-100 -> 22.316733
A15: BILBAO | B15: 616990 | C15: 539200 | D15: 1451554 | E15: 1604691 | F15: =((E15*100)/D15)-100 -> 10.549866
A16: CARTAGENA | B16: 91763 | C16: 88966 | D16: 256223 | E16: 255446 | F16: =((E16*100)/D16)-100 -> -0.30325146
A17: CASTELLÓN | B17: 322215 | C17: 312446 | D17: 853286 | E17: 809521 | F17: =((E17*100)/D17)-100 -> -5.1289954
A18: CEUTA | B18: 18238 | C18: 8365 | D18: 45538 | E18: 27689 | F18: =((E18*100)/D18)-100 -> -39.195836
... A34: VILAGARCÍA | B34: 25800 | C34: 24231 | D34: 72630 | E34: 68929 | F34: =((E34*100)/D34)-100 -> -5.0956905
A35: Total | B35: =SUM(B7:B34) -> 14730750 | C35: =SUM(C7:C34) -> 16331798 | D35: =SUM(D7:D34) -> 41143701 | E35: =SUM(E7:E34) -> 45622867 | F35: =((E35*100)/D35)-100 -> 10.886639
A36: Incluye cargas, descargas, tránsitos y transbordos.
B38: =E6 -> 2018 | C38: =D6 -> 2017 | F38: =B38 -> 2018 | G38: =C38 -> 2017
A39: =A7 -> A CORUÑA | B39: =E7 -> 2 | C39: =D7 -> 2 | D39: =_xlfn.RANK.EQ(B39,$B$39:$B$66)+COUNTIF($B$39:$B$66,B39)-1 -> 27 | E39: =INDEX($A$39:$B$66,MATCH(ROW()-38,$D$39:$D$66,0),1) -> BAHÍA DE ALGECIRAS | F39: =LOOKUP(E39,$A$39:$A$66,$B$39:$B$66) -> 14703684 | G39: =LOOKUP(E39,$A$39:$A$66,$C$39:$C$66) -> 12725601
A40: =A8 -> ALICANTE | B40: =E8 -> 298051 | C40: =D8 -> 310579 | D40: =_xlfn.RANK.EQ(B40,$B$39:$B$66)+COUNTIF($B$39:$B$66,B40)-1 -> 9 | E40: =INDEX($A$39:$B$66,MATCH(ROW()-38,$D$39:$D$66,0),1) -> VALENCIA | F40: =LOOKUP(E40,$A$39:$A$66,$B$39:$B$66) -> 13409404 | G40: =LOOKUP(E40,$A$39:$A$66,$C$39:$C$66) -> 13066137
A41: =A9 -> ALMERÍA | B41: =E9 -> 10065 | C41: =D9 -> 8973 | D41: =_xlfn.RANK.EQ(B41,$B$39:$B$66)+COUNTIF($B$39:$B$66,B41)-1 -> 23 | E41: =INDEX($A$39:$B$66,MATCH(ROW()-38,$D$39:$D$66,0),1) -> BARCELONA | F41: =LOOKUP(E41,$A$39:$A$66,$B$39:$B$66) -> 8265722 | G41: =LOOKUP(E41,$A$39:$A$66,$C$39:$C$66) -> 6757638
A42: =A10 -> AVILÉS | B42: =E10 -> 0 | C42: =D10 -> 0 | D42: =_xlfn.RANK.EQ(B42,$B$39:$B$66)+COUNTIF($B$39:$B$66,B42)-1 -> 28 | E42: =INDEX($A$39:$B$66,MATCH(ROW()-38,$D$39:$D$66,0),1) -> LAS PALMAS | F42: =LOOKUP(E42,$A$39:$A$66,$B$39:$B$66) -> 3071926 | G42: =LOOKUP(E42,$A$39:$A$66,$C$39:$C$66) -> 2729550
A43: =A11 -> BAHÍA DE ALGECIRAS | B43: =E11 -> 14703684 | C43: =D11 -> 12725601 | D43: =_xlfn.RANK.EQ(B43,$B$39:$B$66)+COUNTIF($B$39:$B$66,B43)-1 -> 1 | E43: =INDEX($A$39:$B$66,MATCH(ROW()-38,$D$39:$D$66,0),1) -> BILBAO | F43: =LOOKUP(E43,$A$39:$A$66,$B$39:$B$66) -> 1604691 | G43: =LOOKUP(E43,$A$39:$A$66,$C$39:$C$66) -> 1451554
A44: =A12 -> BAHÍA DE CÁDIZ | B44: =E12 -> 158874 | C44: =D12 -> 164483 | D44: =_xlfn.RANK.EQ(B44,$B$39:$B$66)+COUNTIF($B$39:$B$66,B44)-1 -> 16 | E44: =INDEX($A$39:$B$66,MATCH(ROW()-38,$D$39:$D$66,0),1) -> SANTA CRUZ DE TENERIFE | F44: =LOOKUP(E44,$A$39:$A$66,$B$39:$B$66) -> 954612 | G44: =LOOKUP(E44,$A$39:$A$66,$C$39:$C$66) -> 765901
A45: =A13 -> BALEARES | B45: =E13 -> 185946 | C45: =D13 -> 190894 | D45: =_xlfn.RANK.EQ(B45,$B$39:$B$66)+COUNTIF($B$39:$B$66,B45)-1 -> 14 | E45: =INDEX($A$39:$B$66,MATCH(ROW()-38,$D$39:$D$66,0),1) -> CASTELLÓN | F45: =LOOKUP(E45,$A$39:$A$66,$B$39:$B$66) -> 809521 | G45: =LOOKUP(E45,$A$39:$A$66,$C$39:$C$66) -> 853286
A46: =A14 -> BARCELONA | B46: =E14 -> 8265722 | C46: =D14 -> 6757638 | D46: =_xlfn.RANK.EQ(B46,$B$39:$B$66)+COUNTIF($B$39:$B$66,B46)-1 -> 3 | E46: =INDEX($A$39:$B$66,MATCH(ROW()-38,$D$39:$D$66,0),1) -> VIGO | F46: =LOOKUP(E46,$A$39:$A$66,$B$39:$B$66) -> 615454 | G46: =LOOKUP(E46,$A$39:$A$66,$C$39:$C$66) -> 608117
A47: =A15 -> BILBAO | B47: =E15 -> 1604691 | C47: =D15 -> 1451554 | D47: =_xlfn.RANK.EQ(B47,$B$39:$B$66)+COUNTIF($B$39:$B$66,B47)-1 -> 5 | E47: =INDEX($A$39:$B$66,MATCH(ROW()-38,$D$39:$D$66,0),1) -> ALICANTE | F47: =LOOKUP(E47,$A$39:$A$66,$B$39:$B$66) -> 298051 | G47: =LOOKUP(E47,$A$39:$A$66,$C$39:$C$66) -> 310579
A48: =A16 -> CARTAGENA | B48: =E16 -> 255446 | C48: =D16 -> 256223 | D48: =_xlfn.RANK.EQ(B48,$B$39:$B$66)+COUNTIF($B$39:$B$66,B48)-1 -> 10 | E48: =INDEX($A$39:$B$66,MATCH(ROW()-38,$D$39:$D$66,0),1) -> CARTAGENA | F48: =LOOKUP(E48,$A$39:$A$66,$B$39:$B$66) -> 255446 | G48: =LOOKUP(E48,$A$39:$A$66,$C$39:$C$66) -> 256223
A49: =A17 -> CASTELLÓN | B49: =E17 -> 809521 | C49: =D17 -> 853286 | D49: =_xlfn.RANK.EQ(B49,$B$39:$B$66)+COUNTIF($B$39:$B$66,B49)-1 -> 7 | E49: =INDEX($A$39:$B$66,MATCH(ROW()-38,$D$39:$D$66,0),1) -> MARÍN Y RÍA DE PONTEVEDRA | F49: =LOOKUP(E49,$A$39:$A$66,$B$39:$B$66) -> 224641 | G49: =LOOKUP(E49,$A$39:$A$66,$C$39:$C$66) -> 191784
A50: =A18 -> CEUTA | B50: =E18 -> 27689 | C50: =D18 -> 45538 | D50: =_xlfn.RANK.EQ(B50,$B$39:$B$66)+COUNTIF($B$39:$B$66,B50)-1 -> 21 | E50: =INDEX($A$39:$B$66,MATCH(ROW()-38,$D$39:$D$66,0),1) -> SEVILLA | F50: =LOOKUP(E50,$A$39:$A$66,$B$39:$B$66) -> 221742 | G50: =LOOKUP(E50,$A$39:$A$66,$C$39:$C$66) -> 223021
... A66: =A34 -> VILAGARCÍA | B66: =E34 -> 68929 | C66: =D34 -> 72630 | D66: =_xlfn.RANK.EQ(B66,$B$39:$B$66)+COUNTIF($B$39:$B$66,B66)-1 -> 19 | E66: =INDEX($A$39:$B$66,MATCH(ROW()-38,$D$39:$D$66,0),1) -> AVILÉS | F66: =LOOKUP(E66,$A$39:$A$66,$B$39:$B$66) -> 0 | G66: =LOOKUP(E66,$A$39:$A$66,$C$39:$C$66) -> 0

Sheet Pesca
F1: 5. PESCA (toneladas)
A5: Autoridad Portuaria | B5: ='Resumen general'!D6 -> Mes marzo | D5: ='Resumen general'!F6 -> Acumulado desde enero | L5: ='Resumen general'!I4 -> Fecha: 12/02/2019
B6: ='Resumen general'!D7 -> 2017 | C6: ='Resumen general'!E7 -> 2018 | D6: ='Resumen general'!F7 -> 2017 | E6: ='Resumen general'!G7 -> 2018 | F6: Var. (%)
A7: A CORUÑA | B7: 5484 | C7: 3585 | D7: 9568 | E7: 7056 | F7: =((E7*100)/D7)-100 -> -26.254181
A8: ALICANTE | B8: 96 | C8: 8 | D8: 96 | E8: 327 | F8: =((E8*100)/D8)-100 -> 240.625
A9: ALMERÍA | B9: 202 | C9: 179 | D9: 629 | E9: 661 | F9: =((E9*100)/D9)-100 -> 5.0874404
A10: AVILÉS | B10: 2580 | C10: 1925 | D10: 4022 | E10: 3444 | F10: =((E10*100)/D10)-100 -> -14.37096
A11: BAHÍA DE ALGECIRAS | B11: 73 | C11: 37 | D11: 168 | E11: 128 | F11: =((E11*100)/D11)-100 -> -23.809524
A12: BAHÍA DE CÁDIZ | B12: 1590 | C12: 1087 | D12: 3840 | E12: 3336 | F12: =((E12*100)/D12)-100 -> -13.125
A13: BALEARES | B13: 281 | C13: 177 | D13: 615 | E13: 558 | F13: =((E13*100)/D13)-100 -> -9.2682927
A14: BARCELONA | B14: 390 | C14: 253 | D14: 1005 | E14: 789 | F14: =((E14*100)/D14)-100 -> -21.492537
A15: BILBAO | B15: 0 | C15: 0 | D15: 0 | E15: 0 | F15: =((E15*100)/D15)-100 -> #DIV/0!
A16: CARTAGENA | B16: 54 | C16: 27 | D16: 119 | E16: 98 | F16: =((E16*100)/D16)-100 -> -17.647059
A17: CASTELLÓN | B17: 344 | C17: 344 | D17: 700 | E17: 806 | F17: =((E17*100)/D17)-100 -> 15.142857
A18: CEUTA | B18: 0 | C18: 0 | D18: 0 | E18: 0 | F18: =((E18*100)/D18)-100 -> #DIV/0!
... A34: VILAGARCÍA | B34: 0 | C34: 0 | D34: 0 | E34: 0 | F34: =((E34*100)/D34)-100 -> #DIV/0!
A35: Total | B35: =SUM(B7:B34) -> 26440 | C35: =SUM(C7:C34) -> 19397 | D35: =SUM(D7:D34) -> 53651 | E35: =SUM(E7:E34) -> 45478 | F35: =((E35*100)/D35)-100 -> -15.23364
B38: =E6 -> 2018 | C38: =D6 -> 2017 | F38: =B38 -> 2018 | G38: =C38 -> 2017
A39: =A7 -> A CORUÑA | B39: =E7 -> 7056 | C39: =D7 -> 9568 | D39: =_xlfn.RANK.EQ(B39,$B$39:$B$66)+COUNTIF($B$39:$B$66,B39)-1 -> 3 | E39: =INDEX($A$39:$B$66,MATCH(ROW()-38,$D$39:$D$66,0),1) -> VIGO | F39: =LOOKUP(E39,$A$39:$A$66,$B$39:$B$66) -> 14246 | G39: =LOOKUP(E39,$A$39:$A$66,$C$39:$C$66) -> 15907
A40: =A8 -> ALICANTE | B40: =E8 -> 327 | C40: =D8 -> 96 | D40: =_xlfn.RANK.EQ(B40,$B$39:$B$66)+COUNTIF($B$39:$B$66,B40)-1 -> 17 | E40: =INDEX($A$39:$B$66,MATCH(ROW()-38,$D$39:$D$66,0),1) -> PASAIA | F40: =LOOKUP(E40,$A$39:$A$66,$B$39:$B$66) -> 8365 | G40: =LOOKUP(E40,$A$39:$A$66,$C$39:$C$66) -> 8572
A41: =A9 -> ALMERÍA | B41: =E9 -> 661 | C41: =D9 -> 629 | D41: =_xlfn.RANK.EQ(B41,$B$39:$B$66)+COUNTIF($B$39:$B$66,B41)-1 -> 12 | E41: =INDEX($A$39:$B$66,MATCH(ROW()-38,$D$39:$D$66,0),1) -> A CORUÑA | F41: =LOOKUP(E41,$A$39:$A$66,$B$39:$B$66) -> 7056 | G41: =LOOKUP(E41,$A$39:$A$66,$C$39:$C$66) -> 9568
A42: =A10 -> AVILÉS | B42: =E10 -> 3444 | C42: =D10 -> 4022 | D42: =_xlfn.RANK.EQ(B42,$B$39:$B$66)+COUNTIF($B$39:$B$66,B42)-1 -> 4 | E42: =INDEX($A$39:$B$66,MATCH(ROW()-38,$D$39:$D$66,0),1) -> AVILÉS | F42: =LOOKUP(E42,$A$39:$A$66,$B$39:$B$66) -> 3444 | G42: =LOOKUP(E42,$A$39:$A$66,$C$39:$C$66) -> 4022
A43: =A11 -> BAHÍA DE ALGECIRAS | B43: =E11 -> 128 | C43: =D11 -> 168 | D43: =_xlfn.RANK.EQ(B43,$B$39:$B$66)+COUNTIF($B$39:$B$66,B43)-1 -> 19 | E43: =INDEX($A$39:$B$66,MATCH(ROW()-38,$D$39:$D$66,0),1) -> BAHÍA DE CÁDIZ | F43: =LOOKUP(E43,$A$39:$A$66,$B$39:$B$66) -> 3336 | G43: =LOOKUP(E43,$A$39:$A$66,$C$39:$C$66) -> 3840
A44: =A12 -> BAHÍA DE CÁDIZ | B44: =E12 -> 3336 | C44: =D12 -> 3840 | D44: =_xlfn.RANK.EQ(B44,$B$39:$B$66)+COUNTIF($B$39:$B$66,B44)-1 -> 5 | E44: =INDEX($A$39:$B$66,MATCH(ROW()-38,$D$39:$D$66,0),1) -> SANTANDER | F44: =LOOKUP(E44,$A$39:$A$66,$B$39:$B$66) -> 1434 | G44: =LOOKUP(E44,$A$39:$A$66,$C$39:$C$66) -> 1284
A45: =A13 -> BALEARES | B45: =E13 -> 558 | C45: =D13 -> 615 | D45: =_xlfn.RANK.EQ(B45,$B$39:$B$66)+COUNTIF($B$39:$B$66,B45)-1 -> 13 | E45: =INDEX($A$39:$B$66,MATCH(ROW()-38,$D$39:$D$66,0),1) -> GIJÓN | F45: =LOOKUP(E45,$A$39:$A$66,$B$39:$B$66) -> 885 | G45: =LOOKUP(E45,$A$39:$A$66,$C$39:$C$66) -> 2904
A46: =A14 -> BARCELONA | B46: =E14 -> 789 | C46: =D14 -> 1005 | D46: =_xlfn.RANK.EQ(B46,$B$39:$B$66)+COUNTIF($B$39:$B$66,B46)-1 -> 11 | E46: =INDEX($A$39:$B$66,MATCH(ROW()-38,$D$39:$D$66,0),1) -> SANTA CRUZ DE TENERIFE | F46: =LOOKUP(E46,$A$39:$A$66,$B$39:$B$66) -> 832 | G46: =LOOKUP(E46,$A$39:$A$66,$C$39:$C$66) -> 1657
A47: =A15 -> BILBAO | B47: =E15 -> 0 | C47: =D15 -> 0 | D47: =_xlfn.RANK.EQ(B47,$B$39:$B$66)+COUNTIF($B$39:$B$66,B47)-1 -> 28 | E47: =INDEX($A$39:$B$66,MATCH(ROW()-38,$D$39:$D$66,0),1) -> CASTELLÓN | F47: =LOOKUP(E47,$A$39:$A$66,$B$39:$B$66) -> 806 | G47: =LOOKUP(E47,$A$39:$A$66,$C$39:$C$66) -> 700
A48: =A16 -> CARTAGENA | B48: =E16 -> 98 | C48: =D16 -> 119 | D48: =_xlfn.RANK.EQ(B48,$B$39:$B$66)+COUNTIF($B$39:$B$66,B48)-1 -> 21 | E48: =INDEX($A$39:$B$66,MATCH(ROW()-38,$D$39:$D$66,0),1) -> VALENCIA | F48: =LOOKUP(E48,$A$39:$A$66,$B$39:$B$66) -> 796 | G48: =LOOKUP(E48,$A$39:$A$66,$C$39:$C$66) -> 397
A49: =A17 -> CASTELLÓN | B49: =E17 -> 806 | C49: =D17 -> 700 | D49: =_xlfn.RANK.EQ(B49,$B$39:$B$66)+COUNTIF($B$39:$B$66,B49)-1 -> 9 | E49: =INDEX($A$39:$B$66,MATCH(ROW()-38,$D$39:$D$66,0),1) -> BARCELONA | F49: =LOOKUP(E49,$A$39:$A$66,$B$39:$B$66) -> 789 | G49: =LOOKUP(E49,$A$39:$A$66,$C$39:$C$66) -> 1005
A50: =A18 -> CEUTA | B50: =E18 -> 0 | C50: =D18 -> 0 | D50: =_xlfn.RANK.EQ(B50,$B$39:$B$66)+COUNTIF($B$39:$B$66,B50)-1 -> 28 | E50: =INDEX($A$39:$B$66,MATCH(ROW()-38,$D$39:$D$66,0),1) -> ALMERÍA | F50: =LOOKUP(E50,$A$39:$A$66,$B$39:$B$66) -> 661 | G50: =LOOKUP(E50,$A$39:$A$66,$C$39:$C$66) -> 629
... A66: =A34 -> VILAGARCÍA | B66: =E34 -> 0 | C66: =D34 -> 0 | D66: =_xlfn.RANK.EQ(B66,$B$39:$B$66)+COUNTIF($B$39:$B$66,B66)-1 -> 28 | E66: =INDEX($A$39:$B$66,MATCH(ROW()-38,$D$39:$D$66,0),1) -> BILBAO | F66: =LOOKUP(E66,$A$39:$A$66,$B$39:$B$66) -> 0 | G66: =LOOKUP(E66,$A$39:$A$66,$C$39:$C$66) -> 0

Sheet Avituallamiento
F1: 6. AVITUALLAMIENTO (toneladas)
A5: Autoridad Portuaria | B5: ='Resumen general'!D6 -> Mes marzo | D5: ='Resumen general'!F6 -> Acumulado desde enero | L5: ='Resumen general'!I4 -> Fecha: 12/02/2019
B6: ='Resumen general'!D7 -> 2017 | C6: ='Resumen general'!E7 -> 2018 | D6: ='Resumen general'!F7 -> 2017 | E6: ='Resumen general'!G7 -> 2018 | F6: Var. (%)
A7: A CORUÑA | B7: 3350 | C7: 6223 | D7: 8034 | E7: 12701 | F7: =((E7*100)/D7)-100 -> 58.090615
A8: ALICANTE | B8: 2212 | C8: 1979 | D8: 5116 | E8: 7186 | F8: =((E8*100)/D8)-100 -> 40.461298
A9: ALMERÍA | B9: 4498 | C9: 6289 | D9: 15151 | E9: 17406 | F9: =((E9*100)/D9)-100 -> 14.883506
A10: AVILÉS | B10: 3285 | C10: 3726 | D10: 9264 | E10: 12163 | F10: =((E10*100)/D10)-100 -> 31.293178
A11: BAHÍA DE ALGECIRAS | B11: 245018 | C11: 209597 | D11: 718535 | E11: 578183 | F11: =((E11*100)/D11)-100 -> -19.533078
A12: BAHÍA DE CÁDIZ | B12: 10932 | C12: 9381 | D12: 27482 | E12: 21355 | F12: =((E12*100)/D12)-100 -> -22.294593
A13: BALEARES | B13: 3440 | C13: 12357 | D13: 12176 | E13: 27799 | F13: =((E13*100)/D13)-100 -> 128.30979
A14: BARCELONA | B14: 73338 | C14: 137721 | D14: 192362 | E14: 362505 | F14: =((E14*100)/D14)-100 -> 88.449382
A15: BILBAO | B15: 9169 | C15: 8857 | D15: 24613 | E15: 25889 | F15: =((E15*100)/D15)-100 -> 5.1842522
A16: CARTAGENA | B16: 3559 | C16: 7171 | D16: 10433 | E16: 13465 | F16: =((E16*100)/D16)-100 -> 29.061631
A17: CASTELLÓN | B17: 1869 | C17: 1836 | D17: 5184 | E17: 4456 | F17: =((E17*100)/D17)-100 -> -14.04321
A18: CEUTA | B18: 46474 | C18: 68095 | D18: 144980 | E18: 188276 | F18: =((E18*100)/D18)-100 -> 29.863429
... A34: VILAGARCÍA | B34: 422 | C34: 274 | D34: 1405 | E34: 1314 | F34: =((E34*100)/D34)-100 -> -6.4768683
A35: Total | B35: =SUM(B7:B34) -> 788227 | C35: =SUM(C7:C34) -> 838903 | D35: =SUM(D7:D34) -> 2218014 | E35: =SUM(E7:E34) -> 2342533 | F35: =((E35*100)/D35)-100 -> 5.6139862
B38: =E6 -> 2018 | C38: =D6 -> 2017 | F38: =B38 -> 2018 | G38: =C38 -> 2017
A39: =A7 -> A CORUÑA | B39: =E7 -> 12701 | C39: =D7 -> 8034 | D39: =_xlfn.RANK.EQ(B39,$B$39:$B$66)+COUNTIF($B$39:$B$66,B39)-1 -> 16 | E39: =INDEX($A$39:$B$66,MATCH(ROW()-38,$D$39:$D$66,0),1) -> LAS PALMAS | F39: =LOOKUP(E39,$A$39:$A$66,$B$39:$B$66) -> 679103 | G39: =LOOKUP(E39,$A$39:$A$66,$C$39:$C$66) -> 642675
A40: =A8 -> ALICANTE | B40: =E8 -> 7186 | C40: =D8 -> 5116 | D40: =_xlfn.RANK.EQ(B40,$B$39:$B$66)+COUNTIF($B$39:$B$66,B40)-1 -> 20 | E40: =INDEX($A$39:$B$66,MATCH(ROW()-38,$D$39:$D$66,0),1) -> BAHÍA DE ALGECIRAS | F40: =LOOKUP(E40,$A$39:$A$66,$B$39:$B$66) -> 578183 | G40: =LOOKUP(E40,$A$39:$A$66,$C$39:$C$66) -> 718535
A41: =A9 -> ALMERÍA | B41: =E9 -> 17406 | C41: =D9 -> 15151 | D41: =_xlfn.RANK.EQ(B41,$B$39:$B$66)+COUNTIF($B$39:$B$66,B41)-1 -> 13 | E41: =INDEX($A$39:$B$66,MATCH(ROW()-38,$D$39:$D$66,0),1) -> BARCELONA | F41: =LOOKUP(E41,$A$39:$A$66,$B$39:$B$66) -> 362505 | G41: =LOOKUP(E41,$A$39:$A$66,$C$39:$C$66) -> 192362
A42: =A10 -> AVILÉS | B42: =E10 -> 12163 | C42: =D10 -> 9264 | D42: =_xlfn.RANK.EQ(B42,$B$39:$B$66)+COUNTIF($B$39:$B$66,B42)-1 -> 17 | E42: =INDEX($A$39:$B$66,MATCH(ROW()-38,$D$39:$D$66,0),1) -> CEUTA | F42: =LOOKUP(E42,$A$39:$A$66,$B$39:$B$66) -> 188276 | G42: =LOOKUP(E42,$A$39:$A$66,$C$39:$C$66) -> 144980
A43: =A11 -> BAHÍA DE ALGECIRAS | B43: =E11 -> 578183 | C43: =D11 -> 718535 | D43: =_xlfn.RANK.EQ(B43,$B$39:$B$66)+COUNTIF($B$39:$B$66,B43)-1 -> 2 | E43: =INDEX($A$39:$B$66,MATCH(ROW()-38,$D$39:$D$66,0),1) -> SANTA CRUZ DE TENERIFE | F43: =LOOKUP(E43,$A$39:$A$66,$B$39:$B$66) -> 163970 | G43: =LOOKUP(E43,$A$39:$A$66,$C$39:$C$66) -> 177467
A44: =A12 -> BAHÍA DE CÁDIZ | B44: =E12 -> 21355 | C44: =D12 -> 27482 | D44: =_xlfn.RANK.EQ(B44,$B$39:$B$66)+COUNTIF($B$39:$B$66,B44)-1 -> 11 | E44: =INDEX($A$39:$B$66,MATCH(ROW()-38,$D$39:$D$66,0),1) -> VALENCIA | F44: =LOOKUP(E44,$A$39:$A$66,$B$39:$B$66) -> 67292 | G44: =LOOKUP(E44,$A$39:$A$66,$C$39:$C$66) -> 67021
A45: =A13 -> BALEARES | B45: =E13 -> 27799 | C45: =D13 -> 12176 | D45: =_xlfn.RANK.EQ(B45,$B$39:$B$66)+COUNTIF($B$39:$B$66,B45)-1 -> 9 | E45: =INDEX($A$39:$B$66,MATCH(ROW()-38,$D$39:$D$66,0),1) -> HUELVA | F45: =LOOKUP(E45,$A$39:$A$66,$B$39:$B$66) -> 41328 | G45: =LOOKUP(E45,$A$39:$A$66,$C$39:$C$66) -> 37351
A46: =A14 -> BARCELONA | B46: =E14 -> 362505 | C46: =D14 -> 192362 | D46: =_xlfn.RANK.EQ(B46,$B$39:$B$66)+COUNTIF($B$39:$B$66,B46)-1 -> 3 | E46: =INDEX($A$39:$B$66,MATCH(ROW()-38,$D$39:$D$66,0),1) -> VIGO | F46: =LOOKUP(E46,$A$39:$A$66,$B$39:$B$66) -> 36160 | G46: =LOOKUP(E46,$A$39:$A$66,$C$39:$C$66) -> 39176
A47: =A15 -> BILBAO | B47: =E15 -> 25889 | C47: =D15 -> 24613 | D47: =_xlfn.RANK.EQ(B47,$B$39:$B$66)+COUNTIF($B$39:$B$66,B47)-1 -> 10 | E47: =INDEX($A$39:$B$66,MATCH(ROW()-38,$D$39:$D$66,0),1) -> BALEARES | F47: =LOOKUP(E47,$A$39:$A$66,$B$39:$B$66) -> 27799 | G47: =LOOKUP(E47,$A$39:$A$66,$C$39:$C$66) -> 12176
A48: =A16 -> CARTAGENA | B48: =E16 -> 13465 | C48: =D16 -> 10433 | D48: =_xlfn.RANK.EQ(B48,$B$39:$B$66)+COUNTIF($B$39:$B$66,B48)-1 -> 15 | E48: =INDEX($A$39:$B$66,MATCH(ROW()-38,$D$39:$D$66,0),1) -> BILBAO | F48: =LOOKUP(E48,$A$39:$A$66,$B$39:$B$66) -> 25889 | G48: =LOOKUP(E48,$A$39:$A$66,$C$39:$C$66) -> 24613
