Workbook
Name CABECERA: Cruceros!$A$5:$F$6
Name CONCEPTO: 'Resumen general'!$A$6
Name LblRes00_Acum: 'Resumen general'!$F$6:$G$6
Name LblRes00_Mes: 'Resumen general'!$D$6:$E$6
Name LblRes00_Var: 'Resumen general'!$H$6:$I$6
Name LblRes01_1_Acum: 'Total presentación'!$D$5:$F$5
Name LblRes01_1_Mes: 'Total presentación'!$B$5:$C$5
Name LblRes01_Acum: 'Automóviles régimen mercancía'!$D$5:$F$5
Name LblRes01_Acum: 'Ro-Ro remolques'!$D$5:$F$5
Name LblRes01_Acum: 'Total tráfico'!$D$5:$F$5
Name LblRes01_Mes: 'Automóviles régimen mercancía'!$B$5:$C$5
Name LblRes01_Mes: 'Ro-Ro remolques'!$B$5:$C$5
Name LblRes01_Mes: 'Total tráfico'!$B$5:$C$5
Name LblRes02_Acum: Líquidos!$D$5:$F$5
Name LblRes02_Mes: Líquidos!$B$5:$C$5
Name LblRes03_Acum: Sólidos!$D$5:$F$5
Name LblRes03_Mes: Sólidos!$B$5:$C$5
Name LblRes04_Acum: 'Mercancía general'!$D$5:$F$5
Name LblRes04_Mes: 'Mercancía general'!$B$5:$C$5
Name LblRes05_Acum: Pesca!$D$5:$F$5
Name LblRes05_Mes: Pesca!$B$5:$C$5
Name LblRes06_Acum: Avituallamiento!$D$5:$F$5
Name LblRes06_Mes: Avituallamiento!$B$5:$C$5
Name LblRes07_1_Acum: 'Mercan. contene. tránsito'!$D$5:$F$5
Name LblRes07_1_Mes: 'Mercan. contene. tránsito'!$B$5:$C$5
Name LblRes07_Acum: 'Mercancías tránsito'!$D$5:$F$5
Name LblRes07_Mes: 'Mercancías tránsito'!$B$5:$C$5
Name LblRes08_Acum: 'Mercancías contenedores'!$D$5:$F$5
Name LblRes08_Mes: 'Mercancías contenedores'!$B$5:$C$5
Name LblRes09_Acum: 'Ro-Ro'!$D$5:$F$5
Name LblRes09_Mes: 'Ro-Ro'!$B$5:$C$5
Name LblRes10_1_Acum: 'TEUS tránsito'!$D$5:$F$5
Name LblRes10_1_Mes: 'TEUS tránsito'!$B$5:$C$5
Name LblRes10_2_Acum: 'TEUS nacional'!$D$5:$F$5
Name LblRes10_2_Mes: 'TEUS nacional'!$B$5:$C$5
Name LblRes10_3_Acum: 'TEUS exterior'!$D$5:$F$5
Name LblRes10_3_Mes: 'TEUS exterior'!$B$5:$C$5
Name LblRes10_4_Acum: 'TEUS nacional y exterior'!$D$5:$F$5
Name LblRes10_4_Mes: 'TEUS nacional y exterior'!$B$5:$C$5
Name LblRes10_Acum: TEUS!$D$5:$F$5
Name LblRes10_Mes: TEUS!$B$5:$C$5
Name LblRes11_1_Acum: 'Pasajeros crucero'!$D$5:$F$5
Name LblRes11_1_Mes: 'Pasajeros crucero'!$B$5:$C$5
Name LblRes11_2_Acum: 'Automóviles régimen pasaje'!$D$5:$F$5
Name LblRes11_2_Mes: 'Automóviles régimen pasaje'!$B$5:$C$5
Name LblRes11_Acum: 'Pasajeros total'!$D$5:$F$5
Name LblRes11_Mes: 'Pasajeros total'!$B$5:$C$5
Name LblRes12_1_Acum: 'Buques número'!$D$5:$F$5
Name LblRes12_1_Mes: 'Buques número'!$B$5:$C$5
Name LblRes12_2_Acum: 'Buques GT'!$D$5:$F$5
Name LblRes12_2_Mes: 'Buques GT'!$B$5:$C$5
Name LblRes12_3_Acum: Cruceros!$D$5:$F$5
Name LblRes12_3_Mes: Cruceros!$B$5:$C$5
Name PROVINCIAS: Cruceros!$A$5:$A$35
Name TxtFecha: Cruceros!$L$5

Sheet Portada e índice
I1: Dirección de Planificación y Desarrollo
I2: Departamento de Estadística
G15: RESUMEN GENERAL DEL TRÁFICO PORTUARIO*
G16: marzo 2018
K29: * Datos mensuales facilitados por las AA.PP., sujetos a posibles modificaciones.
F33: ÍNDICE
B36: 0. | C36: RESUMEN GENERAL DEL TRÁFICO PORTUARIO
B37: 1. | C37: TRÁFICO PORTUARIO
B38: 1.1. | C38: MERCANCÍAS SEGÚN SU FORMA DE PRESENTACIÓN
B39: 2. | C39: GRANELES LÍQUIDOS
B40: 3. | C40: GRANELES SÓLIDOS
B41: 4. | C41: MERCANCÍA GENERAL
B42: 4.1. | C42: MERCANCÍAS EN CONTENEDORES
B43: 5. | C43: PESCA
B44: 6. | C44: AVITUALLAMIENTO
B45: 6.1. | C45: AVITUALLAMIENTO DE COMBUSTIBLES LÍQUIDOS
B46: 7. | C46: TRÁFICO INTERIOR
B47: 8. | C47: MERCANCÍAS EN TRÁNSITO
... B62: 13.2. | C62: CRUCEROS (unidades)

Sheet Resumen general
D1: 00. RESUMEN GENERAL DEL TRÁFICO PORTUARIO
I4: Fecha: 12/02/2019
A6: CONCEPTO | D6: Mes marzo | F6: Acumulado desde enero | H6: Variación
D7: 2017 | E7: 2018 | F7: 2017 | G7: 2018 | H7: Diferencia | I7: %
A8: MERCANCÍAS SEGÚN SU PRESENTACIÓN | B8: GRANELES | C8: LÍQUIDOS | D8: =Líquidos!B35 -> 14227437 | E8: =Líquidos!C35 -> 15237193 | F8: =Líquidos!D35 -> 43216619 | G8: =Líquidos!E35 -> 44566652 | H8: =G8-F8 -> 1350033 | I8: =((G8*100/F8)-100) -> 3.1238746
C9: SÓLIDOS | D9: =Sólidos!B35 -> 8439516 | E9: =Sólidos!C35 -> 8218999 | F9: =Sólidos!D35 -> 23141918 | G9: =Sólidos!E35 -> 24460058 | H9: =G9-F9 -> 1318140 | I9: =((G9*100/F9)-100) -> 5.6958978
B10: MERCANCÍA GRAL. | C10: CONVENCIONAL | D10: =D12-D11 -> 6536096 | E10: =E12-E11 -> 6538926 | F10: =F12-F11 -> 16878739 | G10: =G12-G11 -> 18123284 | H10: =G10-F10 -> 1244545 | I10: =((G10*100/F10)-100) -> 7.3734477
C11: EN CONTENEDORES | D11: ='Mercancías contenedores'!B35 -> 14730750 | E11: ='Mercancías contenedores'!C35 -> 16331798 | F11: ='Mercancías contenedores'!D35 -> 41143701 | G11: ='Mercancías contenedores'!E35 -> 45622867 | H11: =G11-F11 -> 4479166 | I11: =((G11*100/F11)-100) -> 10.886639
C12: TOTAL | D12: ='Mercancía general'!B35 -> 21266846 | E12: ='Mercancía general'!C35 -> 22870724 | F12: ='Mercancía general'!D35 -> 58022440 | G12: ='Mercancía general'!E35 -> 63746151 | H12: =G12-F12 -> 5723711 | I12: =((G12*100/F12)-100) -> 9.8646506
C13: TOTAL | D13: =+D8+D9+D12 -> 43933799 | E13: =+E8+E9+E12 -> 46326916 | F13: =+F8+F9+F12 -> 124380977 | G13: =+G8+G9+G12 -> 132772861 | H13: =G13-F13 -> 8391884 | I13: =((G13*100/F13)-100) -> 6.7469192
A14: OTRAS MERCANCÍAS | B14: PESCA | C14: TOTAL PESCA | D14: =Pesca!B35 -> 26440 | E14: =Pesca!C35 -> 19397 | F14: =Pesca!D35 -> 53651 | G14: =Pesca!E35 -> 45478 | H14: =G14-F14 -> -8173 | I14: =((G14*100/F14)-100) -> -15.23364
B15: AVITUALLAMIENTO | C15: COMBUSTIBLES LÍQUIDOS | D15: ='Avit. combustibles'!B35 -> 642547 | E15: ='Avit. combustibles'!C35 -> 686287 | F15: ='Avit. combustibles'!D35 -> 1821550 | G15: ='Avit. combustibles'!E35 -> 1921182 | H15: =G15-F15 -> 99632 | I15: =((G15*100/F15)-100) -> 5.4696275
C16: OTROS | D16: =Avituallamiento!B35-'Resumen general'!D15 -> 145680 | E16: =Avituallamiento!C35-'Resumen general'!E15 -> 152616 | F16: =Avituallamiento!D35-'Resumen general'!F15 -> 396464 | G16: =Avituallamiento!E35-'Resumen general'!G15 -> 421351 | H16: =G16-F16 -> 24887 | I16: =((G16*100/F16)-100) -> 6.2772408
B17: TRAFICO INTERIOR | C17: TOTAL TRAFICO INTERIOR | D17: ='Tráfico interior'!B35 -> 233441 | E17: ='Tráfico interior'!C35 -> 126986 | F17: ='Tráfico interior'!D35 -> 704818 | G17: ='Tráfico interior'!E35 -> 1524519 | H17: =G17-F17 -> 819701 | I17: =((G17*100/F17)-100) -> 116.29967
C18: TOTAL | D18: =+D14+D15+D16+D17 -> 1048108 | E18: =+E14+E15+E16+E17 -> 985286 | F18: =+F14+F15+F16+F17 -> 2976483 | G18: =+G14+G15+G16+G17 -> 3912530 | H18: =G18-F18 -> 936047 | I18: =((G18*100/F18)-100) -> 31.448088
C19: TOTAL TRÁFICO PORTUARIO (*) | D19: =+D13+D18 -> 44981907 | E19: =+E13+E18 -> 47312202 | F19: =+F13+F18 -> 127357460 | G19: =+G13+G18 -> 136685391 | H19: =G19-F19 -> 9327931 | I19: =((G19*100/F19)-100) -> 7.3242125
A21: OTRAS INFORMACIONES | B21: MERCANCÍAS | C21: EN TRÁNSITO | D21: ='Mercancías tránsito'!B35 -> 10986878 | E21: ='Mercancías tránsito'!C35 -> 12988466 | F21: ='Mercancías tránsito'!D35 -> 30835591 | G21: ='Mercancías tránsito'!E35 -> 35365235 | H21: =G21-F21 -> 4529644 | I21: =((G21*100/F21)-100) -> 14.689662
C22: EN CONTENEDORES EN TRÁNSITO | D22: ='Mercan. contene. tránsito'!B35 -> 8499872 | E22: ='Mercan. contene. tránsito'!C35 -> 10084236 | F22: ='Mercan. contene. tránsito'!D35 -> 24017889 | G22: ='Mercan. contene. tránsito'!E35 -> 27586704 | H22: =G22-F22 -> 3568815 | I22: =((G22*100/F22)-100) -> 14.858987
B23: TRÁFICO RO-RO | C23: TOTAL TRÁFICO RO-RO | D23: ='Ro-Ro'!B35 -> 5369992 | E23: ='Ro-Ro'!C35 -> 5395517 | F23: ='Ro-Ro'!D35 -> 13842771 | G23: ='Ro-Ro'!E35 -> 14812116 | H23: =G23-F23 -> 969345 | I23: =((G23*100/F23)-100) -> 7.0025358
C24: REMOLQUES, SEMIRR. Y PLATAF. (uds.) | D24: ='Ro-Ro remolques'!B35 -> 126485 | E24: ='Ro-Ro remolques'!C35 -> 128101 | F24: ='Ro-Ro remolques'!D35 -> 331256 | G24: ='Ro-Ro remolques'!E35 -> 351008 | H24: =G24-F24 -> 19752 | I24: =((G24*100/F24)-100) -> 5.9627599
B25: CONTENEDORES | C25: TOTAL CONTENEDORES (TEUS) | D25: =TEUS!B35 -> 1280956 | E25: =TEUS!C35 -> 1421434 | F25: =TEUS!D35 -> 3618184 | G25: =TEUS!E35 -> 4073576 | H25: =G25-F25 -> 455392 | I25: =((G25*100/F25)-100) -> 12.586203
C26: EN TRÁNSITO (TEUS) | D26: ='TEUS tránsito'!B35 -> 651535 | E26: ='TEUS tránsito'!C35 -> 785828 | F26: ='TEUS tránsito'!D35 -> 1880441 | G26: ='TEUS tránsito'!E35 -> 2219968 | H26: =G26-F26 -> 339527 | I26: =((G26*100/F26)-100) -> 18.055711
C27: ENTRADAS-SALIDAS NACIONAL (TEUS) | D27: ='TEUS nacional'!B35 -> 174887 | E27: ='TEUS nacional'!C35 -> 171831 | F27: ='TEUS nacional'!D35 -> 472914 | G27: ='TEUS nacional'!E35 -> 480091 | H27: =G27-F27 -> 7177 | I27: =((G27*100/F27)-100) -> 1.5176121
C28: IMPORT-EXPORT EXTERIOR (TEUS) | D28: ='TEUS exterior'!B35 -> 454534 | E28: ='TEUS exterior'!C35 -> 463776 | F28: ='TEUS exterior'!D35 -> 1264829 | G28: ='TEUS exterior'!E35 -> 1373519 | H28: =G28-F28 -> 108690 | I28: =((G28*100/F28)-100) -> 8.5932565
C29: NACIONAL Y EXTERIOR (TEUS) | D29: ='TEUS nacional y exterior'!B35 -> 629421 | E29: ='TEUS nacional y exterior'!C35 -> 635607 | F29: ='TEUS nacional y exterior'!D35 -> 1737743 | G29: ='TEUS nacional y exterior'!E35 -> 1853609 | H29: =G29-F29 -> 115866 | I29: =((G29*100/F29)-100) -> 6.6676143
B30: PASAJEROS | C30: REG. TRANSPORTE Y DE CRUCERO (nº) | D30: ='Pasajeros total'!B35 -> 1796563 | E30: ='Pasajeros total'!C35 -> 2204389 | F30: ='Pasajeros total'!D35 -> 4916732 | G30: ='Pasajeros total'!E35 -> 5779541 | H30: =G30-F30 -> 862809 | I30: =((G30*100/F30)-100) -> 17.548424
C31: DE CRUCERO (nº) | D31: ='Pasajeros crucero'!B35 -> 402949 | E31: ='Pasajeros crucero'!C35 -> 616678 | F31: ='Pasajeros crucero'!D35 -> 1087021 | G31: ='Pasajeros crucero'!E35 -> 1647527 | H31: =G31-F31 -> 560506 | I31: =((G31*100/F31)-100) -> 51.563493
B32: AUTOMÓVILES | C32: EN RÉGIMEN DE PASAJE (uds) | D32: ='Automóviles régimen pasaje'!B35 -> 283474 | E32: ='Automóviles régimen pasaje'!C35 -> 352219 | F32: ='Automóviles régimen pasaje'!D35 -> 812615 | G32: ='Automóviles régimen pasaje'!E35 -> 925890 | H32: =G32-F32 -> 113275 | I32: =((G32*100/F32)-100) -> 13.939565
C33: EN RÉGIMEN DE MERCANCÍA (**) | D33: ='Automóviles régimen mercancía'!B35 -> 355443 | E33: ='Automóviles régimen mercancía'!C35 -> 335978 | F33: ='Automóviles régimen mercancía'!D35 -> 862752 | G33: ='Automóviles régimen mercancía'!E35 -> 870953 | H33: =G33-F33 -> 8201 | I33: =((G33*100/F33)-100) -> 0.95056285
B34: BUQUES MERCANTES | C34: TOTAL BUQUES MERCANTES (uds) | D34: ='Buques número'!B35 -> 11186 | E34: ='Buques número'!C35 -> 11358 | F34: ='Buques número'!D35 -> 31823 | G34: ='Buques número'!E35 -> 33148 | H34: =G34-F34 -> 1325 | I34: =((G34*100/F34)-100) -> 4.1636552
C35: UDS. ARQUEO BRUTO (G.T.) | D35: ='Buques GT'!B35 -> 169559382 | E35: ='Buques GT'!C35 -> 178376351 | F35: ='Buques GT'!D35 -> 480123420 | G35: ='Buques GT'!E35 -> 514681663 | H35: =G35-F35 -> 34558243 | I35: =((G35*100/F35)-100) -> 7.1977832
C36: CRUCEROS (uds) | D36: =Cruceros!B35 -> 198 | E36: =Cruceros!C35 -> 283 | F36: =Cruceros!D35 -> 523 | G36: =Cruceros!E35 -> 712 | H36: =G36-F36 -> 189 | I36: =((G36*100/F36)-100) -> 36.137667
A37: (*) Incluye cargas, descargas, tránsitos y transbordos.
A38: (**) Solo turismos, autobuses y camiones

Sheet Total tráfico
F1: 1. TRÁFICO PORTUARIO (toneladas)
A5: Autoridad Portuaria | B5: ='Resumen general'!D6 -> Mes marzo | D5: ='Resumen general'!F6 -> Acumulado desde enero | L5: ='Resumen general'!I4 -> Fecha: 12/02/2019
B6: ='Resumen general'!D7 -> 2017 | C6: ='Resumen general'!E7 -> 2018 | D6: ='Resumen general'!F7 -> 2017 | E6: ='Resumen general'!G7 -> 2018 | F6: Var. (%)
A7: A CORUÑA | B7: 1046438 | C7: 1071751 | D7: 3386771 | E7: 3790514 | F7: =((E7*100)/D7)-100 -> 11.921178
A8: ALICANTE | B8: 263491 | C8: 271416 | D8: 762423 | E8: 791988 | F8: =((E8*100)/D8)-100 -> 3.8777686
A9: ALMERÍA | B9: 555969 | C9: 619069 | D9: 1519153 | E9: 1561969 | F9: =((E9*100)/D9)-100 -> 2.8184126
A10: AVILÉS | B10: 430123 | C10: 423548 | D10: 1107679 | E10: 1313546 | F10: =((E10*100)/D10)-100 -> 18.585439
A11: BAHÍA DE ALGECIRAS | B11: 7853296 | C11: 9156030 | D11: 23660348 | E11: 27422989 | F11: =((E11*100)/D11)-100 -> 15.902729
A12: BAHÍA DE CÁDIZ | B12: 290211 | C12: 306175 | D12: 1030118 | E12: 999534 | F12: =((E12*100)/D12)-100 -> -2.9689803
A13: BALEARES | B13: 1387900 | C13: 1357177 | D13: 3382065 | E13: 3572870 | F13: =((E13*100)/D13)-100 -> 5.6416716
A14: BARCELONA | B14: 5230282 | C14: 5831762 | D14: 13978584 | E14: 16601997 | F14: =((E14*100)/D14)-100 -> 18.767373
A15: BILBAO | B15: 2673231 | C15: 2985849 | D15: 7118839 | E15: 8691130 | F15: =((E15*100)/D15)-100 -> 22.08634
A16: CARTAGENA | B16: 2811736 | C16: 2310533 | D16: 8572861 | E16: 7945653 | F16: =((E16*100)/D16)-100 -> -7.316204
A17: CASTELLÓN | B17: 1516055 | C17: 1487911 | D17: 4268555 | E17: 4737686 | F17: =((E17*100)/D17)-100 -> 10.990394
A18: CEUTA | B18: 219810 | C18: 202118 | D18: 656626 | E18: 589334 | F18: =((E18*100)/D18)-100 -> -10.248147
... A34: VILAGARCÍA | B34: 104436 | C34: 68001 | D34: 259672 | E34: 266035 | F34: =((E34*100)/D34)-100 -> 2.450399
A35: Total | B35: =SUM(B7:B34) -> 44981907 | C35: =SUM(C7:C34) -> 47312202 | D35: =SUM(D7:D34) -> 127357460 | E35: =SUM(E7:E34) -> 136685391 | F35: =((E35*100)/D35)-100 -> 7.3242125
A36: Incluye cargas, descargas, tránsitos y transbordos.
B38: =E6 -> 2018 | C38: =D6 -> 2017 | F38: =B38 -> 2018 | G38: =C38 -> 2017
A39: =A7 -> A CORUÑA | B39: =E7 -> 3790514 | C39: =D7 -> 3386771 | D39: =_xlfn.RANK.EQ(B39,$B$39:$B$66)+COUNTIF($B$39:$B$66,B39)-1 -> 11 | E39: =INDEX($A$39:$B$66,MATCH(ROW()-38,$D$39:$D$66,0),1) -> BAHÍA DE ALGECIRAS | F39: =LOOKUP(E39,$A$39:$A$66,$B$39:$B$66) -> 27422989 | G39: =LOOKUP(E39,$A$39:$A$66,$C$39:$C$66) -> 23660348
A40: =A8 -> ALICANTE | B40: =E8 -> 791988 | C40: =D8 -> 762423 | D40: =_xlfn.RANK.EQ(B40,$B$39:$B$66)+COUNTIF($B$39:$B$66,B40)-1 -> 21 | E40: =INDEX($A$39:$B$66,MATCH(ROW()-38,$D$39:$D$66,0),1) -> VALENCIA | F40: =LOOKUP(E40,$A$39:$A$66,$B$39:$B$66) -> 18047381 | G40: =LOOKUP(E40,$A$39:$A$66,$C$39:$C$66) -> 17357837
A41: =A9 -> ALMERÍA | B41: =E9 -> 1561969 | C41: =D9 -> 1519153 | D41: =_xlfn.RANK.EQ(B41,$B$39:$B$66)+COUNTIF($B$39:$B$66,B41)-1 -> 15 | E41: =INDEX($A$39:$B$66,MATCH(ROW()-38,$D$39:$D$66,0),1) -> BARCELONA | F41: =LOOKUP(E41,$A$39:$A$66,$B$39:$B$66) -> 16601997 | G41: =LOOKUP(E41,$A$39:$A$66,$C$39:$C$66) -> 13978584
A42: =A10 -> AVILÉS | B42: =E10 -> 1313546 | C42: =D10 -> 1107679 | D42: =_xlfn.RANK.EQ(B42,$B$39:$B$66)+COUNTIF($B$39:$B$66,B42)-1 -> 17 | E42: =INDEX($A$39:$B$66,MATCH(ROW()-38,$D$39:$D$66,0),1) -> BILBAO | F42: =LOOKUP(E42,$A$39:$A$66,$B$39:$B$66) -> 8691130 | G42: =LOOKUP(E42,$A$39:$A$66,$C$39:$C$66) -> 7118839
A43: =A11 -> BAHÍA DE ALGECIRAS | B43: =E11 -> 27422989 | C43: =D11 -> 23660348 | D43: =_xlfn.RANK.EQ(B43,$B$39:$B$66)+COUNTIF($B$39:$B$66,B43)-1 -> 1 | E43: =INDEX($A$39:$B$66,MATCH(ROW()-38,$D$39:$D$66,0),1) -> TARRAGONA | F43: =LOOKUP(E43,$A$39:$A$66,$B$39:$B$66) -> 8403853 | G43: =LOOKUP(E43,$A$39:$A$66,$C$39:$C$66) -> 7976491
A44: =A12 -> BAHÍA DE CÁDIZ | B44: =E12 -> 999534 | C44: =D12 -> 1030118 | D44: =_xlfn.RANK.EQ(B44,$B$39:$B$66)+COUNTIF($B$39:$B$66,B44)-1 -> 20 | E44: =INDEX($A$39:$B$66,MATCH(ROW()-38,$D$39:$D$66,0),1) -> CARTAGENA | F44: =LOOKUP(E44,$A$39:$A$66,$B$39:$B$66) -> 7945653 | G44: =LOOKUP(E44,$A$39:$A$66,$C$39:$C$66) -> 8572861
A45: =A13 -> BALEARES | B45: =E13 -> 3572870 | C45: =D13 -> 3382065 | D45: =_xlfn.RANK.EQ(B45,$B$39:$B$66)+COUNTIF($B$39:$B$66,B45)-1 -> 12 | E45: =INDEX($A$39:$B$66,MATCH(ROW()-38,$D$39:$D$66,0),1) -> HUELVA | F45: =LOOKUP(E45,$A$39:$A$66,$B$39:$B$66) -> 7840652 | G45: =LOOKUP(E45,$A$39:$A$66,$C$39:$C$66) -> 7787022
A46: =A14 -> BARCELONA | B46: =E14 -> 16601997 | C46: =D14 -> 13978584 | D46: =_xlfn.RANK.EQ(B46,$B$39:$B$66)+COUNTIF($B$39:$B$66,B46)-1 -> 3 | E46: =INDEX($A$39:$B$66,MATCH(ROW()-38,$D$39:$D$66,0),1) -> LAS PALMAS | F46: =LOOKUP(E46,$A$39:$A$66,$B$39:$B$66) -> 6592925 | G46: =LOOKUP(E46,$A$39:$A$66,$C$39:$C$66) -> 6238563
A47: =A15 -> BILBAO | B47: =E15 -> 8691130 | C47: =D15 -> 7118839 | D47: =_xlfn.RANK.EQ(B47,$B$39:$B$66)+COUNTIF($B$39:$B$66,B47)-1 -> 4 | E47: =INDEX($A$39:$B$66,MATCH(ROW()-38,$D$39:$D$66,0),1) -> CASTELLÓN | F47: =LOOKUP(E47,$A$39:$A$66,$B$39:$B$66) -> 4737686 | G47: =LOOKUP(E47,$A$39:$A$66,$C$39:$C$66) -> 4268555
A48: =A16 -> CARTAGENA | B48: =E16 -> 7945653 | C48: =D16 -> 8572861 | D48: =_xlfn.RANK.EQ(B48,$B$39:$B$66)+COUNTIF($B$39:$B$66,B48)-1 -> 6 | E48: =INDEX($A$39:$B$66,MATCH(ROW()-38,$D$39:$D$66,0),1) -> GIJÓN | F48: =LOOKUP(E48,$A$39:$A$66,$B$39:$B$66) -> 4700616 | G48: =LOOKUP(E48,$A$39:$A$66,$C$39:$C$66) -> 5359110
A49: =A17 -> CASTELLÓN | B49: =E17 -> 4737686 | C49: =D17 -> 4268555 | D49: =_xlfn.RANK.EQ(B49,$B$39:$B$66)+COUNTIF($B$39:$B$66,B49)-1 -> 9 | E49: =INDEX($A$39:$B$66,MATCH(ROW()-38,$D$39:$D$66,0),1) -> A CORUÑA | F49: =LOOKUP(E49,$A$39:$A$66,$B$39:$B$66) -> 3790514 | G49: =LOOKUP(E49,$A$39:$A$66,$C$39:$C$66) -> 3386771
A50: =A18 -> CEUTA | B50: =E18 -> 589334 | C50: =D18 -> 656626 | D50: =_xlfn.RANK.EQ(B50,$B$39:$B$66)+COUNTIF($B$39:$B$66,B50)-1 -> 26 | E50: =INDEX($A$39:$B$66,MATCH(ROW()-38,$D$39:$D$66,0),1) -> BALEARES | F50: =LOOKUP(E50,$A$39:$A$66,$B$39:$B$66) -> 3572870 | G50: =LOOKUP(E50,$A$39:$A$66,$C$39:$C$66) -> 3382065
... A66: =A34 -> VILAGARCÍA | B66: =E34 -> 266035 | C66: =D34 -> 259672 | D66: =_xlfn.RANK.EQ(B66,$B$39:$B$66)+COUNTIF($B$39:$B$66,B66)-1 -> 27 | E66: =INDEX($A$39:$B$66,MATCH(ROW()-38,$D$39:$D$66,0),1) -> MELILLA | F66: =LOOKUP(E66,$A$39:$A$66,$B$39:$B$66) -> 213637 | G66: =LOOKUP(E66,$A$39:$A$66,$C$39:$C$66) -> 279981

Sheet Total presentación
F1: 1.1. MERCANCÍAS SEGÚN SU FORMA DE PRESENTACIÓN
I2: (toneladas)
A5: Autoridad Portuaria | B5: ='Resumen general'!D6 -> Mes marzo | D5: ='Resumen general'!F6 -> Acumulado desde enero | L5: ='Resumen general'!I4 -> Fecha: 12/02/2019
B6: ='Resumen general'!D7 -> 2017 | C6: ='Resumen general'!E7 -> 2018 | D6: ='Resumen general'!F7 -> 2017 | E6: ='Resumen general'!G7 -> 2018 | F6: Var. (%)
A7: A CORUÑA | B7: 1012155 | C7: 1039363 | D7: 3300301 | E7: 3691437 | F7: =((E7*100)/D7)-100 -> 11.851525
A8: ALICANTE | B8: 261183 | C8: 269429 | D8: 757211 | E8: 784475 | F8: =((E8*100)/D8)-100 -> 3.6005816
A9: ALMERÍA | B9: 551269 | C9: 612601 | D9: 1503373 | E9: 1543902 | F9: =((E9*100)/D9)-100 -> 2.6958712
A10: AVILÉS | B10: 424258 | C10: 417897 | D10: 1094393 | E10: 1297939 | F10: =((E10*100)/D10)-100 -> 18.598986
A11: BAHÍA DE ALGECIRAS | B11: 7401613 | C11: 8844889 | D11: 22312944 | E11: 25406295 | F11: =((E11*100)/D11)-100 -> 13.863482
A12: BAHÍA DE CÁDIZ | B12: 277689 | C12: 295637 | D12: 998796 | E12: 974773 | F12: =((E12*100)/D12)-100 -> -2.4051959
A13: BALEARES | B13: 1384179 | C13: 1344560 | D13: 3369274 | E13: 3544290 | F13: =((E13*100)/D13)-100 -> 5.1944722
A14: BARCELONA | B14: 5156554 | C14: 5693788 | D14: 13785217 | E14: 16238703 | F14: =((E14*100)/D14)-100 -> 17.79795
A15: BILBAO | B15: 2664062 | C15: 2976992 | D15: 7094226 | E15: 8665241 | F15: =((E15*100)/D15)-100 -> 22.144981
A16: CARTAGENA | B16: 2808123 | C16: 2303335 | D16: 8562309 | E16: 7932090 | F16: =((E16*100)/D16)-100 -> -7.3603861
A17: CASTELLÓN | B17: 1513842 | C17: 1485731 | D17: 4262671 | E17: 4732424 | F17: =((E17*100)/D17)-100 -> 11.020156
A18: CEUTA | B18: 173336 | C18: 134023 | D18: 511646 | E18: 401058 | F18: =((E18*100)/D18)-100 -> -21.614163
... A34: VILAGARCÍA | B34: 104014 | C34: 67727 | D34: 258267 | E34: 264721 | F34: =((E34*100)/D34)-100 -> 2.4989643
A35: Total | B35: =SUM(B7:B34) -> 43933799 | C35: =SUM(C7:C34) -> 46326916 | D35: =SUM(D7:D34) -> 124380977 | E35: =SUM(E7:E34) -> 132772861 | F35: =((E35*100)/D35)-100 -> 6.7469192
A36: Incluye cargas, descargas, tránsitos y transbordos.
B38: =E6 -> 2018 | C38: =D6 -> 2017 | F38: =B38 -> 2018 | G38: =C38 -> 2017
A39: =A7 -> A CORUÑA | B39: =E7 -> 3691437 | C39: =D7 -> 3300301 | D39: =_xlfn.RANK.EQ(B39,$B$39:$B$66)+COUNTIF($B$39:$B$66,B39)-1 -> 11 | E39: =INDEX($A$39:$B$66,MATCH(ROW()-38,$D$39:$D$66,0),1) -> BAHÍA DE ALGECIRAS | F39: =LOOKUP(E39,$A$39:$A$66,$B$39:$B$66) -> 25406295 | G39: =LOOKUP(E39,$A$39:$A$66,$C$39:$C$66) -> 22312944
A40: =A8 -> ALICANTE | B40: =E8 -> 784475 | C40: =D8 -> 757211 | D40: =_xlfn.RANK.EQ(B40,$B$39:$B$66)+COUNTIF($B$39:$B$66,B40)-1 -> 21 | E40: =INDEX($A$39:$B$66,MATCH(ROW()-38,$D$39:$D$66,0),1) -> VALENCIA | F40: =LOOKUP(E40,$A$39:$A$66,$B$39:$B$66) -> 17979293 | G40: =LOOKUP(E40,$A$39:$A$66,$C$39:$C$66) -> 17290419
A41: =A9 -> ALMERÍA | B41: =E9 -> 1543902 | C41: =D9 -> 1503373 | D41: =_xlfn.RANK.EQ(B41,$B$39:$B$66)+COUNTIF($B$39:$B$66,B41)-1 -> 15 | E41: =INDEX($A$39:$B$66,MATCH(ROW()-38,$D$39:$D$66,0),1) -> BARCELONA | F41: =LOOKUP(E41,$A$39:$A$66,$B$39:$B$66) -> 16238703 | G41: =LOOKUP(E41,$A$39:$A$66,$C$39:$C$66) -> 13785217
A42: =A10 -> AVILÉS | B42: =E10 -> 1297939 | C42: =D10 -> 1094393 | D42: =_xlfn.RANK.EQ(B42,$B$39:$B$66)+COUNTIF($B$39:$B$66,B42)-1 -> 17 | E42: =INDEX($A$39:$B$66,MATCH(ROW()-38,$D$39:$D$66,0),1) -> BILBAO | F42: =LOOKUP(E42,$A$39:$A$66,$B$39:$B$66) -> 8665241 | G42: =LOOKUP(E42,$A$39:$A$66,$C$39:$C$66) -> 7094226
A43: =A11 -> BAHÍA DE ALGECIRAS | B43: =E11 -> 25406295 | C43: =D11 -> 22312944 | D43: =_xlfn.RANK.EQ(B43,$B$39:$B$66)+COUNTIF($B$39:$B$66,B43)-1 -> 1 | E43: =INDEX($A$39:$B$66,MATCH(ROW()-38,$D$39:$D$66,0),1) -> TARRAGONA | F43: =LOOKUP(E43,$A$39:$A$66,$B$39:$B$66) -> 8379744 | G43: =LOOKUP(E43,$A$39:$A$66,$C$39:$C$66) -> 7961536
A44: =A12 -> BAHÍA DE CÁDIZ | B44: =E12 -> 974773 | C44: =D12 -> 998796 | D44: =_xlfn.RANK.EQ(B44,$B$39:$B$66)+COUNTIF($B$39:$B$66,B44)-1 -> 19 | E44: =INDEX($A$39:$B$66,MATCH(ROW()-38,$D$39:$D$66,0),1) -> CARTAGENA | F44: =LOOKUP(E44,$A$39:$A$66,$B$39:$B$66) -> 7932090 | G44: =LOOKUP(E44,$A$39:$A$66,$C$39:$C$66) -> 8562309
A45: =A13 -> BALEARES | B45: =E13 -> 3544290 | C45: =D13 -> 3369274 | D45: =_xlfn.RANK.EQ(B45,$B$39:$B$66)+COUNTIF($B$39:$B$66,B45)-1 -> 12 | E45: =INDEX($A$39:$B$66,MATCH(ROW()-38,$D$39:$D$66,0),1) -> HUELVA | F45: =LOOKUP(E45,$A$39:$A$66,$B$39:$B$66) -> 7798867 | G45: =LOOKUP(E45,$A$39:$A$66,$C$39:$C$66) -> 7743580
A46: =A14 -> BARCELONA | B46: =E14 -> 16238703 | C46: =D14 -> 13785217 | D46: =_xlfn.RANK.EQ(B46,$B$39:$B$66)+COUNTIF($B$39:$B$66,B46)-1 -> 3 | E46: =INDEX($A$39:$B$66,MATCH(ROW()-38,$D$39:$D$66,0),1) -> LAS PALMAS | F46: =LOOKUP(E46,$A$39:$A$66,$B$39:$B$66) -> 5913769 | G46: =LOOKUP(E46,$A$39:$A$66,$C$39:$C$66) -> 5595877
A47: =A15 -> BILBAO | B47: =E15 -> 8665241 | C47: =D15 -> 7094226 | D47: =_xlfn.RANK.EQ(B47,$B$39:$B$66)+COUNTIF($B$39:$B$66,B47)-1 -> 4 | E47: =INDEX($A$39:$B$66,MATCH(ROW()-38,$D$39:$D$66,0),1) -> CASTELLÓN | F47: =LOOKUP(E47,$A$39:$A$66,$B$39:$B$66) -> 4732424 | G47: =LOOKUP(E47,$A$39:$A$66,$C$39:$C$66) -> 4262671
A48: =A16 -> CARTAGENA | B48: =E16 -> 7932090 | C48: =D16 -> 8562309 | D48: =_xlfn.RANK.EQ(B48,$B$39:$B$66)+COUNTIF($B$39:$B$66,B48)-1 -> 6 | E48: =INDEX($A$39:$B$66,MATCH(ROW()-38,$D$39:$D$66,0),1) -> GIJÓN | F48: =LOOKUP(E48,$A$39:$A$66,$B$39:$B$66) -> 4688223 | G48: =LOOKUP(E48,$A$39:$A$66,$C$39:$C$66) -> 5342691
A49: =A17 -> CASTELLÓN | B49: =E17 -> 4732424 | C49: =D17 -> 4262671 | D49: =_xlfn.RANK.EQ(B49,$B$39:$B$66)+COUNTIF($B$39:$B$66,B49)-1 -> 9 | E49: =INDEX($A$39:$B$66,MATCH(ROW()-38,$D$39:$D$66,0),1) -> A CORUÑA | F49: =LOOKUP(E49,$A$39:$A$66,$B$39:$B$66) -> 3691437 | G49: =LOOKUP(E49,$A$39:$A$66,$C$39:$C$66) -> 3300301
A50: =A18 -> CEUTA | B50: =E18 -> 401058 | C50: =D18 -> 511646 | D50: =_xlfn.RANK.EQ(B50,$B$39:$B$66)+COUNTIF($B$39:$B$66,B50)-1 -> 26 | E50: =INDEX($A$39:$B$66,MATCH(ROW()-38,$D$39:$D$66,0),1) -> BALEARES | F50: =LOOKUP(E50,$A$39:$A$66,$B$39:$B$66) -> 3544290 | G50: =LOOKUP(E50,$A$39:$A$66,$C$39:$C$66) -> 3369274
... A66: =A34 -> VILAGARCÍA | B66: =E34 -> 264721 | C66: =D34 -> 258267 | D66: =_xlfn.RANK.EQ(B66,$B$39:$B$66)+COUNTIF($B$39:$B$66,B66)-1 -> 27 | E66: =INDEX($A$39:$B$66,MATCH(ROW()-38,$D$39:$D$66,0),1) -> MELILLA | F66: =LOOKUP(E66,$A$39:$A$66,$B$39:$B$66) -> 212227 | G66: =LOOKUP(E66,$A$39:$A$66,$C$39:$C$66) -> 278727

Sheet Líquidos
F1: 2. GRANELES LÍQUIDOS (toneladas)
A5: Autoridad Portuaria | B5: ='Resumen general'!D6 -> Mes marzo | D5: ='Resumen general'!F6 -> Acumulado desde enero | L5: ='Resumen general'!I4 -> Fecha: 12/02/2019
B6: ='Resumen general'!D7 -> 2017 | C6: ='Resumen general'!E7 -> 2018 | D6: ='Resumen general'!F7 -> 2017 | E6: ='Resumen general'!G7 -> 2018 | F6: Var. (%)
A7: A CORUÑA | B7: 577420 | C7: 722323 | D7: 2088366 | E7: 2315240 | F7: =((E7*100)/D7)-100 -> 10.863709
A8: ALICANTE | B8: 7432 | C8: 8865 | D8: 11745 | E8: 14445 | F8: =((E8*100)/D8)-100 -> 22.988506
A9: ALMERÍA | B9: 4200 | C9: 3802 | D9: 10103 | E9: 12313 | F9: =((E9*100)/D9)-100 -> 21.874691
A10: AVILÉS | B10: 61086 | C10: 35138 | D10: 150686 | E10: 132957 | F10: =((E10*100)/D10)-100 -> -11.765526
A11: BAHÍA DE ALGECIRAS | B11: 2331703 | C11: 2865880 | D11: 6891844 | E11: 8122295 | F11: =((E11*100)/D11)-100 -> 17.853727
A12: BAHÍA DE CÁDIZ | B12: 36497 | C12: 218 | D12: 110466 | E12: 43332 | F12: =((E12*100)/D12)-100 -> -60.773451
A13: BALEARES | B13: 92136 | C13: 124713 | D13: 254941 | E13: 323089 | F13: =((E13*100)/D13)-100 -> 26.730891
A14: BARCELONA | B14: 1252025 | C14: 1451496 | D14: 3524027 | E14: 4065573 | F14: =((E14*100)/D14)-100 -> 15.367249
A15: BILBAO | B15: 1317847 | C15: 1809542 | D15: 3959523 | E15: 5061561 | F15: =((E15*100)/D15)-100 -> 27.832595
A16: CARTAGENA | B16: 2244462 | C16: 1771491 | D16: 6967131 | E16: 6101891 | F16: =((E16*100)/D16)-100 -> -12.418885
A17: CASTELLÓN | B17: 632107 | C17: 660254 | D17: 2072454 | E17: 2428358 | F17: =((E17*100)/D17)-100 -> 17.173071
A18: CEUTA | B18: 72846 | C18: 71773 | D18: 239337 | E18: 212637 | F18: =((E18*100)/D18)-100 -> -11.155818
... A34: VILAGARCÍA | B34: 23380 | C34: 8194 | D34: 42711 | E34: 38780 | F34: =((E34*100)/D34)-100 -> -9.203718
A35: Total | B35: =SUM(B7:B34) -> 14227437 | C35: =SUM(C7:C34) -> 15237193 | D35: =SUM(D7:D34) -> 43216619 | E35: =SUM(E7:E34) -> 44566652 | F35: =((E35*100)/D35)-100 -> 3.1238746
A36: Incluye cargas, descargas, tránsitos y transbordos.
B38: =E6 -> 2018 | C38: =D6 -> 2017 | F38: =B38 -> 2018 | G38: =C38 -> 2017
A39: =A7 -> A CORUÑA | B39: =E7 -> 2315240 | C39: =D7 -> 2088366 | D39: =_xlfn.RANK.EQ(B39,$B$39:$B$66)+COUNTIF($B$39:$B$66,B39)-1 -> 8 | E39: =INDEX($A$39:$B$66,MATCH(ROW()-38,$D$39:$D$66,0),1) -> BAHÍA DE ALGECIRAS | F39: =LOOKUP(E39,$A$39:$A$66,$B$39:$B$66) -> 8122295 | G39: =LOOKUP(E39,$A$39:$A$66,$C$39:$C$66) -> 6891844
A40: =A8 -> ALICANTE | B40: =E8 -> 14445 | C40: =D8 -> 11745 | D40: =_xlfn.RANK.EQ(B40,$B$39:$B$66)+COUNTIF($B$39:$B$66,B40)-1 -> 24 | E40: =INDEX($A$39:$B$66,MATCH(ROW()-38,$D$39:$D$66,0),1) -> CARTAGENA | F40: =LOOKUP(E40,$A$39:$A$66,$B$39:$B$66) -> 6101891 | G40: =LOOKUP(E40,$A$39:$A$66,$C$39:$C$66) -> 6967131
A41: =A9 -> ALMERÍA | B41: =E9 -> 12313 | C41: =D9 -> 10103 | D41: =_xlfn.RANK.EQ(B41,$B$39:$B$66)+COUNTIF($B$39:$B$66,B41)-1 -> 25 | E41: =INDEX($A$39:$B$66,MATCH(ROW()-38,$D$39:$D$66,0),1) -> HUELVA | F41: =LOOKUP(E41,$A$39:$A$66,$B$39:$B$66) -> 5897756 | G41: =LOOKUP(E41,$A$39:$A$66,$C$39:$C$66) -> 6133947
A42: =A10 -> AVILÉS | B42: =E10 -> 132957 | C42: =D10 -> 150686 | D42: =_xlfn.RANK.EQ(B42,$B$39:$B$66)+COUNTIF($B$39:$B$66,B42)-1 -> 17 | E42: =INDEX($A$39:$B$66,MATCH(ROW()-38,$D$39:$D$66,0),1) -> TARRAGONA | F42: =LOOKUP(E42,$A$39:$A$66,$B$39:$B$66) -> 5127738 | G42: =LOOKUP(E42,$A$39:$A$66,$C$39:$C$66) -> 5268434
A43: =A11 -> BAHÍA DE ALGECIRAS | B43: =E11 -> 8122295 | C43: =D11 -> 6891844 | D43: =_xlfn.RANK.EQ(B43,$B$39:$B$66)+COUNTIF($B$39:$B$66,B43)-1 -> 1 | E43: =INDEX($A$39:$B$66,MATCH(ROW()-38,$D$39:$D$66,0),1) -> BILBAO | F43: =LOOKUP(E43,$A$39:$A$66,$B$39:$B$66) -> 5061561 | G43: =LOOKUP(E43,$A$39:$A$66,$C$39:$C$66) -> 3959523
A44: =A12 -> BAHÍA DE CÁDIZ | B44: =E12 -> 43332 | C44: =D12 -> 110466 | D44: =_xlfn.RANK.EQ(B44,$B$39:$B$66)+COUNTIF($B$39:$B$66,B44)-1 -> 20 | E44: =INDEX($A$39:$B$66,MATCH(ROW()-38,$D$39:$D$66,0),1) -> BARCELONA | F44: =LOOKUP(E44,$A$39:$A$66,$B$39:$B$66) -> 4065573 | G44: =LOOKUP(E44,$A$39:$A$66,$C$39:$C$66) -> 3524027
A45: =A13 -> BALEARES | B45: =E13 -> 323089 | C45: =D13 -> 254941 | D45: =_xlfn.RANK.EQ(B45,$B$39:$B$66)+COUNTIF($B$39:$B$66,B45)-1 -> 14 | E45: =INDEX($A$39:$B$66,MATCH(ROW()-38,$D$39:$D$66,0),1) -> CASTELLÓN | F45: =LOOKUP(E45,$A$39:$A$66,$B$39:$B$66) -> 2428358 | G45: =LOOKUP(E45,$A$39:$A$66,$C$39:$C$66) -> 2072454
A46: =A14 -> BARCELONA | B46: =E14 -> 4065573 | C46: =D14 -> 3524027 | D46: =_xlfn.RANK.EQ(B46,$B$39:$B$66)+COUNTIF($B$39:$B$66,B46)-1 -> 6 | E46: =INDEX($A$39:$B$66,MATCH(ROW()-38,$D$39:$D$66,0),1) -> A CORUÑA | F46: =LOOKUP(E46,$A$39:$A$66,$B$39:$B$66) -> 2315240 | G46: =LOOKUP(E46,$A$39:$A$66,$C$39:$C$66) -> 2088366
A47: =A15 -> BILBAO | B47: =E15 -> 5061561 | C47: =D15 -> 3959523 | D47: =_xlfn.RANK.EQ(B47,$B$39:$B$66)+COUNTIF($B$39:$B$66,B47)-1 -> 5 | E47: =INDEX($A$39:$B$66,MATCH(ROW()-38,$D$39:$D$66,0),1) -> LAS PALMAS | F47: =LOOKUP(E47,$A$39:$A$66,$B$39:$B$66) -> 1644841 | G47: =LOOKUP(E47,$A$39:$A$66,$C$39:$C$66) -> 1781756
A48: =A16 -> CARTAGENA | B48: =E16 -> 6101891 | C48: =D16 -> 6967131 | D48: =_xlfn.RANK.EQ(B48,$B$39:$B$66)+COUNTIF($B$39:$B$66,B48)-1 -> 2 | E48: =INDEX($A$39:$B$66,MATCH(ROW()-38,$D$39:$D$66,0),1) -> SANTA CRUZ DE TENERIFE | F48: =LOOKUP(E48,$A$39:$A$66,$B$39:$B$66) -> 1242335 | G48: =LOOKUP(E48,$A$39:$A$66,$C$39:$C$66) -> 1415080
A49: =A17 -> CASTELLÓN | B49: =E17 -> 2428358 | C49: =D17 -> 2072454 | D49: =_xlfn.RANK.EQ(B49,$B$39:$B$66)+COUNTIF($B$39:$B$66,B49)-1 -> 7 | E49: =INDEX($A$39:$B$66,MATCH(ROW()-38,$D$39:$D$66,0),1) -> VALENCIA | F49: =LOOKUP(E49,$A$39:$A$66,$B$39:$B$66) -> 579420 | G49: =LOOKUP(E49,$A$39:$A$66,$C$39:$C$66) -> 1028812
A50: =A18 -> CEUTA | B50: =E18 -> 212637 | C50: =D18 -> 239337 | D50: =_xlfn.RANK.EQ(B50,$B$39:$B$66)+COUNTIF($B$39:$B$66,B50)-1 -> 15 | E50: =INDEX($A$39:$B$66,MATCH(ROW()-38,$D$39:$D$66,0),1) -> FERROL-SAN CIBRAO | F50: =LOOKUP(E50,$A$39:$A$66,$B$39:$B$66) -> 457338 | G50: =LOOKUP(E50,$A$39:$A$66,$C$39:$C$66) -> 627541
... A66: =A34 -> VILAGARCÍA | B66: =E34 -> 38780 | C66: =D34 -> 42711 | D66: =_xlfn.RANK.EQ(B66,$B$39:$B$66)+COUNTIF($B$39:$B$66,B66)-1 -> 21 | E66: =INDEX($A$39:$B$66,MATCH(ROW()-38,$D$39:$D$66,0),1) -> MARÍN Y RÍA DE PONTEVEDRA | F66: =LOOKUP(E66,$A$39:$A$66,$B$39:$B$66) -> 0 | G66: =LOOKUP(E66,$A$39:$A$66,$C$39:$C$66) -> 0

Sheet Sólidos
F1: 3. GRANELES SÓLIDOS (toneladas)
A5: Autoridad Portuaria | B5: ='Resumen general'!D6 -> Mes marzo | D5: ='Resumen general'!F6 -> Acumulado desde enero | L5: ='Resumen general'!I4 -> Fecha: 12/02/2019
B6: ='Resumen general'!D7 -> 2017 | C6: ='Resumen general'!E7 -> 2018 | D6: ='Resumen general'!F7 -> 2017 | E6: ='Resumen general'!G7 -> 2018 | F6: Var. (%)
A7: A CORUÑA | B7: 365308 | C7: 242206 | D7: 1009662 | E7: 1142383 | F7: =((E7*100)/D7)-100 -> 13.145092
A8: ALICANTE | B8: 119658 | C8: 145291 | D8: 371050 | E8: 427063 | F8: =((E8*100)/D8)-100 -> 15.095809
A9: ALMERÍA | B9: 484138 | C9: 567106 | D9: 1345113 | E9: 1422063 | F9: =((E9*100)/D9)-100 -> 5.720709
A10: AVILÉS | B10: 263475 | C10: 248618 | D10: 653198 | E10: 803877 | F10: =((E10*100)/D10)-100 -> 23.067891
A11: BAHÍA DE ALGECIRAS | B11: 49082 | C11: 59309 | D11: 406044 | E11: 313630 | F11: =((E11*100)/D11)-100 -> -22.759602
A12: BAHÍA DE CÁDIZ | B12: 89493 | C12: 160059 | D12: 464822 | E12: 528951 | F12: =((E12*100)/D12)-100 -> 13.796464
A13: BALEARES | B13: 162484 | C13: 130719 | D13: 378389 | E13: 378464 | F13: =((E13*100)/D13)-100 -> 0.019820872
A14: BARCELONA | B14: 405428 | C14: 390648 | D14: 897445 | E14: 1188052 | F14: =((E14*100)/D14)-100 -> 32.381594
A15: BILBAO | B15: 346674 | C15: 324427 | D15: 891557 | E15: 1211393 | F15: =((E15*100)/D15)-100 -> 35.87387
A16: CARTAGENA | B16: 457979 | C16: 428599 | D16: 1285836 | E16: 1506950 | F16: =((E16*100)/D16)-100 -> 17.196128
A17: CASTELLÓN | B17: 539838 | C17: 504798 | D17: 1272766 | E17: 1451309 | F17: =((E17*100)/D17)-100 -> 14.027952
A18: CEUTA | B18: 1500 | C18: 1500 | D18: 9732 | E18: 7254 | F18: =((E18*100)/D18)-100 -> -25.462392
... A34: VILAGARCÍA | B34: 29506 | C34: 13615 | D34: 73409 | E34: 86170 | F34: =((E34*100)/D34)-100 -> 17.383427
A35: Total | B35: =SUM(B7:B34) -> 8439516 | C35: =SUM(C7:C34) -> 8218999 | D35: =SUM(D7:D34) -> 23141918 | E35: =SUM(E7:E34) -> 24460058 | F35: =((E35*100)/D35)-100 -> 5.6958978
A36: Incluye cargas, descargas, tránsitos y transbordos.
B38: =E6 -> 2018 | C38: =D6 -> 2017 | F38: =B38 -> 2018 | G38: =C38 -> 2017
A39: =A7 -> A CORUÑA | B39: =E7 -> 1142383 | C39: =D7 -> 1009662 | D39: =_xlfn.RANK.EQ(B39,$B$39:$B$66)+COUNTIF($B$39:$B$66,B39)-1 -> 10 | E39: =INDEX($A$39:$B$66,MATCH(ROW()-38,$D$39:$D$66,0),1) -> GIJÓN | F39: =LOOKUP(E39,$A$39:$A$66,$B$39:$B$66) -> 4118818 | G39: =LOOKUP(E39,$A$39:$A$66,$C$39:$C$66) -> 4722490
A40: =A8 -> ALICANTE | B40: =E8 -> 427063 | C40: =D8 -> 371050 | D40: =_xlfn.RANK.EQ(B40,$B$39:$B$66)+COUNTIF($B$39:$B$66,B40)-1 -> 16 | E40: =INDEX($A$39:$B$66,MATCH(ROW()-38,$D$39:$D$66,0),1) -> TARRAGONA | F40: =LOOKUP(E40,$A$39:$A$66,$B$39:$B$66) -> 2729432 | G40: =LOOKUP(E40,$A$39:$A$66,$C$39:$C$66) -> 2261205
A41: =A9 -> ALMERÍA | B41: =E9 -> 1422063 | C41: =D9 -> 1345113 | D41: =_xlfn.RANK.EQ(B41,$B$39:$B$66)+COUNTIF($B$39:$B$66,B41)-1 -> 7 | E41: =INDEX($A$39:$B$66,MATCH(ROW()-38,$D$39:$D$66,0),1) -> FERROL-SAN CIBRAO | F41: =LOOKUP(E41,$A$39:$A$66,$B$39:$B$66) -> 2448553 | G41: =LOOKUP(E41,$A$39:$A$66,$C$39:$C$66) -> 2956219
A42: =A10 -> AVILÉS | B42: =E10 -> 803877 | C42: =D10 -> 653198 | D42: =_xlfn.RANK.EQ(B42,$B$39:$B$66)+COUNTIF($B$39:$B$66,B42)-1 -> 11 | E42: =INDEX($A$39:$B$66,MATCH(ROW()-38,$D$39:$D$66,0),1) -> HUELVA | F42: =LOOKUP(E42,$A$39:$A$66,$B$39:$B$66) -> 1665661 | G42: =LOOKUP(E42,$A$39:$A$66,$C$39:$C$66) -> 1446271
A43: =A11 -> BAHÍA DE ALGECIRAS | B43: =E11 -> 313630 | C43: =D11 -> 406044 | D43: =_xlfn.RANK.EQ(B43,$B$39:$B$66)+COUNTIF($B$39:$B$66,B43)-1 -> 19 | E43: =INDEX($A$39:$B$66,MATCH(ROW()-38,$D$39:$D$66,0),1) -> CARTAGENA | F43: =LOOKUP(E43,$A$39:$A$66,$B$39:$B$66) -> 1506950 | G43: =LOOKUP(E43,$A$39:$A$66,$C$39:$C$66) -> 1285836
A44: =A12 -> BAHÍA DE CÁDIZ | B44: =E12 -> 528951 | C44: =D12 -> 464822 | D44: =_xlfn.RANK.EQ(B44,$B$39:$B$66)+COUNTIF($B$39:$B$66,B44)-1 -> 15 | E44: =INDEX($A$39:$B$66,MATCH(ROW()-38,$D$39:$D$66,0),1) -> CASTELLÓN | F44: =LOOKUP(E44,$A$39:$A$66,$B$39:$B$66) -> 1451309 | G44: =LOOKUP(E44,$A$39:$A$66,$C$39:$C$66) -> 1272766
A45: =A13 -> BALEARES | B45: =E13 -> 378464 | C45: =D13 -> 378389 | D45: =_xlfn.RANK.EQ(B45,$B$39:$B$66)+COUNTIF($B$39:$B$66,B45)-1 -> 18 | E45: =INDEX($A$39:$B$66,MATCH(ROW()-38,$D$39:$D$66,0),1) -> ALMERÍA | F45: =LOOKUP(E45,$A$39:$A$66,$B$39:$B$66) -> 1422063 | G45: =LOOKUP(E45,$A$39:$A$66,$C$39:$C$66) -> 1345113
A46: =A14 -> BARCELONA | B46: =E14 -> 1188052 | C46: =D14 -> 897445 | D46: =_xlfn.RANK.EQ(B46,$B$39:$B$66)+COUNTIF($B$39:$B$66,B46)-1 -> 9 | E46: =INDEX($A$39:$B$66,MATCH(ROW()-38,$D$39:$D$66,0),1) -> BILBAO | F46: =LOOKUP(E46,$A$39:$A$66,$B$39:$B$66) -> 1211393 | G46: =LOOKUP(E46,$A$39:$A$66,$C$39:$C$66) -> 891557
A47: =A15 -> BILBAO | B47: =E15 -> 1211393 | C47: =D15 -> 891557 | D47: =_xlfn.RANK.EQ(B47,$B$39:$B$66)+COUNTIF($B$39:$B$66,B47)-1 -> 8 | E47: =INDEX($A$39:$B$66,MATCH(ROW()-38,$D$39:$D$66,0),1) -> BARCELONA | F47: =LOOKUP(E47,$A$39:$A$66,$B$39:$B$66) -> 1188052 | G47: =LOOKUP(E47,$A$39:$A$66,$C$39:$C$66) -> 897445
A48: =A16 -> CARTAGENA | B48: =E16 -> 1506950 | C48: =D16 -> 1285836 | D48: =_xlfn.RANK.EQ(B48,$B$39:$B$66)+COUNTIF($B$39:$B$66,B48)-1 -> 5 | E48: =INDEX($A$39:$B$66,MATCH(ROW()-38,$D$39:$D$66,0),1) -> A CORUÑA | F48: =LOOKUP(E48,$A$39:$A$66,$B$39:$B$66) -> 1142383 | G48: =LOOKUP(E48,$A$39:$A$66,$C$39:$C$66) -> 1009662
A49: =A17 -> CASTELLÓN | B49: =E17 -> 1451309 | C49: =D17 -> 1272766 | D49: =_xlfn.RANK.EQ(B49,$B$39:$B$66)+COUNTIF($B$39:$B$66,B49)-1 -> 6 | E49: =INDEX($A$39:$B$66,MATCH(ROW()-38,$D$39:$D$66,0),1) -> AVILÉS | F49: =LOOKUP(E49,$A$39:$A$66,$B$39:$B$66) -> 803877 | G49: =LOOKUP(E49,$A$39:$A$66,$C$39:$C$66) -> 653198
A50: =A18 -> CEUTA | B50: =E18 -> 7254 | C50: =D18 -> 9732 | D50: =_xlfn.RANK.EQ(B50,$B$39:$B$66)+COUNTIF($B$39:$B$66,B50)-1 -> 27 | E50: =INDEX($A$39:$B$66,MATCH(ROW()-38,$D$39:$D$66,0),1) -> SANTANDER | F50: =LOOKUP(E50,$A$39:$A$66,$B$39:$B$66) -> 732054 | G50: =LOOKUP(E50,$A$39:$A$66,$C$39:$C$66) -> 666301
... A66: =A34 -> VILAGARCÍA | B66: =E34 -> 86170 | C66: =D34 -> 73409 | D66: =_xlfn.RANK.EQ(B66,$B$39:$B$66)+COUNTIF($B$39:$B$66,B66)-1 -> 25 | E66: =INDEX($A$39:$B$66,MATCH(ROW()-38,$D$39:$D$66,0),1) -> MELILLA | F66: =LOOKUP(E66,$A$39:$A$66,$B$39:$B$66) -> 24 | G66: =LOOKUP(E66,$A$39:$A$66,$C$39:$C$66) -> 1501

Sheet Mercancía general
F1: 4. MERCANCÍA GENERAL (toneladas)
A5: Autoridad Portuaria | B5: ='Resumen general'!D6 -> Mes marzo | D5: ='Resumen general'!F6 -> Acumulado desde enero | L5: ='Resumen general'!I4 -> Fecha: 12/02/2019
B6: ='Resumen general'!D7 -> 2017 | C6: ='Resumen general'!E7 -> 2018 | D6: ='Resumen general'!F7 -> 2017 | E6: ='Resumen general'!G7 -> 2018 | F6: Var. (%)
A7: A CORUÑA | B7: 69427 | C7: 74834 | D7: 202273 | E7: 233814 | F7: =((E7*100)/D7)-100 -> 15.593282
A8: ALICANTE | B8: 134093 | C8: 115273 | D8: 374416 | E8: 342967 | F8: =((E8*100)/D8)-100 -> -8.3994808
A9: ALMERÍA | B9: 62931 | C9: 41693 | D9: 148157 | E9: 109526 | F9: =((E9*100)/D9)-100 -> -26.074367
A10: AVILÉS | B10: 99697 | C10: 134141 | D10: 290509 | E10: 361105 | F10: =((E10*100)/D10)-100 -> 24.300796
A11: BAHÍA DE ALGECIRAS | B11: 5020828 | C11: 5919700 | D11: 15015056 | E11: 16970370 | F11: =((E11*100)/D11)-100 -> 13.022356
A12: BAHÍA DE CÁDIZ | B12: 151699 | C12: 135360 | D12: 423508 | E12: 402490 | F12: =((E12*100)/D12)-100 -> -4.9628342
A13: BALEARES | B13: 1129559 | C13: 1089128 | D13: 2735944 | E13: 2842737 | F13: =((E13*100)/D13)-100 -> 3.9033328
A14: BARCELONA | B14: 3499101 | C14: 3851644 | D14: 9363745 | E14: 10985078 | F14: =((E14*100)/D14)-100 -> 17.315006
A15: BILBAO | B15: 999541 | C15: 843023 | D15: 2243146 | E15: 2392287 | F15: =((E15*100)/D15)-100 -> 6.6487424
A16: CARTAGENA | B16: 105682 | C16: 103245 | D16: 309342 | E16: 323249 | F16: =((E16*100)/D16)-100 -> 4.4956715
A17: CASTELLÓN | B17: 341897 | C17: 320679 | D17: 917451 | E17: 852757 | F17: =((E17*100)/D17)-100 -> -7.0514938
A18: CEUTA | B18: 98990 | C18: 60750 | D18: 262577 | E18: 181167 | F18: =((E18*100)/D18)-100 -> -31.004239
... A34: VILAGARCÍA | B34: 51128 | C34: 45918 | D34: 142147 | E34: 139771 | F34: =((E34*100)/D34)-100 -> -1.6715091
A35: Total | B35: =SUM(B7:B34) -> 21266846 | C35: =SUM(C7:C34) -> 22870724 | D35: =SUM(D7:D34) -> 58022440 | E35: =SUM(E7:E34) -> 63746151 | F35: =((E35*100)/D35)-100 -> 9.8646506
A36: Incluye cargas, descargas, tránsitos y transbordos.
B38: =E6 -> 2018 | C38: =D6 -> 2017 | F38: =B38 -> 2018 | G38: =C38 -> 2017
A39: =A7 -> A CORUÑA | B39: =E7 -> 233814 | C39: =D7 -> 202273 | D39: =_xlfn.RANK.EQ(B39,$B$39:$B$66)+COUNTIF($B$39:$B$66,B39)-1 -> 23 | E39: =INDEX($A$39:$B$66,MATCH(ROW()-38,$D$39:$D$66,0),1) -> BAHÍA DE ALGECIRAS | F39: =LOOKUP(E39,$A$39:$A$66,$B$39:$B$66) -> 16970370 | G39: =LOOKUP(E39,$A$39:$A$66,$C$39:$C$66) -> 15015056
A40: =A8 -> ALICANTE | B40: =E8 -> 342967 | C40: =D8 -> 374416 | D40: =_xlfn.RANK.EQ(B40,$B$39:$B$66)+COUNTIF($B$39:$B$66,B40)-1 -> 18 | E40: =INDEX($A$39:$B$66,MATCH(ROW()-38,$D$39:$D$66,0),1) -> VALENCIA | F40: =LOOKUP(E40,$A$39:$A$66,$B$39:$B$66) -> 16856534 | G40: =LOOKUP(E40,$A$39:$A$66,$C$39:$C$66) -> 15795751
A41: =A9 -> ALMERÍA | B41: =E9 -> 109526 | C41: =D9 -> 148157 | D41: =_xlfn.RANK.EQ(B41,$B$39:$B$66)+COUNTIF($B$39:$B$66,B41)-1 -> 28 | E41: =INDEX($A$39:$B$66,MATCH(ROW()-38,$D$39:$D$66,0),1) -> BARCELONA | F41: =LOOKUP(E41,$A$39:$A$66,$B$39:$B$66) -> 10985078 | G41: =LOOKUP(E41,$A$39:$A$66,$C$39:$C$66) -> 9363745
A42: =A10 -> AVILÉS | B42: =E10 -> 361105 | C42: =D10 -> 290509 | D42: =_xlfn.RANK.EQ(B42,$B$39:$B$66)+COUNTIF($B$39:$B$66,B42)-1 -> 17 | E42: =INDEX($A$39:$B$66,MATCH(ROW()-38,$D$39:$D$66,0),1) -> LAS PALMAS | F42: =LOOKUP(E42,$A$39:$A$66,$B$39:$B$66) -> 4160050 | G42: =LOOKUP(E42,$A$39:$A$66,$C$39:$C$66) -> 3720212
A43: =A11 -> BAHÍA DE ALGECIRAS | B43: =E11 -> 16970370 | C43: =D11 -> 15015056 | D43: =_xlfn.RANK.EQ(B43,$B$39:$B$66)+COUNTIF($B$39:$B$66,B43)-1 -> 1 | E43: =INDEX($A$39:$B$66,MATCH(ROW()-38,$D$39:$D$66,0),1) -> BALEARES | F43: =LOOKUP(E43,$A$39:$A$66,$B$39:$B$66) -> 2842737 | G43: =LOOKUP(E43,$A$39:$A$66,$C$39:$C$66) -> 2735944
A44: =A12 -> BAHÍA DE CÁDIZ | B44: =E12 -> 402490 | C44: =D12 -> 423508 | D44: =_xlfn.RANK.EQ(B44,$B$39:$B$66)+COUNTIF($B$39:$B$66,B44)-1 -> 14 | E44: =INDEX($A$39:$B$66,MATCH(ROW()-38,$D$39:$D$66,0),1) -> BILBAO | F44: =LOOKUP(E44,$A$39:$A$66,$B$39:$B$66) -> 2392287 | G44: =LOOKUP(E44,$A$39:$A$66,$C$39:$C$66) -> 2243146
A45: =A13 -> BALEARES | B45: =E13 -> 2842737 | C45: =D13 -> 2735944 | D45: =_xlfn.RANK.EQ(B45,$B$39:$B$66)+COUNTIF($B$39:$B$66,B45)-1 -> 5 | E45: =INDEX($A$39:$B$66,MATCH(ROW()-38,$D$39:$D$66,0),1) -> SANTA CRUZ DE TENERIFE | F45: =LOOKUP(E45,$A$39:$A$66,$B$39:$B$66) -> 1886032 | G45: =LOOKUP(E45,$A$39:$A$66,$C$39:$C$66) -> 1654584
A46: =A14 -> BARCELONA | B46: =E14 -> 10985078 | C46: =D14 -> 9363745 | D46: =_xlfn.RANK.EQ(B46,$B$39:$B$66)+COUNTIF($B$39:$B$66,B46)-1 -> 3 | E46: =INDEX($A$39:$B$66,MATCH(ROW()-38,$D$39:$D$66,0),1) -> VIGO | F46: =LOOKUP(E46,$A$39:$A$66,$B$39:$B$66) -> 871860 | G46: =LOOKUP(E46,$A$39:$A$66,$C$39:$C$66) -> 837223
A47: =A15 -> BILBAO | B47: =E15 -> 2392287 | C47: =D15 -> 2243146 | D47: =_xlfn.RANK.EQ(B47,$B$39:$B$66)+COUNTIF($B$39:$B$66,B47)-1 -> 6 | E47: =INDEX($A$39:$B$66,MATCH(ROW()-38,$D$39:$D$66,0),1) -> CASTELLÓN | F47: =LOOKUP(E47,$A$39:$A$66,$B$39:$B$66) -> 852757 | G47: =LOOKUP(E47,$A$39:$A$66,$C$39:$C$66) -> 917451
A48: =A16 -> CARTAGENA | B48: =E16 -> 323249 | C48: =D16 -> 309342 | D48: =_xlfn.RANK.EQ(B48,$B$39:$B$66)+COUNTIF($B$39:$B$66,B48)-1 -> 19 | E48: =INDEX($A$39:$B$66,MATCH(ROW()-38,$D$39:$D$66,0),1) -> TARRAGONA | F48: =LOOKUP(E48,$A$39:$A$66,$B$39:$B$66) -> 522574 | G48: =LOOKUP(E48,$A$39:$A$66,$C$39:$C$66) -> 431897
A49: =A17 -> CASTELLÓN | B49: =E17 -> 852757 | C49: =D17 -> 917451 | D49: =_xlfn.RANK.EQ(B49,$B$39:$B$66)+COUNTIF($B$39:$B$66,B49)-1 -> 9 | E49: =INDEX($A$39:$B$66,MATCH(ROW()-38,$D$39:$D$66,0),1) -> PASAIA | F49: =LOOKUP(E49,$A$39:$A$66,$B$39:$B$66) -> 521791 | G49: =LOOKUP(E49,$A$39:$A$66,$C$39:$C$66) -> 499934
A50: =A18 -> CEUTA | B50: =E18 -> 181167 | C50: =D18 -> 262577 | D50: =_xlfn.RANK.EQ(B50,$B$39:$B$66)+COUNTIF($B$39:$B$66,B50)-1 -> 25 | E50: =INDEX($A$39:$B$66,MATCH(ROW()-38,$D$39:$D$66,0),1) -> SANTANDER | F50: =LOOKUP(E50,$A$39:$A$66,$B$39:$B$66) -> 518415 | G50: =LOOKUP(E50,$A$39:$A$66,$C$39:$C$66) -> 441949
... A66: =A34 -> VILAGARCÍA | B66: =E34 -> 139771 | C66: =D34 -> 142147 | D66: =_xlfn.RANK.EQ(B66,$B$39:$B$66)+COUNTIF($B$39:$B$66,B66)-1 -> 26 | E66: =INDEX($A$39:$B$66,MATCH(ROW()-38,$D$39:$D$66,0),1) -> ALMERÍA | F66: =LOOKUP(E66,$A$39:$A$66,$B$39:$B$66) -> 109526 | G66: =LOOKUP(E66,$A$39:$A$66,$C$39:$C$66) -> 148157

Sheet Mercancías contenedores
F1: 4.1. MERCANCÍAS EN CONTENEDORES (toneladas)
A5: Autoridad Portuaria | B5: ='Resumen general'!D6 -> Mes marzo | D5: ='Resumen general'!F6 -> Acumulado desde enero | L5: ='Resumen general'!I4 -> Fecha: 12/02/2019
B6: ='Resumen general'!D7 -> 2017 | C6: ='Resumen general'!E7 -> 2018 | D6: ='Resumen general'!F7 -> 2017 | E6: ='Resumen general'!G7 -> 2018 | F6: Var. (%)
A7: A CORUÑA | B7: 2 | C7: 0 | D7: 2 | E7: 2 | F7: =((E7*100)/D7)-100 -> 0
A8: ALICANTE | B8: 109578 | C8: 107569 | D8: 310579 | E8: 298051 | F8: =((E8*100)/D8)-100 -> -4.0337563
A9: ALMERÍA | B9: 3252 | C9: 3776 | D9: 8973 | E9: 10065 | F9: =((E9*100)/D9)-100 -> 12.169843
A10: AVILÉS | B10: 0 | C10: 0 | D10: 0 | E10: 0 | F10: =((E10*100)/D10)-100 -> #DIV/0!
A11: BAHÍA DE ALGECIRAS | B11: 4167062 | C11: 5086641 | D11: 12725601 | E11: 14703684 | F11: =((E11*100)/D11)-100 -> 15.544122
A12: BAHÍA DE CÁDIZ | B12: 57969 | C12: 50428 | D12: 164483 | E12: 158874 | F12: =((E12*100)/D12)-100 -> -3.4100789
A13: BALEARES | B13: 76373 | C13: 72826 | D13: 190894 | E13: 185946 | F13: =((E13*100)/D13)-100 -> -2.5920144
A14: BARCELONA | B14: 2455183 | C14: 2825539 | D14: 6757638 | E14: 8265722 | F14: =((E14*100)/D14)-100 -> 22.316733
A15: BILBAO | B15: 616990 | C15: 539200 | D15: 1451554 | E15: 1604691 | F15: =((E15*100)/D15)-100 -> 10.549866
A16: CARTAGENA | B16: 91763 | C16: 88966 | D16: 256223 | E16: 255446 | F16: =((E16*100)/D16)-100 -> -0.30325146
A17: CASTELLÓN | B17: 322215 | C17: 312446 | D17: 853286 | E17: 809521 | F17: =((E17*100)/D17)-100 -> -5.1289954
A18: CEUTA | B18: 18238 | C18: 8365 | D18: 45538 | E18: 27689 | F18: =((E18*100)/D18)-100 -> -39.195836
... A34: VILAGARCÍA | B34: 25800 | C34: 24231 | D34: 72630 | E34: 68929 | F34: =((E34*100)/D34)-100 -> -5.0956905
A35: Total | B35: =SUM(B7:B34) -> 14730750 | C35: =SUM(C7:C34) -> 16331798 | D35: =SUM(D7:D34) -> 41143701 | E35: =SUM(E7:E34) -> 45622867 | F35: =((E35*100)/D35)-100 -> 10.886639
A36: Incluye cargas, descargas, tránsitos y transbordos.
B38: =E6 -> 2018 | C38: =D6 -> 2017 | F38: =B38 -> 2018 | G38: =C38 -> 2017
A39: =A7 -> A CORUÑA | B39: =E7 -> 2 | C39: =D7 -> 2 | D39: =_xlfn.RANK.EQ(B39,$B$39:$B$66)+COUNTIF($B$39:$B$66,B39)-1 -> 27 | E39: =INDEX($A$39:$B$66,MATCH(ROW()-38,$D$39:$D$66,0),1) -> BAHÍA DE ALGECIRAS | F39: =LOOKUP(E39,$A$39:$A$66,$B$39:$B$66) -> 14703684 | G39: =LOOKUP(E39,$A$39:$A$66,$C$39:$C$66) -> 12725601
A40: =A8 -> ALICANTE | B40: =E8 -> 298051 | C40: =D8 -> 310579 | D40: =_xlfn.RANK.EQ(B40,$B$39:$B$66)+COUNTIF($B$39:$B$66,B40)-1 -> 9 | E40: =INDEX($A$39:$B$66,MATCH(ROW()-38,$D$39:$D$66,0),1) -> VALENCIA | F40: =LOOKUP(E40,$A$39:$A$66,$B$39:$B$66) -> 13409404 | G40: =LOOKUP(E40,$A$39:$A$66,$C$39:$C$66) -> 13066137
A41: =A9 -> ALMERÍA | B41: =E9 -> 10065 | C41: =D9 -> 8973 | D41: =_xlfn.RANK.EQ(B41,$B$39:$B$66)+COUNTIF($B$39:$B$66,B41)-1 -> 23 | E41: =INDEX($A$39:$B$66,MATCH(ROW()-38,$D$39:$D$66,0),1) -> BARCELONA | F41: =LOOKUP(E41,$A$39:$A$66,$B$39:$B$66) -> 8265722 | G41: =LOOKUP(E41,$A$39:$A$66,$C$39:$C$66) -> 6757638
A42: =A10 -> AVILÉS | B42: =E10 -> 0 | C42: =D10 -> 0 | D42: =_xlfn.RANK.EQ(B42,$B$39:$B$66)+COUNTIF($B$39:$B$66,B42)-1 -> 28 | E42: =INDEX($A$39:$B$66,MATCH(ROW()-38,$D$39:$D$66,0),1) -> LAS PALMAS | F42: =LOOKUP(E42,$A$39:$A$66,$B$39:$B$66) -> 3071926 | G42: =LOOKUP(E42,$A$39:$A$66,$C$39:$C$66) -> 2729550
A43: =A11 -> BAHÍA DE ALGECIRAS | B43: =E11 -> 14703684 | C43: =D11 -> 12725601 | D43: =_xlfn.RANK.EQ(B43,$B$39:$B$66)+COUNTIF($B$39:$B$66,B43)-1 -> 1 | E43: =INDEX($A$39:$B$66,MATCH(ROW()-38,$D$39:$D$66,0),1) -> BILBAO | F43: =LOOKUP(E43,$A$39:$A$66,$B$39:$B$66) -> 1604691 | G43: =LOOKUP(E43,$A$39:$A$66,$C$39:$C$66) -> 1451554
A44: =A12 -> BAHÍA DE CÁDIZ | B44: =E12 -> 158874 | C44: =D12 -> 164483 | D44: =_xlfn.RANK.EQ(B44,$B$39:$B$66)+COUNTIF($B$39:$B$66,B44)-1 -> 16 | E44: =INDEX($A$39:$B$66,MATCH(ROW()-38,$D$39:$D$66,0),1) -> SANTA CRUZ DE TENERIFE | F44: =LOOKUP(E44,$A$39:$A$66,$B$39:$B$66) -> 954612 | G44: =LOOKUP(E44,$A$39:$A$66,$C$39:$C$66) -> 765901
A45: =A13 -> BALEARES | B45: =E13 -> 185946 | C45: =D13 -> 190894 | D45: =_xlfn.RANK.EQ(B45,$B$39:$B$66)+COUNTIF($B$39:$B$66,B45)-1 -> 14 | E45: =INDEX($A$39:$B$66,MATCH(ROW()-38,$D$39:$D$66,0),1) -> CASTELLÓN | F45: =LOOKUP(E45,$A$39:$A$66,$B$39:$B$66) -> 809521 | G45: =LOOKUP(E45,$A$39:$A$66,$C$39:$C$66) -> 853286
A46: =A14 -> BARCELONA | B46: =E14 -> 8265722 | C46: =D14 -> 6757638 | D46: =_xlfn.RANK.EQ(B46,$B$39:$B$66)+COUNTIF($B$39:$B$66,B46)-1 -> 3 | E46: =INDEX($A$39:$B$66,MATCH(ROW()-38,$D$39:$D$66,0),1) -> VIGO | F46: =LOOKUP(E46,$A$39:$A$66,$B$39:$B$66) -> 615454 | G46: =LOOKUP(E46,$A$39:$A$66,$C$39:$C$66) -> 608117
A47: =A15 -> BILBAO | B47: =E15 -> 1604691 | C47: =D15 -> 1451554 | D47: =_xlfn.RANK.EQ(B47,$B$39:$B$66)+COUNTIF($B$39:$B$66,B47)-1 -> 5 | E47: =INDEX($A$39:$B$66,MATCH(ROW()-38,$D$39:$D$66,0),1) -> ALICANTE | F47: =LOOKUP(E47,$A$39:$A$66,$B$39:$B$66) -> 298051 | G47: =LOOKUP(E47,$A$39:$A$66,$C$39:$C$66) -> 310579
A48: =A16 -> CARTAGENA | B48: =E16 -> 255446 | C48: =D16 -> 256223 | D48: =_xlfn.RANK.EQ(B48,$B$39:$B$66)+COUNTIF($B$39:$B$66,B48)-1 -> 10 | E48: =INDEX($A$39:$B$66,MATCH(ROW()-38,$D$39:$D$66,0),1) -> CARTAGENA | F48: =LOOKUP(E48,$A$39:$A$66,$B$39:$B$66) -> 255446 | G48: =LOOKUP(E48,$A$39:$A$66,$C$39:$C$66) -> 256223
A49: =A17 -> CASTELLÓN | B49: =E17 -> 809521 | C49: =D17 -> 853286 | D49: =_xlfn.RANK.EQ(B49,$B$39:$B$66)+COUNTIF($B$39:$B$66,B49)-1 -> 7 | E49: =INDEX($A$39:$B$66,MATCH(ROW()-38,$D$39:$D$66,0),1) -> MARÍN Y RÍA DE PONTEVEDRA | F49: =LOOKUP(E49,$A$39:$A$66,$B$39:$B$66) -> 224641 | G49: =LOOKUP(E49,$A$39:$A$66,$C$39:$C$66) -> 191784
A50: =A18 -> CEUTA | B50: =E18 -> 27689 | C50: =D18 -> 45538 | D50: =_xlfn.RANK.EQ(B50,$B$39:$B$66)+COUNTIF($B$39:$B$66,B50)-1 -> 21 | E50: =INDEX($A$39:$B$66,MATCH(ROW()-38,$D$39:$D$66,0),1) -> SEVILLA | F50: =LOOKUP(E50,$A$39:$A$66,$B$39:$B$66) -> 221742 | G50: =LOOKUP(E50,$A$39:$A$66,$C$39:$C$66) -> 223021
... A66: =A34 -> VILAGARCÍA | B66: =E34 -> 68929 | C66: =D34 -> 72630 | D66: =_xlfn.RANK.EQ(B66,$B$39:$B$66)+COUNTIF($B$39:$B$66,B66)-1 -> 19 | E66: =INDEX($A$39:$B$66,MATCH(ROW()-38,$D$39:$D$66,0),1) -> AVILÉS | F66: =LOOKUP(E66,$A$39:$A$66,$B$39:$B$66) -> 0 | G66: =LOOKUP(E66,$A$39:$A$66,$C$39:$C$66) -> 0

Sheet Pesca
F1: 5. PESCA (toneladas)
A5: Autoridad Portuaria | B5: ='Resumen general'!D6 -> Mes marzo | D5: ='Resumen general'!F6 -> Acumulado desde enero | L5: ='Resumen general'!I4 -> Fecha: 12/02/2019
B6: ='Resumen general'!D7 -> 2017 | C6: ='Resumen general'!E7 -> 2018 | D6: ='Resumen general'!F7 -> 2017 | E6: ='Resumen general'!G7 -> 2018 | F6: Var. (%)
A7: A CORUÑA | B7: 5484 | C7: 3585 | D7: 9568 | E7: 7056 | F7: =((E7*100)/D7)-100 -> -26.254181
A8: ALICANTE | B8: 96 | C8: 8 | D8: 96 | E8: 327 | F8: =((E8*100)/D8)-100 -> 240.625
A9: ALMERÍA | B9: 202 | C9: 179 | D9: 629 | E9: 661 | F9: =((E9*100)/D9)-100 -> 5.0874404
A10: AVILÉS | B10: 2580 | C10: 1925 | D10: 4022 | E10: 3444 | F10: =((E10*100)/D10)-100 -> -14.37096
A11: BAHÍA DE ALGECIRAS | B11: 73 | C11: 37 | D11: 168 | E11: 128 | F11: =((E11*100)/D11)-100 -> -23.809524
A12: BAHÍA DE CÁDIZ | B12: 1590 | C12: 1087 | D12: 3840 | E12: 3336 | F12: =((E12*100)/D12)-100 -> -13.125
A13: BALEARES | B13: 281 | C13: 177 | D13: 615 | E13: 558 | F13: =((E13*100)/D13)-100 -> -9.2682927
A14: BARCELONA | B14: 390 | C14: 253 | D14: 1005 | E14: 789 | F14: =((E14*100)/D14)-100 -> -21.492537
A15: BILBAO | B15: 0 | C15: 0 | D15: 0 | E15: 0 | F15: =((E15*100)/D15)-100 -> #DIV/0!
A16: CARTAGENA | B16: 54 | C16: 27 | D16: 119 | E16: 98 | F16: =((E16*100)/D16)-100 -> -17.647059
A17: CASTELLÓN | B17: 344 | C17: 344 | D17: 700 | E17: 806 | F17: =((E17*100)/D17)-100 -> 15.142857
A18: CEUTA | B18: 0 | C18: 0 | D18: 0 | E18: 0 | F18: =((E18*100)/D18)-100 -> #DIV/0!
... A34: VILAGARCÍA | B34: 0 | C34: 0 | D34: 0 | E34: 0 | F34: =((E34*100)/D34)-100 -> #DIV/0!
A35: Total | B35: =SUM(B7:B34) -> 26440 | C35: =SUM(C7:C34) -> 19397 | D35: =SUM(D7:D34) -> 53651 | E35: =SUM(E7:E34) -> 45478 | F35: =((E35*100)/D35)-100 -> -15.23364
B38: =E6 -> 2018 | C38: =D6 -> 2017 | F38: =B38 -> 2018 | G38: =C38 -> 2017
A39: =A7 -> A CORUÑA | B39: =E7 -> 7056 | C39: =D7 -> 9568 | D39: =_xlfn.RANK.EQ(B39,$B$39:$B$66)+COUNTIF($B$39:$B$66,B39)-1 -> 3 | E39: =INDEX($A$39:$B$66,MATCH(ROW()-38,$D$39:$D$66,0),1) -> VIGO | F39: =LOOKUP(E39,$A$39:$A$66,$B$39:$B$66) -> 14246 | G39: =LOOKUP(E39,$A$39:$A$66,$C$39:$C$66) -> 15907
A40: =A8 -> ALICANTE | B40: =E8 -> 327 | C40: =D8 -> 96 | D40: =_xlfn.RANK.EQ(B40,$B$39:$B$66)+COUNTIF($B$39:$B$66,B40)-1 -> 17 | E40: =INDEX($A$39:$B$66,MATCH(ROW()-38,$D$39:$D$66,0),1) -> PASAIA | F40: =LOOKUP(E40,$A$39:$A$66,$B$39:$B$66) -> 8365 | G40: =LOOKUP(E40,$A$39:$A$66,$C$39:$C$66) -> 8572
A41: =A9 -> ALMERÍA | B41: =E9 -> 661 | C41: =D9 -> 629 | D41: =_xlfn.RANK.EQ(B41,$B$39:$B$66)+COUNTIF($B$39:$B$66,B41)-1 -> 12 | E41: =INDEX($A$39:$B$66,MATCH(ROW()-38,$D$39:$D$66,0),1) -> A CORUÑA | F41: =LOOKUP(E41,$A$39:$A$66,$B$39:$B$66) -> 7056 | G41: =LOOKUP(E41,$A$39:$A$66,$C$39:$C$66) -> 9568
A42: =A10 -> AVILÉS | B42: =E10 -> 3444 | C42: =D10 -> 4022 | D42: =_xlfn.RANK.EQ(B42,$B$39:$B$66)+COUNTIF($B$39:$B$66,B42)-1 -> 4 | E42: =INDEX($A$39:$B$66,MATCH(ROW()-38,$D$39:$D$66,0),1) -> AVILÉS | F42: =LOOKUP(E42,$A$39:$A$66,$B$39:$B$66) -> 3444 | G42: =LOOKUP(E42,$A$39:$A$66,$C$39:$C$66) -> 4022
A43: =A11 -> BAHÍA DE ALGECIRAS | B43: =E11 -> 128 | C43: =D11 -> 168 | D43: =_xlfn.RANK.EQ(B43,$B$39:$B$66)+COUNTIF($B$39:$B$66,B43)-1 -> 19 | E43: =INDEX($A$39:$B$66,MATCH(ROW()-38,$D$39:$D$66,0),1) -> BAHÍA DE CÁDIZ | F43: =LOOKUP(E43,$A$39:$A$66,$B$39:$B$66) -> 3336 | G43: =LOOKUP(E43,$A$39:$A$66,$C$39:$C$66) -> 3840
A44: =A12 -> BAHÍA DE CÁDIZ | B44: =E12 -> 3336 | C44: =D12 -> 3840 | D44: =_xlfn.RANK.EQ(B44,$B$39:$B$66)+COUNTIF($B$39:$B$66,B44)-1 -> 5 | E44: =INDEX($A$39:$B$66,MATCH(ROW()-38,$D$39:$D$66,0),1) -> SANTANDER | F44: =LOOKUP(E44,$A$39:$A$66,$B$39:$B$66) -> 1434 | G44: =LOOKUP(E44,$A$39:$A$66,$C$39:$C$66) -> 1284
A45: =A13 -> BALEARES | B45: =E13 -> 558 | C45: =D13 -> 615 | D45: =_xlfn.RANK.EQ(B45,$B$39:$B$66)+COUNTIF($B$39:$B$66,B45)-1 -> 13 | E45: =INDEX($A$39:$B$66,MATCH(ROW()-38,$D$39:$D$66,0),1) -> GIJÓN | F45: =LOOKUP(E45,$A$39:$A$66,$B$39:$B$66) -> 885 | G45: =LOOKUP(E45,$A$39:$A$66,$C$39:$C$66) -> 2904
A46: =A14 -> BARCELONA | B46: =E14 -> 789 | C46: =D14 -> 1005 | D46: =_xlfn.RANK.EQ(B46,$B$39:$B$66)+COUNTIF($B$39:$B$66,B46)-1 -> 11 | E46: =INDEX($A$39:$B$66,MATCH(ROW()-38,$D$39:$D$66,0),1) -> SANTA CRUZ DE TENERIFE | F46: =LOOKUP(E46,$A$39:$A$66,$B$39:$B$66) -> 832 | G46: =LOOKUP(E46,$A$39:$A$66,$C$39:$C$66) -> 1657
A47: =A15 -> BILBAO | B47: =E15 -> 0 | C47: =D15 -> 0 | D47: =_xlfn.RANK.EQ(B47,$B$39:$B$66)+COUNTIF($B$39:$B$66,B47)-1 -> 28 | E47: =INDEX($A$39:$B$66,MATCH(ROW()-38,$D$39:$D$66,0),1) -> CASTELLÓN | F47: =LOOKUP(E47,$A$39:$A$66,$B$39:$B$66) -> 806 | G47: =LOOKUP(E47,$A$39:$A$66,$C$39:$C$66) -> 700
A48: =A16 -> CARTAGENA | B48: =E16 -> 98 | C48: =D16 -> 119 | D48: =_xlfn.RANK.EQ(B48,$B$39:$B$66)+COUNTIF($B$39:$B$66,B48)-1 -> 21 | E48: =INDEX($A$39:$B$66,MATCH(ROW()-38,$D$39:$D$66,0),1) -> VALENCIA | F48: =LOOKUP(E48,$A$39:$A$66,$B$39:$B$66) -> 796 | G48: =LOOKUP(E48,$A$39:$A$66,$C$39:$C$66) -> 397
A49: =A17 -> CASTELLÓN | B49: =E17 -> 806 | C49: =D17 -> 700 | D49: =_xlfn.RANK.EQ(B49,$B$39:$B$66)+COUNTIF($B$39:$B$66,B49)-1 -> 9 | E49: =INDEX($A$39:$B$66,MATCH(ROW()-38,$D$39:$D$66,0),1) -> BARCELONA | F49: =LOOKUP(E49,$A$39:$A$66,$B$39:$B$66) -> 789 | G49: =LOOKUP(E49,$A$39:$A$66,$C$39:$C$66) -> 1005
A50: =A18 -> CEUTA | B50: =E18 -> 0 | C50: =D18 -> 0 | D50: =_xlfn.RANK.EQ(B50,$B$39:$B$66)+COUNTIF($B$39:$B$66,B50)-1 -> 28 | E50: =INDEX($A$39:$B$66,MATCH(ROW()-38,$D$39:$D$66,0),1) -> ALMERÍA | F50: =LOOKUP(E50,$A$39:$A$66,$B$39:$B$66) -> 661 | G50: =LOOKUP(E50,$A$39:$A$66,$C$39:$C$66) -> 629
... A66: =A34 -> VILAGARCÍA | B66: =E34 -> 0 | C66: =D34 -> 0 | D66: =_xlfn.RANK.EQ(B66,$B$39:$B$66)+COUNTIF($B$39:$B$66,B66)-1 -> 28 | E66: =INDEX($A$39:$B$66,MATCH(ROW()-38,$D$39:$D$66,0),1) -> BILBAO | F66: =LOOKUP(E66,$A$39:$A$66,$B$39:$B$66) -> 0 | G66: =LOOKUP(E66,$A$39:$A$66,$C$39:$C$66) -> 0

Sheet Avituallamiento
F1: 6. AVITUALLAMIENTO (toneladas)
A5: Autoridad Portuaria | B5: ='Resumen general'!D6 -> Mes marzo | D5: ='Resumen general'!F6 -> Acumulado desde enero | L5: ='Resumen general'!I4 -> Fecha: 12/02/2019
B6: ='Resumen general'!D7 -> 2017 | C6: ='Resumen general'!E7 -> 2018 | D6: ='Resumen general'!F7 -> 2017 | E6: ='Resumen general'!G7 -> 2018 | F6: Var. (%)
A7: A CORUÑA | B7: 3350 | C7: 6223 | D7: 8034 | E7: 12701 | F7: =((E7*100)/D7)-100 -> 58.090615
A8: ALICANTE | B8: 2212 | C8: 1979 | D8: 5116 | E8: 7186 | F8: =((E8*100)/D8)-100 -> 40.461298
A9: ALMERÍA | B9: 4498 | C9: 6289 | D9: 15151 | E9: 17406 | F9: =((E9*100)/D9)-100 -> 14.883506
A10: AVILÉS | B10: 3285 | C10: 3726 | D10: 9264 | E10: 12163 | F10: =((E10*100)/D10)-100 -> 31.293178
A11: BAHÍA DE ALGECIRAS | B11: 245018 | C11: 209597 | D11: 718535 | E11: 578183 | F11: =((E11*100)/D11)-100 -> -19.533078
A12: BAHÍA DE CÁDIZ | B12: 10932 | C12: 9381 | D12: 27482 | E12: 21355 | F12: =((E12*100)/D12)-100 -> -22.294593
A13: BALEARES | B13: 3440 | C13: 12357 | D13: 12176 | E13: 27799 | F13: =((E13*100)/D13)-100 -> 128.30979
A14: BARCELONA | B14: 73338 | C14: 137721 | D14: 192362 | E14: 362505 | F14: =((E14*100)/D14)-100 -> 88.449382
A15: BILBAO | B15: 9169 | C15: 8857 | D15: 24613 | E15: 25889 | F15: =((E15*100)/D15)-100 -> 5.1842522
A16: CARTAGENA | B16: 3559 | C16: 7171 | D16: 10433 | E16: 13465 | F16: =((E16*100)/D16)-100 -> 29.061631
A17: CASTELLÓN | B17: 1869 | C17: 1836 | D17: 5184 | E17: 4456 | F17: =((E17*100)/D17)-100 -> -14.04321
A18: CEUTA | B18: 46474 | C18: 68095 | D18: 144980 | E18: 188276 | F18: =((E18*100)/D18)-100 -> 29.863429
... A34: VILAGARCÍA | B34: 422 | C34: 274 | D34: 1405 | E34: 1314 | F34: =((E34*100)/D34)-100 -> -6.4768683
A35: Total | B35: =SUM(B7:B34) -> 788227 | C35: =SUM(C7:C34) -> 838903 | D35: =SUM(D7:D34) -> 2218014 | E35: =SUM(E7:E34) -> 2342533 | F35: =((E35*100)/D35)-100 -> 5.6139862
B38: =E6 -> 2018 | C38: =D6 -> 2017 | F38: =B38 -> 2018 | G38: =C38 -> 2017
A39: =A7 -> A CORUÑA | B39: =E7 -> 12701 | C39: =D7 -> 8034 | D39: =_xlfn.RANK.EQ(B39,$B$39:$B$66)+COUNTIF($B$39:$B$66,B39)-1 -> 16 | E39: =INDEX($A$39:$B$66,MATCH(ROW()-38,$D$39:$D$66,0),1) -> LAS PALMAS | F39: =LOOKUP(E39,$A$39:$A$66,$B$39:$B$66) -> 679103 | G39: =LOOKUP(E39,$A$39:$A$66,$C$39:$C$66) -> 642675
A40: =A8 -> ALICANTE | B40: =E8 -> 7186 | C40: =D8 -> 5116 | D40: =_xlfn.RANK.EQ(B40,$B$39:$B$66)+COUNTIF($B$39:$B$66,B40)-1 -> 20 | E40: =INDEX($A$39:$B$66,MATCH(ROW()-38,$D$39:$D$66,0),1) -> BAHÍA DE ALGECIRAS | F40: =LOOKUP(E40,$A$39:$A$66,$B$39:$B$66) -> 578183 | G40: =LOOKUP(E40,$A$39:$A$66,$C$39:$C$66) -> 718535
A41: =A9 -> ALMERÍA | B41: =E9 -> 17406 | C41: =D9 -> 15151 | D41: =_xlfn.RANK.EQ(B41,$B$39:$B$66)+COUNTIF($B$39:$B$66,B41)-1 -> 13 | E41: =INDEX($A$39:$B$66,MATCH(ROW()-38,$D$39:$D$66,0),1) -> BARCELONA | F41: =LOOKUP(E41,$A$39:$A$66,$B$39:$B$66) -> 362505 | G41: =LOOKUP(E41,$A$39:$A$66,$C$39:$C$66) -> 192362
A42: =A10 -> AVILÉS | B42: =E10 -> 12163 | C42: =D10 -> 9264 | D42: =_xlfn.RANK.EQ(B42,$B$39:$B$66)+COUNTIF($B$39:$B$66,B42)-1 -> 17 | E42: =INDEX($A$39:$B$66,MATCH(ROW()-38,$D$39:$D$66,0),1) -> CEUTA | F42: =LOOKUP(E42,$A$39:$A$66,$B$39:$B$66) -> 188276 | G42: =LOOKUP(E42,$A$39:$A$66,$C$39:$C$66) -> 144980
A43: =A11 -> BAHÍA DE ALGECIRAS | B43: =E11 -> 578183 | C43: =D11 -> 718535 | D43: =_xlfn.RANK.EQ(B43,$B$39:$B$66)+COUNTIF($B$39:$B$66,B43)-1 -> 2 | E43: =INDEX($A$39:$B$66,MATCH(ROW()-38,$D$39:$D$66,0),1) -> SANTA CRUZ DE TENERIFE | F43: =LOOKUP(E43,$A$39:$A$66,$B$39:$B$66) -> 163970 | G43: =LOOKUP(E43,$A$39:$A$66,$C$39:$C$66) -> 177467
A44: =A12 -> BAHÍA DE CÁDIZ | B44: =E12 -> 21355 | C44: =D12 -> 27482 | D44: =_xlfn.RANK.EQ(B44,$B$39:$B$66)+COUNTIF($B$39:$B$66,B44)-1 -> 11 | E44: =INDEX($A$39:$B$66,MATCH(ROW()-38,$D$39:$D$66,0),1) -> VALENCIA | F44: =LOOKUP(E44,$A$39:$A$66,$B$39:$B$66) -> 67292 | G44: =LOOKUP(E44,$A$39:$A$66,$C$39:$C$66) -> 67021
A45: =A13 -> BALEARES | B45: =E13 -> 27799 | C45: =D13 -> 12176 | D45: =_xlfn.RANK.EQ(B45,$B$39:$B$66)+COUNTIF($B$39:$B$66,B45)-1 -> 9 | E45: =INDEX($A$39:$B$66,MATCH(ROW()-38,$D$39:$D$66,0),1) -> HUELVA | F45: =LOOKUP(E45,$A$39:$A$66,$B$39:$B$66) -> 41328 | G45: =LOOKUP(E45,$A$39:$A$66,$C$39:$C$66) -> 37351
A46: =A14 -> BARCELONA | B46: =E14 -> 362505 | C46: =D14 -> 192362 | D46: =_xlfn.RANK.EQ(B46,$B$39:$B$66)+COUNTIF($B$39:$B$66,B46)-1 -> 3 | E46: =INDEX($A$39:$B$66,MATCH(ROW()-38,$D$39:$D$66,0),1) -> VIGO | F46: =LOOKUP(E46,$A$39:$A$66,$B$39:$B$66) -> 36160 | G46: =LOOKUP(E46,$A$39:$A$66,$C$39:$C$66) -> 39176
A47: =A15 -> BILBAO | B47: =E15 -> 25889 | C47: =D15 -> 24613 | D47: =_xlfn.RANK.EQ(B47,$B$39:$B$66)+COUNTIF($B$39:$B$66,B47)-1 -> 10 | E47: =INDEX($A$39:$B$66,MATCH(ROW()-38,$D$39:$D$66,0),1) -> BALEARES | F47: =LOOKUP(E47,$A$39:$A$66,$B$39:$B$66) -> 27799 | G47: =LOOKUP(E47,$A$39:$A$66,$C$39:$C$66) -> 12176
A48: =A16 -> CARTAGENA | B48: =E16 -> 13465 | C48: =D16 -> 10433 | D48: =_xlfn.RANK.EQ(B48,$B$39:$B$66)+COUNTIF($B$39:$B$66,B48)-1 -> 15 | E48: =INDEX($A$39:$B$66,MATCH(ROW()-38,$D$39:$D$66,0),1) -> BILBAO | F48: =LOOKUP(E48,$A$39:$A$66,$B$39:$B$66) -> 25889 | G48: =LOOKUP(E48,$A$39:$A$66,$C$39:$C$66) -> 24613
A49: =A17 -> CASTELLÓN | B49: =E17 -> 4456 | C49: =D17 -> 5184 | D49: =_xlfn.RANK.EQ(B49,$B$39:$B$66)+COUNTIF($B$39:$B$66,B49)-1 -> 25 | E49: =INDEX($A$39:$B$66,MATCH(ROW()-38,$D$39:$D$66,0),1) -> BAHÍA DE CÁDIZ | F49: =LOOKUP(E49,$A$39:$A$66,$B$39:$B$66) -> 21355 | G49: =LOOKUP(E49,$A$39:$A$66,$C$39:$C$66) -> 27482
A50: =A18 -> CEUTA | B50: =E18 -> 188276 | C50: =D18 -> 144980 | D50: =_xlfn.RANK.EQ(B50,$B$39:$B$66)+COUNTIF($B$39:$B$66,B50)-1 -> 4 | E50: =INDEX($A$39:$B$66,MATCH(ROW()-38,$D$39:$D$66,0),1) -> TARRAGONA | F50: =LOOKUP(E50,$A$39:$A$66,$B$39:$B$66) -> 21006 | G50: =LOOKUP(E50,$A$39:$A$66,$C$39:$C$66) -> 14025
... A66: =A34 -> VILAGARCÍA | B66: =E34 -> 1314 | C66: =D34 -> 1405 | D66: =_xlfn.RANK.EQ(B66,$B$39:$B$66)+COUNTIF($B$39:$B$66,B66)-1 -> 27 | E66: =INDEX($A$39:$B$66,MATCH(ROW()-38,$D$39:$D$66,0),1) -> SEVILLA | F66: =LOOKUP(E66,$A$39:$A$66,$B$39:$B$66) -> 1060 | G66: =LOOKUP(E66,$A$39:$A$66,$C$39:$C$66) -> 3429

Sheet Avit. combustibles
F1: 6.1. AVITUALLAMIENTO DE COMBUSTIBLES LÍQUIDOS
I2: (toneladas)
A5: Autoridad Portuaria | B5: ='Resumen general'!D6 -> Mes marzo | D5: ='Resumen general'!F6 -> Acumulado desde enero | L5: ='Resumen general'!I4 -> Fecha: 12/02/2019
B6: ='Resumen general'!D7 -> 2017 | C6: ='Resumen general'!E7 -> 2018 | D6: ='Resumen general'!F7 -> 2017 | E6: ='Resumen general'!G7 -> 2018 | F6: Var. (%)
A7: A CORUÑA | B7: 2168 | C7: 2438 | D7: 5961 | E7: 7279 | F7: =((E7*100)/D7)-100 -> 22.110384
A8: ALICANTE | B8: 433 | C8: 330 | D8: 947 | E8: 1578 | F8: =((E8*100)/D8)-100 -> 66.631468
A9: ALMERÍA | B9: 2341 | C9: 2851 | D9: 6639 | E9: 8100 | F9: =((E9*100)/D9)-100 -> 22.006326
A10: AVILÉS | B10: 545 | C10: 1118 | D10: 2071 | E10: 3318 | F10: =((E10*100)/D10)-100 -> 60.212458
A11: BAHÍA DE ALGECIRAS | B11: 231931 | C11: 197461 | D11: 680440 | E11: 541165 | F11: =((E11*100)/D11)-100 -> -20.468373
A12: BAHÍA DE CÁDIZ | B12: 0 | C12: 0 | D12: 0 | E12: 0 | F12: =((E12*100)/D12)-100 -> #DIV/0!
A13: BALEARES | B13: 354 | C13: 280 | D13: 840 | E13: 909 | F13: =((E13*100)/D13)-100 -> 8.2142857
A14: BARCELONA | B14: 58490 | C14: 117363 | D14: 150465 | E14: 302504 | F14: =((E14*100)/D14)-100 -> 101.04609
A15: BILBAO | B15: 5312 | C15: 5563 | D15: 14270 | E15: 16262 | F15: =((E15*100)/D15)-100 -> 13.959355
A16: CARTAGENA | B16: 0 | C16: 0 | D16: 0 | E16: 0 | F16: =((E16*100)/D16)-100 -> #DIV/0!
A17: CASTELLÓN | B17: 0 | C17: 0 | D17: 0 | E17: 0 | F17: =((E17*100)/D17)-100 -> #DIV/0!
A18: CEUTA | B18: 45000 | C18: 66339 | D18: 139546 | E18: 183230 | F18: =((E18*100)/D18)-100 -> 31.304373
... A34: VILAGARCÍA | B34: 25 | C34: 32 | D34: 94 | E34: 172 | F34: =((E34*100)/D34)-100 -> 82.978723
A35: Total | B35: =SUM(B7:B34) -> 642547 | C35: =SUM(C7:C34) -> 686287 | D35: =SUM(D7:D34) -> 1821550 | E35: =SUM(E7:E34) -> 1921182 | F35: =((E35*100)/D35)-100 -> 5.4696275
B38: =E6 -> 2018 | C38: =D6 -> 2017 | F38: =B38 -> 2018 | G38: =C38 -> 2017
A39: =A7 -> A CORUÑA | B39: =E7 -> 7279 | C39: =D7 -> 5961 | D39: =_xlfn.RANK.EQ(B39,$B$39:$B$66)+COUNTIF($B$39:$B$66,B39)-1 -> 13 | E39: =INDEX($A$39:$B$66,MATCH(ROW()-38,$D$39:$D$66,0),1) -> LAS PALMAS | F39: =LOOKUP(E39,$A$39:$A$66,$B$39:$B$66) -> 588193 | G39: =LOOKUP(E39,$A$39:$A$66,$C$39:$C$66) -> 552348
A40: =A8 -> ALICANTE | B40: =E8 -> 1578 | C40: =D8 -> 947 | D40: =_xlfn.RANK.EQ(B40,$B$39:$B$66)+COUNTIF($B$39:$B$66,B40)-1 -> 20 | E40: =INDEX($A$39:$B$66,MATCH(ROW()-38,$D$39:$D$66,0),1) -> BAHÍA DE ALGECIRAS | F40: =LOOKUP(E40,$A$39:$A$66,$B$39:$B$66) -> 541165 | G40: =LOOKUP(E40,$A$39:$A$66,$C$39:$C$66) -> 680440
A41: =A9 -> ALMERÍA | B41: =E9 -> 8100 | C41: =D9 -> 6639 | D41: =_xlfn.RANK.EQ(B41,$B$39:$B$66)+COUNTIF($B$39:$B$66,B41)-1 -> 12 | E41: =INDEX($A$39:$B$66,MATCH(ROW()-38,$D$39:$D$66,0),1) -> BARCELONA | F41: =LOOKUP(E41,$A$39:$A$66,$B$39:$B$66) -> 302504 | G41: =LOOKUP(E41,$A$39:$A$66,$C$39:$C$66) -> 150465
A42: =A10 -> AVILÉS | B42: =E10 -> 3318 | C42: =D10 -> 2071 | D42: =_xlfn.RANK.EQ(B42,$B$39:$B$66)+COUNTIF($B$39:$B$66,B42)-1 -> 17 | E42: =INDEX($A$39:$B$66,MATCH(ROW()-38,$D$39:$D$66,0),1) -> CEUTA | F42: =LOOKUP(E42,$A$39:$A$66,$B$39:$B$66) -> 183230 | G42: =LOOKUP(E42,$A$39:$A$66,$C$39:$C$66) -> 139546
A43: =A11 -> BAHÍA DE ALGECIRAS | B43: =E11 -> 541165 | C43: =D11 -> 680440 | D43: =_xlfn.RANK.EQ(B43,$B$39:$B$66)+COUNTIF($B$39:$B$66,B43)-1 -> 2 | E43: =INDEX($A$39:$B$66,MATCH(ROW()-38,$D$39:$D$66,0),1) -> SANTA CRUZ DE TENERIFE | F43: =LOOKUP(E43,$A$39:$A$66,$B$39:$B$66) -> 117699 | G43: =LOOKUP(E43,$A$39:$A$66,$C$39:$C$66) -> 120635
A44: =A12 -> BAHÍA DE CÁDIZ | B44: =E12 -> 0 | C44: =D12 -> 0 | D44: =_xlfn.RANK.EQ(B44,$B$39:$B$66)+COUNTIF($B$39:$B$66,B44)-1 -> 28 | E44: =INDEX($A$39:$B$66,MATCH(ROW()-38,$D$39:$D$66,0),1) -> VALENCIA | F44: =LOOKUP(E44,$A$39:$A$66,$B$39:$B$66) -> 51073 | G44: =LOOKUP(E44,$A$39:$A$66,$C$39:$C$66) -> 50678
A45: =A13 -> BALEARES | B45: =E13 -> 909 | C45: =D13 -> 840 | D45: =_xlfn.RANK.EQ(B45,$B$39:$B$66)+COUNTIF($B$39:$B$66,B45)-1 -> 22 | E45: =INDEX($A$39:$B$66,MATCH(ROW()-38,$D$39:$D$66,0),1) -> HUELVA | F45: =LOOKUP(E45,$A$39:$A$66,$B$39:$B$66) -> 36532 | G45: =LOOKUP(E45,$A$39:$A$66,$C$39:$C$66) -> 33107
A46: =A14 -> BARCELONA | B46: =E14 -> 302504 | C46: =D14 -> 150465 | D46: =_xlfn.RANK.EQ(B46,$B$39:$B$66)+COUNTIF($B$39:$B$66,B46)-1 -> 3 | E46: =INDEX($A$39:$B$66,MATCH(ROW()-38,$D$39:$D$66,0),1) -> VIGO | F46: =LOOKUP(E46,$A$39:$A$66,$B$39:$B$66) -> 19002 | G46: =LOOKUP(E46,$A$39:$A$66,$C$39:$C$66) -> 18342
A47: =A15 -> BILBAO | B47: =E15 -> 16262 | C47: =D15 -> 14270 | D47: =_xlfn.RANK.EQ(B47,$B$39:$B$66)+COUNTIF($B$39:$B$66,B47)-1 -> 9 | E47: =INDEX($A$39:$B$66,MATCH(ROW()-38,$D$39:$D$66,0),1) -> BILBAO | F47: =LOOKUP(E47,$A$39:$A$66,$B$39:$B$66) -> 16262 | G47: =LOOKUP(E47,$A$39:$A$66,$C$39:$C$66) -> 14270
A48: =A16 -> CARTAGENA | B48: =E16 -> 0 | C48: =D16 -> 0 | D48: =_xlfn.RANK.EQ(B48,$B$39:$B$66)+COUNTIF($B$39:$B$66,B48)-1 -> 28 | E48: =INDEX($A$39:$B$66,MATCH(ROW()-38,$D$39:$D$66,0),1) -> GIJÓN | F48: =LOOKUP(E48,$A$39:$A$66,$B$39:$B$66) -> 10708 | G48: =LOOKUP(E48,$A$39:$A$66,$C$39:$C$66) -> 13515
A49: =A17 -> CASTELLÓN | B49: =E17 -> 0 | C49: =D17 -> 0 | D49: =_xlfn.RANK.EQ(B49,$B$39:$B$66)+COUNTIF($B$39:$B$66,B49)-1 -> 28 | E49: =INDEX($A$39:$B$66,MATCH(ROW()-38,$D$39:$D$66,0),1) -> TARRAGONA | F49: =LOOKUP(E49,$A$39:$A$66,$B$39:$B$66) -> 10577 | G49: =LOOKUP(E49,$A$39:$A$66,$C$39:$C$66) -> 4757
A50: =A18 -> CEUTA | B50: =E18 -> 183230 | C50: =D18 -> 139546 | D50: =_xlfn.RANK.EQ(B50,$B$39:$B$66)+COUNTIF($B$39:$B$66,B50)-1 -> 4 | E50: =INDEX($A$39:$B$66,MATCH(ROW()-38,$D$39:$D$66,0),1) -> ALMERÍA | F50: =LOOKUP(E50,$A$39:$A$66,$B$39:$B$66) -> 8100 | G50: =LOOKUP(E50,$A$39:$A$66,$C$39:$C$66) -> 6639
... A66: =A34 -> VILAGARCÍA | B66: =E34 -> 172 | C66: =D34 -> 94 | D66: =_xlfn.RANK.EQ(B66,$B$39:$B$66)+COUNTIF($B$39:$B$66,B66)-1 -> 23 | E66: =INDEX($A$39:$B$66,MATCH(ROW()-38,$D$39:$D$66,0),1) -> BAHÍA DE CÁDIZ | F66: =LOOKUP(E66,$A$39:$A$66,$B$39:$B$66) -> 0 | G66: =LOOKUP(E66,$A$39:$A$66,$C$39:$C$66) -> 0

Sheet Tráfico interior
F1: 7. TRÁFICO INTERIOR (toneladas)
A5: Autoridad Portuaria | B5: ='Resumen general'!D6 -> Mes marzo | D5: ='Resumen general'!F6 -> Acumulado desde enero | L5: ='Resumen general'!I4 -> Fecha: 12/02/2019
B6: ='Resumen general'!D7 -> 2017 | C6: ='Resumen general'!E7 -> 2018 | D6: ='Resumen general'!F7 -> 2017 | E6: ='Resumen general'!G7 -> 2018 | F6: Var. (%)
A7: A CORUÑA | B7: 25449 | C7: 22580 | D7: 68868 | E7: 79320 | F7: =((E7*100)/D7)-100 -> 15.17686
A8: ALICANTE | B8: 0 | C8: 0 | D8: 0 | E8: 0 | F8: =((E8*100)/D8)-100 -> #DIV/0!
A9: ALMERÍA | B9: 0 | C9: 0 | D9: 0 | E9: 0 | F9: =((E9*100)/D9)-100 -> #DIV/0!
A10: AVILÉS | B10: 0 | C10: 0 | D10: 0 | E10: 0 | F10: =((E10*100)/D10)-100 -> #DIV/0!
A11: BAHÍA DE ALGECIRAS | B11: 206592 | C11: 101507 | D11: 628701 | E11: 1438383 | F11: =((E11*100)/D11)-100 -> 128.7865
A12: BAHÍA DE CÁDIZ | B12: 0 | C12: 70 | D12: 0 | E12: 70 | F12: =((E12*100)/D12)-100 -> #DIV/0!
A13: BALEARES | B13: 0 | C13: 83 | D13: 0 | E13: 223 | F13: =((E13*100)/D13)-100 -> #DIV/0!
A14: BARCELONA | B14: 0 | C14: 0 | D14: 0 | E14: 0 | F14: =((E14*100)/D14)-100 -> #DIV/0!
A15: BILBAO | B15: 0 | C15: 0 | D15: 0 | E15: 0 | F15: =((E15*100)/D15)-100 -> #DIV/0!
A16: CARTAGENA | B16: 0 | C16: 0 | D16: 0 | E16: 0 | F16: =((E16*100)/D16)-100 -> #DIV/0!
A17: CASTELLÓN | B17: 0 | C17: 0 | D17: 0 | E17: 0 | F17: =((E17*100)/D17)-100 -> #DIV/0!
A18: CEUTA | B18: 0 | C18: 0 | D18: 0 | E18: 0 | F18: =((E18*100)/D18)-100 -> #DIV/0!
... A34: VILAGARCÍA | B34: 0 | C34: 0 | D34: 0 | E34: 0 | F34: =((E34*100)/D34)-100 -> #DIV/0!
A35: Total | B35: =SUM(B7:B34) -> 233441 | C35: =SUM(C7:C34) -> 126986 | D35: =SUM(D7:D34) -> 704818 | E35: =SUM(E7:E34) -> 1524519 | F35: =((E35*100)/D35)-100 -> 116.29967
A36: Incluye cargas, descargas, tránsitos y transbordos.
B38: =E6 -> 2018 | C38: =D6 -> 2017 | F38: =B38 -> 2018 | G38: =C38 -> 2017
A39: =A7 -> A CORUÑA | B39: =E7 -> 79320 | C39: =D7 -> 68868 | D39: =_xlfn.RANK.EQ(B39,$B$39:$B$66)+COUNTIF($B$39:$B$66,B39)-1 -> 2 | E39: =INDEX($A$39:$B$66,MATCH(ROW()-38,$D$39:$D$66,0),1) -> BAHÍA DE ALGECIRAS | F39: =LOOKUP(E39,$A$39:$A$66,$B$39:$B$66) -> 1438383 | G39: =LOOKUP(E39,$A$39:$A$66,$C$39:$C$66) -> 628701
A40: =A8 -> ALICANTE | B40: =E8 -> 0 | C40: =D8 -> 0 | D40: =_xlfn.RANK.EQ(B40,$B$39:$B$66)+COUNTIF($B$39:$B$66,B40)-1 -> 28 | E40: =INDEX($A$39:$B$66,MATCH(ROW()-38,$D$39:$D$66,0),1) -> A CORUÑA | F40: =LOOKUP(E40,$A$39:$A$66,$B$39:$B$66) -> 79320 | G40: =LOOKUP(E40,$A$39:$A$66,$C$39:$C$66) -> 68868
A41: =A9 -> ALMERÍA | B41: =E9 -> 0 | C41: =D9 -> 0 | D41: =_xlfn.RANK.EQ(B41,$B$39:$B$66)+COUNTIF($B$39:$B$66,B41)-1 -> 28 | E41: =INDEX($A$39:$B$66,MATCH(ROW()-38,$D$39:$D$66,0),1) -> FERROL-SAN CIBRAO | F41: =LOOKUP(E41,$A$39:$A$66,$B$39:$B$66) -> 2947 | G41: =LOOKUP(E41,$A$39:$A$66,$C$39:$C$66) -> 60
A42: =A10 -> AVILÉS | B42: =E10 -> 0 | C42: =D10 -> 0 | D42: =_xlfn.RANK.EQ(B42,$B$39:$B$66)+COUNTIF($B$39:$B$66,B42)-1 -> 28 | E42: =INDEX($A$39:$B$66,MATCH(ROW()-38,$D$39:$D$66,0),1) -> TARRAGONA | F42: =LOOKUP(E42,$A$39:$A$66,$B$39:$B$66) -> 2718 | G42: =LOOKUP(E42,$A$39:$A$66,$C$39:$C$66) -> 0
A43: =A11 -> BAHÍA DE ALGECIRAS | B43: =E11 -> 1438383 | C43: =D11 -> 628701 | D43: =_xlfn.RANK.EQ(B43,$B$39:$B$66)+COUNTIF($B$39:$B$66,B43)-1 -> 1 | E43: =INDEX($A$39:$B$66,MATCH(ROW()-38,$D$39:$D$66,0),1) -> GIJÓN | F43: =LOOKUP(E43,$A$39:$A$66,$B$39:$B$66) -> 800 | G43: =LOOKUP(E43,$A$39:$A$66,$C$39:$C$66) -> 0
A44: =A12 -> BAHÍA DE CÁDIZ | B44: =E12 -> 70 | C44: =D12 -> 0 | D44: =_xlfn.RANK.EQ(B44,$B$39:$B$66)+COUNTIF($B$39:$B$66,B44)-1 -> 7 | E44: =INDEX($A$39:$B$66,MATCH(ROW()-38,$D$39:$D$66,0),1) -> BALEARES | F44: =LOOKUP(E44,$A$39:$A$66,$B$39:$B$66) -> 223 | G44: =LOOKUP(E44,$A$39:$A$66,$C$39:$C$66) -> 0
A45: =A13 -> BALEARES | B45: =E13 -> 223 | C45: =D13 -> 0 | D45: =_xlfn.RANK.EQ(B45,$B$39:$B$66)+COUNTIF($B$39:$B$66,B45)-1 -> 6 | E45: =INDEX($A$39:$B$66,MATCH(ROW()-38,$D$39:$D$66,0),1) -> BAHÍA DE CÁDIZ | F45: =LOOKUP(E45,$A$39:$A$66,$B$39:$B$66) -> 70 | G45: =LOOKUP(E45,$A$39:$A$66,$C$39:$C$66) -> 0
A46: =A14 -> BARCELONA | B46: =E14 -> 0 | C46: =D14 -> 0 | D46: =_xlfn.RANK.EQ(B46,$B$39:$B$66)+COUNTIF($B$39:$B$66,B46)-1 -> 28 | E46: =INDEX($A$39:$B$66,MATCH(ROW()-38,$D$39:$D$66,0),1) -> SANTA CRUZ DE TENERIFE | F46: =LOOKUP(E46,$A$39:$A$66,$B$39:$B$66) -> 58 | G46: =LOOKUP(E46,$A$39:$A$66,$C$39:$C$66) -> 313
A47: =A15 -> BILBAO | B47: =E15 -> 0 | C47: =D15 -> 0 | D47: =_xlfn.RANK.EQ(B47,$B$39:$B$66)+COUNTIF($B$39:$B$66,B47)-1 -> 28 | E47: MOTRIL | F47: =LOOKUP(E47,$A$39:$A$66,$B$39:$B$66)+0.1 -> 0.1 | G47: =LOOKUP(E47,$A$39:$A$66,$C$39:$C$66) -> 0
A48: =A16 -> CARTAGENA | B48: =E16 -> 0 | C48: =D16 -> 0 | D48: =_xlfn.RANK.EQ(B48,$B$39:$B$66)+COUNTIF($B$39:$B$66,B48)-1 -> 28 | E48: MELILLA | F48: =LOOKUP(E48,$A$39:$A$66,$B$39:$B$66) -> 0 | G48: =LOOKUP(E48,$A$39:$A$66,$C$39:$C$66) -> 0
A49: =A17 -> CASTELLÓN | B49: =E17 -> 0 | C49: =D17 -> 0 | D49: =_xlfn.RANK.EQ(B49,$B$39:$B$66)+COUNTIF($B$39:$B$66,B49)-1 -> 28 | E49: =INDEX($A$39:$B$66,MATCH(ROW()-38,$D$39:$D$66,0),1) -> #N/A | F49: =LOOKUP(E49,$A$39:$A$66,$B$39:$B$66) -> #N/A | G49: =LOOKUP(E49,$A$39:$A$66,$C$39:$C$66) -> #N/A
A50: =A18 -> CEUTA | B50: =E18 -> 0 | C50: =D18 -> 0 | D50: =_xlfn.RANK.EQ(B50,$B$39:$B$66)+COUNTIF($B$39:$B$66,B50)-1 -> 28 | E50: =INDEX($A$39:$B$66,MATCH(ROW()-38,$D$39:$D$66,0),1) -> #N/A | F50: =LOOKUP(E50,$A$39:$A$66,$B$39:$B$66) -> #N/A | G50: =LOOKUP(E50,$A$39:$A$66,$C$39:$C$66) -> #N/A
A51: =A19 -> FERROL-SAN CIBRAO | B51: =E19 -> 2947 | C51: =D19 -> 60 | D51: =_xlfn.RANK.EQ(B51,$B$39:$B$66)+COUNTIF($B$39:$B$66,B51)-1 -> 3 | E51: =INDEX($A$39:$B$66,MATCH(ROW()-38,$D$39:$D$66,0),1) -> #N/A | F51: =LOOKUP(E51,$A$39:$A$66,$B$39:$B$66) -> #N/A | G51: =LOOKUP(E51,$A$39:$A$66,$C$39:$C$66) -> #N/A
A52: =A20 -> GIJÓN | B52: =E20 -> 800 | C52: =D20 -> 0 | D52: =_xlfn.RANK.EQ(B52,$B$39:$B$66)+COUNTIF($B$39:$B$66,B52)-1 -> 5 | E52: =INDEX($A$39:$B$66,MATCH(ROW()-38,$D$39:$D$66,0),1) -> #N/A | F52: =LOOKUP(E52,$A$39:$A$66,$B$39:$B$66) -> #N/A | G52: =LOOKUP(E52,$A$39:$A$66,$C$39:$C$66) -> #N/A
A53: =A21 -> HUELVA | B53: =E21 -> 0 | C53: =D21 -> 5616 | D53: =_xlfn.RANK.EQ(B53,$B$39:$B$66)+COUNTIF($B$39:$B$66,B53)-1 -> 28 | E53: =INDEX($A$39:$B$66,MATCH(ROW()-38,$D$39:$D$66,0),1) -> #N/A | F53: =LOOKUP(E53,$A$39:$A$66,$B$39:$B$66) -> #N/A | G53: =LOOKUP(E53,$A$39:$A$66,$C$39:$C$66) -> #N/A
A54: =A22 -> LAS PALMAS | B54: =E22 -> 0 | C54: =D22 -> 0 | D54: =_xlfn.RANK.EQ(B54,$B$39:$B$66)+COUNTIF($B$39:$B$66,B54)-1 -> 28 | E54: =INDEX($A$39:$B$66,MATCH(ROW()-38,$D$39:$D$66,0),1) -> #N/A | F54: =LOOKUP(E54,$A$39:$A$66,$B$39:$B$66) -> #N/A | G54: =LOOKUP(E54,$A$39:$A$66,$C$39:$C$66) -> #N/A
A55: =A23 -> MÁLAGA | B55: =E23 -> 0 | C55: =D23 -> 0 | D55: =_xlfn.RANK.EQ(B55,$B$39:$B$66)+COUNTIF($B$39:$B$66,B55)-1 -> 28 | E55: =INDEX($A$39:$B$66,MATCH(ROW()-38,$D$39:$D$66,0),1) -> #N/A | F55: =LOOKUP(E55,$A$39:$A$66,$B$39:$B$66) -> #N/A | G55: =LOOKUP(E55,$A$39:$A$66,$C$39:$C$66) -> #N/A
A56: =A24 -> MARÍN Y RÍA DE PONTEVEDRA | B56: =E24 -> 0 | C56: =D24 -> 0 | D56: =_xlfn.RANK.EQ(B56,$B$39:$B$66)+COUNTIF($B$39:$B$66,B56)-1 -> 28 | E56: =INDEX($A$39:$B$66,MATCH(ROW()-38,$D$39:$D$66,0),1) -> #N/A | F56: =LOOKUP(E56,$A$39:$A$66,$B$39:$B$66) -> #N/A | G56: =LOOKUP(E56,$A$39:$A$66,$C$39:$C$66) -> #N/A
A57: =A25 -> MELILLA | B57: =E25 -> 0 | C57: =D25 -> 0 | D57: =_xlfn.RANK.EQ(B57,$B$39:$B$66)+COUNTIF($B$39:$B$66,B57)-1 -> 28 | E57: =INDEX($A$39:$B$66,MATCH(ROW()-38,$D$39:$D$66,0),1) -> #N/A | F57: =LOOKUP(E57,$A$39:$A$66,$B$39:$B$66) -> #N/A | G57: =LOOKUP(E57,$A$39:$A$66,$C$39:$C$66) -> #N/A
A58: =A26 -> MOTRIL | B58: =E26 -> 0 | C58: =D26 -> 0 | D58: =_xlfn.RANK.EQ(B58,$B$39:$B$66)+COUNTIF($B$39:$B$66,B58)-1 -> 28 | E58: =INDEX($A$39:$B$66,MATCH(ROW()-38,$D$39:$D$66,0),1) -> #N/A | F58: =LOOKUP(E58,$A$39:$A$66,$B$39:$B$66) -> #N/A | G58: =LOOKUP(E58,$A$39:$A$66,$C$39:$C$66) -> #N/A
A59: =A27 -> PASAIA | B59: =E27 -> 0 | C59: =D27 -> 0 | D59: =_xlfn.RANK.EQ(B59,$B$39:$B$66)+COUNTIF($B$39:$B$66,B59)-1 -> 28 | E59: =INDEX($A$39:$B$66,MATCH(ROW()-38,$D$39:$D$66,0),1) -> #N/A | F59: =LOOKUP(E59,$A$39:$A$66,$B$39:$B$66) -> #N/A | G59: =LOOKUP(E59,$A$39:$A$66,$C$39:$C$66) -> #N/A
A60: =A28 -> SANTA CRUZ DE TENERIFE | B60: =E28 -> 58 | C60: =D28 -> 313 | D60: =_xlfn.RANK.EQ(B60,$B$39:$B$66)+COUNTIF($B$39:$B$66,B60)-1 -> 8 | E60: =INDEX($A$39:$B$66,MATCH(ROW()-38,$D$39:$D$66,0),1) -> #N/A | F60: =LOOKUP(E60,$A$39:$A$66,$B$39:$B$66) -> #N/A | G60: =LOOKUP(E60,$A$39:$A$66,$C$39:$C$66) -> #N/A
... A66: =A34 -> VILAGARCÍA | B66: =E34 -> 0 | C66: =D34 -> 0 | D66: =_xlfn.RANK.EQ(B66,$B$39:$B$66)+COUNTIF($B$39:$B$66,B66)-1 -> 28 | E66: =INDEX($A$39:$B$66,MATCH(ROW()-38,$D$39:$D$66,0),1) -> ALICANTE | F66: =LOOKUP(E66,$A$39:$A$66,$B$39:$B$66) -> 0 | G66: =LOOKUP(E66,$A$39:$A$66,$C$39:$C$66) -> 0

Sheet Mercancías tránsito
F1: 8. MERCANCÍAS EN TRÁNSITO (toneladas)
A5: Autoridad Portuaria | B5: ='Resumen general'!D6 -> Mes marzo | D5: ='Resumen general'!F6 -> Acumulado desde enero | L5: ='Resumen general'!I4 -> Fecha: 12/02/2019
B6: ='Resumen general'!D7 -> 2017 | C6: ='Resumen general'!E7 -> 2018 | D6: ='Resumen general'!F7 -> 2017 | E6: ='Resumen general'!G7 -> 2018 | F6: Var. (%)
A7: A CORUÑA | B7: 0 | C7: 4492 | D7: 0 | E7: 4492 | F7: =((E7*100)/D7)-100 -> #DIV/0!
A8: ALICANTE | B8: 6455 | C8: 811 | D8: 11991 | E8: 6378 | F8: =((E8*100)/D8)-100 -> -46.810108
A9: ALMERÍA | B9: 0 | C9: 0 | D9: 190 | E9: 0 | F9: =((E9*100)/D9)-100 -> -100
A10: AVILÉS | B10: 7150 | C10: 0 | D10: 7150 | E10: 11500 | F10: =((E10*100)/D10)-100 -> 60.839161
A11: BAHÍA DE ALGECIRAS | B11: 4794425 | C11: 5924262 | D11: 14694052 | E11: 17225419 | F11: =((E11*100)/D11)-100 -> 17.227154
A12: BAHÍA DE CÁDIZ | B12: 46375 | C12: 230 | D12: 140256 | E12: 50500 | F12: =((E12*100)/D12)-100 -> -63.99441
A13: BALEARES | B13: 1220 | C13: 210 | D13: 1312 | E13: 2363 | F13: =((E13*100)/D13)-100 -> 80.106707
A14: BARCELONA | B14: 1736010 | C14: 1964007 | D14: 4133565 | E14: 5459597 | F14: =((E14*100)/D14)-100 -> 32.079621
A15: BILBAO | B15: 11224 | C15: 1007 | D15: 17753 | E15: 3952 | F15: =((E15*100)/D15)-100 -> -77.738974
A16: CARTAGENA | B16: 0 | C16: 156 | D16: 0 | E16: 180 | F16: =((E16*100)/D16)-100 -> #DIV/0!
A17: CASTELLÓN | B17: 32006 | C17: 12770 | D17: 140140 | E17: 26604 | F17: =((E17*100)/D17)-100 -> -81.016127
A18: CEUTA | B18: 0 | C18: 914 | D18: 0 | E18: 1663 | F18: =((E18*100)/D18)-100 -> #DIV/0!
... A34: VILAGARCÍA | B34: 0 | C34: 55 | D34: 0 | E34: 55 | F34: =((E34*100)/D34)-100 -> #DIV/0!
A35: Total | B35: =SUM(B7:B34) -> 10986878 | C35: =SUM(C7:C34) -> 12988466 | D35: =SUM(D7:D34) -> 30835591 | E35: =SUM(E7:E34) -> 35365235 | F35: =((E35*100)/D35)-100 -> 14.689662
A36: No incluye transbordos.
B38: =E6 -> 2018 | C38: =D6 -> 2017 | F38: =B38 -> 2018 | G38: =C38 -> 2017
A39: =A7 -> A CORUÑA | B39: =E7 -> 4492 | C39: =D7 -> 0 | D39: =_xlfn.RANK.EQ(B39,$B$39:$B$66)+COUNTIF($B$39:$B$66,B39)-1 -> 17 | E39: =INDEX($A$39:$B$66,MATCH(ROW()-38,$D$39:$D$66,0),1) -> BAHÍA DE ALGECIRAS | F39: =LOOKUP(E39,$A$39:$A$66,$B$39:$B$66) -> 17225419 | G39: =LOOKUP(E39,$A$39:$A$66,$C$39:$C$66) -> 14694052
A40: =A8 -> ALICANTE | B40: =E8 -> 6378 | C40: =D8 -> 11991 | D40: =_xlfn.RANK.EQ(B40,$B$39:$B$66)+COUNTIF($B$39:$B$66,B40)-1 -> 16 | E40: =INDEX($A$39:$B$66,MATCH(ROW()-38,$D$39:$D$66,0),1) -> VALENCIA | F40: =LOOKUP(E40,$A$39:$A$66,$B$39:$B$66) -> 8158815 | G40: =LOOKUP(E40,$A$39:$A$66,$C$39:$C$66) -> 7879355
A41: =A9 -> ALMERÍA | B41: =E9 -> 0 | C41: =D9 -> 190 | D41: =_xlfn.RANK.EQ(B41,$B$39:$B$66)+COUNTIF($B$39:$B$66,B41)-1 -> 28 | E41: =INDEX($A$39:$B$66,MATCH(ROW()-38,$D$39:$D$66,0),1) -> BARCELONA | F41: =LOOKUP(E41,$A$39:$A$66,$B$39:$B$66) -> 5459597 | G41: =LOOKUP(E41,$A$39:$A$66,$C$39:$C$66) -> 4133565
A42: =A10 -> AVILÉS | B42: =E10 -> 11500 | C42: =D10 -> 7150 | D42: =_xlfn.RANK.EQ(B42,$B$39:$B$66)+COUNTIF($B$39:$B$66,B42)-1 -> 15 | E42: =INDEX($A$39:$B$66,MATCH(ROW()-38,$D$39:$D$66,0),1) -> LAS PALMAS | F42: =LOOKUP(E42,$A$39:$A$66,$B$39:$B$66) -> 2487267 | G42: =LOOKUP(E42,$A$39:$A$66,$C$39:$C$66) -> 2229905
A43: =A11 -> BAHÍA DE ALGECIRAS | B43: =E11 -> 17225419 | C43: =D11 -> 14694052 | D43: =_xlfn.RANK.EQ(B43,$B$39:$B$66)+COUNTIF($B$39:$B$66,B43)-1 -> 1 | E43: =INDEX($A$39:$B$66,MATCH(ROW()-38,$D$39:$D$66,0),1) -> HUELVA | F43: =LOOKUP(E43,$A$39:$A$66,$B$39:$B$66) -> 970010 | G43: =LOOKUP(E43,$A$39:$A$66,$C$39:$C$66) -> 764775
A44: =A12 -> BAHÍA DE CÁDIZ | B44: =E12 -> 50500 | C44: =D12 -> 140256 | D44: =_xlfn.RANK.EQ(B44,$B$39:$B$66)+COUNTIF($B$39:$B$66,B44)-1 -> 10 | E44: =INDEX($A$39:$B$66,MATCH(ROW()-38,$D$39:$D$66,0),1) -> TARRAGONA | F44: =LOOKUP(E44,$A$39:$A$66,$B$39:$B$66) -> 575737 | G44: =LOOKUP(E44,$A$39:$A$66,$C$39:$C$66) -> 598309
A45: =A13 -> BALEARES | B45: =E13 -> 2363 | C45: =D13 -> 1312 | D45: =_xlfn.RANK.EQ(B45,$B$39:$B$66)+COUNTIF($B$39:$B$66,B45)-1 -> 19 | E45: =INDEX($A$39:$B$66,MATCH(ROW()-38,$D$39:$D$66,0),1) -> SANTA CRUZ DE TENERIFE | F45: =LOOKUP(E45,$A$39:$A$66,$B$39:$B$66) -> 179681 | G45: =LOOKUP(E45,$A$39:$A$66,$C$39:$C$66) -> 14644
A46: =A14 -> BARCELONA | B46: =E14 -> 5459597 | C46: =D14 -> 4133565 | D46: =_xlfn.RANK.EQ(B46,$B$39:$B$66)+COUNTIF($B$39:$B$66,B46)-1 -> 3 | E46: =INDEX($A$39:$B$66,MATCH(ROW()-38,$D$39:$D$66,0),1) -> MÁLAGA | F46: =LOOKUP(E46,$A$39:$A$66,$B$39:$B$66) -> 67503 | G46: =LOOKUP(E46,$A$39:$A$66,$C$39:$C$66) -> 79248
A47: =A15 -> BILBAO | B47: =E15 -> 3952 | C47: =D15 -> 17753 | D47: =_xlfn.RANK.EQ(B47,$B$39:$B$66)+COUNTIF($B$39:$B$66,B47)-1 -> 18 | E47: =INDEX($A$39:$B$66,MATCH(ROW()-38,$D$39:$D$66,0),1) -> VIGO | F47: =LOOKUP(E47,$A$39:$A$66,$B$39:$B$66) -> 53963 | G47: =LOOKUP(E47,$A$39:$A$66,$C$39:$C$66) -> 81014
A48: =A16 -> CARTAGENA | B48: =E16 -> 180 | C48: =D16 -> 0 | D48: =_xlfn.RANK.EQ(B48,$B$39:$B$66)+COUNTIF($B$39:$B$66,B48)-1 -> 24 | E48: =INDEX($A$39:$B$66,MATCH(ROW()-38,$D$39:$D$66,0),1) -> BAHÍA DE CÁDIZ | F48: =LOOKUP(E48,$A$39:$A$66,$B$39:$B$66) -> 50500 | G48: =LOOKUP(E48,$A$39:$A$66,$C$39:$C$66) -> 140256
A49: =A17 -> CASTELLÓN | B49: =E17 -> 26604 | C49: =D17 -> 140140 | D49: =_xlfn.RANK.EQ(B49,$B$39:$B$66)+COUNTIF($B$39:$B$66,B49)-1 -> 12 | E49: =INDEX($A$39:$B$66,MATCH(ROW()-38,$D$39:$D$66,0),1) -> GIJÓN | F49: =LOOKUP(E49,$A$39:$A$66,$B$39:$B$66) -> 32285 | G49: =LOOKUP(E49,$A$39:$A$66,$C$39:$C$66) -> 32012
A50: =A18 -> CEUTA | B50: =E18 -> 1663 | C50: =D18 -> 0 | D50: =_xlfn.RANK.EQ(B50,$B$39:$B$66)+COUNTIF($B$39:$B$66,B50)-1 -> 21 | E50: =INDEX($A$39:$B$66,MATCH(ROW()-38,$D$39:$D$66,0),1) -> CASTELLÓN | F50: =LOOKUP(E50,$A$39:$A$66,$B$39:$B$66) -> 26604 | G50: =LOOKUP(E50,$A$39:$A$66,$C$39:$C$66) -> 140140
... A66: =A34 -> VILAGARCÍA | B66: =E34 -> 55 | C66: =D34 -> 0 | D66: =_xlfn.RANK.EQ(B66,$B$39:$B$66)+COUNTIF($B$39:$B$66,B66)-1 -> 25 | E66: =INDEX($A$39:$B$66,MATCH(ROW()-38,$D$39:$D$66,0),1) -> ALMERÍA | F66: =LOOKUP(E66,$A$39:$A$66,$B$39:$B$66) -> 0 | G66: =LOOKUP(E66,$A$39:$A$66,$C$39:$C$66) -> 190

Sheet Mercan. contene. tránsito
F1: 8.1. MERCANCÍAS EN CONTENEDORES EN TRÁNSITO (toneladas)
A5: Autoridad Portuaria | B5: ='Resumen general'!D6 -> Mes marzo | D5: ='Resumen general'!F6 -> Acumulado desde enero | L5: ='Resumen general'!I4 -> Fecha: 12/02/2019
B6: ='Resumen general'!D7 -> 2017 | C6: ='Resumen general'!E7 -> 2018 | D6: ='Resumen general'!F7 -> 2017 | E6: ='Resumen general'!G7 -> 2018 | F6: Var. (%)
A7: A CORUÑA | B7: 0 | C7: 0 | D7: 0 | E7: 0 | F7: =((E7*100)/D7)-100 -> #DIV/0!
A8: ALICANTE | B8: 6455 | C8: 811 | D8: 11991 | E8: 6378 | F8: =((E8*100)/D8)-100 -> -46.810108
A9: ALMERÍA | B9: 0 | C9: 0 | D9: 150 | E9: 0 | F9: =((E9*100)/D9)-100 -> -100
A10: AVILÉS | B10: 0 | C10: 0 | D10: 0 | E10: 0 | F10: =((E10*100)/D10)-100 -> #DIV/0!
A11: BAHÍA DE ALGECIRAS | B11: 3813004 | C11: 4690819 | D11: 11668973 | E11: 13535624 | F11: =((E11*100)/D11)-100 -> 15.996703
A12: BAHÍA DE CÁDIZ | B12: 7 | C12: 0 | D12: 7 | E12: 6563 | F12: =((E12*100)/D12)-100 -> 93657.143
A13: BALEARES | B13: 60 | C13: 24 | D13: 64 | E13: 28 | F13: =((E13*100)/D13)-100 -> -56.25
A14: BARCELONA | B14: 1009092 | C14: 1357340 | D14: 2543207 | E14: 3806218 | F14: =((E14*100)/D14)-100 -> 49.662139
A15: BILBAO | B15: 11224 | C15: 909 | D15: 17753 | E15: 3854 | F15: =((E15*100)/D15)-100 -> -78.290993
A16: CARTAGENA | B16: 0 | C16: 156 | D16: 0 | E16: 179 | F16: =((E16*100)/D16)-100 -> #DIV/0!
A17: CASTELLÓN | B17: 31970 | C17: 12767 | D17: 134589 | E17: 26601 | F17: =((E17*100)/D17)-100 -> -80.235383
A18: CEUTA | B18: 0 | C18: 682 | D18: 0 | E18: 1243 | F18: =((E18*100)/D18)-100 -> #DIV/0!
... A34: VILAGARCÍA | B34: 0 | C34: 55 | D34: 0 | E34: 55 | F34: =((E34*100)/D34)-100 -> #DIV/0!
A35: Total | B35: =SUM(B7:B34) -> 8499872 | C35: =SUM(C7:C34) -> 10084236 | D35: =SUM(D7:D34) -> 24017889 | E35: =SUM(E7:E34) -> 27586704 | F35: =((E35*100)/D35)-100 -> 14.858987
A36: No incluye transbordos.
B38: =E6 -> 2018 | C38: =D6 -> 2017 | F38: =B38 -> 2018 | G38: =C38 -> 2017
A39: =A7 -> A CORUÑA | B39: =E7 -> 0 | C39: =D7 -> 0 | D39: =_xlfn.RANK.EQ(B39,$B$39:$B$66)+COUNTIF($B$39:$B$66,B39)-1 -> 28 | E39: =INDEX($A$39:$B$66,MATCH(ROW()-38,$D$39:$D$66,0),1) -> BAHÍA DE ALGECIRAS | F39: =LOOKUP(E39,$A$39:$A$66,$B$39:$B$66) -> 13535624 | G39: =LOOKUP(E39,$A$39:$A$66,$C$39:$C$66) -> 11668973
A40: =A8 -> ALICANTE | B40: =E8 -> 6378 | C40: =D8 -> 11991 | D40: =_xlfn.RANK.EQ(B40,$B$39:$B$66)+COUNTIF($B$39:$B$66,B40)-1 -> 12 | E40: =INDEX($A$39:$B$66,MATCH(ROW()-38,$D$39:$D$66,0),1) -> VALENCIA | F40: =LOOKUP(E40,$A$39:$A$66,$B$39:$B$66) -> 7908004 | G40: =LOOKUP(E40,$A$39:$A$66,$C$39:$C$66) -> 7767921
A41: =A9 -> ALMERÍA | B41: =E9 -> 0 | C41: =D9 -> 150 | D41: =_xlfn.RANK.EQ(B41,$B$39:$B$66)+COUNTIF($B$39:$B$66,B41)-1 -> 28 | E41: =INDEX($A$39:$B$66,MATCH(ROW()-38,$D$39:$D$66,0),1) -> BARCELONA | F41: =LOOKUP(E41,$A$39:$A$66,$B$39:$B$66) -> 3806218 | G41: =LOOKUP(E41,$A$39:$A$66,$C$39:$C$66) -> 2543207
A42: =A10 -> AVILÉS | B42: =E10 -> 0 | C42: =D10 -> 0 | D42: =_xlfn.RANK.EQ(B42,$B$39:$B$66)+COUNTIF($B$39:$B$66,B42)-1 -> 28 | E42: =INDEX($A$39:$B$66,MATCH(ROW()-38,$D$39:$D$66,0),1) -> LAS PALMAS | F42: =LOOKUP(E42,$A$39:$A$66,$B$39:$B$66) -> 1974547 | G42: =LOOKUP(E42,$A$39:$A$66,$C$39:$C$66) -> 1688969
A43: =A11 -> BAHÍA DE ALGECIRAS | B43: =E11 -> 13535624 | C43: =D11 -> 11668973 | D43: =_xlfn.RANK.EQ(B43,$B$39:$B$66)+COUNTIF($B$39:$B$66,B43)-1 -> 1 | E43: =INDEX($A$39:$B$66,MATCH(ROW()-38,$D$39:$D$66,0),1) -> SANTA CRUZ DE TENERIFE | F43: =LOOKUP(E43,$A$39:$A$66,$B$39:$B$66) -> 177068 | G43: =LOOKUP(E43,$A$39:$A$66,$C$39:$C$66) -> 13130
A44: =A12 -> BAHÍA DE CÁDIZ | B44: =E12 -> 6563 | C44: =D12 -> 7 | D44: =_xlfn.RANK.EQ(B44,$B$39:$B$66)+COUNTIF($B$39:$B$66,B44)-1 -> 11 | E44: =INDEX($A$39:$B$66,MATCH(ROW()-38,$D$39:$D$66,0),1) -> MÁLAGA | F44: =LOOKUP(E44,$A$39:$A$66,$B$39:$B$66) -> 61153 | G44: =LOOKUP(E44,$A$39:$A$66,$C$39:$C$66) -> 76296
A45: =A13 -> BALEARES | B45: =E13 -> 28 | C45: =D13 -> 64 | D45: =_xlfn.RANK.EQ(B45,$B$39:$B$66)+COUNTIF($B$39:$B$66,B45)-1 -> 19 | E45: =INDEX($A$39:$B$66,MATCH(ROW()-38,$D$39:$D$66,0),1) -> VIGO | F45: =LOOKUP(E45,$A$39:$A$66,$B$39:$B$66) -> 37668 | G45: =LOOKUP(E45,$A$39:$A$66,$C$39:$C$66) -> 63688
A46: =A14 -> BARCELONA | B46: =E14 -> 3806218 | C46: =D14 -> 2543207 | D46: =_xlfn.RANK.EQ(B46,$B$39:$B$66)+COUNTIF($B$39:$B$66,B46)-1 -> 3 | E46: =INDEX($A$39:$B$66,MATCH(ROW()-38,$D$39:$D$66,0),1) -> CASTELLÓN | F46: =LOOKUP(E46,$A$39:$A$66,$B$39:$B$66) -> 26601 | G46: =LOOKUP(E46,$A$39:$A$66,$C$39:$C$66) -> 134589
A47: =A15 -> BILBAO | B47: =E15 -> 3854 | C47: =D15 -> 17753 | D47: =_xlfn.RANK.EQ(B47,$B$39:$B$66)+COUNTIF($B$39:$B$66,B47)-1 -> 13 | E47: =INDEX($A$39:$B$66,MATCH(ROW()-38,$D$39:$D$66,0),1) -> MARÍN Y RÍA DE PONTEVEDRA | F47: =LOOKUP(E47,$A$39:$A$66,$B$39:$B$66) -> 26206 | G47: =LOOKUP(E47,$A$39:$A$66,$C$39:$C$66) -> 9128
A48: =A16 -> CARTAGENA | B48: =E16 -> 179 | C48: =D16 -> 0 | D48: =_xlfn.RANK.EQ(B48,$B$39:$B$66)+COUNTIF($B$39:$B$66,B48)-1 -> 17 | E48: =INDEX($A$39:$B$66,MATCH(ROW()-38,$D$39:$D$66,0),1) -> HUELVA | F48: =LOOKUP(E48,$A$39:$A$66,$B$39:$B$66) -> 14923 | G48: =LOOKUP(E48,$A$39:$A$66,$C$39:$C$66) -> 39
A49: =A17 -> CASTELLÓN | B49: =E17 -> 26601 | C49: =D17 -> 134589 | D49: =_xlfn.RANK.EQ(B49,$B$39:$B$66)+COUNTIF($B$39:$B$66,B49)-1 -> 8 | E49: =INDEX($A$39:$B$66,MATCH(ROW()-38,$D$39:$D$66,0),1) -> BAHÍA DE CÁDIZ | F49: =LOOKUP(E49,$A$39:$A$66,$B$39:$B$66) -> 6563 | G49: =LOOKUP(E49,$A$39:$A$66,$C$39:$C$66) -> 7
A50: =A18 -> CEUTA | B50: =E18 -> 1243 | C50: =D18 -> 0 | D50: =_xlfn.RANK.EQ(B50,$B$39:$B$66)+COUNTIF($B$39:$B$66,B50)-1 -> 14 | E50: =INDEX($A$39:$B$66,MATCH(ROW()-38,$D$39:$D$66,0),1) -> ALICANTE | F50: =LOOKUP(E50,$A$39:$A$66,$B$39:$B$66) -> 6378 | G50: =LOOKUP(E50,$A$39:$A$66,$C$39:$C$66) -> 11991
... A66: =A34 -> VILAGARCÍA | B66: =E34 -> 55 | C66: =D34 -> 0 | D66: =_xlfn.RANK.EQ(B66,$B$39:$B$66)+COUNTIF($B$39:$B$66,B66)-1 -> 18 | E66: =INDEX($A$39:$B$66,MATCH(ROW()-38,$D$39:$D$66,0),1) -> A CORUÑA | F66: =LOOKUP(E66,$A$39:$A$66,$B$39:$B$66) -> 0 | G66: =LOOKUP(E66,$A$39:$A$66,$C$39:$C$66) -> 0

Sheet Ro-Ro
F1: 9. TRÁFICO RO-RO (toneladas)
A5: Autoridad Portuaria | B5: ='Resumen general'!D6 -> Mes marzo | D5: ='Resumen general'!F6 -> Acumulado desde enero | L5: ='Resumen general'!I4 -> Fecha: 12/02/2019
B6: ='Resumen general'!D7 -> 2017 | C6: ='Resumen general'!E7 -> 2018 | D6: ='Resumen general'!F7 -> 2017 | E6: ='Resumen general'!G7 -> 2018 | F6: Var. (%)
A7: A CORUÑA | B7: 0 | C7: 0 | D7: 0 | E7: 0 | F7: =((E7*100)/D7)-100 -> #DIV/0!
A8: ALICANTE | B8: 13339 | C8: 1534 | D8: 33413 | E8: 15593 | F8: =((E8*100)/D8)-100 -> -53.332535
A9: ALMERÍA | B9: 38453 | C9: 29040 | D9: 98886 | E9: 79882 | F9: =((E9*100)/D9)-100 -> -19.21809
A10: AVILÉS | B10: 0 | C10: 0 | D10: 0 | E10: 0 | F10: =((E10*100)/D10)-100 -> #DIV/0!
A11: BAHÍA DE ALGECIRAS | B11: 820320 | C11: 832204 | D11: 2195747 | E11: 2243000 | F11: =((E11*100)/D11)-100 -> 2.1520239
A12: BAHÍA DE CÁDIZ | B12: 94833 | C12: 97376 | D12: 250179 | E12: 276977 | F12: =((E12*100)/D12)-100 -> 10.711531
A13: BALEARES | B13: 1120893 | C13: 1080512 | D13: 2713924 | E13: 2817960 | F13: =((E13*100)/D13)-100 -> 3.8334161
A14: BARCELONA | B14: 953412 | C14: 962828 | D14: 2410215 | E14: 2572412 | F14: =((E14*100)/D14)-100 -> 6.7295656
A15: BILBAO | B15: 63292 | C15: 66116 | D15: 168996 | E15: 173758 | F15: =((E15*100)/D15)-100 -> 2.8178182
A16: CARTAGENA | B16: 0 | C16: 170 | D16: 0 | E16: 1831 | F16: =((E16*100)/D16)-100 -> #DIV/0!
A17: CASTELLÓN | B17: 57871 | C17: 30875 | D17: 146692 | E17: 117633 | F17: =((E17*100)/D17)-100 -> -19.809533
A18: CEUTA | B18: 99157 | C18: 60047 | D18: 262797 | E18: 174792 | F18: =((E18*100)/D18)-100 -> -33.487825
... A34: VILAGARCÍA | B34: 0 | C34: 0 | D34: 0 | E34: 0 | F34: =((E34*100)/D34)-100 -> #DIV/0!
A35: Total | B35: =SUM(B7:B34) -> 5369992 | C35: =SUM(C7:C34) -> 5395517 | D35: =SUM(D7:D34) -> 13842771 | E35: =SUM(E7:E34) -> 14812116 | F35: =((E35*100)/D35)-100 -> 7.0025358
A36: Incluye cargas, descargas, tránsitos y transbordos.
B38: =E6 -> 2018 | C38: =D6 -> 2017 | F38: =B38 -> 2018 | G38: =C38 -> 2017
A39: =A7 -> A CORUÑA | B39: =E7 -> 0 | C39: =D7 -> 0 | D39: =_xlfn.RANK.EQ(B39,$B$39:$B$66)+COUNTIF($B$39:$B$66,B39)-1 -> 28 | E39: =INDEX($A$39:$B$66,MATCH(ROW()-38,$D$39:$D$66,0),1) -> VALENCIA | F39: =LOOKUP(E39,$A$39:$A$66,$B$39:$B$66) -> 2853821 | G39: =LOOKUP(E39,$A$39:$A$66,$C$39:$C$66) -> 2158023
A40: =A8 -> ALICANTE | B40: =E8 -> 15593 | C40: =D8 -> 33413 | D40: =_xlfn.RANK.EQ(B40,$B$39:$B$66)+COUNTIF($B$39:$B$66,B40)-1 -> 22 | E40: =INDEX($A$39:$B$66,MATCH(ROW()-38,$D$39:$D$66,0),1) -> BALEARES | F40: =LOOKUP(E40,$A$39:$A$66,$B$39:$B$66) -> 2817960 | G40: =LOOKUP(E40,$A$39:$A$66,$C$39:$C$66) -> 2713924
A41: =A9 -> ALMERÍA | B41: =E9 -> 79882 | C41: =D9 -> 98886 | D41: =_xlfn.RANK.EQ(B41,$B$39:$B$66)+COUNTIF($B$39:$B$66,B41)-1 -> 18 | E41: =INDEX($A$39:$B$66,MATCH(ROW()-38,$D$39:$D$66,0),1) -> BARCELONA | F41: =LOOKUP(E41,$A$39:$A$66,$B$39:$B$66) -> 2572412 | G41: =LOOKUP(E41,$A$39:$A$66,$C$39:$C$66) -> 2410215
A42: =A10 -> AVILÉS | B42: =E10 -> 0 | C42: =D10 -> 0 | D42: =_xlfn.RANK.EQ(B42,$B$39:$B$66)+COUNTIF($B$39:$B$66,B42)-1 -> 28 | E42: =INDEX($A$39:$B$66,MATCH(ROW()-38,$D$39:$D$66,0),1) -> BAHÍA DE ALGECIRAS | F42: =LOOKUP(E42,$A$39:$A$66,$B$39:$B$66) -> 2243000 | G42: =LOOKUP(E42,$A$39:$A$66,$C$39:$C$66) -> 2195747
A43: =A11 -> BAHÍA DE ALGECIRAS | B43: =E11 -> 2243000 | C43: =D11 -> 2195747 | D43: =_xlfn.RANK.EQ(B43,$B$39:$B$66)+COUNTIF($B$39:$B$66,B43)-1 -> 4 | E43: =INDEX($A$39:$B$66,MATCH(ROW()-38,$D$39:$D$66,0),1) -> LAS PALMAS | F43: =LOOKUP(E43,$A$39:$A$66,$B$39:$B$66) -> 989408 | G43: =LOOKUP(E43,$A$39:$A$66,$C$39:$C$66) -> 1019907
A44: =A12 -> BAHÍA DE CÁDIZ | B44: =E12 -> 276977 | C44: =D12 -> 250179 | D44: =_xlfn.RANK.EQ(B44,$B$39:$B$66)+COUNTIF($B$39:$B$66,B44)-1 -> 8 | E44: =INDEX($A$39:$B$66,MATCH(ROW()-38,$D$39:$D$66,0),1) -> SANTA CRUZ DE TENERIFE | F44: =LOOKUP(E44,$A$39:$A$66,$B$39:$B$66) -> 960799 | G44: =LOOKUP(E44,$A$39:$A$66,$C$39:$C$66) -> 936910
A45: =A13 -> BALEARES | B45: =E13 -> 2817960 | C45: =D13 -> 2713924 | D45: =_xlfn.RANK.EQ(B45,$B$39:$B$66)+COUNTIF($B$39:$B$66,B45)-1 -> 2 | E45: =INDEX($A$39:$B$66,MATCH(ROW()-38,$D$39:$D$66,0),1) -> SANTANDER | F45: =LOOKUP(E45,$A$39:$A$66,$B$39:$B$66) -> 414695 | G45: =LOOKUP(E45,$A$39:$A$66,$C$39:$C$66) -> 386264
A46: =A14 -> BARCELONA | B46: =E14 -> 2572412 | C46: =D14 -> 2410215 | D46: =_xlfn.RANK.EQ(B46,$B$39:$B$66)+COUNTIF($B$39:$B$66,B46)-1 -> 3 | E46: =INDEX($A$39:$B$66,MATCH(ROW()-38,$D$39:$D$66,0),1) -> BAHÍA DE CÁDIZ | F46: =LOOKUP(E46,$A$39:$A$66,$B$39:$B$66) -> 276977 | G46: =LOOKUP(E46,$A$39:$A$66,$C$39:$C$66) -> 250179
A47: =A15 -> BILBAO | B47: =E15 -> 173758 | C47: =D15 -> 168996 | D47: =_xlfn.RANK.EQ(B47,$B$39:$B$66)+COUNTIF($B$39:$B$66,B47)-1 -> 12 | E47: =INDEX($A$39:$B$66,MATCH(ROW()-38,$D$39:$D$66,0),1) -> VIGO | F47: =LOOKUP(E47,$A$39:$A$66,$B$39:$B$66) -> 273911 | G47: =LOOKUP(E47,$A$39:$A$66,$C$39:$C$66) -> 258958
A48: =A16 -> CARTAGENA | B48: =E16 -> 1831 | C48: =D16 -> 0 | D48: =_xlfn.RANK.EQ(B48,$B$39:$B$66)+COUNTIF($B$39:$B$66,B48)-1 -> 23 | E48: =INDEX($A$39:$B$66,MATCH(ROW()-38,$D$39:$D$66,0),1) -> MOTRIL | F48: =LOOKUP(E48,$A$39:$A$66,$B$39:$B$66) -> 208482 | G48: =LOOKUP(E48,$A$39:$A$66,$C$39:$C$66) -> 138713
A49: =A17 -> CASTELLÓN | B49: =E17 -> 117633 | C49: =D17 -> 146692 | D49: =_xlfn.RANK.EQ(B49,$B$39:$B$66)+COUNTIF($B$39:$B$66,B49)-1 -> 16 | E49: =INDEX($A$39:$B$66,MATCH(ROW()-38,$D$39:$D$66,0),1) -> CEUTA | F49: =LOOKUP(E49,$A$39:$A$66,$B$39:$B$66) -> 174792 | G49: =LOOKUP(E49,$A$39:$A$66,$C$39:$C$66) -> 262797
A50: =A18 -> CEUTA | B50: =E18 -> 174792 | C50: =D18 -> 262797 | D50: =_xlfn.RANK.EQ(B50,$B$39:$B$66)+COUNTIF($B$39:$B$66,B50)-1 -> 11 | E50: =INDEX($A$39:$B$66,MATCH(ROW()-38,$D$39:$D$66,0),1) -> BILBAO | F50: =LOOKUP(E50,$A$39:$A$66,$B$39:$B$66) -> 173758 | G50: =LOOKUP(E50,$A$39:$A$66,$C$39:$C$66) -> 168996
... A66: =A34 -> VILAGARCÍA | B66: =E34 -> 0 | C66: =D34 -> 0 | D66: =_xlfn.RANK.EQ(B66,$B$39:$B$66)+COUNTIF($B$39:$B$66,B66)-1 -> 28 | E66: =INDEX($A$39:$B$66,MATCH(ROW()-38,$D$39:$D$66,0),1) -> A CORUÑA | F66: =LOOKUP(E66,$A$39:$A$66,$B$39:$B$66) -> 0 | G66: =LOOKUP(E66,$A$39:$A$66,$C$39:$C$66) -> 0

Sheet Ro-Ro remolques
E1: 9.1. TRÁFICO RO-RO DE REMOLQUES, SEMIRREMOLQUES Y PLATAFORMAS
I2: (unidades)
A5: Autoridad Portuaria | B5: ='Resumen general'!D6 -> Mes marzo | D5: ='Resumen general'!F6 -> Acumulado desde enero | L5: ='Resumen general'!I4 -> Fecha: 12/02/2019
B6: ='Resumen general'!D7 -> 2017 | C6: ='Resumen general'!E7 -> 2018 | D6: ='Resumen general'!F7 -> 2017 | E6: ='Resumen general'!G7 -> 2018 | F6: Var. (%)
A7: A CORUÑA | B7: 0 | C7: 0 | D7: 0 | E7: 0 | F7: =((E7*100)/D7)-100 -> #DIV/0!
A8: ALICANTE | B8: 174 | C8: 13 | D8: 349 | E8: 257 | F8: =((E8*100)/D8)-100 -> -26.361032
A9: ALMERÍA | B9: 951 | C9: 739 | D9: 2369 | E9: 1856 | F9: =((E9*100)/D9)-100 -> -21.654707
A10: AVILÉS | B10: 0 | C10: 0 | D10: 0 | E10: 0 | F10: =((E10*100)/D10)-100 -> #DIV/0!
A11: BAHÍA DE ALGECIRAS | B11: 22888 | C11: 22309 | D11: 61364 | E11: 62583 | F11: =((E11*100)/D11)-100 -> 1.9865067
A12: BAHÍA DE CÁDIZ | B12: 2571 | C12: 2897 | D12: 6744 | E12: 8163 | F12: =((E12*100)/D12)-100 -> 21.040925
A13: BALEARES | B13: 24209 | C13: 22883 | D13: 58948 | E13: 58660 | F13: =((E13*100)/D13)-100 -> -0.48856619
A14: BARCELONA | B14: 17735 | C14: 17846 | D14: 45664 | E14: 47675 | F14: =((E14*100)/D14)-100 -> 4.4039068
A15: BILBAO | B15: 1749 | C15: 1708 | D15: 4528 | E15: 4484 | F15: =((E15*100)/D15)-100 -> -0.97173145
A16: CARTAGENA | B16: 0 | C16: 0 | D16: 0 | E16: 0 | F16: =((E16*100)/D16)-100 -> #DIV/0!
A17: CASTELLÓN | B17: 0 | C17: 0 | D17: 0 | E17: 0 | F17: =((E17*100)/D17)-100 -> #DIV/0!
A18: CEUTA | B18: 1605 | C18: 1695 | D18: 4425 | E18: 5053 | F18: =((E18*100)/D18)-100 -> 14.19209
... A34: VILAGARCÍA | B34: 0 | C34: 0 | D34: 0 | E34: 0 | F34: =((E34*100)/D34)-100 -> #DIV/0!
A35: Total | B35: =SUM(B7:B34) -> 126485 | C35: =SUM(C7:C34) -> 128101 | D35: =SUM(D7:D34) -> 331256 | E35: =SUM(E7:E34) -> 351008 | F35: =((E35*100)/D35)-100 -> 5.9627599
A36: Incluye cargas, descargas, tránsitos y transbordos.
B38: =E6 -> 2018 | C38: =D6 -> 2017 | F38: =B38 -> 2018 | G38: =C38 -> 2017
A39: =A7 -> A CORUÑA | B39: =E7 -> 0 | C39: =D7 -> 0 | D39: =_xlfn.RANK.EQ(B39,$B$39:$B$66)+COUNTIF($B$39:$B$66,B39)-1 -> 28 | E39: =INDEX($A$39:$B$66,MATCH(ROW()-38,$D$39:$D$66,0),1) -> BAHÍA DE ALGECIRAS | F39: =LOOKUP(E39,$A$39:$A$66,$B$39:$B$66) -> 62583 | G39: =LOOKUP(E39,$A$39:$A$66,$C$39:$C$66) -> 61364
A40: =A8 -> ALICANTE | B40: =E8 -> 257 | C40: =D8 -> 349 | D40: =_xlfn.RANK.EQ(B40,$B$39:$B$66)+COUNTIF($B$39:$B$66,B40)-1 -> 19 | E40: =INDEX($A$39:$B$66,MATCH(ROW()-38,$D$39:$D$66,0),1) -> VALENCIA | F40: =LOOKUP(E40,$A$39:$A$66,$B$39:$B$66) -> 60057 | G40: =LOOKUP(E40,$A$39:$A$66,$C$39:$C$66) -> 50306
A41: =A9 -> ALMERÍA | B41: =E9 -> 1856 | C41: =D9 -> 2369 | D41: =_xlfn.RANK.EQ(B41,$B$39:$B$66)+COUNTIF($B$39:$B$66,B41)-1 -> 16 | E41: =INDEX($A$39:$B$66,MATCH(ROW()-38,$D$39:$D$66,0),1) -> BALEARES | F41: =LOOKUP(E41,$A$39:$A$66,$B$39:$B$66) -> 58660 | G41: =LOOKUP(E41,$A$39:$A$66,$C$39:$C$66) -> 58948
A42: =A10 -> AVILÉS | B42: =E10 -> 0 | C42: =D10 -> 0 | D42: =_xlfn.RANK.EQ(B42,$B$39:$B$66)+COUNTIF($B$39:$B$66,B42)-1 -> 28 | E42: =INDEX($A$39:$B$66,MATCH(ROW()-38,$D$39:$D$66,0),1) -> BARCELONA | F42: =LOOKUP(E42,$A$39:$A$66,$B$39:$B$66) -> 47675 | G42: =LOOKUP(E42,$A$39:$A$66,$C$39:$C$66) -> 45664
A43: =A11 -> BAHÍA DE ALGECIRAS | B43: =E11 -> 62583 | C43: =D11 -> 61364 | D43: =_xlfn.RANK.EQ(B43,$B$39:$B$66)+COUNTIF($B$39:$B$66,B43)-1 -> 1 | E43: =INDEX($A$39:$B$66,MATCH(ROW()-38,$D$39:$D$66,0),1) -> LAS PALMAS | F43: =LOOKUP(E43,$A$39:$A$66,$B$39:$B$66) -> 36561 | G43: =LOOKUP(E43,$A$39:$A$66,$C$39:$C$66) -> 34750
A44: =A12 -> BAHÍA DE CÁDIZ | B44: =E12 -> 8163 | C44: =D12 -> 6744 | D44: =_xlfn.RANK.EQ(B44,$B$39:$B$66)+COUNTIF($B$39:$B$66,B44)-1 -> 7 | E44: =INDEX($A$39:$B$66,MATCH(ROW()-38,$D$39:$D$66,0),1) -> SANTA CRUZ DE TENERIFE | F44: =LOOKUP(E44,$A$39:$A$66,$B$39:$B$66) -> 31311 | G44: =LOOKUP(E44,$A$39:$A$66,$C$39:$C$66) -> 29453
A45: =A13 -> BALEARES | B45: =E13 -> 58660 | C45: =D13 -> 58948 | D45: =_xlfn.RANK.EQ(B45,$B$39:$B$66)+COUNTIF($B$39:$B$66,B45)-1 -> 3 | E45: =INDEX($A$39:$B$66,MATCH(ROW()-38,$D$39:$D$66,0),1) -> BAHÍA DE CÁDIZ | F45: =LOOKUP(E45,$A$39:$A$66,$B$39:$B$66) -> 8163 | G45: =LOOKUP(E45,$A$39:$A$66,$C$39:$C$66) -> 6744
A46: =A14 -> BARCELONA | B46: =E14 -> 47675 | C46: =D14 -> 45664 | D46: =_xlfn.RANK.EQ(B46,$B$39:$B$66)+COUNTIF($B$39:$B$66,B46)-1 -> 4 | E46: =INDEX($A$39:$B$66,MATCH(ROW()-38,$D$39:$D$66,0),1) -> MOTRIL | F46: =LOOKUP(E46,$A$39:$A$66,$B$39:$B$66) -> 8043 | G46: =LOOKUP(E46,$A$39:$A$66,$C$39:$C$66) -> 5506
A47: =A15 -> BILBAO | B47: =E15 -> 4484 | C47: =D15 -> 4528 | D47: =_xlfn.RANK.EQ(B47,$B$39:$B$66)+COUNTIF($B$39:$B$66,B47)-1 -> 13 | E47: =INDEX($A$39:$B$66,MATCH(ROW()-38,$D$39:$D$66,0),1) -> MELILLA | F47: =LOOKUP(E47,$A$39:$A$66,$B$39:$B$66) -> 6371 | G47: =LOOKUP(E47,$A$39:$A$66,$C$39:$C$66) -> 7979
A48: =A16 -> CARTAGENA | B48: =E16 -> 0 | C48: =D16 -> 0 | D48: =_xlfn.RANK.EQ(B48,$B$39:$B$66)+COUNTIF($B$39:$B$66,B48)-1 -> 28 | E48: =INDEX($A$39:$B$66,MATCH(ROW()-38,$D$39:$D$66,0),1) -> SANTANDER | F48: =LOOKUP(E48,$A$39:$A$66,$B$39:$B$66) -> 5349 | G48: =LOOKUP(E48,$A$39:$A$66,$C$39:$C$66) -> 4207
A49: =A17 -> CASTELLÓN | B49: =E17 -> 0 | C49: =D17 -> 0 | D49: =_xlfn.RANK.EQ(B49,$B$39:$B$66)+COUNTIF($B$39:$B$66,B49)-1 -> 28 | E49: =INDEX($A$39:$B$66,MATCH(ROW()-38,$D$39:$D$66,0),1) -> CEUTA | F49: =LOOKUP(E49,$A$39:$A$66,$B$39:$B$66) -> 5053 | G49: =LOOKUP(E49,$A$39:$A$66,$C$39:$C$66) -> 4425
A50: =A18 -> CEUTA | B50: =E18 -> 5053 | C50: =D18 -> 4425 | D50: =_xlfn.RANK.EQ(B50,$B$39:$B$66)+COUNTIF($B$39:$B$66,B50)-1 -> 11 | E50: =INDEX($A$39:$B$66,MATCH(ROW()-38,$D$39:$D$66,0),1) -> VIGO | F50: =LOOKUP(E50,$A$39:$A$66,$B$39:$B$66) -> 4932 | G50: =LOOKUP(E50,$A$39:$A$66,$C$39:$C$66) -> 4437
... A66: =A34 -> VILAGARCÍA | B66: =E34 -> 0 | C66: =D34 -> 0 | D66: =_xlfn.RANK.EQ(B66,$B$39:$B$66)+COUNTIF($B$39:$B$66,B66)-1 -> 28 | E66: =INDEX($A$39:$B$66,MATCH(ROW()-38,$D$39:$D$66,0),1) -> A CORUÑA | F66: =LOOKUP(E66,$A$39:$A$66,$B$39:$B$66) -> 0 | G66: =LOOKUP(E66,$A$39:$A$66,$C$39:$C$66) -> 0

Sheet TEUS
F1: 10. CONTENEDORES (TEUS)
A5: Autoridad Portuaria | B5: ='Resumen general'!D6 -> Mes marzo | D5: ='Resumen general'!F6 -> Acumulado desde enero | L5: ='Resumen general'!I4 -> Fecha: 12/02/2019
B6: ='Resumen general'!D7 -> 2017 | C6: ='Resumen general'!E7 -> 2018 | D6: ='Resumen general'!F7 -> 2017 | E6: ='Resumen general'!G7 -> 2018 | F6: Var. (%)
A7: A CORUÑA | B7: 1 | C7: 0 | D7: 1 | E7: 1 | F7: =((E7*100)/D7)-100 -> 0
A8: ALICANTE | B8: 14221 | C8: 13955 | D8: 39797 | E8: 38489 | F8: =((E8*100)/D8)-100 -> -3.2866799
A9: ALMERÍA | B9: 546 | C9: 598 | D9: 1565 | E9: 1556 | F9: =((E9*100)/D9)-100 -> -0.57507987
A10: AVILÉS | B10: 0 | C10: 0 | D10: 0 | E10: 0 | F10: =((E10*100)/D10)-100 -> #DIV/0!
A11: BAHÍA DE ALGECIRAS | B11: 317179 | C11: 374445 | D11: 996621 | E11: 1126298 | F11: =((E11*100)/D11)-100 -> 13.011666
A12: BAHÍA DE CÁDIZ | B12: 6989 | C12: 5722 | D12: 21656 | E12: 19029 | F12: =((E12*100)/D12)-100 -> -12.130587
A13: BALEARES | B13: 11541 | C13: 10815 | D13: 28196 | E13: 27469 | F13: =((E13*100)/D13)-100 -> -2.5783799
A14: BARCELONA | B14: 243364 | C14: 275204 | D14: 673718 | E14: 800182 | F14: =((E14*100)/D14)-100 -> 18.771059
A15: BILBAO | B15: 58812 | C15: 52227 | D15: 137602 | E15: 154108 | F15: =((E15*100)/D15)-100 -> 11.995465
A16: CARTAGENA | B16: 6822 | C16: 6346 | D16: 20480 | E16: 19226 | F16: =((E16*100)/D16)-100 -> -6.1230469
A17: CASTELLÓN | B17: 23232 | C17: 23770 | D17: 60713 | E17: 60737 | F17: =((E17*100)/D17)-100 -> 0.039530249
A18: CEUTA | B18: 2500 | C18: 791 | D18: 6371 | E18: 2482 | F18: =((E18*100)/D18)-100 -> -61.042223
... A34: VILAGARCÍA | B34: 3027 | C34: 2634 | D34: 8423 | E34: 7949 | F34: =((E34*100)/D34)-100 -> -5.6274487
A35: Total | B35: =SUM(B7:B34) -> 1280956 | C35: =SUM(C7:C34) -> 1421434 | D35: =SUM(D7:D34) -> 3618184 | E35: =SUM(E7:E34) -> 4073576 | F35: =((E35*100)/D35)-100 -> 12.586203
A36: Incluye cargas, descargas, tránsitos y transbordos.
B38: =E6 -> 2018 | C38: =D6 -> 2017 | F38: =B38 -> 2018 | G38: =C38 -> 2017
A39: =A7 -> A CORUÑA | B39: =E7 -> 1 | C39: =D7 -> 1 | D39: =_xlfn.RANK.EQ(B39,$B$39:$B$66)+COUNTIF($B$39:$B$66,B39)-1 -> 27 | E39: =INDEX($A$39:$B$66,MATCH(ROW()-38,$D$39:$D$66,0),1) -> VALENCIA | F39: =LOOKUP(E39,$A$39:$A$66,$B$39:$B$66) -> 1200425 | G39: =LOOKUP(E39,$A$39:$A$66,$C$39:$C$66) -> 1094272
A40: =A8 -> ALICANTE | B40: =E8 -> 38489 | C40: =D8 -> 39797 | D40: =_xlfn.RANK.EQ(B40,$B$39:$B$66)+COUNTIF($B$39:$B$66,B40)-1 -> 9 | E40: =INDEX($A$39:$B$66,MATCH(ROW()-38,$D$39:$D$66,0),1) -> BAHÍA DE ALGECIRAS | F40: =LOOKUP(E40,$A$39:$A$66,$B$39:$B$66) -> 1126298 | G40: =LOOKUP(E40,$A$39:$A$66,$C$39:$C$66) -> 996621
A41: =A9 -> ALMERÍA | B41: =E9 -> 1556 | C41: =D9 -> 1565 | D41: =_xlfn.RANK.EQ(B41,$B$39:$B$66)+COUNTIF($B$39:$B$66,B41)-1 -> 23 | E41: =INDEX($A$39:$B$66,MATCH(ROW()-38,$D$39:$D$66,0),1) -> BARCELONA | F41: =LOOKUP(E41,$A$39:$A$66,$B$39:$B$66) -> 800182 | G41: =LOOKUP(E41,$A$39:$A$66,$C$39:$C$66) -> 673718
A42: =A10 -> AVILÉS | B42: =E10 -> 0 | C42: =D10 -> 0 | D42: =_xlfn.RANK.EQ(B42,$B$39:$B$66)+COUNTIF($B$39:$B$66,B42)-1 -> 28 | E42: =INDEX($A$39:$B$66,MATCH(ROW()-38,$D$39:$D$66,0),1) -> LAS PALMAS | F42: =LOOKUP(E42,$A$39:$A$66,$B$39:$B$66) -> 293668 | G42: =LOOKUP(E42,$A$39:$A$66,$C$39:$C$66) -> 255780
A43: =A11 -> BAHÍA DE ALGECIRAS | B43: =E11 -> 1126298 | C43: =D11 -> 996621 | D43: =_xlfn.RANK.EQ(B43,$B$39:$B$66)+COUNTIF($B$39:$B$66,B43)-1 -> 2 | E43: =INDEX($A$39:$B$66,MATCH(ROW()-38,$D$39:$D$66,0),1) -> BILBAO | F43: =LOOKUP(E43,$A$39:$A$66,$B$39:$B$66) -> 154108 | G43: =LOOKUP(E43,$A$39:$A$66,$C$39:$C$66) -> 137602
A44: =A12 -> BAHÍA DE CÁDIZ | B44: =E12 -> 19029 | C44: =D12 -> 21656 | D44: =_xlfn.RANK.EQ(B44,$B$39:$B$66)+COUNTIF($B$39:$B$66,B44)-1 -> 14 | E44: =INDEX($A$39:$B$66,MATCH(ROW()-38,$D$39:$D$66,0),1) -> SANTA CRUZ DE TENERIFE | F44: =LOOKUP(E44,$A$39:$A$66,$B$39:$B$66) -> 151423 | G44: =LOOKUP(E44,$A$39:$A$66,$C$39:$C$66) -> 97332
A45: =A13 -> BALEARES | B45: =E13 -> 27469 | C45: =D13 -> 28196 | D45: =_xlfn.RANK.EQ(B45,$B$39:$B$66)+COUNTIF($B$39:$B$66,B45)-1 -> 11 | E45: =INDEX($A$39:$B$66,MATCH(ROW()-38,$D$39:$D$66,0),1) -> CASTELLÓN | F45: =LOOKUP(E45,$A$39:$A$66,$B$39:$B$66) -> 60737 | G45: =LOOKUP(E45,$A$39:$A$66,$C$39:$C$66) -> 60713
A46: =A14 -> BARCELONA | B46: =E14 -> 800182 | C46: =D14 -> 673718 | D46: =_xlfn.RANK.EQ(B46,$B$39:$B$66)+COUNTIF($B$39:$B$66,B46)-1 -> 3 | E46: =INDEX($A$39:$B$66,MATCH(ROW()-38,$D$39:$D$66,0),1) -> VIGO | F46: =LOOKUP(E46,$A$39:$A$66,$B$39:$B$66) -> 42200 | G46: =LOOKUP(E46,$A$39:$A$66,$C$39:$C$66) -> 41777
A47: =A15 -> BILBAO | B47: =E15 -> 154108 | C47: =D15 -> 137602 | D47: =_xlfn.RANK.EQ(B47,$B$39:$B$66)+COUNTIF($B$39:$B$66,B47)-1 -> 5 | E47: =INDEX($A$39:$B$66,MATCH(ROW()-38,$D$39:$D$66,0),1) -> ALICANTE | F47: =LOOKUP(E47,$A$39:$A$66,$B$39:$B$66) -> 38489 | G47: =LOOKUP(E47,$A$39:$A$66,$C$39:$C$66) -> 39797
A48: =A16 -> CARTAGENA | B48: =E16 -> 19226 | C48: =D16 -> 20480 | D48: =_xlfn.RANK.EQ(B48,$B$39:$B$66)+COUNTIF($B$39:$B$66,B48)-1 -> 13 | E48: =INDEX($A$39:$B$66,MATCH(ROW()-38,$D$39:$D$66,0),1) -> SEVILLA | F48: =LOOKUP(E48,$A$39:$A$66,$B$39:$B$66) -> 30378 | G48: =LOOKUP(E48,$A$39:$A$66,$C$39:$C$66) -> 26572
A49: =A17 -> CASTELLÓN | B49: =E17 -> 60737 | C49: =D17 -> 60713 | D49: =_xlfn.RANK.EQ(B49,$B$39:$B$66)+COUNTIF($B$39:$B$66,B49)-1 -> 7 | E49: =INDEX($A$39:$B$66,MATCH(ROW()-38,$D$39:$D$66,0),1) -> BALEARES | F49: =LOOKUP(E49,$A$39:$A$66,$B$39:$B$66) -> 27469 | G49: =LOOKUP(E49,$A$39:$A$66,$C$39:$C$66) -> 28196
A50: =A18 -> CEUTA | B50: =E18 -> 2482 | C50: =D18 -> 6371 | D50: =_xlfn.RANK.EQ(B50,$B$39:$B$66)+COUNTIF($B$39:$B$66,B50)-1 -> 21 | E50: =INDEX($A$39:$B$66,MATCH(ROW()-38,$D$39:$D$66,0),1) -> MARÍN Y RÍA DE PONTEVEDRA | F50: =LOOKUP(E50,$A$39:$A$66,$B$39:$B$66) -> 21980 | G50: =LOOKUP(E50,$A$39:$A$66,$C$39:$C$66) -> 19339
... A66: =A34 -> VILAGARCÍA | B66: =E34 -> 7949 | C66: =D34 -> 8423 | D66: =_xlfn.RANK.EQ(B66,$B$39:$B$66)+COUNTIF($B$39:$B$66,B66)-1 -> 19 | E66: =INDEX($A$39:$B$66,MATCH(ROW()-38,$D$39:$D$66,0),1) -> AVILÉS | F66: =LOOKUP(E66,$A$39:$A$66,$B$39:$B$66) -> 0 | G66: =LOOKUP(E66,$A$39:$A$66,$C$39:$C$66) -> 0

Sheet TEUS tránsito
F1: 10.1. CONTENEDORES EN TRÁNSITO (TEUS)
A5: Autoridad Portuaria | B5: ='Resumen general'!D6 -> Mes marzo | D5: ='Resumen general'!F6 -> Acumulado desde enero | L5: ='Resumen general'!I4 -> Fecha: 12/02/2019
B6: ='Resumen general'!D7 -> 2017 | C6: ='Resumen general'!E7 -> 2018 | D6: ='Resumen general'!F7 -> 2017 | E6: ='Resumen general'!G7 -> 2018 | F6: Var. (%)
A7: A CORUÑA | B7: 0 | C7: 0 | D7: 0 | E7: 0 | F7: =((E7*100)/D7)-100 -> #DIV/0!
A8: ALICANTE | B8: 403 | C8: 50 | D8: 700 | E8: 442 | F8: =((E8*100)/D8)-100 -> -36.857143
A9: ALMERÍA | B9: 0 | C9: 0 | D9: 14 | E9: 0 | F9: =((E9*100)/D9)-100 -> -100
A10: AVILÉS | B10: 0 | C10: 0 | D10: 0 | E10: 0 | F10: =((E10*100)/D10)-100 -> #DIV/0!
A11: BAHÍA DE ALGECIRAS | B11: 286474 | C11: 337997 | D11: 910041 | E11: 1023525 | F11: =((E11*100)/D11)-100 -> 12.470207
A12: BAHÍA DE CÁDIZ | B12: 0 | C12: 0 | D12: 0 | E12: 516 | F12: =((E12*100)/D12)-100 -> #DIV/0!
A13: BALEARES | B13: 10 | C13: 2 | D13: 14 | E13: 4 | F13: =((E13*100)/D13)-100 -> -71.428571
A14: BARCELONA | B14: 88500 | C14: 115166 | D14: 216768 | E14: 316483 | F14: =((E14*100)/D14)-100 -> 46.000793
A15: BILBAO | B15: 729 | C15: 85 | D15: 1175 | E15: 301 | F15: =((E15*100)/D15)-100 -> -74.382979
A16: CARTAGENA | B16: 0 | C16: 78 | D16: 0 | E16: 80 | F16: =((E16*100)/D16)-100 -> #DIV/0!
A17: CASTELLÓN | B17: 1918 | C17: 1106 | D17: 7868 | E17: 2206 | F17: =((E17*100)/D17)-100 -> -71.962379
A18: CEUTA | B18: 0 | C18: 46 | D18: 0 | E18: 90 | F18: =((E18*100)/D18)-100 -> #DIV/0!
... A34: VILAGARCÍA | B34: 0 | C34: 9 | D34: 0 | E34: 9 | F34: =((E34*100)/D34)-100 -> #DIV/0!
A35: Total | B35: =SUM(B7:B34) -> 651535 | C35: =SUM(C7:C34) -> 785828 | D35: =SUM(D7:D34) -> 1880441 | E35: =SUM(E7:E34) -> 2219968 | F35: =((E35*100)/D35)-100 -> 18.055711
A36: No incluye transbordos.
B38: =E6 -> 2018 | C38: =D6 -> 2017 | F38: =B38 -> 2018 | G38: =C38 -> 2017
A39: =A7 -> A CORUÑA | B39: =E7 -> 0 | C39: =D7 -> 0 | D39: =_xlfn.RANK.EQ(B39,$B$39:$B$66)+COUNTIF($B$39:$B$66,B39)-1 -> 28 | E39: =INDEX($A$39:$B$66,MATCH(ROW()-38,$D$39:$D$66,0),1) -> BAHÍA DE ALGECIRAS | F39: =LOOKUP(E39,$A$39:$A$66,$B$39:$B$66) -> 1023525 | G39: =LOOKUP(E39,$A$39:$A$66,$C$39:$C$66) -> 910041
A40: =A8 -> ALICANTE | B40: =E8 -> 442 | C40: =D8 -> 700 | D40: =_xlfn.RANK.EQ(B40,$B$39:$B$66)+COUNTIF($B$39:$B$66,B40)-1 -> 12 | E40: =INDEX($A$39:$B$66,MATCH(ROW()-38,$D$39:$D$66,0),1) -> VALENCIA | F40: =LOOKUP(E40,$A$39:$A$66,$B$39:$B$66) -> 656669 | G40: =LOOKUP(E40,$A$39:$A$66,$C$39:$C$66) -> 590554
A41: =A9 -> ALMERÍA | B41: =E9 -> 0 | C41: =D9 -> 14 | D41: =_xlfn.RANK.EQ(B41,$B$39:$B$66)+COUNTIF($B$39:$B$66,B41)-1 -> 28 | E41: =INDEX($A$39:$B$66,MATCH(ROW()-38,$D$39:$D$66,0),1) -> BARCELONA | F41: =LOOKUP(E41,$A$39:$A$66,$B$39:$B$66) -> 316483 | G41: =LOOKUP(E41,$A$39:$A$66,$C$39:$C$66) -> 216768
A42: =A10 -> AVILÉS | B42: =E10 -> 0 | C42: =D10 -> 0 | D42: =_xlfn.RANK.EQ(B42,$B$39:$B$66)+COUNTIF($B$39:$B$66,B42)-1 -> 28 | E42: =INDEX($A$39:$B$66,MATCH(ROW()-38,$D$39:$D$66,0),1) -> LAS PALMAS | F42: =LOOKUP(E42,$A$39:$A$66,$B$39:$B$66) -> 154842 | G42: =LOOKUP(E42,$A$39:$A$66,$C$39:$C$66) -> 121500
A43: =A11 -> BAHÍA DE ALGECIRAS | B43: =E11 -> 1023525 | C43: =D11 -> 910041 | D43: =_xlfn.RANK.EQ(B43,$B$39:$B$66)+COUNTIF($B$39:$B$66,B43)-1 -> 1 | E43: =INDEX($A$39:$B$66,MATCH(ROW()-38,$D$39:$D$66,0),1) -> SANTA CRUZ DE TENERIFE | F43: =LOOKUP(E43,$A$39:$A$66,$B$39:$B$66) -> 51330 | G43: =LOOKUP(E43,$A$39:$A$66,$C$39:$C$66) -> 980
A44: =A12 -> BAHÍA DE CÁDIZ | B44: =E12 -> 516 | C44: =D12 -> 0 | D44: =_xlfn.RANK.EQ(B44,$B$39:$B$66)+COUNTIF($B$39:$B$66,B44)-1 -> 11 | E44: =INDEX($A$39:$B$66,MATCH(ROW()-38,$D$39:$D$66,0),1) -> MÁLAGA | F44: =LOOKUP(E44,$A$39:$A$66,$B$39:$B$66) -> 6794 | G44: =LOOKUP(E44,$A$39:$A$66,$C$39:$C$66) -> 23204
A45: =A13 -> BALEARES | B45: =E13 -> 4 | C45: =D13 -> 14 | D45: =_xlfn.RANK.EQ(B45,$B$39:$B$66)+COUNTIF($B$39:$B$66,B45)-1 -> 19 | E45: =INDEX($A$39:$B$66,MATCH(ROW()-38,$D$39:$D$66,0),1) -> MARÍN Y RÍA DE PONTEVEDRA | F45: =LOOKUP(E45,$A$39:$A$66,$B$39:$B$66) -> 3211 | G45: =LOOKUP(E45,$A$39:$A$66,$C$39:$C$66) -> 1805
A46: =A14 -> BARCELONA | B46: =E14 -> 316483 | C46: =D14 -> 216768 | D46: =_xlfn.RANK.EQ(B46,$B$39:$B$66)+COUNTIF($B$39:$B$66,B46)-1 -> 3 | E46: =INDEX($A$39:$B$66,MATCH(ROW()-38,$D$39:$D$66,0),1) -> VIGO | F46: =LOOKUP(E46,$A$39:$A$66,$B$39:$B$66) -> 2333 | G46: =LOOKUP(E46,$A$39:$A$66,$C$39:$C$66) -> 3904
A47: =A15 -> BILBAO | B47: =E15 -> 301 | C47: =D15 -> 1175 | D47: =_xlfn.RANK.EQ(B47,$B$39:$B$66)+COUNTIF($B$39:$B$66,B47)-1 -> 13 | E47: =INDEX($A$39:$B$66,MATCH(ROW()-38,$D$39:$D$66,0),1) -> CASTELLÓN | F47: =LOOKUP(E47,$A$39:$A$66,$B$39:$B$66) -> 2206 | G47: =LOOKUP(E47,$A$39:$A$66,$C$39:$C$66) -> 7868
A48: =A16 -> CARTAGENA | B48: =E16 -> 80 | C48: =D16 -> 0 | D48: =_xlfn.RANK.EQ(B48,$B$39:$B$66)+COUNTIF($B$39:$B$66,B48)-1 -> 15 | E48: =INDEX($A$39:$B$66,MATCH(ROW()-38,$D$39:$D$66,0),1) -> HUELVA | F48: =LOOKUP(E48,$A$39:$A$66,$B$39:$B$66) -> 1099 | G48: =LOOKUP(E48,$A$39:$A$66,$C$39:$C$66) -> 4
A49: =A17 -> CASTELLÓN | B49: =E17 -> 2206 | C49: =D17 -> 7868 | D49: =_xlfn.RANK.EQ(B49,$B$39:$B$66)+COUNTIF($B$39:$B$66,B49)-1 -> 9 | E49: =INDEX($A$39:$B$66,MATCH(ROW()-38,$D$39:$D$66,0),1) -> BAHÍA DE CÁDIZ | F49: =LOOKUP(E49,$A$39:$A$66,$B$39:$B$66) -> 516 | G49: =LOOKUP(E49,$A$39:$A$66,$C$39:$C$66) -> 0
A50: =A18 -> CEUTA | B50: =E18 -> 90 | C50: =D18 -> 0 | D50: =_xlfn.RANK.EQ(B50,$B$39:$B$66)+COUNTIF($B$39:$B$66,B50)-1 -> 14 | E50: =INDEX($A$39:$B$66,MATCH(ROW()-38,$D$39:$D$66,0),1) -> ALICANTE | F50: =LOOKUP(E50,$A$39:$A$66,$B$39:$B$66) -> 442 | G50: =LOOKUP(E50,$A$39:$A$66,$C$39:$C$66) -> 700
... A66: =A34 -> VILAGARCÍA | B66: =E34 -> 9 | C66: =D34 -> 0 | D66: =_xlfn.RANK.EQ(B66,$B$39:$B$66)+COUNTIF($B$39:$B$66,B66)-1 -> 18 | E66: =INDEX($A$39:$B$66,MATCH(ROW()-38,$D$39:$D$66,0),1) -> A CORUÑA | F66: =LOOKUP(E66,$A$39:$A$66,$B$39:$B$66) -> 0 | G66: =LOOKUP(E66,$A$39:$A$66,$C$39:$C$66) -> 0

Sheet TEUS nacional
F1: 10.2. CONTENEDORES ENTRADA-SALIDA NACIONAL (TEUS)
A5: Autoridad Portuaria | B5: ='Resumen general'!D6 -> Mes marzo | D5: ='Resumen general'!F6 -> Acumulado desde enero | L5: ='Resumen general'!I4 -> Fecha: 12/02/2019
B6: ='Resumen general'!D7 -> 2017 | C6: ='Resumen general'!E7 -> 2018 | D6: ='Resumen general'!F7 -> 2017 | E6: ='Resumen general'!G7 -> 2018 | F6: Var. (%)
A7: A CORUÑA | B7: 0 | C7: 0 | D7: 0 | E7: 0 | F7: =((E7*100)/D7)-100 -> #DIV/0!
A8: ALICANTE | B8: 12254 | C8: 12554 | D8: 34249 | E8: 34869 | F8: =((E8*100)/D8)-100 -> 1.8102718
A9: ALMERÍA | B9: 47 | C9: 102 | D9: 55 | E9: 185 | F9: =((E9*100)/D9)-100 -> 236.36364
A10: AVILÉS | B10: 0 | C10: 0 | D10: 0 | E10: 0 | F10: =((E10*100)/D10)-100 -> #DIV/0!
A11: BAHÍA DE ALGECIRAS | B11: 617 | C11: 84 | D11: 1635 | E11: 282 | F11: =((E11*100)/D11)-100 -> -82.752294
A12: BAHÍA DE CÁDIZ | B12: 4376 | C12: 3958 | D12: 13951 | E12: 12245 | F12: =((E12*100)/D12)-100 -> -12.228514
A13: BALEARES | B13: 11531 | C13: 10812 | D13: 28182 | E13: 27464 | F13: =((E13*100)/D13)-100 -> -2.5477255
A14: BARCELONA | B14: 23902 | C14: 21235 | D14: 60754 | E14: 58702 | F14: =((E14*100)/D14)-100 -> -3.3775554
A15: BILBAO | B15: 6430 | C15: 5785 | D15: 15168 | E15: 16480 | F15: =((E15*100)/D15)-100 -> 8.649789
A16: CARTAGENA | B16: 528 | C16: 535 | D16: 3005 | E16: 3074 | F16: =((E16*100)/D16)-100 -> 2.296173
A17: CASTELLÓN | B17: 8 | C17: 620 | D17: 277 | E17: 2662 | F17: =((E17*100)/D17)-100 -> 861.01083
A18: CEUTA | B18: 2498 | C18: 632 | D18: 6369 | E18: 1956 | F18: =((E18*100)/D18)-100 -> -69.288742
... A34: VILAGARCÍA | B34: 2925 | C34: 2558 | D34: 8216 | E34: 7744 | F34: =((E34*100)/D34)-100 -> -5.744888
A35: Total | B35: =SUM(B7:B34) -> 174887 | C35: =SUM(C7:C34) -> 171831 | D35: =SUM(D7:D34) -> 472914 | E35: =SUM(E7:E34) -> 480091 | F35: =((E35*100)/D35)-100 -> 1.5176121
A36: No incluye tránsitos ni transbordos. Navegación de cabotaje.
B38: =E6 -> 2018 | C38: =D6 -> 2017 | F38: =B38 -> 2018 | G38: =C38 -> 2017
A39: =A7 -> A CORUÑA | B39: =E7 -> 0 | C39: =D7 -> 0 | D39: =_xlfn.RANK.EQ(B39,$B$39:$B$66)+COUNTIF($B$39:$B$66,B39)-1 -> 28 | E39: =INDEX($A$39:$B$66,MATCH(ROW()-38,$D$39:$D$66,0),1) -> LAS PALMAS | F39: =LOOKUP(E39,$A$39:$A$66,$B$39:$B$66) -> 115794 | G39: =LOOKUP(E39,$A$39:$A$66,$C$39:$C$66) -> 113261
A40: =A8 -> ALICANTE | B40: =E8 -> 34869 | C40: =D8 -> 34249 | D40: =_xlfn.RANK.EQ(B40,$B$39:$B$66)+COUNTIF($B$39:$B$66,B40)-1 -> 5 | E40: =INDEX($A$39:$B$66,MATCH(ROW()-38,$D$39:$D$66,0),1) -> SANTA CRUZ DE TENERIFE | F40: =LOOKUP(E40,$A$39:$A$66,$B$39:$B$66) -> 86758 | G40: =LOOKUP(E40,$A$39:$A$66,$C$39:$C$66) -> 85371
A41: =A9 -> ALMERÍA | B41: =E9 -> 185 | C41: =D9 -> 55 | D41: =_xlfn.RANK.EQ(B41,$B$39:$B$66)+COUNTIF($B$39:$B$66,B41)-1 -> 22 | E41: =INDEX($A$39:$B$66,MATCH(ROW()-38,$D$39:$D$66,0),1) -> BARCELONA | F41: =LOOKUP(E41,$A$39:$A$66,$B$39:$B$66) -> 58702 | G41: =LOOKUP(E41,$A$39:$A$66,$C$39:$C$66) -> 60754
A42: =A10 -> AVILÉS | B42: =E10 -> 0 | C42: =D10 -> 0 | D42: =_xlfn.RANK.EQ(B42,$B$39:$B$66)+COUNTIF($B$39:$B$66,B42)-1 -> 28 | E42: =INDEX($A$39:$B$66,MATCH(ROW()-38,$D$39:$D$66,0),1) -> VALENCIA | F42: =LOOKUP(E42,$A$39:$A$66,$B$39:$B$66) -> 49314 | G42: =LOOKUP(E42,$A$39:$A$66,$C$39:$C$66) -> 44677
A43: =A11 -> BAHÍA DE ALGECIRAS | B43: =E11 -> 282 | C43: =D11 -> 1635 | D43: =_xlfn.RANK.EQ(B43,$B$39:$B$66)+COUNTIF($B$39:$B$66,B43)-1 -> 21 | E43: =INDEX($A$39:$B$66,MATCH(ROW()-38,$D$39:$D$66,0),1) -> ALICANTE | F43: =LOOKUP(E43,$A$39:$A$66,$B$39:$B$66) -> 34869 | G43: =LOOKUP(E43,$A$39:$A$66,$C$39:$C$66) -> 34249
A44: =A12 -> BAHÍA DE CÁDIZ | B44: =E12 -> 12245 | C44: =D12 -> 13951 | D44: =_xlfn.RANK.EQ(B44,$B$39:$B$66)+COUNTIF($B$39:$B$66,B44)-1 -> 10 | E44: =INDEX($A$39:$B$66,MATCH(ROW()-38,$D$39:$D$66,0),1) -> SEVILLA | F44: =LOOKUP(E44,$A$39:$A$66,$B$39:$B$66) -> 29167 | G44: =LOOKUP(E44,$A$39:$A$66,$C$39:$C$66) -> 24852
A45: =A13 -> BALEARES | B45: =E13 -> 27464 | C45: =D13 -> 28182 | D45: =_xlfn.RANK.EQ(B45,$B$39:$B$66)+COUNTIF($B$39:$B$66,B45)-1 -> 7 | E45: =INDEX($A$39:$B$66,MATCH(ROW()-38,$D$39:$D$66,0),1) -> BALEARES | F45: =LOOKUP(E45,$A$39:$A$66,$B$39:$B$66) -> 27464 | G45: =LOOKUP(E45,$A$39:$A$66,$C$39:$C$66) -> 28182
A46: =A14 -> BARCELONA | B46: =E14 -> 58702 | C46: =D14 -> 60754 | D46: =_xlfn.RANK.EQ(B46,$B$39:$B$66)+COUNTIF($B$39:$B$66,B46)-1 -> 3 | E46: =INDEX($A$39:$B$66,MATCH(ROW()-38,$D$39:$D$66,0),1) -> BILBAO | F46: =LOOKUP(E46,$A$39:$A$66,$B$39:$B$66) -> 16480 | G46: =LOOKUP(E46,$A$39:$A$66,$C$39:$C$66) -> 15168
A47: =A15 -> BILBAO | B47: =E15 -> 16480 | C47: =D15 -> 15168 | D47: =_xlfn.RANK.EQ(B47,$B$39:$B$66)+COUNTIF($B$39:$B$66,B47)-1 -> 8 | E47: =INDEX($A$39:$B$66,MATCH(ROW()-38,$D$39:$D$66,0),1) -> HUELVA | F47: =LOOKUP(E47,$A$39:$A$66,$B$39:$B$66) -> 12421 | G47: =LOOKUP(E47,$A$39:$A$66,$C$39:$C$66) -> 10441
A48: =A16 -> CARTAGENA | B48: =E16 -> 3074 | C48: =D16 -> 3005 | D48: =_xlfn.RANK.EQ(B48,$B$39:$B$66)+COUNTIF($B$39:$B$66,B48)-1 -> 16 | E48: =INDEX($A$39:$B$66,MATCH(ROW()-38,$D$39:$D$66,0),1) -> BAHÍA DE CÁDIZ | F48: =LOOKUP(E48,$A$39:$A$66,$B$39:$B$66) -> 12245 | G48: =LOOKUP(E48,$A$39:$A$66,$C$39:$C$66) -> 13951
A49: =A17 -> CASTELLÓN | B49: =E17 -> 2662 | C49: =D17 -> 277 | D49: =_xlfn.RANK.EQ(B49,$B$39:$B$66)+COUNTIF($B$39:$B$66,B49)-1 -> 18 | E49: =INDEX($A$39:$B$66,MATCH(ROW()-38,$D$39:$D$66,0),1) -> VILAGARCÍA | F49: =LOOKUP(E49,$A$39:$A$66,$B$39:$B$66) -> 7744 | G49: =LOOKUP(E49,$A$39:$A$66,$C$39:$C$66) -> 8216
A50: =A18 -> CEUTA | B50: =E18 -> 1956 | C50: =D18 -> 6369 | D50: =_xlfn.RANK.EQ(B50,$B$39:$B$66)+COUNTIF($B$39:$B$66,B50)-1 -> 19 | E50: =INDEX($A$39:$B$66,MATCH(ROW()-38,$D$39:$D$66,0),1) -> VIGO | F50: =LOOKUP(E50,$A$39:$A$66,$B$39:$B$66) -> 4939 | G50: =LOOKUP(E50,$A$39:$A$66,$C$39:$C$66) -> 4693
... A66: =A34 -> VILAGARCÍA | B66: =E34 -> 7744 | C66: =D34 -> 8216 | D66: =_xlfn.RANK.EQ(B66,$B$39:$B$66)+COUNTIF($B$39:$B$66,B66)-1 -> 11 | E66: =INDEX($A$39:$B$66,MATCH(ROW()-38,$D$39:$D$66,0),1) -> A CORUÑA | F66: =LOOKUP(E66,$A$39:$A$66,$B$39:$B$66) -> 0 | G66: =LOOKUP(E66,$A$39:$A$66,$C$39:$C$66) -> 0

Sheet TEUS exterior
F1: 10.3. CONTENEDORES IMPORTACIÓN-EXPORTACIÓN EXTERIOR (TEUS)
A5: Autoridad Portuaria | B5: ='Resumen general'!D6 -> Mes marzo | D5: ='Resumen general'!F6 -> Acumulado desde enero | L5: ='Resumen general'!I4 -> Fecha: 12/02/2019
B6: ='Resumen general'!D7 -> 2017 | C6: ='Resumen general'!E7 -> 2018 | D6: ='Resumen general'!F7 -> 2017 | E6: ='Resumen general'!G7 -> 2018 | F6: Var. (%)
A7: A CORUÑA | B7: 1 | C7: 0 | D7: 1 | E7: 1 | F7: =((E7*100)/D7)-100 -> 0
A8: ALICANTE | B8: 1564 | C8: 1351 | D8: 4848 | E8: 3178 | F8: =((E8*100)/D8)-100 -> -34.447195
A9: ALMERÍA | B9: 499 | C9: 496 | D9: 1496 | E9: 1371 | F9: =((E9*100)/D9)-100 -> -8.355615
A10: AVILÉS | B10: 0 | C10: 0 | D10: 0 | E10: 0 | F10: =((E10*100)/D10)-100 -> #DIV/0!
A11: BAHÍA DE ALGECIRAS | B11: 30088 | C11: 36364 | D11: 84945 | E11: 102491 | F11: =((E11*100)/D11)-100 -> 20.655718
A12: BAHÍA DE CÁDIZ | B12: 2613 | C12: 1764 | D12: 7705 | E12: 6268 | F12: =((E12*100)/D12)-100 -> -18.650227
A13: BALEARES | B13: 0 | C13: 1 | D13: 0 | E13: 1 | F13: =((E13*100)/D13)-100 -> #DIV/0!
A14: BARCELONA | B14: 130962 | C14: 138804 | D14: 396196 | E14: 424998 | F14: =((E14*100)/D14)-100 -> 7.2696342
A15: BILBAO | B15: 51653 | C15: 46357 | D15: 121259 | E15: 137327 | F15: =((E15*100)/D15)-100 -> 13.250975
A16: CARTAGENA | B16: 6294 | C16: 5733 | D16: 17475 | E16: 16072 | F16: =((E16*100)/D16)-100 -> -8.0286123
A17: CASTELLÓN | B17: 21306 | C17: 22044 | D17: 52568 | E17: 55869 | F17: =((E17*100)/D17)-100 -> 6.2794856
A18: CEUTA | B18: 2 | C18: 113 | D18: 2 | E18: 436 | F18: =((E18*100)/D18)-100 -> 21700
... A34: VILAGARCÍA | B34: 102 | C34: 67 | D34: 207 | E34: 196 | F34: =((E34*100)/D34)-100 -> -5.3140097
A35: Total | B35: =SUM(B7:B34) -> 454534 | C35: =SUM(C7:C34) -> 463776 | D35: =SUM(D7:D34) -> 1264829 | E35: =SUM(E7:E34) -> 1373519 | F35: =((E35*100)/D35)-100 -> 8.5932565
A36: No incluye tránsitos ni transbordos. Navegación de exterior.
B38: =E6 -> 2018 | C38: =D6 -> 2017 | F38: =B38 -> 2018 | G38: =C38 -> 2017
A39: =A7 -> A CORUÑA | B39: =E7 -> 1 | C39: =D7 -> 1 | D39: =_xlfn.RANK.EQ(B39,$B$39:$B$66)+COUNTIF($B$39:$B$66,B39)-1 -> 27 | E39: =INDEX($A$39:$B$66,MATCH(ROW()-38,$D$39:$D$66,0),1) -> VALENCIA | F39: =LOOKUP(E39,$A$39:$A$66,$B$39:$B$66) -> 494442 | G39: =LOOKUP(E39,$A$39:$A$66,$C$39:$C$66) -> 459041
A40: =A8 -> ALICANTE | B40: =E8 -> 3178 | C40: =D8 -> 4848 | D40: =_xlfn.RANK.EQ(B40,$B$39:$B$66)+COUNTIF($B$39:$B$66,B40)-1 -> 16 | E40: =INDEX($A$39:$B$66,MATCH(ROW()-38,$D$39:$D$66,0),1) -> BARCELONA | F40: =LOOKUP(E40,$A$39:$A$66,$B$39:$B$66) -> 424998 | G40: =LOOKUP(E40,$A$39:$A$66,$C$39:$C$66) -> 396196
A41: =A9 -> ALMERÍA | B41: =E9 -> 1371 | C41: =D9 -> 1496 | D41: =_xlfn.RANK.EQ(B41,$B$39:$B$66)+COUNTIF($B$39:$B$66,B41)-1 -> 19 | E41: =INDEX($A$39:$B$66,MATCH(ROW()-38,$D$39:$D$66,0),1) -> BILBAO | F41: =LOOKUP(E41,$A$39:$A$66,$B$39:$B$66) -> 137327 | G41: =LOOKUP(E41,$A$39:$A$66,$C$39:$C$66) -> 121259
A42: =A10 -> AVILÉS | B42: =E10 -> 0 | C42: =D10 -> 0 | D42: =_xlfn.RANK.EQ(B42,$B$39:$B$66)+COUNTIF($B$39:$B$66,B42)-1 -> 28 | E42: =INDEX($A$39:$B$66,MATCH(ROW()-38,$D$39:$D$66,0),1) -> BAHÍA DE ALGECIRAS | F42: =LOOKUP(E42,$A$39:$A$66,$B$39:$B$66) -> 102491 | G42: =LOOKUP(E42,$A$39:$A$66,$C$39:$C$66) -> 84945
A43: =A11 -> BAHÍA DE ALGECIRAS | B43: =E11 -> 102491 | C43: =D11 -> 84945 | D43: =_xlfn.RANK.EQ(B43,$B$39:$B$66)+COUNTIF($B$39:$B$66,B43)-1 -> 4 | E43: =INDEX($A$39:$B$66,MATCH(ROW()-38,$D$39:$D$66,0),1) -> CASTELLÓN | F43: =LOOKUP(E43,$A$39:$A$66,$B$39:$B$66) -> 55869 | G43: =LOOKUP(E43,$A$39:$A$66,$C$39:$C$66) -> 52568
A44: =A12 -> BAHÍA DE CÁDIZ | B44: =E12 -> 6268 | C44: =D12 -> 7705 | D44: =_xlfn.RANK.EQ(B44,$B$39:$B$66)+COUNTIF($B$39:$B$66,B44)-1 -> 14 | E44: =INDEX($A$39:$B$66,MATCH(ROW()-38,$D$39:$D$66,0),1) -> VIGO | F44: =LOOKUP(E44,$A$39:$A$66,$B$39:$B$66) -> 34928 | G44: =LOOKUP(E44,$A$39:$A$66,$C$39:$C$66) -> 33180
A45: =A13 -> BALEARES | B45: =E13 -> 1 | C45: =D13 -> 0 | D45: =_xlfn.RANK.EQ(B45,$B$39:$B$66)+COUNTIF($B$39:$B$66,B45)-1 -> 27 | E45: =INDEX($A$39:$B$66,MATCH(ROW()-38,$D$39:$D$66,0),1) -> LAS PALMAS | F45: =LOOKUP(E45,$A$39:$A$66,$B$39:$B$66) -> 23032 | G45: =LOOKUP(E45,$A$39:$A$66,$C$39:$C$66) -> 21019
A46: =A14 -> BARCELONA | B46: =E14 -> 424998 | C46: =D14 -> 396196 | D46: =_xlfn.RANK.EQ(B46,$B$39:$B$66)+COUNTIF($B$39:$B$66,B46)-1 -> 2 | E46: =INDEX($A$39:$B$66,MATCH(ROW()-38,$D$39:$D$66,0),1) -> MARÍN Y RÍA DE PONTEVEDRA | F46: =LOOKUP(E46,$A$39:$A$66,$B$39:$B$66) -> 17656 | G46: =LOOKUP(E46,$A$39:$A$66,$C$39:$C$66) -> 16512
A47: =A15 -> BILBAO | B47: =E15 -> 137327 | C47: =D15 -> 121259 | D47: =_xlfn.RANK.EQ(B47,$B$39:$B$66)+COUNTIF($B$39:$B$66,B47)-1 -> 3 | E47: =INDEX($A$39:$B$66,MATCH(ROW()-38,$D$39:$D$66,0),1) -> CARTAGENA | F47: =LOOKUP(E47,$A$39:$A$66,$B$39:$B$66) -> 16072 | G47: =LOOKUP(E47,$A$39:$A$66,$C$39:$C$66) -> 17475
A48: =A16 -> CARTAGENA | B48: =E16 -> 16072 | C48: =D16 -> 17475 | D48: =_xlfn.RANK.EQ(B48,$B$39:$B$66)+COUNTIF($B$39:$B$66,B48)-1 -> 9 | E48: =INDEX($A$39:$B$66,MATCH(ROW()-38,$D$39:$D$66,0),1) -> GIJÓN | F48: =LOOKUP(E48,$A$39:$A$66,$B$39:$B$66) -> 13582 | G48: =LOOKUP(E48,$A$39:$A$66,$C$39:$C$66) -> 14324
A49: =A17 -> CASTELLÓN | B49: =E17 -> 55869 | C49: =D17 -> 52568 | D49: =_xlfn.RANK.EQ(B49,$B$39:$B$66)+COUNTIF($B$39:$B$66,B49)-1 -> 5 | E49: =INDEX($A$39:$B$66,MATCH(ROW()-38,$D$39:$D$66,0),1) -> SANTA CRUZ DE TENERIFE | F49: =LOOKUP(E49,$A$39:$A$66,$B$39:$B$66) -> 13335 | G49: =LOOKUP(E49,$A$39:$A$66,$C$39:$C$66) -> 10981
A50: =A18 -> CEUTA | B50: =E18 -> 436 | C50: =D18 -> 2 | D50: =_xlfn.RANK.EQ(B50,$B$39:$B$66)+COUNTIF($B$39:$B$66,B50)-1 -> 21 | E50: =INDEX($A$39:$B$66,MATCH(ROW()-38,$D$39:$D$66,0),1) -> TARRAGONA | F50: =LOOKUP(E50,$A$39:$A$66,$B$39:$B$66) -> 11771 | G50: =LOOKUP(E50,$A$39:$A$66,$C$39:$C$66) -> 11069
... A66: =A34 -> VILAGARCÍA | B66: =E34 -> 196 | C66: =D34 -> 207 | D66: =_xlfn.RANK.EQ(B66,$B$39:$B$66)+COUNTIF($B$39:$B$66,B66)-1 -> 22 | E66: =INDEX($A$39:$B$66,MATCH(ROW()-38,$D$39:$D$66,0),1) -> AVILÉS | F66: =LOOKUP(E66,$A$39:$A$66,$B$39:$B$66) -> 0 | G66: =LOOKUP(E66,$A$39:$A$66,$C$39:$C$66) -> 0

Sheet TEUS nacional y exterior
F1: 10.4. CONTENEDORES NACIONAL Y EXTERIOR (TEUS)
A5: Autoridad Portuaria | B5: ='Resumen general'!D6 -> Mes marzo | D5: ='Resumen general'!F6 -> Acumulado desde enero | L5: ='Resumen general'!I4 -> Fecha: 12/02/2019
B6: ='Resumen general'!D7 -> 2017 | C6: ='Resumen general'!E7 -> 2018 | D6: ='Resumen general'!F7 -> 2017 | E6: ='Resumen general'!G7 -> 2018 | F6: Var. (%)
A7: A CORUÑA | B7: 1 | C7: 0 | D7: 1 | E7: 1 | F7: =((E7*100)/D7)-100 -> 0
A8: ALICANTE | B8: 13818 | C8: 13905 | D8: 39097 | E8: 38047 | F8: =((E8*100)/D8)-100 -> -2.6856281
A9: ALMERÍA | B9: 546 | C9: 598 | D9: 1551 | E9: 1556 | F9: =((E9*100)/D9)-100 -> 0.32237266
A10: AVILÉS | B10: 0 | C10: 0 | D10: 0 | E10: 0 | F10: =((E10*100)/D10)-100 -> #DIV/0!
A11: BAHÍA DE ALGECIRAS | B11: 30705 | C11: 36448 | D11: 86580 | E11: 102773 | F11: =((E11*100)/D11)-100 -> 18.702934
A12: BAHÍA DE CÁDIZ | B12: 6989 | C12: 5722 | D12: 21656 | E12: 18513 | F12: =((E12*100)/D12)-100 -> -14.513299
A13: BALEARES | B13: 11531 | C13: 10813 | D13: 28182 | E13: 27465 | F13: =((E13*100)/D13)-100 -> -2.5441771
A14: BARCELONA | B14: 154864 | C14: 160039 | D14: 456950 | E14: 483700 | F14: =((E14*100)/D14)-100 -> 5.8540322
A15: BILBAO | B15: 58083 | C15: 52142 | D15: 136427 | E15: 153807 | F15: =((E15*100)/D15)-100 -> 12.739414
A16: CARTAGENA | B16: 6822 | C16: 6268 | D16: 20480 | E16: 19146 | F16: =((E16*100)/D16)-100 -> -6.5136719
A17: CASTELLÓN | B17: 21314 | C17: 22664 | D17: 52845 | E17: 58531 | F17: =((E17*100)/D17)-100 -> 10.759769
A18: CEUTA | B18: 2500 | C18: 745 | D18: 6371 | E18: 2392 | F18: =((E18*100)/D18)-100 -> -62.454874
... A34: VILAGARCÍA | B34: 3027 | C34: 2625 | D34: 8423 | E34: 7940 | F34: =((E34*100)/D34)-100 -> -5.7342989
A35: Total | B35: =SUM(B7:B34) -> 629421 | C35: =SUM(C7:C34) -> 635607 | D35: =SUM(D7:D34) -> 1737743 | E35: =SUM(E7:E34) -> 1853609 | F35: =((E35*100)/D35)-100 -> 6.6676143
A36: No incluye tránsitos ni transbordos. Navegación de cabotaje y exterior.
B38: =E6 -> 2018 | C38: =D6 -> 2017 | F38: =B38 -> 2018 | G38: =C38 -> 2017
A39: =A7 -> A CORUÑA | B39: =E7 -> 1 | C39: =D7 -> 1 | D39: =_xlfn.RANK.EQ(B39,$B$39:$B$66)+COUNTIF($B$39:$B$66,B39)-1 -> 27 | E39: =INDEX($A$39:$B$66,MATCH(ROW()-38,$D$39:$D$66,0),1) -> VALENCIA | F39: =LOOKUP(E39,$A$39:$A$66,$B$39:$B$66) -> 543756 | G39: =LOOKUP(E39,$A$39:$A$66,$C$39:$C$66) -> 503718
A40: =A8 -> ALICANTE | B40: =E8 -> 38047 | C40: =D8 -> 39097 | D40: =_xlfn.RANK.EQ(B40,$B$39:$B$66)+COUNTIF($B$39:$B$66,B40)-1 -> 9 | E40: =INDEX($A$39:$B$66,MATCH(ROW()-38,$D$39:$D$66,0),1) -> BARCELONA | F40: =LOOKUP(E40,$A$39:$A$66,$B$39:$B$66) -> 483700 | G40: =LOOKUP(E40,$A$39:$A$66,$C$39:$C$66) -> 456950
A41: =A9 -> ALMERÍA | B41: =E9 -> 1556 | C41: =D9 -> 1551 | D41: =_xlfn.RANK.EQ(B41,$B$39:$B$66)+COUNTIF($B$39:$B$66,B41)-1 -> 23 | E41: =INDEX($A$39:$B$66,MATCH(ROW()-38,$D$39:$D$66,0),1) -> BILBAO | F41: =LOOKUP(E41,$A$39:$A$66,$B$39:$B$66) -> 153807 | G41: =LOOKUP(E41,$A$39:$A$66,$C$39:$C$66) -> 136427
A42: =A10 -> AVILÉS | B42: =E10 -> 0 | C42: =D10 -> 0 | D42: =_xlfn.RANK.EQ(B42,$B$39:$B$66)+COUNTIF($B$39:$B$66,B42)-1 -> 28 | E42: =INDEX($A$39:$B$66,MATCH(ROW()-38,$D$39:$D$66,0),1) -> LAS PALMAS | F42: =LOOKUP(E42,$A$39:$A$66,$B$39:$B$66) -> 138826 | G42: =LOOKUP(E42,$A$39:$A$66,$C$39:$C$66) -> 134280
A43: =A11 -> BAHÍA DE ALGECIRAS | B43: =E11 -> 102773 | C43: =D11 -> 86580 | D43: =_xlfn.RANK.EQ(B43,$B$39:$B$66)+COUNTIF($B$39:$B$66,B43)-1 -> 5 | E43: =INDEX($A$39:$B$66,MATCH(ROW()-38,$D$39:$D$66,0),1) -> BAHÍA DE ALGECIRAS | F43: =LOOKUP(E43,$A$39:$A$66,$B$39:$B$66) -> 102773 | G43: =LOOKUP(E43,$A$39:$A$66,$C$39:$C$66) -> 86580
A44: =A12 -> BAHÍA DE CÁDIZ | B44: =E12 -> 18513 | C44: =D12 -> 21656 | D44: =_xlfn.RANK.EQ(B44,$B$39:$B$66)+COUNTIF($B$39:$B$66,B44)-1 -> 14 | E44: =INDEX($A$39:$B$66,MATCH(ROW()-38,$D$39:$D$66,0),1) -> SANTA CRUZ DE TENERIFE | F44: =LOOKUP(E44,$A$39:$A$66,$B$39:$B$66) -> 100093 | G44: =LOOKUP(E44,$A$39:$A$66,$C$39:$C$66) -> 96352
A45: =A13 -> BALEARES | B45: =E13 -> 27465 | C45: =D13 -> 28182 | D45: =_xlfn.RANK.EQ(B45,$B$39:$B$66)+COUNTIF($B$39:$B$66,B45)-1 -> 11 | E45: =INDEX($A$39:$B$66,MATCH(ROW()-38,$D$39:$D$66,0),1) -> CASTELLÓN | F45: =LOOKUP(E45,$A$39:$A$66,$B$39:$B$66) -> 58531 | G45: =LOOKUP(E45,$A$39:$A$66,$C$39:$C$66) -> 52845
A46: =A14 -> BARCELONA | B46: =E14 -> 483700 | C46: =D14 -> 456950 | D46: =_xlfn.RANK.EQ(B46,$B$39:$B$66)+COUNTIF($B$39:$B$66,B46)-1 -> 2 | E46: =INDEX($A$39:$B$66,MATCH(ROW()-38,$D$39:$D$66,0),1) -> VIGO | F46: =LOOKUP(E46,$A$39:$A$66,$B$39:$B$66) -> 39867 | G46: =LOOKUP(E46,$A$39:$A$66,$C$39:$C$66) -> 37873
A47: =A15 -> BILBAO | B47: =E15 -> 153807 | C47: =D15 -> 136427 | D47: =_xlfn.RANK.EQ(B47,$B$39:$B$66)+COUNTIF($B$39:$B$66,B47)-1 -> 3 | E47: =INDEX($A$39:$B$66,MATCH(ROW()-38,$D$39:$D$66,0),1) -> ALICANTE | F47: =LOOKUP(E47,$A$39:$A$66,$B$39:$B$66) -> 38047 | G47: =LOOKUP(E47,$A$39:$A$66,$C$39:$C$66) -> 39097
A48: =A16 -> CARTAGENA | B48: =E16 -> 19146 | C48: =D16 -> 20480 | D48: =_xlfn.RANK.EQ(B48,$B$39:$B$66)+COUNTIF($B$39:$B$66,B48)-1 -> 12 | E48: =INDEX($A$39:$B$66,MATCH(ROW()-38,$D$39:$D$66,0),1) -> SEVILLA | F48: =LOOKUP(E48,$A$39:$A$66,$B$39:$B$66) -> 30366 | G48: =LOOKUP(E48,$A$39:$A$66,$C$39:$C$66) -> 26572
A49: =A17 -> CASTELLÓN | B49: =E17 -> 58531 | C49: =D17 -> 52845 | D49: =_xlfn.RANK.EQ(B49,$B$39:$B$66)+COUNTIF($B$39:$B$66,B49)-1 -> 7 | E49: =INDEX($A$39:$B$66,MATCH(ROW()-38,$D$39:$D$66,0),1) -> BALEARES | F49: =LOOKUP(E49,$A$39:$A$66,$B$39:$B$66) -> 27465 | G49: =LOOKUP(E49,$A$39:$A$66,$C$39:$C$66) -> 28182
A50: =A18 -> CEUTA | B50: =E18 -> 2392 | C50: =D18 -> 6371 | D50: =_xlfn.RANK.EQ(B50,$B$39:$B$66)+COUNTIF($B$39:$B$66,B50)-1 -> 21 | E50: =INDEX($A$39:$B$66,MATCH(ROW()-38,$D$39:$D$66,0),1) -> CARTAGENA | F50: =LOOKUP(E50,$A$39:$A$66,$B$39:$B$66) -> 19146 | G50: =LOOKUP(E50,$A$39:$A$66,$C$39:$C$66) -> 20480
... A66: =A34 -> VILAGARCÍA | B66: =E34 -> 7940 | C66: =D34 -> 8423 | D66: =_xlfn.RANK.EQ(B66,$B$39:$B$66)+COUNTIF($B$39:$B$66,B66)-1 -> 19 | E66: =INDEX($A$39:$B$66,MATCH(ROW()-38,$D$39:$D$66,0),1) -> AVILÉS | F66: =LOOKUP(E66,$A$39:$A$66,$B$39:$B$66) -> 0 | G66: =LOOKUP(E66,$A$39:$A$66,$C$39:$C$66) -> 0

Sheet Pasajeros total
F1: 11. PASAJEROS EN RÉGIMEN DE TRANSPORTE Y DE CRUCERO
I2: (número)
A5: Autoridad Portuaria | B5: ='Resumen general'!D6 -> Mes marzo | D5: ='Resumen general'!F6 -> Acumulado desde enero | L5: ='Resumen general'!I4 -> Fecha: 12/02/2019
B6: ='Resumen general'!D7 -> 2017 | C6: ='Resumen general'!E7 -> 2018 | D6: ='Resumen general'!F7 -> 2017 | E6: ='Resumen general'!G7 -> 2018 | F6: Var. (%)
A7: A CORUÑA | B7: 4814 | C7: 4498 | D7: 14515 | E7: 8362 | F7: =((E7*100)/D7)-100 -> -42.39063
A8: ALICANTE | B8: 10342 | C8: 12359 | D8: 24374 | E8: 30175 | F8: =((E8*100)/D8)-100 -> 23.799951
A9: ALMERÍA | B9: 35676 | C9: 38460 | D9: 104841 | E9: 114129 | F9: =((E9*100)/D9)-100 -> 8.8591295
A10: AVILÉS | B10: 0 | C10: 0 | D10: 0 | E10: 413 | F10: =((E10*100)/D10)-100 -> #DIV/0!
A11: BAHÍA DE ALGECIRAS | B11: 310174 | C11: 334000 | D11: 936663 | E11: 949769 | F11: =((E11*100)/D11)-100 -> 1.3992226
A12: BAHÍA DE CÁDIZ | B12: 10968 | C12: 27103 | D12: 23988 | E12: 55952 | F12: =((E12*100)/D12)-100 -> 133.24996
A13: BALEARES | B13: 287446 | C13: 328243 | D13: 664724 | E13: 820505 | F13: =((E13*100)/D13)-100 -> 23.435441
A14: BARCELONA | B14: 175809 | C14: 211747 | D14: 397192 | E14: 502098 | F14: =((E14*100)/D14)-100 -> 26.411912
A15: BILBAO | B15: 7454 | C15: 8627 | D15: 16232 | E15: 18535 | F15: =((E15*100)/D15)-100 -> 14.188024
A16: CARTAGENA | B16: 563 | C16: 2223 | D16: 3211 | E16: 4172 | F16: =((E16*100)/D16)-100 -> 29.928371
A17: CASTELLÓN | B17: 0 | C17: 0 | D17: 0 | E17: 0 | F17: =((E17*100)/D17)-100 -> #DIV/0!
A18: CEUTA | B18: 126427 | C18: 141955 | D18: 362650 | E18: 391515 | F18: =((E18*100)/D18)-100 -> 7.959465
... A34: VILAGARCÍA | B34: 0 | C34: 0 | D34: 0 | E34: 0 | F34: =((E34*100)/D34)-100 -> #DIV/0!
A35: Total | B35: =SUM(B7:B34) -> 1796563 | C35: =SUM(C7:C34) -> 2204389 | D35: =SUM(D7:D34) -> 4916732 | E35: =SUM(E7:E34) -> 5779541 | F35: =((E35*100)/D35)-100 -> 17.548424
A36: Incluye embarques, desembarques y en tránsito.
B38: =E6 -> 2018 | C38: =D6 -> 2017 | F38: =B38 -> 2018 | G38: =C38 -> 2017
A39: =A7 -> A CORUÑA | B39: =E7 -> 8362 | C39: =D7 -> 14515 | D39: =_xlfn.RANK.EQ(B39,$B$39:$B$66)+COUNTIF($B$39:$B$66,B39)-1 -> 16 | E39: =INDEX($A$39:$B$66,MATCH(ROW()-38,$D$39:$D$66,0),1) -> SANTA CRUZ DE TENERIFE | F39: =LOOKUP(E39,$A$39:$A$66,$B$39:$B$66) -> 1556567 | G39: =LOOKUP(E39,$A$39:$A$66,$C$39:$C$66) -> 1312924
A40: =A8 -> ALICANTE | B40: =E8 -> 30175 | C40: =D8 -> 24374 | D40: =_xlfn.RANK.EQ(B40,$B$39:$B$66)+COUNTIF($B$39:$B$66,B40)-1 -> 13 | E40: =INDEX($A$39:$B$66,MATCH(ROW()-38,$D$39:$D$66,0),1) -> BAHÍA DE ALGECIRAS | F40: =LOOKUP(E40,$A$39:$A$66,$B$39:$B$66) -> 949769 | G40: =LOOKUP(E40,$A$39:$A$66,$C$39:$C$66) -> 936663
A41: =A9 -> ALMERÍA | B41: =E9 -> 114129 | C41: =D9 -> 104841 | D41: =_xlfn.RANK.EQ(B41,$B$39:$B$66)+COUNTIF($B$39:$B$66,B41)-1 -> 9 | E41: =INDEX($A$39:$B$66,MATCH(ROW()-38,$D$39:$D$66,0),1) -> LAS PALMAS | F41: =LOOKUP(E41,$A$39:$A$66,$B$39:$B$66) -> 835208 | G41: =LOOKUP(E41,$A$39:$A$66,$C$39:$C$66) -> 615952
A42: =A10 -> AVILÉS | B42: =E10 -> 413 | C42: =D10 -> 0 | D42: =_xlfn.RANK.EQ(B42,$B$39:$B$66)+COUNTIF($B$39:$B$66,B42)-1 -> 22 | E42: =INDEX($A$39:$B$66,MATCH(ROW()-38,$D$39:$D$66,0),1) -> BALEARES | F42: =LOOKUP(E42,$A$39:$A$66,$B$39:$B$66) -> 820505 | G42: =LOOKUP(E42,$A$39:$A$66,$C$39:$C$66) -> 664724
A43: =A11 -> BAHÍA DE ALGECIRAS | B43: =E11 -> 949769 | C43: =D11 -> 936663 | D43: =_xlfn.RANK.EQ(B43,$B$39:$B$66)+COUNTIF($B$39:$B$66,B43)-1 -> 2 | E43: =INDEX($A$39:$B$66,MATCH(ROW()-38,$D$39:$D$66,0),1) -> BARCELONA | F43: =LOOKUP(E43,$A$39:$A$66,$B$39:$B$66) -> 502098 | G43: =LOOKUP(E43,$A$39:$A$66,$C$39:$C$66) -> 397192
A44: =A12 -> BAHÍA DE CÁDIZ | B44: =E12 -> 55952 | C44: =D12 -> 23988 | D44: =_xlfn.RANK.EQ(B44,$B$39:$B$66)+COUNTIF($B$39:$B$66,B44)-1 -> 11 | E44: =INDEX($A$39:$B$66,MATCH(ROW()-38,$D$39:$D$66,0),1) -> CEUTA | F44: =LOOKUP(E44,$A$39:$A$66,$B$39:$B$66) -> 391515 | G44: =LOOKUP(E44,$A$39:$A$66,$C$39:$C$66) -> 362650
A45: =A13 -> BALEARES | B45: =E13 -> 820505 | C45: =D13 -> 664724 | D45: =_xlfn.RANK.EQ(B45,$B$39:$B$66)+COUNTIF($B$39:$B$66,B45)-1 -> 4 | E45: =INDEX($A$39:$B$66,MATCH(ROW()-38,$D$39:$D$66,0),1) -> MELILLA | F45: =LOOKUP(E45,$A$39:$A$66,$B$39:$B$66) -> 147543 | G45: =LOOKUP(E45,$A$39:$A$66,$C$39:$C$66) -> 138785
A46: =A14 -> BARCELONA | B46: =E14 -> 502098 | C46: =D14 -> 397192 | D46: =_xlfn.RANK.EQ(B46,$B$39:$B$66)+COUNTIF($B$39:$B$66,B46)-1 -> 5 | E46: =INDEX($A$39:$B$66,MATCH(ROW()-38,$D$39:$D$66,0),1) -> VALENCIA | F46: =LOOKUP(E46,$A$39:$A$66,$B$39:$B$66) -> 143860 | G46: =LOOKUP(E46,$A$39:$A$66,$C$39:$C$66) -> 128223
A47: =A15 -> BILBAO | B47: =E15 -> 18535 | C47: =D15 -> 16232 | D47: =_xlfn.RANK.EQ(B47,$B$39:$B$66)+COUNTIF($B$39:$B$66,B47)-1 -> 15 | E47: =INDEX($A$39:$B$66,MATCH(ROW()-38,$D$39:$D$66,0),1) -> ALMERÍA | F47: =LOOKUP(E47,$A$39:$A$66,$B$39:$B$66) -> 114129 | G47: =LOOKUP(E47,$A$39:$A$66,$C$39:$C$66) -> 104841
A48: =A16 -> CARTAGENA | B48: =E16 -> 4172 | C48: =D16 -> 3211 | D48: =_xlfn.RANK.EQ(B48,$B$39:$B$66)+COUNTIF($B$39:$B$66,B48)-1 -> 19 | E48: =INDEX($A$39:$B$66,MATCH(ROW()-38,$D$39:$D$66,0),1) -> MÁLAGA | F48: =LOOKUP(E48,$A$39:$A$66,$B$39:$B$66) -> 110867 | G48: =LOOKUP(E48,$A$39:$A$66,$C$39:$C$66) -> 94609
A49: =A17 -> CASTELLÓN | B49: =E17 -> 0 | C49: =D17 -> 0 | D49: =_xlfn.RANK.EQ(B49,$B$39:$B$66)+COUNTIF($B$39:$B$66,B49)-1 -> 28 | E49: =INDEX($A$39:$B$66,MATCH(ROW()-38,$D$39:$D$66,0),1) -> BAHÍA DE CÁDIZ | F49: =LOOKUP(E49,$A$39:$A$66,$B$39:$B$66) -> 55952 | G49: =LOOKUP(E49,$A$39:$A$66,$C$39:$C$66) -> 23988
A50: =A18 -> CEUTA | B50: =E18 -> 391515 | C50: =D18 -> 362650 | D50: =_xlfn.RANK.EQ(B50,$B$39:$B$66)+COUNTIF($B$39:$B$66,B50)-1 -> 6 | E50: =INDEX($A$39:$B$66,MATCH(ROW()-38,$D$39:$D$66,0),1) -> MOTRIL | F50: =LOOKUP(E50,$A$39:$A$66,$B$39:$B$66) -> 47404 | G50: =LOOKUP(E50,$A$39:$A$66,$C$39:$C$66) -> 38657
... A66: =A34 -> VILAGARCÍA | B66: =E34 -> 0 | C66: =D34 -> 0 | D66: =_xlfn.RANK.EQ(B66,$B$39:$B$66)+COUNTIF($B$39:$B$66,B66)-1 -> 28 | E66: =INDEX($A$39:$B$66,MATCH(ROW()-38,$D$39:$D$66,0),1) -> CASTELLÓN | F66: =LOOKUP(E66,$A$39:$A$66,$B$39:$B$66) -> 0 | G66: =LOOKUP(E66,$A$39:$A$66,$C$39:$C$66) -> 0

Sheet Pasajeros crucero
F1: 11.1. PASAJEROS DE CRUCERO (número)
A5: Autoridad Portuaria | B5: ='Resumen general'!D6 -> Mes marzo | D5: ='Resumen general'!F6 -> Acumulado desde enero | L5: ='Resumen general'!I4 -> Fecha: 12/02/2019
B6: ='Resumen general'!D7 -> 2017 | C6: ='Resumen general'!E7 -> 2018 | D6: ='Resumen general'!F7 -> 2017 | E6: ='Resumen general'!G7 -> 2018 | F6: Var. (%)
A7: A CORUÑA | B7: 4814 | C7: 4498 | D7: 14515 | E7: 8362 | F7: =((E7*100)/D7)-100 -> -42.39063
A8: ALICANTE | B8: 3814 | C8: 7395 | D8: 8078 | E8: 17081 | F8: =((E8*100)/D8)-100 -> 111.45085
A9: ALMERÍA | B9: 1164 | C9: 1091 | D9: 1472 | E9: 1091 | F9: =((E9*100)/D9)-100 -> -25.883152
A10: AVILÉS | B10: 0 | C10: 0 | D10: 0 | E10: 413 | F10: =((E10*100)/D10)-100 -> #DIV/0!
A11: BAHÍA DE ALGECIRAS | B11: 0 | C11: 0 | D11: 0 | E11: 0 | F11: =((E11*100)/D11)-100 -> #DIV/0!
A12: BAHÍA DE CÁDIZ | B12: 9646 | C12: 25586 | D12: 20098 | E12: 51599 | F12: =((E12*100)/D12)-100 -> 156.73699
A13: BALEARES | B13: 29010 | C13: 53520 | D13: 74515 | E13: 174767 | F13: =((E13*100)/D13)-100 -> 134.53935
A14: BARCELONA | B14: 101176 | C14: 117912 | D14: 226542 | E14: 301574 | F14: =((E14*100)/D14)-100 -> 33.120569
A15: BILBAO | B15: 3650 | C15: 0 | D15: 3650 | E15: 562 | F15: =((E15*100)/D15)-100 -> -84.60274
A16: CARTAGENA | B16: 563 | C16: 2223 | D16: 3211 | E16: 4172 | F16: =((E16*100)/D16)-100 -> 29.928371
A17: CASTELLÓN | B17: 0 | C17: 0 | D17: 0 | E17: 0 | F17: =((E17*100)/D17)-100 -> #DIV/0!
A18: CEUTA | B18: 0 | C18: 0 | D18: 0 | E18: 0 | F18: =((E18*100)/D18)-100 -> #DIV/0!
... A34: VILAGARCÍA | B34: 0 | C34: 0 | D34: 0 | E34: 0 | F34: =((E34*100)/D34)-100 -> #DIV/0!
A35: Total | B35: =SUM(B7:B34) -> 402949 | C35: =SUM(C7:C34) -> 616678 | D35: =SUM(D7:D34) -> 1087021 | E35: =SUM(E7:E34) -> 1647527 | F35: =((E35*100)/D35)-100 -> 51.563493
A36: Incluye embarques (inicio de línea), desembarques (fin de línea) y en tránsito.
B38: =E6 -> 2018 | C38: =D6 -> 2017 | F38: =B38 -> 2018 | G38: =C38 -> 2017
A39: =A7 -> A CORUÑA | B39: =E7 -> 8362 | C39: =D7 -> 14515 | D39: =_xlfn.RANK.EQ(B39,$B$39:$B$66)+COUNTIF($B$39:$B$66,B39)-1 -> 9 | E39: =INDEX($A$39:$B$66,MATCH(ROW()-38,$D$39:$D$66,0),1) -> LAS PALMAS | F39: =LOOKUP(E39,$A$39:$A$66,$B$39:$B$66) -> 594328 | G39: =LOOKUP(E39,$A$39:$A$66,$C$39:$C$66) -> 389740
A40: =A8 -> ALICANTE | B40: =E8 -> 17081 | C40: =D8 -> 8078 | D40: =_xlfn.RANK.EQ(B40,$B$39:$B$66)+COUNTIF($B$39:$B$66,B40)-1 -> 8 | E40: =INDEX($A$39:$B$66,MATCH(ROW()-38,$D$39:$D$66,0),1) -> SANTA CRUZ DE TENERIFE | F40: =LOOKUP(E40,$A$39:$A$66,$B$39:$B$66) -> 408013 | G40: =LOOKUP(E40,$A$39:$A$66,$C$39:$C$66) -> 280868
A41: =A9 -> ALMERÍA | B41: =E9 -> 1091 | C41: =D9 -> 1472 | D41: =_xlfn.RANK.EQ(B41,$B$39:$B$66)+COUNTIF($B$39:$B$66,B41)-1 -> 15 | E41: =INDEX($A$39:$B$66,MATCH(ROW()-38,$D$39:$D$66,0),1) -> BARCELONA | F41: =LOOKUP(E41,$A$39:$A$66,$B$39:$B$66) -> 301574 | G41: =LOOKUP(E41,$A$39:$A$66,$C$39:$C$66) -> 226542
A42: =A10 -> AVILÉS | B42: =E10 -> 413 | C42: =D10 -> 0 | D42: =_xlfn.RANK.EQ(B42,$B$39:$B$66)+COUNTIF($B$39:$B$66,B42)-1 -> 18 | E42: =INDEX($A$39:$B$66,MATCH(ROW()-38,$D$39:$D$66,0),1) -> BALEARES | F42: =LOOKUP(E42,$A$39:$A$66,$B$39:$B$66) -> 174767 | G42: =LOOKUP(E42,$A$39:$A$66,$C$39:$C$66) -> 74515
A43: =A11 -> BAHÍA DE ALGECIRAS | B43: =E11 -> 0 | C43: =D11 -> 0 | D43: =_xlfn.RANK.EQ(B43,$B$39:$B$66)+COUNTIF($B$39:$B$66,B43)-1 -> 28 | E43: =INDEX($A$39:$B$66,MATCH(ROW()-38,$D$39:$D$66,0),1) -> MÁLAGA | F43: =LOOKUP(E43,$A$39:$A$66,$B$39:$B$66) -> 54400 | G43: =LOOKUP(E43,$A$39:$A$66,$C$39:$C$66) -> 36271
A44: =A12 -> BAHÍA DE CÁDIZ | B44: =E12 -> 51599 | C44: =D12 -> 20098 | D44: =_xlfn.RANK.EQ(B44,$B$39:$B$66)+COUNTIF($B$39:$B$66,B44)-1 -> 6 | E44: =INDEX($A$39:$B$66,MATCH(ROW()-38,$D$39:$D$66,0),1) -> BAHÍA DE CÁDIZ | F44: =LOOKUP(E44,$A$39:$A$66,$B$39:$B$66) -> 51599 | G44: =LOOKUP(E44,$A$39:$A$66,$C$39:$C$66) -> 20098
A45: =A13 -> BALEARES | B45: =E13 -> 174767 | C45: =D13 -> 74515 | D45: =_xlfn.RANK.EQ(B45,$B$39:$B$66)+COUNTIF($B$39:$B$66,B45)-1 -> 4 | E45: =INDEX($A$39:$B$66,MATCH(ROW()-38,$D$39:$D$66,0),1) -> VALENCIA | F45: =LOOKUP(E45,$A$39:$A$66,$B$39:$B$66) -> 20395 | G45: =LOOKUP(E45,$A$39:$A$66,$C$39:$C$66) -> 21783
A46: =A14 -> BARCELONA | B46: =E14 -> 301574 | C46: =D14 -> 226542 | D46: =_xlfn.RANK.EQ(B46,$B$39:$B$66)+COUNTIF($B$39:$B$66,B46)-1 -> 3 | E46: =INDEX($A$39:$B$66,MATCH(ROW()-38,$D$39:$D$66,0),1) -> ALICANTE | F46: =LOOKUP(E46,$A$39:$A$66,$B$39:$B$66) -> 17081 | G46: =LOOKUP(E46,$A$39:$A$66,$C$39:$C$66) -> 8078
A47: =A15 -> BILBAO | B47: =E15 -> 562 | C47: =D15 -> 3650 | D47: =_xlfn.RANK.EQ(B47,$B$39:$B$66)+COUNTIF($B$39:$B$66,B47)-1 -> 17 | E47: =INDEX($A$39:$B$66,MATCH(ROW()-38,$D$39:$D$66,0),1) -> A CORUÑA | F47: =LOOKUP(E47,$A$39:$A$66,$B$39:$B$66) -> 8362 | G47: =LOOKUP(E47,$A$39:$A$66,$C$39:$C$66) -> 14515
A48: =A16 -> CARTAGENA | B48: =E16 -> 4172 | C48: =D16 -> 3211 | D48: =_xlfn.RANK.EQ(B48,$B$39:$B$66)+COUNTIF($B$39:$B$66,B48)-1 -> 11 | E48: =INDEX($A$39:$B$66,MATCH(ROW()-38,$D$39:$D$66,0),1) -> VIGO | F48: =LOOKUP(E48,$A$39:$A$66,$B$39:$B$66) -> 4789 | G48: =LOOKUP(E48,$A$39:$A$66,$C$39:$C$66) -> 1897
A49: =A17 -> CASTELLÓN | B49: =E17 -> 0 | C49: =D17 -> 0 | D49: =_xlfn.RANK.EQ(B49,$B$39:$B$66)+COUNTIF($B$39:$B$66,B49)-1 -> 28 | E49: =INDEX($A$39:$B$66,MATCH(ROW()-38,$D$39:$D$66,0),1) -> CARTAGENA | F49: =LOOKUP(E49,$A$39:$A$66,$B$39:$B$66) -> 4172 | G49: =LOOKUP(E49,$A$39:$A$66,$C$39:$C$66) -> 3211
A50: =A18 -> CEUTA | B50: =E18 -> 0 | C50: =D18 -> 0 | D50: =_xlfn.RANK.EQ(B50,$B$39:$B$66)+COUNTIF($B$39:$B$66,B50)-1 -> 28 | E50: =INDEX($A$39:$B$66,MATCH(ROW()-38,$D$39:$D$66,0),1) -> FERROL-SAN CIBRAO | F50: =LOOKUP(E50,$A$39:$A$66,$B$39:$B$66) -> 2175 | G50: =LOOKUP(E50,$A$39:$A$66,$C$39:$C$66) -> 462
... A66: =A34 -> VILAGARCÍA | B66: =E34 -> 0 | C66: =D34 -> 0 | D66: =_xlfn.RANK.EQ(B66,$B$39:$B$66)+COUNTIF($B$39:$B$66,B66)-1 -> 28 | E66: =INDEX($A$39:$B$66,MATCH(ROW()-38,$D$39:$D$66,0),1) -> BAHÍA DE ALGECIRAS | F66: =LOOKUP(E66,$A$39:$A$66,$B$39:$B$66) -> 0 | G66: =LOOKUP(E66,$A$39:$A$66,$C$39:$C$66) -> 0

Sheet Automóviles régimen pasaje
F1: 12.1. AUTOMÓVILES EN RÉGIMEN DE PASAJE (unidades)
A5: Autoridad Portuaria | B5: ='Resumen general'!D6 -> Mes marzo | D5: ='Resumen general'!F6 -> Acumulado desde enero | L5: ='Resumen general'!I4 -> Fecha: 12/02/2019
B6: ='Resumen general'!D7 -> 2017 | C6: ='Resumen general'!E7 -> 2018 | D6: ='Resumen general'!F7 -> 2017 | E6: ='Resumen general'!G7 -> 2018 | F6: Var. (%)
A7: A CORUÑA | B7: 0 | C7: 0 | D7: 0 | E7: 0 | F7: =((E7*100)/D7)-100 -> #DIV/0!
A8: ALICANTE | B8: 2030 | C8: 1499 | D8: 5027 | E8: 3958 | F8: =((E8*100)/D8)-100 -> -21.265168
A9: ALMERÍA | B9: 7900 | C9: 9655 | D9: 22328 | E9: 27277 | F9: =((E9*100)/D9)-100 -> 22.164995
A10: AVILÉS | B10: 0 | C10: 0 | D10: 0 | E10: 0 | F10: =((E10*100)/D10)-100 -> #DIV/0!
A11: BAHÍA DE ALGECIRAS | B11: 62414 | C11: 62823 | D11: 193528 | E11: 187173 | F11: =((E11*100)/D11)-100 -> -3.2837626
A12: BAHÍA DE CÁDIZ | B12: 799 | C12: 814 | D12: 2273 | E12: 2468 | F12: =((E12*100)/D12)-100 -> 8.5789705
A13: BALEARES | B13: 32741 | C13: 41341 | D13: 84229 | E13: 100330 | F13: =((E13*100)/D13)-100 -> 19.115744
A14: BARCELONA | B14: 15141 | C14: 20380 | D14: 40109 | E14: 50833 | F14: =((E14*100)/D14)-100 -> 26.737141
A15: BILBAO | B15: 1732 | C15: 4139 | D15: 5757 | E15: 8552 | F15: =((E15*100)/D15)-100 -> 48.549592
A16: CARTAGENA | B16: 0 | C16: 0 | D16: 0 | E16: 0 | F16: =((E16*100)/D16)-100 -> #DIV/0!
A17: CASTELLÓN | B17: 0 | C17: 0 | D17: 0 | E17: 0 | F17: =((E17*100)/D17)-100 -> #DIV/0!
A18: CEUTA | B18: 21749 | C18: 30218 | D18: 62988 | E18: 83790 | F18: =((E18*100)/D18)-100 -> 33.025338
... A34: VILAGARCÍA | B34: 0 | C34: 0 | D34: 0 | E34: 0 | F34: =((E34*100)/D34)-100 -> #DIV/0!
A35: Total | B35: =SUM(B7:B34) -> 283474 | C35: =SUM(C7:C34) -> 352219 | D35: =SUM(D7:D34) -> 812615 | E35: =SUM(E7:E34) -> 925890 | F35: =((E35*100)/D35)-100 -> 13.939565
A36: Incluye embarques, desembarques y en tránsito.
B38: =E6 -> 2018 | C38: =D6 -> 2017 | F38: =B38 -> 2018 | G38: =C38 -> 2017
A39: =A7 -> A CORUÑA | B39: =E7 -> 0 | C39: =D7 -> 0 | D39: =_xlfn.RANK.EQ(B39,$B$39:$B$66)+COUNTIF($B$39:$B$66,B39)-1 -> 28 | E39: =INDEX($A$39:$B$66,MATCH(ROW()-38,$D$39:$D$66,0),1) -> SANTA CRUZ DE TENERIFE | F39: =LOOKUP(E39,$A$39:$A$66,$B$39:$B$66) -> 282944 | G39: =LOOKUP(E39,$A$39:$A$66,$C$39:$C$66) -> 235835
A40: =A8 -> ALICANTE | B40: =E8 -> 3958 | C40: =D8 -> 5027 | D40: =_xlfn.RANK.EQ(B40,$B$39:$B$66)+COUNTIF($B$39:$B$66,B40)-1 -> 15 | E40: =INDEX($A$39:$B$66,MATCH(ROW()-38,$D$39:$D$66,0),1) -> BAHÍA DE ALGECIRAS | F40: =LOOKUP(E40,$A$39:$A$66,$B$39:$B$66) -> 187173 | G40: =LOOKUP(E40,$A$39:$A$66,$C$39:$C$66) -> 193528
A41: =A9 -> ALMERÍA | B41: =E9 -> 27277 | C41: =D9 -> 22328 | D41: =_xlfn.RANK.EQ(B41,$B$39:$B$66)+COUNTIF($B$39:$B$66,B41)-1 -> 8 | E41: =INDEX($A$39:$B$66,MATCH(ROW()-38,$D$39:$D$66,0),1) -> BALEARES | F41: =LOOKUP(E41,$A$39:$A$66,$B$39:$B$66) -> 100330 | G41: =LOOKUP(E41,$A$39:$A$66,$C$39:$C$66) -> 84229
A42: =A10 -> AVILÉS | B42: =E10 -> 0 | C42: =D10 -> 0 | D42: =_xlfn.RANK.EQ(B42,$B$39:$B$66)+COUNTIF($B$39:$B$66,B42)-1 -> 28 | E42: =INDEX($A$39:$B$66,MATCH(ROW()-38,$D$39:$D$66,0),1) -> LAS PALMAS | F42: =LOOKUP(E42,$A$39:$A$66,$B$39:$B$66) -> 89829 | G42: =LOOKUP(E42,$A$39:$A$66,$C$39:$C$66) -> 78412
A43: =A11 -> BAHÍA DE ALGECIRAS | B43: =E11 -> 187173 | C43: =D11 -> 193528 | D43: =_xlfn.RANK.EQ(B43,$B$39:$B$66)+COUNTIF($B$39:$B$66,B43)-1 -> 2 | E43: =INDEX($A$39:$B$66,MATCH(ROW()-38,$D$39:$D$66,0),1) -> CEUTA | F43: =LOOKUP(E43,$A$39:$A$66,$B$39:$B$66) -> 83790 | G43: =LOOKUP(E43,$A$39:$A$66,$C$39:$C$66) -> 62988
A44: =A12 -> BAHÍA DE CÁDIZ | B44: =E12 -> 2468 | C44: =D12 -> 2273 | D44: =_xlfn.RANK.EQ(B44,$B$39:$B$66)+COUNTIF($B$39:$B$66,B44)-1 -> 16 | E44: =INDEX($A$39:$B$66,MATCH(ROW()-38,$D$39:$D$66,0),1) -> BARCELONA | F44: =LOOKUP(E44,$A$39:$A$66,$B$39:$B$66) -> 50833 | G44: =LOOKUP(E44,$A$39:$A$66,$C$39:$C$66) -> 40109
A45: =A13 -> BALEARES | B45: =E13 -> 100330 | C45: =D13 -> 84229 | D45: =_xlfn.RANK.EQ(B45,$B$39:$B$66)+COUNTIF($B$39:$B$66,B45)-1 -> 3 | E45: =INDEX($A$39:$B$66,MATCH(ROW()-38,$D$39:$D$66,0),1) -> VALENCIA | F45: =LOOKUP(E45,$A$39:$A$66,$B$39:$B$66) -> 30100 | G45: =LOOKUP(E45,$A$39:$A$66,$C$39:$C$66) -> 26269
A46: =A14 -> BARCELONA | B46: =E14 -> 50833 | C46: =D14 -> 40109 | D46: =_xlfn.RANK.EQ(B46,$B$39:$B$66)+COUNTIF($B$39:$B$66,B46)-1 -> 6 | E46: =INDEX($A$39:$B$66,MATCH(ROW()-38,$D$39:$D$66,0),1) -> ALMERÍA | F46: =LOOKUP(E46,$A$39:$A$66,$B$39:$B$66) -> 27277 | G46: =LOOKUP(E46,$A$39:$A$66,$C$39:$C$66) -> 22328
A47: =A15 -> BILBAO | B47: =E15 -> 8552 | C47: =D15 -> 5757 | D47: =_xlfn.RANK.EQ(B47,$B$39:$B$66)+COUNTIF($B$39:$B$66,B47)-1 -> 12 | E47: =INDEX($A$39:$B$66,MATCH(ROW()-38,$D$39:$D$66,0),1) -> MELILLA | F47: =LOOKUP(E47,$A$39:$A$66,$B$39:$B$66) -> 26516 | G47: =LOOKUP(E47,$A$39:$A$66,$C$39:$C$66) -> 23693
A48: =A16 -> CARTAGENA | B48: =E16 -> 0 | C48: =D16 -> 0 | D48: =_xlfn.RANK.EQ(B48,$B$39:$B$66)+COUNTIF($B$39:$B$66,B48)-1 -> 28 | E48: =INDEX($A$39:$B$66,MATCH(ROW()-38,$D$39:$D$66,0),1) -> SANTANDER | F48: =LOOKUP(E48,$A$39:$A$66,$B$39:$B$66) -> 11554 | G48: =LOOKUP(E48,$A$39:$A$66,$C$39:$C$66) -> 12927
A49: =A17 -> CASTELLÓN | B49: =E17 -> 0 | C49: =D17 -> 0 | D49: =_xlfn.RANK.EQ(B49,$B$39:$B$66)+COUNTIF($B$39:$B$66,B49)-1 -> 28 | E49: =INDEX($A$39:$B$66,MATCH(ROW()-38,$D$39:$D$66,0),1) -> MOTRIL | F49: =LOOKUP(E49,$A$39:$A$66,$B$39:$B$66) -> 9915 | G49: =LOOKUP(E49,$A$39:$A$66,$C$39:$C$66) -> 9340
A50: =A18 -> CEUTA | B50: =E18 -> 83790 | C50: =D18 -> 62988 | D50: =_xlfn.RANK.EQ(B50,$B$39:$B$66)+COUNTIF($B$39:$B$66,B50)-1 -> 5 | E50: =INDEX($A$39:$B$66,MATCH(ROW()-38,$D$39:$D$66,0),1) -> BILBAO | F50: =LOOKUP(E50,$A$39:$A$66,$B$39:$B$66) -> 8552 | G50: =LOOKUP(E50,$A$39:$A$66,$C$39:$C$66) -> 5757
... A66: =A34 -> VILAGARCÍA | B66: =E34 -> 0 | C66: =D34 -> 0 | D66: =_xlfn.RANK.EQ(B66,$B$39:$B$66)+COUNTIF($B$39:$B$66,B66)-1 -> 28 | E66: =INDEX($A$39:$B$66,MATCH(ROW()-38,$D$39:$D$66,0),1) -> A CORUÑA | F66: =LOOKUP(E66,$A$39:$A$66,$B$39:$B$66) -> 0 | G66: =LOOKUP(E66,$A$39:$A$66,$C$39:$C$66) -> 0

Sheet Automóviles régimen mercancía
E1: 12.2. TURISMOS, AUTOBUSES Y CAMIONES EN RÉGIMEN DE MERCANCÍA
H2: (unidades)
A5: Autoridad Portuaria | B5: ='Resumen general'!D6 -> Mes marzo | D5: ='Resumen general'!F6 -> Acumulado desde enero | L5: ='Resumen general'!I4 -> Fecha: 12/02/2019
B6: ='Resumen general'!D7 -> 2017 | C6: ='Resumen general'!E7 -> 2018 | D6: ='Resumen general'!F7 -> 2017 | E6: ='Resumen general'!G7 -> 2018 | F6: Var. (%)
A7: A CORUÑA | B7: 0 | C7: 0 | D7: 0 | E7: 0 | F7: =((E7*100)/D7)-100 -> #DIV/0!
A8: ALICANTE | B8: 0 | C8: 0 | D8: 0 | E8: 0 | F8: =((E8*100)/D8)-100 -> #DIV/0!
A9: ALMERÍA | B9: 39 | C9: 28 | D9: 118 | E9: 68 | F9: =((E9*100)/D9)-100 -> -42.372881
A10: AVILÉS | B10: 0 | C10: 0 | D10: 0 | E10: 0 | F10: =((E10*100)/D10)-100 -> #DIV/0!
A11: BAHÍA DE ALGECIRAS | B11: 1003 | C11: 383 | D11: 3344 | E11: 1140 | F11: =((E11*100)/D11)-100 -> -65.909091
A12: BAHÍA DE CÁDIZ | B12: 1673 | C12: 1178 | D12: 3747 | E12: 3975 | F12: =((E12*100)/D12)-100 -> 6.0848679
A13: BALEARES | B13: 19139 | C13: 17726 | D13: 35861 | E13: 38837 | F13: =((E13*100)/D13)-100 -> 8.2987089
A14: BARCELONA | B14: 90869 | C14: 90591 | D14: 204034 | E14: 217104 | F14: =((E14*100)/D14)-100 -> 6.4057951
A15: BILBAO | B15: 851 | C15: 1229 | D15: 1554 | E15: 3200 | F15: =((E15*100)/D15)-100 -> 105.92021
A16: CARTAGENA | B16: 0 | C16: 0 | D16: 0 | E16: 0 | F16: =((E16*100)/D16)-100 -> #DIV/0!
A17: CASTELLÓN | B17: 0 | C17: 17 | D17: 0 | E17: 74 | F17: =((E17*100)/D17)-100 -> #DIV/0!
A18: CEUTA | B18: 150 | C18: 65 | D18: 329 | E18: 245 | F18: =((E18*100)/D18)-100 -> -25.531915
... A34: VILAGARCÍA | B34: 0 | C34: 0 | D34: 0 | E34: 0 | F34: =((E34*100)/D34)-100 -> #DIV/0!
A35: Total | B35: =SUM(B7:B34) -> 355443 | C35: =SUM(C7:C34) -> 335978 | D35: =SUM(D7:D34) -> 862752 | E35: =SUM(E7:E34) -> 870953 | F35: =((E35*100)/D35)-100 -> 0.95056285
A36: Incluye cargas, descargas, tránsitos y transbordos. Sólo turismos, autobuses y camiones.
B38: =E6 -> 2018 | C38: =D6 -> 2017 | F38: =B38 -> 2018 | G38: =C38 -> 2017
A39: =A7 -> A CORUÑA | B39: =E7 -> 0 | C39: =D7 -> 0 | D39: =_xlfn.RANK.EQ(B39,$B$39:$B$66)+COUNTIF($B$39:$B$66,B39)-1 -> 28 | E39: =INDEX($A$39:$B$66,MATCH(ROW()-38,$D$39:$D$66,0),1) -> VALENCIA | F39: =LOOKUP(E39,$A$39:$A$66,$B$39:$B$66) -> 219231 | G39: =LOOKUP(E39,$A$39:$A$66,$C$39:$C$66) -> 206799
A40: =A8 -> ALICANTE | B40: =E8 -> 0 | C40: =D8 -> 0 | D40: =_xlfn.RANK.EQ(B40,$B$39:$B$66)+COUNTIF($B$39:$B$66,B40)-1 -> 28 | E40: =INDEX($A$39:$B$66,MATCH(ROW()-38,$D$39:$D$66,0),1) -> BARCELONA | F40: =LOOKUP(E40,$A$39:$A$66,$B$39:$B$66) -> 217104 | G40: =LOOKUP(E40,$A$39:$A$66,$C$39:$C$66) -> 204034
A41: =A9 -> ALMERÍA | B41: =E9 -> 68 | C41: =D9 -> 118 | D41: =_xlfn.RANK.EQ(B41,$B$39:$B$66)+COUNTIF($B$39:$B$66,B41)-1 -> 17 | E41: =INDEX($A$39:$B$66,MATCH(ROW()-38,$D$39:$D$66,0),1) -> SANTANDER | F41: =LOOKUP(E41,$A$39:$A$66,$B$39:$B$66) -> 115916 | G41: =LOOKUP(E41,$A$39:$A$66,$C$39:$C$66) -> 137403
A42: =A10 -> AVILÉS | B42: =E10 -> 0 | C42: =D10 -> 0 | D42: =_xlfn.RANK.EQ(B42,$B$39:$B$66)+COUNTIF($B$39:$B$66,B42)-1 -> 28 | E42: =INDEX($A$39:$B$66,MATCH(ROW()-38,$D$39:$D$66,0),1) -> VIGO | F42: =LOOKUP(E42,$A$39:$A$66,$B$39:$B$66) -> 112258 | G42: =LOOKUP(E42,$A$39:$A$66,$C$39:$C$66) -> 115077
A43: =A11 -> BAHÍA DE ALGECIRAS | B43: =E11 -> 1140 | C43: =D11 -> 3344 | D43: =_xlfn.RANK.EQ(B43,$B$39:$B$66)+COUNTIF($B$39:$B$66,B43)-1 -> 12 | E43: =INDEX($A$39:$B$66,MATCH(ROW()-38,$D$39:$D$66,0),1) -> PASAIA | F43: =LOOKUP(E43,$A$39:$A$66,$B$39:$B$66) -> 62596 | G43: =LOOKUP(E43,$A$39:$A$66,$C$39:$C$66) -> 61680
A44: =A12 -> BAHÍA DE CÁDIZ | B44: =E12 -> 3975 | C44: =D12 -> 3747 | D44: =_xlfn.RANK.EQ(B44,$B$39:$B$66)+COUNTIF($B$39:$B$66,B44)-1 -> 10 | E44: =INDEX($A$39:$B$66,MATCH(ROW()-38,$D$39:$D$66,0),1) -> TARRAGONA | F44: =LOOKUP(E44,$A$39:$A$66,$B$39:$B$66) -> 55431 | G44: =LOOKUP(E44,$A$39:$A$66,$C$39:$C$66) -> 54187
A45: =A13 -> BALEARES | B45: =E13 -> 38837 | C45: =D13 -> 35861 | D45: =_xlfn.RANK.EQ(B45,$B$39:$B$66)+COUNTIF($B$39:$B$66,B45)-1 -> 7 | E45: =INDEX($A$39:$B$66,MATCH(ROW()-38,$D$39:$D$66,0),1) -> BALEARES | F45: =LOOKUP(E45,$A$39:$A$66,$B$39:$B$66) -> 38837 | G45: =LOOKUP(E45,$A$39:$A$66,$C$39:$C$66) -> 35861
A46: =A14 -> BARCELONA | B46: =E14 -> 217104 | C46: =D14 -> 204034 | D46: =_xlfn.RANK.EQ(B46,$B$39:$B$66)+COUNTIF($B$39:$B$66,B46)-1 -> 2 | E46: =INDEX($A$39:$B$66,MATCH(ROW()-38,$D$39:$D$66,0),1) -> LAS PALMAS | F46: =LOOKUP(E46,$A$39:$A$66,$B$39:$B$66) -> 23120 | G46: =LOOKUP(E46,$A$39:$A$66,$C$39:$C$66) -> 21059
A47: =A15 -> BILBAO | B47: =E15 -> 3200 | C47: =D15 -> 1554 | D47: =_xlfn.RANK.EQ(B47,$B$39:$B$66)+COUNTIF($B$39:$B$66,B47)-1 -> 11 | E47: =INDEX($A$39:$B$66,MATCH(ROW()-38,$D$39:$D$66,0),1) -> SANTA CRUZ DE TENERIFE | F47: =LOOKUP(E47,$A$39:$A$66,$B$39:$B$66) -> 17051 | G47: =LOOKUP(E47,$A$39:$A$66,$C$39:$C$66) -> 16518
A48: =A16 -> CARTAGENA | B48: =E16 -> 0 | C48: =D16 -> 0 | D48: =_xlfn.RANK.EQ(B48,$B$39:$B$66)+COUNTIF($B$39:$B$66,B48)-1 -> 28 | E48: =INDEX($A$39:$B$66,MATCH(ROW()-38,$D$39:$D$66,0),1) -> BAHÍA DE CÁDIZ | F48: =LOOKUP(E48,$A$39:$A$66,$B$39:$B$66) -> 3975 | G48: =LOOKUP(E48,$A$39:$A$66,$C$39:$C$66) -> 3747
A49: =A17 -> CASTELLÓN | B49: =E17 -> 74 | C49: =D17 -> 0 | D49: =_xlfn.RANK.EQ(B49,$B$39:$B$66)+COUNTIF($B$39:$B$66,B49)-1 -> 16 | E49: =INDEX($A$39:$B$66,MATCH(ROW()-38,$D$39:$D$66,0),1) -> BILBAO | F49: =LOOKUP(E49,$A$39:$A$66,$B$39:$B$66) -> 3200 | G49: =LOOKUP(E49,$A$39:$A$66,$C$39:$C$66) -> 1554
A50: =A18 -> CEUTA | B50: =E18 -> 245 | C50: =D18 -> 329 | D50: =_xlfn.RANK.EQ(B50,$B$39:$B$66)+COUNTIF($B$39:$B$66,B50)-1 -> 15 | E50: =INDEX($A$39:$B$66,MATCH(ROW()-38,$D$39:$D$66,0),1) -> BAHÍA DE ALGECIRAS | F50: =LOOKUP(E50,$A$39:$A$66,$B$39:$B$66) -> 1140 | G50: =LOOKUP(E50,$A$39:$A$66,$C$39:$C$66) -> 3344
... A66: =A34 -> VILAGARCÍA | B66: =E34 -> 0 | C66: =D34 -> 0 | D66: =_xlfn.RANK.EQ(B66,$B$39:$B$66)+COUNTIF($B$39:$B$66,B66)-1 -> 28 | E66: =INDEX($A$39:$B$66,MATCH(ROW()-38,$D$39:$D$66,0),1) -> A CORUÑA | F66: =LOOKUP(E66,$A$39:$A$66,$B$39:$B$66) -> 0 | G66: =LOOKUP(E66,$A$39:$A$66,$C$39:$C$66) -> 0

Sheet Buques número
F1: 13. BUQUES MERCANTES (unidades)
A5: Autoridad Portuaria | B5: ='Resumen general'!D6 -> Mes marzo | D5: ='Resumen general'!F6 -> Acumulado desde enero | L5: ='Resumen general'!I4 -> Fecha: 12/02/2019
B6: ='Resumen general'!D7 -> 2017 | C6: ='Resumen general'!E7 -> 2018 | D6: ='Resumen general'!F7 -> 2017 | E6: ='Resumen general'!G7 -> 2018 | F6: Var. (%)
A7: A CORUÑA | B7: 95 | C7: 95 | D7: 263 | E7: 283 | F7: =((E7*100)/D7)-100 -> 7.6045627
A8: ALICANTE | B8: 68 | C8: 66 | D8: 191 | E8: 177 | F8: =((E8*100)/D8)-100 -> -7.3298429
A9: ALMERÍA | B9: 155 | C9: 132 | D9: 409 | E9: 398 | F9: =((E9*100)/D9)-100 -> -2.6894866
A10: AVILÉS | B10: 77 | C10: 66 | D10: 207 | E10: 186 | F10: =((E10*100)/D10)-100 -> -10.144928
A11: BAHÍA DE ALGECIRAS | B11: 2064 | C11: 1925 | D11: 6415 | E11: 6120 | F11: =((E11*100)/D11)-100 -> -4.598597
A12: BAHÍA DE CÁDIZ | B12: 73 | C12: 81 | D12: 260 | E12: 291 | F12: =((E12*100)/D12)-100 -> 11.923077
A13: BALEARES | B13: 2276 | C13: 2413 | D13: 6203 | E13: 6649 | F13: =((E13*100)/D13)-100 -> 7.1900693
A14: BARCELONA | B14: 726 | C14: 727 | D14: 1937 | E14: 2073 | F14: =((E14*100)/D14)-100 -> 7.0211668
A15: BILBAO | B15: 235 | C15: 233 | D15: 631 | E15: 677 | F15: =((E15*100)/D15)-100 -> 7.2900158
A16: CARTAGENA | B16: 156 | C16: 155 | D16: 437 | E16: 485 | F16: =((E16*100)/D16)-100 -> 10.983982
A17: CASTELLÓN | B17: 153 | C17: 156 | D17: 414 | E17: 456 | F17: =((E17*100)/D17)-100 -> 10.144928
A18: CEUTA | B18: 884 | C18: 924 | D18: 2536 | E18: 2666 | F18: =((E18*100)/D18)-100 -> 5.126183
... A34: VILAGARCÍA | B34: 27 | C34: 20 | D34: 70 | E34: 77 | F34: =((E34*100)/D34)-100 -> 10
A35: Total | B35: =SUM(B7:B34) -> 11186 | C35: =SUM(C7:C34) -> 11358 | D35: =SUM(D7:D34) -> 31823 | E35: =SUM(E7:E34) -> 33148 | F35: =((E35*100)/D35)-100 -> 4.1636552
A36: Incluye tanques, graneleros, de carga general, ro-ro, solo de pasaje, cruceros, portacontenedores y otros buques mercantes.
B38: =E6 -> 2018 | C38: =D6 -> 2017 | F38: =B38 -> 2018 | G38: =C38 -> 2017
A39: =A7 -> A CORUÑA | B39: =E7 -> 283 | C39: =D7 -> 263 | D39: =_xlfn.RANK.EQ(B39,$B$39:$B$66)+COUNTIF($B$39:$B$66,B39)-1 -> 21 | E39: =INDEX($A$39:$B$66,MATCH(ROW()-38,$D$39:$D$66,0),1) -> BALEARES | F39: =LOOKUP(E39,$A$39:$A$66,$B$39:$B$66) -> 6649 | G39: =LOOKUP(E39,$A$39:$A$66,$C$39:$C$66) -> 6203
A40: =A8 -> ALICANTE | B40: =E8 -> 177 | C40: =D8 -> 191 | D40: =_xlfn.RANK.EQ(B40,$B$39:$B$66)+COUNTIF($B$39:$B$66,B40)-1 -> 26 | E40: =INDEX($A$39:$B$66,MATCH(ROW()-38,$D$39:$D$66,0),1) -> BAHÍA DE ALGECIRAS | F40: =LOOKUP(E40,$A$39:$A$66,$B$39:$B$66) -> 6120 | G40: =LOOKUP(E40,$A$39:$A$66,$C$39:$C$66) -> 6415
A41: =A9 -> ALMERÍA | B41: =E9 -> 398 | C41: =D9 -> 409 | D41: =_xlfn.RANK.EQ(B41,$B$39:$B$66)+COUNTIF($B$39:$B$66,B41)-1 -> 15 | E41: =INDEX($A$39:$B$66,MATCH(ROW()-38,$D$39:$D$66,0),1) -> SANTA CRUZ DE TENERIFE | F41: =LOOKUP(E41,$A$39:$A$66,$B$39:$B$66) -> 3694 | G41: =LOOKUP(E41,$A$39:$A$66,$C$39:$C$66) -> 3107
A42: =A10 -> AVILÉS | B42: =E10 -> 186 | C42: =D10 -> 207 | D42: =_xlfn.RANK.EQ(B42,$B$39:$B$66)+COUNTIF($B$39:$B$66,B42)-1 -> 25 | E42: =INDEX($A$39:$B$66,MATCH(ROW()-38,$D$39:$D$66,0),1) -> LAS PALMAS | F42: =LOOKUP(E42,$A$39:$A$66,$B$39:$B$66) -> 2960 | G42: =LOOKUP(E42,$A$39:$A$66,$C$39:$C$66) -> 2803
A43: =A11 -> BAHÍA DE ALGECIRAS | B43: =E11 -> 6120 | C43: =D11 -> 6415 | D43: =_xlfn.RANK.EQ(B43,$B$39:$B$66)+COUNTIF($B$39:$B$66,B43)-1 -> 2 | E43: =INDEX($A$39:$B$66,MATCH(ROW()-38,$D$39:$D$66,0),1) -> CEUTA | F43: =LOOKUP(E43,$A$39:$A$66,$B$39:$B$66) -> 2666 | G43: =LOOKUP(E43,$A$39:$A$66,$C$39:$C$66) -> 2536
A44: =A12 -> BAHÍA DE CÁDIZ | B44: =E12 -> 291 | C44: =D12 -> 260 | D44: =_xlfn.RANK.EQ(B44,$B$39:$B$66)+COUNTIF($B$39:$B$66,B44)-1 -> 20 | E44: =INDEX($A$39:$B$66,MATCH(ROW()-38,$D$39:$D$66,0),1) -> BARCELONA | F44: =LOOKUP(E44,$A$39:$A$66,$B$39:$B$66) -> 2073 | G44: =LOOKUP(E44,$A$39:$A$66,$C$39:$C$66) -> 1937
A45: =A13 -> BALEARES | B45: =E13 -> 6649 | C45: =D13 -> 6203 | D45: =_xlfn.RANK.EQ(B45,$B$39:$B$66)+COUNTIF($B$39:$B$66,B45)-1 -> 1 | E45: =INDEX($A$39:$B$66,MATCH(ROW()-38,$D$39:$D$66,0),1) -> VALENCIA | F45: =LOOKUP(E45,$A$39:$A$66,$B$39:$B$66) -> 1817 | G45: =LOOKUP(E45,$A$39:$A$66,$C$39:$C$66) -> 1799
A46: =A14 -> BARCELONA | B46: =E14 -> 2073 | C46: =D14 -> 1937 | D46: =_xlfn.RANK.EQ(B46,$B$39:$B$66)+COUNTIF($B$39:$B$66,B46)-1 -> 6 | E46: =INDEX($A$39:$B$66,MATCH(ROW()-38,$D$39:$D$66,0),1) -> BILBAO | F46: =LOOKUP(E46,$A$39:$A$66,$B$39:$B$66) -> 677 | G46: =LOOKUP(E46,$A$39:$A$66,$C$39:$C$66) -> 631
A47: =A15 -> BILBAO | B47: =E15 -> 677 | C47: =D15 -> 631 | D47: =_xlfn.RANK.EQ(B47,$B$39:$B$66)+COUNTIF($B$39:$B$66,B47)-1 -> 8 | E47: =INDEX($A$39:$B$66,MATCH(ROW()-38,$D$39:$D$66,0),1) -> TARRAGONA | F47: =LOOKUP(E47,$A$39:$A$66,$B$39:$B$66) -> 633 | G47: =LOOKUP(E47,$A$39:$A$66,$C$39:$C$66) -> 642
A48: =A16 -> CARTAGENA | B48: =E16 -> 485 | C48: =D16 -> 437 | D48: =_xlfn.RANK.EQ(B48,$B$39:$B$66)+COUNTIF($B$39:$B$66,B48)-1 -> 11 | E48: =INDEX($A$39:$B$66,MATCH(ROW()-38,$D$39:$D$66,0),1) -> HUELVA | F48: =LOOKUP(E48,$A$39:$A$66,$B$39:$B$66) -> 578 | G48: =LOOKUP(E48,$A$39:$A$66,$C$39:$C$66) -> 568
A49: =A17 -> CASTELLÓN | B49: =E17 -> 456 | C49: =D17 -> 414 | D49: =_xlfn.RANK.EQ(B49,$B$39:$B$66)+COUNTIF($B$39:$B$66,B49)-1 -> 12 | E49: =INDEX($A$39:$B$66,MATCH(ROW()-38,$D$39:$D$66,0),1) -> CARTAGENA | F49: =LOOKUP(E49,$A$39:$A$66,$B$39:$B$66) -> 485 | G49: =LOOKUP(E49,$A$39:$A$66,$C$39:$C$66) -> 437
A50: =A18 -> CEUTA | B50: =E18 -> 2666 | C50: =D18 -> 2536 | D50: =_xlfn.RANK.EQ(B50,$B$39:$B$66)+COUNTIF($B$39:$B$66,B50)-1 -> 5 | E50: =INDEX($A$39:$B$66,MATCH(ROW()-38,$D$39:$D$66,0),1) -> CASTELLÓN | F50: =LOOKUP(E50,$A$39:$A$66,$B$39:$B$66) -> 456 | G50: =LOOKUP(E50,$A$39:$A$66,$C$39:$C$66) -> 414
... A66: =A34 -> VILAGARCÍA | B66: =E34 -> 77 | C66: =D34 -> 70 | D66: =_xlfn.RANK.EQ(B66,$B$39:$B$66)+COUNTIF($B$39:$B$66,B66)-1 -> 28 | E66: =INDEX($A$39:$B$66,MATCH(ROW()-38,$D$39:$D$66,0),1) -> VILAGARCÍA | F66: =LOOKUP(E66,$A$39:$A$66,$B$39:$B$66) -> 77 | G66: =LOOKUP(E66,$A$39:$A$66,$C$39:$C$66) -> 70

Sheet Buques GT
F1: 13.1. BUQUES MERCANTES (unidades de arqueo bruto)
A5: Autoridad Portuaria | B5: ='Resumen general'!D6 -> Mes marzo | D5: ='Resumen general'!F6 -> Acumulado desde enero | L5: ='Resumen general'!I4 -> Fecha: 12/02/2019
B6: ='Resumen general'!D7 -> 2017 | C6: ='Resumen general'!E7 -> 2018 | D6: ='Resumen general'!F7 -> 2017 | E6: ='Resumen general'!G7 -> 2018 | F6: Var. (%)
A7: A CORUÑA | B7: 1460859 | C7: 1205189 | D7: 3974270 | E7: 3917541 | F7: =((E7*100)/D7)-100 -> -1.4274068
A8: ALICANTE | B8: 794742 | C8: 909590 | D8: 2206037 | E8: 2346439 | F8: =((E8*100)/D8)-100 -> 6.3644445
A9: ALMERÍA | B9: 2228416 | C9: 2349752 | D9: 6606824 | E9: 6690332 | F9: =((E9*100)/D9)-100 -> 1.2639659
A10: AVILÉS | B10: 622956 | C10: 523520 | D10: 1423745 | E10: 1349765 | F10: =((E10*100)/D10)-100 -> -5.1961552
A11: BAHÍA DE ALGECIRAS | B11: 30722496 | C11: 28795403 | D11: 94663829 | E11: 91198468 | F11: =((E11*100)/D11)-100 -> -3.6607023
A12: BAHÍA DE CÁDIZ | B12: 1354831 | C12: 1731823 | D12: 3710158 | E12: 4861137 | F12: =((E12*100)/D12)-100 -> 31.022372
A13: BALEARES | B13: 14019203 | C13: 14733451 | D13: 37259265 | E13: 41303997 | F13: =((E13*100)/D13)-100 -> 10.855641
A14: BARCELONA | B14: 23400841 | C14: 25981969 | D14: 63371087 | E14: 72934038 | F14: =((E14*100)/D14)-100 -> 15.090401
A15: BILBAO | B15: 3522149 | C15: 3604751 | D15: 9567127 | E15: 10520198 | F15: =((E15*100)/D15)-100 -> 9.9619353
A16: CARTAGENA | B16: 2767958 | C16: 2427604 | D16: 7896820 | E16: 7954883 | F16: =((E16*100)/D16)-100 -> 0.73527065
A17: CASTELLÓN | B17: 2119376 | C17: 2184498 | D17: 5872103 | E17: 6733477 | F17: =((E17*100)/D17)-100 -> 14.668918
A18: CEUTA | B18: 5040308 | C18: 6137376 | D18: 14791983 | E18: 17039803 | F18: =((E18*100)/D18)-100 -> 15.196205
... A34: VILAGARCÍA | B34: 177952 | C34: 155956 | D34: 454690 | E34: 616420 | F34: =((E34*100)/D34)-100 -> 35.569289
A35: Total | B35: =SUM(B7:B34) -> 169559382 | C35: =SUM(C7:C34) -> 178376351 | D35: =SUM(D7:D34) -> 480123420 | E35: =SUM(E7:E34) -> 514681663 | F35: =((E35*100)/D35)-100 -> 7.1977832
A36: Unidades de arqueo bruto en G.T.
B38: =E6 -> 2018 | C38: =D6 -> 2017 | F38: =B38 -> 2018 | G38: =C38 -> 2017
A39: =A7 -> A CORUÑA | B39: =E7 -> 3917541 | C39: =D7 -> 3974270 | D39: =_xlfn.RANK.EQ(B39,$B$39:$B$66)+COUNTIF($B$39:$B$66,B39)-1 -> 21 | E39: =INDEX($A$39:$B$66,MATCH(ROW()-38,$D$39:$D$66,0),1) -> BAHÍA DE ALGECIRAS | F39: =LOOKUP(E39,$A$39:$A$66,$B$39:$B$66) -> 91198468 | G39: =LOOKUP(E39,$A$39:$A$66,$C$39:$C$66) -> 94663829
A40: =A8 -> ALICANTE | B40: =E8 -> 2346439 | C40: =D8 -> 2206037 | D40: =_xlfn.RANK.EQ(B40,$B$39:$B$66)+COUNTIF($B$39:$B$66,B40)-1 -> 23 | E40: =INDEX($A$39:$B$66,MATCH(ROW()-38,$D$39:$D$66,0),1) -> BARCELONA | F40: =LOOKUP(E40,$A$39:$A$66,$B$39:$B$66) -> 72934038 | G40: =LOOKUP(E40,$A$39:$A$66,$C$39:$C$66) -> 63371087
A41: =A9 -> ALMERÍA | B41: =E9 -> 6690332 | C41: =D9 -> 6606824 | D41: =_xlfn.RANK.EQ(B41,$B$39:$B$66)+COUNTIF($B$39:$B$66,B41)-1 -> 16 | E41: =INDEX($A$39:$B$66,MATCH(ROW()-38,$D$39:$D$66,0),1) -> LAS PALMAS | F41: =LOOKUP(E41,$A$39:$A$66,$B$39:$B$66) -> 67164735 | G41: =LOOKUP(E41,$A$39:$A$66,$C$39:$C$66) -> 58387592
A42: =A10 -> AVILÉS | B42: =E10 -> 1349765 | C42: =D10 -> 1423745 | D42: =_xlfn.RANK.EQ(B42,$B$39:$B$66)+COUNTIF($B$39:$B$66,B42)-1 -> 25 | E42: =INDEX($A$39:$B$66,MATCH(ROW()-38,$D$39:$D$66,0),1) -> VALENCIA | F42: =LOOKUP(E42,$A$39:$A$66,$B$39:$B$66) -> 61681850 | G42: =LOOKUP(E42,$A$39:$A$66,$C$39:$C$66) -> 57947034
A43: =A11 -> BAHÍA DE ALGECIRAS | B43: =E11 -> 91198468 | C43: =D11 -> 94663829 | D43: =_xlfn.RANK.EQ(B43,$B$39:$B$66)+COUNTIF($B$39:$B$66,B43)-1 -> 1 | E43: =INDEX($A$39:$B$66,MATCH(ROW()-38,$D$39:$D$66,0),1) -> SANTA CRUZ DE TENERIFE | F43: =LOOKUP(E43,$A$39:$A$66,$B$39:$B$66) -> 50606043 | G43: =LOOKUP(E43,$A$39:$A$66,$C$39:$C$66) -> 44641367
A44: =A12 -> BAHÍA DE CÁDIZ | B44: =E12 -> 4861137 | C44: =D12 -> 3710158 | D44: =_xlfn.RANK.EQ(B44,$B$39:$B$66)+COUNTIF($B$39:$B$66,B44)-1 -> 19 | E44: =INDEX($A$39:$B$66,MATCH(ROW()-38,$D$39:$D$66,0),1) -> BALEARES | F44: =LOOKUP(E44,$A$39:$A$66,$B$39:$B$66) -> 41303997 | G44: =LOOKUP(E44,$A$39:$A$66,$C$39:$C$66) -> 37259265
A45: =A13 -> BALEARES | B45: =E13 -> 41303997 | C45: =D13 -> 37259265 | D45: =_xlfn.RANK.EQ(B45,$B$39:$B$66)+COUNTIF($B$39:$B$66,B45)-1 -> 6 | E45: =INDEX($A$39:$B$66,MATCH(ROW()-38,$D$39:$D$66,0),1) -> CEUTA | F45: =LOOKUP(E45,$A$39:$A$66,$B$39:$B$66) -> 17039803 | G45: =LOOKUP(E45,$A$39:$A$66,$C$39:$C$66) -> 14791983
A46: =A14 -> BARCELONA | B46: =E14 -> 72934038 | C46: =D14 -> 63371087 | D46: =_xlfn.RANK.EQ(B46,$B$39:$B$66)+COUNTIF($B$39:$B$66,B46)-1 -> 2 | E46: =INDEX($A$39:$B$66,MATCH(ROW()-38,$D$39:$D$66,0),1) -> TARRAGONA | F46: =LOOKUP(E46,$A$39:$A$66,$B$39:$B$66) -> 10902061 | G46: =LOOKUP(E46,$A$39:$A$66,$C$39:$C$66) -> 11566495
A47: =A15 -> BILBAO | B47: =E15 -> 10520198 | C47: =D15 -> 9567127 | D47: =_xlfn.RANK.EQ(B47,$B$39:$B$66)+COUNTIF($B$39:$B$66,B47)-1 -> 9 | E47: =INDEX($A$39:$B$66,MATCH(ROW()-38,$D$39:$D$66,0),1) -> BILBAO | F47: =LOOKUP(E47,$A$39:$A$66,$B$39:$B$66) -> 10520198 | G47: =LOOKUP(E47,$A$39:$A$66,$C$39:$C$66) -> 9567127
A48: =A16 -> CARTAGENA | B48: =E16 -> 7954883 | C48: =D16 -> 7896820 | D48: =_xlfn.RANK.EQ(B48,$B$39:$B$66)+COUNTIF($B$39:$B$66,B48)-1 -> 12 | E48: =INDEX($A$39:$B$66,MATCH(ROW()-38,$D$39:$D$66,0),1) -> MELILLA | F48: =LOOKUP(E48,$A$39:$A$66,$B$39:$B$66) -> 9747403 | G48: =LOOKUP(E48,$A$39:$A$66,$C$39:$C$66) -> 9613576
A49: =A17 -> CASTELLÓN | B49: =E17 -> 6733477 | C49: =D17 -> 5872103 | D49: =_xlfn.RANK.EQ(B49,$B$39:$B$66)+COUNTIF($B$39:$B$66,B49)-1 -> 15 | E49: =INDEX($A$39:$B$66,MATCH(ROW()-38,$D$39:$D$66,0),1) -> HUELVA | F49: =LOOKUP(E49,$A$39:$A$66,$B$39:$B$66) -> 8910349 | G49: =LOOKUP(E49,$A$39:$A$66,$C$39:$C$66) -> 8510173
A50: =A18 -> CEUTA | B50: =E18 -> 17039803 | C50: =D18 -> 14791983 | D50: =_xlfn.RANK.EQ(B50,$B$39:$B$66)+COUNTIF($B$39:$B$66,B50)-1 -> 7 | E50: =INDEX($A$39:$B$66,MATCH(ROW()-38,$D$39:$D$66,0),1) -> CARTAGENA | F50: =LOOKUP(E50,$A$39:$A$66,$B$39:$B$66) -> 7954883 | G50: =LOOKUP(E50,$A$39:$A$66,$C$39:$C$66) -> 7896820
... A66: =A34 -> VILAGARCÍA | B66: =E34 -> 616420 | C66: =D34 -> 454690 | D66: =_xlfn.RANK.EQ(B66,$B$39:$B$66)+COUNTIF($B$39:$B$66,B66)-1 -> 28 | E66: =INDEX($A$39:$B$66,MATCH(ROW()-38,$D$39:$D$66,0),1) -> VILAGARCÍA | F66: =LOOKUP(E66,$A$39:$A$66,$B$39:$B$66) -> 616420 | G66: =LOOKUP(E66,$A$39:$A$66,$C$39:$C$66) -> 454690

Sheet Cruceros
F1: 13.2. CRUCEROS (unidades)
A5: Autoridad Portuaria | B5: ='Resumen general'!D6 -> Mes marzo | D5: ='Resumen general'!F6 -> Acumulado desde enero | L5: ='Resumen general'!I4 -> Fecha: 12/02/2019
B6: ='Resumen general'!D7 -> 2017 | C6: ='Resumen general'!E7 -> 2018 | D6: ='Resumen general'!F7 -> 2017 | E6: ='Resumen general'!G7 -> 2018 | F6: Var. (%)
A7: A CORUÑA | B7: 4 | C7: 4 | D7: 9 | E7: 6 | F7: =((E7*100)/D7)-100 -> -33.333333
A8: ALICANTE | B8: 2 | C8: 4 | D8: 5 | E8: 9 | F8: =((E8*100)/D8)-100 -> 80
A9: ALMERÍA | B9: 1 | C9: 2 | D9: 2 | E9: 2 | F9: =((E9*100)/D9)-100 -> 0
A10: AVILÉS | B10: 0 | C10: 0 | D10: 0 | E10: 1 | F10: =((E10*100)/D10)-100 -> #DIV/0!
A11: BAHÍA DE ALGECIRAS | B11: 0 | C11: 0 | D11: 0 | E11: 0 | F11: =((E11*100)/D11)-100 -> #DIV/0!
A12: BAHÍA DE CÁDIZ | B12: 12 | C12: 18 | D12: 19 | E12: 35 | F12: =((E12*100)/D12)-100 -> 84.210526
A13: BALEARES | B13: 11 | C13: 19 | D13: 25 | E13: 45 | F13: =((E13*100)/D13)-100 -> 80
A14: BARCELONA | B14: 29 | C14: 33 | D14: 63 | E14: 78 | F14: =((E14*100)/D14)-100 -> 23.809524
A15: BILBAO | B15: 1 | C15: 0 | D15: 1 | E15: 1 | F15: =((E15*100)/D15)-100 -> 0
A16: CARTAGENA | B16: 3 | C16: 2 | D16: 4 | E16: 3 | F16: =((E16*100)/D16)-100 -> -25
A17: CASTELLÓN | B17: 0 | C17: 0 | D17: 0 | E17: 0 | F17: =((E17*100)/D17)-100 -> #DIV/0!
A18: CEUTA | B18: 0 | C18: 0 | D18: 0 | E18: 4 | F18: =((E18*100)/D18)-100 -> #DIV/0!
... A34: VILAGARCÍA | B34: 0 | C34: 0 | D34: 0 | E34: 0 | F34: =((E34*100)/D34)-100 -> #DIV/0!
A35: Total | B35: =SUM(B7:B34) -> 198 | C35: =SUM(C7:C34) -> 283 | D35: =SUM(D7:D34) -> 523 | E35: =SUM(E7:E34) -> 712 | F35: =((E35*100)/D35)-100 -> 36.137667
B38: =E6 -> 2018 | C38: =D6 -> 2017 | F38: =B38 -> 2018 | G38: =C38 -> 2017
A39: =A7 -> A CORUÑA | B39: =E7 -> 6 | C39: =D7 -> 9 | D39: =_xlfn.RANK.EQ(B39,$B$39:$B$66)+COUNTIF($B$39:$B$66,B39)-1 -> 9 | E39: =INDEX($A$39:$B$66,MATCH(ROW()-38,$D$39:$D$66,0),1) -> LAS PALMAS | F39: =LOOKUP(E39,$A$39:$A$66,$B$39:$B$66) -> 259 | G39: =LOOKUP(E39,$A$39:$A$66,$C$39:$C$66) -> 177
A40: =A8 -> ALICANTE | B40: =E8 -> 9 | C40: =D8 -> 5 | D40: =_xlfn.RANK.EQ(B40,$B$39:$B$66)+COUNTIF($B$39:$B$66,B40)-1 -> 8 | E40: =INDEX($A$39:$B$66,MATCH(ROW()-38,$D$39:$D$66,0),1) -> SANTA CRUZ DE TENERIFE | F40: =LOOKUP(E40,$A$39:$A$66,$B$39:$B$66) -> 215 | G40: =LOOKUP(E40,$A$39:$A$66,$C$39:$C$66) -> 173
A41: =A9 -> ALMERÍA | B41: =E9 -> 2 | C41: =D9 -> 2 | D41: =_xlfn.RANK.EQ(B41,$B$39:$B$66)+COUNTIF($B$39:$B$66,B41)-1 -> 16 | E41: =INDEX($A$39:$B$66,MATCH(ROW()-38,$D$39:$D$66,0),1) -> BARCELONA | F41: =LOOKUP(E41,$A$39:$A$66,$B$39:$B$66) -> 78 | G41: =LOOKUP(E41,$A$39:$A$66,$C$39:$C$66) -> 63
A42: =A10 -> AVILÉS | B42: =E10 -> 1 | C42: =D10 -> 0 | D42: =_xlfn.RANK.EQ(B42,$B$39:$B$66)+COUNTIF($B$39:$B$66,B42)-1 -> 20 | E42: =INDEX($A$39:$B$66,MATCH(ROW()-38,$D$39:$D$66,0),1) -> BALEARES | F42: =LOOKUP(E42,$A$39:$A$66,$B$39:$B$66) -> 45 | G42: =LOOKUP(E42,$A$39:$A$66,$C$39:$C$66) -> 25
A43: =A11 -> BAHÍA DE ALGECIRAS | B43: =E11 -> 0 | C43: =D11 -> 0 | D43: =_xlfn.RANK.EQ(B43,$B$39:$B$66)+COUNTIF($B$39:$B$66,B43)-1 -> 28 | E43: =INDEX($A$39:$B$66,MATCH(ROW()-38,$D$39:$D$66,0),1) -> BAHÍA DE CÁDIZ | F43: =LOOKUP(E43,$A$39:$A$66,$B$39:$B$66) -> 35 | G43: =LOOKUP(E43,$A$39:$A$66,$C$39:$C$66) -> 19
A44: =A12 -> BAHÍA DE CÁDIZ | B44: =E12 -> 35 | C44: =D12 -> 19 | D44: =_xlfn.RANK.EQ(B44,$B$39:$B$66)+COUNTIF($B$39:$B$66,B44)-1 -> 5 | E44: =INDEX($A$39:$B$66,MATCH(ROW()-38,$D$39:$D$66,0),1) -> MÁLAGA | F44: =LOOKUP(E44,$A$39:$A$66,$B$39:$B$66) -> 26 | G44: =LOOKUP(E44,$A$39:$A$66,$C$39:$C$66) -> 18
A45: =A13 -> BALEARES | B45: =E13 -> 45 | C45: =D13 -> 25 | D45: =_xlfn.RANK.EQ(B45,$B$39:$B$66)+COUNTIF($B$39:$B$66,B45)-1 -> 4 | E45: =INDEX($A$39:$B$66,MATCH(ROW()-38,$D$39:$D$66,0),1) -> VALENCIA | F45: =LOOKUP(E45,$A$39:$A$66,$B$39:$B$66) -> 12 | G45: =LOOKUP(E45,$A$39:$A$66,$C$39:$C$66) -> 14
A46: =A14 -> BARCELONA | B46: =E14 -> 78 | C46: =D14 -> 63 | D46: =_xlfn.RANK.EQ(B46,$B$39:$B$66)+COUNTIF($B$39:$B$66,B46)-1 -> 3 | E46: =INDEX($A$39:$B$66,MATCH(ROW()-38,$D$39:$D$66,0),1) -> ALICANTE | F46: =LOOKUP(E46,$A$39:$A$66,$B$39:$B$66) -> 9 | G46: =LOOKUP(E46,$A$39:$A$66,$C$39:$C$66) -> 5
A47: =A15 -> BILBAO | B47: =E15 -> 1 | C47: =D15 -> 1 | D47: =_xlfn.RANK.EQ(B47,$B$39:$B$66)+COUNTIF($B$39:$B$66,B47)-1 -> 20 | E47: =INDEX($A$39:$B$66,MATCH(ROW()-38,$D$39:$D$66,0),1) -> A CORUÑA | F47: =LOOKUP(E47,$A$39:$A$66,$B$39:$B$66) -> 6 | G47: =LOOKUP(E47,$A$39:$A$66,$C$39:$C$66) -> 9
A48: =A16 -> CARTAGENA | B48: =E16 -> 3 | C48: =D16 -> 4 | D48: =_xlfn.RANK.EQ(B48,$B$39:$B$66)+COUNTIF($B$39:$B$66,B48)-1 -> 14 | E48: =INDEX($A$39:$B$66,MATCH(ROW()-38,$D$39:$D$66,0),1) -> SEVILLA | F48: =LOOKUP(E48,$A$39:$A$66,$B$39:$B$66) -> 5 | G48: =LOOKUP(E48,$A$39:$A$66,$C$39:$C$66) -> 8
A49: =A17 -> CASTELLÓN | B49: =E17 -> 0 | C49: =D17 -> 0 | D49: =_xlfn.RANK.EQ(B49,$B$39:$B$66)+COUNTIF($B$39:$B$66,B49)-1 -> 28 | E49: =INDEX($A$39:$B$66,MATCH(ROW()-38,$D$39:$D$66,0),1) -> #N/A | F49: =LOOKUP(E49,$A$39:$A$66,$B$39:$B$66) -> #N/A | G49: =LOOKUP(E49,$A$39:$A$66,$C$39:$C$66) -> #N/A
A50: =A18 -> CEUTA | B50: =E18 -> 4 | C50: =D18 -> 0 | D50: =_xlfn.RANK.EQ(B50,$B$39:$B$66)+COUNTIF($B$39:$B$66,B50)-1 -> 12 | E50: =INDEX($A$39:$B$66,MATCH(ROW()-38,$D$39:$D$66,0),1) -> CEUTA | F50: =LOOKUP(E50,$A$39:$A$66,$B$39:$B$66) -> 4 | G50: =LOOKUP(E50,$A$39:$A$66,$C$39:$C$66) -> 0
... A66: =A34 -> VILAGARCÍA | B66: =E34 -> 0 | C66: =D34 -> 0 | D66: =_xlfn.RANK.EQ(B66,$B$39:$B$66)+COUNTIF($B$39:$B$66,B66)-1 -> 28 | E66: =INDEX($A$39:$B$66,MATCH(ROW()-38,$D$39:$D$66,0),1) -> BAHÍA DE ALGECIRAS | F66: =LOOKUP(E66,$A$39:$A$66,$B$39:$B$66) -> 0 | G66: =LOOKUP(E66,$A$39:$A$66,$C$39:$C$66) -> 0
