Workbook
Name CABECERA: Cruceros!$A$5:$F$6
Name CONCEPTO: 'Resumen general'!$A$6
Name LblRes00_Acum: 'Resumen general'!$F$6:$G$6
Name LblRes00_Mes: 'Resumen general'!$D$6:$E$6
Name LblRes00_Var: 'Resumen general'!$H$6:$I$6
Name LblRes01_1_Acum: 'Total presentación'!$D$5:$F$5
Name LblRes01_1_Mes: 'Total presentación'!$B$5:$C$5
Name LblRes01_Acum: 'Automóviles régimen mercancía'!$D$5:$F$5
Name LblRes01_Acum: 'Ro-Ro remolques'!$D$5:$F$5
Name LblRes01_Acum: 'Total tráfico'!$D$5:$F$5
Name LblRes01_Mes: 'Automóviles régimen mercancía'!$B$5:$C$5
Name LblRes01_Mes: 'Ro-Ro remolques'!$B$5:$C$5
Name LblRes01_Mes: 'Total tráfico'!$B$5:$C$5
Name LblRes02_Acum: Líquidos!$D$5:$F$5
Name LblRes02_Mes: Líquidos!$B$5:$C$5
Name LblRes03_Acum: Sólidos!$D$5:$F$5
Name LblRes03_Mes: Sólidos!$B$5:$C$5
Name LblRes04_Acum: 'Mercancía general'!$D$5:$F$5
Name LblRes04_Mes: 'Mercancía general'!$B$5:$C$5
Name LblRes05_Acum: Pesca!$D$5:$F$5
Name LblRes05_Mes: Pesca!$B$5:$C$5
Name LblRes06_Acum: Avituallamiento!$D$5:$F$5
Name LblRes06_Mes: Avituallamiento!$B$5:$C$5
Name LblRes07_1_Acum: 'Mercan. contene. tránsito'!$D$5:$F$5
Name LblRes07_1_Mes: 'Mercan. contene. tránsito'!$B$5:$C$5
Name LblRes07_Acum: 'Mercancías tránsito'!$D$5:$F$5
Name LblRes07_Mes: 'Mercancías tránsito'!$B$5:$C$5
Name LblRes08_Acum: 'Mercancías contenedores'!$D$5:$F$5
Name LblRes08_Mes: 'Mercancías contenedores'!$B$5:$C$5
Name LblRes09_Acum: 'Ro-Ro'!$D$5:$F$5
Name LblRes09_Mes: 'Ro-Ro'!$B$5:$C$5
Name LblRes10_1_Acum: 'TEUS tránsito'!$D$5:$F$5
Name LblRes10_1_Mes: 'TEUS tránsito'!$B$5:$C$5
Name LblRes10_2_Acum: 'TEUS nacional'!$D$5:$F$5
Name LblRes10_2_Mes: 'TEUS nacional'!$B$5:$C$5
Name LblRes10_3_Acum: 'TEUS exterior'!$D$5:$F$5
Name LblRes10_3_Mes: 'TEUS exterior'!$B$5:$C$5
Name LblRes10_4_Acum: 'TEUS nacional y exterior'!$D$5:$F$5
Name LblRes10_4_Mes: 'TEUS nacional y exterior'!$B$5:$C$5
Name LblRes10_Acum: TEUS!$D$5:$F$5
Name LblRes10_Mes: TEUS!$B$5:$C$5
Name LblRes11_1_Acum: 'Pasajeros crucero'!$D$5:$F$5
Name LblRes11_1_Mes: 'Pasajeros crucero'!$B$5:$C$5
Name LblRes11_2_Acum: 'Automóviles régimen pasaje'!$D$5:$F$5
Name LblRes11_2_Mes: 'Automóviles régimen pasaje'!$B$5:$C$5
Name LblRes11_Acum: 'Pasajeros total'!$D$5:$F$5
Name LblRes11_Mes: 'Pasajeros total'!$B$5:$C$5
Name LblRes12_1_Acum: 'Buques número'!$D$5:$F$5
Name LblRes12_1_Mes: 'Buques número'!$B$5:$C$5
Name LblRes12_2_Acum: 'Buques GT'!$D$5:$F$5
Name LblRes12_2_Mes: 'Buques GT'!$B$5:$C$5
Name LblRes12_3_Acum: Cruceros!$D$5:$F$5
Name LblRes12_3_Mes: Cruceros!$B$5:$C$5
Name PROVINCIAS: Cruceros!$A$5:$A$35
Name TxtFecha: Cruceros!$L$5

Sheet Portada
I1: Dirección de Planificación y Desarrollo
I2: Departamento de Estadística
G15: RESUMEN GENERAL DEL TRÁFICO PORTUARIO*
G16: Diciembre 2018
K29: *Datos de cierre definitivos del Anuario Estadístico de Puertos del Estado 2018
F33: ÍNDICE
B36: 0. | C36: RESUMEN GENERAL DEL TRÁFICO PORTUARIO
B37: 1. | C37: TRÁFICO PORTUARIO
B38: 1.1. | C38: MERCANCÍAS SEGÚN SU FORMA DE PRESENTACIÓN
B39: 2. | C39: GRANELES LÍQUIDOS
B40: 3. | C40: GRANELES SÓLIDOS
B41: 4. | C41: MERCANCÍA GENERAL
B42: 4.1. | C42: MERCANCÍAS EN CONTENEDORES
B43: 5. | C43: PESCA
B44: 6. | C44: AVITUALLAMIENTO
B45: 6.1. | C45: AVITUALLAMIENTO DE COMBUSTIBLES LÍQUIDOS
B46: 7. | C46: TRÁFICO INTERIOR
B47: 8. | C47: MERCANCÍAS EN TRÁNSITO
... B62: 13.2. | C62: CRUCEROS (unidades)

Sheet Resumen general
D1: 00. RESUMEN GENERAL DEL TRÁFICO PORTUARIO
I4: Fecha: 29/10/2019
A6: CONCEPTO | D6: Mes diciembre | F6: Acumulado desde enero | H6: Variación
D7: 2017 | E7: 2018 | F7: 2017 | G7: 2018 | H7: Diferencia | I7: %
A8: MERCANCÍAS SEGÚN SU PRESENTACIÓN | B8: GRANELES | C8: LÍQUIDOS | D8: =Líquidos!B35 -> 14514026 | E8: =Líquidos!C35 -> 15990554 | F8: =Líquidos!D35 -> 1.7824283e+08 | G8: =Líquidos!E35 -> 1.807193e+08 | H8: =G8-F8 -> 2476469.5 | I8: =((G8*100/F8)-100) -> 1.3893796
C9: SÓLIDOS | D9: =Sólidos!B35 -> 8579383 | E9: =Sólidos!C35 -> 9252149 | F9: =Sólidos!D35 -> 1.0142872e+08 | G9: =Sólidos!E35 -> 1.023661e+08 | H9: =G9-F9 -> 937379.38 | I9: =((G9*100/F9)-100) -> 0.92417554
B10: MERCANCÍA GRAL. | C10: CONVENCIONAL | D10: =D12-D11 -> 5550311 | E10: =E12-E11 -> 5826383 | F10: =F12-F11 -> 71013095 | G10: =G12-G11 -> 76344302 | H10: =G10-F10 -> 5331207.1 | I10: =((G10*100/F10)-100) -> 7.5073578
C11: EN CONTENEDORES | D11: ='Mercancías contenedores'!B35 -> 14859486 | E11: ='Mercancías contenedores'!C35 -> 15739583 | F11: ='Mercancías contenedores'!D35 -> 1.8145292e+08 | G11: ='Mercancías contenedores'!E35 -> 1.9102825e+08 | H11: =G11-F11 -> 9575330.7 | I11: =((G11*100/F11)-100) -> 5.2770331
C12: TOTAL | D12: ='Mercancía general'!B35 -> 20409797 | E12: ='Mercancía general'!C35 -> 21565966 | F12: ='Mercancía general'!D35 -> 2.5246602e+08 | G12: ='Mercancía general'!E35 -> 2.6737255e+08 | H12: =G12-F12 -> 14906538 | I12: =((G12*100/F12)-100) -> 5.904374
C13: TOTAL | D13: =+D8+D9+D12 -> 43503206 | E13: =+E8+E9+E12 -> 46808669 | F13: =+F8+F9+F12 -> 5.3213756e+08 | G13: =+G8+G9+G12 -> 5.5045794e+08 | H13: =G13-F13 -> 18320387 | I13: =((G13*100/F13)-100) -> 3.4427915
A14: OTRAS MERCANCÍAS | B14: PESCA | C14: TOTAL PESCA | D14: =Pesca!B35 -> 18660 | E14: =Pesca!C35 -> 18385 | F14: =Pesca!D35 -> 243073.37 | G14: =Pesca!E35 -> 224013.83 | H14: =G14-F14 -> -19059.539 | I14: =((G14*100/F14)-100) -> -7.841064
B15: AVITUALLAMIENTO | C15: COMBUSTIBLES LÍQUIDOS | D15: ='Avi. combustibles'!B35 -> 646054 | E15: ='Avi. combustibles'!C35 -> 666147 | F15: ='Avi. combustibles'!D35 -> 7987162 | G15: ='Avi. combustibles'!E35 -> 8153155 | H15: =G15-F15 -> 165992.98 | I15: =((G15*100/F15)-100) -> 2.0782473
C16: OTROS | D16: =Avituallamiento!B35-'Resumen general'!D15 -> 175370 | E16: =Avituallamiento!C35-'Resumen general'!E15 -> 176546 | F16: =Avituallamiento!D35-'Resumen general'!F15 -> 2132311.5 | G16: =Avituallamiento!E35-'Resumen general'!G15 -> 2142339.2 | H16: =G16-F16 -> 10027.653 | I16: =((G16*100/F16)-100) -> 0.47027149
B17: TRAFICO INTERIOR | C17: TOTAL TRAFICO INTERIOR | D17: ='Tráfico interior'!B35 -> 103744 | E17: ='Tráfico interior'!C35 -> 236834 | F17: ='Tráfico interior'!D35 -> 2722259.3 | G17: ='Tráfico interior'!E35 -> 2579158.2 | H17: =G17-F17 -> -143101.04 | I17: =((G17*100/F17)-100) -> -5.2567012
C18: TOTAL | D18: =+D14+D15+D16+D17 -> 943828 | E18: =+E14+E15+E16+E17 -> 1097912 | F18: =+F14+F15+F16+F17 -> 13084806 | G18: =+G14+G15+G16+G17 -> 13098666 | H18: =G18-F18 -> 13860.056 | I18: =((G18*100/F18)-100) -> 0.10592481
C19: TOTAL TRÁFICO PORTUARIO (*) | D19: =+D13+D18 -> 44447034 | E19: =+E13+E18 -> 47906581 | F19: =+F13+F18 -> 5.4522236e+08 | G19: =+G13+G18 -> 5.6355661e+08 | H19: =G19-F19 -> 18334247 | I19: =((G19*100/F19)-100) -> 3.36271
A21: OTRAS INFORMACIONES | B21: MERCANCÍAS | C21: EN TRÁNSITO | D21: ='Mercancías tránsito'!B35 -> 11501467 | E21: ='Mercancías tránsito'!C35 -> 13089549 | F21: ='Mercancías tránsito'!D35 -> 1.3732969e+08 | G21: ='Mercancías tránsito'!E35 -> 1.4808752e+08 | H21: =G21-F21 -> 10757833 | I21: =((G21*100/F21)-100) -> 7.8335814
C22: EN CONTENEDORES EN TRÁNSITO | D22: ='Mercan. contene. tránsito'!B35 -> 8967232 | E22: ='Mercan. contene. tránsito'!C35 -> 9759442 | F22: ='Mercan. contene. tránsito'!D35 -> 1.0901849e+08 | G22: ='Mercan. contene. tránsito'!E35 -> 1.1597859e+08 | H22: =G22-F22 -> 6960108.8 | I22: =((G22*100/F22)-100) -> 6.3843382
B23: TRÁFICO RO-RO | C23: TOTAL TRÁFICO RO-RO | D23: ='Ro-Ro'!B35 -> 4280968 | E23: ='Ro-Ro'!C35 -> 4686269 | F23: ='Ro-Ro'!D35 -> 58074195 | G23: ='Ro-Ro'!E35 -> 62677883 | H23: =G23-F23 -> 4603687.5 | I23: =((G23*100/F23)-100) -> 7.9272515
C24: REMOLQUES, SEMIRR. Y PLATAF. (uds.) | D24: ='Ro-Ro remolques'!B35 -> 102625 | E24: ='Ro-Ro remolques'!C35 -> 112701 | F24: ='Ro-Ro remolques'!D35 -> 1311908 | G24: ='Ro-Ro remolques'!E35 -> 1154507 | H24: =G24-F24 -> -157401 | I24: =((G24*100/F24)-100) -> -11.997869
B25: CONTENEDORES | C25: TOTAL CONTENEDORES (TEUS) | D25: =TEUS!B35 -> 1319703 | E25: =TEUS!C35 -> 1421939 | F25: =TEUS!D35 -> 15951635 | G25: =TEUS!E35 -> 17203134 | H25: =G25-F25 -> 1251498.8 | I25: =((G25*100/F25)-100) -> 7.8455835
C26: EN TRÁNSITO (TEUS) | D26: ='TEUS tránsito'!B35 -> 720357 | E26: ='TEUS tránsito'!C35 -> 785350 | F26: ='TEUS tránsito'!D35 -> 8501480 | G26: ='TEUS tránsito'!E35 -> 9267925.3 | H26: =G26-F26 -> 766445.32 | I26: =((G26*100/F26)-100) -> 9.015434
C27: ENTRADAS-SALIDAS NACIONAL (TEUS) | D27: ='TEUS nacional'!B35 -> 164191 | E27: ='TEUS nacional'!C35 -> 160050 | F27: ='TEUS nacional'!D35 -> 1972377 | G27: ='TEUS nacional'!E35 -> 2028712 | H27: =G27-F27 -> 56335 | I27: =((G27*100/F27)-100) -> 2.8561984
C28: IMPORT-EXPORT EXTERIOR (TEUS) | D28: ='TEUS exterior'!B35 -> 435156 | E28: ='TEUS exterior'!C35 -> 476539 | F28: ='TEUS exterior'!D35 -> 5477777.7 | G28: ='TEUS exterior'!E35 -> 5900137.7 | H28: =G28-F28 -> 422359.97 | I28: =((G28*100/F28)-100) -> 7.7104255
C29: NACIONAL Y EXTERIOR (TEUS) | D29: ='TEUS nacional y exterior'!B35 -> 599346 | E29: ='TEUS nacional y exterior'!C35 -> 636589 | F29: ='TEUS nacional y exterior'!D35 -> 7450154.7 | G29: ='TEUS nacional y exterior'!E35 -> 7928850.9 | H29: =G29-F29 -> 478696.22 | I29: =((G29*100/F29)-100) -> 6.4253192
B30: PASAJEROS | C30: REG. TRANSPORTE Y DE CRUCERO (nº) | D30: ='Pasajeros total'!B35 -> 2246606 | E30: ='Pasajeros total'!C35 -> 2229352 | F30: ='Pasajeros total'!D35 -> 34072845 | G30: ='Pasajeros total'!E35 -> 36100685 | H30: =G30-F30 -> 2027840 | I30: =((G30*100/F30)-100) -> 5.9514842
C31: DE CRUCERO (nº) | D31: ='Pasajeros crucero'!B35 -> 704958 | E31: ='Pasajeros crucero'!C35 -> 610538 | F31: ='Pasajeros crucero'!D35 -> 9281923 | G31: ='Pasajeros crucero'!E35 -> 10170379 | H31: =G31-F31 -> 888456 | I31: =((G31*100/F31)-100) -> 9.5718958
B32: AUTOMÓVILES | C32: EN RÉGIMEN DE PASAJE (uds) | D32: ='Automóviles régimen pasaje'!B35 -> 368994 | E32: ='Automóviles régimen pasaje'!C35 -> 398311 | F32: ='Automóviles régimen pasaje'!D35 -> 5060699 | G32: ='Automóviles régimen pasaje'!E35 -> 5512090 | H32: =G32-F32 -> 451391 | I32: =((G32*100/F32)-100) -> 8.9195386
C33: EN RÉGIMEN DE MERCANCÍA (**) | D33: ='Automóviles régimen mercancía'!B35 -> 267830 | E33: ='Automóviles régimen mercancía'!C35 -> 277034 | F33: ='Automóviles régimen mercancía'!D35 -> 3484212 | G33: ='Automóviles régimen mercancía'!E35 -> 3493656 | H33: =G33-F33 -> 9444 | I33: =((G33*100/F33)-100) -> 0.27105124
B34: BUQUES MERCANTES | C34: TOTAL BUQUES MERCANTES (uds) | D34: ='Buques número'!B35 -> 11227 | E34: ='Buques número'!C35 -> 12340 | F34: ='Buques número'!D35 -> 155631 | G34: ='Buques número'!E35 -> 167119 | H34: =G34-F34 -> 11488 | I34: =((G34*100/F34)-100) -> 7.3815628
C35: UDS. ARQUEO BRUTO (G.T.) | D35: ='Buques GT'!B35 -> 179365124 | E35: ='Buques GT'!C35 -> 186837843 | F35: ='Buques GT'!D35 -> 2218905453 | G35: ='Buques GT'!E35 -> 2.303282e+09 | H35: =G35-F35 -> 84376546 | I35: =((G35*100/F35)-100) -> 3.8026202
C36: CRUCEROS (uds) | D36: =Cruceros!B35 -> 331 | E36: =Cruceros!C35 -> 299 | F36: =Cruceros!D35 -> 4238 | G36: =Cruceros!E35 -> 4361 | H36: =G36-F36 -> 123 | I36: =((G36*100/F36)-100) -> 2.9023124
A37: (*) Incluye cargas, descargas, tránsitos y transbordos.
A38: (**) Solo turismos, autobuses y camiones

Sheet Total tráfico
F1: 1. TRÁFICO PORTUARIO (toneladas)
A5: Autoridad Portuaria | B5: ='Resumen general'!D6 -> Mes diciembre | D5: ='Resumen general'!F6 -> Acumulado desde enero | L5: ='Resumen general'!I4 -> Fecha: 29/10/2019
B6: ='Resumen general'!D7 -> 2017 | C6: ='Resumen general'!E7 -> 2018 | D6: ='Resumen general'!F7 -> 2017 | E6: ='Resumen general'!G7 -> 2018 | F6: Var. (%)
A7: A CORUÑA | B7: 1354083 | C7: 1118796 | D7: 15198929 | E7: 15703803 | F7: =((E7*100)/D7)-100 -> 3.3217733
A8: ALICANTE | B8: 258409 | C8: 260530 | D8: 3447603.9 | E8: 3191163.4 | F8: =((E8*100)/D8)-100 -> -7.4382224
A9: ALMERÍA | B9: 614880 | C9: 382908 | D9: 6381126.7 | E9: 7060554.6 | F9: =((E9*100)/D9)-100 -> 10.64746
A10: AVILÉS | B10: 409226 | C10: 489207 | D10: 4806910 | E10: 5024862.9 | F10: =((E10*100)/D10)-100 -> 4.5341585
A11: BAHÍA DE ALGECIRAS | B11: 8139234 | C11: 8736644 | D11: 1.0155597e+08 | E11: 1.0736103e+08 | F11: =((E11*100)/D11)-100 -> 5.7161171
A12: BAHÍA DE CÁDIZ | B12: 298994 | C12: 321599 | D12: 4115251.6 | E12: 3955515.2 | F12: =((E12*100)/D12)-100 -> -3.8815713
A13: BALEARES | B13: 959165 | C13: 1053762 | D13: 15649443 | E13: 16453613 | F13: =((E13*100)/D13)-100 -> 5.1386464
A14: BARCELONA | B14: 5109085 | C14: 5676971 | D14: 61366941 | E14: 67756258 | F14: =((E14*100)/D14)-100 -> 10.41166
A15: BILBAO | B15: 3352425 | C15: 2790535 | D15: 34306674 | E15: 35695400 | F15: =((E15*100)/D15)-100 -> 4.0479777
A16: CARTAGENA | B16: 2613132 | C16: 3048788 | D16: 34688199 | E16: 33941690 | F16: =((E16*100)/D16)-100 -> -2.1520556
A17: CASTELLÓN | B17: 1116165 | C17: 1729062 | D17: 17910534 | E17: 21137627 | F17: =((E17*100)/D17)-100 -> 18.017849
A18: CEUTA | B18: 216924 | C18: 173686 | D18: 2545552.9 | E18: 2448437.9 | F18: =((E18*100)/D18)-100 -> -3.8150863
... A34: VILAGARCÍA | B34: 104339 | C34: 100915 | D34: 1205966.4 | E34: 1211306 | F34: =((E34*100)/D34)-100 -> 0.44276857
A35: Total | B35: =SUM(B7:B34) -> 44447034 | C35: =SUM(C7:C34) -> 47906581 | D35: =SUM(D7:D34) -> 5.4522236e+08 | E35: =SUM(E7:E34) -> 5.6355661e+08 | F35: =((E35*100)/D35)-100 -> 3.36271
A36: Incluye cargas, descargas, tránsitos y transbordos.
B38: =E6 -> 2018 | C38: =D6 -> 2017 | F38: =B38 -> 2018 | G38: =C38 -> 2017
A39: =A7 -> A CORUÑA | B39: =E7 -> 15703803 | C39: =D7 -> 15198929 | D39: =_xlfn.RANK.EQ(B39,$B$39:$B$66)+COUNTIF($B$39:$B$66,B39)-1 -> 12 | E39: =INDEX($A$39:$B$66,MATCH(ROW()-38,$D$39:$D$66,0),1) -> BAHÍA DE ALGECIRAS | F39: =LOOKUP(E39,$A$39:$A$66,$B$39:$B$66) -> 1.0736103e+08 | G39: =LOOKUP(E39,$A$39:$A$66,$C$39:$C$66) -> 1.0155597e+08
A40: =A8 -> ALICANTE | B40: =E8 -> 3191163.4 | C40: =D8 -> 3447603.9 | D40: =_xlfn.RANK.EQ(B40,$B$39:$B$66)+COUNTIF($B$39:$B$66,B40)-1 -> 22 | E40: =INDEX($A$39:$B$66,MATCH(ROW()-38,$D$39:$D$66,0),1) -> VALENCIA | F40: =LOOKUP(E40,$A$39:$A$66,$B$39:$B$66) -> 76621101 | G40: =LOOKUP(E40,$A$39:$A$66,$C$39:$C$66) -> 73559877
A41: =A9 -> ALMERÍA | B41: =E9 -> 7060554.6 | C41: =D9 -> 6381126.7 | D41: =_xlfn.RANK.EQ(B41,$B$39:$B$66)+COUNTIF($B$39:$B$66,B41)-1 -> 15 | E41: =INDEX($A$39:$B$66,MATCH(ROW()-38,$D$39:$D$66,0),1) -> BARCELONA | F41: =LOOKUP(E41,$A$39:$A$66,$B$39:$B$66) -> 67756258 | G41: =LOOKUP(E41,$A$39:$A$66,$C$39:$C$66) -> 61366941
A42: =A10 -> AVILÉS | B42: =E10 -> 5024862.9 | C42: =D10 -> 4806910 | D42: =_xlfn.RANK.EQ(B42,$B$39:$B$66)+COUNTIF($B$39:$B$66,B42)-1 -> 17 | E42: =INDEX($A$39:$B$66,MATCH(ROW()-38,$D$39:$D$66,0),1) -> BILBAO | F42: =LOOKUP(E42,$A$39:$A$66,$B$39:$B$66) -> 35695400 | G42: =LOOKUP(E42,$A$39:$A$66,$C$39:$C$66) -> 34306674
A43: =A11 -> BAHÍA DE ALGECIRAS | B43: =E11 -> 1.0736103e+08 | C43: =D11 -> 1.0155597e+08 | D43: =_xlfn.RANK.EQ(B43,$B$39:$B$66)+COUNTIF($B$39:$B$66,B43)-1 -> 1 | E43: =INDEX($A$39:$B$66,MATCH(ROW()-38,$D$39:$D$66,0),1) -> CARTAGENA | F43: =LOOKUP(E43,$A$39:$A$66,$B$39:$B$66) -> 33941690 | G43: =LOOKUP(E43,$A$39:$A$66,$C$39:$C$66) -> 34688199
A44: =A12 -> BAHÍA DE CÁDIZ | B44: =E12 -> 3955515.2 | C44: =D12 -> 4115251.6 | D44: =_xlfn.RANK.EQ(B44,$B$39:$B$66)+COUNTIF($B$39:$B$66,B44)-1 -> 20 | E44: =INDEX($A$39:$B$66,MATCH(ROW()-38,$D$39:$D$66,0),1) -> HUELVA | F44: =LOOKUP(E44,$A$39:$A$66,$B$39:$B$66) -> 32966864 | G44: =LOOKUP(E44,$A$39:$A$66,$C$39:$C$66) -> 32332572
A45: =A13 -> BALEARES | B45: =E13 -> 16453613 | C45: =D13 -> 15649443 | D45: =_xlfn.RANK.EQ(B45,$B$39:$B$66)+COUNTIF($B$39:$B$66,B45)-1 -> 11 | E45: =INDEX($A$39:$B$66,MATCH(ROW()-38,$D$39:$D$66,0),1) -> TARRAGONA | F45: =LOOKUP(E45,$A$39:$A$66,$B$39:$B$66) -> 32084325 | G45: =LOOKUP(E45,$A$39:$A$66,$C$39:$C$66) -> 33700184
A46: =A14 -> BARCELONA | B46: =E14 -> 67756258 | C46: =D14 -> 61366941 | D46: =_xlfn.RANK.EQ(B46,$B$39:$B$66)+COUNTIF($B$39:$B$66,B46)-1 -> 3 | E46: =INDEX($A$39:$B$66,MATCH(ROW()-38,$D$39:$D$66,0),1) -> LAS PALMAS | F46: =LOOKUP(E46,$A$39:$A$66,$B$39:$B$66) -> 26974184 | G46: =LOOKUP(E46,$A$39:$A$66,$C$39:$C$66) -> 27021629
A47: =A15 -> BILBAO | B47: =E15 -> 35695400 | C47: =D15 -> 34306674 | D47: =_xlfn.RANK.EQ(B47,$B$39:$B$66)+COUNTIF($B$39:$B$66,B47)-1 -> 4 | E47: =INDEX($A$39:$B$66,MATCH(ROW()-38,$D$39:$D$66,0),1) -> CASTELLÓN | F47: =LOOKUP(E47,$A$39:$A$66,$B$39:$B$66) -> 21137627 | G47: =LOOKUP(E47,$A$39:$A$66,$C$39:$C$66) -> 17910534
A48: =A16 -> CARTAGENA | B48: =E16 -> 33941690 | C48: =D16 -> 34688199 | D48: =_xlfn.RANK.EQ(B48,$B$39:$B$66)+COUNTIF($B$39:$B$66,B48)-1 -> 5 | E48: =INDEX($A$39:$B$66,MATCH(ROW()-38,$D$39:$D$66,0),1) -> GIJÓN | F48: =LOOKUP(E48,$A$39:$A$66,$B$39:$B$66) -> 19699445 | G48: =LOOKUP(E48,$A$39:$A$66,$C$39:$C$66) -> 21820520
A49: =A17 -> CASTELLÓN | B49: =E17 -> 21137627 | C49: =D17 -> 17910534 | D49: =_xlfn.RANK.EQ(B49,$B$39:$B$66)+COUNTIF($B$39:$B$66,B49)-1 -> 9 | E49: =INDEX($A$39:$B$66,MATCH(ROW()-38,$D$39:$D$66,0),1) -> BALEARES | F49: =LOOKUP(E49,$A$39:$A$66,$B$39:$B$66) -> 16453613 | G49: =LOOKUP(E49,$A$39:$A$66,$C$39:$C$66) -> 15649443
A50: =A18 -> CEUTA | B50: =E18 -> 2448437.9 | C50: =D18 -> 2545552.9 | D50: =_xlfn.RANK.EQ(B50,$B$39:$B$66)+COUNTIF($B$39:$B$66,B50)-1 -> 26 | E50: =INDEX($A$39:$B$66,MATCH(ROW()-38,$D$39:$D$66,0),1) -> A CORUÑA | F50: =LOOKUP(E50,$A$39:$A$66,$B$39:$B$66) -> 15703803 | G50: =LOOKUP(E50,$A$39:$A$66,$C$39:$C$66) -> 15198929
... A66: =A34 -> VILAGARCÍA | B66: =E34 -> 1211306 | C66: =D34 -> 1205966.4 | D66: =_xlfn.RANK.EQ(B66,$B$39:$B$66)+COUNTIF($B$39:$B$66,B66)-1 -> 27 | E66: =INDEX($A$39:$B$66,MATCH(ROW()-38,$D$39:$D$66,0),1) -> MELILLA | F66: =LOOKUP(E66,$A$39:$A$66,$B$39:$B$66) -> 873527.5 | G66: =LOOKUP(E66,$A$39:$A$66,$C$39:$C$66) -> 1152554

Sheet Total presentación
F1: 1.1. MERCANCÍAS SEGÚN SU FORMA DE PRESENTACIÓN
I2: (toneladas)
A5: Autoridad Portuaria | B5: ='Resumen general'!D6 -> Mes diciembre | D5: ='Resumen general'!F6 -> Acumulado desde enero | L5: ='Resumen general'!I4 -> Fecha: 29/10/2019
B6: ='Resumen general'!D7 -> 2017 | C6: ='Resumen general'!E7 -> 2018 | D6: ='Resumen general'!F7 -> 2017 | E6: ='Resumen general'!G7 -> 2018 | F6: Var. (%)
A7: A CORUÑA | B7: 1296082 | C7: 1075221 | D7: 14760612 | E7: 15292088 | F7: =((E7*100)/D7)-100 -> 3.6006366
A8: ALICANTE | B8: 256343 | C8: 259075 | D8: 3421610.7 | E8: 3161348.6 | F8: =((E8*100)/D8)-100 -> -7.6064217
A9: ALMERÍA | B9: 606239 | C9: 375246 | D9: 6290241 | E9: 6965332 | F9: =((E9*100)/D9)-100 -> 10.732355
A10: AVILÉS | B10: 405423 | C10: 487606 | D10: 4751857.2 | E10: 4967563.9 | F10: =((E10*100)/D10)-100 -> 4.5394182
A11: BAHÍA DE ALGECIRAS | B11: 7866973 | C11: 8295572 | D11: 96330454 | E11: 1.0254393e+08 | F11: =((E11*100)/D11)-100 -> 6.4501672
A12: BAHÍA DE CÁDIZ | B12: 291656 | C12: 317396 | D12: 3986793 | E12: 3838664 | F12: =((E12*100)/D12)-100 -> -3.7154926
A13: BALEARES | B13: 951330 | C13: 1045025 | D13: 15408802 | E13: 16206802 | F13: =((E13*100)/D13)-100 -> 5.1788608
A14: BARCELONA | B14: 5015868 | C14: 5556471 | D14: 60070134 | E14: 65895125 | F14: =((E14*100)/D14)-100 -> 9.6969839
A15: BILBAO | B15: 3343309 | C15: 2782323 | D15: 34194982 | E15: 35583490 | F15: =((E15*100)/D15)-100 -> 4.0605592
A16: CARTAGENA | B16: 2607692 | C16: 3029756 | D16: 34532347 | E16: 33733288 | F16: =((E16*100)/D16)-100 -> -2.3139435
A17: CASTELLÓN | B17: 1114606 | C17: 1727987 | D17: 17882185 | E17: 21107757 | F17: =((E17*100)/D17)-100 -> 18.037908
A18: CEUTA | B18: 151433 | C18: 117777 | D18: 1881096 | E18: 1711404 | F18: =((E18*100)/D18)-100 -> -9.0209112
... A34: VILAGARCÍA | B34: 104177 | C34: 100451 | D34: 1201759.4 | E34: 1207577 | F34: =((E34*100)/D34)-100 -> 0.48409359
A35: Total | B35: =SUM(B7:B34) -> 43503206 | C35: =SUM(C7:C34) -> 46808669 | D35: =SUM(D7:D34) -> 5.3213756e+08 | E35: =SUM(E7:E34) -> 5.5045794e+08 | F35: =((E35*100)/D35)-100 -> 3.4427915
A36: Incluye cargas, descargas, tránsitos y transbordos.
B38: =E6 -> 2018 | C38: =D6 -> 2017 | F38: =B38 -> 2018 | G38: =C38 -> 2017
A39: =A7 -> A CORUÑA | B39: =E7 -> 15292088 | C39: =D7 -> 14760612 | D39: =_xlfn.RANK.EQ(B39,$B$39:$B$66)+COUNTIF($B$39:$B$66,B39)-1 -> 12 | E39: =INDEX($A$39:$B$66,MATCH(ROW()-38,$D$39:$D$66,0),1) -> BAHÍA DE ALGECIRAS | F39: =LOOKUP(E39,$A$39:$A$66,$B$39:$B$66) -> 1.0254393e+08 | G39: =LOOKUP(E39,$A$39:$A$66,$C$39:$C$66) -> 96330454
A40: =A8 -> ALICANTE | B40: =E8 -> 3161348.6 | C40: =D8 -> 3421610.7 | D40: =_xlfn.RANK.EQ(B40,$B$39:$B$66)+COUNTIF($B$39:$B$66,B40)-1 -> 22 | E40: =INDEX($A$39:$B$66,MATCH(ROW()-38,$D$39:$D$66,0),1) -> VALENCIA | F40: =LOOKUP(E40,$A$39:$A$66,$B$39:$B$66) -> 76425510 | G40: =LOOKUP(E40,$A$39:$A$66,$C$39:$C$66) -> 73249473
A41: =A9 -> ALMERÍA | B41: =E9 -> 6965332 | C41: =D9 -> 6290241 | D41: =_xlfn.RANK.EQ(B41,$B$39:$B$66)+COUNTIF($B$39:$B$66,B41)-1 -> 15 | E41: =INDEX($A$39:$B$66,MATCH(ROW()-38,$D$39:$D$66,0),1) -> BARCELONA | F41: =LOOKUP(E41,$A$39:$A$66,$B$39:$B$66) -> 65895125 | G41: =LOOKUP(E41,$A$39:$A$66,$C$39:$C$66) -> 60070134
A42: =A10 -> AVILÉS | B42: =E10 -> 4967563.9 | C42: =D10 -> 4751857.2 | D42: =_xlfn.RANK.EQ(B42,$B$39:$B$66)+COUNTIF($B$39:$B$66,B42)-1 -> 17 | E42: =INDEX($A$39:$B$66,MATCH(ROW()-38,$D$39:$D$66,0),1) -> BILBAO | F42: =LOOKUP(E42,$A$39:$A$66,$B$39:$B$66) -> 35583490 | G42: =LOOKUP(E42,$A$39:$A$66,$C$39:$C$66) -> 34194982
A43: =A11 -> BAHÍA DE ALGECIRAS | B43: =E11 -> 1.0254393e+08 | C43: =D11 -> 96330454 | D43: =_xlfn.RANK.EQ(B43,$B$39:$B$66)+COUNTIF($B$39:$B$66,B43)-1 -> 1 | E43: =INDEX($A$39:$B$66,MATCH(ROW()-38,$D$39:$D$66,0),1) -> CARTAGENA | F43: =LOOKUP(E43,$A$39:$A$66,$B$39:$B$66) -> 33733288 | G43: =LOOKUP(E43,$A$39:$A$66,$C$39:$C$66) -> 34532347
A44: =A12 -> BAHÍA DE CÁDIZ | B44: =E12 -> 3838664 | C44: =D12 -> 3986793 | D44: =_xlfn.RANK.EQ(B44,$B$39:$B$66)+COUNTIF($B$39:$B$66,B44)-1 -> 20 | E44: =INDEX($A$39:$B$66,MATCH(ROW()-38,$D$39:$D$66,0),1) -> HUELVA | F44: =LOOKUP(E44,$A$39:$A$66,$B$39:$B$66) -> 32767084 | G44: =LOOKUP(E44,$A$39:$A$66,$C$39:$C$66) -> 32177373
A45: =A13 -> BALEARES | B45: =E13 -> 16206802 | C45: =D13 -> 15408802 | D45: =_xlfn.RANK.EQ(B45,$B$39:$B$66)+COUNTIF($B$39:$B$66,B45)-1 -> 11 | E45: =INDEX($A$39:$B$66,MATCH(ROW()-38,$D$39:$D$66,0),1) -> TARRAGONA | F45: =LOOKUP(E45,$A$39:$A$66,$B$39:$B$66) -> 32001014 | G45: =LOOKUP(E45,$A$39:$A$66,$C$39:$C$66) -> 33620952
A46: =A14 -> BARCELONA | B46: =E14 -> 65895125 | C46: =D14 -> 60070134 | D46: =_xlfn.RANK.EQ(B46,$B$39:$B$66)+COUNTIF($B$39:$B$66,B46)-1 -> 3 | E46: =INDEX($A$39:$B$66,MATCH(ROW()-38,$D$39:$D$66,0),1) -> LAS PALMAS | F46: =LOOKUP(E46,$A$39:$A$66,$B$39:$B$66) -> 24342597 | G46: =LOOKUP(E46,$A$39:$A$66,$C$39:$C$66) -> 24342113
A47: =A15 -> BILBAO | B47: =E15 -> 35583490 | C47: =D15 -> 34194982 | D47: =_xlfn.RANK.EQ(B47,$B$39:$B$66)+COUNTIF($B$39:$B$66,B47)-1 -> 4 | E47: =INDEX($A$39:$B$66,MATCH(ROW()-38,$D$39:$D$66,0),1) -> CASTELLÓN | F47: =LOOKUP(E47,$A$39:$A$66,$B$39:$B$66) -> 21107757 | G47: =LOOKUP(E47,$A$39:$A$66,$C$39:$C$66) -> 17882185
A48: =A16 -> CARTAGENA | B48: =E16 -> 33733288 | C48: =D16 -> 34532347 | D48: =_xlfn.RANK.EQ(B48,$B$39:$B$66)+COUNTIF($B$39:$B$66,B48)-1 -> 5 | E48: =INDEX($A$39:$B$66,MATCH(ROW()-38,$D$39:$D$66,0),1) -> GIJÓN | F48: =LOOKUP(E48,$A$39:$A$66,$B$39:$B$66) -> 19653524 | G48: =LOOKUP(E48,$A$39:$A$66,$C$39:$C$66) -> 21736236
A49: =A17 -> CASTELLÓN | B49: =E17 -> 21107757 | C49: =D17 -> 17882185 | D49: =_xlfn.RANK.EQ(B49,$B$39:$B$66)+COUNTIF($B$39:$B$66,B49)-1 -> 9 | E49: =INDEX($A$39:$B$66,MATCH(ROW()-38,$D$39:$D$66,0),1) -> BALEARES | F49: =LOOKUP(E49,$A$39:$A$66,$B$39:$B$66) -> 16206802 | G49: =LOOKUP(E49,$A$39:$A$66,$C$39:$C$66) -> 15408802
A50: =A18 -> CEUTA | B50: =E18 -> 1711404 | C50: =D18 -> 1881096 | D50: =_xlfn.RANK.EQ(B50,$B$39:$B$66)+COUNTIF($B$39:$B$66,B50)-1 -> 26 | E50: =INDEX($A$39:$B$66,MATCH(ROW()-38,$D$39:$D$66,0),1) -> A CORUÑA | F50: =LOOKUP(E50,$A$39:$A$66,$B$39:$B$66) -> 15292088 | G50: =LOOKUP(E50,$A$39:$A$66,$C$39:$C$66) -> 14760612
... A66: =A34 -> VILAGARCÍA | B66: =E34 -> 1207577 | C66: =D34 -> 1201759.4 | D66: =_xlfn.RANK.EQ(B66,$B$39:$B$66)+COUNTIF($B$39:$B$66,B66)-1 -> 27 | E66: =INDEX($A$39:$B$66,MATCH(ROW()-38,$D$39:$D$66,0),1) -> MELILLA | F66: =LOOKUP(E66,$A$39:$A$66,$B$39:$B$66) -> 868060.5 | G66: =LOOKUP(E66,$A$39:$A$66,$C$39:$C$66) -> 1147234

Sheet Líquidos
F1: 2. GRANELES LÍQUIDOS (toneladas)
A5: Autoridad Portuaria | B5: ='Resumen general'!D6 -> Mes diciembre | D5: ='Resumen general'!F6 -> Acumulado desde enero | L5: ='Resumen general'!I4 -> Fecha: 29/10/2019
B6: ='Resumen general'!D7 -> 2017 | C6: ='Resumen general'!E7 -> 2018 | D6: ='Resumen general'!F7 -> 2017 | E6: ='Resumen general'!G7 -> 2018 | F6: Var. (%)
A7: A CORUÑA | B7: 729071 | C7: 589337 | D7: 8788868 | E7: 9337317 | F7: =((E7*100)/D7)-100 -> 6.2402689
A8: ALICANTE | B8: 1600 | C8: 6978 | D8: 41228.69 | E8: 60761.65 | F8: =((E8*100)/D8)-100 -> 47.377106
A9: ALMERÍA | B9: 0 | C9: 3300 | D9: 31656 | E9: 43811 | F9: =((E9*100)/D9)-100 -> 38.397144
A10: AVILÉS | B10: 70525 | C10: 62085 | D10: 658157.57 | E10: 620106 | F10: =((E10*100)/D10)-100 -> -5.7815289
A11: BAHÍA DE ALGECIRAS | B11: 2150888 | C11: 2770244 | D11: 28774987 | E11: 31763061 | F11: =((E11*100)/D11)-100 -> 10.384276
A12: BAHÍA DE CÁDIZ | B12: 35419 | C12: 50918 | D12: 578775 | E12: 686986 | F12: =((E12*100)/D12)-100 -> 18.696557
A13: BALEARES | B13: 53454 | C13: 71943 | D13: 1553351 | E13: 1695567.4 | F13: =((E13*100)/D13)-100 -> 9.1554581
A14: BARCELONA | B14: 1374654 | C14: 1501748 | D14: 14483623 | E14: 15298349 | F14: =((E14*100)/D14)-100 -> 5.6251547
A15: BILBAO | B15: 1912653 | C15: 1751866 | D15: 19783840 | E15: 20490544 | F15: =((E15*100)/D15)-100 -> 3.572125
A16: CARTAGENA | B16: 2024965 | C16: 2138891 | D16: 27177908 | E16: 25676174 | F16: =((E16*100)/D16)-100 -> -5.5255688
A17: CASTELLÓN | B17: 384838 | C17: 948197 | D17: 7834585 | E17: 10393834 | F17: =((E17*100)/D17)-100 -> 32.666038
A18: CEUTA | B18: 95639 | C18: 48967 | D18: 994798 | E18: 834100 | F18: =((E18*100)/D18)-100 -> -16.153832
... A34: VILAGARCÍA | B34: 13504 | C34: 2097 | D34: 193687.34 | E34: 167809 | F34: =((E34*100)/D34)-100 -> -13.360884
A35: Total | B35: =SUM(B7:B34) -> 14514026 | C35: =SUM(C7:C34) -> 15990554 | D35: =SUM(D7:D34) -> 1.7824283e+08 | E35: =SUM(E7:E34) -> 1.807193e+08 | F35: =((E35*100)/D35)-100 -> 1.3893796
A36: Incluye cargas, descargas, tránsitos y transbordos.
B38: =E6 -> 2018 | C38: =D6 -> 2017 | F38: =B38 -> 2018 | G38: =C38 -> 2017
A39: =A7 -> A CORUÑA | B39: =E7 -> 9337317 | C39: =D7 -> 8788868 | D39: =_xlfn.RANK.EQ(B39,$B$39:$B$66)+COUNTIF($B$39:$B$66,B39)-1 -> 8 | E39: =INDEX($A$39:$B$66,MATCH(ROW()-38,$D$39:$D$66,0),1) -> BAHÍA DE ALGECIRAS | F39: =LOOKUP(E39,$A$39:$A$66,$B$39:$B$66) -> 31763061 | G39: =LOOKUP(E39,$A$39:$A$66,$C$39:$C$66) -> 28774987
A40: =A8 -> ALICANTE | B40: =E8 -> 60761.65 | C40: =D8 -> 41228.69 | D40: =_xlfn.RANK.EQ(B40,$B$39:$B$66)+COUNTIF($B$39:$B$66,B40)-1 -> 25 | E40: =INDEX($A$39:$B$66,MATCH(ROW()-38,$D$39:$D$66,0),1) -> CARTAGENA | F40: =LOOKUP(E40,$A$39:$A$66,$B$39:$B$66) -> 25676174 | G40: =LOOKUP(E40,$A$39:$A$66,$C$39:$C$66) -> 27177908
A41: =A9 -> ALMERÍA | B41: =E9 -> 43811 | C41: =D9 -> 31656 | D41: =_xlfn.RANK.EQ(B41,$B$39:$B$66)+COUNTIF($B$39:$B$66,B41)-1 -> 26 | E41: =INDEX($A$39:$B$66,MATCH(ROW()-38,$D$39:$D$66,0),1) -> HUELVA | F41: =LOOKUP(E41,$A$39:$A$66,$B$39:$B$66) -> 25119931 | G41: =LOOKUP(E41,$A$39:$A$66,$C$39:$C$66) -> 24904547
A42: =A10 -> AVILÉS | B42: =E10 -> 620106 | C42: =D10 -> 658157.57 | D42: =_xlfn.RANK.EQ(B42,$B$39:$B$66)+COUNTIF($B$39:$B$66,B42)-1 -> 18 | E42: =INDEX($A$39:$B$66,MATCH(ROW()-38,$D$39:$D$66,0),1) -> BILBAO | F42: =LOOKUP(E42,$A$39:$A$66,$B$39:$B$66) -> 20490544 | G42: =LOOKUP(E42,$A$39:$A$66,$C$39:$C$66) -> 19783840
A43: =A11 -> BAHÍA DE ALGECIRAS | B43: =E11 -> 31763061 | C43: =D11 -> 28774987 | D43: =_xlfn.RANK.EQ(B43,$B$39:$B$66)+COUNTIF($B$39:$B$66,B43)-1 -> 1 | E43: =INDEX($A$39:$B$66,MATCH(ROW()-38,$D$39:$D$66,0),1) -> TARRAGONA | F43: =LOOKUP(E43,$A$39:$A$66,$B$39:$B$66) -> 19844376 | G43: =LOOKUP(E43,$A$39:$A$66,$C$39:$C$66) -> 22035857
A44: =A12 -> BAHÍA DE CÁDIZ | B44: =E12 -> 686986 | C44: =D12 -> 578775 | D44: =_xlfn.RANK.EQ(B44,$B$39:$B$66)+COUNTIF($B$39:$B$66,B44)-1 -> 17 | E44: =INDEX($A$39:$B$66,MATCH(ROW()-38,$D$39:$D$66,0),1) -> BARCELONA | F44: =LOOKUP(E44,$A$39:$A$66,$B$39:$B$66) -> 15298349 | G44: =LOOKUP(E44,$A$39:$A$66,$C$39:$C$66) -> 14483623
A45: =A13 -> BALEARES | B45: =E13 -> 1695567.4 | C45: =D13 -> 1553351 | D45: =_xlfn.RANK.EQ(B45,$B$39:$B$66)+COUNTIF($B$39:$B$66,B45)-1 -> 13 | E45: =INDEX($A$39:$B$66,MATCH(ROW()-38,$D$39:$D$66,0),1) -> CASTELLÓN | F45: =LOOKUP(E45,$A$39:$A$66,$B$39:$B$66) -> 10393834 | G45: =LOOKUP(E45,$A$39:$A$66,$C$39:$C$66) -> 7834585
A46: =A14 -> BARCELONA | B46: =E14 -> 15298349 | C46: =D14 -> 14483623 | D46: =_xlfn.RANK.EQ(B46,$B$39:$B$66)+COUNTIF($B$39:$B$66,B46)-1 -> 6 | E46: =INDEX($A$39:$B$66,MATCH(ROW()-38,$D$39:$D$66,0),1) -> A CORUÑA | F46: =LOOKUP(E46,$A$39:$A$66,$B$39:$B$66) -> 9337317 | G46: =LOOKUP(E46,$A$39:$A$66,$C$39:$C$66) -> 8788868
A47: =A15 -> BILBAO | B47: =E15 -> 20490544 | C47: =D15 -> 19783840 | D47: =_xlfn.RANK.EQ(B47,$B$39:$B$66)+COUNTIF($B$39:$B$66,B47)-1 -> 4 | E47: =INDEX($A$39:$B$66,MATCH(ROW()-38,$D$39:$D$66,0),1) -> LAS PALMAS | F47: =LOOKUP(E47,$A$39:$A$66,$B$39:$B$66) -> 7148462 | G47: =LOOKUP(E47,$A$39:$A$66,$C$39:$C$66) -> 6849513
A48: =A16 -> CARTAGENA | B48: =E16 -> 25676174 | C48: =D16 -> 27177908 | D48: =_xlfn.RANK.EQ(B48,$B$39:$B$66)+COUNTIF($B$39:$B$66,B48)-1 -> 2 | E48: =INDEX($A$39:$B$66,MATCH(ROW()-38,$D$39:$D$66,0),1) -> SANTA CRUZ DE TENERIFE | F48: =LOOKUP(E48,$A$39:$A$66,$B$39:$B$66) -> 4501835 | G48: =LOOKUP(E48,$A$39:$A$66,$C$39:$C$66) -> 5137879
A49: =A17 -> CASTELLÓN | B49: =E17 -> 10393834 | C49: =D17 -> 7834585 | D49: =_xlfn.RANK.EQ(B49,$B$39:$B$66)+COUNTIF($B$39:$B$66,B49)-1 -> 7 | E49: =INDEX($A$39:$B$66,MATCH(ROW()-38,$D$39:$D$66,0),1) -> FERROL-SAN CIBRAO | F49: =LOOKUP(E49,$A$39:$A$66,$B$39:$B$66) -> 2155622.9 | G49: =LOOKUP(E49,$A$39:$A$66,$C$39:$C$66) -> 2313028.4
A50: =A18 -> CEUTA | B50: =E18 -> 834100 | C50: =D18 -> 994798 | D50: =_xlfn.RANK.EQ(B50,$B$39:$B$66)+COUNTIF($B$39:$B$66,B50)-1 -> 15 | E50: =INDEX($A$39:$B$66,MATCH(ROW()-38,$D$39:$D$66,0),1) -> VALENCIA | F50: =LOOKUP(E50,$A$39:$A$66,$B$39:$B$66) -> 1909692 | G50: =LOOKUP(E50,$A$39:$A$66,$C$39:$C$66) -> 3203487
... A66: =A34 -> VILAGARCÍA | B66: =E34 -> 167809 | C66: =D34 -> 193687.34 | D66: =_xlfn.RANK.EQ(B66,$B$39:$B$66)+COUNTIF($B$39:$B$66,B66)-1 -> 21 | E66: =INDEX($A$39:$B$66,MATCH(ROW()-38,$D$39:$D$66,0),1) -> PASAIA | F66: =LOOKUP(E66,$A$39:$A$66,$B$39:$B$66) -> 0 | G66: =LOOKUP(E66,$A$39:$A$66,$C$39:$C$66) -> 0

Sheet Sólidos
F1: 3. GRANELES SÓLIDOS (toneladas)
A5: Autoridad Portuaria | B5: ='Resumen general'!D6 -> Mes diciembre | D5: ='Resumen general'!F6 -> Acumulado desde enero | L5: ='Resumen general'!I4 -> Fecha: 29/10/2019
B6: ='Resumen general'!D7 -> 2017 | C6: ='Resumen general'!E7 -> 2018 | D6: ='Resumen general'!F7 -> 2017 | E6: ='Resumen general'!G7 -> 2018 | F6: Var. (%)
A7: A CORUÑA | B7: 505663 | C7: 419264 | D7: 5057024 | E7: 4853062 | F7: =((E7*100)/D7)-100 -> -4.0332417
A8: ALICANTE | B8: 119149 | C8: 123012 | D8: 1877180.2 | E8: 1592670.8 | F8: =((E8*100)/D8)-100 -> -15.156213
A9: ALMERÍA | B9: 552214 | C9: 302847 | D9: 5618871 | E9: 6337016 | F9: =((E9*100)/D9)-100 -> 12.780948
A10: AVILÉS | B10: 225930 | C10: 317489 | D10: 2879679.5 | E10: 3173814.5 | F10: =((E10*100)/D10)-100 -> 10.214159
A11: BAHÍA DE ALGECIRAS | B11: 219938 | C11: 31155 | D11: 2102907 | E11: 1718439 | F11: =((E11*100)/D11)-100 -> -18.282692
A12: BAHÍA DE CÁDIZ | B12: 131474 | C12: 161597 | D12: 1747589 | E12: 1736215 | F12: =((E12*100)/D12)-100 -> -0.65083953
A13: BALEARES | B13: 126044 | C13: 95185 | D13: 1610651 | E13: 1415401 | F13: =((E13*100)/D13)-100 -> -12.122428
A14: BARCELONA | B14: 352402 | C14: 359227 | D14: 4465637 | E14: 4257025.3 | F14: =((E14*100)/D14)-100 -> -4.6714885
A15: BILBAO | B15: 405774 | C15: 273904 | D15: 4543164 | E15: 4757894 | F15: =((E15*100)/D15)-100 -> 4.7264417
A16: CARTAGENA | B16: 469293 | C16: 807828 | D16: 5820338 | E16: 6596763 | F16: =((E16*100)/D16)-100 -> 13.339861
A17: CASTELLÓN | B17: 491299 | C17: 544527 | D17: 6463716 | E17: 7425415 | F17: =((E17*100)/D17)-100 -> 14.878423
A18: CEUTA | B18: 0 | C18: 2500 | D18: 17469 | E18: 31893 | F18: =((E18*100)/D18)-100 -> 82.569122
... A34: VILAGARCÍA | B34: 51015 | C34: 51336 | D34: 421101.14 | E34: 448216 | F34: =((E34*100)/D34)-100 -> 6.4390374
A35: Total | B35: =SUM(B7:B34) -> 8579383 | C35: =SUM(C7:C34) -> 9252149 | D35: =SUM(D7:D34) -> 1.0142872e+08 | E35: =SUM(E7:E34) -> 1.023661e+08 | F35: =((E35*100)/D35)-100 -> 0.92417554
A36: Incluye cargas, descargas, tránsitos y transbordos.
B38: =E6 -> 2018 | C38: =D6 -> 2017 | F38: =B38 -> 2018 | G38: =C38 -> 2017
A39: =A7 -> A CORUÑA | B39: =E7 -> 4853062 | C39: =D7 -> 5057024 | D39: =_xlfn.RANK.EQ(B39,$B$39:$B$66)+COUNTIF($B$39:$B$66,B39)-1 -> 8 | E39: =INDEX($A$39:$B$66,MATCH(ROW()-38,$D$39:$D$66,0),1) -> GIJÓN | F39: =LOOKUP(E39,$A$39:$A$66,$B$39:$B$66) -> 17193269 | G39: =LOOKUP(E39,$A$39:$A$66,$C$39:$C$66) -> 19220421
A40: =A8 -> ALICANTE | B40: =E8 -> 1592670.8 | C40: =D8 -> 1877180.2 | D40: =_xlfn.RANK.EQ(B40,$B$39:$B$66)+COUNTIF($B$39:$B$66,B40)-1 -> 18 | E40: =INDEX($A$39:$B$66,MATCH(ROW()-38,$D$39:$D$66,0),1) -> FERROL-SAN CIBRAO | F40: =LOOKUP(E40,$A$39:$A$66,$B$39:$B$66) -> 10756980 | G40: =LOOKUP(E40,$A$39:$A$66,$C$39:$C$66) -> 10455812
A41: =A9 -> ALMERÍA | B41: =E9 -> 6337016 | C41: =D9 -> 5618871 | D41: =_xlfn.RANK.EQ(B41,$B$39:$B$66)+COUNTIF($B$39:$B$66,B41)-1 -> 7 | E41: =INDEX($A$39:$B$66,MATCH(ROW()-38,$D$39:$D$66,0),1) -> TARRAGONA | F41: =LOOKUP(E41,$A$39:$A$66,$B$39:$B$66) -> 9988264 | G41: =LOOKUP(E41,$A$39:$A$66,$C$39:$C$66) -> 9505432
A42: =A10 -> AVILÉS | B42: =E10 -> 3173814.5 | C42: =D10 -> 2879679.5 | D42: =_xlfn.RANK.EQ(B42,$B$39:$B$66)+COUNTIF($B$39:$B$66,B42)-1 -> 12 | E42: =INDEX($A$39:$B$66,MATCH(ROW()-38,$D$39:$D$66,0),1) -> CASTELLÓN | F42: =LOOKUP(E42,$A$39:$A$66,$B$39:$B$66) -> 7425415 | G42: =LOOKUP(E42,$A$39:$A$66,$C$39:$C$66) -> 6463716
A43: =A11 -> BAHÍA DE ALGECIRAS | B43: =E11 -> 1718439 | C43: =D11 -> 2102907 | D43: =_xlfn.RANK.EQ(B43,$B$39:$B$66)+COUNTIF($B$39:$B$66,B43)-1 -> 16 | E43: =INDEX($A$39:$B$66,MATCH(ROW()-38,$D$39:$D$66,0),1) -> HUELVA | F43: =LOOKUP(E43,$A$39:$A$66,$B$39:$B$66) -> 6662398.8 | G43: =LOOKUP(E43,$A$39:$A$66,$C$39:$C$66) -> 6487378.1
A44: =A12 -> BAHÍA DE CÁDIZ | B44: =E12 -> 1736215 | C44: =D12 -> 1747589 | D44: =_xlfn.RANK.EQ(B44,$B$39:$B$66)+COUNTIF($B$39:$B$66,B44)-1 -> 15 | E44: =INDEX($A$39:$B$66,MATCH(ROW()-38,$D$39:$D$66,0),1) -> CARTAGENA | F44: =LOOKUP(E44,$A$39:$A$66,$B$39:$B$66) -> 6596763 | G44: =LOOKUP(E44,$A$39:$A$66,$C$39:$C$66) -> 5820338
A45: =A13 -> BALEARES | B45: =E13 -> 1415401 | C45: =D13 -> 1610651 | D45: =_xlfn.RANK.EQ(B45,$B$39:$B$66)+COUNTIF($B$39:$B$66,B45)-1 -> 19 | E45: =INDEX($A$39:$B$66,MATCH(ROW()-38,$D$39:$D$66,0),1) -> ALMERÍA | F45: =LOOKUP(E45,$A$39:$A$66,$B$39:$B$66) -> 6337016 | G45: =LOOKUP(E45,$A$39:$A$66,$C$39:$C$66) -> 5618871
A46: =A14 -> BARCELONA | B46: =E14 -> 4257025.3 | C46: =D14 -> 4465637 | D46: =_xlfn.RANK.EQ(B46,$B$39:$B$66)+COUNTIF($B$39:$B$66,B46)-1 -> 10 | E46: =INDEX($A$39:$B$66,MATCH(ROW()-38,$D$39:$D$66,0),1) -> A CORUÑA | F46: =LOOKUP(E46,$A$39:$A$66,$B$39:$B$66) -> 4853062 | G46: =LOOKUP(E46,$A$39:$A$66,$C$39:$C$66) -> 5057024
A47: =A15 -> BILBAO | B47: =E15 -> 4757894 | C47: =D15 -> 4543164 | D47: =_xlfn.RANK.EQ(B47,$B$39:$B$66)+COUNTIF($B$39:$B$66,B47)-1 -> 9 | E47: =INDEX($A$39:$B$66,MATCH(ROW()-38,$D$39:$D$66,0),1) -> BILBAO | F47: =LOOKUP(E47,$A$39:$A$66,$B$39:$B$66) -> 4757894 | G47: =LOOKUP(E47,$A$39:$A$66,$C$39:$C$66) -> 4543164
A48: =A16 -> CARTAGENA | B48: =E16 -> 6596763 | C48: =D16 -> 5820338 | D48: =_xlfn.RANK.EQ(B48,$B$39:$B$66)+COUNTIF($B$39:$B$66,B48)-1 -> 6 | E48: =INDEX($A$39:$B$66,MATCH(ROW()-38,$D$39:$D$66,0),1) -> BARCELONA | F48: =LOOKUP(E48,$A$39:$A$66,$B$39:$B$66) -> 4257025.3 | G48: =LOOKUP(E48,$A$39:$A$66,$C$39:$C$66) -> 4465637
A49: =A17 -> CASTELLÓN | B49: =E17 -> 7425415 | C49: =D17 -> 6463716 | D49: =_xlfn.RANK.EQ(B49,$B$39:$B$66)+COUNTIF($B$39:$B$66,B49)-1 -> 4 | E49: =INDEX($A$39:$B$66,MATCH(ROW()-38,$D$39:$D$66,0),1) -> SANTANDER | F49: =LOOKUP(E49,$A$39:$A$66,$B$39:$B$66) -> 3313907.5 | G49: =LOOKUP(E49,$A$39:$A$66,$C$39:$C$66) -> 3476272
A50: =A18 -> CEUTA | B50: =E18 -> 31893 | C50: =D18 -> 17469 | D50: =_xlfn.RANK.EQ(B50,$B$39:$B$66)+COUNTIF($B$39:$B$66,B50)-1 -> 27 | E50: =INDEX($A$39:$B$66,MATCH(ROW()-38,$D$39:$D$66,0),1) -> AVILÉS | F50: =LOOKUP(E50,$A$39:$A$66,$B$39:$B$66) -> 3173814.5 | G50: =LOOKUP(E50,$A$39:$A$66,$C$39:$C$66) -> 2879679.5
... A66: =A34 -> VILAGARCÍA | B66: =E34 -> 448216 | C66: =D34 -> 421101.14 | D66: =_xlfn.RANK.EQ(B66,$B$39:$B$66)+COUNTIF($B$39:$B$66,B66)-1 -> 24 | E66: =INDEX($A$39:$B$66,MATCH(ROW()-38,$D$39:$D$66,0),1) -> MELILLA | F66: =LOOKUP(E66,$A$39:$A$66,$B$39:$B$66) -> 5250 | G66: =LOOKUP(E66,$A$39:$A$66,$C$39:$C$66) -> 7372

Sheet Mercancía general
F1: 4. MERCANCÍA GENERAL (toneladas)
A5: Autoridad Portuaria | B5: ='Resumen general'!D6 -> Mes diciembre | D5: ='Resumen general'!F6 -> Acumulado desde enero | L5: ='Resumen general'!I4 -> Fecha: 29/10/2019
B6: ='Resumen general'!D7 -> 2017 | C6: ='Resumen general'!E7 -> 2018 | D6: ='Resumen general'!F7 -> 2017 | E6: ='Resumen general'!G7 -> 2018 | F6: Var. (%)
A7: A CORUÑA | B7: 61348 | C7: 66620 | D7: 914720 | E7: 1101709 | F7: =((E7*100)/D7)-100 -> 20.442212
A8: ALICANTE | B8: 135594 | C8: 129085 | D8: 1503201.8 | E8: 1507916.2 | F8: =((E8*100)/D8)-100 -> 0.31361856
A9: ALMERÍA | B9: 54025 | C9: 69099 | D9: 639714 | E9: 584505 | F9: =((E9*100)/D9)-100 -> -8.6302629
A10: AVILÉS | B10: 108968 | C10: 108032 | D10: 1214020.2 | E10: 1173643.4 | F10: =((E10*100)/D10)-100 -> -3.3258747
A11: BAHÍA DE ALGECIRAS | B11: 5496147 | C11: 5494173 | D11: 65452560 | E11: 69062429 | F11: =((E11*100)/D11)-100 -> 5.5152455
A12: BAHÍA DE CÁDIZ | B12: 124763 | C12: 104881 | D12: 1660429 | E12: 1415463 | F12: =((E12*100)/D12)-100 -> -14.753175
A13: BALEARES | B13: 771832 | C13: 877897 | D13: 12244800 | E13: 13095834 | F13: =((E13*100)/D13)-100 -> 6.9501666
A14: BARCELONA | B14: 3288812 | C14: 3695496 | D14: 41120874 | E14: 46339751 | F14: =((E14*100)/D14)-100 -> 12.691551
A15: BILBAO | B15: 1024882 | C15: 756553 | D15: 9867978 | E15: 10335052 | F15: =((E15*100)/D15)-100 -> 4.733229
A16: CARTAGENA | B16: 113434 | C16: 83037 | D16: 1534101 | E16: 1460351 | F16: =((E16*100)/D16)-100 -> -4.8073758
A17: CASTELLÓN | B17: 238469 | C17: 235263 | D17: 3583884 | E17: 3288508.5 | F17: =((E17*100)/D17)-100 -> -8.2417707
A18: CEUTA | B18: 55794 | C18: 66310 | D18: 868829 | E18: 845411 | F18: =((E18*100)/D18)-100 -> -2.695352
... A34: VILAGARCÍA | B34: 39658 | C34: 47018 | D34: 586970.88 | E34: 591552 | F34: =((E34*100)/D34)-100 -> 0.78046802
A35: Total | B35: =SUM(B7:B34) -> 20409797 | C35: =SUM(C7:C34) -> 21565966 | D35: =SUM(D7:D34) -> 2.5246602e+08 | E35: =SUM(E7:E34) -> 2.6737255e+08 | F35: =((E35*100)/D35)-100 -> 5.904374
A36: Incluye cargas, descargas, tránsitos y transbordos.
B38: =E6 -> 2018 | C38: =D6 -> 2017 | F38: =B38 -> 2018 | G38: =C38 -> 2017
A39: =A7 -> A CORUÑA | B39: =E7 -> 1101709 | C39: =D7 -> 914720 | D39: =_xlfn.RANK.EQ(B39,$B$39:$B$66)+COUNTIF($B$39:$B$66,B39)-1 -> 21 | E39: =INDEX($A$39:$B$66,MATCH(ROW()-38,$D$39:$D$66,0),1) -> VALENCIA | F39: =LOOKUP(E39,$A$39:$A$66,$B$39:$B$66) -> 71971743 | G39: =LOOKUP(E39,$A$39:$A$66,$C$39:$C$66) -> 67767129
A40: =A8 -> ALICANTE | B40: =E8 -> 1507916.2 | C40: =D8 -> 1503201.8 | D40: =_xlfn.RANK.EQ(B40,$B$39:$B$66)+COUNTIF($B$39:$B$66,B40)-1 -> 16 | E40: =INDEX($A$39:$B$66,MATCH(ROW()-38,$D$39:$D$66,0),1) -> BAHÍA DE ALGECIRAS | F40: =LOOKUP(E40,$A$39:$A$66,$B$39:$B$66) -> 69062429 | G40: =LOOKUP(E40,$A$39:$A$66,$C$39:$C$66) -> 65452560
A41: =A9 -> ALMERÍA | B41: =E9 -> 584505 | C41: =D9 -> 639714 | D41: =_xlfn.RANK.EQ(B41,$B$39:$B$66)+COUNTIF($B$39:$B$66,B41)-1 -> 28 | E41: =INDEX($A$39:$B$66,MATCH(ROW()-38,$D$39:$D$66,0),1) -> BARCELONA | F41: =LOOKUP(E41,$A$39:$A$66,$B$39:$B$66) -> 46339751 | G41: =LOOKUP(E41,$A$39:$A$66,$C$39:$C$66) -> 41120874
A42: =A10 -> AVILÉS | B42: =E10 -> 1173643.4 | C42: =D10 -> 1214020.2 | D42: =_xlfn.RANK.EQ(B42,$B$39:$B$66)+COUNTIF($B$39:$B$66,B42)-1 -> 20 | E42: =INDEX($A$39:$B$66,MATCH(ROW()-38,$D$39:$D$66,0),1) -> LAS PALMAS | F42: =LOOKUP(E42,$A$39:$A$66,$B$39:$B$66) -> 16719921 | G42: =LOOKUP(E42,$A$39:$A$66,$C$39:$C$66) -> 16933001
A43: =A11 -> BAHÍA DE ALGECIRAS | B43: =E11 -> 69062429 | C43: =D11 -> 65452560 | D43: =_xlfn.RANK.EQ(B43,$B$39:$B$66)+COUNTIF($B$39:$B$66,B43)-1 -> 2 | E43: =INDEX($A$39:$B$66,MATCH(ROW()-38,$D$39:$D$66,0),1) -> BALEARES | F43: =LOOKUP(E43,$A$39:$A$66,$B$39:$B$66) -> 13095834 | G43: =LOOKUP(E43,$A$39:$A$66,$C$39:$C$66) -> 12244800
A44: =A12 -> BAHÍA DE CÁDIZ | B44: =E12 -> 1415463 | C44: =D12 -> 1660429 | D44: =_xlfn.RANK.EQ(B44,$B$39:$B$66)+COUNTIF($B$39:$B$66,B44)-1 -> 19 | E44: =INDEX($A$39:$B$66,MATCH(ROW()-38,$D$39:$D$66,0),1) -> BILBAO | F44: =LOOKUP(E44,$A$39:$A$66,$B$39:$B$66) -> 10335052 | G44: =LOOKUP(E44,$A$39:$A$66,$C$39:$C$66) -> 9867978
A45: =A13 -> BALEARES | B45: =E13 -> 13095834 | C45: =D13 -> 12244800 | D45: =_xlfn.RANK.EQ(B45,$B$39:$B$66)+COUNTIF($B$39:$B$66,B45)-1 -> 5 | E45: =INDEX($A$39:$B$66,MATCH(ROW()-38,$D$39:$D$66,0),1) -> SANTA CRUZ DE TENERIFE | F45: =LOOKUP(E45,$A$39:$A$66,$B$39:$B$66) -> 7411423.2 | G45: =LOOKUP(E45,$A$39:$A$66,$C$39:$C$66) -> 7391132
A46: =A14 -> BARCELONA | B46: =E14 -> 46339751 | C46: =D14 -> 41120874 | D46: =_xlfn.RANK.EQ(B46,$B$39:$B$66)+COUNTIF($B$39:$B$66,B46)-1 -> 3 | E46: =INDEX($A$39:$B$66,MATCH(ROW()-38,$D$39:$D$66,0),1) -> VIGO | F46: =LOOKUP(E46,$A$39:$A$66,$B$39:$B$66) -> 3770116.4 | G46: =LOOKUP(E46,$A$39:$A$66,$C$39:$C$66) -> 3637839.5
A47: =A15 -> BILBAO | B47: =E15 -> 10335052 | C47: =D15 -> 9867978 | D47: =_xlfn.RANK.EQ(B47,$B$39:$B$66)+COUNTIF($B$39:$B$66,B47)-1 -> 6 | E47: =INDEX($A$39:$B$66,MATCH(ROW()-38,$D$39:$D$66,0),1) -> CASTELLÓN | F47: =LOOKUP(E47,$A$39:$A$66,$B$39:$B$66) -> 3288508.5 | G47: =LOOKUP(E47,$A$39:$A$66,$C$39:$C$66) -> 3583884
A48: =A16 -> CARTAGENA | B48: =E16 -> 1460351 | C48: =D16 -> 1534101 | D48: =_xlfn.RANK.EQ(B48,$B$39:$B$66)+COUNTIF($B$39:$B$66,B48)-1 -> 17 | E48: =INDEX($A$39:$B$66,MATCH(ROW()-38,$D$39:$D$66,0),1) -> SANTANDER | F48: =LOOKUP(E48,$A$39:$A$66,$B$39:$B$66) -> 2303697.5 | G48: =LOOKUP(E48,$A$39:$A$66,$C$39:$C$66) -> 1887886
A49: =A17 -> CASTELLÓN | B49: =E17 -> 3288508.5 | C49: =D17 -> 3583884 | D49: =_xlfn.RANK.EQ(B49,$B$39:$B$66)+COUNTIF($B$39:$B$66,B49)-1 -> 9 | E49: =INDEX($A$39:$B$66,MATCH(ROW()-38,$D$39:$D$66,0),1) -> TARRAGONA | F49: =LOOKUP(E49,$A$39:$A$66,$B$39:$B$66) -> 2168374 | G49: =LOOKUP(E49,$A$39:$A$66,$C$39:$C$66) -> 2079663
A50: =A18 -> CEUTA | B50: =E18 -> 845411 | C50: =D18 -> 868829 | D50: =_xlfn.RANK.EQ(B50,$B$39:$B$66)+COUNTIF($B$39:$B$66,B50)-1 -> 24 | E50: =INDEX($A$39:$B$66,MATCH(ROW()-38,$D$39:$D$66,0),1) -> PASAIA | F50: =LOOKUP(E50,$A$39:$A$66,$B$39:$B$66) -> 2085553 | G50: =LOOKUP(E50,$A$39:$A$66,$C$39:$C$66) -> 2085298
... A66: =A34 -> VILAGARCÍA | B66: =E34 -> 591552 | C66: =D34 -> 586970.88 | D66: =_xlfn.RANK.EQ(B66,$B$39:$B$66)+COUNTIF($B$39:$B$66,B66)-1 -> 27 | E66: =INDEX($A$39:$B$66,MATCH(ROW()-38,$D$39:$D$66,0),1) -> ALMERÍA | F66: =LOOKUP(E66,$A$39:$A$66,$B$39:$B$66) -> 584505 | G66: =LOOKUP(E66,$A$39:$A$66,$C$39:$C$66) -> 639714

Sheet Mercancías contenedores
F1: 4.1. MERCANCÍAS EN CONTENEDORES (toneladas)
A5: Autoridad Portuaria | B5: ='Resumen general'!D6 -> Mes diciembre | D5: ='Resumen general'!F6 -> Acumulado desde enero | L5: ='Resumen general'!I4 -> Fecha: 29/10/2019
B6: ='Resumen general'!D7 -> 2017 | C6: ='Resumen general'!E7 -> 2018 | D6: ='Resumen general'!F7 -> 2017 | E6: ='Resumen general'!G7 -> 2018 | F6: Var. (%)
A7: A CORUÑA | B7: 0 | C7: 34 | D7: 6 | E7: 54 | F7: =((E7*100)/D7)-100 -> 800
A8: ALICANTE | B8: 118195 | C8: 99867 | D8: 1258641.8 | E8: 1245245.5 | F8: =((E8*100)/D8)-100 -> -1.0643497
A9: ALMERÍA | B9: 2125 | C9: 13349 | D9: 34934 | E9: 92720 | F9: =((E9*100)/D9)-100 -> 165.41478
A10: AVILÉS | B10: 0 | C10: 0 | D10: 0 | E10: 52 | F10: =((E10*100)/D10)-100 -> #DIV/0!
A11: BAHÍA DE ALGECIRAS | B11: 4819683 | C11: 4765020 | D11: 57600003 | E11: 60593409 | F11: =((E11*100)/D11)-100 -> 5.1968844
A12: BAHÍA DE CÁDIZ | B12: 54504 | C12: 36869 | D12: 644765 | E12: 483037 | F12: =((E12*100)/D12)-100 -> -25.083247
A13: BALEARES | B13: 51980 | C13: 26556 | D13: 813517 | E13: 661073 | F13: =((E13*100)/D13)-100 -> -18.738883
A14: BARCELONA | B14: 2490444 | C14: 2921341 | D14: 29911225 | E14: 34790080 | F14: =((E14*100)/D14)-100 -> 16.311116
A15: BILBAO | B15: 709846 | C15: 519778 | D15: 6464560 | E15: 6807692 | F15: =((E15*100)/D15)-100 -> 5.3078941
A16: CARTAGENA | B16: 89857 | C16: 64463 | D16: 1223604 | E16: 1129557 | F16: =((E16*100)/D16)-100 -> -7.6860651
A17: CASTELLÓN | B17: 217705 | C17: 213044 | D17: 3276619 | E17: 3048975 | F17: =((E17*100)/D17)-100 -> -6.9475273
A18: CEUTA | B18: 6845 | C18: 9397 | D18: 125217 | E18: 118282 | F18: =((E18*100)/D18)-100 -> -5.5383854
... A34: VILAGARCÍA | B34: 25065 | C34: 28799 | D34: 293923.05 | E34: 304282 | F34: =((E34*100)/D34)-100 -> 3.5243748
A35: Total | B35: =SUM(B7:B34) -> 14859486 | C35: =SUM(C7:C34) -> 15739583 | D35: =SUM(D7:D34) -> 1.8145292e+08 | E35: =SUM(E7:E34) -> 1.9102825e+08 | F35: =((E35*100)/D35)-100 -> 5.2770331
A36: Incluye cargas, descargas, tránsitos y transbordos.
B38: =E6 -> 2018 | C38: =D6 -> 2017 | F38: =B38 -> 2018 | G38: =C38 -> 2017
A39: =A7 -> A CORUÑA | B39: =E7 -> 54 | C39: =D7 -> 6 | D39: =_xlfn.RANK.EQ(B39,$B$39:$B$66)+COUNTIF($B$39:$B$66,B39)-1 -> 27 | E39: =INDEX($A$39:$B$66,MATCH(ROW()-38,$D$39:$D$66,0),1) -> BAHÍA DE ALGECIRAS | F39: =LOOKUP(E39,$A$39:$A$66,$B$39:$B$66) -> 60593409 | G39: =LOOKUP(E39,$A$39:$A$66,$C$39:$C$66) -> 57600003
A40: =A8 -> ALICANTE | B40: =E8 -> 1245245.5 | C40: =D8 -> 1258641.8 | D40: =_xlfn.RANK.EQ(B40,$B$39:$B$66)+COUNTIF($B$39:$B$66,B40)-1 -> 9 | E40: =INDEX($A$39:$B$66,MATCH(ROW()-38,$D$39:$D$66,0),1) -> VALENCIA | F40: =LOOKUP(E40,$A$39:$A$66,$B$39:$B$66) -> 57885808 | G40: =LOOKUP(E40,$A$39:$A$66,$C$39:$C$66) -> 55978616
A41: =A9 -> ALMERÍA | B41: =E9 -> 92720 | C41: =D9 -> 34934 | D41: =_xlfn.RANK.EQ(B41,$B$39:$B$66)+COUNTIF($B$39:$B$66,B41)-1 -> 23 | E41: =INDEX($A$39:$B$66,MATCH(ROW()-38,$D$39:$D$66,0),1) -> BARCELONA | F41: =LOOKUP(E41,$A$39:$A$66,$B$39:$B$66) -> 34790080 | G41: =LOOKUP(E41,$A$39:$A$66,$C$39:$C$66) -> 29911225
A42: =A10 -> AVILÉS | B42: =E10 -> 52 | C42: =D10 -> 0 | D42: =_xlfn.RANK.EQ(B42,$B$39:$B$66)+COUNTIF($B$39:$B$66,B42)-1 -> 28 | E42: =INDEX($A$39:$B$66,MATCH(ROW()-38,$D$39:$D$66,0),1) -> LAS PALMAS | F42: =LOOKUP(E42,$A$39:$A$66,$B$39:$B$66) -> 12238328 | G42: =LOOKUP(E42,$A$39:$A$66,$C$39:$C$66) -> 12806963
A43: =A11 -> BAHÍA DE ALGECIRAS | B43: =E11 -> 60593409 | C43: =D11 -> 57600003 | D43: =_xlfn.RANK.EQ(B43,$B$39:$B$66)+COUNTIF($B$39:$B$66,B43)-1 -> 1 | E43: =INDEX($A$39:$B$66,MATCH(ROW()-38,$D$39:$D$66,0),1) -> BILBAO | F43: =LOOKUP(E43,$A$39:$A$66,$B$39:$B$66) -> 6807692 | G43: =LOOKUP(E43,$A$39:$A$66,$C$39:$C$66) -> 6464560
A44: =A12 -> BAHÍA DE CÁDIZ | B44: =E12 -> 483037 | C44: =D12 -> 644765 | D44: =_xlfn.RANK.EQ(B44,$B$39:$B$66)+COUNTIF($B$39:$B$66,B44)-1 -> 18 | E44: =INDEX($A$39:$B$66,MATCH(ROW()-38,$D$39:$D$66,0),1) -> SANTA CRUZ DE TENERIFE | F44: =LOOKUP(E44,$A$39:$A$66,$B$39:$B$66) -> 3631763 | G44: =LOOKUP(E44,$A$39:$A$66,$C$39:$C$66) -> 3699948
A45: =A13 -> BALEARES | B45: =E13 -> 661073 | C45: =D13 -> 813517 | D45: =_xlfn.RANK.EQ(B45,$B$39:$B$66)+COUNTIF($B$39:$B$66,B45)-1 -> 15 | E45: =INDEX($A$39:$B$66,MATCH(ROW()-38,$D$39:$D$66,0),1) -> CASTELLÓN | F45: =LOOKUP(E45,$A$39:$A$66,$B$39:$B$66) -> 3048975 | G45: =LOOKUP(E45,$A$39:$A$66,$C$39:$C$66) -> 3276619
A46: =A14 -> BARCELONA | B46: =E14 -> 34790080 | C46: =D14 -> 29911225 | D46: =_xlfn.RANK.EQ(B46,$B$39:$B$66)+COUNTIF($B$39:$B$66,B46)-1 -> 3 | E46: =INDEX($A$39:$B$66,MATCH(ROW()-38,$D$39:$D$66,0),1) -> VIGO | F46: =LOOKUP(E46,$A$39:$A$66,$B$39:$B$66) -> 2667879.7 | G46: =LOOKUP(E46,$A$39:$A$66,$C$39:$C$66) -> 2590411
A47: =A15 -> BILBAO | B47: =E15 -> 6807692 | C47: =D15 -> 6464560 | D47: =_xlfn.RANK.EQ(B47,$B$39:$B$66)+COUNTIF($B$39:$B$66,B47)-1 -> 5 | E47: =INDEX($A$39:$B$66,MATCH(ROW()-38,$D$39:$D$66,0),1) -> ALICANTE | F47: =LOOKUP(E47,$A$39:$A$66,$B$39:$B$66) -> 1245245.5 | G47: =LOOKUP(E47,$A$39:$A$66,$C$39:$C$66) -> 1258641.8
A48: =A16 -> CARTAGENA | B48: =E16 -> 1129557 | C48: =D16 -> 1223604 | D48: =_xlfn.RANK.EQ(B48,$B$39:$B$66)+COUNTIF($B$39:$B$66,B48)-1 -> 10 | E48: =INDEX($A$39:$B$66,MATCH(ROW()-38,$D$39:$D$66,0),1) -> CARTAGENA | F48: =LOOKUP(E48,$A$39:$A$66,$B$39:$B$66) -> 1129557 | G48: =LOOKUP(E48,$A$39:$A$66,$C$39:$C$66) -> 1223604
A49: =A17 -> CASTELLÓN | B49: =E17 -> 3048975 | C49: =D17 -> 3276619 | D49: =_xlfn.RANK.EQ(B49,$B$39:$B$66)+COUNTIF($B$39:$B$66,B49)-1 -> 7 | E49: =INDEX($A$39:$B$66,MATCH(ROW()-38,$D$39:$D$66,0),1) -> SEVILLA | F49: =LOOKUP(E49,$A$39:$A$66,$B$39:$B$66) -> 983126 | G49: =LOOKUP(E49,$A$39:$A$66,$C$39:$C$66) -> 877088
A50: =A18 -> CEUTA | B50: =E18 -> 118282 | C50: =D18 -> 125217 | D50: =_xlfn.RANK.EQ(B50,$B$39:$B$66)+COUNTIF($B$39:$B$66,B50)-1 -> 22 | E50: =INDEX($A$39:$B$66,MATCH(ROW()-38,$D$39:$D$66,0),1) -> GIJÓN | F50: =LOOKUP(E50,$A$39:$A$66,$B$39:$B$66) -> 965284 | G50: =LOOKUP(E50,$A$39:$A$66,$C$39:$C$66) -> 909346
... A66: =A34 -> VILAGARCÍA | B66: =E34 -> 304282 | C66: =D34 -> 293923.05 | D66: =_xlfn.RANK.EQ(B66,$B$39:$B$66)+COUNTIF($B$39:$B$66,B66)-1 -> 19 | E66: =INDEX($A$39:$B$66,MATCH(ROW()-38,$D$39:$D$66,0),1) -> AVILÉS | F66: =LOOKUP(E66,$A$39:$A$66,$B$39:$B$66) -> 52 | G66: =LOOKUP(E66,$A$39:$A$66,$C$39:$C$66) -> 0

Sheet Pesca
F1: 5. PESCA (toneladas)
A5: Autoridad Portuaria | B5: ='Resumen general'!D6 -> Mes diciembre | D5: ='Resumen general'!F6 -> Acumulado desde enero | L5: ='Resumen general'!I4 -> Fecha: 29/10/2019
B6: ='Resumen general'!D7 -> 2017 | C6: ='Resumen general'!E7 -> 2018 | D6: ='Resumen general'!F7 -> 2017 | E6: ='Resumen general'!G7 -> 2018 | F6: Var. (%)
A7: A CORUÑA | B7: 2178 | C7: 2488 | D7: 51102.289 | E7: 42358.264 | F7: =((E7*100)/D7)-100 -> -17.110828
A8: ALICANTE | B8: 24 | C8: 28 | D8: 1668.957 | E8: 2005.872 | F8: =((E8*100)/D8)-100 -> 20.187159
A9: ALMERÍA | B9: 241 | C9: 283 | D9: 3465.653 | E9: 4263.563 | F9: =((E9*100)/D9)-100 -> 23.023367
A10: AVILÉS | B10: 664 | C10: 579 | D10: 13568.722 | E10: 12545.967 | F10: =((E10*100)/D10)-100 -> -7.5375927
A11: BAHÍA DE ALGECIRAS | B11: 31 | C11: 39 | D11: 1014.97 | E11: 878.58 | F11: =((E11*100)/D11)-100 -> -13.437836
A12: BAHÍA DE CÁDIZ | B12: 987 | C12: 1056 | D12: 16293.623 | E12: 17693.197 | F12: =((E12*100)/D12)-100 -> 8.589703
A13: BALEARES | B13: 118 | C13: 188 | D13: 3004.166 | E13: 2903.317 | F13: =((E13*100)/D13)-100 -> -3.3569716
A14: BARCELONA | B14: 25 | C14: 59 | D14: 2961.48 | E14: 3171.9987 | F14: =((E14*100)/D14)-100 -> 7.1085636
A15: BILBAO | B15: 0 | C15: 0 | D15: 0 | E15: 0 | F15: =((E15*100)/D15)-100 -> #DIV/0!
A16: CARTAGENA | B16: 28 | C16: 27 | D16: 517.271 | E16: 479.924 | F16: =((E16*100)/D16)-100 -> -7.2200065
A17: CASTELLÓN | B17: 98 | C17: 108 | D17: 4291.133 | E17: 5415.152 | F17: =((E17*100)/D17)-100 -> 26.193991
A18: CEUTA | B18: 0 | C18: 0 | D18: 27.902 | E18: 40.863 | F18: =((E18*100)/D18)-100 -> 46.451867
... A34: VILAGARCÍA | B34: 0 | C34: 0 | D34: 0 | E34: 0 | F34: =((E34*100)/D34)-100 -> #DIV/0!
A35: Total | B35: =SUM(B7:B34) -> 18660 | C35: =SUM(C7:C34) -> 18385 | D35: =SUM(D7:D34) -> 243073.37 | E35: =SUM(E7:E34) -> 224013.83 | F35: =((E35*100)/D35)-100 -> -7.841064
B38: =E6 -> 2018 | C38: =D6 -> 2017 | F38: =B38 -> 2018 | G38: =C38 -> 2017
A39: =A7 -> A CORUÑA | B39: =E7 -> 42358.264 | C39: =D7 -> 51102.289 | D39: =_xlfn.RANK.EQ(B39,$B$39:$B$66)+COUNTIF($B$39:$B$66,B39)-1 -> 2 | E39: =INDEX($A$39:$B$66,MATCH(ROW()-38,$D$39:$D$66,0),1) -> VIGO | F39: =LOOKUP(E39,$A$39:$A$66,$B$39:$B$66) -> 78168.629 | G39: =LOOKUP(E39,$A$39:$A$66,$C$39:$C$66) -> 89126.699
A40: =A8 -> ALICANTE | B40: =E8 -> 2005.872 | C40: =D8 -> 1668.957 | D40: =_xlfn.RANK.EQ(B40,$B$39:$B$66)+COUNTIF($B$39:$B$66,B40)-1 -> 15 | E40: =INDEX($A$39:$B$66,MATCH(ROW()-38,$D$39:$D$66,0),1) -> A CORUÑA | F40: =LOOKUP(E40,$A$39:$A$66,$B$39:$B$66) -> 42358.264 | G40: =LOOKUP(E40,$A$39:$A$66,$C$39:$C$66) -> 51102.289
A41: =A9 -> ALMERÍA | B41: =E9 -> 4263.563 | C41: =D9 -> 3465.653 | D41: =_xlfn.RANK.EQ(B41,$B$39:$B$66)+COUNTIF($B$39:$B$66,B41)-1 -> 10 | E41: =INDEX($A$39:$B$66,MATCH(ROW()-38,$D$39:$D$66,0),1) -> PASAIA | F41: =LOOKUP(E41,$A$39:$A$66,$B$39:$B$66) -> 24638.1 | G41: =LOOKUP(E41,$A$39:$A$66,$C$39:$C$66) -> 25988.819
A42: =A10 -> AVILÉS | B42: =E10 -> 12545.967 | C42: =D10 -> 13568.722 | D42: =_xlfn.RANK.EQ(B42,$B$39:$B$66)+COUNTIF($B$39:$B$66,B42)-1 -> 5 | E42: =INDEX($A$39:$B$66,MATCH(ROW()-38,$D$39:$D$66,0),1) -> BAHÍA DE CÁDIZ | F42: =LOOKUP(E42,$A$39:$A$66,$B$39:$B$66) -> 17693.197 | G42: =LOOKUP(E42,$A$39:$A$66,$C$39:$C$66) -> 16293.623
A43: =A11 -> BAHÍA DE ALGECIRAS | B43: =E11 -> 878.58 | C43: =D11 -> 1014.97 | D43: =_xlfn.RANK.EQ(B43,$B$39:$B$66)+COUNTIF($B$39:$B$66,B43)-1 -> 20 | E43: =INDEX($A$39:$B$66,MATCH(ROW()-38,$D$39:$D$66,0),1) -> AVILÉS | F43: =LOOKUP(E43,$A$39:$A$66,$B$39:$B$66) -> 12545.967 | G43: =LOOKUP(E43,$A$39:$A$66,$C$39:$C$66) -> 13568.722
A44: =A12 -> BAHÍA DE CÁDIZ | B44: =E12 -> 17693.197 | C44: =D12 -> 16293.623 | D44: =_xlfn.RANK.EQ(B44,$B$39:$B$66)+COUNTIF($B$39:$B$66,B44)-1 -> 4 | E44: =INDEX($A$39:$B$66,MATCH(ROW()-38,$D$39:$D$66,0),1) -> SANTA CRUZ DE TENERIFE | F44: =LOOKUP(E44,$A$39:$A$66,$B$39:$B$66) -> 5485.807 | G44: =LOOKUP(E44,$A$39:$A$66,$C$39:$C$66) -> 5921.679
A45: =A13 -> BALEARES | B45: =E13 -> 2903.317 | C45: =D13 -> 3004.166 | D45: =_xlfn.RANK.EQ(B45,$B$39:$B$66)+COUNTIF($B$39:$B$66,B45)-1 -> 13 | E45: =INDEX($A$39:$B$66,MATCH(ROW()-38,$D$39:$D$66,0),1) -> CASTELLÓN | F45: =LOOKUP(E45,$A$39:$A$66,$B$39:$B$66) -> 5415.152 | G45: =LOOKUP(E45,$A$39:$A$66,$C$39:$C$66) -> 4291.133
A46: =A14 -> BARCELONA | B46: =E14 -> 3171.9987 | C46: =D14 -> 2961.48 | D46: =_xlfn.RANK.EQ(B46,$B$39:$B$66)+COUNTIF($B$39:$B$66,B46)-1 -> 12 | E46: =INDEX($A$39:$B$66,MATCH(ROW()-38,$D$39:$D$66,0),1) -> GIJÓN | F46: =LOOKUP(E46,$A$39:$A$66,$B$39:$B$66) -> 5070.093 | G46: =LOOKUP(E46,$A$39:$A$66,$C$39:$C$66) -> 7364.836
A47: =A15 -> BILBAO | B47: =E15 -> 0 | C47: =D15 -> 0 | D47: =_xlfn.RANK.EQ(B47,$B$39:$B$66)+COUNTIF($B$39:$B$66,B47)-1 -> 28 | E47: =INDEX($A$39:$B$66,MATCH(ROW()-38,$D$39:$D$66,0),1) -> SANTANDER | F47: =LOOKUP(E47,$A$39:$A$66,$B$39:$B$66) -> 5069.545 | G47: =LOOKUP(E47,$A$39:$A$66,$C$39:$C$66) -> 4056.542
A48: =A16 -> CARTAGENA | B48: =E16 -> 479.924 | C48: =D16 -> 517.271 | D48: =_xlfn.RANK.EQ(B48,$B$39:$B$66)+COUNTIF($B$39:$B$66,B48)-1 -> 22 | E48: =INDEX($A$39:$B$66,MATCH(ROW()-38,$D$39:$D$66,0),1) -> ALMERÍA | F48: =LOOKUP(E48,$A$39:$A$66,$B$39:$B$66) -> 4263.563 | G48: =LOOKUP(E48,$A$39:$A$66,$C$39:$C$66) -> 3465.653
A49: =A17 -> CASTELLÓN | B49: =E17 -> 5415.152 | C49: =D17 -> 4291.133 | D49: =_xlfn.RANK.EQ(B49,$B$39:$B$66)+COUNTIF($B$39:$B$66,B49)-1 -> 7 | E49: =INDEX($A$39:$B$66,MATCH(ROW()-38,$D$39:$D$66,0),1) -> TARRAGONA | F49: =LOOKUP(E49,$A$39:$A$66,$B$39:$B$66) -> 3626.433 | G49: =LOOKUP(E49,$A$39:$A$66,$C$39:$C$66) -> 3669.412
A50: =A18 -> CEUTA | B50: =E18 -> 40.863 | C50: =D18 -> 27.902 | D50: =_xlfn.RANK.EQ(B50,$B$39:$B$66)+COUNTIF($B$39:$B$66,B50)-1 -> 24 | E50: =INDEX($A$39:$B$66,MATCH(ROW()-38,$D$39:$D$66,0),1) -> BARCELONA | F50: =LOOKUP(E50,$A$39:$A$66,$B$39:$B$66) -> 3171.9987 | G50: =LOOKUP(E50,$A$39:$A$66,$C$39:$C$66) -> 2961.48
... A66: =A34 -> VILAGARCÍA | B66: =E34 -> 0 | C66: =D34 -> 0 | D66: =_xlfn.RANK.EQ(B66,$B$39:$B$66)+COUNTIF($B$39:$B$66,B66)-1 -> 28 | E66: =INDEX($A$39:$B$66,MATCH(ROW()-38,$D$39:$D$66,0),1) -> BILBAO | F66: =LOOKUP(E66,$A$39:$A$66,$B$39:$B$66) -> 0 | G66: =LOOKUP(E66,$A$39:$A$66,$C$39:$C$66) -> 0

Sheet Avituallamiento
F1: 6. AVITUALLAMIENTO (toneladas)
A5: Autoridad Portuaria | B5: ='Resumen general'!D6 -> Mes diciembre | D5: ='Resumen general'!F6 -> Acumulado desde enero | L5: ='Resumen general'!I4 -> Fecha: 29/10/2019
B6: ='Resumen general'!D7 -> 2017 | C6: ='Resumen general'!E7 -> 2018 | D6: ='Resumen general'!F7 -> 2017 | E6: ='Resumen general'!G7 -> 2018 | F6: Var. (%)
A7: A CORUÑA | B7: 27045 | C7: 26117 | D7: 84165 | E7: 83873 | F7: =((E7*100)/D7)-100 -> -0.34693756
A8: ALICANTE | B8: 2042 | C8: 1427 | D8: 24296 | E8: 27809 | F8: =((E8*100)/D8)-100 -> 14.45917
A9: ALMERÍA | B9: 8400 | C9: 7379 | D9: 87420 | E9: 90959 | F9: =((E9*100)/D9)-100 -> 4.0482727
A10: AVILÉS | B10: 3139 | C10: 1022 | D10: 41484 | E10: 44753 | F10: =((E10*100)/D10)-100 -> 7.8801466
A11: BAHÍA DE ALGECIRAS | B11: 210454 | C11: 220957 | D11: 2833641 | E11: 2541866 | F11: =((E11*100)/D11)-100 -> -10.296823
A12: BAHÍA DE CÁDIZ | B12: 6351 | C12: 3144 | D12: 112165 | E12: 99158 | F12: =((E12*100)/D12)-100 -> -11.596309
A13: BALEARES | B13: 7655 | C13: 8417 | D13: 236555 | E13: 243907 | F13: =((E13*100)/D13)-100 -> 3.1079453
A14: BARCELONA | B14: 93192 | C14: 120441 | D14: 1293845.5 | E14: 1857961.2 | F14: =((E14*100)/D14)-100 -> 43.599928
A15: BILBAO | B15: 9116 | C15: 8212 | D15: 111692 | E15: 111691 | F15: =((E15*100)/D15)-100 -> -0.00089531927
A16: CARTAGENA | B16: 5412 | C16: 19005 | D16: 155335 | E16: 207922 | F16: =((E16*100)/D16)-100 -> 33.853929
A17: CASTELLÓN | B17: 1461 | C17: 967 | D17: 24058 | E17: 24455 | F17: =((E17*100)/D17)-100 -> 1.6501787
A18: CEUTA | B18: 65491 | C18: 55909 | D18: 664429 | E18: 736993 | F18: =((E18*100)/D18)-100 -> 10.921257
... A34: VILAGARCÍA | B34: 162 | C34: 464 | D34: 4207 | E34: 3729 | F34: =((E34*100)/D34)-100 -> -11.362016
A35: Total | B35: =SUM(B7:B34) -> 821424 | C35: =SUM(C7:C34) -> 842693 | D35: =SUM(D7:D34) -> 10119474 | E35: =SUM(E7:E34) -> 10295494 | F35: =((E35*100)/D35)-100 -> 1.7394248
B38: =E6 -> 2018 | C38: =D6 -> 2017 | F38: =B38 -> 2018 | G38: =C38 -> 2017
A39: =A7 -> A CORUÑA | B39: =E7 -> 83873 | C39: =D7 -> 84165 | D39: =_xlfn.RANK.EQ(B39,$B$39:$B$66)+COUNTIF($B$39:$B$66,B39)-1 -> 15 | E39: =INDEX($A$39:$B$66,MATCH(ROW()-38,$D$39:$D$66,0),1) -> LAS PALMAS | F39: =LOOKUP(E39,$A$39:$A$66,$B$39:$B$66) -> 2630374.4 | G39: =LOOKUP(E39,$A$39:$A$66,$C$39:$C$66) -> 2678808
A40: =A8 -> ALICANTE | B40: =E8 -> 27809 | C40: =D8 -> 24296 | D40: =_xlfn.RANK.EQ(B40,$B$39:$B$66)+COUNTIF($B$39:$B$66,B40)-1 -> 21 | E40: =INDEX($A$39:$B$66,MATCH(ROW()-38,$D$39:$D$66,0),1) -> BAHÍA DE ALGECIRAS | F40: =LOOKUP(E40,$A$39:$A$66,$B$39:$B$66) -> 2541866 | G40: =LOOKUP(E40,$A$39:$A$66,$C$39:$C$66) -> 2833641
A41: =A9 -> ALMERÍA | B41: =E9 -> 90959 | C41: =D9 -> 87420 | D41: =_xlfn.RANK.EQ(B41,$B$39:$B$66)+COUNTIF($B$39:$B$66,B41)-1 -> 14 | E41: =INDEX($A$39:$B$66,MATCH(ROW()-38,$D$39:$D$66,0),1) -> BARCELONA | F41: =LOOKUP(E41,$A$39:$A$66,$B$39:$B$66) -> 1857961.2 | G41: =LOOKUP(E41,$A$39:$A$66,$C$39:$C$66) -> 1293845.5
A42: =A10 -> AVILÉS | B42: =E10 -> 44753 | C42: =D10 -> 41484 | D42: =_xlfn.RANK.EQ(B42,$B$39:$B$66)+COUNTIF($B$39:$B$66,B42)-1 -> 17 | E42: =INDEX($A$39:$B$66,MATCH(ROW()-38,$D$39:$D$66,0),1) -> CEUTA | F42: =LOOKUP(E42,$A$39:$A$66,$B$39:$B$66) -> 736993 | G42: =LOOKUP(E42,$A$39:$A$66,$C$39:$C$66) -> 664429
A43: =A11 -> BAHÍA DE ALGECIRAS | B43: =E11 -> 2541866 | C43: =D11 -> 2833641 | D43: =_xlfn.RANK.EQ(B43,$B$39:$B$66)+COUNTIF($B$39:$B$66,B43)-1 -> 2 | E43: =INDEX($A$39:$B$66,MATCH(ROW()-38,$D$39:$D$66,0),1) -> SANTA CRUZ DE TENERIFE | F43: =LOOKUP(E43,$A$39:$A$66,$B$39:$B$66) -> 685587 | G43: =LOOKUP(E43,$A$39:$A$66,$C$39:$C$66) -> 725736
A44: =A12 -> BAHÍA DE CÁDIZ | B44: =E12 -> 99158 | C44: =D12 -> 112165 | D44: =_xlfn.RANK.EQ(B44,$B$39:$B$66)+COUNTIF($B$39:$B$66,B44)-1 -> 12 | E44: =INDEX($A$39:$B$66,MATCH(ROW()-38,$D$39:$D$66,0),1) -> BALEARES | F44: =LOOKUP(E44,$A$39:$A$66,$B$39:$B$66) -> 243907 | G44: =LOOKUP(E44,$A$39:$A$66,$C$39:$C$66) -> 236555
