Workbook
Name CABECERA: Cruceros!$A$5:$F$6
Name CONCEPTO: 'Resumen general'!$A$6
Name LblRes00_Acum: 'Resumen general'!$F$6:$G$6
Name LblRes00_Mes: 'Resumen general'!$D$6:$E$6
Name LblRes00_Var: 'Resumen general'!$H$6:$I$6
Name LblRes01_1_Acum: 'Total presentación'!$D$5:$F$5
Name LblRes01_1_Mes: 'Total presentación'!$B$5:$C$5
Name LblRes01_Acum: 'Automóviles régimen mercancía'!$D$5:$F$5
Name LblRes01_Acum: 'Ro-Ro remolques'!$D$5:$F$5
Name LblRes01_Acum: 'Total tráfico'!$D$5:$F$5
Name LblRes01_Mes: 'Automóviles régimen mercancía'!$B$5:$C$5
Name LblRes01_Mes: 'Ro-Ro remolques'!$B$5:$C$5
Name LblRes01_Mes: 'Total tráfico'!$B$5:$C$5
Name LblRes02_Acum: Líquidos!$D$5:$F$5
Name LblRes02_Mes: Líquidos!$B$5:$C$5
Name LblRes03_Acum: Sólidos!$D$5:$F$5
Name LblRes03_Mes: Sólidos!$B$5:$C$5
Name LblRes04_Acum: 'Mercancía general'!$D$5:$F$5
Name LblRes04_Mes: 'Mercancía general'!$B$5:$C$5
Name LblRes05_Acum: Pesca!$D$5:$F$5
Name LblRes05_Mes: Pesca!$B$5:$C$5
Name LblRes06_Acum: Avituallamiento!$D$5:$F$5
Name LblRes06_Mes: Avituallamiento!$B$5:$C$5
Name LblRes07_1_Acum: 'Mercan. contene. tránsito'!$D$5:$F$5
Name LblRes07_1_Mes: 'Mercan. contene. tránsito'!$B$5:$C$5
Name LblRes07_Acum: 'Mercancías tránsito'!$D$5:$F$5
Name LblRes07_Mes: 'Mercancías tránsito'!$B$5:$C$5
Name LblRes08_Acum: 'Mercancías contenedores'!$D$5:$F$5
Name LblRes08_Mes: 'Mercancías contenedores'!$B$5:$C$5
Name LblRes09_Acum: 'Ro-Ro'!$D$5:$F$5
Name LblRes09_Mes: 'Ro-Ro'!$B$5:$C$5
Name LblRes10_1_Acum: 'TEUS tránsito'!$D$5:$F$5
Name LblRes10_1_Mes: 'TEUS tránsito'!$B$5:$C$5
Name LblRes10_2_Acum: 'TEUS nacional'!$D$5:$F$5
Name LblRes10_2_Mes: 'TEUS nacional'!$B$5:$C$5
Name LblRes10_3_Acum: 'TEUS exterior'!$D$5:$F$5
Name LblRes10_3_Mes: 'TEUS exterior'!$B$5:$C$5
Name LblRes10_4_Acum: 'TEUS nacional y exterior'!$D$5:$F$5
Name LblRes10_4_Mes: 'TEUS nacional y exterior'!$B$5:$C$5
Name LblRes10_Acum: TEUS!$D$5:$F$5
Name LblRes10_Mes: TEUS!$B$5:$C$5
Name LblRes11_1_Acum: 'Pasajeros crucero'!$D$5:$F$5
Name LblRes11_1_Mes: 'Pasajeros crucero'!$B$5:$C$5
Name LblRes11_2_Acum: 'Automóviles régimen pasaje'!$D$5:$F$5
Name LblRes11_2_Mes: 'Automóviles régimen pasaje'!$B$5:$C$5
Name LblRes11_Acum: 'Pasajeros total'!$D$5:$F$5
Name LblRes11_Mes: 'Pasajeros total'!$B$5:$C$5
Name LblRes12_1_Acum: 'Buques número'!$D$5:$F$5
Name LblRes12_1_Mes: 'Buques número'!$B$5:$C$5
Name LblRes12_2_Acum: 'Buques GT'!$D$5:$F$5
Name LblRes12_2_Mes: 'Buques GT'!$B$5:$C$5
Name LblRes12_3_Acum: Cruceros!$D$5:$F$5
Name LblRes12_3_Mes: Cruceros!$B$5:$C$5
Name PROVINCIAS: Cruceros!$A$5:$A$35
Name TxtFecha: Cruceros!$L$5

Sheet Portada
I1: Dirección de Planificación y Desarrollo
I2: Departamento de Estadística
G15: RESUMEN GENERAL DEL TRÁFICO PORTUARIO*
G16: Diciembre 2018
K29: *Datos de cierre definitivos del Anuario Estadístico de Puertos del Estado 2018
F33: ÍNDICE
B36: 0. | C36: RESUMEN GENERAL DEL TRÁFICO PORTUARIO
B37: 1. | C37: TRÁFICO PORTUARIO
B38: 1.1. | C38: MERCANCÍAS SEGÚN SU FORMA DE PRESENTACIÓN
B39: 2. | C39: GRANELES LÍQUIDOS
B40: 3. | C40: GRANELES SÓLIDOS
B41: 4. | C41: MERCANCÍA GENERAL
B42: 4.1. | C42: MERCANCÍAS EN CONTENEDORES
B43: 5. | C43: PESCA
B44: 6. | C44: AVITUALLAMIENTO
B45: 6.1. | C45: AVITUALLAMIENTO DE COMBUSTIBLES LÍQUIDOS
B46: 7. | C46: TRÁFICO INTERIOR
B47: 8. | C47: MERCANCÍAS EN TRÁNSITO
... B62: 13.2. | C62: CRUCEROS (unidades)

Sheet Resumen general
D1: 00. RESUMEN GENERAL DEL TRÁFICO PORTUARIO
I4: Fecha: 29/10/2019
A6: CONCEPTO | D6: Mes diciembre | F6: Acumulado desde enero | H6: Variación
D7: 2017 | E7: 2018 | F7: 2017 | G7: 2018 | H7: Diferencia | I7: %
A8: MERCANCÍAS SEGÚN SU PRESENTACIÓN | B8: GRANELES | C8: LÍQUIDOS | D8: =Líquidos!B35 -> 14514026 | E8: =Líquidos!C35 -> 15990554 | F8: =Líquidos!D35 -> 1.7824283e+08 | G8: =Líquidos!E35 -> 1.807193e+08 | H8: =G8-F8 -> 2476469.5 | I8: =((G8*100/F8)-100) -> 1.3893796
C9: SÓLIDOS | D9: =Sólidos!B35 -> 8579383 | E9: =Sólidos!C35 -> 9252149 | F9: =Sólidos!D35 -> 1.0142872e+08 | G9: =Sólidos!E35 -> 1.023661e+08 | H9: =G9-F9 -> 937379.38 | I9: =((G9*100/F9)-100) -> 0.92417554
B10: MERCANCÍA GRAL. | C10: CONVENCIONAL | D10: =D12-D11 -> 5550311 | E10: =E12-E11 -> 5826383 | F10: =F12-F11 -> 71013095 | G10: =G12-G11 -> 76344302 | H10: =G10-F10 -> 5331207.1 | I10: =((G10*100/F10)-100) -> 7.5073578
C11: EN CONTENEDORES | D11: ='Mercancías contenedores'!B35 -> 14859486 | E11: ='Mercancías contenedores'!C35 -> 15739583 | F11: ='Mercancías contenedores'!D35 -> 1.8145292e+08 | G11: ='Mercancías contenedores'!E35 -> 1.9102825e+08 | H11: =G11-F11 -> 9575330.7 | I11: =((G11*100/F11)-100) -> 5.2770331
C12: TOTAL | D12: ='Mercancía general'!B35 -> 20409797 | E12: ='Mercancía general'!C35 -> 21565966 | F12: ='Mercancía general'!D35 -> 2.5246602e+08 | G12: ='Mercancía general'!E35 -> 2.6737255e+08 | H12: =G12-F12 -> 14906538 | I12: =((G12*100/F12)-100) -> 5.904374
C13: TOTAL | D13: =+D8+D9+D12 -> 43503206 | E13: =+E8+E9+E12 -> 46808669 | F13: =+F8+F9+F12 -> 5.3213756e+08 | G13: =+G8+G9+G12 -> 5.5045794e+08 | H13: =G13-F13 -> 18320387 | I13: =((G13*100/F13)-100) -> 3.4427915
A14: OTRAS MERCANCÍAS | B14: PESCA | C14: TOTAL PESCA | D14: =Pesca!B35 -> 18660 | E14: =Pesca!C35 -> 18385 | F14: =Pesca!D35 -> 243073.37 | G14: =Pesca!E35 -> 224013.83 | H14: =G14-F14 -> -19059.539 | I14: =((G14*100/F14)-100) -> -7.841064
B15: AVITUALLAMIENTO | C15: COMBUSTIBLES LÍQUIDOS | D15: ='Avi. combustibles'!B35 -> 646054 | E15: ='Avi. combustibles'!C35 -> 666147 | F15: ='Avi. combustibles'!D35 -> 7987162 | G15: ='Avi. combustibles'!E35 -> 8153155 | H15: =G15-F15 -> 165992.98 | I15: =((G15*100/F15)-100) -> 2.0782473
C16: OTROS | D16: =Avituallamiento!B35-'Resumen general'!D15 -> 175370 | E16: =Avituallamiento!C35-'Resumen general'!E15 -> 176546 | F16: =Avituallamiento!D35-'Resumen general'!F15 -> 2132311.5 | G16: =Avituallamiento!E35-'Resumen general'!G15 -> 2142339.2 | H16: =G16-F16 -> 10027.653 | I16: =((G16*100/F16)-100) -> 0.47027149
B17: TRAFICO INTERIOR | C17: TOTAL TRAFICO INTERIOR | D17: ='Tráfico interior'!B35 -> 103744 | E17: ='Tráfico interior'!C35 -> 236834 | F17: ='Tráfico interior'!D35 -> 2722259.3 | G17: ='Tráfico interior'!E35 -> 2579158.2 | H17: =G17-F17 -> -143101.04 | I17: =((G17*100/F17)-100) -> -5.2567012
C18: TOTAL | D18: =+D14+D15+D16+D17 -> 943828 | E18: =+E14+E15+E16+E17 -> 1097912 | F18: =+F14+F15+F16+F17 -> 13084806 | G18: =+G14+G15+G16+G17 -> 13098666 | H18: =G18-F18 -> 13860.056 | I18: =((G18*100/F18)-100) -> 0.10592481
C19: TOTAL TRÁFICO PORTUARIO (*) | D19: =+D13+D18 -> 44447034 | E19: =+E13+E18 -> 47906581 | F19: =+F13+F18 -> 5.4522236e+08 | G19: =+G13+G18 -> 5.6355661e+08 | H19: =G19-F19 -> 18334247 | I19: =((G19*100/F19)-100) -> 3.36271
A21: OTRAS INFORMACIONES | B21: MERCANCÍAS | C21: EN TRÁNSITO | D21: ='Mercancías tránsito'!B35 -> 11501467 | E21: ='Mercancías tránsito'!C35 -> 13089549 | F21: ='Mercancías tránsito'!D35 -> 1.3732969e+08 | G21: ='Mercancías tránsito'!E35 -> 1.4808752e+08 | H21: =G21-F21 -> 10757833 | I21: =((G21*100/F21)-100) -> 7.8335814
C22: EN CONTENEDORES EN TRÁNSITO | D22: ='Mercan. contene. tránsito'!B35 -> 8967232 | E22: ='Mercan. contene. tránsito'!C35 -> 9759442 | F22: ='Mercan. contene. tránsito'!D35 -> 1.0901849e+08 | G22: ='Mercan. contene. tránsito'!E35 -> 1.1597859e+08 | H22: =G22-F22 -> 6960108.8 | I22: =((G22*100/F22)-100) -> 6.3843382
B23: TRÁFICO RO-RO | C23: TOTAL TRÁFICO RO-RO | D23: ='Ro-Ro'!B35 -> 4280968 | E23: ='Ro-Ro'!C35 -> 4686269 | F23: ='Ro-Ro'!D35 -> 58074195 | G23: ='Ro-Ro'!E35 -> 62677883 | H23: =G23-F23 -> 4603687.5 | I23: =((G23*100/F23)-100) -> 7.9272515
C24: REMOLQUES, SEMIRR. Y PLATAF. (uds.) | D24: ='Ro-Ro remolques'!B35 -> 102625 | E24: ='Ro-Ro remolques'!C35 -> 112701 | F24: ='Ro-Ro remolques'!D35 -> 1311908 | G24: ='Ro-Ro remolques'!E35 -> 1154507 | H24: =G24-F24 -> -157401 | I24: =((G24*100/F24)-100) -> -11.997869
B25: CONTENEDORES | C25: TOTAL CONTENEDORES (TEUS) | D25: =TEUS!B35 -> 1319703 | E25: =TEUS!C35 -> 1421939 | F25: =TEUS!D35 -> 15951635 | G25: =TEUS!E35 -> 17203134 | H25: =G25-F25 -> 1251498.8 | I25: =((G25*100/F25)-100) -> 7.8455835
C26: EN TRÁNSITO (TEUS) | D26: ='TEUS tránsito'!B35 -> 720357 | E26: ='TEUS tránsito'!C35 -> 785350 | F26: ='TEUS tránsito'!D35 -> 8501480 | G26: ='TEUS tránsito'!E35 -> 9267925.3 | H26: =G26-F26 -> 766445.32 | I26: =((G26*100/F26)-100) -> 9.015434
C27: ENTRADAS-SALIDAS NACIONAL (TEUS) | D27: ='TEUS nacional'!B35 -> 164191 | E27: ='TEUS nacional'!C35 -> 160050 | F27: ='TEUS nacional'!D35 -> 1972377 | G27: ='TEUS nacional'!E35 -> 2028712 | H27: =G27-F27 -> 56335 | I27: =((G27*100/F27)-100) -> 2.8561984
C28: IMPORT-EXPORT EXTERIOR (TEUS) | D28: ='TEUS exterior'!B35 -> 435156 | E28: ='TEUS exterior'!C35 -> 476539 | F28: ='TEUS exterior'!D35 -> 5477777.7 | G28: ='TEUS exterior'!E35 -> 5900137.7 | H28: =G28-F28 -> 422359.97 | I28: =((G28*100/F28)-100) -> 7.7104255
C29: NACIONAL Y EXTERIOR (TEUS) | D29: ='TEUS nacional y exterior'!B35 -> 599346 | E29: ='TEUS nacional y exterior'!C35 -> 636589 | F29: ='TEUS nacional y exterior'!D35 -> 7450154.7 | G29: ='TEUS nacional y exterior'!E35 -> 7928850.9 | H29: =G29-F29 -> 478696.22 | I29: =((G29*100/F29)-100) -> 6.4253192
B30: PASAJEROS | C30: REG. TRANSPORTE Y DE CRUCERO (nº) | D30: ='Pasajeros total'!B35 -> 2246606 | E30: ='Pasajeros total'!C35 -> 2229352 | F30: ='Pasajeros total'!D35 -> 34072845 | G30: ='Pasajeros total'!E35 -> 36100685 | H30: =G30-F30 -> 2027840 | I30: =((G30*100/F30)-100) -> 5.9514842
C31: DE CRUCERO (nº) | D31: ='Pasajeros crucero'!B35 -> 704958 | E31: ='Pasajeros crucero'!C35 -> 610538 | F31: ='Pasajeros crucero'!D35 -> 9281923 | G31: ='Pasajeros crucero'!E35 -> 10170379 | H31: =G31-F31 -> 888456 | I31: =((G31*100/F31)-100) -> 9.5718958
B32: AUTOMÓVILES | C32: EN RÉGIMEN DE PASAJE (uds) | D32: ='Automóviles régimen pasaje'!B35 -> 368994 | E32: ='Automóviles régimen pasaje'!C35 -> 398311 | F32: ='Automóviles régimen pasaje'!D35 -> 5060699 | G32: ='Automóviles régimen pasaje'!E35 -> 5512090 | H32: =G32-F32 -> 451391 | I32: =((G32*100/F32)-100) -> 8.9195386
C33: EN RÉGIMEN DE MERCANCÍA (**) | D33: ='Automóviles régimen mercancía'!B35 -> 267830 | E33: ='Automóviles régimen mercancía'!C35 -> 277034 | F33: ='Automóviles régimen mercancía'!D35 -> 3484212 | G33: ='Automóviles régimen mercancía'!E35 -> 3493656 | H33: =G33-F33 -> 9444 | I33: =((G33*100/F33)-100) -> 0.27105124
B34: BUQUES MERCANTES | C34: TOTAL BUQUES MERCANTES (uds) | D34: ='Buques número'!B35 -> 11227 | E34: ='Buques número'!C35 -> 12340 | F34: ='Buques número'!D35 -> 155631 | G34: ='Buques número'!E35 -> 167119 | H34: =G34-F34 -> 11488 | I34: =((G34*100/F34)-100) -> 7.3815628
C35: UDS. ARQUEO BRUTO (G.T.) | D35: ='Buques GT'!B35 -> 179365124 | E35: ='Buques GT'!C35 -> 186837843 | F35: ='Buques GT'!D35 -> 2218905453 | G35: ='Buques GT'!E35 -> 2.303282e+09 | H35: =G35-F35 -> 84376546 | I35: =((G35*100/F35)-100) -> 3.8026202
C36: CRUCEROS (uds) | D36: =Cruceros!B35 -> 331 | E36: =Cruceros!C35 -> 299 | F36: =Cruceros!D35 -> 4238 | G36: =Cruceros!E35 -> 4361 | H36: =G36-F36 -> 123 | I36: =((G36*100/F36)-100) -> 2.9023124
A37: (*) Incluye cargas, descargas, tránsitos y transbordos.
A38: (**) Solo turismos, autobuses y camiones

Sheet Total tráfico
F1: 1. TRÁFICO PORTUARIO (toneladas)
A5: Autoridad Portuaria | B5: ='Resumen general'!D6 -> Mes diciembre | D5: ='Resumen general'!F6 -> Acumulado desde enero | L5: ='Resumen general'!I4 -> Fecha: 29/10/2019
B6: ='Resumen general'!D7 -> 2017 | C6: ='Resumen general'!E7 -> 2018 | D6: ='Resumen general'!F7 -> 2017 | E6: ='Resumen general'!G7 -> 2018 | F6: Var. (%)
A7: A CORUÑA | B7: 1354083 | C7: 1118796 | D7: 15198929 | E7: 15703803 | F7: =((E7*100)/D7)-100 -> 3.3217733
A8: ALICANTE | B8: 258409 | C8: 260530 | D8: 3447603.9 | E8: 3191163.4 | F8: =((E8*100)/D8)-100 -> -7.4382224
A9: ALMERÍA | B9: 614880 | C9: 382908 | D9: 6381126.7 | E9: 7060554.6 | F9: =((E9*100)/D9)-100 -> 10.64746
A10: AVILÉS | B10: 409226 | C10: 489207 | D10: 4806910 | E10: 5024862.9 | F10: =((E10*100)/D10)-100 -> 4.5341585
A11: BAHÍA DE ALGECIRAS | B11: 8139234 | C11: 8736644 | D11: 1.0155597e+08 | E11: 1.0736103e+08 | F11: =((E11*100)/D11)-100 -> 5.7161171
A12: BAHÍA DE CÁDIZ | B12: 298994 | C12: 321599 | D12: 4115251.6 | E12: 3955515.2 | F12: =((E12*100)/D12)-100 -> -3.8815713
A13: BALEARES | B13: 959165 | C13: 1053762 | D13: 15649443 | E13: 16453613 | F13: =((E13*100)/D13)-100 -> 5.1386464
A14: BARCELONA | B14: 5109085 | C14: 5676971 | D14: 61366941 | E14: 67756258 | F14: =((E14*100)/D14)-100 -> 10.41166
A15: BILBAO | B15: 3352425 | C15: 2790535 | D15: 34306674 | E15: 35695400 | F15: =((E15*100)/D15)-100 -> 4.0479777
A16: CARTAGENA | B16: 2613132 | C16: 3048788 | D16: 34688199 | E16: 33941690 | F16: =((E16*100)/D16)-100 -> -2.1520556
A17: CASTELLÓN | B17: 1116165 | C17: 1729062 | D17: 17910534 | E17: 21137627 | F17: =((E17*100)/D17)-100 -> 18.017849
A18: CEUTA | B18: 216924 | C18: 173686 | D18: 2545552.9 | E18: 2448437.9 | F18: =((E18*100)/D18)-100 -> -3.8150863
... A34: VILAGARCÍA | B34: 104339 | C34: 100915 | D34: 1205966.4 | E34: 1211306 | F34: =((E34*100)/D34)-100 -> 0.44276857
A35: Total | B35: =SUM(B7:B34) -> 44447034 | C35: =SUM(C7:C34) -> 47906581 | D35: =SUM(D7:D34) -> 5.4522236e+08 | E35: =SUM(E7:E34) -> 5.6355661e+08 | F35: =((E35*100)/D35)-100 -> 3.36271
A36: Incluye cargas, descargas, tránsitos y transbordos.
B38: =E6 -> 2018 | C38: =D6 -> 2017 | F38: =B38 -> 2018 | G38: =C38 -> 2017
A39: =A7 -> A CORUÑA | B39: =E7 -> 15703803 | C39: =D7 -> 15198929 | D39: =_xlfn.RANK.EQ(B39,$B$39:$B$66)+COUNTIF($B$39:$B$66,B39)-1 -> 12 | E39: =INDEX($A$39:$B$66,MATCH(ROW()-38,$D$39:$D$66,0),1) -> BAHÍA DE ALGECIRAS | F39: =LOOKUP(E39,$A$39:$A$66,$B$39:$B$66) -> 1.0736103e+08 | G39: =LOOKUP(E39,$A$39:$A$66,$C$39:$C$66) -> 1.0155597e+08
A40: =A8 -> ALICANTE | B40: =E8 -> 3191163.4 | C40: =D8 -> 3447603.9 | D40: =_xlfn.RANK.EQ(B40,$B$39:$B$66)+COUNTIF($B$39:$B$66,B40)-1 -> 22 | E40: =INDEX($A$39:$B$66,MATCH(ROW()-38,$D$39:$D$66,0),1) -> VALENCIA | F40: =LOOKUP(E40,$A$39:$A$66,$B$39:$B$66) -> 76621101 | G40: =LOOKUP(E40,$A$39:$A$66,$C$39:$C$66) -> 73559877
A41: =A9 -> ALMERÍA | B41: =E9 -> 7060554.6 | C41: =D9 -> 6381126.7 | D41: =_xlfn.RANK.EQ(B41,$B$39:$B$66)+COUNTIF($B$39:$B$66,B41)-1 -> 15 | E41: =INDEX($A$39:$B$66,MATCH(ROW()-38,$D$39:$D$66,0),1) -> BARCELONA | F41: =LOOKUP(E41,$A$39:$A$66,$B$39:$B$66) -> 67756258 | G41: =LOOKUP(E41,$A$39:$A$66,$C$39:$C$66) -> 61366941
A42: =A10 -> AVILÉS | B42: =E10 -> 5024862.9 | C42: =D10 -> 4806910 | D42: =_xlfn.RANK.EQ(B42,$B$39:$B$66)+COUNTIF($B$39:$B$66,B42)-1 -> 17 | E42: =INDEX($A$39:$B$66,MATCH(ROW()-38,$D$39:$D$66,0),1) -> BILBAO | F42: =LOOKUP(E42,$A$39:$A$66,$B$39:$B$66) -> 35695400 | G42: =LOOKUP(E42,$A$39:$A$66,$C$39:$C$66) -> 34306674
A43: =A11 -> BAHÍA DE ALGECIRAS | B43: =E11 -> 1.0736103e+08 | C43: =D11 -> 1.0155597e+08 | D43: =_xlfn.RANK.EQ(B43,$B$39:$B$66)+COUNTIF($B$39:$B$66,B43)-1 -> 1 | E43: =INDEX($A$39:$B$66,MATCH(ROW()-38,$D$39:$D$66,0),1) -> CARTAGENA | F43: =LOOKUP(E43,$A$39:$A$66,$B$39:$B$66) -> 33941690 | G43: =LOOKUP(E43,$A$39:$A$66,$C$39:$C$66) -> 34688199
A44: =A12 -> BAHÍA DE CÁDIZ | B44: =E12 -> 3955515.2 | C44: =D12 -> 4115251.6 | D44: =_xlfn.RANK.EQ(B44,$B$39:$B$66)+COUNTIF($B$39:$B$66,B44)-1 -> 20 | E44: =INDEX($A$39:$B$66,MATCH(ROW()-38,$D$39:$D$66,0),1) -> HUELVA | F44: =LOOKUP(E44,$A$39:$A$66,$B$39:$B$66) -> 32966864 | G44: =LOOKUP(E44,$A$39:$A$66,$C$39:$C$66) -> 32332572
A45: =A13 -> BALEARES | B45: =E13 -> 16453613 | C45: =D13 -> 15649443 | D45: =_xlfn.RANK.EQ(B45,$B$39:$B$66)+COUNTIF($B$39:$B$66,B45)-1 -> 11 | E45: =INDEX($A$39:$B$66,MATCH(ROW()-38,$D$39:$D$66,0),1) -> TARRAGONA | F45: =LOOKUP(E45,$A$39:$A$66,$B$39:$B$66) -> 32084325 | G45: =LOOKUP(E45,$A$39:$A$66,$C$39:$C$66) -> 33700184
A46: =A14 -> BARCELONA | B46: =E14 -> 67756258 | C46: =D14 -> 61366941 | D46: =_xlfn.RANK.EQ(B46,$B$39:$B$66)+COUNTIF($B$39:$B$66,B46)-1 -> 3 | E46: =INDEX($A$39:$B$66,MATCH(ROW()-38,$D$39:$D$66,0),1) -> LAS PALMAS | F46: =LOOKUP(E46,$A$39:$A$66,$B$39:$B$66) -> 26974184 | G46: =LOOKUP(E46,$A$39:$A$66,$C$39:$C$66) -> 27021629
A47: =A15 -> BILBAO | B47: =E15 -> 35695400 | C47: =D15 -> 34306674 | D47: =_xlfn.RANK.EQ(B47,$B$39:$B$66)+COUNTIF($B$39:$B$66,B47)-1 -> 4 | E47: =INDEX($A$39:$B$66,MATCH(ROW()-38,$D$39:$D$66,0),1) -> CASTELLÓN | F47: =LOOKUP(E47,$A$39:$A$66,$B$39:$B$66) -> 21137627 | G47: =LOOKUP(E47,$A$39:$A$66,$C$39:$C$66) -> 17910534
A48: =A16 -> CARTAGENA | B48: =E16 -> 33941690 | C48: =D16 -> 34688199 | D48: =_xlfn.RANK.EQ(B48,$B$39:$B$66)+COUNTIF($B$39:$B$66,B48)-1 -> 5 | E48: =INDEX($A$39:$B$66,MATCH(ROW()-38,$D$39:$D$66,0),1) -> GIJÓN | F48: =LOOKUP(E48,$A$39:$A$66,$B$39:$B$66) -> 19699445 | G48: =LOOKUP(E48,$A$39:$A$66,$C$39:$C$66) -> 21820520
A49: =A17 -> CASTELLÓN | B49: =E17 -> 21137627 | C49: =D17 -> 17910534 | D49: =_xlfn.RANK.EQ(B49,$B$39:$B$66)+COUNTIF($B$39:$B$66,B49)-1 -> 9 | E49: =INDEX($A$39:$B$66,MATCH(ROW()-38,$D$39:$D$66,0),1) -> BALEARES | F49: =LOOKUP(E49,$A$39:$A$66,$B$39:$B$66) -> 16453613 | G49: =LOOKUP(E49,$A$39:$A$66,$C$39:$C$66) -> 15649443
A50: =A18 -> CEUTA | B50: =E18 -> 2448437.9 | C50: =D18 -> 2545552.9 | D50: =_xlfn.RANK.EQ(B50,$B$39:$B$66)+COUNTIF($B$39:$B$66,B50)-1 -> 26 | E50: =INDEX($A$39:$B$66,MATCH(ROW()-38,$D$39:$D$66,0),1) -> A CORUÑA | F50: =LOOKUP(E50,$A$39:$A$66,$B$39:$B$66) -> 15703803 | G50: =LOOKUP(E50,$A$39:$A$66,$C$39:$C$66) -> 15198929
... A66: =A34 -> VILAGARCÍA | B66: =E34 -> 1211306 | C66: =D34 -> 1205966.4 | D66: =_xlfn.RANK.EQ(B66,$B$39:$B$66)+COUNTIF($B$39:$B$66,B66)-1 -> 27 | E66: =INDEX($A$39:$B$66,MATCH(ROW()-38,$D$39:$D$66,0),1) -> MELILLA | F66: =LOOKUP(E66,$A$39:$A$66,$B$39:$B$66) -> 873527.5 | G66: =LOOKUP(E66,$A$39:$A$66,$C$39:$C$66) -> 1152554

Sheet Total presentación
F1: 1.1. MERCANCÍAS SEGÚN SU FORMA DE PRESENTACIÓN
I2: (toneladas)
A5: Autoridad Portuaria | B5: ='Resumen general'!D6 -> Mes diciembre | D5: ='Resumen general'!F6 -> Acumulado desde enero | L5: ='Resumen general'!I4 -> Fecha: 29/10/2019
B6: ='Resumen general'!D7 -> 2017 | C6: ='Resumen general'!E7 -> 2018 | D6: ='Resumen general'!F7 -> 2017 | E6: ='Resumen general'!G7 -> 2018 | F6: Var. (%)
A7: A CORUÑA | B7: 1296082 | C7: 1075221 | D7: 14760612 | E7: 15292088 | F7: =((E7*100)/D7)-100 -> 3.6006366
A8: ALICANTE | B8: 256343 | C8: 259075 | D8: 3421610.7 | E8: 3161348.6 | F8: =((E8*100)/D8)-100 -> -7.6064217
A9: ALMERÍA | B9: 606239 | C9: 375246 | D9: 6290241 | E9: 6965332 | F9: =((E9*100)/D9)-100 -> 10.732355
A10: AVILÉS | B10: 405423 | C10: 487606 | D10: 4751857.2 | E10: 4967563.9 | F10: =((E10*100)/D10)-100 -> 4.5394182
A11: BAHÍA DE ALGECIRAS | B11: 7866973 | C11: 8295572 | D11: 96330454 | E11: 1.0254393e+08 | F11: =((E11*100)/D11)-100 -> 6.4501672
A12: BAHÍA DE CÁDIZ | B12: 291656 | C12: 317396 | D12: 3986793 | E12: 3838664 | F12: =((E12*100)/D12)-100 -> -3.7154926
A13: BALEARES | B13: 951330 | C13: 1045025 | D13: 15408802 | E13: 16206802 | F13: =((E13*100)/D13)-100 -> 5.1788608
A14: BARCELONA | B14: 5015868 | C14: 5556471 | D14: 60070134 | E14: 65895125 | F14: =((E14*100)/D14)-100 -> 9.6969839
A15: BILBAO | B15: 3343309 | C15: 2782323 | D15: 34194982 | E15: 35583490 | F15: =((E15*100)/D15)-100 -> 4.0605592
A16: CARTAGENA | B16: 2607692 | C16: 3029756 | D16: 34532347 | E16: 33733288 | F16: =((E16*100)/D16)-100 -> -2.3139435
A17: CASTELLÓN | B17: 1114606 | C17: 1727987 | D17: 17882185 | E17: 21107757 | F17: =((E17*100)/D17)-100 -> 18.037908
A18: CEUTA | B18: 151433 | C18: 117777 | D18: 1881096 | E18: 1711404 | F18: =((E18*100)/D18)-100 -> -9.0209112
... A34: VILAGARCÍA | B34: 104177 | C34: 100451 | D34: 1201759.4 | E34: 1207577 | F34: =((E34*100)/D34)-100 -> 0.48409359
A35: Total | B35: =SUM(B7:B34) -> 43503206 | C35: =SUM(C7:C34) -> 46808669 | D35: =SUM(D7:D34) -> 5.3213756e+08 | E35: =SUM(E7:E34) -> 5.5045794e+08 | F35: =((E35*100)/D35)-100 -> 3.4427915
A36: Incluye cargas, descargas, tránsitos y transbordos.
B38: =E6 -> 2018 | C38: =D6 -> 2017 | F38: =B38 -> 2018 | G38: =C38 -> 2017
A39: =A7 -> A CORUÑA | B39: =E7 -> 15292088 | C39: =D7 -> 14760612 | D39: =_xlfn.RANK.EQ(B39,$B$39:$B$66)+COUNTIF($B$39:$B$66,B39)-1 -> 12 | E39: =INDEX($A$39:$B$66,MATCH(ROW()-38,$D$39:$D$66,0),1) -> BAHÍA DE ALGECIRAS | F39: =LOOKUP(E39,$A$39:$A$66,$B$39:$B$66) -> 1.0254393e+08 | G39: =LOOKUP(E39,$A$39:$A$66,$C$39:$C$66) -> 96330454
A40: =A8 -> ALICANTE | B40: =E8 -> 3161348.6 | C40: =D8 -> 3421610.7 | D40: =_xlfn.RANK.EQ(B40,$B$39:$B$66)+COUNTIF($B$39:$B$66,B40)-1 -> 22 | E40: =INDEX($A$39:$B$66,MATCH(ROW()-38,$D$39:$D$66,0),1) -> VALENCIA | F40: =LOOKUP(E40,$A$39:$A$66,$B$39:$B$66) -> 76425510 | G40: =LOOKUP(E40,$A$39:$A$66,$C$39:$C$66) -> 73249473
A41: =A9 -> ALMERÍA | B41: =E9 -> 6965332 | C41: =D9 -> 6290241 | D41: =_xlfn.RANK.EQ(B41,$B$39:$B$66)+COUNTIF($B$39:$B$66,B41)-1 -> 15 | E41: =INDEX($A$39:$B$66,MATCH(ROW()-38,$D$39:$D$66,0),1) -> BARCELONA | F41: =LOOKUP(E41,$A$39:$A$66,$B$39:$B$66) -> 65895125 | G41: =LOOKUP(E41,$A$39:$A$66,$C$39:$C$66) -> 60070134
A42: =A10 -> AVILÉS | B42: =E10 -> 4967563.9 | C42: =D10 -> 4751857.2 | D42: =_xlfn.RANK.EQ(B42,$B$39:$B$66)+COUNTIF($B$39:$B$66,B42)-1 -> 17 | E42: =INDEX($A$39:$B$66,MATCH(ROW()-38,$D$39:$D$66,0),1) -> BILBAO | F42: =LOOKUP(E42,$A$39:$A$66,$B$39:$B$66) -> 35583490 | G42: =LOOKUP(E42,$A$39:$A$66,$C$39:$C$66) -> 34194982
A43: =A11 -> BAHÍA DE ALGECIRAS | B43: =E11 -> 1.0254393e+08 | C43: =D11 -> 96330454 | D43: =_xlfn.RANK.EQ(B43,$B$39:$B$66)+COUNTIF($B$39:$B$66,B43)-1 -> 1 | E43: =INDEX($A$39:$B$66,MATCH(ROW()-38,$D$39:$D$66,0),1) -> CARTAGENA | F43: =LOOKUP(E43,$A$39:$A$66,$B$39:$B$66) -> 33733288 | G43: =LOOKUP(E43,$A$39:$A$66,$C$39:$C$66) -> 34532347
A44: =A12 -> BAHÍA DE CÁDIZ | B44: =E12 -> 3838664 | C44: =D12 -> 3986793 | D44: =_xlfn.RANK.EQ(B44,$B$39:$B$66)+COUNTIF($B$39:$B$66,B44)-1 -> 20 | E44: =INDEX($A$39:$B$66,MATCH(ROW()-38,$D$39:$D$66,0),1) -> HUELVA | F44: =LOOKUP(E44,$A$39:$A$66,$B$39:$B$66) -> 32767084 | G44: =LOOKUP(E44,$A$39:$A$66,$C$39:$C$66) -> 32177373
A45: =A13 -> BALEARES | B45: =E13 -> 16206802 | C45: =D13 -> 15408802 | D45: =_xlfn.RANK.EQ(B45,$B$39:$B$66)+COUNTIF($B$39:$B$66,B45)-1 -> 11 | E45: =INDEX($A$39:$B$66,MATCH(ROW()-38,$D$39:$D$66,0),1) -> TARRAGONA | F45: =LOOKUP(E45,$A$39:$A$66,$B$39:$B$66) -> 32001014 | G45: =LOOKUP(E45,$A$39:$A$66,$C$39:$C$66) -> 33620952
A46: =A14 -> BARCELONA | B46: =E14 -> 65895125 | C46: =D14 -> 60070134 | D46: =_xlfn.RANK.EQ(B46,$B$39:$B$66)+COUNTIF($B$39:$B$66,B46)-1 -> 3 | E46: =INDEX($A$39:$B$66,MATCH(ROW()-38,$D$39:$D$66,0),1) -> LAS PALMAS | F46: =LOOKUP(E46,$A$39:$A$66,$B$39:$B$66) -> 24342597 | G46: =LOOKUP(E46,$A$39:$A$66,$C$39:$C$66) -> 24342113
A47: =A15 -> BILBAO | B47: =E15 -> 35583490 | C47: =D15 -> 34194982 | D47: =_xlfn.RANK.EQ(B47,$B$39:$B$66)+COUNTIF($B$39:$B$66,B47)-1 -> 4 | E47: =INDEX($A$39:$B$66,MATCH(ROW()-38,$D$39:$D$66,0),1) -> CASTELLÓN | F47: =LOOKUP(E47,$A$39:$A$66,$B$39:$B$66) -> 21107757 | G47: =LOOKUP(E47,$A$39:$A$66,$C$39:$C$66) -> 17882185
A48: =A16 -> CARTAGENA | B48: =E16 -> 33733288 | C48: =D16 -> 34532347 | D48: =_xlfn.RANK.EQ(B48,$B$39:$B$66)+COUNTIF($B$39:$B$66,B48)-1 -> 5 | E48: =INDEX($A$39:$B$66,MATCH(ROW()-38,$D$39:$D$66,0),1) -> GIJÓN | F48: =LOOKUP(E48,$A$39:$A$66,$B$39:$B$66) -> 19653524 | G48: =LOOKUP(E48,$A$39:$A$66,$C$39:$C$66) -> 21736236
A49: =A17 -> CASTELLÓN | B49: =E17 -> 21107757 | C49: =D17 -> 17882185 | D49: =_xlfn.RANK.EQ(B49,$B$39:$B$66)+COUNTIF($B$39:$B$66,B49)-1 -> 9 | E49: =INDEX($A$39:$B$66,MATCH(ROW()-38,$D$39:$D$66,0),1) -> BALEARES | F49: =LOOKUP(E49,$A$39:$A$66,$B$39:$B$66) -> 16206802 | G49: =LOOKUP(E49,$A$39:$A$66,$C$39:$C$66) -> 15408802
A50: =A18 -> CEUTA | B50: =E18 -> 1711404 | C50: =D18 -> 1881096 | D50: =_xlfn.RANK.EQ(B50,$B$39:$B$66)+COUNTIF($B$39:$B$66,B50)-1 -> 26 | E50: =INDEX($A$39:$B$66,MATCH(ROW()-38,$D$39:$D$66,0),1) -> A CORUÑA | F50: =LOOKUP(E50,$A$39:$A$66,$B$39:$B$66) -> 15292088 | G50: =LOOKUP(E50,$A$39:$A$66,$C$39:$C$66) -> 14760612
... A66: =A34 -> VILAGARCÍA | B66: =E34 -> 1207577 | C66: =D34 -> 1201759.4 | D66: =_xlfn.RANK.EQ(B66,$B$39:$B$66)+COUNTIF($B$39:$B$66,B66)-1 -> 27 | E66: =INDEX($A$39:$B$66,MATCH(ROW()-38,$D$39:$D$66,0),1) -> MELILLA | F66: =LOOKUP(E66,$A$39:$A$66,$B$39:$B$66) -> 868060.5 | G66: =LOOKUP(E66,$A$39:$A$66,$C$39:$C$66) -> 1147234

Sheet Líquidos
F1: 2. GRANELES LÍQUIDOS (toneladas)
A5: Autoridad Portuaria | B5: ='Resumen general'!D6 -> Mes diciembre | D5: ='Resumen general'!F6 -> Acumulado desde enero | L5: ='Resumen general'!I4 -> Fecha: 29/10/2019
B6: ='Resumen general'!D7 -> 2017 | C6: ='Resumen general'!E7 -> 2018 | D6: ='Resumen general'!F7 -> 2017 | E6: ='Resumen general'!G7 -> 2018 | F6: Var. (%)
A7: A CORUÑA | B7: 729071 | C7: 589337 | D7: 8788868 | E7: 9337317 | F7: =((E7*100)/D7)-100 -> 6.2402689
A8: ALICANTE | B8: 1600 | C8: 6978 | D8: 41228.69 | E8: 60761.65 | F8: =((E8*100)/D8)-100 -> 47.377106
A9: ALMERÍA | B9: 0 | C9: 3300 | D9: 31656 | E9: 43811 | F9: =((E9*100)/D9)-100 -> 38.397144
A10: AVILÉS | B10: 70525 | C10: 62085 | D10: 658157.57 | E10: 620106 | F10: =((E10*100)/D10)-100 -> -5.7815289
A11: BAHÍA DE ALGECIRAS | B11: 2150888 | C11: 2770244 | D11: 28774987 | E11: 31763061 | F11: =((E11*100)/D11)-100 -> 10.384276
A12: BAHÍA DE CÁDIZ | B12: 35419 | C12: 50918 | D12: 578775 | E12: 686986 | F12: =((E12*100)/D12)-100 -> 18.696557
A13: BALEARES | B13: 53454 | C13: 71943 | D13: 1553351 | E13: 1695567.4 | F13: =((E13*100)/D13)-100 -> 9.1554581
A14: BARCELONA | B14: 1374654 | C14: 1501748 | D14: 14483623 | E14: 15298349 | F14: =((E14*100)/D14)-100 -> 5.6251547
A15: BILBAO | B15: 1912653 | C15: 1751866 | D15: 19783840 | E15: 20490544 | F15: =((E15*100)/D15)-100 -> 3.572125
A16: CARTAGENA | B16: 2024965 | C16: 2138891 | D16: 27177908 | E16: 25676174 | F16: =((E16*100)/D16)-100 -> -5.5255688
A17: CASTELLÓN | B17: 384838 | C17: 948197 | D17: 7834585 | E17: 10393834 | F17: =((E17*100)/D17)-100 -> 32.666038
A18: CEUTA | B18: 95639 | C18: 48967 | D18: 994798 | E18: 834100 | F18: =((E18*100)/D18)-100 -> -16.153832
... A34: VILAGARCÍA | B34: 13504 | C34: 2097 | D34: 193687.34 | E34: 167809 | F34: =((E34*100)/D34)-100 -> -13.360884
A35: Total | B35: =SUM(B7:B34) -> 14514026 | C35: =SUM(C7:C34) -> 15990554 | D35: =SUM(D7:D34) -> 1.7824283e+08 | E35: =SUM(E7:E34) -> 1.807193e+08 | F35: =((E35*100)/D35)-100 -> 1.3893796
A36: Incluye cargas, descargas, tránsitos y transbordos.
B38: =E6 -> 2018 | C38: =D6 -> 2017 | F38: =B38 -> 2018 | G38: =C38 -> 2017
A39: =A7 -> A CORUÑA | B39: =E7 -> 9337317 | C39: =D7 -> 8788868 | D39: =_xlfn.RANK.EQ(B39,$B$39:$B$66)+COUNTIF($B$39:$B$66,B39)-1 -> 8 | E39: =INDEX($A$39:$B$66,MATCH(ROW()-38,$D$39:$D$66,0),1) -> BAHÍA DE ALGECIRAS | F39: =LOOKUP(E39,$A$39:$A$66,$B$39:$B$66) -> 31763061 | G39: =LOOKUP(E39,$A$39:$A$66,$C$39:$C$66) -> 28774987
A40: =A8 -> ALICANTE | B40: =E8 -> 60761.65 | C40: =D8 -> 41228.69 | D40: =_xlfn.RANK.EQ(B40,$B$39:$B$66)+COUNTIF($B$39:$B$66,B40)-1 -> 25 | E40: =INDEX($A$39:$B$66,MATCH(ROW()-38,$D$39:$D$66,0),1) -> CARTAGENA | F40: =LOOKUP(E40,$A$39:$A$66,$B$39:$B$66) -> 25676174 | G40: =LOOKUP(E40,$A$39:$A$66,$C$39:$C$66) -> 27177908
A41: =A9 -> ALMERÍA | B41: =E9 -> 43811 | C41: =D9 -> 31656 | D41: =_xlfn.RANK.EQ(B41,$B$39:$B$66)+COUNTIF($B$39:$B$66,B41)-1 -> 26 | E41: =INDEX($A$39:$B$66,MATCH(ROW()-38,$D$39:$D$66,0),1) -> HUELVA | F41: =LOOKUP(E41,$A$39:$A$66,$B$39:$B$66) -> 25119931 | G41: =LOOKUP(E41,$A$39:$A$66,$C$39:$C$66) -> 24904547
A42: =A10 -> AVILÉS | B42: =E10 -> 620106 | C42: =D10 -> 658157.57 | D42: =_xlfn.RANK.EQ(B42,$B$39:$B$66)+COUNTIF($B$39:$B$66,B42)-1 -> 18 | E42: =INDEX($A$39:$B$66,MATCH(ROW()-38,$D$39:$D$66,0),1) -> BILBAO | F42: =LOOKUP(E42,$A$39:$A$66,$B$39:$B$66) -> 20490544 | G42: =LOOKUP(E42,$A$39:$A$66,$C$39:$C$66) -> 19783840
A43: =A11 -> BAHÍA DE ALGECIRAS | B43: =E11 -> 31763061 | C43: =D11 -> 28774987 | D43: =_xlfn.RANK.EQ(B43,$B$39:$B$66)+COUNTIF($B$39:$B$66,B43)-1 -> 1 | E43: =INDEX($A$39:$B$66,MATCH(ROW()-38,$D$39:$D$66,0),1) -> TARRAGONA | F43: =LOOKUP(E43,$A$39:$A$66,$B$39:$B$66) -> 19844376 | G43: =LOOKUP(E43,$A$39:$A$66,$C$39:$C$66) -> 22035857
A44: =A12 -> BAHÍA DE CÁDIZ | B44: =E12 -> 686986 | C44: =D12 -> 578775 | D44: =_xlfn.RANK.EQ(B44,$B$39:$B$66)+COUNTIF($B$39:$B$66,B44)-1 -> 17 | E44: =INDEX($A$39:$B$66,MATCH(ROW()-38,$D$39:$D$66,0),1) -> BARCELONA | F44: =LOOKUP(E44,$A$39:$A$66,$B$39:$B$66) -> 15298349 | G44: =LOOKUP(E44,$A$39:$A$66,$C$39:$C$66) -> 14483623
A45: =A13 -> BALEARES | B45: =E13 -> 1695567.4 | C45: =D13 -> 1553351 | D45: =_xlfn.RANK.EQ(B45,$B$39:$B$66)+COUNTIF($B$39:$B$66,B45)-1 -> 13 | E45: =INDEX($A$39:$B$66,MATCH(ROW()-38,$D$39:$D$66,0),1) -> CASTELLÓN | F45: =LOOKUP(E45,$A$39:$A$66,$B$39:$B$66) -> 10393834 | G45: =LOOKUP(E45,$A$39:$A$66,$C$39:$C$66) -> 7834585
A46: =A14 -> BARCELONA | B46: =E14 -> 15298349 | C46: =D14 -> 14483623 | D46: =_xlfn.RANK.EQ(B46,$B$39:$B$66)+COUNTIF($B$39:$B$66,B46)-1 -> 6 | E46: =INDEX($A$39:$B$66,MATCH(ROW()-38,$D$39:$D$66,0),1) -> A CORUÑA | F46: =LOOKUP(E46,$A$39:$A$66,$B$39:$B$66) -> 9337317 | G46: =LOOKUP(E46,$A$39:$A$66,$C$39:$C$66) -> 8788868
A47: =A15 -> BILBAO | B47: =E15 -> 20490544 | C47: =D15 -> 19783840 | D47: =_xlfn.RANK.EQ(B47,$B$39:$B$66)+COUNTIF($B$39:$B$66,B47)-1 -> 4 | E47: =INDEX($A$39:$B$66,MATCH(ROW()-38,$D$39:$D$66,0),1) -> LAS PALMAS | F47: =LOOKUP(E47,$A$39:$A$66,$B$39:$B$66) -> 7148462 | G47: =LOOKUP(E47,$A$39:$A$66,$C$39:$C$66) -> 6849513
A48: =A16 -> CARTAGENA | B48: =E16 -> 25676174 | C48: =D16 -> 27177908 | D48: =_xlfn.RANK.EQ(B48,$B$39:$B$66)+COUNTIF($B$39:$B$66,B48)-1 -> 2 | E48: =INDEX($A$39:$B$66,MATCH(ROW()-38,$D$39:$D$66,0),1) -> SANTA CRUZ DE TENERIFE | F48: =LOOKUP(E48,$A$39:$A$66,$B$39:$B$66) -> 4501835 | G48: =LOOKUP(E48,$A$39:$A$66,$C$39:$C$66) -> 5137879
A49: =A17 -> CASTELLÓN | B49: =E17 -> 10393834 | C49: =D17 -> 7834585 | D49: =_xlfn.RANK.EQ(B49,$B$39:$B$66)+COUNTIF($B$39:$B$66,B49)-1 -> 7 | E49: =INDEX($A$39:$B$66,MATCH(ROW()-38,$D$39:$D$66,0),1) -> FERROL-SAN CIBRAO | F49: =LOOKUP(E49,$A$39:$A$66,$B$39:$B$66) -> 2155622.9 | G49: =LOOKUP(E49,$A$39:$A$66,$C$39:$C$66) -> 2313028.4
A50: =A18 -> CEUTA | B50: =E18 -> 834100 | C50: =D18 -> 994798 | D50: =_xlfn.RANK.EQ(B50,$B$39:$B$66)+COUNTIF($B$39:$B$66,B50)-1 -> 15 | E50: =INDEX($A$39:$B$66,MATCH(ROW()-38,$D$39:$D$66,0),1) -> VALENCIA | F50: =LOOKUP(E50,$A$39:$A$66,$B$39:$B$66) -> 1909692 | G50: =LOOKUP(E50,$A$39:$A$66,$C$39:$C$66) -> 3203487
... A66: =A34 -> VILAGARCÍA | B66: =E34 -> 167809 | C66: =D34 -> 193687.34 | D66: =_xlfn.RANK.EQ(B66,$B$39:$B$66)+COUNTIF($B$39:$B$66,B66)-1 -> 21 | E66: =INDEX($A$39:$B$66,MATCH(ROW()-38,$D$39:$D$66,0),1) -> PASAIA | F66: =LOOKUP(E66,$A$39:$A$66,$B$39:$B$66) -> 0 | G66: =LOOKUP(E66,$A$39:$A$66,$C$39:$C$66) -> 0

Sheet Sólidos
F1: 3. GRANELES SÓLIDOS (toneladas)
A5: Autoridad Portuaria | B5: ='Resumen general'!D6 -> Mes diciembre | D5: ='Resumen general'!F6 -> Acumulado desde enero | L5: ='Resumen general'!I4 -> Fecha: 29/10/2019
B6: ='Resumen general'!D7 -> 2017 | C6: ='Resumen general'!E7 -> 2018 | D6: ='Resumen general'!F7 -> 2017 | E6: ='Resumen general'!G7 -> 2018 | F6: Var. (%)
A7: A CORUÑA | B7: 505663 | C7: 419264 | D7: 5057024 | E7: 4853062 | F7: =((E7*100)/D7)-100 -> -4.0332417
A8: ALICANTE | B8: 119149 | C8: 123012 | D8: 1877180.2 | E8: 1592670.8 | F8: =((E8*100)/D8)-100 -> -15.156213
A9: ALMERÍA | B9: 552214 | C9: 302847 | D9: 5618871 | E9: 6337016 | F9: =((E9*100)/D9)-100 -> 12.780948
A10: AVILÉS | B10: 225930 | C10: 317489 | D10: 2879679.5 | E10: 3173814.5 | F10: =((E10*100)/D10)-100 -> 10.214159
A11: BAHÍA DE ALGECIRAS | B11: 219938 | C11: 31155 | D11: 2102907 | E11: 1718439 | F11: =((E11*100)/D11)-100 -> -18.282692
A12: BAHÍA DE CÁDIZ | B12: 131474 | C12: 161597 | D12: 1747589 | E12: 1736215 | F12: =((E12*100)/D12)-100 -> -0.65083953
A13: BALEARES | B13: 126044 | C13: 95185 | D13: 1610651 | E13: 1415401 | F13: =((E13*100)/D13)-100 -> -12.122428
A14: BARCELONA | B14: 352402 | C14: 359227 | D14: 4465637 | E14: 4257025.3 | F14: =((E14*100)/D14)-100 -> -4.6714885
A15: BILBAO | B15: 405774 | C15: 273904 | D15: 4543164 | E15: 4757894 | F15: =((E15*100)/D15)-100 -> 4.7264417
A16: CARTAGENA | B16: 469293 | C16: 807828 | D16: 5820338 | E16: 6596763 | F16: =((E16*100)/D16)-100 -> 13.339861
A17: CASTELLÓN | B17: 491299 | C17: 544527 | D17: 6463716 | E17: 7425415 | F17: =((E17*100)/D17)-100 -> 14.878423
A18: CEUTA | B18: 0 | C18: 2500 | D18: 17469 | E18: 31893 | F18: =((E18*100)/D18)-100 -> 82.569122
... A34: VILAGARCÍA | B34: 51015 | C34: 51336 | D34: 421101.14 | E34: 448216 | F34: =((E34*100)/D34)-100 -> 6.4390374
A35: Total | B35: =SUM(B7:B34) -> 8579383 | C35: =SUM(C7:C34) -> 9252149 | D35: =SUM(D7:D34) -> 1.0142872e+08 | E35: =SUM(E7:E34) -> 1.023661e+08 | F35: =((E35*100)/D35)-100 -> 0.92417554
A36: Incluye cargas, descargas, tránsitos y transbordos.
B38: =E6 -> 2018 | C38: =D6 -> 2017 | F38: =B38 -> 2018 | G38: =C38 -> 2017
A39: =A7 -> A CORUÑA | B39: =E7 -> 4853062 | C39: =D7 -> 5057024 | D39: =_xlfn.RANK.EQ(B39,$B$39:$B$66)+COUNTIF($B$39:$B$66,B39)-1 -> 8 | E39: =INDEX($A$39:$B$66,MATCH(ROW()-38,$D$39:$D$66,0),1) -> GIJÓN | F39: =LOOKUP(E39,$A$39:$A$66,$B$39:$B$66) -> 17193269 | G39: =LOOKUP(E39,$A$39:$A$66,$C$39:$C$66) -> 19220421
A40: =A8 -> ALICANTE | B40: =E8 -> 1592670.8 | C40: =D8 -> 1877180.2 | D40: =_xlfn.RANK.EQ(B40,$B$39:$B$66)+COUNTIF($B$39:$B$66,B40)-1 -> 18 | E40: =INDEX($A$39:$B$66,MATCH(ROW()-38,$D$39:$D$66,0),1) -> FERROL-SAN CIBRAO | F40: =LOOKUP(E40,$A$39:$A$66,$B$39:$B$66) -> 10756980 | G40: =LOOKUP(E40,$A$39:$A$66,$C$39:$C$66) -> 10455812
A41: =A9 -> ALMERÍA | B41: =E9 -> 6337016 | C41: =D9 -> 5618871 | D41: =_xlfn.RANK.EQ(B41,$B$39:$B$66)+COUNTIF($B$39:$B$66,B41)-1 -> 7 | E41: =INDEX($A$39:$B$66,MATCH(ROW()-38,$D$39:$D$66,0),1) -> TARRAGONA | F41: =LOOKUP(E41,$A$39:$A$66,$B$39:$B$66) -> 9988264 | G41: =LOOKUP(E41,$A$39:$A$66,$C$39:$C$66) -> 9505432
A42: =A10 -> AVILÉS | B42: =E10 -> 3173814.5 | C42: =D10 -> 2879679.5 | D42: =_xlfn.RANK.EQ(B42,$B$39:$B$66)+COUNTIF($B$39:$B$66,B42)-1 -> 12 | E42: =INDEX($A$39:$B$66,MATCH(ROW()-38,$D$39:$D$66,0),1) -> CASTELLÓN | F42: =LOOKUP(E42,$A$39:$A$66,$B$39:$B$66) -> 7425415 | G42: =LOOKUP(E42,$A$39:$A$66,$C$39:$C$66) -> 6463716
A43: =A11 -> BAHÍA DE ALGECIRAS | B43: =E11 -> 1718439 | C43: =D11 -> 2102907 | D43: =_xlfn.RANK.EQ(B43,$B$39:$B$66)+COUNTIF($B$39:$B$66,B43)-1 -> 16 | E43: =INDEX($A$39:$B$66,MATCH(ROW()-38,$D$39:$D$66,0),1) -> HUELVA | F43: =LOOKUP(E43,$A$39:$A$66,$B$39:$B$66) -> 6662398.8 | G43: =LOOKUP(E43,$A$39:$A$66,$C$39:$C$66) -> 6487378.1
A44: =A12 -> BAHÍA DE CÁDIZ | B44: =E12 -> 1736215 | C44: =D12 -> 1747589 | D44: =_xlfn.RANK.EQ(B44,$B$39:$B$66)+COUNTIF($B$39:$B$66,B44)-1 -> 15 | E44: =INDEX($A$39:$B$66,MATCH(ROW()-38,$D$39:$D$66,0),1) -> CARTAGENA | F44: =LOOKUP(E44,$A$39:$A$66,$B$39:$B$66) -> 6596763 | G44: =LOOKUP(E44,$A$39:$A$66,$C$39:$C$66) -> 5820338
A45: =A13 -> BALEARES | B45: =E13 -> 1415401 | C45: =D13 -> 1610651 | D45: =_xlfn.RANK.EQ(B45,$B$39:$B$66)+COUNTIF($B$39:$B$66,B45)-1 -> 19 | E45: =INDEX($A$39:$B$66,MATCH(ROW()-38,$D$39:$D$66,0),1) -> ALMERÍA | F45: =LOOKUP(E45,$A$39:$A$66,$B$39:$B$66) -> 6337016 | G45: =LOOKUP(E45,$A$39:$A$66,$C$39:$C$66) -> 5618871
A46: =A14 -> BARCELONA | B46: =E14 -> 4257025.3 | C46: =D14 -> 4465637 | D46: =_xlfn.RANK.EQ(B46,$B$39:$B$66)+COUNTIF($B$39:$B$66,B46)-1 -> 10 | E46: =INDEX($A$39:$B$66,MATCH(ROW()-38,$D$39:$D$66,0),1) -> A CORUÑA | F46: =LOOKUP(E46,$A$39:$A$66,$B$39:$B$66) -> 4853062 | G46: =LOOKUP(E46,$A$39:$A$66,$C$39:$C$66) -> 5057024
A47: =A15 -> BILBAO | B47: =E15 -> 4757894 | C47: =D15 -> 4543164 | D47: =_xlfn.RANK.EQ(B47,$B$39:$B$66)+COUNTIF($B$39:$B$66,B47)-1 -> 9 | E47: =INDEX($A$39:$B$66,MATCH(ROW()-38,$D$39:$D$66,0),1) -> BILBAO | F47: =LOOKUP(E47,$A$39:$A$66,$B$39:$B$66) -> 4757894 | G47: =LOOKUP(E47,$A$39:$A$66,$C$39:$C$66) -> 4543164
A48: =A16 -> CARTAGENA | B48: =E16 -> 6596763 | C48: =D16 -> 5820338 | D48: =_xlfn.RANK.EQ(B48,$B$39:$B$66)+COUNTIF($B$39:$B$66,B48)-1 -> 6 | E48: =INDEX($A$39:$B$66,MATCH(ROW()-38,$D$39:$D$66,0),1) -> BARCELONA | F48: =LOOKUP(E48,$A$39:$A$66,$B$39:$B$66) -> 4257025.3 | G48: =LOOKUP(E48,$A$39:$A$66,$C$39:$C$66) -> 4465637
A49: =A17 -> CASTELLÓN | B49: =E17 -> 7425415 | C49: =D17 -> 6463716 | D49: =_xlfn.RANK.EQ(B49,$B$39:$B$66)+COUNTIF($B$39:$B$66,B49)-1 -> 4 | E49: =INDEX($A$39:$B$66,MATCH(ROW()-38,$D$39:$D$66,0),1) -> SANTANDER | F49: =LOOKUP(E49,$A$39:$A$66,$B$39:$B$66) -> 3313907.5 | G49: =LOOKUP(E49,$A$39:$A$66,$C$39:$C$66) -> 3476272
A50: =A18 -> CEUTA | B50: =E18 -> 31893 | C50: =D18 -> 17469 | D50: =_xlfn.RANK.EQ(B50,$B$39:$B$66)+COUNTIF($B$39:$B$66,B50)-1 -> 27 | E50: =INDEX($A$39:$B$66,MATCH(ROW()-38,$D$39:$D$66,0),1) -> AVILÉS | F50: =LOOKUP(E50,$A$39:$A$66,$B$39:$B$66) -> 3173814.5 | G50: =LOOKUP(E50,$A$39:$A$66,$C$39:$C$66) -> 2879679.5
... A66: =A34 -> VILAGARCÍA | B66: =E34 -> 448216 | C66: =D34 -> 421101.14 | D66: =_xlfn.RANK.EQ(B66,$B$39:$B$66)+COUNTIF($B$39:$B$66,B66)-1 -> 24 | E66: =INDEX($A$39:$B$66,MATCH(ROW()-38,$D$39:$D$66,0),1) -> MELILLA | F66: =LOOKUP(E66,$A$39:$A$66,$B$39:$B$66) -> 5250 | G66: =LOOKUP(E66,$A$39:$A$66,$C$39:$C$66) -> 7372

Sheet Mercancía general
F1: 4. MERCANCÍA GENERAL (toneladas)
A5: Autoridad Portuaria | B5: ='Resumen general'!D6 -> Mes diciembre | D5: ='Resumen general'!F6 -> Acumulado desde enero | L5: ='Resumen general'!I4 -> Fecha: 29/10/2019
B6: ='Resumen general'!D7 -> 2017 | C6: ='Resumen general'!E7 -> 2018 | D6: ='Resumen general'!F7 -> 2017 | E6: ='Resumen general'!G7 -> 2018 | F6: Var. (%)
A7: A CORUÑA | B7: 61348 | C7: 66620 | D7: 914720 | E7: 1101709 | F7: =((E7*100)/D7)-100 -> 20.442212
A8: ALICANTE | B8: 135594 | C8: 129085 | D8: 1503201.8 | E8: 1507916.2 | F8: =((E8*100)/D8)-100 -> 0.31361856
A9: ALMERÍA | B9: 54025 | C9: 69099 | D9: 639714 | E9: 584505 | F9: =((E9*100)/D9)-100 -> -8.6302629
A10: AVILÉS | B10: 108968 | C10: 108032 | D10: 1214020.2 | E10: 1173643.4 | F10: =((E10*100)/D10)-100 -> -3.3258747
A11: BAHÍA DE ALGECIRAS | B11: 5496147 | C11: 5494173 | D11: 65452560 | E11: 69062429 | F11: =((E11*100)/D11)-100 -> 5.5152455
A12: BAHÍA DE CÁDIZ | B12: 124763 | C12: 104881 | D12: 1660429 | E12: 1415463 | F12: =((E12*100)/D12)-100 -> -14.753175
A13: BALEARES | B13: 771832 | C13: 877897 | D13: 12244800 | E13: 13095834 | F13: =((E13*100)/D13)-100 -> 6.9501666
A14: BARCELONA | B14: 3288812 | C14: 3695496 | D14: 41120874 | E14: 46339751 | F14: =((E14*100)/D14)-100 -> 12.691551
A15: BILBAO | B15: 1024882 | C15: 756553 | D15: 9867978 | E15: 10335052 | F15: =((E15*100)/D15)-100 -> 4.733229
A16: CARTAGENA | B16: 113434 | C16: 83037 | D16: 1534101 | E16: 1460351 | F16: =((E16*100)/D16)-100 -> -4.8073758
A17: CASTELLÓN | B17: 238469 | C17: 235263 | D17: 3583884 | E17: 3288508.5 | F17: =((E17*100)/D17)-100 -> -8.2417707
A18: CEUTA | B18: 55794 | C18: 66310 | D18: 868829 | E18: 845411 | F18: =((E18*100)/D18)-100 -> -2.695352
... A34: VILAGARCÍA | B34: 39658 | C34: 47018 | D34: 586970.88 | E34: 591552 | F34: =((E34*100)/D34)-100 -> 0.78046802
A35: Total | B35: =SUM(B7:B34) -> 20409797 | C35: =SUM(C7:C34) -> 21565966 | D35: =SUM(D7:D34) -> 2.5246602e+08 | E35: =SUM(E7:E34) -> 2.6737255e+08 | F35: =((E35*100)/D35)-100 -> 5.904374
A36: Incluye cargas, descargas, tránsitos y transbordos.
B38: =E6 -> 2018 | C38: =D6 -> 2017 | F38: =B38 -> 2018 | G38: =C38 -> 2017
A39: =A7 -> A CORUÑA | B39: =E7 -> 1101709 | C39: =D7 -> 914720 | D39: =_xlfn.RANK.EQ(B39,$B$39:$B$66)+COUNTIF($B$39:$B$66,B39)-1 -> 21 | E39: =INDEX($A$39:$B$66,MATCH(ROW()-38,$D$39:$D$66,0),1) -> VALENCIA | F39: =LOOKUP(E39,$A$39:$A$66,$B$39:$B$66) -> 71971743 | G39: =LOOKUP(E39,$A$39:$A$66,$C$39:$C$66) -> 67767129
A40: =A8 -> ALICANTE | B40: =E8 -> 1507916.2 | C40: =D8 -> 1503201.8 | D40: =_xlfn.RANK.EQ(B40,$B$39:$B$66)+COUNTIF($B$39:$B$66,B40)-1 -> 16 | E40: =INDEX($A$39:$B$66,MATCH(ROW()-38,$D$39:$D$66,0),1) -> BAHÍA DE ALGECIRAS | F40: =LOOKUP(E40,$A$39:$A$66,$B$39:$B$66) -> 69062429 | G40: =LOOKUP(E40,$A$39:$A$66,$C$39:$C$66) -> 65452560
A41: =A9 -> ALMERÍA | B41: =E9 -> 584505 | C41: =D9 -> 639714 | D41: =_xlfn.RANK.EQ(B41,$B$39:$B$66)+COUNTIF($B$39:$B$66,B41)-1 -> 28 | E41: =INDEX($A$39:$B$66,MATCH(ROW()-38,$D$39:$D$66,0),1) -> BARCELONA | F41: =LOOKUP(E41,$A$39:$A$66,$B$39:$B$66) -> 46339751 | G41: =LOOKUP(E41,$A$39:$A$66,$C$39:$C$66) -> 41120874
A42: =A10 -> AVILÉS | B42: =E10 -> 1173643.4 | C42: =D10 -> 1214020.2 | D42: =_xlfn.RANK.EQ(B42,$B$39:$B$66)+COUNTIF($B$39:$B$66,B42)-1 -> 20 | E42: =INDEX($A$39:$B$66,MATCH(ROW()-38,$D$39:$D$66,0),1) -> LAS PALMAS | F42: =LOOKUP(E42,$A$39:$A$66,$B$39:$B$66) -> 16719921 | G42: =LOOKUP(E42,$A$39:$A$66,$C$39:$C$66) -> 16933001
A43: =A11 -> BAHÍA DE ALGECIRAS | B43: =E11 -> 69062429 | C43: =D11 -> 65452560 | D43: =_xlfn.RANK.EQ(B43,$B$39:$B$66)+COUNTIF($B$39:$B$66,B43)-1 -> 2 | E43: =INDEX($A$39:$B$66,MATCH(ROW()-38,$D$39:$D$66,0),1) -> BALEARES | F43: =LOOKUP(E43,$A$39:$A$66,$B$39:$B$66) -> 13095834 | G43: =LOOKUP(E43,$A$39:$A$66,$C$39:$C$66) -> 12244800
A44: =A12 -> BAHÍA DE CÁDIZ | B44: =E12 -> 1415463 | C44: =D12 -> 1660429 | D44: =_xlfn.RANK.EQ(B44,$B$39:$B$66)+COUNTIF($B$39:$B$66,B44)-1 -> 19 | E44: =INDEX($A$39:$B$66,MATCH(ROW()-38,$D$39:$D$66,0),1) -> BILBAO | F44: =LOOKUP(E44,$A$39:$A$66,$B$39:$B$66) -> 10335052 | G44: =LOOKUP(E44,$A$39:$A$66,$C$39:$C$66) -> 9867978
A45: =A13 -> BALEARES | B45: =E13 -> 13095834 | C45: =D13 -> 12244800 | D45: =_xlfn.RANK.EQ(B45,$B$39:$B$66)+COUNTIF($B$39:$B$66,B45)-1 -> 5 | E45: =INDEX($A$39:$B$66,MATCH(ROW()-38,$D$39:$D$66,0),1) -> SANTA CRUZ DE TENERIFE | F45: =LOOKUP(E45,$A$39:$A$66,$B$39:$B$66) -> 7411423.2 | G45: =LOOKUP(E45,$A$39:$A$66,$C$39:$C$66) -> 7391132
A46: =A14 -> BARCELONA | B46: =E14 -> 46339751 | C46: =D14 -> 41120874 | D46: =_xlfn.RANK.EQ(B46,$B$39:$B$66)+COUNTIF($B$39:$B$66,B46)-1 -> 3 | E46: =INDEX($A$39:$B$66,MATCH(ROW()-38,$D$39:$D$66,0),1) -> VIGO | F46: =LOOKUP(E46,$A$39:$A$66,$B$39:$B$66) -> 3770116.4 | G46: =LOOKUP(E46,$A$39:$A$66,$C$39:$C$66) -> 3637839.5
A47: =A15 -> BILBAO | B47: =E15 -> 10335052 | C47: =D15 -> 9867978 | D47: =_xlfn.RANK.EQ(B47,$B$39:$B$66)+COUNTIF($B$39:$B$66,B47)-1 -> 6 | E47: =INDEX($A$39:$B$66,MATCH(ROW()-38,$D$39:$D$66,0),1) -> CASTELLÓN | F47: =LOOKUP(E47,$A$39:$A$66,$B$39:$B$66) -> 3288508.5 | G47: =LOOKUP(E47,$A$39:$A$66,$C$39:$C$66) -> 3583884
A48: =A16 -> CARTAGENA | B48: =E16 -> 1460351 | C48: =D16 -> 1534101 | D48: =_xlfn.RANK.EQ(B48,$B$39:$B$66)+COUNTIF($B$39:$B$66,B48)-1 -> 17 | E48: =INDEX($A$39:$B$66,MATCH(ROW()-38,$D$39:$D$66,0),1) -> SANTANDER | F48: =LOOKUP(E48,$A$39:$A$66,$B$39:$B$66) -> 2303697.5 | G48: =LOOKUP(E48,$A$39:$A$66,$C$39:$C$66) -> 1887886
A49: =A17 -> CASTELLÓN | B49: =E17 -> 3288508.5 | C49: =D17 -> 3583884 | D49: =_xlfn.RANK.EQ(B49,$B$39:$B$66)+COUNTIF($B$39:$B$66,B49)-1 -> 9 | E49: =INDEX($A$39:$B$66,MATCH(ROW()-38,$D$39:$D$66,0),1) -> TARRAGONA | F49: =LOOKUP(E49,$A$39:$A$66,$B$39:$B$66) -> 2168374 | G49: =LOOKUP(E49,$A$39:$A$66,$C$39:$C$66) -> 2079663
A50: =A18 -> CEUTA | B50: =E18 -> 845411 | C50: =D18 -> 868829 | D50: =_xlfn.RANK.EQ(B50,$B$39:$B$66)+COUNTIF($B$39:$B$66,B50)-1 -> 24 | E50: =INDEX($A$39:$B$66,MATCH(ROW()-38,$D$39:$D$66,0),1) -> PASAIA | F50: =LOOKUP(E50,$A$39:$A$66,$B$39:$B$66) -> 2085553 | G50: =LOOKUP(E50,$A$39:$A$66,$C$39:$C$66) -> 2085298
... A66: =A34 -> VILAGARCÍA | B66: =E34 -> 591552 | C66: =D34 -> 586970.88 | D66: =_xlfn.RANK.EQ(B66,$B$39:$B$66)+COUNTIF($B$39:$B$66,B66)-1 -> 27 | E66: =INDEX($A$39:$B$66,MATCH(ROW()-38,$D$39:$D$66,0),1) -> ALMERÍA | F66: =LOOKUP(E66,$A$39:$A$66,$B$39:$B$66) -> 584505 | G66: =LOOKUP(E66,$A$39:$A$66,$C$39:$C$66) -> 639714

Sheet Mercancías contenedores
F1: 4.1. MERCANCÍAS EN CONTENEDORES (toneladas)
A5: Autoridad Portuaria | B5: ='Resumen general'!D6 -> Mes diciembre | D5: ='Resumen general'!F6 -> Acumulado desde enero | L5: ='Resumen general'!I4 -> Fecha: 29/10/2019
B6: ='Resumen general'!D7 -> 2017 | C6: ='Resumen general'!E7 -> 2018 | D6: ='Resumen general'!F7 -> 2017 | E6: ='Resumen general'!G7 -> 2018 | F6: Var. (%)
A7: A CORUÑA | B7: 0 | C7: 34 | D7: 6 | E7: 54 | F7: =((E7*100)/D7)-100 -> 800
A8: ALICANTE | B8: 118195 | C8: 99867 | D8: 1258641.8 | E8: 1245245.5 | F8: =((E8*100)/D8)-100 -> -1.0643497
A9: ALMERÍA | B9: 2125 | C9: 13349 | D9: 34934 | E9: 92720 | F9: =((E9*100)/D9)-100 -> 165.41478
A10: AVILÉS | B10: 0 | C10: 0 | D10: 0 | E10: 52 | F10: =((E10*100)/D10)-100 -> #DIV/0!
A11: BAHÍA DE ALGECIRAS | B11: 4819683 | C11: 4765020 | D11: 57600003 | E11: 60593409 | F11: =((E11*100)/D11)-100 -> 5.1968844
A12: BAHÍA DE CÁDIZ | B12: 54504 | C12: 36869 | D12: 644765 | E12: 483037 | F12: =((E12*100)/D12)-100 -> -25.083247
A13: BALEARES | B13: 51980 | C13: 26556 | D13: 813517 | E13: 661073 | F13: =((E13*100)/D13)-100 -> -18.738883
A14: BARCELONA | B14: 2490444 | C14: 2921341 | D14: 29911225 | E14: 34790080 | F14: =((E14*100)/D14)-100 -> 16.311116
A15: BILBAO | B15: 709846 | C15: 519778 | D15: 6464560 | E15: 6807692 | F15: =((E15*100)/D15)-100 -> 5.3078941
A16: CARTAGENA | B16: 89857 | C16: 64463 | D16: 1223604 | E16: 1129557 | F16: =((E16*100)/D16)-100 -> -7.6860651
A17: CASTELLÓN | B17: 217705 | C17: 213044 | D17: 3276619 | E17: 3048975 | F17: =((E17*100)/D17)-100 -> -6.9475273
A18: CEUTA | B18: 6845 | C18: 9397 | D18: 125217 | E18: 118282 | F18: =((E18*100)/D18)-100 -> -5.5383854
... A34: VILAGARCÍA | B34: 25065 | C34: 28799 | D34: 293923.05 | E34: 304282 | F34: =((E34*100)/D34)-100 -> 3.5243748
A35: Total | B35: =SUM(B7:B34) -> 14859486 | C35: =SUM(C7:C34) -> 15739583 | D35: =SUM(D7:D34) -> 1.8145292e+08 | E35: =SUM(E7:E34) -> 1.9102825e+08 | F35: =((E35*100)/D35)-100 -> 5.2770331
A36: Incluye cargas, descargas, tránsitos y transbordos.
B38: =E6 -> 2018 | C38: =D6 -> 2017 | F38: =B38 -> 2018 | G38: =C38 -> 2017
A39: =A7 -> A CORUÑA | B39: =E7 -> 54 | C39: =D7 -> 6 | D39: =_xlfn.RANK.EQ(B39,$B$39:$B$66)+COUNTIF($B$39:$B$66,B39)-1 -> 27 | E39: =INDEX($A$39:$B$66,MATCH(ROW()-38,$D$39:$D$66,0),1) -> BAHÍA DE ALGECIRAS | F39: =LOOKUP(E39,$A$39:$A$66,$B$39:$B$66) -> 60593409 | G39: =LOOKUP(E39,$A$39:$A$66,$C$39:$C$66) -> 57600003
A40: =A8 -> ALICANTE | B40: =E8 -> 1245245.5 | C40: =D8 -> 1258641.8 | D40: =_xlfn.RANK.EQ(B40,$B$39:$B$66)+COUNTIF($B$39:$B$66,B40)-1 -> 9 | E40: =INDEX($A$39:$B$66,MATCH(ROW()-38,$D$39:$D$66,0),1) -> VALENCIA | F40: =LOOKUP(E40,$A$39:$A$66,$B$39:$B$66) -> 57885808 | G40: =LOOKUP(E40,$A$39:$A$66,$C$39:$C$66) -> 55978616
A41: =A9 -> ALMERÍA | B41: =E9 -> 92720 | C41: =D9 -> 34934 | D41: =_xlfn.RANK.EQ(B41,$B$39:$B$66)+COUNTIF($B$39:$B$66,B41)-1 -> 23 | E41: =INDEX($A$39:$B$66,MATCH(ROW()-38,$D$39:$D$66,0),1) -> BARCELONA | F41: =LOOKUP(E41,$A$39:$A$66,$B$39:$B$66) -> 34790080 | G41: =LOOKUP(E41,$A$39:$A$66,$C$39:$C$66) -> 29911225
A42: =A10 -> AVILÉS | B42: =E10 -> 52 | C42: =D10 -> 0 | D42: =_xlfn.RANK.EQ(B42,$B$39:$B$66)+COUNTIF($B$39:$B$66,B42)-1 -> 28 | E42: =INDEX($A$39:$B$66,MATCH(ROW()-38,$D$39:$D$66,0),1) -> LAS PALMAS | F42: =LOOKUP(E42,$A$39:$A$66,$B$39:$B$66) -> 12238328 | G42: =LOOKUP(E42,$A$39:$A$66,$C$39:$C$66) -> 12806963
A43: =A11 -> BAHÍA DE ALGECIRAS | B43: =E11 -> 60593409 | C43: =D11 -> 57600003 | D43: =_xlfn.RANK.EQ(B43,$B$39:$B$66)+COUNTIF($B$39:$B$66,B43)-1 -> 1 | E43: =INDEX($A$39:$B$66,MATCH(ROW()-38,$D$39:$D$66,0),1) -> BILBAO | F43: =LOOKUP(E43,$A$39:$A$66,$B$39:$B$66) -> 6807692 | G43: =LOOKUP(E43,$A$39:$A$66,$C$39:$C$66) -> 6464560
A44: =A12 -> BAHÍA DE CÁDIZ | B44: =E12 -> 483037 | C44: =D12 -> 644765 | D44: =_xlfn.RANK.EQ(B44,$B$39:$B$66)+COUNTIF($B$39:$B$66,B44)-1 -> 18 | E44: =INDEX($A$39:$B$66,MATCH(ROW()-38,$D$39:$D$66,0),1) -> SANTA CRUZ DE TENERIFE | F44: =LOOKUP(E44,$A$39:$A$66,$B$39:$B$66) -> 3631763 | G44: =LOOKUP(E44,$A$39:$A$66,$C$39:$C$66) -> 3699948
A45: =A13 -> BALEARES | B45: =E13 -> 661073 | C45: =D13 -> 813517 | D45: =_xlfn.RANK.EQ(B45,$B$39:$B$66)+COUNTIF($B$39:$B$66,B45)-1 -> 15 | E45: =INDEX($A$39:$B$66,MATCH(ROW()-38,$D$39:$D$66,0),1) -> CASTELLÓN | F45: =LOOKUP(E45,$A$39:$A$66,$B$39:$B$66) -> 3048975 | G45: =LOOKUP(E45,$A$39:$A$66,$C$39:$C$66) -> 3276619
A46: =A14 -> BARCELONA | B46: =E14 -> 34790080 | C46: =D14 -> 29911225 | D46: =_xlfn.RANK.EQ(B46,$B$39:$B$66)+COUNTIF($B$39:$B$66,B46)-1 -> 3 | E46: =INDEX($A$39:$B$66,MATCH(ROW()-38,$D$39:$D$66,0),1) -> VIGO | F46: =LOOKUP(E46,$A$39:$A$66,$B$39:$B$66) -> 2667879.7 | G46: =LOOKUP(E46,$A$39:$A$66,$C$39:$C$66) -> 2590411
A47: =A15 -> BILBAO | B47: =E15 -> 6807692 | C47: =D15 -> 6464560 | D47: =_xlfn.RANK.EQ(B47,$B$39:$B$66)+COUNTIF($B$39:$B$66,B47)-1 -> 5 | E47: =INDEX($A$39:$B$66,MATCH(ROW()-38,$D$39:$D$66,0),1) -> ALICANTE | F47: =LOOKUP(E47,$A$39:$A$66,$B$39:$B$66) -> 1245245.5 | G47: =LOOKUP(E47,$A$39:$A$66,$C$39:$C$66) -> 1258641.8
A48: =A16 -> CARTAGENA | B48: =E16 -> 1129557 | C48: =D16 -> 1223604 | D48: =_xlfn.RANK.EQ(B48,$B$39:$B$66)+COUNTIF($B$39:$B$66,B48)-1 -> 10 | E48: =INDEX($A$39:$B$66,MATCH(ROW()-38,$D$39:$D$66,0),1) -> CARTAGENA | F48: =LOOKUP(E48,$A$39:$A$66,$B$39:$B$66) -> 1129557 | G48: =LOOKUP(E48,$A$39:$A$66,$C$39:$C$66) -> 1223604
A49: =A17 -> CASTELLÓN | B49: =E17 -> 3048975 | C49: =D17 -> 3276619 | D49: =_xlfn.RANK.EQ(B49,$B$39:$B$66)+COUNTIF($B$39:$B$66,B49)-1 -> 7 | E49: =INDEX($A$39:$B$66,MATCH(ROW()-38,$D$39:$D$66,0),1) -> SEVILLA | F49: =LOOKUP(E49,$A$39:$A$66,$B$39:$B$66) -> 983126 | G49: =LOOKUP(E49,$A$39:$A$66,$C$39:$C$66) -> 877088
A50: =A18 -> CEUTA | B50: =E18 -> 118282 | C50: =D18 -> 125217 | D50: =_xlfn.RANK.EQ(B50,$B$39:$B$66)+COUNTIF($B$39:$B$66,B50)-1 -> 22 | E50: =INDEX($A$39:$B$66,MATCH(ROW()-38,$D$39:$D$66,0),1) -> GIJÓN | F50: =LOOKUP(E50,$A$39:$A$66,$B$39:$B$66) -> 965284 | G50: =LOOKUP(E50,$A$39:$A$66,$C$39:$C$66) -> 909346
... A66: =A34 -> VILAGARCÍA | B66: =E34 -> 304282 | C66: =D34 -> 293923.05 | D66: =_xlfn.RANK.EQ(B66,$B$39:$B$66)+COUNTIF($B$39:$B$66,B66)-1 -> 19 | E66: =INDEX($A$39:$B$66,MATCH(ROW()-38,$D$39:$D$66,0),1) -> AVILÉS | F66: =LOOKUP(E66,$A$39:$A$66,$B$39:$B$66) -> 52 | G66: =LOOKUP(E66,$A$39:$A$66,$C$39:$C$66) -> 0

Sheet Pesca
F1: 5. PESCA (toneladas)
A5: Autoridad Portuaria | B5: ='Resumen general'!D6 -> Mes diciembre | D5: ='Resumen general'!F6 -> Acumulado desde enero | L5: ='Resumen general'!I4 -> Fecha: 29/10/2019
B6: ='Resumen general'!D7 -> 2017 | C6: ='Resumen general'!E7 -> 2018 | D6: ='Resumen general'!F7 -> 2017 | E6: ='Resumen general'!G7 -> 2018 | F6: Var. (%)
A7: A CORUÑA | B7: 2178 | C7: 2488 | D7: 51102.289 | E7: 42358.264 | F7: =((E7*100)/D7)-100 -> -17.110828
A8: ALICANTE | B8: 24 | C8: 28 | D8: 1668.957 | E8: 2005.872 | F8: =((E8*100)/D8)-100 -> 20.187159
A9: ALMERÍA | B9: 241 | C9: 283 | D9: 3465.653 | E9: 4263.563 | F9: =((E9*100)/D9)-100 -> 23.023367
A10: AVILÉS | B10: 664 | C10: 579 | D10: 13568.722 | E10: 12545.967 | F10: =((E10*100)/D10)-100 -> -7.5375927
A11: BAHÍA DE ALGECIRAS | B11: 31 | C11: 39 | D11: 1014.97 | E11: 878.58 | F11: =((E11*100)/D11)-100 -> -13.437836
A12: BAHÍA DE CÁDIZ | B12: 987 | C12: 1056 | D12: 16293.623 | E12: 17693.197 | F12: =((E12*100)/D12)-100 -> 8.589703
A13: BALEARES | B13: 118 | C13: 188 | D13: 3004.166 | E13: 2903.317 | F13: =((E13*100)/D13)-100 -> -3.3569716
A14: BARCELONA | B14: 25 | C14: 59 | D14: 2961.48 | E14: 3171.9987 | F14: =((E14*100)/D14)-100 -> 7.1085636
A15: BILBAO | B15: 0 | C15: 0 | D15: 0 | E15: 0 | F15: =((E15*100)/D15)-100 -> #DIV/0!
A16: CARTAGENA | B16: 28 | C16: 27 | D16: 517.271 | E16: 479.924 | F16: =((E16*100)/D16)-100 -> -7.2200065
A17: CASTELLÓN | B17: 98 | C17: 108 | D17: 4291.133 | E17: 5415.152 | F17: =((E17*100)/D17)-100 -> 26.193991
A18: CEUTA | B18: 0 | C18: 0 | D18: 27.902 | E18: 40.863 | F18: =((E18*100)/D18)-100 -> 46.451867
... A34: VILAGARCÍA | B34: 0 | C34: 0 | D34: 0 | E34: 0 | F34: =((E34*100)/D34)-100 -> #DIV/0!
A35: Total | B35: =SUM(B7:B34) -> 18660 | C35: =SUM(C7:C34) -> 18385 | D35: =SUM(D7:D34) -> 243073.37 | E35: =SUM(E7:E34) -> 224013.83 | F35: =((E35*100)/D35)-100 -> -7.841064
B38: =E6 -> 2018 | C38: =D6 -> 2017 | F38: =B38 -> 2018 | G38: =C38 -> 2017
A39: =A7 -> A CORUÑA | B39: =E7 -> 42358.264 | C39: =D7 -> 51102.289 | D39: =_xlfn.RANK.EQ(B39,$B$39:$B$66)+COUNTIF($B$39:$B$66,B39)-1 -> 2 | E39: =INDEX($A$39:$B$66,MATCH(ROW()-38,$D$39:$D$66,0),1) -> VIGO | F39: =LOOKUP(E39,$A$39:$A$66,$B$39:$B$66) -> 78168.629 | G39: =LOOKUP(E39,$A$39:$A$66,$C$39:$C$66) -> 89126.699
A40: =A8 -> ALICANTE | B40: =E8 -> 2005.872 | C40: =D8 -> 1668.957 | D40: =_xlfn.RANK.EQ(B40,$B$39:$B$66)+COUNTIF($B$39:$B$66,B40)-1 -> 15 | E40: =INDEX($A$39:$B$66,MATCH(ROW()-38,$D$39:$D$66,0),1) -> A CORUÑA | F40: =LOOKUP(E40,$A$39:$A$66,$B$39:$B$66) -> 42358.264 | G40: =LOOKUP(E40,$A$39:$A$66,$C$39:$C$66) -> 51102.289
A41: =A9 -> ALMERÍA | B41: =E9 -> 4263.563 | C41: =D9 -> 3465.653 | D41: =_xlfn.RANK.EQ(B41,$B$39:$B$66)+COUNTIF($B$39:$B$66,B41)-1 -> 10 | E41: =INDEX($A$39:$B$66,MATCH(ROW()-38,$D$39:$D$66,0),1) -> PASAIA | F41: =LOOKUP(E41,$A$39:$A$66,$B$39:$B$66) -> 24638.1 | G41: =LOOKUP(E41,$A$39:$A$66,$C$39:$C$66) -> 25988.819
A42: =A10 -> AVILÉS | B42: =E10 -> 12545.967 | C42: =D10 -> 13568.722 | D42: =_xlfn.RANK.EQ(B42,$B$39:$B$66)+COUNTIF($B$39:$B$66,B42)-1 -> 5 | E42: =INDEX($A$39:$B$66,MATCH(ROW()-38,$D$39:$D$66,0),1) -> BAHÍA DE CÁDIZ | F42: =LOOKUP(E42,$A$39:$A$66,$B$39:$B$66) -> 17693.197 | G42: =LOOKUP(E42,$A$39:$A$66,$C$39:$C$66) -> 16293.623
A43: =A11 -> BAHÍA DE ALGECIRAS | B43: =E11 -> 878.58 | C43: =D11 -> 1014.97 | D43: =_xlfn.RANK.EQ(B43,$B$39:$B$66)+COUNTIF($B$39:$B$66,B43)-1 -> 20 | E43: =INDEX($A$39:$B$66,MATCH(ROW()-38,$D$39:$D$66,0),1) -> AVILÉS | F43: =LOOKUP(E43,$A$39:$A$66,$B$39:$B$66) -> 12545.967 | G43: =LOOKUP(E43,$A$39:$A$66,$C$39:$C$66) -> 13568.722
A44: =A12 -> BAHÍA DE CÁDIZ | B44: =E12 -> 17693.197 | C44: =D12 -> 16293.623 | D44: =_xlfn.RANK.EQ(B44,$B$39:$B$66)+COUNTIF($B$39:$B$66,B44)-1 -> 4 | E44: =INDEX($A$39:$B$66,MATCH(ROW()-38,$D$39:$D$66,0),1) -> SANTA CRUZ DE TENERIFE | F44: =LOOKUP(E44,$A$39:$A$66,$B$39:$B$66) -> 5485.807 | G44: =LOOKUP(E44,$A$39:$A$66,$C$39:$C$66) -> 5921.679
A45: =A13 -> BALEARES | B45: =E13 -> 2903.317 | C45: =D13 -> 3004.166 | D45: =_xlfn.RANK.EQ(B45,$B$39:$B$66)+COUNTIF($B$39:$B$66,B45)-1 -> 13 | E45: =INDEX($A$39:$B$66,MATCH(ROW()-38,$D$39:$D$66,0),1) -> CASTELLÓN | F45: =LOOKUP(E45,$A$39:$A$66,$B$39:$B$66) -> 5415.152 | G45: =LOOKUP(E45,$A$39:$A$66,$C$39:$C$66) -> 4291.133
A46: =A14 -> BARCELONA | B46: =E14 -> 3171.9987 | C46: =D14 -> 2961.48 | D46: =_xlfn.RANK.EQ(B46,$B$39:$B$66)+COUNTIF($B$39:$B$66,B46)-1 -> 12 | E46: =INDEX($A$39:$B$66,MATCH(ROW()-38,$D$39:$D$66,0),1) -> GIJÓN | F46: =LOOKUP(E46,$A$39:$A$66,$B$39:$B$66) -> 5070.093 | G46: =LOOKUP(E46,$A$39:$A$66,$C$39:$C$66) -> 7364.836
A47: =A15 -> BILBAO | B47: =E15 -> 0 | C47: =D15 -> 0 | D47: =_xlfn.RANK.EQ(B47,$B$39:$B$66)+COUNTIF($B$39:$B$66,B47)-1 -> 28 | E47: =INDEX($A$39:$B$66,MATCH(ROW()-38,$D$39:$D$66,0),1) -> SANTANDER | F47: =LOOKUP(E47,$A$39:$A$66,$B$39:$B$66) -> 5069.545 | G47: =LOOKUP(E47,$A$39:$A$66,$C$39:$C$66) -> 4056.542
A48: =A16 -> CARTAGENA | B48: =E16 -> 479.924 | C48: =D16 -> 517.271 | D48: =_xlfn.RANK.EQ(B48,$B$39:$B$66)+COUNTIF($B$39:$B$66,B48)-1 -> 22 | E48: =INDEX($A$39:$B$66,MATCH(ROW()-38,$D$39:$D$66,0),1) -> ALMERÍA | F48: =LOOKUP(E48,$A$39:$A$66,$B$39:$B$66) -> 4263.563 | G48: =LOOKUP(E48,$A$39:$A$66,$C$39:$C$66) -> 3465.653
A49: =A17 -> CASTELLÓN | B49: =E17 -> 5415.152 | C49: =D17 -> 4291.133 | D49: =_xlfn.RANK.EQ(B49,$B$39:$B$66)+COUNTIF($B$39:$B$66,B49)-1 -> 7 | E49: =INDEX($A$39:$B$66,MATCH(ROW()-38,$D$39:$D$66,0),1) -> TARRAGONA | F49: =LOOKUP(E49,$A$39:$A$66,$B$39:$B$66) -> 3626.433 | G49: =LOOKUP(E49,$A$39:$A$66,$C$39:$C$66) -> 3669.412
A50: =A18 -> CEUTA | B50: =E18 -> 40.863 | C50: =D18 -> 27.902 | D50: =_xlfn.RANK.EQ(B50,$B$39:$B$66)+COUNTIF($B$39:$B$66,B50)-1 -> 24 | E50: =INDEX($A$39:$B$66,MATCH(ROW()-38,$D$39:$D$66,0),1) -> BARCELONA | F50: =LOOKUP(E50,$A$39:$A$66,$B$39:$B$66) -> 3171.9987 | G50: =LOOKUP(E50,$A$39:$A$66,$C$39:$C$66) -> 2961.48
... A66: =A34 -> VILAGARCÍA | B66: =E34 -> 0 | C66: =D34 -> 0 | D66: =_xlfn.RANK.EQ(B66,$B$39:$B$66)+COUNTIF($B$39:$B$66,B66)-1 -> 28 | E66: =INDEX($A$39:$B$66,MATCH(ROW()-38,$D$39:$D$66,0),1) -> BILBAO | F66: =LOOKUP(E66,$A$39:$A$66,$B$39:$B$66) -> 0 | G66: =LOOKUP(E66,$A$39:$A$66,$C$39:$C$66) -> 0

Sheet Avituallamiento
F1: 6. AVITUALLAMIENTO (toneladas)
A5: Autoridad Portuaria | B5: ='Resumen general'!D6 -> Mes diciembre | D5: ='Resumen general'!F6 -> Acumulado desde enero | L5: ='Resumen general'!I4 -> Fecha: 29/10/2019
B6: ='Resumen general'!D7 -> 2017 | C6: ='Resumen general'!E7 -> 2018 | D6: ='Resumen general'!F7 -> 2017 | E6: ='Resumen general'!G7 -> 2018 | F6: Var. (%)
A7: A CORUÑA | B7: 27045 | C7: 26117 | D7: 84165 | E7: 83873 | F7: =((E7*100)/D7)-100 -> -0.34693756
A8: ALICANTE | B8: 2042 | C8: 1427 | D8: 24296 | E8: 27809 | F8: =((E8*100)/D8)-100 -> 14.45917
A9: ALMERÍA | B9: 8400 | C9: 7379 | D9: 87420 | E9: 90959 | F9: =((E9*100)/D9)-100 -> 4.0482727
A10: AVILÉS | B10: 3139 | C10: 1022 | D10: 41484 | E10: 44753 | F10: =((E10*100)/D10)-100 -> 7.8801466
A11: BAHÍA DE ALGECIRAS | B11: 210454 | C11: 220957 | D11: 2833641 | E11: 2541866 | F11: =((E11*100)/D11)-100 -> -10.296823
A12: BAHÍA DE CÁDIZ | B12: 6351 | C12: 3144 | D12: 112165 | E12: 99158 | F12: =((E12*100)/D12)-100 -> -11.596309
A13: BALEARES | B13: 7655 | C13: 8417 | D13: 236555 | E13: 243907 | F13: =((E13*100)/D13)-100 -> 3.1079453
A14: BARCELONA | B14: 93192 | C14: 120441 | D14: 1293845.5 | E14: 1857961.2 | F14: =((E14*100)/D14)-100 -> 43.599928
A15: BILBAO | B15: 9116 | C15: 8212 | D15: 111692 | E15: 111691 | F15: =((E15*100)/D15)-100 -> -0.00089531927
A16: CARTAGENA | B16: 5412 | C16: 19005 | D16: 155335 | E16: 207922 | F16: =((E16*100)/D16)-100 -> 33.853929
A17: CASTELLÓN | B17: 1461 | C17: 967 | D17: 24058 | E17: 24455 | F17: =((E17*100)/D17)-100 -> 1.6501787
A18: CEUTA | B18: 65491 | C18: 55909 | D18: 664429 | E18: 736993 | F18: =((E18*100)/D18)-100 -> 10.921257
... A34: VILAGARCÍA | B34: 162 | C34: 464 | D34: 4207 | E34: 3729 | F34: =((E34*100)/D34)-100 -> -11.362016
A35: Total | B35: =SUM(B7:B34) -> 821424 | C35: =SUM(C7:C34) -> 842693 | D35: =SUM(D7:D34) -> 10119474 | E35: =SUM(E7:E34) -> 10295494 | F35: =((E35*100)/D35)-100 -> 1.7394248
B38: =E6 -> 2018 | C38: =D6 -> 2017 | F38: =B38 -> 2018 | G38: =C38 -> 2017
A39: =A7 -> A CORUÑA | B39: =E7 -> 83873 | C39: =D7 -> 84165 | D39: =_xlfn.RANK.EQ(B39,$B$39:$B$66)+COUNTIF($B$39:$B$66,B39)-1 -> 15 | E39: =INDEX($A$39:$B$66,MATCH(ROW()-38,$D$39:$D$66,0),1) -> LAS PALMAS | F39: =LOOKUP(E39,$A$39:$A$66,$B$39:$B$66) -> 2630374.4 | G39: =LOOKUP(E39,$A$39:$A$66,$C$39:$C$66) -> 2678808
A40: =A8 -> ALICANTE | B40: =E8 -> 27809 | C40: =D8 -> 24296 | D40: =_xlfn.RANK.EQ(B40,$B$39:$B$66)+COUNTIF($B$39:$B$66,B40)-1 -> 21 | E40: =INDEX($A$39:$B$66,MATCH(ROW()-38,$D$39:$D$66,0),1) -> BAHÍA DE ALGECIRAS | F40: =LOOKUP(E40,$A$39:$A$66,$B$39:$B$66) -> 2541866 | G40: =LOOKUP(E40,$A$39:$A$66,$C$39:$C$66) -> 2833641
A41: =A9 -> ALMERÍA | B41: =E9 -> 90959 | C41: =D9 -> 87420 | D41: =_xlfn.RANK.EQ(B41,$B$39:$B$66)+COUNTIF($B$39:$B$66,B41)-1 -> 14 | E41: =INDEX($A$39:$B$66,MATCH(ROW()-38,$D$39:$D$66,0),1) -> BARCELONA | F41: =LOOKUP(E41,$A$39:$A$66,$B$39:$B$66) -> 1857961.2 | G41: =LOOKUP(E41,$A$39:$A$66,$C$39:$C$66) -> 1293845.5
A42: =A10 -> AVILÉS | B42: =E10 -> 44753 | C42: =D10 -> 41484 | D42: =_xlfn.RANK.EQ(B42,$B$39:$B$66)+COUNTIF($B$39:$B$66,B42)-1 -> 17 | E42: =INDEX($A$39:$B$66,MATCH(ROW()-38,$D$39:$D$66,0),1) -> CEUTA | F42: =LOOKUP(E42,$A$39:$A$66,$B$39:$B$66) -> 736993 | G42: =LOOKUP(E42,$A$39:$A$66,$C$39:$C$66) -> 664429
A43: =A11 -> BAHÍA DE ALGECIRAS | B43: =E11 -> 2541866 | C43: =D11 -> 2833641 | D43: =_xlfn.RANK.EQ(B43,$B$39:$B$66)+COUNTIF($B$39:$B$66,B43)-1 -> 2 | E43: =INDEX($A$39:$B$66,MATCH(ROW()-38,$D$39:$D$66,0),1) -> SANTA CRUZ DE TENERIFE | F43: =LOOKUP(E43,$A$39:$A$66,$B$39:$B$66) -> 685587 | G43: =LOOKUP(E43,$A$39:$A$66,$C$39:$C$66) -> 725736
A44: =A12 -> BAHÍA DE CÁDIZ | B44: =E12 -> 99158 | C44: =D12 -> 112165 | D44: =_xlfn.RANK.EQ(B44,$B$39:$B$66)+COUNTIF($B$39:$B$66,B44)-1 -> 12 | E44: =INDEX($A$39:$B$66,MATCH(ROW()-38,$D$39:$D$66,0),1) -> BALEARES | F44: =LOOKUP(E44,$A$39:$A$66,$B$39:$B$66) -> 243907 | G44: =LOOKUP(E44,$A$39:$A$66,$C$39:$C$66) -> 236555
A45: =A13 -> BALEARES | B45: =E13 -> 243907 | C45: =D13 -> 236555 | D45: =_xlfn.RANK.EQ(B45,$B$39:$B$66)+COUNTIF($B$39:$B$66,B45)-1 -> 6 | E45: =INDEX($A$39:$B$66,MATCH(ROW()-38,$D$39:$D$66,0),1) -> CARTAGENA | F45: =LOOKUP(E45,$A$39:$A$66,$B$39:$B$66) -> 207922 | G45: =LOOKUP(E45,$A$39:$A$66,$C$39:$C$66) -> 155335
A46: =A14 -> BARCELONA | B46: =E14 -> 1857961.2 | C46: =D14 -> 1293845.5 | D46: =_xlfn.RANK.EQ(B46,$B$39:$B$66)+COUNTIF($B$39:$B$66,B46)-1 -> 3 | E46: =INDEX($A$39:$B$66,MATCH(ROW()-38,$D$39:$D$66,0),1) -> VALENCIA | F46: =LOOKUP(E46,$A$39:$A$66,$B$39:$B$66) -> 192697 | G46: =LOOKUP(E46,$A$39:$A$66,$C$39:$C$66) -> 308467
A47: =A15 -> BILBAO | B47: =E15 -> 111691 | C47: =D15 -> 111692 | D47: =_xlfn.RANK.EQ(B47,$B$39:$B$66)+COUNTIF($B$39:$B$66,B47)-1 -> 11 | E47: =INDEX($A$39:$B$66,MATCH(ROW()-38,$D$39:$D$66,0),1) -> HUELVA | F47: =LOOKUP(E47,$A$39:$A$66,$B$39:$B$66) -> 184903 | G47: =LOOKUP(E47,$A$39:$A$66,$C$39:$C$66) -> 147574
A48: =A16 -> CARTAGENA | B48: =E16 -> 207922 | C48: =D16 -> 155335 | D48: =_xlfn.RANK.EQ(B48,$B$39:$B$66)+COUNTIF($B$39:$B$66,B48)-1 -> 7 | E48: =INDEX($A$39:$B$66,MATCH(ROW()-38,$D$39:$D$66,0),1) -> VIGO | F48: =LOOKUP(E48,$A$39:$A$66,$B$39:$B$66) -> 148447.53 | G48: =LOOKUP(E48,$A$39:$A$66,$C$39:$C$66) -> 171736
A49: =A17 -> CASTELLÓN | B49: =E17 -> 24455 | C49: =D17 -> 24058 | D49: =_xlfn.RANK.EQ(B49,$B$39:$B$66)+COUNTIF($B$39:$B$66,B49)-1 -> 24 | E49: =INDEX($A$39:$B$66,MATCH(ROW()-38,$D$39:$D$66,0),1) -> BILBAO | F49: =LOOKUP(E49,$A$39:$A$66,$B$39:$B$66) -> 111691 | G49: =LOOKUP(E49,$A$39:$A$66,$C$39:$C$66) -> 111692
A50: =A18 -> CEUTA | B50: =E18 -> 736993 | C50: =D18 -> 664429 | D50: =_xlfn.RANK.EQ(B50,$B$39:$B$66)+COUNTIF($B$39:$B$66,B50)-1 -> 4 | E50: =INDEX($A$39:$B$66,MATCH(ROW()-38,$D$39:$D$66,0),1) -> BAHÍA DE CÁDIZ | F50: =LOOKUP(E50,$A$39:$A$66,$B$39:$B$66) -> 99158 | G50: =LOOKUP(E50,$A$39:$A$66,$C$39:$C$66) -> 112165
... A66: =A34 -> VILAGARCÍA | B66: =E34 -> 3729 | C66: =D34 -> 4207 | D66: =_xlfn.RANK.EQ(B66,$B$39:$B$66)+COUNTIF($B$39:$B$66,B66)-1 -> 28 | E66: =INDEX($A$39:$B$66,MATCH(ROW()-38,$D$39:$D$66,0),1) -> VILAGARCÍA | F66: =LOOKUP(E66,$A$39:$A$66,$B$39:$B$66) -> 3729 | G66: =LOOKUP(E66,$A$39:$A$66,$C$39:$C$66) -> 4207

Sheet Avi. combustibles
F1: 6.1. AVITUALLAMIENTO DE COMBUSTIBLES LÍQUIDOS
I2: (toneladas)
A5: Autoridad Portuaria | B5: ='Resumen general'!D6 -> Mes diciembre | D5: ='Resumen general'!F6 -> Acumulado desde enero | L5: ='Resumen general'!I4 -> Fecha: 29/10/2019
B6: ='Resumen general'!D7 -> 2017 | C6: ='Resumen general'!E7 -> 2018 | D6: ='Resumen general'!F7 -> 2017 | E6: ='Resumen general'!G7 -> 2018 | F6: Var. (%)
A7: A CORUÑA | B7: 2031 | C7: 2247 | D7: 34903 | E7: 32195 | F7: =((E7*100)/D7)-100 -> -7.7586454
A8: ALICANTE | B8: 338 | C8: 230 | D8: 3621 | E8: 4689 | F8: =((E8*100)/D8)-100 -> 29.494615
A9: ALMERÍA | B9: 3458 | C9: 3290 | D9: 40129 | E9: 44873 | F9: =((E9*100)/D9)-100 -> 11.821874
A10: AVILÉS | B10: 565 | C10: 0 | D10: 8685 | E10: 8920 | F10: =((E10*100)/D10)-100 -> 2.7058146
A11: BAHÍA DE ALGECIRAS | B11: 200224 | C11: 207672 | D11: 2653087 | E11: 2383455 | F11: =((E11*100)/D11)-100 -> -10.162954
A12: BAHÍA DE CÁDIZ | B12: 0 | C12: 0 | D12: 18207 | E12: 0 | F12: =((E12*100)/D12)-100 -> -100
A13: BALEARES | B13: 221 | C13: 275 | D13: 5358 | E13: 5854 | F13: =((E13*100)/D13)-100 -> 9.2571855
A14: BARCELONA | B14: 72471 | C14: 102378 | D14: 963326 | E14: 1492671.1 | F14: =((E14*100)/D14)-100 -> 54.949731
A15: BILBAO | B15: 5726 | C15: 4927 | D15: 67592 | E15: 69175 | F15: =((E15*100)/D15)-100 -> 2.3419931
A16: CARTAGENA | B16: 0 | C16: 819 | D16: 8602 | E16: 9359 | F16: =((E16*100)/D16)-100 -> 8.800279
A17: CASTELLÓN | B17: 0 | C17: 0 | D17: 0 | E17: 0 | F17: =((E17*100)/D17)-100 -> #DIV/0!
A18: CEUTA | B18: 62547 | C18: 54158 | D18: 639611 | E18: 715174 | F18: =((E18*100)/D18)-100 -> 11.813899
... A34: VILAGARCÍA | B34: 0 | C34: 94 | D34: 556 | E34: 604 | F34: =((E34*100)/D34)-100 -> 8.6330935
A35: Total | B35: =SUM(B7:B34) -> 646054 | C35: =SUM(C7:C34) -> 666147 | D35: =SUM(D7:D34) -> 7987162 | E35: =SUM(E7:E34) -> 8153155 | F35: =((E35*100)/D35)-100 -> 2.0782473
B38: =E6 -> 2018 | C38: =D6 -> 2017 | F38: =B38 -> 2018 | G38: =C38 -> 2017
A39: =A7 -> A CORUÑA | B39: =E7 -> 32195 | C39: =D7 -> 34903 | D39: =_xlfn.RANK.EQ(B39,$B$39:$B$66)+COUNTIF($B$39:$B$66,B39)-1 -> 12 | E39: =INDEX($A$39:$B$66,MATCH(ROW()-38,$D$39:$D$66,0),1) -> BAHÍA DE ALGECIRAS | F39: =LOOKUP(E39,$A$39:$A$66,$B$39:$B$66) -> 2383455 | G39: =LOOKUP(E39,$A$39:$A$66,$C$39:$C$66) -> 2653087
A40: =A8 -> ALICANTE | B40: =E8 -> 4689 | C40: =D8 -> 3621 | D40: =_xlfn.RANK.EQ(B40,$B$39:$B$66)+COUNTIF($B$39:$B$66,B40)-1 -> 24 | E40: =INDEX($A$39:$B$66,MATCH(ROW()-38,$D$39:$D$66,0),1) -> LAS PALMAS | F40: =LOOKUP(E40,$A$39:$A$66,$B$39:$B$66) -> 2336124.4 | G40: =LOOKUP(E40,$A$39:$A$66,$C$39:$C$66) -> 2381345
A41: =A9 -> ALMERÍA | B41: =E9 -> 44873 | C41: =D9 -> 40129 | D41: =_xlfn.RANK.EQ(B41,$B$39:$B$66)+COUNTIF($B$39:$B$66,B41)-1 -> 10 | E41: =INDEX($A$39:$B$66,MATCH(ROW()-38,$D$39:$D$66,0),1) -> BARCELONA | F41: =LOOKUP(E41,$A$39:$A$66,$B$39:$B$66) -> 1492671.1 | G41: =LOOKUP(E41,$A$39:$A$66,$C$39:$C$66) -> 963326
A42: =A10 -> AVILÉS | B42: =E10 -> 8920 | C42: =D10 -> 8685 | D42: =_xlfn.RANK.EQ(B42,$B$39:$B$66)+COUNTIF($B$39:$B$66,B42)-1 -> 20 | E42: =INDEX($A$39:$B$66,MATCH(ROW()-38,$D$39:$D$66,0),1) -> CEUTA | F42: =LOOKUP(E42,$A$39:$A$66,$B$39:$B$66) -> 715174 | G42: =LOOKUP(E42,$A$39:$A$66,$C$39:$C$66) -> 639611
A43: =A11 -> BAHÍA DE ALGECIRAS | B43: =E11 -> 2383455 | C43: =D11 -> 2653087 | D43: =_xlfn.RANK.EQ(B43,$B$39:$B$66)+COUNTIF($B$39:$B$66,B43)-1 -> 1 | E43: =INDEX($A$39:$B$66,MATCH(ROW()-38,$D$39:$D$66,0),1) -> SANTA CRUZ DE TENERIFE | F43: =LOOKUP(E43,$A$39:$A$66,$B$39:$B$66) -> 562603 | G43: =LOOKUP(E43,$A$39:$A$66,$C$39:$C$66) -> 550812
A44: =A12 -> BAHÍA DE CÁDIZ | B44: =E12 -> 0 | C44: =D12 -> 18207 | D44: =_xlfn.RANK.EQ(B44,$B$39:$B$66)+COUNTIF($B$39:$B$66,B44)-1 -> 28 | E44: =INDEX($A$39:$B$66,MATCH(ROW()-38,$D$39:$D$66,0),1) -> HUELVA | F44: =LOOKUP(E44,$A$39:$A$66,$B$39:$B$66) -> 163869 | G44: =LOOKUP(E44,$A$39:$A$66,$C$39:$C$66) -> 128427
A45: =A13 -> BALEARES | B45: =E13 -> 5854 | C45: =D13 -> 5358 | D45: =_xlfn.RANK.EQ(B45,$B$39:$B$66)+COUNTIF($B$39:$B$66,B45)-1 -> 23 | E45: =INDEX($A$39:$B$66,MATCH(ROW()-38,$D$39:$D$66,0),1) -> VALENCIA | F45: =LOOKUP(E45,$A$39:$A$66,$B$39:$B$66) -> 113866 | G45: =LOOKUP(E45,$A$39:$A$66,$C$39:$C$66) -> 226673
A46: =A14 -> BARCELONA | B46: =E14 -> 1492671.1 | C46: =D14 -> 963326 | D46: =_xlfn.RANK.EQ(B46,$B$39:$B$66)+COUNTIF($B$39:$B$66,B46)-1 -> 3 | E46: =INDEX($A$39:$B$66,MATCH(ROW()-38,$D$39:$D$66,0),1) -> BILBAO | F46: =LOOKUP(E46,$A$39:$A$66,$B$39:$B$66) -> 69175 | G46: =LOOKUP(E46,$A$39:$A$66,$C$39:$C$66) -> 67592
A47: =A15 -> BILBAO | B47: =E15 -> 69175 | C47: =D15 -> 67592 | D47: =_xlfn.RANK.EQ(B47,$B$39:$B$66)+COUNTIF($B$39:$B$66,B47)-1 -> 8 | E47: =INDEX($A$39:$B$66,MATCH(ROW()-38,$D$39:$D$66,0),1) -> VIGO | F47: =LOOKUP(E47,$A$39:$A$66,$B$39:$B$66) -> 67139.528 | G47: =LOOKUP(E47,$A$39:$A$66,$C$39:$C$66) -> 78723
A48: =A16 -> CARTAGENA | B48: =E16 -> 9359 | C48: =D16 -> 8602 | D48: =_xlfn.RANK.EQ(B48,$B$39:$B$66)+COUNTIF($B$39:$B$66,B48)-1 -> 18 | E48: =INDEX($A$39:$B$66,MATCH(ROW()-38,$D$39:$D$66,0),1) -> ALMERÍA | F48: =LOOKUP(E48,$A$39:$A$66,$B$39:$B$66) -> 44873 | G48: =LOOKUP(E48,$A$39:$A$66,$C$39:$C$66) -> 40129
A49: =A17 -> CASTELLÓN | B49: =E17 -> 0 | C49: =D17 -> 0 | D49: =_xlfn.RANK.EQ(B49,$B$39:$B$66)+COUNTIF($B$39:$B$66,B49)-1 -> 28 | E49: =INDEX($A$39:$B$66,MATCH(ROW()-38,$D$39:$D$66,0),1) -> MÁLAGA | F49: =LOOKUP(E49,$A$39:$A$66,$B$39:$B$66) -> 33105 | G49: =LOOKUP(E49,$A$39:$A$66,$C$39:$C$66) -> 41161
A50: =A18 -> CEUTA | B50: =E18 -> 715174 | C50: =D18 -> 639611 | D50: =_xlfn.RANK.EQ(B50,$B$39:$B$66)+COUNTIF($B$39:$B$66,B50)-1 -> 4 | E50: =INDEX($A$39:$B$66,MATCH(ROW()-38,$D$39:$D$66,0),1) -> A CORUÑA | F50: =LOOKUP(E50,$A$39:$A$66,$B$39:$B$66) -> 32195 | G50: =LOOKUP(E50,$A$39:$A$66,$C$39:$C$66) -> 34903
... A66: =A34 -> VILAGARCÍA | B66: =E34 -> 604 | C66: =D34 -> 556 | D66: =_xlfn.RANK.EQ(B66,$B$39:$B$66)+COUNTIF($B$39:$B$66,B66)-1 -> 25 | E66: =INDEX($A$39:$B$66,MATCH(ROW()-38,$D$39:$D$66,0),1) -> BAHÍA DE CÁDIZ | F66: =LOOKUP(E66,$A$39:$A$66,$B$39:$B$66) -> 0 | G66: =LOOKUP(E66,$A$39:$A$66,$C$39:$C$66) -> 18207

Sheet Tráfico interior
F1: 7. TRÁFICO INTERIOR (toneladas)
A5: Autoridad Portuaria | B5: ='Resumen general'!D6 -> Mes diciembre | D5: ='Resumen general'!F6 -> Acumulado desde enero | L5: ='Resumen general'!I4 -> Fecha: 29/10/2019
B6: ='Resumen general'!D7 -> 2017 | C6: ='Resumen general'!E7 -> 2018 | D6: ='Resumen general'!F7 -> 2017 | E6: ='Resumen general'!G7 -> 2018 | F6: Var. (%)
A7: A CORUÑA | B7: 28778 | C7: 14970 | D7: 303050 | E7: 285484 | F7: =((E7*100)/D7)-100 -> -5.7964032
A8: ALICANTE | B8: 0 | C8: 0 | D8: 28.22 | E8: 0 | F8: =((E8*100)/D8)-100 -> -100
A9: ALMERÍA | B9: 0 | C9: 0 | D9: 0 | E9: 0 | F9: =((E9*100)/D9)-100 -> #DIV/0!
A10: AVILÉS | B10: 0 | C10: 0 | D10: 0 | E10: 0 | F10: =((E10*100)/D10)-100 -> #DIV/0!
A11: BAHÍA DE ALGECIRAS | B11: 61776 | C11: 220076 | D11: 2390861 | E11: 2274355.3 | F11: =((E11*100)/D11)-100 -> -4.8729611
A12: BAHÍA DE CÁDIZ | B12: 0 | C12: 3 | D12: 0 | E12: 0 | F12: =((E12*100)/D12)-100 -> #DIV/0!
A13: BALEARES | B13: 62 | C13: 132 | D13: 1082 | E13: 0 | F13: =((E13*100)/D13)-100 -> -100
A14: BARCELONA | B14: 0 | C14: 0 | D14: 0 | E14: 0 | F14: =((E14*100)/D14)-100 -> #DIV/0!
A15: BILBAO | B15: 0 | C15: 0 | D15: 0 | E15: 220 | F15: =((E15*100)/D15)-100 -> #DIV/0!
A16: CARTAGENA | B16: 0 | C16: 0 | D16: 0 | E16: 0 | F16: =((E16*100)/D16)-100 -> #DIV/0!
A17: CASTELLÓN | B17: 0 | C17: 0 | D17: 0 | E17: 0 | F17: =((E17*100)/D17)-100 -> #DIV/0!
A18: CEUTA | B18: 0 | C18: 0 | D18: 0 | E18: 0 | F18: =((E18*100)/D18)-100 -> #DIV/0!
... A34: VILAGARCÍA | B34: 0 | C34: 0 | D34: 0 | E34: 0 | F34: =((E34*100)/D34)-100 -> #DIV/0!
A35: Total | B35: =SUM(B7:B34) -> 103744 | C35: =SUM(C7:C34) -> 236834 | D35: =SUM(D7:D34) -> 2722259.3 | E35: =SUM(E7:E34) -> 2579158.2 | F35: =((E35*100)/D35)-100 -> -5.2567012
A36: Incluye cargas, descargas, tránsitos y transbordos.
B38: =E6 -> 2018 | C38: =D6 -> 2017 | F38: =B38 -> 2018 | G38: =C38 -> 2017
A39: =A7 -> A CORUÑA | B39: =E7 -> 285484 | C39: =D7 -> 303050 | D39: =_xlfn.RANK.EQ(B39,$B$39:$B$66)+COUNTIF($B$39:$B$66,B39)-1 -> 2 | E39: =INDEX($A$39:$B$66,MATCH(ROW()-38,$D$39:$D$66,0),1) -> BAHÍA DE ALGECIRAS | F39: =LOOKUP(E39,$A$39:$A$66,$B$39:$B$66) -> 2274355.3 | G39: =LOOKUP(E39,$A$39:$A$66,$C$39:$C$66) -> 2390861
A40: =A8 -> ALICANTE | B40: =E8 -> 0 | C40: =D8 -> 28.22 | D40: =_xlfn.RANK.EQ(B40,$B$39:$B$66)+COUNTIF($B$39:$B$66,B40)-1 -> 28 | E40: =INDEX($A$39:$B$66,MATCH(ROW()-38,$D$39:$D$66,0),1) -> A CORUÑA | F40: =LOOKUP(E40,$A$39:$A$66,$B$39:$B$66) -> 285484 | G40: =LOOKUP(E40,$A$39:$A$66,$C$39:$C$66) -> 303050
A41: =A9 -> ALMERÍA | B41: =E9 -> 0 | C41: =D9 -> 0 | D41: =_xlfn.RANK.EQ(B41,$B$39:$B$66)+COUNTIF($B$39:$B$66,B41)-1 -> 28 | E41: =INDEX($A$39:$B$66,MATCH(ROW()-38,$D$39:$D$66,0),1) -> HUELVA | F41: =LOOKUP(E41,$A$39:$A$66,$B$39:$B$66) -> 12974.25 | G41: =LOOKUP(E41,$A$39:$A$66,$C$39:$C$66) -> 5616.04
A42: =A10 -> AVILÉS | B42: =E10 -> 0 | C42: =D10 -> 0 | D42: =_xlfn.RANK.EQ(B42,$B$39:$B$66)+COUNTIF($B$39:$B$66,B42)-1 -> 28 | E42: =INDEX($A$39:$B$66,MATCH(ROW()-38,$D$39:$D$66,0),1) -> FERROL-SAN CIBRAO | F42: =LOOKUP(E42,$A$39:$A$66,$B$39:$B$66) -> 4818.72 | G42: =LOOKUP(E42,$A$39:$A$66,$C$39:$C$66) -> 15354.02
A43: =A11 -> BAHÍA DE ALGECIRAS | B43: =E11 -> 2274355.3 | C43: =D11 -> 2390861 | D43: =_xlfn.RANK.EQ(B43,$B$39:$B$66)+COUNTIF($B$39:$B$66,B43)-1 -> 1 | E43: =INDEX($A$39:$B$66,MATCH(ROW()-38,$D$39:$D$66,0),1) -> GIJÓN | F43: =LOOKUP(E43,$A$39:$A$66,$B$39:$B$66) -> 800 | G43: =LOOKUP(E43,$A$39:$A$66,$C$39:$C$66) -> 8
A44: =A12 -> BAHÍA DE CÁDIZ | B44: =E12 -> 0 | C44: =D12 -> 0 | D44: =_xlfn.RANK.EQ(B44,$B$39:$B$66)+COUNTIF($B$39:$B$66,B44)-1 -> 28 | E44: =INDEX($A$39:$B$66,MATCH(ROW()-38,$D$39:$D$66,0),1) -> SANTA CRUZ DE TENERIFE | F44: =LOOKUP(E44,$A$39:$A$66,$B$39:$B$66) -> 498 | G44: =LOOKUP(E44,$A$39:$A$66,$C$39:$C$66) -> 656
A45: =A13 -> BALEARES | B45: =E13 -> 0 | C45: =D13 -> 1082 | D45: =_xlfn.RANK.EQ(B45,$B$39:$B$66)+COUNTIF($B$39:$B$66,B45)-1 -> 28 | E45: =INDEX($A$39:$B$66,MATCH(ROW()-38,$D$39:$D$66,0),1) -> BILBAO | F45: =LOOKUP(E45,$A$39:$A$66,$B$39:$B$66) -> 220 | G45: =LOOKUP(E45,$A$39:$A$66,$C$39:$C$66) -> 0
A46: =A14 -> BARCELONA | B46: =E14 -> 0 | C46: =D14 -> 0 | D46: =_xlfn.RANK.EQ(B46,$B$39:$B$66)+COUNTIF($B$39:$B$66,B46)-1 -> 28 | E46: =INDEX($A$39:$B$66,MATCH(ROW()-38,$D$39:$D$66,0),1) -> LAS PALMAS | F46: =LOOKUP(E46,$A$39:$A$66,$B$39:$B$66) -> 8 | G46: =LOOKUP(E46,$A$39:$A$66,$C$39:$C$66) -> 0
A47: =A15 -> BILBAO | B47: =E15 -> 220 | C47: =D15 -> 0 | D47: =_xlfn.RANK.EQ(B47,$B$39:$B$66)+COUNTIF($B$39:$B$66,B47)-1 -> 7 | E47: =INDEX($A$39:$B$66,MATCH(ROW()-38,$D$39:$D$66,0),1) -> #N/A | F47: =LOOKUP(E47,$A$39:$A$66,$B$39:$B$66) -> #N/A | G47: =LOOKUP(E47,$A$39:$A$66,$C$39:$C$66) -> #N/A
A48: =A16 -> CARTAGENA | B48: =E16 -> 0 | C48: =D16 -> 0 | D48: =_xlfn.RANK.EQ(B48,$B$39:$B$66)+COUNTIF($B$39:$B$66,B48)-1 -> 28 | E48: MELILLA | F48: =LOOKUP(E48,$A$39:$A$66,$B$39:$B$66) -> 0 | G48: =LOOKUP(E48,$A$39:$A$66,$C$39:$C$66) -> 0
A49: =A17 -> CASTELLÓN | B49: =E17 -> 0 | C49: =D17 -> 0 | D49: =_xlfn.RANK.EQ(B49,$B$39:$B$66)+COUNTIF($B$39:$B$66,B49)-1 -> 28 | E49: =INDEX($A$39:$B$66,MATCH(ROW()-38,$D$39:$D$66,0),1) -> #N/A | F49: =LOOKUP(E49,$A$39:$A$66,$B$39:$B$66) -> #N/A | G49: =LOOKUP(E49,$A$39:$A$66,$C$39:$C$66) -> #N/A
A50: =A18 -> CEUTA | B50: =E18 -> 0 | C50: =D18 -> 0 | D50: =_xlfn.RANK.EQ(B50,$B$39:$B$66)+COUNTIF($B$39:$B$66,B50)-1 -> 28 | E50: =INDEX($A$39:$B$66,MATCH(ROW()-38,$D$39:$D$66,0),1) -> #N/A | F50: =LOOKUP(E50,$A$39:$A$66,$B$39:$B$66) -> #N/A | G50: =LOOKUP(E50,$A$39:$A$66,$C$39:$C$66) -> #N/A
A51: =A19 -> FERROL-SAN CIBRAO | B51: =E19 -> 4818.72 | C51: =D19 -> 15354.02 | D51: =_xlfn.RANK.EQ(B51,$B$39:$B$66)+COUNTIF($B$39:$B$66,B51)-1 -> 4 | E51: =INDEX($A$39:$B$66,MATCH(ROW()-38,$D$39:$D$66,0),1) -> #N/A | F51: =LOOKUP(E51,$A$39:$A$66,$B$39:$B$66) -> #N/A | G51: =LOOKUP(E51,$A$39:$A$66,$C$39:$C$66) -> #N/A
A52: =A20 -> GIJÓN | B52: =E20 -> 800 | C52: =D20 -> 8 | D52: =_xlfn.RANK.EQ(B52,$B$39:$B$66)+COUNTIF($B$39:$B$66,B52)-1 -> 5 | E52: =INDEX($A$39:$B$66,MATCH(ROW()-38,$D$39:$D$66,0),1) -> #N/A | F52: =LOOKUP(E52,$A$39:$A$66,$B$39:$B$66) -> #N/A | G52: =LOOKUP(E52,$A$39:$A$66,$C$39:$C$66) -> #N/A
A53: =A21 -> HUELVA | B53: =E21 -> 12974.25 | C53: =D21 -> 5616.04 | D53: =_xlfn.RANK.EQ(B53,$B$39:$B$66)+COUNTIF($B$39:$B$66,B53)-1 -> 3 | E53: =INDEX($A$39:$B$66,MATCH(ROW()-38,$D$39:$D$66,0),1) -> #N/A | F53: =LOOKUP(E53,$A$39:$A$66,$B$39:$B$66) -> #N/A | G53: =LOOKUP(E53,$A$39:$A$66,$C$39:$C$66) -> #N/A
A54: =A22 -> LAS PALMAS | B54: =E22 -> 8 | C54: =D22 -> 0 | D54: =_xlfn.RANK.EQ(B54,$B$39:$B$66)+COUNTIF($B$39:$B$66,B54)-1 -> 8 | E54: =INDEX($A$39:$B$66,MATCH(ROW()-38,$D$39:$D$66,0),1) -> #N/A | F54: =LOOKUP(E54,$A$39:$A$66,$B$39:$B$66) -> #N/A | G54: =LOOKUP(E54,$A$39:$A$66,$C$39:$C$66) -> #N/A
A55: =A23 -> MÁLAGA | B55: =E23 -> 0 | C55: =D23 -> 0 | D55: =_xlfn.RANK.EQ(B55,$B$39:$B$66)+COUNTIF($B$39:$B$66,B55)-1 -> 28 | E55: =INDEX($A$39:$B$66,MATCH(ROW()-38,$D$39:$D$66,0),1) -> #N/A | F55: =LOOKUP(E55,$A$39:$A$66,$B$39:$B$66) -> #N/A | G55: =LOOKUP(E55,$A$39:$A$66,$C$39:$C$66) -> #N/A
A56: =A24 -> MARÍN Y RÍA DE PONTEVEDRA | B56: =E24 -> 0 | C56: =D24 -> 0 | D56: =_xlfn.RANK.EQ(B56,$B$39:$B$66)+COUNTIF($B$39:$B$66,B56)-1 -> 28 | E56: =INDEX($A$39:$B$66,MATCH(ROW()-38,$D$39:$D$66,0),1) -> #N/A | F56: =LOOKUP(E56,$A$39:$A$66,$B$39:$B$66) -> #N/A | G56: =LOOKUP(E56,$A$39:$A$66,$C$39:$C$66) -> #N/A
A57: =A25 -> MELILLA | B57: =E25 -> 0 | C57: =D25 -> 0 | D57: =_xlfn.RANK.EQ(B57,$B$39:$B$66)+COUNTIF($B$39:$B$66,B57)-1 -> 28 | E57: =INDEX($A$39:$B$66,MATCH(ROW()-38,$D$39:$D$66,0),1) -> #N/A | F57: =LOOKUP(E57,$A$39:$A$66,$B$39:$B$66) -> #N/A | G57: =LOOKUP(E57,$A$39:$A$66,$C$39:$C$66) -> #N/A
A58: =A26 -> MOTRIL | B58: =E26 -> 0 | C58: =D26 -> 0 | D58: =_xlfn.RANK.EQ(B58,$B$39:$B$66)+COUNTIF($B$39:$B$66,B58)-1 -> 28 | E58: =INDEX($A$39:$B$66,MATCH(ROW()-38,$D$39:$D$66,0),1) -> #N/A | F58: =LOOKUP(E58,$A$39:$A$66,$B$39:$B$66) -> #N/A | G58: =LOOKUP(E58,$A$39:$A$66,$C$39:$C$66) -> #N/A
A59: =A27 -> PASAIA | B59: =E27 -> 0 | C59: =D27 -> 0 | D59: =_xlfn.RANK.EQ(B59,$B$39:$B$66)+COUNTIF($B$39:$B$66,B59)-1 -> 28 | E59: =INDEX($A$39:$B$66,MATCH(ROW()-38,$D$39:$D$66,0),1) -> #N/A | F59: =LOOKUP(E59,$A$39:$A$66,$B$39:$B$66) -> #N/A | G59: =LOOKUP(E59,$A$39:$A$66,$C$39:$C$66) -> #N/A
A60: =A28 -> SANTA CRUZ DE TENERIFE | B60: =E28 -> 498 | C60: =D28 -> 656 | D60: =_xlfn.RANK.EQ(B60,$B$39:$B$66)+COUNTIF($B$39:$B$66,B60)-1 -> 6 | E60: =INDEX($A$39:$B$66,MATCH(ROW()-38,$D$39:$D$66,0),1) -> #N/A | F60: =LOOKUP(E60,$A$39:$A$66,$B$39:$B$66) -> #N/A | G60: =LOOKUP(E60,$A$39:$A$66,$C$39:$C$66) -> #N/A
... A66: =A34 -> VILAGARCÍA | B66: =E34 -> 0 | C66: =D34 -> 0 | D66: =_xlfn.RANK.EQ(B66,$B$39:$B$66)+COUNTIF($B$39:$B$66,B66)-1 -> 28 | E66: =INDEX($A$39:$B$66,MATCH(ROW()-38,$D$39:$D$66,0),1) -> ALICANTE | F66: =LOOKUP(E66,$A$39:$A$66,$B$39:$B$66) -> 0 | G66: =LOOKUP(E66,$A$39:$A$66,$C$39:$C$66) -> 28.22

Sheet Mercancías tránsito
F1: 8. MERCANCÍAS EN TRÁNSITO (toneladas)
A5: Autoridad Portuaria | B5: ='Resumen general'!D6 -> Mes diciembre | D5: ='Resumen general'!F6 -> Acumulado desde enero | L5: ='Resumen general'!I4 -> Fecha: 29/10/2019
B6: ='Resumen general'!D7 -> 2017 | C6: ='Resumen general'!E7 -> 2018 | D6: ='Resumen general'!F7 -> 2017 | E6: ='Resumen general'!G7 -> 2018 | F6: Var. (%)
A7: A CORUÑA | B7: 0 | C7: 5403 | D7: 0 | E7: 14482 | F7: =((E7*100)/D7)-100 -> #DIV/0!
A8: ALICANTE | B8: 15662 | C8: 1433 | D8: 42828.93 | E8: 11333.6 | F8: =((E8*100)/D8)-100 -> -73.537513
A9: ALMERÍA | B9: 0 | C9: 0 | D9: 190 | E9: 0 | F9: =((E9*100)/D9)-100 -> -100
A10: AVILÉS | B10: 0 | C10: 5226 | D10: 51638.03 | E10: 52007 | F10: =((E10*100)/D10)-100 -> 0.71453152
A11: BAHÍA DE ALGECIRAS | B11: 5356921 | C11: 5712626 | D11: 65136337 | E11: 69737890 | F11: =((E11*100)/D11)-100 -> 7.0644941
A12: BAHÍA DE CÁDIZ | B12: 42782 | C12: 43321 | D12: 547374 | E12: 665863 | F12: =((E12*100)/D12)-100 -> 21.646808
A13: BALEARES | B13: 6754 | C13: 424 | D13: 106748 | E13: 6069 | F13: =((E13*100)/D13)-100 -> -94.314648
A14: BARCELONA | B14: 1692311 | C14: 2028651 | D14: 18172770 | E14: 22325353 | F14: =((E14*100)/D14)-100 -> 22.85058
A15: BILBAO | B15: 69238 | C15: 1482 | D15: 103532.8 | E15: 26224 | F15: =((E15*100)/D15)-100 -> -74.670829
A16: CARTAGENA | B16: 0 | C16: 22 | D16: 0 | E16: 302 | F16: =((E16*100)/D16)-100 -> #DIV/0!
A17: CASTELLÓN | B17: 5615 | C17: 9304 | D17: 498967 | E17: 90157 | F17: =((E17*100)/D17)-100 -> -81.93127
A18: CEUTA | B18: 0 | C18: 0 | D18: 0 | E18: 1675 | F18: =((E18*100)/D18)-100 -> #DIV/0!
... A34: VILAGARCÍA | B34: 4506 | C34: 50 | D34: 39213.1 | E34: 178 | F34: =((E34*100)/D34)-100 -> -99.54607
A35: Total | B35: =SUM(B7:B34) -> 11501467 | C35: =SUM(C7:C34) -> 13089549 | D35: =SUM(D7:D34) -> 1.3732969e+08 | E35: =SUM(E7:E34) -> 1.4808752e+08 | F35: =((E35*100)/D35)-100 -> 7.8335814
A36: No incluye transbordos.
B38: =E6 -> 2018 | C38: =D6 -> 2017 | F38: =B38 -> 2018 | G38: =C38 -> 2017
A39: =A7 -> A CORUÑA | B39: =E7 -> 14482 | C39: =D7 -> 0 | D39: =_xlfn.RANK.EQ(B39,$B$39:$B$66)+COUNTIF($B$39:$B$66,B39)-1 -> 17 | E39: =INDEX($A$39:$B$66,MATCH(ROW()-38,$D$39:$D$66,0),1) -> BAHÍA DE ALGECIRAS | F39: =LOOKUP(E39,$A$39:$A$66,$B$39:$B$66) -> 69737890 | G39: =LOOKUP(E39,$A$39:$A$66,$C$39:$C$66) -> 65136337
A40: =A8 -> ALICANTE | B40: =E8 -> 11333.6 | C40: =D8 -> 42828.93 | D40: =_xlfn.RANK.EQ(B40,$B$39:$B$66)+COUNTIF($B$39:$B$66,B40)-1 -> 20 | E40: =INDEX($A$39:$B$66,MATCH(ROW()-38,$D$39:$D$66,0),1) -> VALENCIA | F40: =LOOKUP(E40,$A$39:$A$66,$B$39:$B$66) -> 35313050 | G40: =LOOKUP(E40,$A$39:$A$66,$C$39:$C$66) -> 34157135
A41: =A9 -> ALMERÍA | B41: =E9 -> 0 | C41: =D9 -> 190 | D41: =_xlfn.RANK.EQ(B41,$B$39:$B$66)+COUNTIF($B$39:$B$66,B41)-1 -> 28 | E41: =INDEX($A$39:$B$66,MATCH(ROW()-38,$D$39:$D$66,0),1) -> BARCELONA | F41: =LOOKUP(E41,$A$39:$A$66,$B$39:$B$66) -> 22325353 | G41: =LOOKUP(E41,$A$39:$A$66,$C$39:$C$66) -> 18172770
A42: =A10 -> AVILÉS | B42: =E10 -> 52007 | C42: =D10 -> 51638.03 | D42: =_xlfn.RANK.EQ(B42,$B$39:$B$66)+COUNTIF($B$39:$B$66,B42)-1 -> 13 | E42: =INDEX($A$39:$B$66,MATCH(ROW()-38,$D$39:$D$66,0),1) -> LAS PALMAS | F42: =LOOKUP(E42,$A$39:$A$66,$B$39:$B$66) -> 11013891 | G42: =LOOKUP(E42,$A$39:$A$66,$C$39:$C$66) -> 10910910
A43: =A11 -> BAHÍA DE ALGECIRAS | B43: =E11 -> 69737890 | C43: =D11 -> 65136337 | D43: =_xlfn.RANK.EQ(B43,$B$39:$B$66)+COUNTIF($B$39:$B$66,B43)-1 -> 1 | E43: =INDEX($A$39:$B$66,MATCH(ROW()-38,$D$39:$D$66,0),1) -> HUELVA | F43: =LOOKUP(E43,$A$39:$A$66,$B$39:$B$66) -> 4579905.5 | G43: =LOOKUP(E43,$A$39:$A$66,$C$39:$C$66) -> 2873885.2
A44: =A12 -> BAHÍA DE CÁDIZ | B44: =E12 -> 665863 | C44: =D12 -> 547374 | D44: =_xlfn.RANK.EQ(B44,$B$39:$B$66)+COUNTIF($B$39:$B$66,B44)-1 -> 7 | E44: =INDEX($A$39:$B$66,MATCH(ROW()-38,$D$39:$D$66,0),1) -> TARRAGONA | F44: =LOOKUP(E44,$A$39:$A$66,$B$39:$B$66) -> 2668018.5 | G44: =LOOKUP(E44,$A$39:$A$66,$C$39:$C$66) -> 3248634
A45: =A13 -> BALEARES | B45: =E13 -> 6069 | C45: =D13 -> 106748 | D45: =_xlfn.RANK.EQ(B45,$B$39:$B$66)+COUNTIF($B$39:$B$66,B45)-1 -> 21 | E45: =INDEX($A$39:$B$66,MATCH(ROW()-38,$D$39:$D$66,0),1) -> BAHÍA DE CÁDIZ | F45: =LOOKUP(E45,$A$39:$A$66,$B$39:$B$66) -> 665863 | G45: =LOOKUP(E45,$A$39:$A$66,$C$39:$C$66) -> 547374
A46: =A14 -> BARCELONA | B46: =E14 -> 22325353 | C46: =D14 -> 18172770 | D46: =_xlfn.RANK.EQ(B46,$B$39:$B$66)+COUNTIF($B$39:$B$66,B46)-1 -> 3 | E46: =INDEX($A$39:$B$66,MATCH(ROW()-38,$D$39:$D$66,0),1) -> MÁLAGA | F46: =LOOKUP(E46,$A$39:$A$66,$B$39:$B$66) -> 567839.46 | G46: =LOOKUP(E46,$A$39:$A$66,$C$39:$C$66) -> 188143.85
A47: =A15 -> BILBAO | B47: =E15 -> 26224 | C47: =D15 -> 103532.8 | D47: =_xlfn.RANK.EQ(B47,$B$39:$B$66)+COUNTIF($B$39:$B$66,B47)-1 -> 15 | E47: =INDEX($A$39:$B$66,MATCH(ROW()-38,$D$39:$D$66,0),1) -> SANTA CRUZ DE TENERIFE | F47: =LOOKUP(E47,$A$39:$A$66,$B$39:$B$66) -> 529094 | G47: =LOOKUP(E47,$A$39:$A$66,$C$39:$C$66) -> 652569
A48: =A16 -> CARTAGENA | B48: =E16 -> 302 | C48: =D16 -> 0 | D48: =_xlfn.RANK.EQ(B48,$B$39:$B$66)+COUNTIF($B$39:$B$66,B48)-1 -> 23 | E48: =INDEX($A$39:$B$66,MATCH(ROW()-38,$D$39:$D$66,0),1) -> VIGO | F48: =LOOKUP(E48,$A$39:$A$66,$B$39:$B$66) -> 244720.3 | G48: =LOOKUP(E48,$A$39:$A$66,$C$39:$C$66) -> 250818
A49: =A17 -> CASTELLÓN | B49: =E17 -> 90157 | C49: =D17 -> 498967 | D49: =_xlfn.RANK.EQ(B49,$B$39:$B$66)+COUNTIF($B$39:$B$66,B49)-1 -> 12 | E49: =INDEX($A$39:$B$66,MATCH(ROW()-38,$D$39:$D$66,0),1) -> GIJÓN | F49: =LOOKUP(E49,$A$39:$A$66,$B$39:$B$66) -> 152751 | G49: =LOOKUP(E49,$A$39:$A$66,$C$39:$C$66) -> 167554
A50: =A18 -> CEUTA | B50: =E18 -> 1675 | C50: =D18 -> 0 | D50: =_xlfn.RANK.EQ(B50,$B$39:$B$66)+COUNTIF($B$39:$B$66,B50)-1 -> 22 | E50: =INDEX($A$39:$B$66,MATCH(ROW()-38,$D$39:$D$66,0),1) -> CASTELLÓN | F50: =LOOKUP(E50,$A$39:$A$66,$B$39:$B$66) -> 90157 | G50: =LOOKUP(E50,$A$39:$A$66,$C$39:$C$66) -> 498967
... A66: =A34 -> VILAGARCÍA | B66: =E34 -> 178 | C66: =D34 -> 39213.1 | D66: =_xlfn.RANK.EQ(B66,$B$39:$B$66)+COUNTIF($B$39:$B$66,B66)-1 -> 24 | E66: =INDEX($A$39:$B$66,MATCH(ROW()-38,$D$39:$D$66,0),1) -> ALMERÍA | F66: =LOOKUP(E66,$A$39:$A$66,$B$39:$B$66) -> 0 | G66: =LOOKUP(E66,$A$39:$A$66,$C$39:$C$66) -> 190

Sheet Mercan. contene. tránsito
F1: 8.1. MERCANCÍAS EN CONTENEDORES EN TRÁNSITO (toneladas)
A5: Autoridad Portuaria | B5: ='Resumen general'!D6 -> Mes diciembre | D5: ='Resumen general'!F6 -> Acumulado desde enero | L5: ='Resumen general'!I4 -> Fecha: 29/10/2019
B6: ='Resumen general'!D7 -> 2017 | C6: ='Resumen general'!E7 -> 2018 | D6: ='Resumen general'!F7 -> 2017 | E6: ='Resumen general'!G7 -> 2018 | F6: Var. (%)
A7: A CORUÑA | B7: 0 | C7: 0 | D7: 0 | E7: 0 | F7: =((E7*100)/D7)-100 -> #DIV/0!
A8: ALICANTE | B8: 15662 | C8: 1433 | D8: 0 | E8: 11333.6 | F8: =((E8*100)/D8)-100 -> #DIV/0!
A9: ALMERÍA | B9: 0 | C9: 0 | D9: 0 | E9: 0 | F9: =((E9*100)/D9)-100 -> #DIV/0!
A10: AVILÉS | B10: 0 | C10: 0 | D10: 0 | E10: 0 | F10: =((E10*100)/D10)-100 -> #DIV/0!
A11: BAHÍA DE ALGECIRAS | B11: 4447742 | C11: 4345279 | D11: 52862527 | E11: 55288011 | F11: =((E11*100)/D11)-100 -> 4.5882857
A12: BAHÍA DE CÁDIZ | B12: 0 | C12: 0 | D12: 43341 | E12: 6582 | F12: =((E12*100)/D12)-100 -> -84.813456
A13: BALEARES | B13: 37 | C13: 0 | D13: 3151.4 | E13: 179.2 | F13: =((E13*100)/D13)-100 -> -94.313638
A14: BARCELONA | B14: 1194539 | C14: 1458986 | D14: 12475170 | E14: 16642509 | F14: =((E14*100)/D14)-100 -> 33.40507
A15: BILBAO | B15: 2074 | C15: 1482 | D15: 36015 | E15: 20867 | F15: =((E15*100)/D15)-100 -> -42.060253
A16: CARTAGENA | B16: 0 | C16: 22 | D16: 0 | E16: 300 | F16: =((E16*100)/D16)-100 -> #DIV/0!
A17: CASTELLÓN | B17: 5615 | C17: 9304 | D17: 492914 | E17: 89925 | F17: =((E17*100)/D17)-100 -> -81.756452
A18: CEUTA | B18: 0 | C18: 0 | D18: 0 | E18: 1248 | F18: =((E18*100)/D18)-100 -> #DIV/0!
... A34: VILAGARCÍA | B34: 0 | C34: 50 | D34: 36.3 | E34: 178 | F34: =((E34*100)/D34)-100 -> 390.35813
A35: Total | B35: =SUM(B7:B34) -> 8967232 | C35: =SUM(C7:C34) -> 9759442 | D35: =SUM(D7:D34) -> 1.0901849e+08 | E35: =SUM(E7:E34) -> 1.1597859e+08 | F35: =((E35*100)/D35)-100 -> 6.3843382
A36: No incluye transbordos.
B38: =E6 -> 2018 | C38: =D6 -> 2017 | F38: =B38 -> 2018 | G38: =C38 -> 2017
A39: =A7 -> A CORUÑA | B39: =E7 -> 0 | C39: =D7 -> 0 | D39: =_xlfn.RANK.EQ(B39,$B$39:$B$66)+COUNTIF($B$39:$B$66,B39)-1 -> 28 | E39: =INDEX($A$39:$B$66,MATCH(ROW()-38,$D$39:$D$66,0),1) -> BAHÍA DE ALGECIRAS | F39: =LOOKUP(E39,$A$39:$A$66,$B$39:$B$66) -> 55288011 | G39: =LOOKUP(E39,$A$39:$A$66,$C$39:$C$66) -> 52862527
A40: =A8 -> ALICANTE | B40: =E8 -> 11333.6 | C40: =D8 -> 0 | D40: =_xlfn.RANK.EQ(B40,$B$39:$B$66)+COUNTIF($B$39:$B$66,B40)-1 -> 12 | E40: =INDEX($A$39:$B$66,MATCH(ROW()-38,$D$39:$D$66,0),1) -> VALENCIA | F40: =LOOKUP(E40,$A$39:$A$66,$B$39:$B$66) -> 34704310 | G40: =LOOKUP(E40,$A$39:$A$66,$C$39:$C$66) -> 33521539
A41: =A9 -> ALMERÍA | B41: =E9 -> 0 | C41: =D9 -> 0 | D41: =_xlfn.RANK.EQ(B41,$B$39:$B$66)+COUNTIF($B$39:$B$66,B41)-1 -> 28 | E41: =INDEX($A$39:$B$66,MATCH(ROW()-38,$D$39:$D$66,0),1) -> BARCELONA | F41: =LOOKUP(E41,$A$39:$A$66,$B$39:$B$66) -> 16642509 | G41: =LOOKUP(E41,$A$39:$A$66,$C$39:$C$66) -> 12475170
A42: =A10 -> AVILÉS | B42: =E10 -> 0 | C42: =D10 -> 0 | D42: =_xlfn.RANK.EQ(B42,$B$39:$B$66)+COUNTIF($B$39:$B$66,B42)-1 -> 28 | E42: =INDEX($A$39:$B$66,MATCH(ROW()-38,$D$39:$D$66,0),1) -> LAS PALMAS | F42: =LOOKUP(E42,$A$39:$A$66,$B$39:$B$66) -> 7914994 | G42: =LOOKUP(E42,$A$39:$A$66,$C$39:$C$66) -> 8461487.4
A43: =A11 -> BAHÍA DE ALGECIRAS | B43: =E11 -> 55288011 | C43: =D11 -> 52862527 | D43: =_xlfn.RANK.EQ(B43,$B$39:$B$66)+COUNTIF($B$39:$B$66,B43)-1 -> 1 | E43: =INDEX($A$39:$B$66,MATCH(ROW()-38,$D$39:$D$66,0),1) -> MÁLAGA | F43: =LOOKUP(E43,$A$39:$A$66,$B$39:$B$66) -> 549180.33 | G43: =LOOKUP(E43,$A$39:$A$66,$C$39:$C$66) -> 178892.57
A44: =A12 -> BAHÍA DE CÁDIZ | B44: =E12 -> 6582 | C44: =D12 -> 43341 | D44: =_xlfn.RANK.EQ(B44,$B$39:$B$66)+COUNTIF($B$39:$B$66,B44)-1 -> 13 | E44: =INDEX($A$39:$B$66,MATCH(ROW()-38,$D$39:$D$66,0),1) -> SANTA CRUZ DE TENERIFE | F44: =LOOKUP(E44,$A$39:$A$66,$B$39:$B$66) -> 521020.5 | G44: =LOOKUP(E44,$A$39:$A$66,$C$39:$C$66) -> 642811
A45: =A13 -> BALEARES | B45: =E13 -> 179.2 | C45: =D13 -> 3151.4 | D45: =_xlfn.RANK.EQ(B45,$B$39:$B$66)+COUNTIF($B$39:$B$66,B45)-1 -> 17 | E45: =INDEX($A$39:$B$66,MATCH(ROW()-38,$D$39:$D$66,0),1) -> VIGO | F45: =LOOKUP(E45,$A$39:$A$66,$B$39:$B$66) -> 166283.12 | G45: =LOOKUP(E45,$A$39:$A$66,$C$39:$C$66) -> 156608.5
A46: =A14 -> BARCELONA | B46: =E14 -> 16642509 | C46: =D14 -> 12475170 | D46: =_xlfn.RANK.EQ(B46,$B$39:$B$66)+COUNTIF($B$39:$B$66,B46)-1 -> 3 | E46: =INDEX($A$39:$B$66,MATCH(ROW()-38,$D$39:$D$66,0),1) -> CASTELLÓN | F46: =LOOKUP(E46,$A$39:$A$66,$B$39:$B$66) -> 89925 | G46: =LOOKUP(E46,$A$39:$A$66,$C$39:$C$66) -> 492914
A47: =A15 -> BILBAO | B47: =E15 -> 20867 | C47: =D15 -> 36015 | D47: =_xlfn.RANK.EQ(B47,$B$39:$B$66)+COUNTIF($B$39:$B$66,B47)-1 -> 10 | E47: =INDEX($A$39:$B$66,MATCH(ROW()-38,$D$39:$D$66,0),1) -> MARÍN Y RÍA DE PONTEVEDRA | F47: =LOOKUP(E47,$A$39:$A$66,$B$39:$B$66) -> 43407 | G47: =LOOKUP(E47,$A$39:$A$66,$C$39:$C$66) -> 95030.4
A48: =A16 -> CARTAGENA | B48: =E16 -> 300 | C48: =D16 -> 0 | D48: =_xlfn.RANK.EQ(B48,$B$39:$B$66)+COUNTIF($B$39:$B$66,B48)-1 -> 16 | E48: =INDEX($A$39:$B$66,MATCH(ROW()-38,$D$39:$D$66,0),1) -> BILBAO | F48: =LOOKUP(E48,$A$39:$A$66,$B$39:$B$66) -> 20867 | G48: =LOOKUP(E48,$A$39:$A$66,$C$39:$C$66) -> 36015
A49: =A17 -> CASTELLÓN | B49: =E17 -> 89925 | C49: =D17 -> 492914 | D49: =_xlfn.RANK.EQ(B49,$B$39:$B$66)+COUNTIF($B$39:$B$66,B49)-1 -> 8 | E49: =INDEX($A$39:$B$66,MATCH(ROW()-38,$D$39:$D$66,0),1) -> HUELVA | F49: =LOOKUP(E49,$A$39:$A$66,$B$39:$B$66) -> 17583.85 | G49: =LOOKUP(E49,$A$39:$A$66,$C$39:$C$66) -> 10761.22
A50: =A18 -> CEUTA | B50: =E18 -> 1248 | C50: =D18 -> 0 | D50: =_xlfn.RANK.EQ(B50,$B$39:$B$66)+COUNTIF($B$39:$B$66,B50)-1 -> 14 | E50: =INDEX($A$39:$B$66,MATCH(ROW()-38,$D$39:$D$66,0),1) -> ALICANTE | F50: =LOOKUP(E50,$A$39:$A$66,$B$39:$B$66) -> 11333.6 | G50: =LOOKUP(E50,$A$39:$A$66,$C$39:$C$66) -> 0
... A66: =A34 -> VILAGARCÍA | B66: =E34 -> 178 | C66: =D34 -> 36.3 | D66: =_xlfn.RANK.EQ(B66,$B$39:$B$66)+COUNTIF($B$39:$B$66,B66)-1 -> 18 | E66: =INDEX($A$39:$B$66,MATCH(ROW()-38,$D$39:$D$66,0),1) -> A CORUÑA | F66: =LOOKUP(E66,$A$39:$A$66,$B$39:$B$66) -> 0 | G66: =LOOKUP(E66,$A$39:$A$66,$C$39:$C$66) -> 0

Sheet Ro-Ro
F1: 9. TRÁFICO RO-RO (toneladas)
A5: Autoridad Portuaria | B5: ='Resumen general'!D6 -> Mes diciembre | D5: ='Resumen general'!F6 -> Acumulado desde enero | L5: ='Resumen general'!I4 -> Fecha: 29/10/2019
B6: ='Resumen general'!D7 -> 2017 | C6: ='Resumen general'!E7 -> 2018 | D6: ='Resumen general'!F7 -> 2017 | E6: ='Resumen general'!G7 -> 2018 | F6: Var. (%)
A7: A CORUÑA | B7: 0 | C7: 0 | D7: 0 | E7: 0 | F7: =((E7*100)/D7)-100 -> #DIV/0!
A8: ALICANTE | B8: 10436 | C8: 9823 | D8: 95217.39 | E8: 94654.77 | F8: =((E8*100)/D8)-100 -> -0.59087946
A9: ALMERÍA | B9: 46721 | C9: 53512 | D9: 432697 | E9: 431601 | F9: =((E9*100)/D9)-100 -> -0.25329503
A10: AVILÉS | B10: 0 | C10: 0 | D10: 0 | E10: 908 | F10: =((E10*100)/D10)-100 -> #DIV/0!
A11: BAHÍA DE ALGECIRAS | B11: 649459 | C11: 751570 | D11: 7712375 | E11: 8336434.1 | F11: =((E11*100)/D11)-100 -> 8.0916594
A12: BAHÍA DE CÁDIZ | B12: 95699 | C12: 78172 | D12: 894289 | E12: 909794 | F12: =((E12*100)/D12)-100 -> 1.7337796
A13: BALEARES | B13: 767307 | C13: 874866 | D13: 12150479 | E13: 12988879 | F13: =((E13*100)/D13)-100 -> 6.9001395
A14: BARCELONA | B14: 694122 | C14: 696145 | D14: 11198738 | E14: 11613911 | F14: =((E14*100)/D14)-100 -> 3.707317
A15: BILBAO | B15: 51694 | C15: 53059 | D15: 810439 | E15: 861173 | F15: =((E15*100)/D15)-100 -> 6.260064
A16: CARTAGENA | B16: 0 | C16: 0 | D16: 0 | E16: 0 | F16: =((E16*100)/D16)-100 -> #DIV/0!
A17: CASTELLÓN | B17: 30521 | C17: 40065 | D17: 537427 | E17: 397406 | F17: =((E17*100)/D17)-100 -> -26.053957
A18: CEUTA | B18: 55905 | C18: 65936 | D18: 867997 | E18: 845411 | F18: =((E18*100)/D18)-100 -> -2.6020827
... A34: VILAGARCÍA | B34: 0 | C34: 0 | D34: 0 | E34: 0 | F34: =((E34*100)/D34)-100 -> #DIV/0!
A35: Total | B35: =SUM(B7:B34) -> 4280968 | C35: =SUM(C7:C34) -> 4686269 | D35: =SUM(D7:D34) -> 58074195 | E35: =SUM(E7:E34) -> 62677883 | F35: =((E35*100)/D35)-100 -> 7.9272515
A36: Incluye cargas, descargas, tránsitos y transbordos.
B38: =E6 -> 2018 | C38: =D6 -> 2017 | F38: =B38 -> 2018 | G38: =C38 -> 2017
A39: =A7 -> A CORUÑA | B39: =E7 -> 0 | C39: =D7 -> 0 | D39: =_xlfn.RANK.EQ(B39,$B$39:$B$66)+COUNTIF($B$39:$B$66,B39)-1 -> 28 | E39: =INDEX($A$39:$B$66,MATCH(ROW()-38,$D$39:$D$66,0),1) -> BALEARES | F39: =LOOKUP(E39,$A$39:$A$66,$B$39:$B$66) -> 12988879 | G39: =LOOKUP(E39,$A$39:$A$66,$C$39:$C$66) -> 12150479
A40: =A8 -> ALICANTE | B40: =E8 -> 94654.77 | C40: =D8 -> 95217.39 | D40: =_xlfn.RANK.EQ(B40,$B$39:$B$66)+COUNTIF($B$39:$B$66,B40)-1 -> 21 | E40: =INDEX($A$39:$B$66,MATCH(ROW()-38,$D$39:$D$66,0),1) -> VALENCIA | F40: =LOOKUP(E40,$A$39:$A$66,$B$39:$B$66) -> 11829219 | G40: =LOOKUP(E40,$A$39:$A$66,$C$39:$C$66) -> 9452523
A41: =A9 -> ALMERÍA | B41: =E9 -> 431601 | C41: =D9 -> 432697 | D41: =_xlfn.RANK.EQ(B41,$B$39:$B$66)+COUNTIF($B$39:$B$66,B41)-1 -> 16 | E41: =INDEX($A$39:$B$66,MATCH(ROW()-38,$D$39:$D$66,0),1) -> BARCELONA | F41: =LOOKUP(E41,$A$39:$A$66,$B$39:$B$66) -> 11613911 | G41: =LOOKUP(E41,$A$39:$A$66,$C$39:$C$66) -> 11198738
A42: =A10 -> AVILÉS | B42: =E10 -> 908 | C42: =D10 -> 0 | D42: =_xlfn.RANK.EQ(B42,$B$39:$B$66)+COUNTIF($B$39:$B$66,B42)-1 -> 24 | E42: =INDEX($A$39:$B$66,MATCH(ROW()-38,$D$39:$D$66,0),1) -> BAHÍA DE ALGECIRAS | F42: =LOOKUP(E42,$A$39:$A$66,$B$39:$B$66) -> 8336434.1 | G42: =LOOKUP(E42,$A$39:$A$66,$C$39:$C$66) -> 7712375
A43: =A11 -> BAHÍA DE ALGECIRAS | B43: =E11 -> 8336434.1 | C43: =D11 -> 7712375 | D43: =_xlfn.RANK.EQ(B43,$B$39:$B$66)+COUNTIF($B$39:$B$66,B43)-1 -> 4 | E43: =INDEX($A$39:$B$66,MATCH(ROW()-38,$D$39:$D$66,0),1) -> LAS PALMAS | F43: =LOOKUP(E43,$A$39:$A$66,$B$39:$B$66) -> 4246705 | G43: =LOOKUP(E43,$A$39:$A$66,$C$39:$C$66) -> 4180212
A44: =A12 -> BAHÍA DE CÁDIZ | B44: =E12 -> 909794 | C44: =D12 -> 894289 | D44: =_xlfn.RANK.EQ(B44,$B$39:$B$66)+COUNTIF($B$39:$B$66,B44)-1 -> 9 | E44: =INDEX($A$39:$B$66,MATCH(ROW()-38,$D$39:$D$66,0),1) -> SANTA CRUZ DE TENERIFE | F44: =LOOKUP(E44,$A$39:$A$66,$B$39:$B$66) -> 3886955 | G44: =LOOKUP(E44,$A$39:$A$66,$C$39:$C$66) -> 3816001.8
A45: =A13 -> BALEARES | B45: =E13 -> 12988879 | C45: =D13 -> 12150479 | D45: =_xlfn.RANK.EQ(B45,$B$39:$B$66)+COUNTIF($B$39:$B$66,B45)-1 -> 1 | E45: =INDEX($A$39:$B$66,MATCH(ROW()-38,$D$39:$D$66,0),1) -> SANTANDER | F45: =LOOKUP(E45,$A$39:$A$66,$B$39:$B$66) -> 1839238 | G45: =LOOKUP(E45,$A$39:$A$66,$C$39:$C$66) -> 1551574
A46: =A14 -> BARCELONA | B46: =E14 -> 11613911 | C46: =D14 -> 11198738 | D46: =_xlfn.RANK.EQ(B46,$B$39:$B$66)+COUNTIF($B$39:$B$66,B46)-1 -> 3 | E46: =INDEX($A$39:$B$66,MATCH(ROW()-38,$D$39:$D$66,0),1) -> VIGO | F46: =LOOKUP(E46,$A$39:$A$66,$B$39:$B$66) -> 1065467 | G46: =LOOKUP(E46,$A$39:$A$66,$C$39:$C$66) -> 1079461
A47: =A15 -> BILBAO | B47: =E15 -> 861173 | C47: =D15 -> 810439 | D47: =_xlfn.RANK.EQ(B47,$B$39:$B$66)+COUNTIF($B$39:$B$66,B47)-1 -> 10 | E47: =INDEX($A$39:$B$66,MATCH(ROW()-38,$D$39:$D$66,0),1) -> BAHÍA DE CÁDIZ | F47: =LOOKUP(E47,$A$39:$A$66,$B$39:$B$66) -> 909794 | G47: =LOOKUP(E47,$A$39:$A$66,$C$39:$C$66) -> 894289
A48: =A16 -> CARTAGENA | B48: =E16 -> 0 | C48: =D16 -> 0 | D48: =_xlfn.RANK.EQ(B48,$B$39:$B$66)+COUNTIF($B$39:$B$66,B48)-1 -> 28 | E48: =INDEX($A$39:$B$66,MATCH(ROW()-38,$D$39:$D$66,0),1) -> BILBAO | F48: =LOOKUP(E48,$A$39:$A$66,$B$39:$B$66) -> 861173 | G48: =LOOKUP(E48,$A$39:$A$66,$C$39:$C$66) -> 810439
A49: =A17 -> CASTELLÓN | B49: =E17 -> 397406 | C49: =D17 -> 537427 | D49: =_xlfn.RANK.EQ(B49,$B$39:$B$66)+COUNTIF($B$39:$B$66,B49)-1 -> 17 | E49: =INDEX($A$39:$B$66,MATCH(ROW()-38,$D$39:$D$66,0),1) -> CEUTA | F49: =LOOKUP(E49,$A$39:$A$66,$B$39:$B$66) -> 845411 | G49: =LOOKUP(E49,$A$39:$A$66,$C$39:$C$66) -> 867997
A50: =A18 -> CEUTA | B50: =E18 -> 845411 | C50: =D18 -> 867997 | D50: =_xlfn.RANK.EQ(B50,$B$39:$B$66)+COUNTIF($B$39:$B$66,B50)-1 -> 11 | E50: =INDEX($A$39:$B$66,MATCH(ROW()-38,$D$39:$D$66,0),1) -> MOTRIL | F50: =LOOKUP(E50,$A$39:$A$66,$B$39:$B$66) -> 755660 | G50: =LOOKUP(E50,$A$39:$A$66,$C$39:$C$66) -> 589055.8
... A66: =A34 -> VILAGARCÍA | B66: =E34 -> 0 | C66: =D34 -> 0 | D66: =_xlfn.RANK.EQ(B66,$B$39:$B$66)+COUNTIF($B$39:$B$66,B66)-1 -> 28 | E66: =INDEX($A$39:$B$66,MATCH(ROW()-38,$D$39:$D$66,0),1) -> A CORUÑA | F66: =LOOKUP(E66,$A$39:$A$66,$B$39:$B$66) -> 0 | G66: =LOOKUP(E66,$A$39:$A$66,$C$39:$C$66) -> 0

Sheet Ro-Ro remolques
E1: 9.1. TRÁFICO RO-RO DE REMOLQUES, SEMIRREMOLQUES Y PLATAFORMAS
I2: (unidades)
A5: Autoridad Portuaria | B5: ='Resumen general'!D6 -> Mes diciembre | D5: ='Resumen general'!F6 -> Acumulado desde enero | L5: ='Resumen general'!I4 -> Fecha: 29/10/2019
B6: ='Resumen general'!D7 -> 2017 | C6: ='Resumen general'!E7 -> 2018 | D6: ='Resumen general'!F7 -> 2017 | E6: ='Resumen general'!G7 -> 2018 | F6: Var. (%)
A7: A CORUÑA | B7: 0 | C7: 0 | D7: 0 | E7: 0 | F7: =((E7*100)/D7)-100 -> #DIV/0!
A8: ALICANTE | B8: 144 | C8: 369 | D8: 845 | E8: 3166 | F8: =((E8*100)/D8)-100 -> 274.67456
A9: ALMERÍA | B9: 1172 | C9: 1198 | D9: 11353 | E9: 10875 | F9: =((E9*100)/D9)-100 -> -4.2103409
A10: AVILÉS | B10: 0 | C10: 0 | D10: 0 | E10: 0 | F10: =((E10*100)/D10)-100 -> #DIV/0!
A11: BAHÍA DE ALGECIRAS | B11: 17911 | C11: 18302 | D11: 110486 | E11: 109877 | F11: =((E11*100)/D11)-100 -> -0.55120106
A12: BAHÍA DE CÁDIZ | B12: 2937 | C12: 2272 | D12: 27992 | E12: 30305 | F12: =((E12*100)/D12)-100 -> 8.2630752
A13: BALEARES | B13: 16340 | C13: 19350 | D13: 262132 | E13: 30491 | F13: =((E13*100)/D13)-100 -> -88.368074
A14: BARCELONA | B14: 13126 | C14: 12957 | D14: 200325 | E14: 203204 | F14: =((E14*100)/D14)-100 -> 1.4371646
A15: BILBAO | B15: 1485 | C15: 1410 | D15: 17144 | E15: 17172 | F15: =((E15*100)/D15)-100 -> 0.16332245
A16: CARTAGENA | B16: 0 | C16: 0 | D16: 0 | E16: 0 | F16: =((E16*100)/D16)-100 -> #DIV/0!
A17: CASTELLÓN | B17: 0 | C17: 0 | D17: 0 | E17: 0 | F17: =((E17*100)/D17)-100 -> #DIV/0!
A18: CEUTA | B18: 1457 | C18: 1875 | D18: 17692 | E18: 23366 | F18: =((E18*100)/D18)-100 -> 32.070993
... A34: VILAGARCÍA | B34: 0 | C34: 0 | D34: 0 | E34: 0 | F34: =((E34*100)/D34)-100 -> #DIV/0!
A35: Total | B35: =SUM(B7:B34) -> 102625 | C35: =SUM(C7:C34) -> 112701 | D35: =SUM(D7:D34) -> 1311908 | E35: =SUM(E7:E34) -> 1154507 | F35: =((E35*100)/D35)-100 -> -11.997869
A36: Incluye cargas, descargas, tránsitos y transbordos.
B38: =E6 -> 2018 | C38: =D6 -> 2017 | F38: =B38 -> 2018 | G38: =C38 -> 2017
A39: =A7 -> A CORUÑA | B39: =E7 -> 0 | C39: =D7 -> 0 | D39: =_xlfn.RANK.EQ(B39,$B$39:$B$66)+COUNTIF($B$39:$B$66,B39)-1 -> 28 | E39: =INDEX($A$39:$B$66,MATCH(ROW()-38,$D$39:$D$66,0),1) -> VALENCIA | F39: =LOOKUP(E39,$A$39:$A$66,$B$39:$B$66) -> 293081 | G39: =LOOKUP(E39,$A$39:$A$66,$C$39:$C$66) -> 242863
A40: =A8 -> ALICANTE | B40: =E8 -> 3166 | C40: =D8 -> 845 | D40: =_xlfn.RANK.EQ(B40,$B$39:$B$66)+COUNTIF($B$39:$B$66,B40)-1 -> 18 | E40: =INDEX($A$39:$B$66,MATCH(ROW()-38,$D$39:$D$66,0),1) -> BARCELONA | F40: =LOOKUP(E40,$A$39:$A$66,$B$39:$B$66) -> 203204 | G40: =LOOKUP(E40,$A$39:$A$66,$C$39:$C$66) -> 200325
A41: =A9 -> ALMERÍA | B41: =E9 -> 10875 | C41: =D9 -> 11353 | D41: =_xlfn.RANK.EQ(B41,$B$39:$B$66)+COUNTIF($B$39:$B$66,B41)-1 -> 15 | E41: =INDEX($A$39:$B$66,MATCH(ROW()-38,$D$39:$D$66,0),1) -> LAS PALMAS | F41: =LOOKUP(E41,$A$39:$A$66,$B$39:$B$66) -> 154707 | G41: =LOOKUP(E41,$A$39:$A$66,$C$39:$C$66) -> 145622
A42: =A10 -> AVILÉS | B42: =E10 -> 0 | C42: =D10 -> 0 | D42: =_xlfn.RANK.EQ(B42,$B$39:$B$66)+COUNTIF($B$39:$B$66,B42)-1 -> 28 | E42: =INDEX($A$39:$B$66,MATCH(ROW()-38,$D$39:$D$66,0),1) -> SANTA CRUZ DE TENERIFE | F42: =LOOKUP(E42,$A$39:$A$66,$B$39:$B$66) -> 146874 | G42: =LOOKUP(E42,$A$39:$A$66,$C$39:$C$66) -> 143184
A43: =A11 -> BAHÍA DE ALGECIRAS | B43: =E11 -> 109877 | C43: =D11 -> 110486 | D43: =_xlfn.RANK.EQ(B43,$B$39:$B$66)+COUNTIF($B$39:$B$66,B43)-1 -> 5 | E43: =INDEX($A$39:$B$66,MATCH(ROW()-38,$D$39:$D$66,0),1) -> BAHÍA DE ALGECIRAS | F43: =LOOKUP(E43,$A$39:$A$66,$B$39:$B$66) -> 109877 | G43: =LOOKUP(E43,$A$39:$A$66,$C$39:$C$66) -> 110486
A44: =A12 -> BAHÍA DE CÁDIZ | B44: =E12 -> 30305 | C44: =D12 -> 27992 | D44: =_xlfn.RANK.EQ(B44,$B$39:$B$66)+COUNTIF($B$39:$B$66,B44)-1 -> 7 | E44: =INDEX($A$39:$B$66,MATCH(ROW()-38,$D$39:$D$66,0),1) -> BALEARES | F44: =LOOKUP(E44,$A$39:$A$66,$B$39:$B$66) -> 30491 | G44: =LOOKUP(E44,$A$39:$A$66,$C$39:$C$66) -> 262132
A45: =A13 -> BALEARES | B45: =E13 -> 30491 | C45: =D13 -> 262132 | D45: =_xlfn.RANK.EQ(B45,$B$39:$B$66)+COUNTIF($B$39:$B$66,B45)-1 -> 6 | E45: =INDEX($A$39:$B$66,MATCH(ROW()-38,$D$39:$D$66,0),1) -> BAHÍA DE CÁDIZ | F45: =LOOKUP(E45,$A$39:$A$66,$B$39:$B$66) -> 30305 | G45: =LOOKUP(E45,$A$39:$A$66,$C$39:$C$66) -> 27992
A46: =A14 -> BARCELONA | B46: =E14 -> 203204 | C46: =D14 -> 200325 | D46: =_xlfn.RANK.EQ(B46,$B$39:$B$66)+COUNTIF($B$39:$B$66,B46)-1 -> 2 | E46: =INDEX($A$39:$B$66,MATCH(ROW()-38,$D$39:$D$66,0),1) -> MOTRIL | F46: =LOOKUP(E46,$A$39:$A$66,$B$39:$B$66) -> 30052 | G46: =LOOKUP(E46,$A$39:$A$66,$C$39:$C$66) -> 21104
A47: =A15 -> BILBAO | B47: =E15 -> 17172 | C47: =D15 -> 17144 | D47: =_xlfn.RANK.EQ(B47,$B$39:$B$66)+COUNTIF($B$39:$B$66,B47)-1 -> 14 | E47: =INDEX($A$39:$B$66,MATCH(ROW()-38,$D$39:$D$66,0),1) -> MELILLA | F47: =LOOKUP(E47,$A$39:$A$66,$B$39:$B$66) -> 25862 | G47: =LOOKUP(E47,$A$39:$A$66,$C$39:$C$66) -> 34427
A48: =A16 -> CARTAGENA | B48: =E16 -> 0 | C48: =D16 -> 0 | D48: =_xlfn.RANK.EQ(B48,$B$39:$B$66)+COUNTIF($B$39:$B$66,B48)-1 -> 28 | E48: =INDEX($A$39:$B$66,MATCH(ROW()-38,$D$39:$D$66,0),1) -> CEUTA | F48: =LOOKUP(E48,$A$39:$A$66,$B$39:$B$66) -> 23366 | G48: =LOOKUP(E48,$A$39:$A$66,$C$39:$C$66) -> 17692
A49: =A17 -> CASTELLÓN | B49: =E17 -> 0 | C49: =D17 -> 0 | D49: =_xlfn.RANK.EQ(B49,$B$39:$B$66)+COUNTIF($B$39:$B$66,B49)-1 -> 28 | E49: =INDEX($A$39:$B$66,MATCH(ROW()-38,$D$39:$D$66,0),1) -> SANTANDER | F49: =LOOKUP(E49,$A$39:$A$66,$B$39:$B$66) -> 22285 | G49: =LOOKUP(E49,$A$39:$A$66,$C$39:$C$66) -> 17277
A50: =A18 -> CEUTA | B50: =E18 -> 23366 | C50: =D18 -> 17692 | D50: =_xlfn.RANK.EQ(B50,$B$39:$B$66)+COUNTIF($B$39:$B$66,B50)-1 -> 10 | E50: =INDEX($A$39:$B$66,MATCH(ROW()-38,$D$39:$D$66,0),1) -> MÁLAGA | F50: =LOOKUP(E50,$A$39:$A$66,$B$39:$B$66) -> 18938 | G50: =LOOKUP(E50,$A$39:$A$66,$C$39:$C$66) -> 23096
... A66: =A34 -> VILAGARCÍA | B66: =E34 -> 0 | C66: =D34 -> 0 | D66: =_xlfn.RANK.EQ(B66,$B$39:$B$66)+COUNTIF($B$39:$B$66,B66)-1 -> 28 | E66: =INDEX($A$39:$B$66,MATCH(ROW()-38,$D$39:$D$66,0),1) -> A CORUÑA | F66: =LOOKUP(E66,$A$39:$A$66,$B$39:$B$66) -> 0 | G66: =LOOKUP(E66,$A$39:$A$66,$C$39:$C$66) -> 0

Sheet TEUS
F1: 10. CONTENEDORES (TEUS)
A5: Autoridad Portuaria | B5: ='Resumen general'!D6 -> Mes diciembre | D5: ='Resumen general'!F6 -> Acumulado desde enero | L5: ='Resumen general'!I4 -> Fecha: 29/10/2019
B6: ='Resumen general'!D7 -> 2017 | C6: ='Resumen general'!E7 -> 2018 | D6: ='Resumen general'!F7 -> 2017 | E6: ='Resumen general'!G7 -> 2018 | F6: Var. (%)
A7: A CORUÑA | B7: 0 | C7: 17 | D7: 3 | E7: 27 | F7: =((E7*100)/D7)-100 -> 800
A8: ALICANTE | B8: 15132 | C8: 13399 | D8: 164410 | E8: 162571 | F8: =((E8*100)/D8)-100 -> -1.1185451
A9: ALMERÍA | B9: 504 | C9: 1108 | D9: 6606 | E9: 9360.75 | F9: =((E9*100)/D9)-100 -> 41.700727
A10: AVILÉS | B10: 0 | C10: 0 | D10: 0 | E10: 5 | F10: =((E10*100)/D10)-100 -> #DIV/0!
A11: BAHÍA DE ALGECIRAS | B11: 379068 | C11: 377618 | D11: 4389851 | E11: 4773158 | F11: =((E11*100)/D11)-100 -> 8.7316631
A12: BAHÍA DE CÁDIZ | B12: 6799 | C12: 5712 | D12: 82188 | E12: 68544 | F12: =((E12*100)/D12)-100 -> -16.600964
A13: BALEARES | B13: 7567 | C13: 7494 | D13: 120762 | E13: 121437 | F13: =((E13*100)/D13)-100 -> 0.55895066
A14: BARCELONA | B14: 231332 | C14: 293923 | D14: 2968757 | E14: 3422978.4 | F14: =((E14*100)/D14)-100 -> 15.300052
A15: BILBAO | B15: 65991 | C15: 48452 | D15: 604871 | E15: 638447 | F15: =((E15*100)/D15)-100 -> 5.5509357
A16: CARTAGENA | B16: 5663 | C16: 4730 | D16: 89931 | E16: 84156 | F16: =((E16*100)/D16)-100 -> -6.4215899
A17: CASTELLÓN | B17: 18268 | C17: 14403 | D17: 240895 | E17: 229093 | F17: =((E17*100)/D17)-100 -> -4.89923
A18: CEUTA | B18: 728 | C18: 924 | D18: 16036 | E18: 11129 | F18: =((E18*100)/D18)-100 -> -30.5999
... A34: VILAGARCÍA | B34: 2741 | C34: 3133 | D34: 34508 | E34: 35039 | F34: =((E34*100)/D34)-100 -> 1.5387736
A35: Total | B35: =SUM(B7:B34) -> 1319703 | C35: =SUM(C7:C34) -> 1421939 | D35: =SUM(D7:D34) -> 15951635 | E35: =SUM(E7:E34) -> 17203134 | F35: =((E35*100)/D35)-100 -> 7.8455835
A36: Incluye cargas, descargas, tránsitos y transbordos.
B38: =E6 -> 2018 | C38: =D6 -> 2017 | F38: =B38 -> 2018 | G38: =C38 -> 2017
A39: =A7 -> A CORUÑA | B39: =E7 -> 27 | C39: =D7 -> 3 | D39: =_xlfn.RANK.EQ(B39,$B$39:$B$66)+COUNTIF($B$39:$B$66,B39)-1 -> 26 | E39: =INDEX($A$39:$B$66,MATCH(ROW()-38,$D$39:$D$66,0),1) -> VALENCIA | F39: =LOOKUP(E39,$A$39:$A$66,$B$39:$B$66) -> 5182665 | G39: =LOOKUP(E39,$A$39:$A$66,$C$39:$C$66) -> 4832156
A40: =A8 -> ALICANTE | B40: =E8 -> 162571 | C40: =D8 -> 164410 | D40: =_xlfn.RANK.EQ(B40,$B$39:$B$66)+COUNTIF($B$39:$B$66,B40)-1 -> 9 | E40: =INDEX($A$39:$B$66,MATCH(ROW()-38,$D$39:$D$66,0),1) -> BAHÍA DE ALGECIRAS | F40: =LOOKUP(E40,$A$39:$A$66,$B$39:$B$66) -> 4773158 | G40: =LOOKUP(E40,$A$39:$A$66,$C$39:$C$66) -> 4389851
A41: =A9 -> ALMERÍA | B41: =E9 -> 9360.75 | C41: =D9 -> 6606 | D41: =_xlfn.RANK.EQ(B41,$B$39:$B$66)+COUNTIF($B$39:$B$66,B41)-1 -> 23 | E41: =INDEX($A$39:$B$66,MATCH(ROW()-38,$D$39:$D$66,0),1) -> BARCELONA | F41: =LOOKUP(E41,$A$39:$A$66,$B$39:$B$66) -> 3422978.4 | G41: =LOOKUP(E41,$A$39:$A$66,$C$39:$C$66) -> 2968757
A42: =A10 -> AVILÉS | B42: =E10 -> 5 | C42: =D10 -> 0 | D42: =_xlfn.RANK.EQ(B42,$B$39:$B$66)+COUNTIF($B$39:$B$66,B42)-1 -> 28 | E42: =INDEX($A$39:$B$66,MATCH(ROW()-38,$D$39:$D$66,0),1) -> LAS PALMAS | F42: =LOOKUP(E42,$A$39:$A$66,$B$39:$B$66) -> 1140545 | G42: =LOOKUP(E42,$A$39:$A$66,$C$39:$C$66) -> 1183327
A43: =A11 -> BAHÍA DE ALGECIRAS | B43: =E11 -> 4773158 | C43: =D11 -> 4389851 | D43: =_xlfn.RANK.EQ(B43,$B$39:$B$66)+COUNTIF($B$39:$B$66,B43)-1 -> 2 | E43: =INDEX($A$39:$B$66,MATCH(ROW()-38,$D$39:$D$66,0),1) -> BILBAO | F43: =LOOKUP(E43,$A$39:$A$66,$B$39:$B$66) -> 638447 | G43: =LOOKUP(E43,$A$39:$A$66,$C$39:$C$66) -> 604871
A44: =A12 -> BAHÍA DE CÁDIZ | B44: =E12 -> 68544 | C44: =D12 -> 82188 | D44: =_xlfn.RANK.EQ(B44,$B$39:$B$66)+COUNTIF($B$39:$B$66,B44)-1 -> 17 | E44: =INDEX($A$39:$B$66,MATCH(ROW()-38,$D$39:$D$66,0),1) -> SANTA CRUZ DE TENERIFE | F44: =LOOKUP(E44,$A$39:$A$66,$B$39:$B$66) -> 508891 | G44: =LOOKUP(E44,$A$39:$A$66,$C$39:$C$66) -> 467144
A45: =A13 -> BALEARES | B45: =E13 -> 121437 | C45: =D13 -> 120762 | D45: =_xlfn.RANK.EQ(B45,$B$39:$B$66)+COUNTIF($B$39:$B$66,B45)-1 -> 12 | E45: =INDEX($A$39:$B$66,MATCH(ROW()-38,$D$39:$D$66,0),1) -> CASTELLÓN | F45: =LOOKUP(E45,$A$39:$A$66,$B$39:$B$66) -> 229093 | G45: =LOOKUP(E45,$A$39:$A$66,$C$39:$C$66) -> 240895
A46: =A14 -> BARCELONA | B46: =E14 -> 3422978.4 | C46: =D14 -> 2968757 | D46: =_xlfn.RANK.EQ(B46,$B$39:$B$66)+COUNTIF($B$39:$B$66,B46)-1 -> 3 | E46: =INDEX($A$39:$B$66,MATCH(ROW()-38,$D$39:$D$66,0),1) -> VIGO | F46: =LOOKUP(E46,$A$39:$A$66,$B$39:$B$66) -> 220466 | G46: =LOOKUP(E46,$A$39:$A$66,$C$39:$C$66) -> 219438
A47: =A15 -> BILBAO | B47: =E15 -> 638447 | C47: =D15 -> 604871 | D47: =_xlfn.RANK.EQ(B47,$B$39:$B$66)+COUNTIF($B$39:$B$66,B47)-1 -> 5 | E47: =INDEX($A$39:$B$66,MATCH(ROW()-38,$D$39:$D$66,0),1) -> ALICANTE | F47: =LOOKUP(E47,$A$39:$A$66,$B$39:$B$66) -> 162571 | G47: =LOOKUP(E47,$A$39:$A$66,$C$39:$C$66) -> 164410
A48: =A16 -> CARTAGENA | B48: =E16 -> 84156 | C48: =D16 -> 89931 | D48: =_xlfn.RANK.EQ(B48,$B$39:$B$66)+COUNTIF($B$39:$B$66,B48)-1 -> 14 | E48: =INDEX($A$39:$B$66,MATCH(ROW()-38,$D$39:$D$66,0),1) -> SEVILLA | F48: =LOOKUP(E48,$A$39:$A$66,$B$39:$B$66) -> 138130 | G48: =LOOKUP(E48,$A$39:$A$66,$C$39:$C$66) -> 105566
A49: =A17 -> CASTELLÓN | B49: =E17 -> 229093 | C49: =D17 -> 240895 | D49: =_xlfn.RANK.EQ(B49,$B$39:$B$66)+COUNTIF($B$39:$B$66,B49)-1 -> 7 | E49: =INDEX($A$39:$B$66,MATCH(ROW()-38,$D$39:$D$66,0),1) -> MÁLAGA | F49: =LOOKUP(E49,$A$39:$A$66,$B$39:$B$66) -> 125035 | G49: =LOOKUP(E49,$A$39:$A$66,$C$39:$C$66) -> 86247
A50: =A18 -> CEUTA | B50: =E18 -> 11129 | C50: =D18 -> 16036 | D50: =_xlfn.RANK.EQ(B50,$B$39:$B$66)+COUNTIF($B$39:$B$66,B50)-1 -> 21 | E50: =INDEX($A$39:$B$66,MATCH(ROW()-38,$D$39:$D$66,0),1) -> BALEARES | F50: =LOOKUP(E50,$A$39:$A$66,$B$39:$B$66) -> 121437 | G50: =LOOKUP(E50,$A$39:$A$66,$C$39:$C$66) -> 120762
... A66: =A34 -> VILAGARCÍA | B66: =E34 -> 35039 | C66: =D34 -> 34508 | D66: =_xlfn.RANK.EQ(B66,$B$39:$B$66)+COUNTIF($B$39:$B$66,B66)-1 -> 19 | E66: =INDEX($A$39:$B$66,MATCH(ROW()-38,$D$39:$D$66,0),1) -> AVILÉS | F66: =LOOKUP(E66,$A$39:$A$66,$B$39:$B$66) -> 5 | G66: =LOOKUP(E66,$A$39:$A$66,$C$39:$C$66) -> 0

Sheet TEUS tránsito
F1: 10.1. CONTENEDORES EN TRÁNSITO (TEUS)
A5: Autoridad Portuaria | B5: ='Resumen general'!D6 -> Mes diciembre | D5: ='Resumen general'!F6 -> Acumulado desde enero | L5: ='Resumen general'!I4 -> Fecha: 29/10/2019
B6: ='Resumen general'!D7 -> 2017 | C6: ='Resumen general'!E7 -> 2018 | D6: ='Resumen general'!F7 -> 2017 | E6: ='Resumen general'!G7 -> 2018 | F6: Var. (%)
A7: A CORUÑA | B7: 0 | C7: 0 | D7: 0 | E7: 0 | F7: =((E7*100)/D7)-100 -> #DIV/0!
A8: ALICANTE | B8: 1178 | C8: 126 | D8: 2903 | E8: 785 | F8: =((E8*100)/D8)-100 -> -72.959008
A9: ALMERÍA | B9: 0 | C9: 0 | D9: 14 | E9: 0 | F9: =((E9*100)/D9)-100 -> -100
A10: AVILÉS | B10: 0 | C10: 0 | D10: 0 | E10: 0 | F10: =((E10*100)/D10)-100 -> #DIV/0!
A11: BAHÍA DE ALGECIRAS | B11: 348237 | C11: 327309 | D11: 4007706 | E11: 4195368 | F11: =((E11*100)/D11)-100 -> 4.6825291
A12: BAHÍA DE CÁDIZ | B12: 0 | C12: 0 | D12: 137 | E12: 518 | F12: =((E12*100)/D12)-100 -> 278.10219
A13: BALEARES | B13: 10 | C13: 0 | D13: 503 | E13: 33 | F13: =((E13*100)/D13)-100 -> -93.439364
A14: BARCELONA | B14: 89924 | C14: 133479 | D14: 1068292 | E14: 1443956.3 | F14: =((E14*100)/D14)-100 -> 35.164947
A15: BILBAO | B15: 173 | C15: 115 | D15: 2626 | E15: 1495 | F15: =((E15*100)/D15)-100 -> -43.069307
A16: CARTAGENA | B16: 0 | C16: 1 | D16: 0 | E16: 131 | F16: =((E16*100)/D16)-100 -> #DIV/0!
A17: CASTELLÓN | B17: 454 | C17: 736 | D17: 30859 | E17: 7186 | F17: =((E17*100)/D17)-100 -> -76.713439
A18: CEUTA | B18: 0 | C18: 0 | D18: 0 | E18: 92 | F18: =((E18*100)/D18)-100 -> #DIV/0!
... A34: VILAGARCÍA | B34: 0 | C34: 4 | D34: 18 | E34: 34 | F34: =((E34*100)/D34)-100 -> 88.888889
A35: Total | B35: =SUM(B7:B34) -> 720357 | C35: =SUM(C7:C34) -> 785350 | D35: =SUM(D7:D34) -> 8501480 | E35: =SUM(E7:E34) -> 9267925.3 | F35: =((E35*100)/D35)-100 -> 9.015434
A36: No incluye transbordos.
B38: =E6 -> 2018 | C38: =D6 -> 2017 | F38: =B38 -> 2018 | G38: =C38 -> 2017
A39: =A7 -> A CORUÑA | B39: =E7 -> 0 | C39: =D7 -> 0 | D39: =_xlfn.RANK.EQ(B39,$B$39:$B$66)+COUNTIF($B$39:$B$66,B39)-1 -> 28 | E39: =INDEX($A$39:$B$66,MATCH(ROW()-38,$D$39:$D$66,0),1) -> BAHÍA DE ALGECIRAS | F39: =LOOKUP(E39,$A$39:$A$66,$B$39:$B$66) -> 4195368 | G39: =LOOKUP(E39,$A$39:$A$66,$C$39:$C$66) -> 4007706
A40: =A8 -> ALICANTE | B40: =E8 -> 785 | C40: =D8 -> 2903 | D40: =_xlfn.RANK.EQ(B40,$B$39:$B$66)+COUNTIF($B$39:$B$66,B40)-1 -> 12 | E40: =INDEX($A$39:$B$66,MATCH(ROW()-38,$D$39:$D$66,0),1) -> VALENCIA | F40: =LOOKUP(E40,$A$39:$A$66,$B$39:$B$66) -> 2826222 | G40: =LOOKUP(E40,$A$39:$A$66,$C$39:$C$66) -> 2631748
A41: =A9 -> ALMERÍA | B41: =E9 -> 0 | C41: =D9 -> 14 | D41: =_xlfn.RANK.EQ(B41,$B$39:$B$66)+COUNTIF($B$39:$B$66,B41)-1 -> 28 | E41: =INDEX($A$39:$B$66,MATCH(ROW()-38,$D$39:$D$66,0),1) -> BARCELONA | F41: =LOOKUP(E41,$A$39:$A$66,$B$39:$B$66) -> 1443956.3 | G41: =LOOKUP(E41,$A$39:$A$66,$C$39:$C$66) -> 1068292
A42: =A10 -> AVILÉS | B42: =E10 -> 0 | C42: =D10 -> 0 | D42: =_xlfn.RANK.EQ(B42,$B$39:$B$66)+COUNTIF($B$39:$B$66,B42)-1 -> 28 | E42: =INDEX($A$39:$B$66,MATCH(ROW()-38,$D$39:$D$66,0),1) -> LAS PALMAS | F42: =LOOKUP(E42,$A$39:$A$66,$B$39:$B$66) -> 583735 | G42: =LOOKUP(E42,$A$39:$A$66,$C$39:$C$66) -> 615841
A43: =A11 -> BAHÍA DE ALGECIRAS | B43: =E11 -> 4195368 | C43: =D11 -> 4007706 | D43: =_xlfn.RANK.EQ(B43,$B$39:$B$66)+COUNTIF($B$39:$B$66,B43)-1 -> 1 | E43: =INDEX($A$39:$B$66,MATCH(ROW()-38,$D$39:$D$66,0),1) -> SANTA CRUZ DE TENERIFE | F43: =LOOKUP(E43,$A$39:$A$66,$B$39:$B$66) -> 103608 | G43: =LOOKUP(E43,$A$39:$A$66,$C$39:$C$66) -> 65237
A44: =A12 -> BAHÍA DE CÁDIZ | B44: =E12 -> 518 | C44: =D12 -> 137 | D44: =_xlfn.RANK.EQ(B44,$B$39:$B$66)+COUNTIF($B$39:$B$66,B44)-1 -> 13 | E44: =INDEX($A$39:$B$66,MATCH(ROW()-38,$D$39:$D$66,0),1) -> MÁLAGA | F44: =LOOKUP(E44,$A$39:$A$66,$B$39:$B$66) -> 85654 | G44: =LOOKUP(E44,$A$39:$A$66,$C$39:$C$66) -> 48930
A45: =A13 -> BALEARES | B45: =E13 -> 33 | C45: =D13 -> 503 | D45: =_xlfn.RANK.EQ(B45,$B$39:$B$66)+COUNTIF($B$39:$B$66,B45)-1 -> 18 | E45: =INDEX($A$39:$B$66,MATCH(ROW()-38,$D$39:$D$66,0),1) -> VIGO | F45: =LOOKUP(E45,$A$39:$A$66,$B$39:$B$66) -> 10805 | G45: =LOOKUP(E45,$A$39:$A$66,$C$39:$C$66) -> 9563
A46: =A14 -> BARCELONA | B46: =E14 -> 1443956.3 | C46: =D14 -> 1068292 | D46: =_xlfn.RANK.EQ(B46,$B$39:$B$66)+COUNTIF($B$39:$B$66,B46)-1 -> 3 | E46: =INDEX($A$39:$B$66,MATCH(ROW()-38,$D$39:$D$66,0),1) -> CASTELLÓN | F46: =LOOKUP(E46,$A$39:$A$66,$B$39:$B$66) -> 7186 | G46: =LOOKUP(E46,$A$39:$A$66,$C$39:$C$66) -> 30859
A47: =A15 -> BILBAO | B47: =E15 -> 1495 | C47: =D15 -> 2626 | D47: =_xlfn.RANK.EQ(B47,$B$39:$B$66)+COUNTIF($B$39:$B$66,B47)-1 -> 10 | E47: =INDEX($A$39:$B$66,MATCH(ROW()-38,$D$39:$D$66,0),1) -> MARÍN Y RÍA DE PONTEVEDRA | F47: =LOOKUP(E47,$A$39:$A$66,$B$39:$B$66) -> 6952 | G47: =LOOKUP(E47,$A$39:$A$66,$C$39:$C$66) -> 12504
A48: =A16 -> CARTAGENA | B48: =E16 -> 131 | C48: =D16 -> 0 | D48: =_xlfn.RANK.EQ(B48,$B$39:$B$66)+COUNTIF($B$39:$B$66,B48)-1 -> 14 | E48: =INDEX($A$39:$B$66,MATCH(ROW()-38,$D$39:$D$66,0),1) -> BILBAO | F48: =LOOKUP(E48,$A$39:$A$66,$B$39:$B$66) -> 1495 | G48: =LOOKUP(E48,$A$39:$A$66,$C$39:$C$66) -> 2626
A49: =A17 -> CASTELLÓN | B49: =E17 -> 7186 | C49: =D17 -> 30859 | D49: =_xlfn.RANK.EQ(B49,$B$39:$B$66)+COUNTIF($B$39:$B$66,B49)-1 -> 8 | E49: =INDEX($A$39:$B$66,MATCH(ROW()-38,$D$39:$D$66,0),1) -> HUELVA | F49: =LOOKUP(E49,$A$39:$A$66,$B$39:$B$66) -> 1272 | G49: =LOOKUP(E49,$A$39:$A$66,$C$39:$C$66) -> 750
A50: =A18 -> CEUTA | B50: =E18 -> 92 | C50: =D18 -> 0 | D50: =_xlfn.RANK.EQ(B50,$B$39:$B$66)+COUNTIF($B$39:$B$66,B50)-1 -> 15 | E50: =INDEX($A$39:$B$66,MATCH(ROW()-38,$D$39:$D$66,0),1) -> ALICANTE | F50: =LOOKUP(E50,$A$39:$A$66,$B$39:$B$66) -> 785 | G50: =LOOKUP(E50,$A$39:$A$66,$C$39:$C$66) -> 2903
... A66: =A34 -> VILAGARCÍA | B66: =E34 -> 34 | C66: =D34 -> 18 | D66: =_xlfn.RANK.EQ(B66,$B$39:$B$66)+COUNTIF($B$39:$B$66,B66)-1 -> 17 | E66: =INDEX($A$39:$B$66,MATCH(ROW()-38,$D$39:$D$66,0),1) -> A CORUÑA | F66: =LOOKUP(E66,$A$39:$A$66,$B$39:$B$66) -> 0 | G66: =LOOKUP(E66,$A$39:$A$66,$C$39:$C$66) -> 0

Sheet TEUS nacional
F1: 10.2. CONTENEDORES ENTRADA-SALIDA NACIONAL (TEUS)
A5: Autoridad Portuaria | B5: ='Resumen general'!D6 -> Mes diciembre | D5: ='Resumen general'!F6 -> Acumulado desde enero | L5: ='Resumen general'!I4 -> Fecha: 29/10/2019
B6: ='Resumen general'!D7 -> 2017 | C6: ='Resumen general'!E7 -> 2018 | D6: ='Resumen general'!F7 -> 2017 | E6: ='Resumen general'!G7 -> 2018 | F6: Var. (%)
A7: A CORUÑA | B7: 0 | C7: 0 | D7: 0 | E7: 1 | F7: =((E7*100)/D7)-100 -> #DIV/0!
A8: ALICANTE | B8: 13151 | C8: 12225 | D8: 144431 | E8: 147907 | F8: =((E8*100)/D8)-100 -> 2.4066855
A9: ALMERÍA | B9: 6 | C9: 309 | D9: 256 | E9: 2845 | F9: =((E9*100)/D9)-100 -> 1011.3281
A10: AVILÉS | B10: 0 | C10: 0 | D10: 0 | E10: 0 | F10: =((E10*100)/D10)-100 -> #DIV/0!
A11: BAHÍA DE ALGECIRAS | B11: 8 | C11: 23 | D11: 2521 | E11: 1462 | F11: =((E11*100)/D11)-100 -> -42.00714
A12: BAHÍA DE CÁDIZ | B12: 4879 | C12: 5232 | D12: 54646 | E12: 56355 | F12: =((E12*100)/D12)-100 -> 3.1274018
A13: BALEARES | B13: 7557 | C13: 7492 | D13: 120210 | E13: 121169 | F13: =((E13*100)/D13)-100 -> 0.79777057
A14: BARCELONA | B14: 19640 | C14: 17254 | D14: 249632 | E14: 236648 | F14: =((E14*100)/D14)-100 -> -5.2012562
A15: BILBAO | B15: 6841 | C15: 5352 | D15: 71221 | E15: 70313 | F15: =((E15*100)/D15)-100 -> -1.2749049
A16: CARTAGENA | B16: 755 | C16: 726 | D16: 15023 | E16: 16084 | F16: =((E16*100)/D16)-100 -> 7.0625042
A17: CASTELLÓN | B17: 676 | C17: 329 | D17: 5799 | E17: 8048 | F17: =((E17*100)/D17)-100 -> 38.782549
A18: CEUTA | B18: 724 | C18: 684 | D18: 16023 | E18: 8539 | F18: =((E18*100)/D18)-100 -> -46.707857
... A34: VILAGARCÍA | B34: 2678 | C34: 2981 | D34: 33745 | E34: 33622 | F34: =((E34*100)/D34)-100 -> -0.36449844
A35: Total | B35: =SUM(B7:B34) -> 164191 | C35: =SUM(C7:C34) -> 160050 | D35: =SUM(D7:D34) -> 1972377 | E35: =SUM(E7:E34) -> 2028712 | F35: =((E35*100)/D35)-100 -> 2.8561984
A36: No incluye tránsitos ni transbordos. Navegación de cabotaje.
B38: =E6 -> 2018 | C38: =D6 -> 2017 | F38: =B38 -> 2018 | G38: =C38 -> 2017
A39: =A7 -> A CORUÑA | B39: =E7 -> 1 | C39: =D7 -> 0 | D39: =_xlfn.RANK.EQ(B39,$B$39:$B$66)+COUNTIF($B$39:$B$66,B39)-1 -> 24 | E39: =INDEX($A$39:$B$66,MATCH(ROW()-38,$D$39:$D$66,0),1) -> LAS PALMAS | F39: =LOOKUP(E39,$A$39:$A$66,$B$39:$B$66) -> 474211 | G39: =LOOKUP(E39,$A$39:$A$66,$C$39:$C$66) -> 466443
A40: =A8 -> ALICANTE | B40: =E8 -> 147907 | C40: =D8 -> 144431 | D40: =_xlfn.RANK.EQ(B40,$B$39:$B$66)+COUNTIF($B$39:$B$66,B40)-1 -> 5 | E40: =INDEX($A$39:$B$66,MATCH(ROW()-38,$D$39:$D$66,0),1) -> SANTA CRUZ DE TENERIFE | F40: =LOOKUP(E40,$A$39:$A$66,$B$39:$B$66) -> 358250 | G40: =LOOKUP(E40,$A$39:$A$66,$C$39:$C$66) -> 348983
A41: =A9 -> ALMERÍA | B41: =E9 -> 2845 | C41: =D9 -> 256 | D41: =_xlfn.RANK.EQ(B41,$B$39:$B$66)+COUNTIF($B$39:$B$66,B41)-1 -> 21 | E41: =INDEX($A$39:$B$66,MATCH(ROW()-38,$D$39:$D$66,0),1) -> BARCELONA | F41: =LOOKUP(E41,$A$39:$A$66,$B$39:$B$66) -> 236648 | G41: =LOOKUP(E41,$A$39:$A$66,$C$39:$C$66) -> 249632
A42: =A10 -> AVILÉS | B42: =E10 -> 0 | C42: =D10 -> 0 | D42: =_xlfn.RANK.EQ(B42,$B$39:$B$66)+COUNTIF($B$39:$B$66,B42)-1 -> 28 | E42: =INDEX($A$39:$B$66,MATCH(ROW()-38,$D$39:$D$66,0),1) -> VALENCIA | F42: =LOOKUP(E42,$A$39:$A$66,$B$39:$B$66) -> 222075 | G42: =LOOKUP(E42,$A$39:$A$66,$C$39:$C$66) -> 201209
A43: =A11 -> BAHÍA DE ALGECIRAS | B43: =E11 -> 1462 | C43: =D11 -> 2521 | D43: =_xlfn.RANK.EQ(B43,$B$39:$B$66)+COUNTIF($B$39:$B$66,B43)-1 -> 22 | E43: =INDEX($A$39:$B$66,MATCH(ROW()-38,$D$39:$D$66,0),1) -> ALICANTE | F43: =LOOKUP(E43,$A$39:$A$66,$B$39:$B$66) -> 147907 | G43: =LOOKUP(E43,$A$39:$A$66,$C$39:$C$66) -> 144431
A44: =A12 -> BAHÍA DE CÁDIZ | B44: =E12 -> 56355 | C44: =D12 -> 54646 | D44: =_xlfn.RANK.EQ(B44,$B$39:$B$66)+COUNTIF($B$39:$B$66,B44)-1 -> 9 | E44: =INDEX($A$39:$B$66,MATCH(ROW()-38,$D$39:$D$66,0),1) -> SEVILLA | F44: =LOOKUP(E44,$A$39:$A$66,$B$39:$B$66) -> 132113 | G44: =LOOKUP(E44,$A$39:$A$66,$C$39:$C$66) -> 100725
A45: =A13 -> BALEARES | B45: =E13 -> 121169 | C45: =D13 -> 120210 | D45: =_xlfn.RANK.EQ(B45,$B$39:$B$66)+COUNTIF($B$39:$B$66,B45)-1 -> 7 | E45: =INDEX($A$39:$B$66,MATCH(ROW()-38,$D$39:$D$66,0),1) -> BALEARES | F45: =LOOKUP(E45,$A$39:$A$66,$B$39:$B$66) -> 121169 | G45: =LOOKUP(E45,$A$39:$A$66,$C$39:$C$66) -> 120210
A46: =A14 -> BARCELONA | B46: =E14 -> 236648 | C46: =D14 -> 249632 | D46: =_xlfn.RANK.EQ(B46,$B$39:$B$66)+COUNTIF($B$39:$B$66,B46)-1 -> 3 | E46: =INDEX($A$39:$B$66,MATCH(ROW()-38,$D$39:$D$66,0),1) -> BILBAO | F46: =LOOKUP(E46,$A$39:$A$66,$B$39:$B$66) -> 70313 | G46: =LOOKUP(E46,$A$39:$A$66,$C$39:$C$66) -> 71221
A47: =A15 -> BILBAO | B47: =E15 -> 70313 | C47: =D15 -> 71221 | D47: =_xlfn.RANK.EQ(B47,$B$39:$B$66)+COUNTIF($B$39:$B$66,B47)-1 -> 8 | E47: =INDEX($A$39:$B$66,MATCH(ROW()-38,$D$39:$D$66,0),1) -> BAHÍA DE CÁDIZ | F47: =LOOKUP(E47,$A$39:$A$66,$B$39:$B$66) -> 56355 | G47: =LOOKUP(E47,$A$39:$A$66,$C$39:$C$66) -> 54646
A48: =A16 -> CARTAGENA | B48: =E16 -> 16084 | C48: =D16 -> 15023 | D48: =_xlfn.RANK.EQ(B48,$B$39:$B$66)+COUNTIF($B$39:$B$66,B48)-1 -> 15 | E48: =INDEX($A$39:$B$66,MATCH(ROW()-38,$D$39:$D$66,0),1) -> HUELVA | F48: =LOOKUP(E48,$A$39:$A$66,$B$39:$B$66) -> 50454 | G48: =LOOKUP(E48,$A$39:$A$66,$C$39:$C$66) -> 44283
A49: =A17 -> CASTELLÓN | B49: =E17 -> 8048 | C49: =D17 -> 5799 | D49: =_xlfn.RANK.EQ(B49,$B$39:$B$66)+COUNTIF($B$39:$B$66,B49)-1 -> 19 | E49: =INDEX($A$39:$B$66,MATCH(ROW()-38,$D$39:$D$66,0),1) -> VILAGARCÍA | F49: =LOOKUP(E49,$A$39:$A$66,$B$39:$B$66) -> 33622 | G49: =LOOKUP(E49,$A$39:$A$66,$C$39:$C$66) -> 33745
A50: =A18 -> CEUTA | B50: =E18 -> 8539 | C50: =D18 -> 16023 | D50: =_xlfn.RANK.EQ(B50,$B$39:$B$66)+COUNTIF($B$39:$B$66,B50)-1 -> 18 | E50: =INDEX($A$39:$B$66,MATCH(ROW()-38,$D$39:$D$66,0),1) -> GIJÓN | F50: =LOOKUP(E50,$A$39:$A$66,$B$39:$B$66) -> 21077 | G50: =LOOKUP(E50,$A$39:$A$66,$C$39:$C$66) -> 17639
... A66: =A34 -> VILAGARCÍA | B66: =E34 -> 33622 | C66: =D34 -> 33745 | D66: =_xlfn.RANK.EQ(B66,$B$39:$B$66)+COUNTIF($B$39:$B$66,B66)-1 -> 11 | E66: =INDEX($A$39:$B$66,MATCH(ROW()-38,$D$39:$D$66,0),1) -> AVILÉS | F66: =LOOKUP(E66,$A$39:$A$66,$B$39:$B$66) -> 0 | G66: =LOOKUP(E66,$A$39:$A$66,$C$39:$C$66) -> 0

Sheet Hoja1

Sheet TEUS exterior
F1: 10.3. CONTENEDORES IMPORTACIÓN-EXPORTACIÓN EXTERIOR (TEUS)
A5: Autoridad Portuaria | B5: ='Resumen general'!D6 -> Mes diciembre | D5: ='Resumen general'!F6 -> Acumulado desde enero | L5: ='Resumen general'!I4 -> Fecha: 29/10/2019
B6: ='Resumen general'!D7 -> 2017 | C6: ='Resumen general'!E7 -> 2018 | D6: ='Resumen general'!F7 -> 2017 | E6: ='Resumen general'!G7 -> 2018 | F6: Var. (%)
A7: A CORUÑA | B7: 0 | C7: 17 | D7: 3 | E7: 26 | F7: =((E7*100)/D7)-100 -> 766.66667
A8: ALICANTE | B8: 803 | C8: 1048 | D8: 17076 | E8: 13879 | F8: =((E8*100)/D8)-100 -> -18.722183
A9: ALMERÍA | B9: 498 | C9: 799 | D9: 6336 | E9: 6516 | F9: =((E9*100)/D9)-100 -> 2.8409091
A10: AVILÉS | B10: 0 | C10: 0 | D10: 0 | E10: 5 | F10: =((E10*100)/D10)-100 -> #DIV/0!
A11: BAHÍA DE ALGECIRAS | B11: 30823 | C11: 50286 | D11: 379659 | E11: 576352 | F11: =((E11*100)/D11)-100 -> 51.807806
A12: BAHÍA DE CÁDIZ | B12: 1920 | C12: 480 | D12: 27405 | E12: 11673 | F12: =((E12*100)/D12)-100 -> -57.405583
A13: BALEARES | B13: 0 | C13: 2 | D13: 49 | E13: 51 | F13: =((E13*100)/D13)-100 -> 4.0816327
A14: BARCELONA | B14: 121769 | C14: 143190 | D14: 1679703 | E14: 1735258.5 | F14: =((E14*100)/D14)-100 -> 3.3074609
A15: BILBAO | B15: 58977 | C15: 42985 | D15: 531024 | E15: 566640.25 | F15: =((E15*100)/D15)-100 -> 6.7070886
A16: CARTAGENA | B16: 4908 | C16: 4003 | D16: 74908 | E16: 67928 | F16: =((E16*100)/D16)-100 -> -9.3180969
A17: CASTELLÓN | B17: 17138 | C17: 13338 | D17: 204237 | E17: 213859 | F17: =((E17*100)/D17)-100 -> 4.7111934
A18: CEUTA | B18: 4 | C18: 240 | D18: 13 | E18: 2427 | F18: =((E18*100)/D18)-100 -> 18569.231
... A34: VILAGARCÍA | B34: 63 | C34: 148 | D34: 745 | E34: 1383 | F34: =((E34*100)/D34)-100 -> 85.637584
A35: Total | B35: =SUM(B7:B34) -> 435156 | C35: =SUM(C7:C34) -> 476539 | D35: =SUM(D7:D34) -> 5477777.7 | E35: =SUM(E7:E34) -> 5900137.7 | F35: =((E35*100)/D35)-100 -> 7.7104255
A36: No incluye tránsitos ni transbordos. Navegación de exterior.
B38: =E6 -> 2018 | C38: =D6 -> 2017 | F38: =B38 -> 2018 | G38: =C38 -> 2017
A39: =A7 -> A CORUÑA | B39: =E7 -> 26 | C39: =D7 -> 3 | D39: =_xlfn.RANK.EQ(B39,$B$39:$B$66)+COUNTIF($B$39:$B$66,B39)-1 -> 26 | E39: =INDEX($A$39:$B$66,MATCH(ROW()-38,$D$39:$D$66,0),1) -> VALENCIA | F39: =LOOKUP(E39,$A$39:$A$66,$B$39:$B$66) -> 2134368 | G39: =LOOKUP(E39,$A$39:$A$66,$C$39:$C$66) -> 2013472.7
A40: =A8 -> ALICANTE | B40: =E8 -> 13879 | C40: =D8 -> 17076 | D40: =_xlfn.RANK.EQ(B40,$B$39:$B$66)+COUNTIF($B$39:$B$66,B40)-1 -> 15 | E40: =INDEX($A$39:$B$66,MATCH(ROW()-38,$D$39:$D$66,0),1) -> BARCELONA | F40: =LOOKUP(E40,$A$39:$A$66,$B$39:$B$66) -> 1735258.5 | G40: =LOOKUP(E40,$A$39:$A$66,$C$39:$C$66) -> 1679703
A41: =A9 -> ALMERÍA | B41: =E9 -> 6516 | C41: =D9 -> 6336 | D41: =_xlfn.RANK.EQ(B41,$B$39:$B$66)+COUNTIF($B$39:$B$66,B41)-1 -> 18 | E41: =INDEX($A$39:$B$66,MATCH(ROW()-38,$D$39:$D$66,0),1) -> BAHÍA DE ALGECIRAS | F41: =LOOKUP(E41,$A$39:$A$66,$B$39:$B$66) -> 576352 | G41: =LOOKUP(E41,$A$39:$A$66,$C$39:$C$66) -> 379659
A42: =A10 -> AVILÉS | B42: =E10 -> 5 | C42: =D10 -> 0 | D42: =_xlfn.RANK.EQ(B42,$B$39:$B$66)+COUNTIF($B$39:$B$66,B42)-1 -> 28 | E42: =INDEX($A$39:$B$66,MATCH(ROW()-38,$D$39:$D$66,0),1) -> BILBAO | F42: =LOOKUP(E42,$A$39:$A$66,$B$39:$B$66) -> 566640.25 | G42: =LOOKUP(E42,$A$39:$A$66,$C$39:$C$66) -> 531024
A43: =A11 -> BAHÍA DE ALGECIRAS | B43: =E11 -> 576352 | C43: =D11 -> 379659 | D43: =_xlfn.RANK.EQ(B43,$B$39:$B$66)+COUNTIF($B$39:$B$66,B43)-1 -> 3 | E43: =INDEX($A$39:$B$66,MATCH(ROW()-38,$D$39:$D$66,0),1) -> CASTELLÓN | F43: =LOOKUP(E43,$A$39:$A$66,$B$39:$B$66) -> 213859 | G43: =LOOKUP(E43,$A$39:$A$66,$C$39:$C$66) -> 204237
A44: =A12 -> BAHÍA DE CÁDIZ | B44: =E12 -> 11673 | C44: =D12 -> 27405 | D44: =_xlfn.RANK.EQ(B44,$B$39:$B$66)+COUNTIF($B$39:$B$66,B44)-1 -> 16 | E44: =INDEX($A$39:$B$66,MATCH(ROW()-38,$D$39:$D$66,0),1) -> VIGO | F44: =LOOKUP(E44,$A$39:$A$66,$B$39:$B$66) -> 189566 | G44: =LOOKUP(E44,$A$39:$A$66,$C$39:$C$66) -> 151229
A45: =A13 -> BALEARES | B45: =E13 -> 51 | C45: =D13 -> 49 | D45: =_xlfn.RANK.EQ(B45,$B$39:$B$66)+COUNTIF($B$39:$B$66,B45)-1 -> 25 | E45: =INDEX($A$39:$B$66,MATCH(ROW()-38,$D$39:$D$66,0),1) -> LAS PALMAS | F45: =LOOKUP(E45,$A$39:$A$66,$B$39:$B$66) -> 83611 | G45: =LOOKUP(E45,$A$39:$A$66,$C$39:$C$66) -> 101043
A46: =A14 -> BARCELONA | B46: =E14 -> 1735258.5 | C46: =D14 -> 1679703 | D46: =_xlfn.RANK.EQ(B46,$B$39:$B$66)+COUNTIF($B$39:$B$66,B46)-1 -> 2 | E46: =INDEX($A$39:$B$66,MATCH(ROW()-38,$D$39:$D$66,0),1) -> MARÍN Y RÍA DE PONTEVEDRA | F46: =LOOKUP(E46,$A$39:$A$66,$B$39:$B$66) -> 74378 | G46: =LOOKUP(E46,$A$39:$A$66,$C$39:$C$66) -> 72010
A47: =A15 -> BILBAO | B47: =E15 -> 566640.25 | C47: =D15 -> 531024 | D47: =_xlfn.RANK.EQ(B47,$B$39:$B$66)+COUNTIF($B$39:$B$66,B47)-1 -> 4 | E47: =INDEX($A$39:$B$66,MATCH(ROW()-38,$D$39:$D$66,0),1) -> CARTAGENA | F47: =LOOKUP(E47,$A$39:$A$66,$B$39:$B$66) -> 67928 | G47: =LOOKUP(E47,$A$39:$A$66,$C$39:$C$66) -> 74908
A48: =A16 -> CARTAGENA | B48: =E16 -> 67928 | C48: =D16 -> 74908 | D48: =_xlfn.RANK.EQ(B48,$B$39:$B$66)+COUNTIF($B$39:$B$66,B48)-1 -> 9 | E48: =INDEX($A$39:$B$66,MATCH(ROW()-38,$D$39:$D$66,0),1) -> GIJÓN | F48: =LOOKUP(E48,$A$39:$A$66,$B$39:$B$66) -> 58275 | G48: =LOOKUP(E48,$A$39:$A$66,$C$39:$C$66) -> 58706
A49: =A17 -> CASTELLÓN | B49: =E17 -> 213859 | C49: =D17 -> 204237 | D49: =_xlfn.RANK.EQ(B49,$B$39:$B$66)+COUNTIF($B$39:$B$66,B49)-1 -> 5 | E49: =INDEX($A$39:$B$66,MATCH(ROW()-38,$D$39:$D$66,0),1) -> TARRAGONA | F49: =LOOKUP(E49,$A$39:$A$66,$B$39:$B$66) -> 48548 | G49: =LOOKUP(E49,$A$39:$A$66,$C$39:$C$66) -> 48693
A50: =A18 -> CEUTA | B50: =E18 -> 2427 | C50: =D18 -> 13 | D50: =_xlfn.RANK.EQ(B50,$B$39:$B$66)+COUNTIF($B$39:$B$66,B50)-1 -> 22 | E50: =INDEX($A$39:$B$66,MATCH(ROW()-38,$D$39:$D$66,0),1) -> SANTA CRUZ DE TENERIFE | F50: =LOOKUP(E50,$A$39:$A$66,$B$39:$B$66) -> 47011 | G50: =LOOKUP(E50,$A$39:$A$66,$C$39:$C$66) -> 52636
... A66: =A34 -> VILAGARCÍA | B66: =E34 -> 1383 | C66: =D34 -> 745 | D66: =_xlfn.RANK.EQ(B66,$B$39:$B$66)+COUNTIF($B$39:$B$66,B66)-1 -> 23 | E66: =INDEX($A$39:$B$66,MATCH(ROW()-38,$D$39:$D$66,0),1) -> AVILÉS | F66: =LOOKUP(E66,$A$39:$A$66,$B$39:$B$66) -> 5 | G66: =LOOKUP(E66,$A$39:$A$66,$C$39:$C$66) -> 0

Sheet TEUS nacional y exterior
F1: 10.4. CONTENEDORES NACIONAL Y EXTERIOR (TEUS)
A5: Autoridad Portuaria | B5: ='Resumen general'!D6 -> Mes diciembre | D5: ='Resumen general'!F6 -> Acumulado desde enero | L5: ='Resumen general'!I4 -> Fecha: 29/10/2019
B6: ='Resumen general'!D7 -> 2017 | C6: ='Resumen general'!E7 -> 2018 | D6: ='Resumen general'!F7 -> 2017 | E6: ='Resumen general'!G7 -> 2018 | F6: Var. (%)
A7: A CORUÑA | B7: 0 | C7: 17 | D7: 3 | E7: 27 | F7: =((E7*100)/D7)-100 -> 800
A8: ALICANTE | B8: 13954 | C8: 13273 | D8: 161507 | E8: 161786 | F8: =((E8*100)/D8)-100 -> 0.17274793
A9: ALMERÍA | B9: 504 | C9: 1108 | D9: 6592 | E9: 9360.75 | F9: =((E9*100)/D9)-100 -> 42.001669
A10: AVILÉS | B10: 0 | C10: 0 | D10: 0 | E10: 5 | F10: =((E10*100)/D10)-100 -> #DIV/0!
A11: BAHÍA DE ALGECIRAS | B11: 30831 | C11: 50309 | D11: 382180 | E11: 577814 | F11: =((E11*100)/D11)-100 -> 51.188969
A12: BAHÍA DE CÁDIZ | B12: 6799 | C12: 5712 | D12: 82051 | E12: 68028 | F12: =((E12*100)/D12)-100 -> -17.09059
A13: BALEARES | B13: 7557 | C13: 7494 | D13: 120259 | E13: 121220 | F13: =((E13*100)/D13)-100 -> 0.79910859
A14: BARCELONA | B14: 141408 | C14: 160444 | D14: 1929335 | E14: 1971906 | F14: =((E14*100)/D14)-100 -> 2.2065126
A15: BILBAO | B15: 65818 | C15: 48337 | D15: 602245 | E15: 636952.75 | F15: =((E15*100)/D15)-100 -> 5.7630615
A16: CARTAGENA | B16: 5663 | C16: 4729 | D16: 89931 | E16: 84012 | F16: =((E16*100)/D16)-100 -> -6.5817126
A17: CASTELLÓN | B17: 17814 | C17: 13667 | D17: 210036 | E17: 221907 | F17: =((E17*100)/D17)-100 -> 5.6518882
A18: CEUTA | B18: 728 | C18: 924 | D18: 16036 | E18: 10966 | F18: =((E18*100)/D18)-100 -> -31.616363
... A34: VILAGARCÍA | B34: 2741 | C34: 3129 | D34: 34490 | E34: 35005 | F34: =((E34*100)/D34)-100 -> 1.4931864
A35: Total | B35: =SUM(B7:B34) -> 599346 | C35: =SUM(C7:C34) -> 636589 | D35: =SUM(D7:D34) -> 7450154.7 | E35: =SUM(E7:E34) -> 7928850.9 | F35: =((E35*100)/D35)-100 -> 6.4253192
A36: No incluye tránsitos ni transbordos. Navegación de cabotaje y exterior.
B38: =E6 -> 2018 | C38: =D6 -> 2017 | F38: =B38 -> 2018 | G38: =C38 -> 2017
A39: =A7 -> A CORUÑA | B39: =E7 -> 27 | C39: =D7 -> 3 | D39: =_xlfn.RANK.EQ(B39,$B$39:$B$66)+COUNTIF($B$39:$B$66,B39)-1 -> 26 | E39: =INDEX($A$39:$B$66,MATCH(ROW()-38,$D$39:$D$66,0),1) -> VALENCIA | F39: =LOOKUP(E39,$A$39:$A$66,$B$39:$B$66) -> 2356443 | G39: =LOOKUP(E39,$A$39:$A$66,$C$39:$C$66) -> 2214681.7
A40: =A8 -> ALICANTE | B40: =E8 -> 161786 | C40: =D8 -> 161507 | D40: =_xlfn.RANK.EQ(B40,$B$39:$B$66)+COUNTIF($B$39:$B$66,B40)-1 -> 9 | E40: =INDEX($A$39:$B$66,MATCH(ROW()-38,$D$39:$D$66,0),1) -> BARCELONA | F40: =LOOKUP(E40,$A$39:$A$66,$B$39:$B$66) -> 1971906 | G40: =LOOKUP(E40,$A$39:$A$66,$C$39:$C$66) -> 1929335
A41: =A9 -> ALMERÍA | B41: =E9 -> 9360.75 | C41: =D9 -> 6592 | D41: =_xlfn.RANK.EQ(B41,$B$39:$B$66)+COUNTIF($B$39:$B$66,B41)-1 -> 23 | E41: =INDEX($A$39:$B$66,MATCH(ROW()-38,$D$39:$D$66,0),1) -> BILBAO | F41: =LOOKUP(E41,$A$39:$A$66,$B$39:$B$66) -> 636952.75 | G41: =LOOKUP(E41,$A$39:$A$66,$C$39:$C$66) -> 602245
A42: =A10 -> AVILÉS | B42: =E10 -> 5 | C42: =D10 -> 0 | D42: =_xlfn.RANK.EQ(B42,$B$39:$B$66)+COUNTIF($B$39:$B$66,B42)-1 -> 28 | E42: =INDEX($A$39:$B$66,MATCH(ROW()-38,$D$39:$D$66,0),1) -> BAHÍA DE ALGECIRAS | F42: =LOOKUP(E42,$A$39:$A$66,$B$39:$B$66) -> 577814 | G42: =LOOKUP(E42,$A$39:$A$66,$C$39:$C$66) -> 382180
A43: =A11 -> BAHÍA DE ALGECIRAS | B43: =E11 -> 577814 | C43: =D11 -> 382180 | D43: =_xlfn.RANK.EQ(B43,$B$39:$B$66)+COUNTIF($B$39:$B$66,B43)-1 -> 4 | E43: =INDEX($A$39:$B$66,MATCH(ROW()-38,$D$39:$D$66,0),1) -> LAS PALMAS | F43: =LOOKUP(E43,$A$39:$A$66,$B$39:$B$66) -> 557822 | G43: =LOOKUP(E43,$A$39:$A$66,$C$39:$C$66) -> 567486
A44: =A12 -> BAHÍA DE CÁDIZ | B44: =E12 -> 68028 | C44: =D12 -> 82051 | D44: =_xlfn.RANK.EQ(B44,$B$39:$B$66)+COUNTIF($B$39:$B$66,B44)-1 -> 15 | E44: =INDEX($A$39:$B$66,MATCH(ROW()-38,$D$39:$D$66,0),1) -> SANTA CRUZ DE TENERIFE | F44: =LOOKUP(E44,$A$39:$A$66,$B$39:$B$66) -> 405261 | G44: =LOOKUP(E44,$A$39:$A$66,$C$39:$C$66) -> 401619
A45: =A13 -> BALEARES | B45: =E13 -> 121220 | C45: =D13 -> 120259 | D45: =_xlfn.RANK.EQ(B45,$B$39:$B$66)+COUNTIF($B$39:$B$66,B45)-1 -> 11 | E45: =INDEX($A$39:$B$66,MATCH(ROW()-38,$D$39:$D$66,0),1) -> CASTELLÓN | F45: =LOOKUP(E45,$A$39:$A$66,$B$39:$B$66) -> 221907 | G45: =LOOKUP(E45,$A$39:$A$66,$C$39:$C$66) -> 210036
A46: =A14 -> BARCELONA | B46: =E14 -> 1971906 | C46: =D14 -> 1929335 | D46: =_xlfn.RANK.EQ(B46,$B$39:$B$66)+COUNTIF($B$39:$B$66,B46)-1 -> 2 | E46: =INDEX($A$39:$B$66,MATCH(ROW()-38,$D$39:$D$66,0),1) -> VIGO | F46: =LOOKUP(E46,$A$39:$A$66,$B$39:$B$66) -> 209689 | G46: =LOOKUP(E46,$A$39:$A$66,$C$39:$C$66) -> 174313
A47: =A15 -> BILBAO | B47: =E15 -> 636952.75 | C47: =D15 -> 602245 | D47: =_xlfn.RANK.EQ(B47,$B$39:$B$66)+COUNTIF($B$39:$B$66,B47)-1 -> 3 | E47: =INDEX($A$39:$B$66,MATCH(ROW()-38,$D$39:$D$66,0),1) -> ALICANTE | F47: =LOOKUP(E47,$A$39:$A$66,$B$39:$B$66) -> 161786 | G47: =LOOKUP(E47,$A$39:$A$66,$C$39:$C$66) -> 161507
A48: =A16 -> CARTAGENA | B48: =E16 -> 84012 | C48: =D16 -> 89931 | D48: =_xlfn.RANK.EQ(B48,$B$39:$B$66)+COUNTIF($B$39:$B$66,B48)-1 -> 12 | E48: =INDEX($A$39:$B$66,MATCH(ROW()-38,$D$39:$D$66,0),1) -> SEVILLA | F48: =LOOKUP(E48,$A$39:$A$66,$B$39:$B$66) -> 138130 | G48: =LOOKUP(E48,$A$39:$A$66,$C$39:$C$66) -> 105566
A49: =A17 -> CASTELLÓN | B49: =E17 -> 221907 | C49: =D17 -> 210036 | D49: =_xlfn.RANK.EQ(B49,$B$39:$B$66)+COUNTIF($B$39:$B$66,B49)-1 -> 7 | E49: =INDEX($A$39:$B$66,MATCH(ROW()-38,$D$39:$D$66,0),1) -> BALEARES | F49: =LOOKUP(E49,$A$39:$A$66,$B$39:$B$66) -> 121220 | G49: =LOOKUP(E49,$A$39:$A$66,$C$39:$C$66) -> 120259
A50: =A18 -> CEUTA | B50: =E18 -> 10966 | C50: =D18 -> 16036 | D50: =_xlfn.RANK.EQ(B50,$B$39:$B$66)+COUNTIF($B$39:$B$66,B50)-1 -> 21 | E50: =INDEX($A$39:$B$66,MATCH(ROW()-38,$D$39:$D$66,0),1) -> CARTAGENA | F50: =LOOKUP(E50,$A$39:$A$66,$B$39:$B$66) -> 84012 | G50: =LOOKUP(E50,$A$39:$A$66,$C$39:$C$66) -> 89931
... A66: =A34 -> VILAGARCÍA | B66: =E34 -> 35005 | C66: =D34 -> 34490 | D66: =_xlfn.RANK.EQ(B66,$B$39:$B$66)+COUNTIF($B$39:$B$66,B66)-1 -> 19 | E66: =INDEX($A$39:$B$66,MATCH(ROW()-38,$D$39:$D$66,0),1) -> AVILÉS | F66: =LOOKUP(E66,$A$39:$A$66,$B$39:$B$66) -> 5 | G66: =LOOKUP(E66,$A$39:$A$66,$C$39:$C$66) -> 0

Sheet Pasajeros total
F1: 11. PASAJEROS EN RÉGIMEN DE TRANSPORTE Y DE CRUCERO
I2: (número)
A5: Autoridad Portuaria | B5: ='Resumen general'!D6 -> Mes diciembre | D5: ='Resumen general'!F6 -> Acumulado desde enero | L5: ='Resumen general'!I4 -> Fecha: 29/10/2019
B6: ='Resumen general'!D7 -> 2017 | C6: ='Resumen general'!E7 -> 2018 | D6: ='Resumen general'!F7 -> 2017 | E6: ='Resumen general'!G7 -> 2018 | F6: Var. (%)
A7: A CORUÑA | B7: 9606 | C7: 3002 | D7: 184069 | E7: 178965 | F7: =((E7*100)/D7)-100 -> -2.7728732
A8: ALICANTE | B8: 10886 | C8: 12171 | D8: 227208 | E8: 227297 | F8: =((E8*100)/D8)-100 -> 0.039171156
A9: ALMERÍA | B9: 49808 | C9: 52165 | D9: 951468 | E9: 963907 | F9: =((E9*100)/D9)-100 -> 1.3073482
A10: AVILÉS | B10: 305 | C10: 0 | D10: 2512 | E10: 1986 | F10: =((E10*100)/D10)-100 -> -20.93949
A11: BAHÍA DE ALGECIRAS | B11: 359222 | C11: 376264 | D11: 5539129 | E11: 5952840 | F11: =((E11*100)/D11)-100 -> 7.4688818
A12: BAHÍA DE CÁDIZ | B12: 27735 | C12: 26648 | D12: 408255 | E12: 447545 | F12: =((E12*100)/D12)-100 -> 9.623887
A13: BALEARES | B13: 273314 | C13: 308609 | D13: 8248346 | E13: 8942434 | F13: =((E13*100)/D13)-100 -> 8.4148749
A14: BARCELONA | B14: 187070 | C14: 173576 | D14: 4136999 | E14: 4493646 | F14: =((E14*100)/D14)-100 -> 8.620911
A15: BILBAO | B15: 4698 | C15: 4655 | D15: 186546 | E15: 200631 | F15: =((E15*100)/D15)-100 -> 7.5504165
A16: CARTAGENA | B16: 3826 | C16: 11664 | D16: 236279 | E16: 229313 | F16: =((E16*100)/D16)-100 -> -2.9482095
A17: CASTELLÓN | B17: 0 | C17: 0 | D17: 411 | E17: 568 | F17: =((E17*100)/D17)-100 -> 38.199513
A18: CEUTA | B18: 159908 | C18: 159909 | D18: 1900403 | E18: 2012467 | F18: =((E18*100)/D18)-100 -> 5.8968545
... A34: VILAGARCÍA | B34: 0 | C34: 0 | D34: 1596 | E34: 1158 | F34: =((E34*100)/D34)-100 -> -27.443609
A35: Total | B35: =SUM(B7:B34) -> 2246606 | C35: =SUM(C7:C34) -> 2229352 | D35: =SUM(D7:D34) -> 34072845 | E35: =SUM(E7:E34) -> 36100685 | F35: =((E35*100)/D35)-100 -> 5.9514842
A36: Incluye embarques, desembarques y en tránsito.
B38: =E6 -> 2018 | C38: =D6 -> 2017 | F38: =B38 -> 2018 | G38: =C38 -> 2017
A39: =A7 -> A CORUÑA | B39: =E7 -> 178965 | C39: =D7 -> 184069 | D39: =_xlfn.RANK.EQ(B39,$B$39:$B$66)+COUNTIF($B$39:$B$66,B39)-1 -> 17 | E39: =INDEX($A$39:$B$66,MATCH(ROW()-38,$D$39:$D$66,0),1) -> BALEARES | F39: =LOOKUP(E39,$A$39:$A$66,$B$39:$B$66) -> 8942434 | G39: =LOOKUP(E39,$A$39:$A$66,$C$39:$C$66) -> 8248346
A40: =A8 -> ALICANTE | B40: =E8 -> 227297 | C40: =D8 -> 227208 | D40: =_xlfn.RANK.EQ(B40,$B$39:$B$66)+COUNTIF($B$39:$B$66,B40)-1 -> 15 | E40: =INDEX($A$39:$B$66,MATCH(ROW()-38,$D$39:$D$66,0),1) -> SANTA CRUZ DE TENERIFE | F40: =LOOKUP(E40,$A$39:$A$66,$B$39:$B$66) -> 6084062 | G40: =LOOKUP(E40,$A$39:$A$66,$C$39:$C$66) -> 5884404
A41: =A9 -> ALMERÍA | B41: =E9 -> 963907 | C41: =D9 -> 951468 | D41: =_xlfn.RANK.EQ(B41,$B$39:$B$66)+COUNTIF($B$39:$B$66,B41)-1 -> 8 | E41: =INDEX($A$39:$B$66,MATCH(ROW()-38,$D$39:$D$66,0),1) -> BAHÍA DE ALGECIRAS | F41: =LOOKUP(E41,$A$39:$A$66,$B$39:$B$66) -> 5952840 | G41: =LOOKUP(E41,$A$39:$A$66,$C$39:$C$66) -> 5539129
A42: =A10 -> AVILÉS | B42: =E10 -> 1986 | C42: =D10 -> 2512 | D42: =_xlfn.RANK.EQ(B42,$B$39:$B$66)+COUNTIF($B$39:$B$66,B42)-1 -> 24 | E42: =INDEX($A$39:$B$66,MATCH(ROW()-38,$D$39:$D$66,0),1) -> BARCELONA | F42: =LOOKUP(E42,$A$39:$A$66,$B$39:$B$66) -> 4493646 | G42: =LOOKUP(E42,$A$39:$A$66,$C$39:$C$66) -> 4136999
A43: =A11 -> BAHÍA DE ALGECIRAS | B43: =E11 -> 5952840 | C43: =D11 -> 5539129 | D43: =_xlfn.RANK.EQ(B43,$B$39:$B$66)+COUNTIF($B$39:$B$66,B43)-1 -> 3 | E43: =INDEX($A$39:$B$66,MATCH(ROW()-38,$D$39:$D$66,0),1) -> LAS PALMAS | F43: =LOOKUP(E43,$A$39:$A$66,$B$39:$B$66) -> 2704456 | G43: =LOOKUP(E43,$A$39:$A$66,$C$39:$C$66) -> 2574972
A44: =A12 -> BAHÍA DE CÁDIZ | B44: =E12 -> 447545 | C44: =D12 -> 408255 | D44: =_xlfn.RANK.EQ(B44,$B$39:$B$66)+COUNTIF($B$39:$B$66,B44)-1 -> 11 | E44: =INDEX($A$39:$B$66,MATCH(ROW()-38,$D$39:$D$66,0),1) -> CEUTA | F44: =LOOKUP(E44,$A$39:$A$66,$B$39:$B$66) -> 2012467 | G44: =LOOKUP(E44,$A$39:$A$66,$C$39:$C$66) -> 1900403
A45: =A13 -> BALEARES | B45: =E13 -> 8942434 | C45: =D13 -> 8248346 | D45: =_xlfn.RANK.EQ(B45,$B$39:$B$66)+COUNTIF($B$39:$B$66,B45)-1 -> 1 | E45: =INDEX($A$39:$B$66,MATCH(ROW()-38,$D$39:$D$66,0),1) -> VALENCIA | F45: =LOOKUP(E45,$A$39:$A$66,$B$39:$B$66) -> 1071963 | G45: =LOOKUP(E45,$A$39:$A$66,$C$39:$C$66) -> 1062580
A46: =A14 -> BARCELONA | B46: =E14 -> 4493646 | C46: =D14 -> 4136999 | D46: =_xlfn.RANK.EQ(B46,$B$39:$B$66)+COUNTIF($B$39:$B$66,B46)-1 -> 4 | E46: =INDEX($A$39:$B$66,MATCH(ROW()-38,$D$39:$D$66,0),1) -> ALMERÍA | F46: =LOOKUP(E46,$A$39:$A$66,$B$39:$B$66) -> 963907 | G46: =LOOKUP(E46,$A$39:$A$66,$C$39:$C$66) -> 951468
A47: =A15 -> BILBAO | B47: =E15 -> 200631 | C47: =D15 -> 186546 | D47: =_xlfn.RANK.EQ(B47,$B$39:$B$66)+COUNTIF($B$39:$B$66,B47)-1 -> 16 | E47: =INDEX($A$39:$B$66,MATCH(ROW()-38,$D$39:$D$66,0),1) -> MÁLAGA | F47: =LOOKUP(E47,$A$39:$A$66,$B$39:$B$66) -> 873866 | G47: =LOOKUP(E47,$A$39:$A$66,$C$39:$C$66) -> 808530
A48: =A16 -> CARTAGENA | B48: =E16 -> 229313 | C48: =D16 -> 236279 | D48: =_xlfn.RANK.EQ(B48,$B$39:$B$66)+COUNTIF($B$39:$B$66,B48)-1 -> 14 | E48: =INDEX($A$39:$B$66,MATCH(ROW()-38,$D$39:$D$66,0),1) -> MELILLA | F48: =LOOKUP(E48,$A$39:$A$66,$B$39:$B$66) -> 828659 | G48: =LOOKUP(E48,$A$39:$A$66,$C$39:$C$66) -> 833033
A49: =A17 -> CASTELLÓN | B49: =E17 -> 568 | C49: =D17 -> 411 | D49: =_xlfn.RANK.EQ(B49,$B$39:$B$66)+COUNTIF($B$39:$B$66,B49)-1 -> 27 | E49: =INDEX($A$39:$B$66,MATCH(ROW()-38,$D$39:$D$66,0),1) -> BAHÍA DE CÁDIZ | F49: =LOOKUP(E49,$A$39:$A$66,$B$39:$B$66) -> 447545 | G49: =LOOKUP(E49,$A$39:$A$66,$C$39:$C$66) -> 408255
A50: =A18 -> CEUTA | B50: =E18 -> 2012467 | C50: =D18 -> 1900403 | D50: =_xlfn.RANK.EQ(B50,$B$39:$B$66)+COUNTIF($B$39:$B$66,B50)-1 -> 6 | E50: =INDEX($A$39:$B$66,MATCH(ROW()-38,$D$39:$D$66,0),1) -> MOTRIL | F50: =LOOKUP(E50,$A$39:$A$66,$B$39:$B$66) -> 263183 | G50: =LOOKUP(E50,$A$39:$A$66,$C$39:$C$66) -> 349126
... A66: =A34 -> VILAGARCÍA | B66: =E34 -> 1158 | C66: =D34 -> 1596 | D66: =_xlfn.RANK.EQ(B66,$B$39:$B$66)+COUNTIF($B$39:$B$66,B66)-1 -> 26 | E66: =INDEX($A$39:$B$66,MATCH(ROW()-38,$D$39:$D$66,0),1) -> MARÍN Y RÍA DE PONTEVEDRA | F66: =LOOKUP(E66,$A$39:$A$66,$B$39:$B$66) -> 0 | G66: =LOOKUP(E66,$A$39:$A$66,$C$39:$C$66) -> 143

Sheet Pasajeros crucero
F1: 11.1. PASAJEROS DE CRUCERO (número)
A5: Autoridad Portuaria | B5: ='Resumen general'!D6 -> Mes diciembre | D5: ='Resumen general'!F6 -> Acumulado desde enero | L5: ='Resumen general'!I4 -> Fecha: 29/10/2019
B6: ='Resumen general'!D7 -> 2017 | C6: ='Resumen general'!E7 -> 2018 | D6: ='Resumen general'!F7 -> 2017 | E6: ='Resumen general'!G7 -> 2018 | F6: Var. (%)
A7: A CORUÑA | B7: 9606 | C7: 3002 | D7: 184069 | E7: 178965 | F7: =((E7*100)/D7)-100 -> -2.7728732
A8: ALICANTE | B8: 6652 | C8: 7514 | D8: 86482 | E8: 100752 | F8: =((E8*100)/D8)-100 -> 16.500543
A9: ALMERÍA | B9: 1053 | C9: 581 | D9: 25975 | E9: 29384 | F9: =((E9*100)/D9)-100 -> 13.124158
A10: AVILÉS | B10: 305 | C10: 0 | D10: 2512 | E10: 1986 | F10: =((E10*100)/D10)-100 -> -20.93949
A11: BAHÍA DE ALGECIRAS | B11: 0 | C11: 0 | D11: 381 | E11: 0 | F11: =((E11*100)/D11)-100 -> -100
A12: BAHÍA DE CÁDIZ | B12: 26361 | C12: 24942 | D12: 387109 | E12: 424900 | F12: =((E12*100)/D12)-100 -> 9.7623667
A13: BALEARES | B13: 60068 | C13: 49517 | D13: 2130517 | E13: 2430149 | F13: =((E13*100)/D13)-100 -> 14.063816
A14: BARCELONA | B14: 116315 | C14: 97406 | D14: 2712247 | E14: 3041963 | F14: =((E14*100)/D14)-100 -> 12.156562
A15: BILBAO | B15: 0 | C15: 0 | D15: 84209 | E15: 84157 | F15: =((E15*100)/D15)-100 -> -0.061751119
A16: CARTAGENA | B16: 3826 | C16: 11664 | D16: 236279 | E16: 229313 | F16: =((E16*100)/D16)-100 -> -2.9482095
A17: CASTELLÓN | B17: 0 | C17: 0 | D17: 411 | E17: 568 | F17: =((E17*100)/D17)-100 -> 38.199513
A18: CEUTA | B18: 1769 | C18: 0 | D18: 17045 | E18: 15861 | F18: =((E18*100)/D18)-100 -> -6.9463186
... A34: VILAGARCÍA | B34: 0 | C34: 0 | D34: 1596 | E34: 1158 | F34: =((E34*100)/D34)-100 -> -27.443609
A35: Total | B35: =SUM(B7:B34) -> 704958 | C35: =SUM(C7:C34) -> 610538 | D35: =SUM(D7:D34) -> 9281923 | E35: =SUM(E7:E34) -> 10170379 | F35: =((E35*100)/D35)-100 -> 9.5718958
A36: Incluye embarques (inicio de línea), desembarques (fin de línea) y en tránsito.
B38: =E6 -> 2018 | C38: =D6 -> 2017 | F38: =B38 -> 2018 | G38: =C38 -> 2017
A39: =A7 -> A CORUÑA | B39: =E7 -> 178965 | C39: =D7 -> 184069 | D39: =_xlfn.RANK.EQ(B39,$B$39:$B$66)+COUNTIF($B$39:$B$66,B39)-1 -> 9 | E39: =INDEX($A$39:$B$66,MATCH(ROW()-38,$D$39:$D$66,0),1) -> BARCELONA | F39: =LOOKUP(E39,$A$39:$A$66,$B$39:$B$66) -> 3041963 | G39: =LOOKUP(E39,$A$39:$A$66,$C$39:$C$66) -> 2712247
A40: =A8 -> ALICANTE | B40: =E8 -> 100752 | C40: =D8 -> 86482 | D40: =_xlfn.RANK.EQ(B40,$B$39:$B$66)+COUNTIF($B$39:$B$66,B40)-1 -> 11 | E40: =INDEX($A$39:$B$66,MATCH(ROW()-38,$D$39:$D$66,0),1) -> BALEARES | F40: =LOOKUP(E40,$A$39:$A$66,$B$39:$B$66) -> 2430149 | G40: =LOOKUP(E40,$A$39:$A$66,$C$39:$C$66) -> 2130517
A41: =A9 -> ALMERÍA | B41: =E9 -> 29384 | C41: =D9 -> 25975 | D41: =_xlfn.RANK.EQ(B41,$B$39:$B$66)+COUNTIF($B$39:$B$66,B41)-1 -> 14 | E41: =INDEX($A$39:$B$66,MATCH(ROW()-38,$D$39:$D$66,0),1) -> LAS PALMAS | F41: =LOOKUP(E41,$A$39:$A$66,$B$39:$B$66) -> 1332556 | G41: =LOOKUP(E41,$A$39:$A$66,$C$39:$C$66) -> 1243114
A42: =A10 -> AVILÉS | B42: =E10 -> 1986 | C42: =D10 -> 2512 | D42: =_xlfn.RANK.EQ(B42,$B$39:$B$66)+COUNTIF($B$39:$B$66,B42)-1 -> 22 | E42: =INDEX($A$39:$B$66,MATCH(ROW()-38,$D$39:$D$66,0),1) -> SANTA CRUZ DE TENERIFE | F42: =LOOKUP(E42,$A$39:$A$66,$B$39:$B$66) -> 1020128 | G42: =LOOKUP(E42,$A$39:$A$66,$C$39:$C$66) -> 964336
A43: =A11 -> BAHÍA DE ALGECIRAS | B43: =E11 -> 0 | C43: =D11 -> 381 | D43: =_xlfn.RANK.EQ(B43,$B$39:$B$66)+COUNTIF($B$39:$B$66,B43)-1 -> 28 | E43: =INDEX($A$39:$B$66,MATCH(ROW()-38,$D$39:$D$66,0),1) -> MÁLAGA | F43: =LOOKUP(E43,$A$39:$A$66,$B$39:$B$66) -> 507421 | G43: =LOOKUP(E43,$A$39:$A$66,$C$39:$C$66) -> 509644
A44: =A12 -> BAHÍA DE CÁDIZ | B44: =E12 -> 424900 | C44: =D12 -> 387109 | D44: =_xlfn.RANK.EQ(B44,$B$39:$B$66)+COUNTIF($B$39:$B$66,B44)-1 -> 6 | E44: =INDEX($A$39:$B$66,MATCH(ROW()-38,$D$39:$D$66,0),1) -> BAHÍA DE CÁDIZ | F44: =LOOKUP(E44,$A$39:$A$66,$B$39:$B$66) -> 424900 | G44: =LOOKUP(E44,$A$39:$A$66,$C$39:$C$66) -> 387109
A45: =A13 -> BALEARES | B45: =E13 -> 2430149 | C45: =D13 -> 2130517 | D45: =_xlfn.RANK.EQ(B45,$B$39:$B$66)+COUNTIF($B$39:$B$66,B45)-1 -> 2 | E45: =INDEX($A$39:$B$66,MATCH(ROW()-38,$D$39:$D$66,0),1) -> VALENCIA | F45: =LOOKUP(E45,$A$39:$A$66,$B$39:$B$66) -> 421518 | G45: =LOOKUP(E45,$A$39:$A$66,$C$39:$C$66) -> 412328
A46: =A14 -> BARCELONA | B46: =E14 -> 3041963 | C46: =D14 -> 2712247 | D46: =_xlfn.RANK.EQ(B46,$B$39:$B$66)+COUNTIF($B$39:$B$66,B46)-1 -> 1 | E46: =INDEX($A$39:$B$66,MATCH(ROW()-38,$D$39:$D$66,0),1) -> CARTAGENA | F46: =LOOKUP(E46,$A$39:$A$66,$B$39:$B$66) -> 229313 | G46: =LOOKUP(E46,$A$39:$A$66,$C$39:$C$66) -> 236279
A47: =A15 -> BILBAO | B47: =E15 -> 84157 | C47: =D15 -> 84209 | D47: =_xlfn.RANK.EQ(B47,$B$39:$B$66)+COUNTIF($B$39:$B$66,B47)-1 -> 13 | E47: =INDEX($A$39:$B$66,MATCH(ROW()-38,$D$39:$D$66,0),1) -> A CORUÑA | F47: =LOOKUP(E47,$A$39:$A$66,$B$39:$B$66) -> 178965 | G47: =LOOKUP(E47,$A$39:$A$66,$C$39:$C$66) -> 184069
A48: =A16 -> CARTAGENA | B48: =E16 -> 229313 | C48: =D16 -> 236279 | D48: =_xlfn.RANK.EQ(B48,$B$39:$B$66)+COUNTIF($B$39:$B$66,B48)-1 -> 8 | E48: =INDEX($A$39:$B$66,MATCH(ROW()-38,$D$39:$D$66,0),1) -> VIGO | F48: =LOOKUP(E48,$A$39:$A$66,$B$39:$B$66) -> 158449 | G48: =LOOKUP(E48,$A$39:$A$66,$C$39:$C$66) -> 140188
A49: =A17 -> CASTELLÓN | B49: =E17 -> 568 | C49: =D17 -> 411 | D49: =_xlfn.RANK.EQ(B49,$B$39:$B$66)+COUNTIF($B$39:$B$66,B49)-1 -> 25 | E49: =INDEX($A$39:$B$66,MATCH(ROW()-38,$D$39:$D$66,0),1) -> ALICANTE | F49: =LOOKUP(E49,$A$39:$A$66,$B$39:$B$66) -> 100752 | G49: =LOOKUP(E49,$A$39:$A$66,$C$39:$C$66) -> 86482
A50: =A18 -> CEUTA | B50: =E18 -> 15861 | C50: =D18 -> 17045 | D50: =_xlfn.RANK.EQ(B50,$B$39:$B$66)+COUNTIF($B$39:$B$66,B50)-1 -> 17 | E50: =INDEX($A$39:$B$66,MATCH(ROW()-38,$D$39:$D$66,0),1) -> TARRAGONA | F50: =LOOKUP(E50,$A$39:$A$66,$B$39:$B$66) -> 98141 | G50: =LOOKUP(E50,$A$39:$A$66,$C$39:$C$66) -> 51394
... A66: =A34 -> VILAGARCÍA | B66: =E34 -> 1158 | C66: =D34 -> 1596 | D66: =_xlfn.RANK.EQ(B66,$B$39:$B$66)+COUNTIF($B$39:$B$66,B66)-1 -> 24 | E66: =INDEX($A$39:$B$66,MATCH(ROW()-38,$D$39:$D$66,0),1) -> BAHÍA DE ALGECIRAS | F66: =LOOKUP(E66,$A$39:$A$66,$B$39:$B$66) -> 0 | G66: =LOOKUP(E66,$A$39:$A$66,$C$39:$C$66) -> 381

Sheet Automóviles régimen pasaje
F1: 12.1. AUTOMÓVILES EN RÉGIMEN DE PASAJE (unidades)
A5: Autoridad Portuaria | B5: ='Resumen general'!D6 -> Mes diciembre | D5: ='Resumen general'!F6 -> Acumulado desde enero | L5: ='Resumen general'!I4 -> Fecha: 29/10/2019
B6: ='Resumen general'!D7 -> 2017 | C6: ='Resumen general'!E7 -> 2018 | D6: ='Resumen general'!F7 -> 2017 | E6: ='Resumen general'!G7 -> 2018 | F6: Var. (%)
A7: A CORUÑA | B7: 0 | C7: 0 | D7: 0 | E7: 0 | F7: =((E7*100)/D7)-100 -> #DIV/0!
A8: ALICANTE | B8: 1390 | C8: 1432 | D8: 39297 | E8: 34978 | F8: =((E8*100)/D8)-100 -> -10.990661
A9: ALMERÍA | B9: 11136 | C9: 13254 | D9: 204745 | E9: 216658 | F9: =((E9*100)/D9)-100 -> 5.8184571
A10: AVILÉS | B10: 0 | C10: 0 | D10: 0 | E10: 0 | F10: =((E10*100)/D10)-100 -> #DIV/0!
A11: BAHÍA DE ALGECIRAS | B11: 71802 | C11: 75986 | D11: 1194299 | E11: 1213451 | F11: =((E11*100)/D11)-100 -> 1.6036185
A12: BAHÍA DE CÁDIZ | B12: 825 | C12: 996 | D12: 11200 | E12: 12081 | F12: =((E12*100)/D12)-100 -> 7.8660714
A13: BALEARES | B13: 40408 | C13: 52229 | D13: 633133 | E13: 730953 | F13: =((E13*100)/D13)-100 -> 15.45015
A14: BARCELONA | B14: 20668 | C14: 22295 | D14: 370549 | E14: 395643 | F14: =((E14*100)/D14)-100 -> 6.7721138
A15: BILBAO | B15: 2153 | C15: 2147 | D15: 44964 | E15: 51493 | F15: =((E15*100)/D15)-100 -> 14.520505
A16: CARTAGENA | B16: 0 | C16: 0 | D16: 0 | E16: 0 | F16: =((E16*100)/D16)-100 -> #DIV/0!
A17: CASTELLÓN | B17: 0 | C17: 0 | D17: 0 | E17: 0 | F17: =((E17*100)/D17)-100 -> #DIV/0!
A18: CEUTA | B18: 33954 | C18: 34039 | D18: 378111 | E18: 427892 | F18: =((E18*100)/D18)-100 -> 13.165711
... A34: VILAGARCÍA | B34: 0 | C34: 0 | D34: 0 | E34: 0 | F34: =((E34*100)/D34)-100 -> #DIV/0!
A35: Total | B35: =SUM(B7:B34) -> 368994 | C35: =SUM(C7:C34) -> 398311 | D35: =SUM(D7:D34) -> 5060699 | E35: =SUM(E7:E34) -> 5512090 | F35: =((E35*100)/D35)-100 -> 8.9195386
A36: Incluye embarques, desembarques y en tránsito.
B38: =E6 -> 2018 | C38: =D6 -> 2017 | F38: =B38 -> 2018 | G38: =C38 -> 2017
A39: =A7 -> A CORUÑA | B39: =E7 -> 0 | C39: =D7 -> 0 | D39: =_xlfn.RANK.EQ(B39,$B$39:$B$66)+COUNTIF($B$39:$B$66,B39)-1 -> 28 | E39: =INDEX($A$39:$B$66,MATCH(ROW()-38,$D$39:$D$66,0),1) -> SANTA CRUZ DE TENERIFE | F39: =LOOKUP(E39,$A$39:$A$66,$B$39:$B$66) -> 1366723 | G39: =LOOKUP(E39,$A$39:$A$66,$C$39:$C$66) -> 1271313
A40: =A8 -> ALICANTE | B40: =E8 -> 34978 | C40: =D8 -> 39297 | D40: =_xlfn.RANK.EQ(B40,$B$39:$B$66)+COUNTIF($B$39:$B$66,B40)-1 -> 14 | E40: =INDEX($A$39:$B$66,MATCH(ROW()-38,$D$39:$D$66,0),1) -> BAHÍA DE ALGECIRAS | F40: =LOOKUP(E40,$A$39:$A$66,$B$39:$B$66) -> 1213451 | G40: =LOOKUP(E40,$A$39:$A$66,$C$39:$C$66) -> 1194299
A41: =A9 -> ALMERÍA | B41: =E9 -> 216658 | C41: =D9 -> 204745 | D41: =_xlfn.RANK.EQ(B41,$B$39:$B$66)+COUNTIF($B$39:$B$66,B41)-1 -> 7 | E41: =INDEX($A$39:$B$66,MATCH(ROW()-38,$D$39:$D$66,0),1) -> BALEARES | F41: =LOOKUP(E41,$A$39:$A$66,$B$39:$B$66) -> 730953 | G41: =LOOKUP(E41,$A$39:$A$66,$C$39:$C$66) -> 633133
A42: =A10 -> AVILÉS | B42: =E10 -> 0 | C42: =D10 -> 0 | D42: =_xlfn.RANK.EQ(B42,$B$39:$B$66)+COUNTIF($B$39:$B$66,B42)-1 -> 28 | E42: =INDEX($A$39:$B$66,MATCH(ROW()-38,$D$39:$D$66,0),1) -> LAS PALMAS | F42: =LOOKUP(E42,$A$39:$A$66,$B$39:$B$66) -> 515605 | G42: =LOOKUP(E42,$A$39:$A$66,$C$39:$C$66) -> 466203
A43: =A11 -> BAHÍA DE ALGECIRAS | B43: =E11 -> 1213451 | C43: =D11 -> 1194299 | D43: =_xlfn.RANK.EQ(B43,$B$39:$B$66)+COUNTIF($B$39:$B$66,B43)-1 -> 2 | E43: =INDEX($A$39:$B$66,MATCH(ROW()-38,$D$39:$D$66,0),1) -> CEUTA | F43: =LOOKUP(E43,$A$39:$A$66,$B$39:$B$66) -> 427892 | G43: =LOOKUP(E43,$A$39:$A$66,$C$39:$C$66) -> 378111
A44: =A12 -> BAHÍA DE CÁDIZ | B44: =E12 -> 12081 | C44: =D12 -> 11200 | D44: =_xlfn.RANK.EQ(B44,$B$39:$B$66)+COUNTIF($B$39:$B$66,B44)-1 -> 16 | E44: =INDEX($A$39:$B$66,MATCH(ROW()-38,$D$39:$D$66,0),1) -> BARCELONA | F44: =LOOKUP(E44,$A$39:$A$66,$B$39:$B$66) -> 395643 | G44: =LOOKUP(E44,$A$39:$A$66,$C$39:$C$66) -> 370549
A45: =A13 -> BALEARES | B45: =E13 -> 730953 | C45: =D13 -> 633133 | D45: =_xlfn.RANK.EQ(B45,$B$39:$B$66)+COUNTIF($B$39:$B$66,B45)-1 -> 3 | E45: =INDEX($A$39:$B$66,MATCH(ROW()-38,$D$39:$D$66,0),1) -> ALMERÍA | F45: =LOOKUP(E45,$A$39:$A$66,$B$39:$B$66) -> 216658 | G45: =LOOKUP(E45,$A$39:$A$66,$C$39:$C$66) -> 204745
A46: =A14 -> BARCELONA | B46: =E14 -> 395643 | C46: =D14 -> 370549 | D46: =_xlfn.RANK.EQ(B46,$B$39:$B$66)+COUNTIF($B$39:$B$66,B46)-1 -> 6 | E46: =INDEX($A$39:$B$66,MATCH(ROW()-38,$D$39:$D$66,0),1) -> VALENCIA | F46: =LOOKUP(E46,$A$39:$A$66,$B$39:$B$66) -> 158475 | G46: =LOOKUP(E46,$A$39:$A$66,$C$39:$C$66) -> 157927
A47: =A15 -> BILBAO | B47: =E15 -> 51493 | C47: =D15 -> 44964 | D47: =_xlfn.RANK.EQ(B47,$B$39:$B$66)+COUNTIF($B$39:$B$66,B47)-1 -> 13 | E47: =INDEX($A$39:$B$66,MATCH(ROW()-38,$D$39:$D$66,0),1) -> MELILLA | F47: =LOOKUP(E47,$A$39:$A$66,$B$39:$B$66) -> 155188 | G47: =LOOKUP(E47,$A$39:$A$66,$C$39:$C$66) -> 151579
A48: =A16 -> CARTAGENA | B48: =E16 -> 0 | C48: =D16 -> 0 | D48: =_xlfn.RANK.EQ(B48,$B$39:$B$66)+COUNTIF($B$39:$B$66,B48)-1 -> 28 | E48: =INDEX($A$39:$B$66,MATCH(ROW()-38,$D$39:$D$66,0),1) -> SANTANDER | F48: =LOOKUP(E48,$A$39:$A$66,$B$39:$B$66) -> 101333 | G48: =LOOKUP(E48,$A$39:$A$66,$C$39:$C$66) -> 0
A49: =A17 -> CASTELLÓN | B49: =E17 -> 0 | C49: =D17 -> 0 | D49: =_xlfn.RANK.EQ(B49,$B$39:$B$66)+COUNTIF($B$39:$B$66,B49)-1 -> 28 | E49: =INDEX($A$39:$B$66,MATCH(ROW()-38,$D$39:$D$66,0),1) -> MOTRIL | F49: =LOOKUP(E49,$A$39:$A$66,$B$39:$B$66) -> 56070 | G49: =LOOKUP(E49,$A$39:$A$66,$C$39:$C$66) -> 78149
A50: =A18 -> CEUTA | B50: =E18 -> 427892 | C50: =D18 -> 378111 | D50: =_xlfn.RANK.EQ(B50,$B$39:$B$66)+COUNTIF($B$39:$B$66,B50)-1 -> 5 | E50: =INDEX($A$39:$B$66,MATCH(ROW()-38,$D$39:$D$66,0),1) -> MÁLAGA | F50: =LOOKUP(E50,$A$39:$A$66,$B$39:$B$66) -> 53488 | G50: =LOOKUP(E50,$A$39:$A$66,$C$39:$C$66) -> 37925
... A66: =A34 -> VILAGARCÍA | B66: =E34 -> 0 | C66: =D34 -> 0 | D66: =_xlfn.RANK.EQ(B66,$B$39:$B$66)+COUNTIF($B$39:$B$66,B66)-1 -> 28 | E66: =INDEX($A$39:$B$66,MATCH(ROW()-38,$D$39:$D$66,0),1) -> A CORUÑA | F66: =LOOKUP(E66,$A$39:$A$66,$B$39:$B$66) -> 0 | G66: =LOOKUP(E66,$A$39:$A$66,$C$39:$C$66) -> 0

Sheet Automóviles régimen mercancía
E1: 12.2. TURISMOS, AUTOBUSES Y CAMIONES EN RÉGIMEN DE MERCANCÍA
H2: (unidades)
A5: Autoridad Portuaria | B5: ='Resumen general'!D6 -> Mes diciembre | D5: ='Resumen general'!F6 -> Acumulado desde enero | L5: ='Resumen general'!I4 -> Fecha: 29/10/2019
B6: ='Resumen general'!D7 -> 2017 | C6: ='Resumen general'!E7 -> 2018 | D6: ='Resumen general'!F7 -> 2017 | E6: ='Resumen general'!G7 -> 2018 | F6: Var. (%)
A7: A CORUÑA | B7: 0 | C7: 0 | D7: 0 | E7: 0 | F7: =((E7*100)/D7)-100 -> #DIV/0!
A8: ALICANTE | B8: 0 | C8: 0 | D8: 142 | E8: 3115 | F8: =((E8*100)/D8)-100 -> 2093.662
A9: ALMERÍA | B9: 31 | C9: 51 | D9: 360 | E9: 321 | F9: =((E9*100)/D9)-100 -> -10.833333
A10: AVILÉS | B10: 0 | C10: 0 | D10: 0 | E10: 0 | F10: =((E10*100)/D10)-100 -> #DIV/0!
A11: BAHÍA DE ALGECIRAS | B11: 828 | C11: 538 | D11: 2165 | E11: 4077 | F11: =((E11*100)/D11)-100 -> 88.314088
A12: BAHÍA DE CÁDIZ | B12: 1590 | C12: 1261 | D12: 16002 | E12: 16599 | F12: =((E12*100)/D12)-100 -> 3.7307837
A13: BALEARES | B13: 9323 | C13: 8536 | D13: 172695 | E13: 184426 | F13: =((E13*100)/D13)-100 -> 6.7929008
A14: BARCELONA | B14: 68954 | C14: 60616 | D14: 836465 | E14: 809354 | F14: =((E14*100)/D14)-100 -> -3.2411398
A15: BILBAO | B15: 1608 | C15: 690 | D15: 7107 | E15: 12472 | F15: =((E15*100)/D15)-100 -> 75.488955
A16: CARTAGENA | B16: 0 | C16: 0 | D16: 0 | E16: 0 | F16: =((E16*100)/D16)-100 -> #DIV/0!
A17: CASTELLÓN | B17: 0 | C17: 2 | D17: 563 | E17: 489 | F17: =((E17*100)/D17)-100 -> -13.143872
A18: CEUTA | B18: 96 | C18: 116 | D18: 43 | E18: 1156 | F18: =((E18*100)/D18)-100 -> 2588.3721
... A34: VILAGARCÍA | B34: 0 | C34: 0 | D34: 0 | E34: 0 | F34: =((E34*100)/D34)-100 -> #DIV/0!
A35: Total | B35: =SUM(B7:B34) -> 267830 | C35: =SUM(C7:C34) -> 277034 | D35: =SUM(D7:D34) -> 3484212 | E35: =SUM(E7:E34) -> 3493656 | F35: =((E35*100)/D35)-100 -> 0.27105124
A36: Incluye cargas, descargas, tránsitos y transbordos. Sólo turismos, autobuses y camiones.
B38: =E6 -> 2018 | C38: =D6 -> 2017 | F38: =B38 -> 2018 | G38: =C38 -> 2017
A39: =A7 -> A CORUÑA | B39: =E7 -> 0 | C39: =D7 -> 0 | D39: =_xlfn.RANK.EQ(B39,$B$39:$B$66)+COUNTIF($B$39:$B$66,B39)-1 -> 28 | E39: =INDEX($A$39:$B$66,MATCH(ROW()-38,$D$39:$D$66,0),1) -> VALENCIA | F39: =LOOKUP(E39,$A$39:$A$66,$B$39:$B$66) -> 818225 | G39: =LOOKUP(E39,$A$39:$A$66,$C$39:$C$66) -> 793093
A40: =A8 -> ALICANTE | B40: =E8 -> 3115 | C40: =D8 -> 142 | D40: =_xlfn.RANK.EQ(B40,$B$39:$B$66)+COUNTIF($B$39:$B$66,B40)-1 -> 14 | E40: =INDEX($A$39:$B$66,MATCH(ROW()-38,$D$39:$D$66,0),1) -> BARCELONA | F40: =LOOKUP(E40,$A$39:$A$66,$B$39:$B$66) -> 809354 | G40: =LOOKUP(E40,$A$39:$A$66,$C$39:$C$66) -> 836465
A41: =A9 -> ALMERÍA | B41: =E9 -> 321 | C41: =D9 -> 360 | D41: =_xlfn.RANK.EQ(B41,$B$39:$B$66)+COUNTIF($B$39:$B$66,B41)-1 -> 21 | E41: =INDEX($A$39:$B$66,MATCH(ROW()-38,$D$39:$D$66,0),1) -> SANTANDER | F41: =LOOKUP(E41,$A$39:$A$66,$B$39:$B$66) -> 489641 | G41: =LOOKUP(E41,$A$39:$A$66,$C$39:$C$66) -> 497303
A42: =A10 -> AVILÉS | B42: =E10 -> 0 | C42: =D10 -> 0 | D42: =_xlfn.RANK.EQ(B42,$B$39:$B$66)+COUNTIF($B$39:$B$66,B42)-1 -> 28 | E42: =INDEX($A$39:$B$66,MATCH(ROW()-38,$D$39:$D$66,0),1) -> VIGO | F42: =LOOKUP(E42,$A$39:$A$66,$B$39:$B$66) -> 450350 | G42: =LOOKUP(E42,$A$39:$A$66,$C$39:$C$66) -> 484961
A43: =A11 -> BAHÍA DE ALGECIRAS | B43: =E11 -> 4077 | C43: =D11 -> 2165 | D43: =_xlfn.RANK.EQ(B43,$B$39:$B$66)+COUNTIF($B$39:$B$66,B43)-1 -> 13 | E43: =INDEX($A$39:$B$66,MATCH(ROW()-38,$D$39:$D$66,0),1) -> PASAIA | F43: =LOOKUP(E43,$A$39:$A$66,$B$39:$B$66) -> 254673 | G43: =LOOKUP(E43,$A$39:$A$66,$C$39:$C$66) -> 234705
A44: =A12 -> BAHÍA DE CÁDIZ | B44: =E12 -> 16599 | C44: =D12 -> 16002 | D44: =_xlfn.RANK.EQ(B44,$B$39:$B$66)+COUNTIF($B$39:$B$66,B44)-1 -> 11 | E44: =INDEX($A$39:$B$66,MATCH(ROW()-38,$D$39:$D$66,0),1) -> TARRAGONA | F44: =LOOKUP(E44,$A$39:$A$66,$B$39:$B$66) -> 194738 | G44: =LOOKUP(E44,$A$39:$A$66,$C$39:$C$66) -> 200360
A45: =A13 -> BALEARES | B45: =E13 -> 184426 | C45: =D13 -> 172695 | D45: =_xlfn.RANK.EQ(B45,$B$39:$B$66)+COUNTIF($B$39:$B$66,B45)-1 -> 7 | E45: =INDEX($A$39:$B$66,MATCH(ROW()-38,$D$39:$D$66,0),1) -> BALEARES | F45: =LOOKUP(E45,$A$39:$A$66,$B$39:$B$66) -> 184426 | G45: =LOOKUP(E45,$A$39:$A$66,$C$39:$C$66) -> 172695
A46: =A14 -> BARCELONA | B46: =E14 -> 809354 | C46: =D14 -> 836465 | D46: =_xlfn.RANK.EQ(B46,$B$39:$B$66)+COUNTIF($B$39:$B$66,B46)-1 -> 2 | E46: =INDEX($A$39:$B$66,MATCH(ROW()-38,$D$39:$D$66,0),1) -> LAS PALMAS | F46: =LOOKUP(E46,$A$39:$A$66,$B$39:$B$66) -> 106589 | G46: =LOOKUP(E46,$A$39:$A$66,$C$39:$C$66) -> 103245
A47: =A15 -> BILBAO | B47: =E15 -> 12472 | C47: =D15 -> 7107 | D47: =_xlfn.RANK.EQ(B47,$B$39:$B$66)+COUNTIF($B$39:$B$66,B47)-1 -> 12 | E47: =INDEX($A$39:$B$66,MATCH(ROW()-38,$D$39:$D$66,0),1) -> SANTA CRUZ DE TENERIFE | F47: =LOOKUP(E47,$A$39:$A$66,$B$39:$B$66) -> 75418 | G47: =LOOKUP(E47,$A$39:$A$66,$C$39:$C$66) -> 74283
A48: =A16 -> CARTAGENA | B48: =E16 -> 0 | C48: =D16 -> 0 | D48: =_xlfn.RANK.EQ(B48,$B$39:$B$66)+COUNTIF($B$39:$B$66,B48)-1 -> 28 | E48: =INDEX($A$39:$B$66,MATCH(ROW()-38,$D$39:$D$66,0),1) -> MÁLAGA | F48: =LOOKUP(E48,$A$39:$A$66,$B$39:$B$66) -> 64315 | G48: =LOOKUP(E48,$A$39:$A$66,$C$39:$C$66) -> 54751
A49: =A17 -> CASTELLÓN | B49: =E17 -> 489 | C49: =D17 -> 563 | D49: =_xlfn.RANK.EQ(B49,$B$39:$B$66)+COUNTIF($B$39:$B$66,B49)-1 -> 20 | E49: =INDEX($A$39:$B$66,MATCH(ROW()-38,$D$39:$D$66,0),1) -> BAHÍA DE CÁDIZ | F49: =LOOKUP(E49,$A$39:$A$66,$B$39:$B$66) -> 16599 | G49: =LOOKUP(E49,$A$39:$A$66,$C$39:$C$66) -> 16002
A50: =A18 -> CEUTA | B50: =E18 -> 1156 | C50: =D18 -> 43 | D50: =_xlfn.RANK.EQ(B50,$B$39:$B$66)+COUNTIF($B$39:$B$66,B50)-1 -> 19 | E50: =INDEX($A$39:$B$66,MATCH(ROW()-38,$D$39:$D$66,0),1) -> BILBAO | F50: =LOOKUP(E50,$A$39:$A$66,$B$39:$B$66) -> 12472 | G50: =LOOKUP(E50,$A$39:$A$66,$C$39:$C$66) -> 7107
... A66: =A34 -> VILAGARCÍA | B66: =E34 -> 0 | C66: =D34 -> 0 | D66: =_xlfn.RANK.EQ(B66,$B$39:$B$66)+COUNTIF($B$39:$B$66,B66)-1 -> 28 | E66: =INDEX($A$39:$B$66,MATCH(ROW()-38,$D$39:$D$66,0),1) -> A CORUÑA | F66: =LOOKUP(E66,$A$39:$A$66,$B$39:$B$66) -> 0 | G66: =LOOKUP(E66,$A$39:$A$66,$C$39:$C$66) -> 0

Sheet Buques número
F1: 13. BUQUES MERCANTES (unidades)
A5: Autoridad Portuaria | B5: ='Resumen general'!D6 -> Mes diciembre | D5: ='Resumen general'!F6 -> Acumulado desde enero | L5: ='Resumen general'!I4 -> Fecha: 29/10/2019
B6: ='Resumen general'!D7 -> 2017 | C6: ='Resumen general'!E7 -> 2018 | D6: ='Resumen general'!F7 -> 2017 | E6: ='Resumen general'!G7 -> 2018 | F6: Var. (%)
A7: A CORUÑA | B7: 96 | C7: 97 | D7: 1195 | E7: 1221 | F7: =((E7*100)/D7)-100 -> 2.1757322
A8: ALICANTE | B8: 63 | C8: 55 | D8: 838 | E8: 732 | F8: =((E8*100)/D8)-100 -> -12.649165
A9: ALMERÍA | B9: 144 | C9: 132 | D9: 2074 | E9: 1972 | F9: =((E9*100)/D9)-100 -> -4.9180328
A10: AVILÉS | B10: 59 | C10: 63 | D10: 829 | E10: 823 | F10: =((E10*100)/D10)-100 -> -0.72376357
A11: BAHÍA DE ALGECIRAS | B11: 2177 | C11: 2412 | D11: 28249 | E11: 28913 | F11: =((E11*100)/D11)-100 -> 2.3505257
A12: BAHÍA DE CÁDIZ | B12: 88 | C12: 82 | D12: 1149 | E12: 1197 | F12: =((E12*100)/D12)-100 -> 4.1775457
A13: BALEARES | B13: 2011 | C13: 2665 | D13: 44214 | E13: 50366 | F13: =((E13*100)/D13)-100 -> 13.914145
A14: BARCELONA | B14: 688 | C14: 665 | D14: 8974 | E14: 9038 | F14: =((E14*100)/D14)-100 -> 0.71317138
A15: BILBAO | B15: 236 | C15: 218 | D15: 2855 | E15: 2925 | F15: =((E15*100)/D15)-100 -> 2.4518389
A16: CARTAGENA | B16: 179 | C16: 185 | D16: 2127 | E16: 2203 | F16: =((E16*100)/D16)-100 -> 3.5731077
A17: CASTELLÓN | B17: 130 | C17: 135 | D17: 1705 | E17: 1856 | F17: =((E17*100)/D17)-100 -> 8.856305
A18: CEUTA | B18: 941 | C18: 875 | D18: 10772 | E18: 11147 | F18: =((E18*100)/D18)-100 -> 3.4812477
... A34: VILAGARCÍA | B34: 23 | C34: 24 | D34: 323 | E34: 336 | F34: =((E34*100)/D34)-100 -> 4.0247678
A35: Total | B35: =SUM(B7:B34) -> 11227 | C35: =SUM(C7:C34) -> 12340 | D35: =SUM(D7:D34) -> 155631 | E35: =SUM(E7:E34) -> 167119 | F35: =((E35*100)/D35)-100 -> 7.3815628
A36: Incluye tanques, graneleros, de carga general, ro-ro, solo de pasaje, cruceros, portacontenedores y otros buques mercantes.
B38: =E6 -> 2018 | C38: =D6 -> 2017 | F38: =B38 -> 2018 | G38: =C38 -> 2017
A39: =A7 -> A CORUÑA | B39: =E7 -> 1221 | C39: =D7 -> 1195 | D39: =_xlfn.RANK.EQ(B39,$B$39:$B$66)+COUNTIF($B$39:$B$66,B39)-1 -> 20 | E39: =INDEX($A$39:$B$66,MATCH(ROW()-38,$D$39:$D$66,0),1) -> BALEARES | F39: =LOOKUP(E39,$A$39:$A$66,$B$39:$B$66) -> 50366 | G39: =LOOKUP(E39,$A$39:$A$66,$C$39:$C$66) -> 44214
A40: =A8 -> ALICANTE | B40: =E8 -> 732 | C40: =D8 -> 838 | D40: =_xlfn.RANK.EQ(B40,$B$39:$B$66)+COUNTIF($B$39:$B$66,B40)-1 -> 26 | E40: =INDEX($A$39:$B$66,MATCH(ROW()-38,$D$39:$D$66,0),1) -> BAHÍA DE ALGECIRAS | F40: =LOOKUP(E40,$A$39:$A$66,$B$39:$B$66) -> 28913 | G40: =LOOKUP(E40,$A$39:$A$66,$C$39:$C$66) -> 28249
A41: =A9 -> ALMERÍA | B41: =E9 -> 1972 | C41: =D9 -> 2074 | D41: =_xlfn.RANK.EQ(B41,$B$39:$B$66)+COUNTIF($B$39:$B$66,B41)-1 -> 12 | E41: =INDEX($A$39:$B$66,MATCH(ROW()-38,$D$39:$D$66,0),1) -> SANTA CRUZ DE TENERIFE | F41: =LOOKUP(E41,$A$39:$A$66,$B$39:$B$66) -> 16400 | G41: =LOOKUP(E41,$A$39:$A$66,$C$39:$C$66) -> 13359
A42: =A10 -> AVILÉS | B42: =E10 -> 823 | C42: =D10 -> 829 | D42: =_xlfn.RANK.EQ(B42,$B$39:$B$66)+COUNTIF($B$39:$B$66,B42)-1 -> 25 | E42: =INDEX($A$39:$B$66,MATCH(ROW()-38,$D$39:$D$66,0),1) -> LAS PALMAS | F42: =LOOKUP(E42,$A$39:$A$66,$B$39:$B$66) -> 12283 | G42: =LOOKUP(E42,$A$39:$A$66,$C$39:$C$66) -> 11446
A43: =A11 -> BAHÍA DE ALGECIRAS | B43: =E11 -> 28913 | C43: =D11 -> 28249 | D43: =_xlfn.RANK.EQ(B43,$B$39:$B$66)+COUNTIF($B$39:$B$66,B43)-1 -> 2 | E43: =INDEX($A$39:$B$66,MATCH(ROW()-38,$D$39:$D$66,0),1) -> CEUTA | F43: =LOOKUP(E43,$A$39:$A$66,$B$39:$B$66) -> 11147 | G43: =LOOKUP(E43,$A$39:$A$66,$C$39:$C$66) -> 10772
A44: =A12 -> BAHÍA DE CÁDIZ | B44: =E12 -> 1197 | C44: =D12 -> 1149 | D44: =_xlfn.RANK.EQ(B44,$B$39:$B$66)+COUNTIF($B$39:$B$66,B44)-1 -> 21 | E44: =INDEX($A$39:$B$66,MATCH(ROW()-38,$D$39:$D$66,0),1) -> BARCELONA | F44: =LOOKUP(E44,$A$39:$A$66,$B$39:$B$66) -> 9038 | G44: =LOOKUP(E44,$A$39:$A$66,$C$39:$C$66) -> 8974
A45: =A13 -> BALEARES | B45: =E13 -> 50366 | C45: =D13 -> 44214 | D45: =_xlfn.RANK.EQ(B45,$B$39:$B$66)+COUNTIF($B$39:$B$66,B45)-1 -> 1 | E45: =INDEX($A$39:$B$66,MATCH(ROW()-38,$D$39:$D$66,0),1) -> VALENCIA | F45: =LOOKUP(E45,$A$39:$A$66,$B$39:$B$66) -> 7722 | G45: =LOOKUP(E45,$A$39:$A$66,$C$39:$C$66) -> 7715
A46: =A14 -> BARCELONA | B46: =E14 -> 9038 | C46: =D14 -> 8974 | D46: =_xlfn.RANK.EQ(B46,$B$39:$B$66)+COUNTIF($B$39:$B$66,B46)-1 -> 6 | E46: =INDEX($A$39:$B$66,MATCH(ROW()-38,$D$39:$D$66,0),1) -> BILBAO | F46: =LOOKUP(E46,$A$39:$A$66,$B$39:$B$66) -> 2925 | G46: =LOOKUP(E46,$A$39:$A$66,$C$39:$C$66) -> 2855
A47: =A15 -> BILBAO | B47: =E15 -> 2925 | C47: =D15 -> 2855 | D47: =_xlfn.RANK.EQ(B47,$B$39:$B$66)+COUNTIF($B$39:$B$66,B47)-1 -> 8 | E47: =INDEX($A$39:$B$66,MATCH(ROW()-38,$D$39:$D$66,0),1) -> TARRAGONA | F47: =LOOKUP(E47,$A$39:$A$66,$B$39:$B$66) -> 2554 | G47: =LOOKUP(E47,$A$39:$A$66,$C$39:$C$66) -> 2655
A48: =A16 -> CARTAGENA | B48: =E16 -> 2203 | C48: =D16 -> 2127 | D48: =_xlfn.RANK.EQ(B48,$B$39:$B$66)+COUNTIF($B$39:$B$66,B48)-1 -> 11 | E48: =INDEX($A$39:$B$66,MATCH(ROW()-38,$D$39:$D$66,0),1) -> HUELVA | F48: =LOOKUP(E48,$A$39:$A$66,$B$39:$B$66) -> 2396 | G48: =LOOKUP(E48,$A$39:$A$66,$C$39:$C$66) -> 2291
A49: =A17 -> CASTELLÓN | B49: =E17 -> 1856 | C49: =D17 -> 1705 | D49: =_xlfn.RANK.EQ(B49,$B$39:$B$66)+COUNTIF($B$39:$B$66,B49)-1 -> 13 | E49: =INDEX($A$39:$B$66,MATCH(ROW()-38,$D$39:$D$66,0),1) -> CARTAGENA | F49: =LOOKUP(E49,$A$39:$A$66,$B$39:$B$66) -> 2203 | G49: =LOOKUP(E49,$A$39:$A$66,$C$39:$C$66) -> 2127
A50: =A18 -> CEUTA | B50: =E18 -> 11147 | C50: =D18 -> 10772 | D50: =_xlfn.RANK.EQ(B50,$B$39:$B$66)+COUNTIF($B$39:$B$66,B50)-1 -> 5 | E50: =INDEX($A$39:$B$66,MATCH(ROW()-38,$D$39:$D$66,0),1) -> ALMERÍA | F50: =LOOKUP(E50,$A$39:$A$66,$B$39:$B$66) -> 1972 | G50: =LOOKUP(E50,$A$39:$A$66,$C$39:$C$66) -> 2074
... A66: =A34 -> VILAGARCÍA | B66: =E34 -> 336 | C66: =D34 -> 323 | D66: =_xlfn.RANK.EQ(B66,$B$39:$B$66)+COUNTIF($B$39:$B$66,B66)-1 -> 28 | E66: =INDEX($A$39:$B$66,MATCH(ROW()-38,$D$39:$D$66,0),1) -> VILAGARCÍA | F66: =LOOKUP(E66,$A$39:$A$66,$B$39:$B$66) -> 336 | G66: =LOOKUP(E66,$A$39:$A$66,$C$39:$C$66) -> 323

Sheet Buques GT
F1: 13.1. BUQUES MERCANTES (unidades de arqueo bruto)
A5: Autoridad Portuaria | B5: ='Resumen general'!D6 -> Mes diciembre | D5: ='Resumen general'!F6 -> Acumulado desde enero | L5: ='Resumen general'!I4 -> Fecha: 29/10/2019
B6: ='Resumen general'!D7 -> 2017 | C6: ='Resumen general'!E7 -> 2018 | D6: ='Resumen general'!F7 -> 2017 | E6: ='Resumen general'!G7 -> 2018 | F6: Var. (%)
A7: A CORUÑA | B7: 1714599 | C7: 1171835 | D7: 21753225 | E7: 21996116 | F7: =((E7*100)/D7)-100 -> 1.1165747
A8: ALICANTE | B8: 857739 | C8: 819747 | D8: 12163393 | E8: 11752887 | F8: =((E8*100)/D8)-100 -> -3.37493
A9: ALMERÍA | B9: 2506792 | C9: 2438950 | D9: 33671744 | E9: 35858425 | F9: =((E9*100)/D9)-100 -> 6.4941127
A10: AVILÉS | B10: 457361 | C10: 496045 | D10: 5912947 | E10: 5734788 | F10: =((E10*100)/D10)-100 -> -3.0130322
A11: BAHÍA DE ALGECIRAS | B11: 32134437 | C11: 34888913 | D11: 406252774 | E11: 410703181 | F11: =((E11*100)/D11)-100 -> 1.0954773
A12: BAHÍA DE CÁDIZ | B12: 1823963 | C12: 1646635 | D12: 26686705 | E12: 26763560 | F12: =((E12*100)/D12)-100 -> 0.28798984
A13: BALEARES | B13: 13003940 | C13: 15109651 | D13: 222818378 | E13: 241035323 | F13: =((E13*100)/D13)-100 -> 8.1756923
A14: BARCELONA | B14: 24114789 | C14: 23250477 | D14: 329412544 | E14: 344143018 | F14: =((E14*100)/D14)-100 -> 4.4717405
A15: BILBAO | B15: 3845733 | C15: 3365998 | D15: 46789495 | E15: 47997435 | F15: =((E15*100)/D15)-100 -> 2.5816479
A16: CARTAGENA | B16: 2809479 | C16: 3535764 | D16: 42134157 | E16: 43509822 | F16: =((E16*100)/D16)-100 -> 3.2649639
A17: CASTELLÓN | B17: 1869833 | C17: 2361893 | D17: 24777843 | E17: 29054321 | F17: =((E17*100)/D17)-100 -> 17.259283
A18: CEUTA | B18: 6084267 | C18: 5436633 | D18: 64123650 | E18: 70169573 | F18: =((E18*100)/D18)-100 -> 9.4285385
... A34: VILAGARCÍA | B34: 212237 | C34: 190351 | D34: 2310409 | E34: 2698826 | F34: =((E34*100)/D34)-100 -> 16.811612
A35: Total | B35: =SUM(B7:B34) -> 179365124 | C35: =SUM(C7:C34) -> 186837843 | D35: =SUM(D7:D34) -> 2218905453 | E35: =SUM(E7:E34) -> 2.303282e+09 | F35: =((E35*100)/D35)-100 -> 3.8026202
A36: Unidades de arqueo bruto en G.T.
B38: =E6 -> 2018 | C38: =D6 -> 2017 | F38: =B38 -> 2018 | G38: =C38 -> 2017
A39: =A7 -> A CORUÑA | B39: =E7 -> 21996116 | C39: =D7 -> 21753225 | D39: =_xlfn.RANK.EQ(B39,$B$39:$B$66)+COUNTIF($B$39:$B$66,B39)-1 -> 19 | E39: =INDEX($A$39:$B$66,MATCH(ROW()-38,$D$39:$D$66,0),1) -> BAHÍA DE ALGECIRAS | F39: =LOOKUP(E39,$A$39:$A$66,$B$39:$B$66) -> 410703181 | G39: =LOOKUP(E39,$A$39:$A$66,$C$39:$C$66) -> 406252774
A40: =A8 -> ALICANTE | B40: =E8 -> 11752887 | C40: =D8 -> 12163393 | D40: =_xlfn.RANK.EQ(B40,$B$39:$B$66)+COUNTIF($B$39:$B$66,B40)-1 -> 23 | E40: =INDEX($A$39:$B$66,MATCH(ROW()-38,$D$39:$D$66,0),1) -> BARCELONA | F40: =LOOKUP(E40,$A$39:$A$66,$B$39:$B$66) -> 344143018 | G40: =LOOKUP(E40,$A$39:$A$66,$C$39:$C$66) -> 329412544
A41: =A9 -> ALMERÍA | B41: =E9 -> 35858425 | C41: =D9 -> 33671744 | D41: =_xlfn.RANK.EQ(B41,$B$39:$B$66)+COUNTIF($B$39:$B$66,B41)-1 -> 14 | E41: =INDEX($A$39:$B$66,MATCH(ROW()-38,$D$39:$D$66,0),1) -> VALENCIA | F41: =LOOKUP(E41,$A$39:$A$66,$B$39:$B$66) -> 262922154 | G41: =LOOKUP(E41,$A$39:$A$66,$C$39:$C$66) -> 256175377
A42: =A10 -> AVILÉS | B42: =E10 -> 5734788 | C42: =D10 -> 5912947 | D42: =_xlfn.RANK.EQ(B42,$B$39:$B$66)+COUNTIF($B$39:$B$66,B42)-1 -> 25 | E42: =INDEX($A$39:$B$66,MATCH(ROW()-38,$D$39:$D$66,0),1) -> LAS PALMAS | F42: =LOOKUP(E42,$A$39:$A$66,$B$39:$B$66) -> 248917445 | G42: =LOOKUP(E42,$A$39:$A$66,$C$39:$C$66) -> 241050065
A43: =A11 -> BAHÍA DE ALGECIRAS | B43: =E11 -> 410703181 | C43: =D11 -> 406252774 | D43: =_xlfn.RANK.EQ(B43,$B$39:$B$66)+COUNTIF($B$39:$B$66,B43)-1 -> 1 | E43: =INDEX($A$39:$B$66,MATCH(ROW()-38,$D$39:$D$66,0),1) -> BALEARES | F43: =LOOKUP(E43,$A$39:$A$66,$B$39:$B$66) -> 241035323 | G43: =LOOKUP(E43,$A$39:$A$66,$C$39:$C$66) -> 222818378
A44: =A12 -> BAHÍA DE CÁDIZ | B44: =E12 -> 26763560 | C44: =D12 -> 26686705 | D44: =_xlfn.RANK.EQ(B44,$B$39:$B$66)+COUNTIF($B$39:$B$66,B44)-1 -> 18 | E44: =INDEX($A$39:$B$66,MATCH(ROW()-38,$D$39:$D$66,0),1) -> SANTA CRUZ DE TENERIFE | F44: =LOOKUP(E44,$A$39:$A$66,$B$39:$B$66) -> 198822227 | G44: =LOOKUP(E44,$A$39:$A$66,$C$39:$C$66) -> 185585177
A45: =A13 -> BALEARES | B45: =E13 -> 241035323 | C45: =D13 -> 222818378 | D45: =_xlfn.RANK.EQ(B45,$B$39:$B$66)+COUNTIF($B$39:$B$66,B45)-1 -> 5 | E45: =INDEX($A$39:$B$66,MATCH(ROW()-38,$D$39:$D$66,0),1) -> CEUTA | F45: =LOOKUP(E45,$A$39:$A$66,$B$39:$B$66) -> 70169573 | G45: =LOOKUP(E45,$A$39:$A$66,$C$39:$C$66) -> 64123650
A46: =A14 -> BARCELONA | B46: =E14 -> 344143018 | C46: =D14 -> 329412544 | D46: =_xlfn.RANK.EQ(B46,$B$39:$B$66)+COUNTIF($B$39:$B$66,B46)-1 -> 2 | E46: =INDEX($A$39:$B$66,MATCH(ROW()-38,$D$39:$D$66,0),1) -> BILBAO | F46: =LOOKUP(E46,$A$39:$A$66,$B$39:$B$66) -> 47997435 | G46: =LOOKUP(E46,$A$39:$A$66,$C$39:$C$66) -> 46789495
A47: =A15 -> BILBAO | B47: =E15 -> 47997435 | C47: =D15 -> 46789495 | D47: =_xlfn.RANK.EQ(B47,$B$39:$B$66)+COUNTIF($B$39:$B$66,B47)-1 -> 8 | E47: =INDEX($A$39:$B$66,MATCH(ROW()-38,$D$39:$D$66,0),1) -> TARRAGONA | F47: =LOOKUP(E47,$A$39:$A$66,$B$39:$B$66) -> 46336398 | G47: =LOOKUP(E47,$A$39:$A$66,$C$39:$C$66) -> 48043269
A48: =A16 -> CARTAGENA | B48: =E16 -> 43509822 | C48: =D16 -> 42134157 | D48: =_xlfn.RANK.EQ(B48,$B$39:$B$66)+COUNTIF($B$39:$B$66,B48)-1 -> 11 | E48: =INDEX($A$39:$B$66,MATCH(ROW()-38,$D$39:$D$66,0),1) -> MÁLAGA | F48: =LOOKUP(E48,$A$39:$A$66,$B$39:$B$66) -> 44831999 | G48: =LOOKUP(E48,$A$39:$A$66,$C$39:$C$66) -> 38049983
A49: =A17 -> CASTELLÓN | B49: =E17 -> 29054321 | C49: =D17 -> 24777843 | D49: =_xlfn.RANK.EQ(B49,$B$39:$B$66)+COUNTIF($B$39:$B$66,B49)-1 -> 17 | E49: =INDEX($A$39:$B$66,MATCH(ROW()-38,$D$39:$D$66,0),1) -> CARTAGENA | F49: =LOOKUP(E49,$A$39:$A$66,$B$39:$B$66) -> 43509822 | G49: =LOOKUP(E49,$A$39:$A$66,$C$39:$C$66) -> 42134157
A50: =A18 -> CEUTA | B50: =E18 -> 70169573 | C50: =D18 -> 64123650 | D50: =_xlfn.RANK.EQ(B50,$B$39:$B$66)+COUNTIF($B$39:$B$66,B50)-1 -> 7 | E50: =INDEX($A$39:$B$66,MATCH(ROW()-38,$D$39:$D$66,0),1) -> VIGO | F50: =LOOKUP(E50,$A$39:$A$66,$B$39:$B$66) -> 37218103 | G50: =LOOKUP(E50,$A$39:$A$66,$C$39:$C$66) -> 36471209
... A66: =A34 -> VILAGARCÍA | B66: =E34 -> 2698826 | C66: =D34 -> 2310409 | D66: =_xlfn.RANK.EQ(B66,$B$39:$B$66)+COUNTIF($B$39:$B$66,B66)-1 -> 28 | E66: =INDEX($A$39:$B$66,MATCH(ROW()-38,$D$39:$D$66,0),1) -> VILAGARCÍA | F66: =LOOKUP(E66,$A$39:$A$66,$B$39:$B$66) -> 2698826 | G66: =LOOKUP(E66,$A$39:$A$66,$C$39:$C$66) -> 2310409

Sheet Cruceros
F1: 13.2. CRUCEROS (unidades)
A5: Autoridad Portuaria | B5: ='Resumen general'!D6 -> Mes diciembre | D5: ='Resumen general'!F6 -> Acumulado desde enero | L5: ='Resumen general'!I4 -> Fecha: 29/10/2019
B6: ='Resumen general'!D7 -> 2017 | C6: ='Resumen general'!E7 -> 2018 | D6: ='Resumen general'!F7 -> 2017 | E6: ='Resumen general'!G7 -> 2018 | F6: Var. (%)
A7: A CORUÑA | B7: 8 | C7: 1 | D7: 124 | E7: 94 | F7: =((E7*100)/D7)-100 -> -24.193548
A8: ALICANTE | B8: 4 | C8: 4 | D8: 56 | E8: 54 | F8: =((E8*100)/D8)-100 -> -3.5714286
A9: ALMERÍA | B9: 1 | C9: 1 | D9: 38 | E9: 38 | F9: =((E9*100)/D9)-100 -> 0
A10: AVILÉS | B10: 1 | C10: 0 | D10: 4 | E10: 4 | F10: =((E10*100)/D10)-100 -> 0
A11: BAHÍA DE ALGECIRAS | B11: 0 | C11: 0 | D11: 2 | E11: 0 | F11: =((E11*100)/D11)-100 -> -100
A12: BAHÍA DE CÁDIZ | B12: 18 | C12: 18 | D12: 291 | E12: 334 | F12: =((E12*100)/D12)-100 -> 14.776632
A13: BALEARES | B13: 14 | C13: 14 | D13: 825 | E13: 860 | F13: =((E13*100)/D13)-100 -> 4.2424242
A14: BARCELONA | B14: 32 | C14: 28 | D14: 775 | E14: 829 | F14: =((E14*100)/D14)-100 -> 6.9677419
A15: BILBAO | B15: 0 | C15: 0 | D15: 61 | E15: 59 | F15: =((E15*100)/D15)-100 -> -3.2786885
A16: CARTAGENA | B16: 3 | C16: 7 | D16: 152 | E16: 151 | F16: =((E16*100)/D16)-100 -> -0.65789474
A17: CASTELLÓN | B17: 0 | C17: 0 | D17: 1 | E17: 1 | F17: =((E17*100)/D17)-100 -> 0
A18: CEUTA | B18: 1 | C18: 25 | D18: 10 | E18: 11 | F18: =((E18*100)/D18)-100 -> 10
... A34: VILAGARCÍA | B34: 0 | C34: 0 | D34: 6 | E34: 5 | F34: =((E34*100)/D34)-100 -> -16.666667
A35: Total | B35: =SUM(B7:B34) -> 331 | C35: =SUM(C7:C34) -> 299 | D35: =SUM(D7:D34) -> 4238 | E35: =SUM(E7:E34) -> 4361 | F35: =((E35*100)/D35)-100 -> 2.9023124
B38: =E6 -> 2018 | C38: =D6 -> 2017 | F38: =B38 -> 2018 | G38: =C38 -> 2017
A39: =A7 -> A CORUÑA | B39: =E7 -> 94 | C39: =D7 -> 124 | D39: =_xlfn.RANK.EQ(B39,$B$39:$B$66)+COUNTIF($B$39:$B$66,B39)-1 -> 9 | E39: =INDEX($A$39:$B$66,MATCH(ROW()-38,$D$39:$D$66,0),1) -> BALEARES | F39: =LOOKUP(E39,$A$39:$A$66,$B$39:$B$66) -> 860 | G39: =LOOKUP(E39,$A$39:$A$66,$C$39:$C$66) -> 825
A40: =A8 -> ALICANTE | B40: =E8 -> 54 | C40: =D8 -> 56 | D40: =_xlfn.RANK.EQ(B40,$B$39:$B$66)+COUNTIF($B$39:$B$66,B40)-1 -> 14 | E40: =INDEX($A$39:$B$66,MATCH(ROW()-38,$D$39:$D$66,0),1) -> BARCELONA | F40: =LOOKUP(E40,$A$39:$A$66,$B$39:$B$66) -> 829 | G40: =LOOKUP(E40,$A$39:$A$66,$C$39:$C$66) -> 775
A41: =A9 -> ALMERÍA | B41: =E9 -> 38 | C41: =D9 -> 38 | D41: =_xlfn.RANK.EQ(B41,$B$39:$B$66)+COUNTIF($B$39:$B$66,B41)-1 -> 15 | E41: =INDEX($A$39:$B$66,MATCH(ROW()-38,$D$39:$D$66,0),1) -> LAS PALMAS | F41: =LOOKUP(E41,$A$39:$A$66,$B$39:$B$66) -> 586 | G41: =LOOKUP(E41,$A$39:$A$66,$C$39:$C$66) -> 565
A42: =A10 -> AVILÉS | B42: =E10 -> 4 | C42: =D10 -> 4 | D42: =_xlfn.RANK.EQ(B42,$B$39:$B$66)+COUNTIF($B$39:$B$66,B42)-1 -> 24 | E42: =INDEX($A$39:$B$66,MATCH(ROW()-38,$D$39:$D$66,0),1) -> SANTA CRUZ DE TENERIFE | F42: =LOOKUP(E42,$A$39:$A$66,$B$39:$B$66) -> 549 | G42: =LOOKUP(E42,$A$39:$A$66,$C$39:$C$66) -> 539
A43: =A11 -> BAHÍA DE ALGECIRAS | B43: =E11 -> 0 | C43: =D11 -> 2 | D43: =_xlfn.RANK.EQ(B43,$B$39:$B$66)+COUNTIF($B$39:$B$66,B43)-1 -> 28 | E43: =INDEX($A$39:$B$66,MATCH(ROW()-38,$D$39:$D$66,0),1) -> BAHÍA DE CÁDIZ | F43: =LOOKUP(E43,$A$39:$A$66,$B$39:$B$66) -> 334 | G43: =LOOKUP(E43,$A$39:$A$66,$C$39:$C$66) -> 291
A44: =A12 -> BAHÍA DE CÁDIZ | B44: =E12 -> 334 | C44: =D12 -> 291 | D44: =_xlfn.RANK.EQ(B44,$B$39:$B$66)+COUNTIF($B$39:$B$66,B44)-1 -> 5 | E44: =INDEX($A$39:$B$66,MATCH(ROW()-38,$D$39:$D$66,0),1) -> MÁLAGA | F44: =LOOKUP(E44,$A$39:$A$66,$B$39:$B$66) -> 299 | G44: =LOOKUP(E44,$A$39:$A$66,$C$39:$C$66) -> 299
A45: =A13 -> BALEARES | B45: =E13 -> 860 | C45: =D13 -> 825 | D45: =_xlfn.RANK.EQ(B45,$B$39:$B$66)+COUNTIF($B$39:$B$66,B45)-1 -> 1 | E45: =INDEX($A$39:$B$66,MATCH(ROW()-38,$D$39:$D$66,0),1) -> VALENCIA | F45: =LOOKUP(E45,$A$39:$A$66,$B$39:$B$66) -> 194 | G45: =LOOKUP(E45,$A$39:$A$66,$C$39:$C$66) -> 203
A46: =A14 -> BARCELONA | B46: =E14 -> 829 | C46: =D14 -> 775 | D46: =_xlfn.RANK.EQ(B46,$B$39:$B$66)+COUNTIF($B$39:$B$66,B46)-1 -> 2 | E46: =INDEX($A$39:$B$66,MATCH(ROW()-38,$D$39:$D$66,0),1) -> CARTAGENA | F46: =LOOKUP(E46,$A$39:$A$66,$B$39:$B$66) -> 151 | G46: =LOOKUP(E46,$A$39:$A$66,$C$39:$C$66) -> 152
A47: =A15 -> BILBAO | B47: =E15 -> 59 | C47: =D15 -> 61 | D47: =_xlfn.RANK.EQ(B47,$B$39:$B$66)+COUNTIF($B$39:$B$66,B47)-1 -> 12 | E47: =INDEX($A$39:$B$66,MATCH(ROW()-38,$D$39:$D$66,0),1) -> A CORUÑA | F47: =LOOKUP(E47,$A$39:$A$66,$B$39:$B$66) -> 94 | G47: =LOOKUP(E47,$A$39:$A$66,$C$39:$C$66) -> 124
A48: =A16 -> CARTAGENA | B48: =E16 -> 151 | C48: =D16 -> 152 | D48: =_xlfn.RANK.EQ(B48,$B$39:$B$66)+COUNTIF($B$39:$B$66,B48)-1 -> 8 | E48: =INDEX($A$39:$B$66,MATCH(ROW()-38,$D$39:$D$66,0),1) -> SEVILLA | F48: =LOOKUP(E48,$A$39:$A$66,$B$39:$B$66) -> 75 | G48: =LOOKUP(E48,$A$39:$A$66,$C$39:$C$66) -> 80
A49: =A17 -> CASTELLÓN | B49: =E17 -> 1 | C49: =D17 -> 1 | D49: =_xlfn.RANK.EQ(B49,$B$39:$B$66)+COUNTIF($B$39:$B$66,B49)-1 -> 26 | E49: =INDEX($A$39:$B$66,MATCH(ROW()-38,$D$39:$D$66,0),1) -> VIGO | F49: =LOOKUP(E49,$A$39:$A$66,$B$39:$B$66) -> 70 | G49: =LOOKUP(E49,$A$39:$A$66,$C$39:$C$66) -> 73
A50: =A18 -> CEUTA | B50: =E18 -> 11 | C50: =D18 -> 10 | D50: =_xlfn.RANK.EQ(B50,$B$39:$B$66)+COUNTIF($B$39:$B$66,B50)-1 -> 20 | E50: =INDEX($A$39:$B$66,MATCH(ROW()-38,$D$39:$D$66,0),1) -> BILBAO | F50: =LOOKUP(E50,$A$39:$A$66,$B$39:$B$66) -> 59 | G50: =LOOKUP(E50,$A$39:$A$66,$C$39:$C$66) -> 61
... A66: =A34 -> VILAGARCÍA | B66: =E34 -> 5 | C66: =D34 -> 6 | D66: =_xlfn.RANK.EQ(B66,$B$39:$B$66)+COUNTIF($B$39:$B$66,B66)-1 -> 23 | E66: =INDEX($A$39:$B$66,MATCH(ROW()-38,$D$39:$D$66,0),1) -> BAHÍA DE ALGECIRAS | F66: =LOOKUP(E66,$A$39:$A$66,$B$39:$B$66) -> 0 | G66: =LOOKUP(E66,$A$39:$A$66,$C$39:$C$66) -> 2
