Workbook
Name CABECERA: #REF!
Name CONCEPTO: #REF!
Name LblRes00_Acum: #REF!
Name LblRes00_Mes: #REF!
Name LblRes00_Var: #REF!
Name LblRes01_1_Acum: #REF!
Name LblRes01_1_Mes: #REF!
Name LblRes01_Acum: #REF!
Name LblRes01_Mes: #REF!
Name LblRes02_Acum: #REF!
Name LblRes02_Mes: #REF!
Name LblRes03_Acum: #REF!
Name LblRes03_Mes: #REF!
Name LblRes04_Acum: #REF!
Name LblRes04_Mes: #REF!
Name LblRes05_Acum: #REF!
Name LblRes05_Mes: #REF!
Name LblRes06_Acum: #REF!
Name LblRes06_Mes: #REF!
Name LblRes07_1_Acum: #REF!
Name LblRes07_1_Mes: #REF!
Name LblRes07_Acum: #REF!
Name LblRes07_Mes: #REF!
Name LblRes08_Acum: #REF!
Name LblRes08_Mes: #REF!
Name LblRes09_Acum: #REF!
Name LblRes09_Mes: #REF!
Name LblRes10_1_Acum: #REF!
Name LblRes10_1_Mes: #REF!
Name LblRes10_2_Acum: #REF!
Name LblRes10_2_Mes: #REF!
Name LblRes10_3_Acum: #REF!
Name LblRes10_3_Mes: #REF!
Name LblRes10_4_Acum: #REF!
Name LblRes10_4_Mes: #REF!
Name LblRes10_Acum: #REF!
Name LblRes10_Mes: #REF!
Name LblRes11_1_Acum: #REF!
Name LblRes11_1_Mes: #REF!
Name LblRes11_2_Acum: #REF!
Name LblRes11_2_Mes: #REF!
Name LblRes11_Acum: #REF!
Name LblRes11_Mes: #REF!
Name LblRes12_1_Acum: #REF!
Name LblRes12_1_Mes: #REF!
Name LblRes12_2_Acum: #REF!
Name LblRes12_2_Mes: #REF!
Name LblRes12_3_Acum: #REF!
Name LblRes12_3_Mes: #REF!
Name PROVINCIAS: #REF!
Name TxtFecha: #REF!

Sheet Portada
A28: Febrero de 2023

Sheet Cálculo

Sheet Resumen general
A1: RESUMEN DEL TRÁFICO PORTUARIO
A4: Datos en toneladas salvo indicación expresa | I4: Fecha: 25/1/2024
A5: CONCEPTO | D5: Febrero | F5: Acumulado desde Enero | H5: Variación
D6: 2022 | E6: 2023 | F6: 2022 | G6: 2023 | H6: Diferencia | I6: %
A7: MERCANCÍAS SEGÚN SU PRESENTACIÓN | B7: Graneles líquidos | C7: Total | D7: {=Líquidos!B35:E35} -> 13963380 | E7: 14620962 | F7: 29175230 | G7: 29407360 | H7: =G7-F7 -> 232130 | I7: =((G7*100/F7)-100) -> 0.79564069
B8: Graneles sólidos | C8: Total | D8: {=Sólidos!B35:E35} -> 7416156 | E8: 7057755 | F8: 15587291 | G8: 15232648 | H8: =G8-F8 -> -354643 | I8: =((G8*100/F8)-100) -> -2.2752061
B9: Mercancía general | C9: Total | D9: {='Mercancía general'!B35:E35} -> 21351420 | E9: 19805024 | F9: 43460171 | G9: 39926333 | H9: =G9-F9 -> -3533838 | I9: =((G9*100/F9)-100) -> -8.1312105
C10: En contenedores | D10: {='Mercancías contenedores'!B35:E35} -> 14727638 | E10: 13281502 | F10: 30569735 | G10: 27209784 | H10: =G10-F10 -> -3359951 | I10: =((G10*100/F10)-100) -> -10.991103
C11: Convencional | D11: =D9-D10 -> 6623782 | E11: =E9-E10 -> 6523522 | F11: =F9-F10 -> 12890436 | G11: =G9-G10 -> 12716549 | H11: =G11-F11 -> -173887 | I11: =((G11*100/F11)-100) -> -1.3489614
C12: SUBTOTAL | D12: =SUM(D7,D8,D9) -> 42730956 | E12: =SUM(E7,E8,E9) -> 41483741 | F12: =SUM(F7,F8,F9) -> 88222692 | G12: =SUM(G7,G8,G9) -> 84566341 | H12: =G12-F12 -> -3656351 | I12: =((G12*100/F12)-100) -> -4.1444564
A13: OTRAS MERCANCÍAS | B13: Pesca | C13: Total | D13: {=Pesca!B35:E35} -> 9028.406 | E13: 8831.975 | F13: 17809.275 | G13: 16530.703 | H13: =G13-F13 -> -1278.572 | I13: =((G13*100/F13)-100) -> -7.1792479
B14: Avituallamiento | C14: Total | D14: {=Avituallamiento!B35:E35} -> 904663 | E14: 749410 | F14: 1798452 | G14: 1614075 | H14: =G14-F14 -> -184377 | I14: =((G14*100/F14)-100) -> -10.251983
C15: Combustibles líquidos | D15: {='Avi. combustibles'!B35:E35} -> 761343 | E15: 630331 | F15: 1516381 | G15: 1352597 | H15: =G15-F15 -> -163784 | I15: =((G15*100/F15)-100) -> -10.800979
B16: Trafico interior | C16: Total | D16: {='Tráfico interior'!B35:E35} -> 358590 | E16: 221366 | F16: 619346 | G16: 489370 | H16: =G16-F16 -> -129976 | I16: =((G16*100/F16)-100) -> -20.986008
C17: SUBTOTAL | D17: =SUM(D13,D14,D16) -> 1272281.4 | E17: =SUM(E13,E14,E16) -> 979607.97 | F17: =SUM(F13,F14,F16) -> 2435607.3 | G17: =SUM(G13,G14,G16) -> 2119975.7 | H17: =G17-F17 -> -315631.57 | I17: =((G17*100/F17)-100) -> -12.95905
A18: TRÁFICO PORTUARIO TOTAL (*) | D18: =D12+D17 -> 44003237 | E18: =E12+E17 -> 42463349 | F18: =F12+F17 -> 90658299 | G18: =G12+G17 -> 86686317 | H18: =G18-F18 -> -3971982.6 | I18: =((G18*100/F18)-100) -> -4.3812675
A20: OTROS DATOS DE TRÁFICO | B20: Mercancías en tránsito | C20: Total | D20: {='Mercancías tránsito'!B35:E35} -> 10989962 | E20: 10948315 | F20: 23449810 | G20: 22771604 | H20: =G20-F20 -> -678206 | I20: =((G20*100/F20)-100) -> -2.8921599
C21: En contenedores | D21: {='Mercan. contene. tránsito'!B35:E35} -> 8500773 | E21: 7563594 | F21: 18126383 | G21: 15860702 | H21: =G21-F21 -> -2265681 | I21: =((G21*100/F21)-100) -> -12.499355
B22: Tráfico ro-ro | C22: Total (t) | D22: {='Ro-Ro'!B35:E35} -> 5706630 | E22: 5608743 | F22: 10990239 | G22: 10964682 | H22: =G22-F22 -> -25557 | I22: =((G22*100/F22)-100) -> -0.23254271
C23: UTIS (uds.) | D23: {='Ro-Ro UTIS'!B35:E35} -> 233939 | E23: 224713 | F23: 448995 | G23: 443599 | H23: =G23-F23 -> -5396 | I23: =((G23*100/F23)-100) -> -1.2017951
B24: Contenedores (TEUS) | C24: Total | D24: {=TEUS!B35:E35} -> 1356205.2 | E24: 1222256.5 | F24: 2803129.2 | G24: 2506681.2 | H24: =G24-F24 -> -296448 | I24: =((G24*100/F24)-100) -> -10.575609
C25: En tránsito | D25: {='TEUS tránsito'!B35:E35} -> 685849.17 | E25: 603773.75 | F25: 1470449.4 | G25: 1257147.8 | H25: =G25-F25 -> -213301.67 | I25: =((G25*100/F25)-100) -> -14.505883
C26: Entrada-salida nacional | D26: {='TEUS nacional'!B35:E35} -> 158935.5 | E26: 159082.25 | F26: 317081.5 | G26: 319402.5 | H26: =G26-F26 -> 2321 | I26: =((G26*100/F26)-100) -> 0.73198846
C27: Entrada-salida exterior | D27: {='TEUS exterior'!B35:E35} -> 511420.58 | E27: 459400.5 | F27: 1015598.3 | G27: 930131 | H27: =G27-F27 -> -85467.33 | I27: =((G27*100/F27)-100) -> -8.4154658
B28: Buques mercantes | C28: Total número | D28: {='Buques número'!B35:E35} -> 9994 | E28: 10471 | F28: 21097 | G28: 22113 | H28: =G28-F28 -> 1016 | I28: =((G28*100/F28)-100) -> 4.8158506
C29: Total GT | D29: {='Buques GT'!B35:E35} -> 167742678 | E29: 178818396 | F29: 348760767 | G29: 378225996 | H29: =G29-F29 -> 29465229 | I29: =((G29*100/F29)-100) -> 8.4485503
C30: Cruceros (nº) | D30: {=Cruceros!B35:E35} -> 201 | E30: 211 | F30: 472 | G30: 444 | H30: =G30-F30 -> -28 | I30: =((G30*100/F30)-100) -> -5.9322034
B31: Pasajeros (nº) | C31: Total | D31: {='Pasajeros total'!B35:E35} -> 1234737 | E31: 1826476 | F31: 2455197 | G31: 3854288 | H31: =G31-F31 -> 1399091 | I31: =((G31*100/F31)-100) -> 56.984877
C32: En régimen de transporte | D32: {='Pasajeros regulares'!B35:E35} -> 1025225 | E32: 1277560 | F32: 1984565 | G32: 2691799 | H32: =G32-F32 -> 707234 | I32: =((G32*100/F32)-100) -> 35.636726
C33: De crucero | D33: {='Pasajeros crucero'!B35:E35} -> 209512 | E33: 548916 | F33: 470632 | G33: 1162489 | H33: =G33-F33 -> 691857 | I33: =((G33*100/F33)-100) -> 147.00594
B34: Automóviles (uds.) | C34: En régimen de pasaje | D34: {='Automóviles régimen pasaje'!B35:E35} -> 277885 | E34: 333726 | F34: 548406 | G34: 720670 | H34: =G34-F34 -> 172264 | I34: =((G34*100/F34)-100) -> 31.411764
C35: En régimen de mercancía | D35: {='Automóviles régimen mercancía'!B35:E35} -> 236715 | E35: 300932 | F35: 479095 | G35: 562761 | H35: =G35-F35 -> 83666 | I35: =((G35*100/F35)-100) -> 17.463342
A36: (*) Incluye cargas, descargas, tránsito, transbordo y taras

Sheet Resumen naturalezas3
A1: RESUMEN DE MERCANCÍAS SEGÚN SU NATURALEZA Y PRESENTACIÓN
A4: Datos en toneladas | N4: Fecha: 25/1/2024
C5: GRANELES LÍQUIDOS | G5: GRANELES SÓLIDOS | K5: MERCANCÍA GENERAL
A6: MERCANCÍAS SEGÚN SU NATURALEZA | C6: Acumulado desde enero | E6: Variación | G6: Acumulado desde enero | I6: Variación | K6: Acumulado desde enero | M6: Variación
C7: 2022 | D7: 2023 | E7: Diferencia | F7: % | G7: 2022 | H7: 2023 | I7: Diferencia | J7: % | K7: 2022 | L7: 2023 | M7: Diferencia | N7: %
A8: Grupo energético | B8: Petróleo crudo | E8: =D8-C8 -> 0 | F8: =((D8*100/C8)-100) -> #DIV/0! | I8: =H8-G8 -> 0 | J8: =((H8*100/G8)-100) -> #DIV/0! | M8: =L8-K8 -> 0 | N8: =((L8*100/K8)-100) -> #DIV/0!
B9: Fueloil | E9: =D9-C9 -> 0 | F9: =((D9*100/C9)-100) -> #DIV/0! | I9: =H9-G9 -> 0 | J9: =((H9*100/G9)-100) -> #DIV/0! | M9: =L9-K9 -> 0 | N9: =((L9*100/K9)-100) -> #DIV/0!
B10: Gasoil | E10: =D10-C10 -> 0 | F10: =((D10*100/C10)-100) -> #DIV/0! | I10: =H10-G10 -> 0 | J10: =((H10*100/G10)-100) -> #DIV/0! | M10: =L10-K10 -> 0 | N10: =((L10*100/K10)-100) -> #DIV/0!
B11: Gasolina | E11: =D11-C11 -> 0 | F11: =((D11*100/C11)-100) -> #DIV/0! | I11: =H11-G11 -> 0 | J11: =((H11*100/G11)-100) -> #DIV/0! | M11: =L11-K11 -> 0 | N11: =((L11*100/K11)-100) -> #DIV/0!
B12: Otros productos petrolíferos | E12: =D12-C12 -> 0 | F12: =((D12*100/C12)-100) -> #DIV/0! | I12: =H12-G12 -> 0 | J12: =((H12*100/G12)-100) -> #DIV/0! | M12: =L12-K12 -> 0 | N12: =((L12*100/K12)-100) -> #DIV/0!
B13: Gases energéticos de petróleo | E13: =D13-C13 -> 0 | F13: =((D13*100/C13)-100) -> #DIV/0! | I13: =H13-G13 -> 0 | J13: =((H13*100/G13)-100) -> #DIV/0! | M13: =L13-K13 -> 0 | N13: =((L13*100/K13)-100) -> #DIV/0!
B14: Carbón y coque de petróleo | E14: =D14-C14 -> 0 | F14: =((D14*100/C14)-100) -> #DIV/0! | I14: =H14-G14 -> 0 | J14: =((H14*100/G14)-100) -> #DIV/0! | M14: =L14-K14 -> 0 | N14: =((L14*100/K14)-100) -> #DIV/0!
B15: Gas natural | E15: =D15-C15 -> 0 | F15: =((D15*100/C15)-100) -> #DIV/0! | I15: =H15-G15 -> 0 | J15: =((H15*100/G15)-100) -> #DIV/0! | M15: =L15-K15 -> 0 | N15: =((L15*100/K15)-100) -> #DIV/0!
B16: Biocombustibles | E16: =D16-C16 -> 0 | F16: =((D16*100/C16)-100) -> #DIV/0! | I16: =H16-G16 -> 0 | J16: =((H16*100/G16)-100) -> #DIV/0! | M16: =L16-K16 -> 0 | N16: =((L16*100/K16)-100) -> #DIV/0!
A17: Grupo siderometalúrgico | B17: Mineral de hierro | E17: =D17-C17 -> 0 | F17: =((D17*100/C17)-100) -> #DIV/0! | I17: =H17-G17 -> 0 | J17: =((H17*100/G17)-100) -> #DIV/0! | M17: =L17-K17 -> 0 | N17: =((L17*100/K17)-100) -> #DIV/0!
B18: Otros minerales y residuos metálicos | E18: =D18-C18 -> 0 | F18: =((D18*100/C18)-100) -> #DIV/0! | I18: =H18-G18 -> 0 | J18: =((H18*100/G18)-100) -> #DIV/0! | M18: =L18-K18 -> 0 | N18: =((L18*100/K18)-100) -> #DIV/0!
B19: Chatarra de hierro | E19: =D19-C19 -> 0 | F19: =((D19*100/C19)-100) -> #DIV/0! | I19: =H19-G19 -> 0 | J19: =((H19*100/G19)-100) -> #DIV/0! | M19: =L19-K19 -> 0 | N19: =((L19*100/K19)-100) -> #DIV/0!
B20: Productos siderúrgicos | E20: =D20-C20 -> 0 | F20: =((D20*100/C20)-100) -> #DIV/0! | I20: =H20-G20 -> 0 | J20: =((H20*100/G20)-100) -> #DIV/0! | M20: =L20-K20 -> 0 | N20: =((L20*100/K20)-100) -> #DIV/0!
B21: Otros productos metalúrgicos | E21: =D21-C21 -> 0 | F21: =((D21*100/C21)-100) -> #DIV/0! | I21: =H21-G21 -> 0 | J21: =((H21*100/G21)-100) -> #DIV/0! | M21: =L21-K21 -> 0 | N21: =((L21*100/K21)-100) -> #DIV/0!
A22: Grupo minerales no metálicos | B22: Sal común | E22: =D22-C22 -> 0 | F22: =((D22*100/C22)-100) -> #DIV/0! | I22: =H22-G22 -> 0 | J22: =((H22*100/G22)-100) -> #DIV/0! | M22: =L22-K22 -> 0 | N22: =((L22*100/K22)-100) -> #DIV/0!
B23: Otros minerales no metálicos | E23: =D23-C23 -> 0 | F23: =((D23*100/C23)-100) -> #DIV/0! | I23: =H23-G23 -> 0 | J23: =((H23*100/G23)-100) -> #DIV/0! | M23: =L23-K23 -> 0 | N23: =((L23*100/K23)-100) -> #DIV/0!
A24: Grupo abonos | B24: Fosfatos | E24: =D24-C24 -> 0 | F24: =((D24*100/C24)-100) -> #DIV/0! | I24: =H24-G24 -> 0 | J24: =((H24*100/G24)-100) -> #DIV/0! | M24: =L24-K24 -> 0 | N24: =((L24*100/K24)-100) -> #DIV/0!
B25: Potasas | E25: =D25-C25 -> 0 | F25: =((D25*100/C25)-100) -> #DIV/0! | I25: =H25-G25 -> 0 | J25: =((H25*100/G25)-100) -> #DIV/0! | M25: =L25-K25 -> 0 | N25: =((L25*100/K25)-100) -> #DIV/0!
B26: Abonos naturales y artificiales | E26: =D26-C26 -> 0 | F26: =((D26*100/C26)-100) -> #DIV/0! | I26: =H26-G26 -> 0 | J26: =((H26*100/G26)-100) -> #DIV/0! | M26: =L26-K26 -> 0 | N26: =((L26*100/K26)-100) -> #DIV/0!
A27: Grupo productos químicos | B27: Productos químicos | E27: =D27-C27 -> 0 | F27: =((D27*100/C27)-100) -> #DIV/0! | I27: =H27-G27 -> 0 | J27: =((H27*100/G27)-100) -> #DIV/0! | M27: =L27-K27 -> 0 | N27: =((L27*100/K27)-100) -> #DIV/0!
A28: Grupo materiales de construcción | B28: Asfalto | E28: =D28-C28 -> 0 | F28: =((D28*100/C28)-100) -> #DIV/0! | I28: =H28-G28 -> 0 | J28: =((H28*100/G28)-100) -> #DIV/0! | M28: =L28-K28 -> 0 | N28: =((L28*100/K28)-100) -> #DIV/0!
B29: Cemento y clínker | E29: =D29-C29 -> 0 | F29: =((D29*100/C29)-100) -> #DIV/0! | I29: =H29-G29 -> 0 | J29: =((H29*100/G29)-100) -> #DIV/0! | M29: =L29-K29 -> 0 | N29: =((L29*100/K29)-100) -> #DIV/0!
B30: Materiales de construcción elaborados | E30: =D30-C30 -> 0 | F30: =((D30*100/C30)-100) -> #DIV/0! | I30: =H30-G30 -> 0 | J30: =((H30*100/G30)-100) -> #DIV/0! | M30: =L30-K30 -> 0 | N30: =((L30*100/K30)-100) -> #DIV/0!
A31: Grupo agroganadero y alimentario | B31: Cereales y sus harinas | E31: =D31-C31 -> 0 | F31: =((D31*100/C31)-100) -> #DIV/0! | I31: =H31-G31 -> 0 | J31: =((H31*100/G31)-100) -> #DIV/0! | M31: =L31-K31 -> 0 | N31: =((L31*100/K31)-100) -> #DIV/0!
B32: Habas de soja | E32: =D32-C32 -> 0 | F32: =((D32*100/C32)-100) -> #DIV/0! | I32: =H32-G32 -> 0 | J32: =((H32*100/G32)-100) -> #DIV/0! | M32: =L32-K32 -> 0 | N32: =((L32*100/K32)-100) -> #DIV/0!
B33: Frutas, hortalizas y legumbres | E33: =D33-C33 -> 0 | F33: =((D33*100/C33)-100) -> #DIV/0! | I33: =H33-G33 -> 0 | J33: =((H33*100/G33)-100) -> #DIV/0! | M33: =L33-K33 -> 0 | N33: =((L33*100/K33)-100) -> #DIV/0!
B34: Vinos, bebidas, alcoholes y derivados | E34: =D34-C34 -> 0 | F34: =((D34*100/C34)-100) -> #DIV/0! | I34: =H34-G34 -> 0 | J34: =((H34*100/G34)-100) -> #DIV/0! | M34: =L34-K34 -> 0 | N34: =((L34*100/K34)-100) -> #DIV/0!
B35: Conservas | E35: =D35-C35 -> 0 | F35: =((D35*100/C35)-100) -> #DIV/0! | I35: =H35-G35 -> 0 | J35: =((H35*100/G35)-100) -> #DIV/0! | M35: =L35-K35 -> 0 | N35: =((L35*100/K35)-100) -> #DIV/0!
B36: Tabaco, cacao, café y especias | E36: =D36-C36 -> 0 | F36: =((D36*100/C36)-100) -> #DIV/0! | I36: =H36-G36 -> 0 | J36: =((H36*100/G36)-100) -> #DIV/0! | M36: =L36-K36 -> 0 | N36: =((L36*100/K36)-100) -> #DIV/0!
B37: Aceites y grasas | E37: =D37-C37 -> 0 | F37: =((D37*100/C37)-100) -> #DIV/0! | I37: =H37-G37 -> 0 | J37: =((H37*100/G37)-100) -> #DIV/0! | M37: =L37-K37 -> 0 | N37: =((L37*100/K37)-100) -> #DIV/0!
B38: Otros productos alimenticios | E38: =D38-C38 -> 0 | F38: =((D38*100/C38)-100) -> #DIV/0! | I38: =H38-G38 -> 0 | J38: =((H38*100/G38)-100) -> #DIV/0! | M38: =L38-K38 -> 0 | N38: =((L38*100/K38)-100) -> #DIV/0!
B39: Pescado congelado y refrigerado | E39: =D39-C39 -> 0 | F39: =((D39*100/C39)-100) -> #DIV/0! | I39: =H39-G39 -> 0 | J39: =((H39*100/G39)-100) -> #DIV/0! | M39: =L39-K39 -> 0 | N39: =((L39*100/K39)-100) -> #DIV/0!
B40: Piensos y forrajes | E40: =D40-C40 -> 0 | F40: =((D40*100/C40)-100) -> #DIV/0! | I40: =H40-G40 -> 0 | J40: =((H40*100/G40)-100) -> #DIV/0! | M40: =L40-K40 -> 0 | N40: =((L40*100/K40)-100) -> #DIV/0!
A41: Grupo otras mercancías | B41: Maderas y corcho | E41: =D41-C41 -> 0 | F41: =((D41*100/C41)-100) -> #DIV/0! | I41: =H41-G41 -> 0 | J41: =((H41*100/G41)-100) -> #DIV/0! | M41: =L41-K41 -> 0 | N41: =((L41*100/K41)-100) -> #DIV/0!
B42: Papel y pasta | E42: =D42-C42 -> 0 | F42: =((D42*100/C42)-100) -> #DIV/0! | I42: =H42-G42 -> 0 | J42: =((H42*100/G42)-100) -> #DIV/0! | M42: =L42-K42 -> 0 | N42: =((L42*100/K42)-100) -> #DIV/0!
B43: Maquinaria, aparatos, herramientas y respuestos | E43: =D43-C43 -> 0 | F43: =((D43*100/C43)-100) -> #DIV/0! | I43: =H43-G43 -> 0 | J43: =((H43*100/G43)-100) -> #DIV/0! | M43: =L43-K43 -> 0 | N43: =((L43*100/K43)-100) -> #DIV/0!
B44: Resto de mercancías | E44: =D44-C44 -> 0 | F44: =((D44*100/C44)-100) -> #DIV/0! | I44: =H44-G44 -> 0 | J44: =((H44*100/G44)-100) -> #DIV/0! | M44: =L44-K44 -> 0 | N44: =((L44*100/K44)-100) -> #DIV/0!
A45: Grupo vehículos y elementos de transporte | B45: Vehículos y sus piezas | E45: =D45-C45 -> 0 | F45: =((D45*100/C45)-100) -> #DIV/0! | I45: =H45-G45 -> 0 | J45: =((H45*100/G45)-100) -> #DIV/0! | M45: =L45-K45 -> 0 | N45: =((L45*100/K45)-100) -> #DIV/0!
B46: Taras de equipamiento ro-ro | E46: =D46-C46 -> 0 | F46: =((D46*100/C46)-100) -> #DIV/0! | I46: =H46-G46 -> 0 | J46: =((H46*100/G46)-100) -> #DIV/0! | M46: =L46-K46 -> 0 | N46: =((L46*100/K46)-100) -> #DIV/0!
B47: Tara de contenedores | E47: =D47-C47 -> 0 | F47: =((D47*100/C47)-100) -> #DIV/0! | I47: =H47-G47 -> 0 | J47: =((H47*100/G47)-100) -> #DIV/0! | M47: =L47-K47 -> 0 | N47: =((L47*100/K47)-100) -> #DIV/0!
A48: TOTAL MERCANCÍAS SEGÚN SU NATURALEZA Y PRESENTACIÓN (*) | C48: =SUM(C8:C47) -> 0 | D48: =SUM(D8:D47) -> 0 | E48: =D48-C48 -> 0 | F48: =((D48*100/C48)-100) -> #DIV/0! | G48: =SUM(G8:G47) -> 0 | H48: =SUM(H8:H47) -> 0 | I48: =H48-G48 -> 0 | J48: =((H48*100/G48)-100) -> #DIV/0! | K48: =SUM(K8:K47) -> 0 | L48: =SUM(L8:L47) -> 0 | M48: =L48-K48 -> 0 | N48: =((L48*100/K48)-100) -> #DIV/0!
A49: (*) Incluye cargas, descargas, tránsito, transbordo y taras

Sheet Resumen naturalezas
A1: RESUMEN DE MERCANCÍAS SEGÚN SU NATURALEZA Y PRESENTACIÓN
A4: Datos en toneladas | N4: Fecha: 25/1/2024
C5: GRANELES LÍQUIDOS | G5: GRANELES SÓLIDOS | K5: MERCANCÍA GENERAL
A6: MERCANCÍAS SEGÚN SU NATURALEZA | C6: Acumulado desde enero | E6: Variación | G6: Acumulado desde enero | I6: Variación | K6: Acumulado desde enero | M6: Variación
C7: 2022 | D7: 2023 | E7: Diferencia | F7: % | G7: 2022 | H7: 2023 | I7: Diferencia | J7: % | K7: 2022 | L7: 2023 | M7: Diferencia | N7: %
A8: Grupo energético | B8: Petróleo crudo | C8: 10249257 | D8: 10121495 | E8: -127762 | F8: -1.2465489 | G8: 0 | H8: 0 | I8: 0 | K8: 2 | L8: 77 | M8: 75 | N8: 3750
A9: Grupo energético | B9: Fueloil | C9: 3725620 | D9: 4038786 | E9: 313166 | F9: 8.4057419 | G9: 0 | H9: 0 | I9: 0 | K9: 49481 | L9: 52577 | M9: 3096 | N9: 6.2569471
A10: Grupo energético | B10: Gasoil | C10: 3039074 | D10: 3440726 | E10: 401652 | F10: 13.216263 | G10: 0 | H10: 0 | I10: 0 | K10: 3507 | L10: 5085 | M10: 1578 | N10: 44.995723
A11: Grupo energético | B11: Gasolina | C11: 2467248 | D11: 2525701 | E11: 58453 | F11: 2.3691579 | G11: 0 | H11: 0 | I11: 0 | K11: 3251 | L11: 4178 | M11: 927 | N11: 28.514303
A12: Grupo energético | B12: Otros productos petrolíferos | C12: 1618437 | D12: 1578665 | E12: -39772 | F12: -2.4574327 | G12: 0 | H12: 0 | I12: 0 | K12: 65441 | L12: 51539 | M12: -13902 | N12: -21.243563
A13: Grupo energético | B13: Gases energéticos de petróleo | C13: 423750 | D13: 395809 | E13: -27941 | F13: -6.5937463 | G13: 0 | H13: 0 | I13: 0 | K13: 13309 | L13: 14963 | M13: 1654 | N13: 12.427681
A14: Grupo energético | B14: Carbón y coque de petróleo | C14: 0 | D14: 0 | E14: 0 | G14: 2241439 | H14: 4144789 | I14: 1903350 | J14: 84.916431 | K14: 63417 | L14: 68786 | M14: 5369 | N14: 8.4661841
A15: Grupo energético | B15: Gas natural | C15: 3617873 | D15: 3356699 | E15: -261174 | F15: -7.218993 | G15: 0 | H15: 0 | I15: 0 | K15: 199 | L15: 17 | M15: -182 | N15: -91.457286
A16: Grupo energético | B16: Biocombustibles | C16: 1037101 | D16: 1116191 | E16: 79090 | F16: 7.6260653 | G16: 0 | H16: 0 | I16: 0 | K16: 150014 | L16: 121845 | M16: -28169 | N16: -18.777581
A17: Grupo siderometalúrgico | B17: Mineral de hierro | C17: 0 | D17: 0 | E17: 0 | G17: 1076225 | H17: 687893 | I17: -388332 | J17: -36.082789 | K17: 11535 | L17: 19990 | M17: 8455 | N17: 73.298656
A18: Grupo siderometalúrgico | B18: Otros minerales y residuos metálicos | C18: 0 | D18: 0 | E18: 0 | G18: 1221150 | H18: 733132 | I18: -488018 | J18: -39.963805 | K18: 282321 | L18: 309231 | M18: 26910 | N18: 9.5317033
A19: Grupo siderometalúrgico | B19: Chatarra de hierro | C19: 0 | D19: 0 | E19: 0 | G19: 280241 | H19: 249488 | I19: -30753 | J19: -10.973769 | K19: 202055 | L19: 242382 | M19: 40327 | N19: 19.958427
A20: Grupo siderometalúrgico | B20: Productos siderúrgicos | C20: 0 | D20: 0 | E20: 0 | G20: 91181 | H20: 50295 | I20: -40886 | J20: -44.840482 | K20: 2602077 | L20: 2128557 | M20: -473520 | N20: -18.19777
A21: Grupo siderometalúrgico | B21: Otros productos metalúrgicos | C21: 0 | D21: 0 | E21: 0 | G21: 0 | H21: 0 | I21: 0 | K21: 665442 | L21: 614778 | M21: -50664 | N21: -7.6135862
A22: Grupo minerales no metálicos | B22: Sal común | C22: 0 | D22: 0 | E22: 0 | G22: 129928 | H22: 154337 | I22: 24409 | J22: 18.786559 | K22: 123307 | L22: 53705 | M22: -69602 | N22: -56.446106
A23: Grupo minerales no metálicos | B23: Otros minerales no metálicos | C23: 7744 | D23: 3871 | E23: -3873 | F23: -50.012913 | G23: 2991463 | H23: 2126063 | I23: -865400 | J23: -28.928989 | K23: 480455 | L23: 442098 | M23: -38357 | N23: -7.983474
A24: Grupo abonos | B24: Fosfatos | C24: 0 | D24: 0 | E24: 0 | G24: 81993 | H24: 88701 | I24: 6708 | J24: 8.1811862 | K24: 7973 | L24: 125 | M24: -7848 | N24: -98.432209
A25: Grupo abonos | B25: Potasas | C25: 0 | D25: 0 | E25: 0 | G25: 95802 | H25: 101002 | I25: 5200 | J25: 5.4278616 | K25: 24383 | L25: 11908 | M25: -12475 | N25: -51.162695
A26: Grupo abonos | B26: Abonos naturales y artificiales | C26: 78931 | D26: 43693 | E26: -35238 | F26: -44.644056 | G26: 629445 | H26: 558812 | I26: -70633 | J26: -11.221473 | K26: 346884 | L26: 246165 | M26: -100719 | N26: -29.035355
A27: Grupo productos químicos | B27: Productos químicos | C27: 1893301 | D27: 1588202 | E27: -305099 | F27: -16.114659 | G27: 567545 | H27: 402712 | I27: -164833 | J27: -29.04316 | K27: 3525033 | L27: 3136958 | M27: -388075 | N27: -11.009117
A28: Grupo materiales de construcción | B28: Asfalto | C28: 270474 | D28: 378082 | E28: 107608 | F28: 39.78497 | G28: 28758 | H28: 16312 | I28: -12446 | J28: -43.278392 | K28: 9981 | L28: 15860 | M28: 5879 | N28: 58.901914
A29: Grupo materiales de construcción | B29: Cemento y clínker | C29: 0 | D29: 0 | E29: 0 | G29: 1231286 | H29: 1203562 | I29: -27724 | J29: -2.2516296 | K29: 176101 | L29: 166868 | M29: -9233 | N29: -5.243014
A30: Grupo materiales de construcción | B30: Materiales de construcción elaborados | C30: 0 | D30: 0 | E30: 0 | G30: 87595 | H30: 60848 | I30: -26747 | J30: -30.534848 | K30: 3207805 | L30: 2670955 | M30: -536850 | N30: -16.735743
A31: Grupo agroganadero y alimentario | B31: Cereales y sus harinas | C31: 0 | D31: 0 | E31: 0 | G31: 3115509 | H31: 3178614 | I31: 63105 | J31: 2.0255117 | K31: 302530 | L31: 459789 | M31: 157259 | N31: 51.981291
A32: Grupo agroganadero y alimentario | B32: Habas de soja | C32: 0 | D32: 0 | E32: 0 | G32: 519383 | H32: 576098 | I32: 56715 | J32: 10.919687 | K32: 170963 | L32: 115029 | M32: -55934 | N32: -32.717021
A33: Grupo agroganadero y alimentario | B33: Frutas, hortalizas y legumbres | C33: 0 | D33: 0 | E33: 0 | G33: 5778 | H33: 11850 | I33: 6072 | J33: 105.08827 | K33: 1726364 | L33: 1693823 | M33: -32541 | N33: -1.8849443
A34: Grupo agroganadero y alimentario | B34: Vinos, bebidas, alcoholes y derivados | C34: 22686 | D34: 5395 | E34: -17291 | F34: -76.218813 | G34: 0 | H34: 0 | I34: 0 | K34: 1380453 | L34: 1226448 | M34: -154005 | N34: -11.15612
A35: Grupo agroganadero y alimentario | B35: Conservas | C35: 0 | D35: 0 | E35: 0 | G35: 0 | H35: 0 | I35: 0 | K35: 528099 | L35: 488639 | M35: -39460 | N35: -7.4720838
A36: Grupo agroganadero y alimentario | B36: Tabaco, cacao, café y especias | C36: 0 | D36: 0 | E36: 0 | G36: 0 | H36: 0 | I36: 0 | K36: 752813 | L36: 762854 | M36: 10041 | N36: 1.3337974
A37: Grupo agroganadero y alimentario | B37: Aceites y grasas | C37: 674071 | D37: 736946 | E37: 62875 | F37: 9.3276524 | G37: 0 | H37: 0 | I37: 0 | K37: 462320 | L37: 406890 | M37: -55430 | N37: -11.989531
A38: Grupo agroganadero y alimentario | B38: Otros productos alimenticios | C38: 37315 | D38: 45236 | E38: 7921 | F38: 21.227388 | G38: 120725 | H38: 96047 | I38: -24678 | J38: -20.441499 | K38: 3475029 | L38: 3439710 | M38: -35319 | N38: -1.0163656
A39: Grupo agroganadero y alimentario | B39: Pescado congelado y refrigerado | C39: 0 | D39: 0 | E39: 0 | G39: 0 | H39: 0 | I39: 0 | K39: 650614 | L39: 582333 | M39: -68281 | N39: -10.494856
A40: Grupo agroganadero y alimentario | B40: Piensos y forrajes | C40: 0 | D40: 0 | E40: 0 | G40: 1038313 | H40: 692938 | I40: -345375 | J40: -33.263091 | K40: 732450 | L40: 556965 | M40: -175485 | N40: -23.958632
A41: Grupo otras mercancías | B41: Maderas y corcho | C41: 0 | D41: 0 | E41: 0 | G41: 24095 | H41: 67587 | I41: 43492 | J41: 180.50218 | K41: 911906 | L41: 690217 | M41: -221689 | N41: -24.31051
A42: Grupo otras mercancías | B42: Papel y pasta | C42: 0 | D42: 0 | E42: 0 | G42: 0 | H42: 0 | I42: 0 | K42: 1601497 | L42: 1646801 | M42: 45304 | N42: 2.8288533
A43: Grupo otras mercancías | B43: Maquinaria, aparatos, herramientas y repuestos | C43: 0 | D43: 0 | E43: 0 | G43: 0 | H43: 0 | I43: 0 | K43: 2112627 | L43: 1964943 | M43: -147684 | N43: -6.9905383
A44: Grupo otras mercancías | B44: Resto de mercancías | C44: 12348 | D44: 31863 | E44: 19515 | F44: 158.04179 | G44: 9437 | H44: 31568 | I44: 22131 | J44: 234.51309 | K44: 4725355 | L44: 4092327 | M44: -633028 | N44: -13.396411
A45: Grupo vehículos y elementos de transporte | B45: Vehículos y sus piezas | C45: 0 | D45: 0 | E45: 0 | G45: 0 | H45: 0 | I45: 0 | K45: 1362074 | L45: 1617143 | M45: 255069 | N45: 18.726516
A46: Grupo vehículos y elementos de transporte | B46: Taras de equipamiento ro-ro | C46: 0 | D46: 0 | E46: 0 | G46: 0 | H46: 0 | I46: 0 | K46: 4749642 | L46: 4612167 | M46: -137475 | N46: -2.8944287
A47: Grupo vehículos y elementos de transporte | B47: Taras de contenedores | C47: 0 | D47: 0 | E47: 0 | G47: 0 | H47: 0 | I47: 0 | K47: 5801462 | L47: 5191608 | M47: -609854 | N47: -10.512074
A48: TOTAL MERCANCÍAS SEGÚN SU NATURALEZA Y PRESENTACIÓN (*) | C48: =SUM(C8:C47) -> 29175230 | D48: =SUM(D8:D47) -> 29407360 | E48: =D48-C48 -> 232130 | F48: =((D48*100/C48)-100) -> 0.79564069 | G48: =SUM(G8:G47) -> 15587291 | H48: =SUM(H8:H47) -> 15232648 | I48: =H48-G48 -> -354643 | J48: =((H48*100/G48)-100) -> -2.2752061 | K48: =SUM(K8:K47) -> 43460171 | L48: =SUM(L8:L47) -> 39926333 | M48: =L48-K48 -> -3533838 | N48: =((L48*100/K48)-100) -> -8.1312105
A49: (*) Incluye cargas, descargas, tránsito, transbordo y taras

Sheet Total tráfico
A1: 1. TRÁFICO PORTUARIO TOTAL | AA1: ="Acumulado "&E6 -> Acumulado 2023
AA2: ="Acumulado "&D6 -> Acumulado 2022
A4: Datos en toneladas
A5: Autoridad Portuaria | B5: Febrero | D5: Acumulado desde Enero | N5: Fecha: 25/1/2024
B6: 2022 | C6: 2023 | D6: 2022 | E6: 2023 | F6: Var. (%)
A7: A Coruña | B7: 948020.41 | C7: 1504024.4 | D7: 2119891.3 | E7: 2746353.4 | F7: 29.551614
A8: Alicante | B8: 270928.67 | C8: 233581 | D8: 496027.67 | E8: 528861 | F8: 6.6192531
A9: Almería | B9: 534081.88 | C9: 420001.58 | D9: 947842.45 | E9: 803719.75 | F9: -15.205343
A10: Avilés | B10: 479969.84 | C10: 382596.81 | D10: 846662.36 | E10: 800987.27 | F10: -5.3947234
A11: Bahía de Algeciras | B11: 8667845.5 | C11: 7609707.2 | D11: 17753881 | E11: 16320583 | F11: -8.0731569
A12: Bahía de Cádiz | B12: 460244.09 | C12: 473300.2 | D12: 947671.42 | E12: 951210.94 | F12: 0.37349591
A13: Baleares | B13: 1050221.6 | C13: 1120931.4 | D13: 1996663.3 | E13: 2122622.1 | F13: 6.308465
A14: Barcelona | B14: 5591143.7 | C14: 4902560.4 | D14: 11303068 | E14: 10005723 | F14: -11.477806
A15: Bilbao | B15: 2173216 | C15: 2424897 | D15: 4661229 | E15: 4867510 | F15: 4.4254638
A16: Cartagena | B16: 2755192 | C16: 2747840 | D16: 5964013 | E16: 6045356 | F16: 1.3638976
A17: Castellón | B17: 1547918.7 | C17: 1230142.4 | D17: 3630747.4 | E17: 2629515.2 | F17: -27.576476
A18: Ceuta | B18: 146982 | C18: 140243 | D18: 259168.9 | E18: 285734 | F18: 10.250111
... A34: Vilagarcía | B34: 127497 | C34: 129961 | D34: 264067 | E34: 235432 | F34: -10.843839
A35: TOTAL | B35: =SUM(B7:B34) -> 44003237 | C35: =SUM(C7:C34) -> 42463349 | D35: =SUM(D7:D34) -> 90658299 | E35: =SUM(E7:E34) -> 86686317 | F35: =E35*100/D35-100 -> -4.3812675
A36: Incluye cargas, descargas, tránsito, transbordo y taras

Sheet Total presentación
A1: 1.1. MERCANCÍAS SEGÚN SU PRESENTACIÓN
A2: (graneles líquidos, graneles sólidos y mercancía general)
A4: Datos en toneladas
A5: Autoridad Portuaria | B5: Febrero | D5: Acumulado desde Enero | N5: Fecha: 25/1/2024
B6: 2022 | C6: 2023 | D6: 2022 | E6: 2023 | F6: Var. (%)
A7: A Coruña | B7: 943260 | C7: 1498926 | D7: 2110729 | E7: 2738025 | F7: 29.7194
A8: Alicante | B8: 268942 | C8: 232134 | D8: 492557 | E8: 525550 | F8: 6.6983111
A9: Almería | B9: 529977 | C9: 414766 | D9: 938928 | E9: 793105 | F9: -15.530797
A10: Avilés | B10: 475724 | C10: 378690 | D10: 837538 | E10: 792160 | F10: -5.4180228
A11: Bahía de Algeciras | B11: 7985058 | C11: 7226827 | D11: 16523642 | E11: 15386056 | F11: -6.884596
A12: Bahía de Cádiz | B12: 448465 | C12: 466425 | D12: 922222 | E12: 933845 | F12: 1.2603256
A13: Baleares | B13: 1046580 | C13: 1116871 | D13: 1986676 | E13: 2115699 | F13: 6.4944158
A14: Barcelona | B14: 5446057 | C14: 4795816 | D14: 11017376 | E14: 9780914 | F14: -11.222836
A15: Bilbao | B15: 2165227 | C15: 2415342 | D15: 4644298 | E15: 4848546 | F15: 4.3978229
A16: Cartagena | B16: 2734763 | C16: 2735919 | D16: 5921234 | E16: 6024407 | F16: 1.742424
A17: Castellón | B17: 1544190 | C17: 1227777 | D17: 3624381 | E17: 2624528 | F17: -27.586862
A18: Ceuta | B18: 96315 | C18: 91636 | D18: 169343 | E18: 184143 | F18: 8.7396586
... A34: Vilagarcía | B34: 126768 | C34: 129454 | D34: 262553 | E34: 233926 | F34: -10.903322
A35: TOTAL | B35: =SUM(B7:B34) -> 42730956 | C35: =SUM(C7:C34) -> 41483741 | D35: =SUM(D7:D34) -> 88222692 | E35: =SUM(E7:E34) -> 84566341 | F35: =E35*100/D35-100 -> -4.1444564
A36: Incluye cargas, descargas, tránsito, transbordo y taras

Sheet Líquidos
A1: 2. GRANELES LÍQUIDOS
A4: Datos en toneladas
A5: Autoridad Portuaria | B5: Febrero | D5: Acumulado desde Enero | N5: Fecha: 25/1/2024
B6: 2022 | C6: 2023 | D6: 2022 | E6: 2023 | F6: Var. (%)
A7: A Coruña | B7: 690494 | C7: 895370 | D7: 1313788 | E7: 1572025 | F7: 19.655911
A8: Alicante | B8: 7190 | C8: 0 | D8: 7190 | E8: 5453 | F8: -24.158554
A9: Almería | B9: 13894 | C9: 3689 | D9: 21406 | E9: 8227 | F9: -61.56685
A10: Avilés | B10: 54157 | C10: 72394 | D10: 128860 | E10: 127811 | F10: -0.81406177
A11: Bahía de Algeciras | B11: 2455118 | C11: 1898017 | D11: 4723659 | E11: 4278184 | F11: -9.4307189
A12: Bahía de Cádiz | B12: 62924 | C12: 148050 | D12: 143877 | E12: 311613 | F12: 116.58291
A13: Baleares | B13: 54226 | C13: 81764 | D13: 144096 | E13: 153255 | F13: 6.3561792
A14: Barcelona | B14: 1375011 | C14: 1072742 | D14: 2882334 | E14: 2072619 | F14: -28.092338
A15: Bilbao | B15: 1168148 | C15: 1505199 | D15: 2690195 | E15: 3008672 | F15: 11.838436
A16: Cartagena | B16: 2124685 | C16: 2109933 | D16: 4518442 | E16: 4445929 | F16: -1.6048231
A17: Castellón | B17: 681731 | C17: 732854 | D17: 1549984 | E17: 1405635 | F17: -9.3129348
A18: Ceuta | B18: 52302 | C18: 49966 | D18: 83137 | E18: 101725 | F18: 22.358276
... A23: Málaga | B23: 7875 | C23: 12900 | D23: 14025 | E23: 14910 | F23: 6.3101604
A24: Marín y Ría de Pontevedra | B24: 0 | C24: 0 | D24: 0 | E24: 0
A25: Melilla | B25: 2300 | C25: 5796 | D25: 8735 | E25: 9545 | F25: 9.2730395
A26: Motril | B26: 128444 | C26: 138237 | D26: 229517 | E26: 223872 | F26: -2.4595128
A27: Pasaia | B27: 0 | C27: 0 | D27: 0 | E27: 0
A28: Santa Cruz de Tenerife | B28: 171026 | C28: 339305 | D28: 445798 | E28: 684391 | F28: 53.520429
A29: Santander | B29: 14723 | C29: 28078 | D29: 33988 | E29: 41803 | F29: 22.993409
A30: Sevilla | B30: 27776 | C30: 35006 | D30: 73770 | E30: 67292 | F30: -8.7813474
A31: Tarragona | B31: 1627078 | C31: 1781067 | D31: 3485047 | E31: 3307635 | F31: -5.0906631
A32: Valencia | B32: 440104 | C32: 324101 | D32: 890851 | E32: 837127 | F32: -6.0306381
A33: Vigo | B33: 5404 | C33: 5744 | D33: 5404 | E33: 8737 | F33: 61.676536
A34: Vilagarcía | B34: 41889 | C34: 35868 | D34: 65654 | E34: 51814 | F34: -21.080208
A35: TOTAL | B35: =SUM(B7:B34) -> 13963380 | C35: =SUM(C7:C34) -> 14620962 | D35: =SUM(D7:D34) -> 29175230 | E35: =SUM(E7:E34) -> 29407360 | F35: =E35*100/D35-100 -> 0.79564069
A36: Incluye cargas, descargas, tránsito y transbordo

Sheet Sólidos
A1: 3. GRANELES SÓLIDOS
A4: Datos en toneladas
A5: Autoridad Portuaria | B5: Febrero | D5: Acumulado desde Enero | N5: Fecha: 25/1/2024
B6: 2022 | C6: 2023 | D6: 2022 | E6: 2023 | F6: Var. (%)
A7: A Coruña | B7: 185452 | C7: 546233 | D7: 650011 | E7: 1067680 | F7: 64.255682
A8: Alicante | B8: 127195 | C8: 135408 | D8: 246770 | E8: 327167 | F8: 32.57973
A9: Almería | B9: 389279 | C9: 313763 | D9: 656271 | E9: 612847 | F9: -6.6167787
A10: Avilés | B10: 294729 | C10: 223174 | D10: 483948 | E10: 489510 | F10: 1.149297
A11: Bahía de Algeciras | B11: 60047 | C11: 35205 | D11: 267259 | E11: 66864 | F11: -74.981572
A12: Bahía de Cádiz | B12: 189202 | C12: 162994 | D12: 375965 | E12: 300026 | F12: -20.198423
A13: Baleares | B13: 28698 | C13: 41212 | D13: 54585 | E13: 84491 | F13: 54.787945
A14: Barcelona | B14: 413006 | C14: 369020 | D14: 665735 | E14: 783230 | F14: 17.648914
A15: Bilbao | B15: 301484 | C15: 278019 | D15: 612687 | E15: 612691 | F15: 0.0006528619
A16: Cartagena | B16: 527456 | C16: 557476 | D16: 1234542 | E16: 1428098 | F16: 15.678365
A17: Castellón | B17: 772888 | C17: 406445 | D17: 1861458 | E17: 1044435 | F17: -43.891562
A18: Ceuta | B18: 1400 | C18: 1000 | D18: 2256 | E18: 2400 | F18: 6.3829787
... A34: Vilagarcía | B34: 23694 | C34: 29220 | D34: 63022 | E34: 65036 | F34: 3.1957094
A35: TOTAL | B35: =SUM(B7:B34) -> 7416156 | C35: =SUM(C7:C34) -> 7057755 | D35: =SUM(D7:D34) -> 15587291 | E35: =SUM(E7:E34) -> 15232648 | F35: =E35*100/D35-100 -> -2.2752061
A36: Incluye cargas, descargas, tránsito y transbordo

Sheet Mercancía general
A1: 4. MERCANCÍA GENERAL
A4: Datos en toneladas
A5: Autoridad Portuaria | B5: Febrero | D5: Acumulado desde Enero | N5: Fecha: 25/1/2024
B6: 2022 | C6: 2023 | D6: 2022 | E6: 2023 | F6: Var. (%)
A7: A Coruña | B7: 67314 | C7: 57323 | D7: 146930 | E7: 98320 | F7: -33.083781
A8: Alicante | B8: 134557 | C8: 96726 | D8: 238597 | E8: 192930 | F8: -19.139805
A9: Almería | B9: 126804 | C9: 97314 | D9: 261251 | E9: 172031 | F9: -34.151065
A10: Avilés | B10: 126838 | C10: 83122 | D10: 224730 | E10: 174839 | F10: -22.200418
A11: Bahía de Algeciras | B11: 5469893 | C11: 5293605 | D11: 11532724 | E11: 11041008 | F11: -4.2636588
A12: Bahía de Cádiz | B12: 196339 | C12: 155381 | D12: 402380 | E12: 322206 | F12: -19.924947
A13: Baleares | B13: 963656 | C13: 993895 | D13: 1787995 | E13: 1877953 | F13: 5.0312221
A14: Barcelona | B14: 3658040 | C14: 3354054 | D14: 7469307 | E14: 6925065 | F14: -7.2863788
A15: Bilbao | B15: 695595 | C15: 632124 | D15: 1341416 | E15: 1227183 | F15: -8.5158519
A16: Cartagena | B16: 82622 | C16: 68510 | D16: 168250 | E16: 150380 | F16: -10.6211
A17: Castellón | B17: 89571 | C17: 88478 | D17: 212939 | E17: 174458 | F17: -18.071373
A18: Ceuta | B18: 42613 | C18: 40670 | D18: 83950 | E18: 80018 | F18: -4.6837403
... A34: Vilagarcía | B34: 61185 | C34: 64366 | D34: 133877 | E34: 117076 | F34: -12.549579
A35: TOTAL | B35: =SUM(B7:B34) -> 21351420 | C35: =SUM(C7:C34) -> 19805024 | D35: =SUM(D7:D34) -> 43460171 | E35: =SUM(E7:E34) -> 39926333 | F35: =E35*100/D35-100 -> -8.1312105
A36: Incluye cargas, descargas, tránsito, transbordo y taras

Sheet Mercancías contenedores
A1: 4.1. MERCANCÍA GENERAL EN CONTENEDORES
A4: Datos en toneladas
A5: Autoridad Portuaria | B5: Febrero | D5: Acumulado desde Enero | N5: Fecha: 25/1/2024
B6: 2022 | C6: 2023 | D6: 2022 | E6: 2023 | F6: Var. (%)
A7: A Coruña | B7: 30 | C7: 0 | D7: 30 | E7: 66 | F7: 120
A8: Alicante | B8: 114149 | C8: 89628 | D8: 211312 | E8: 178973 | F8: -15.303911
A9: Almería | B9: 54716 | C9: 9285 | D9: 90615 | E9: 20957 | F9: -76.872482
A10: Avilés | B10: 0 | C10: 0 | D10: 0 | E10: 0
A11: Bahía de Algeciras | B11: 4095095 | C11: 4055921 | D11: 8837362 | E11: 8600414 | F11: -2.6812074
A12: Bahía de Cádiz | B12: 147885 | C12: 108757 | D12: 305625 | E12: 224485 | F12: -26.548875
A13: Baleares | B13: 28338 | C13: 23743 | D13: 53540 | E13: 45695 | F13: -14.652596
A14: Barcelona | B14: 2740901 | C14: 2522049 | D14: 5756723 | E14: 5311679 | F14: -7.7308566
A15: Bilbao | B15: 453611 | C15: 444749 | D15: 872510 | E15: 852737 | F15: -2.2662204
A16: Cartagena | B16: 50246 | C16: 47032 | D16: 106643 | E16: 89281 | F16: -16.280487
A17: Castellón | B17: 80775 | C17: 82007 | D17: 199720 | E17: 163302 | F17: -18.234528
A18: Ceuta | B18: 4864 | C18: 4791 | D18: 10253 | E18: 10435 | F18: 1.7750902
A19: Ferrol-San Cibrao | B19: 11627 | C19: 39908 | D19: 23466 | E19: 94318 | F19: 301.93471
A20: Gijón | B20: 60857 | C20: 55032 | D20: 111579 | E20: 115348 | F20: 3.3778758
A21: Huelva | B21: 48191 | C21: 40789 | D21: 87795 | E21: 82696 | F21: -5.8078478
A22: Las Palmas | B22: 954522 | C22: 937798 | D22: 2009003 | E22: 1870149 | F22: -6.9115875
... A25: Melilla | B25: 3084 | C25: 3677 | D25: 6848 | E25: 7030 | F25: 2.6577103
A26: Motril | B26: 0 | C26: 609 | D26: 0 | E26: 811
A27: Pasaia | B27: 0 | C27: 0 | D27: 0 | E27: 0
A28: Santa Cruz de Tenerife | B28: 282207 | C28: 385133 | D28: 563829 | E28: 683930 | F28: 21.300962
A29: Santander | B29: 31319 | C29: 30202 | D29: 66805 | E29: 56581 | F29: -15.304244
A30: Sevilla | B30: 66729 | C30: 80729 | D30: 144940 | E30: 160066 | F30: 10.436043
A31: Tarragona | B31: 50652 | C31: 29852 | D31: 100075 | E31: 57856 | F31: -42.187359
A32: Valencia | B32: 4960216 | C32: 4026188 | D32: 9999825 | E32: 8050070 | F32: -19.497891
A33: Vigo | B33: 211167 | C33: 179660 | D33: 423475 | E33: 366090 | F33: -13.550977
A34: Vilagarcía | B34: 22646 | C34: 23144 | D34: 50698 | E34: 42932 | F34: -15.318159
A35: TOTAL | B35: =SUM(B7:B34) -> 14727638 | C35: =SUM(C7:C34) -> 13281502 | D35: =SUM(D7:D34) -> 30569735 | E35: =SUM(E7:E34) -> 27209784 | F35: =E35*100/D35-100 -> -10.991103
A36: Incluye cargas, descargas, tránsito, transbordo y taras

Sheet Pesca
A1: 5. PESCA
A4: Datos en toneladas
A5: Autoridad Portuaria | B5: Febrero | D5: Acumulado desde Enero | N5: Fecha: 25/1/2024
B6: 2022 | C6: 2023 | D6: 2022 | E6: 2023 | F6: Var. (%)
A7: A Coruña | B7: 964.414 | C7: 1385.374 | D7: 2368.275 | E7: 2588.372 | F7: 9.2935575
A8: Alicante | B8: 78.673 | C8: 0 | D8: 78.673 | E8: 0 | F8: -100
A9: Almería | B9: 265.884 | C9: 145.575 | D9: 474.445 | E9: 331.747 | F9: -30.076827
A10: Avilés | B10: 716.84 | C10: 634.812 | D10: 1344.365 | E10: 1116.272 | F10: -16.966598
A11: Bahía de Algeciras | B11: 55.51 | C11: 26.18 | D11: 79.33 | E11: 111.63 | F11: 40.715996
A12: Bahía de Cádiz | B12: 915.085 | C12: 703.2 | D12: 1740.424 | E12: 1542.938 | F12: -11.347005
A13: Baleares | B13: 104.614 | C13: 102.359 | D13: 198.322 | E13: 163.129 | F13: -17.745384
A14: Barcelona | B14: 264.67 | C14: 106.389 | D14: 530.66 | E14: 150.465 | F14: -71.645687
A15: Bilbao | B15: 0 | C15: 0 | D15: 0 | E15: 0
A16: Cartagena | B16: 14.955 | C16: 0 | D16: 45.973 | E16: 0 | F16: -100
A17: Castellón | B17: 190.686 | C17: 279.389 | D17: 360.371 | E17: 354.182 | F17: -1.7173968
A18: Ceuta | B18: 0 | C18: 0 | D18: 0.9 | E18: 0 | F18: -100
A19: Ferrol-San Cibrao | B19: 19.711 | C19: 13.305 | D19: 35.781 | E19: 22.414 | F19: -37.357816
A20: Gijón | B20: 153.197 | C20: 85.085 | D20: 269.618 | E20: 278.283 | F20: 3.2138062
A21: Huelva | B21: 18.194 | C21: 12.064 | D21: 36.481 | E21: 24.624 | F21: -32.50185
A22: Las Palmas | B22: 51.993 | C22: 57.39 | D22: 76.898 | E22: 93.139 | F22: 21.120185
A23: Málaga | B23: 30.583 | C23: 12 | D23: 73.211 | E23: 19.768 | F23: -72.998593
A24: Marín y Ría de Pontevedra | B24: 192.682 | C24: 167.928 | D24: 385.557 | E24: 381.979 | F24: -0.92800805
A25: Melilla | B25: 0 | C25: 0 | D25: 0 | E25: 0
A26: Motril | B26: 42.62 | C26: 13.37 | D26: 136.725 | E26: 91.191 | F26: -33.303346
A27: Pasaia | B27: 1829.284 | C27: 2233.65 | D27: 3389.342 | E27: 3965.001 | F27: 16.984388
A28: Santa Cruz de Tenerife | B28: 270.867 | C28: 162.452 | D28: 421.465 | E28: 267.467 | F28: -36.53874
A29: Santander | B29: 258.202 | C29: 198.915 | D29: 649.806 | E29: 387.319 | F29: -40.394672
A30: Sevilla | B30: 0 | C30: 0 | D30: 0 | E30: 0
A31: Tarragona | B31: 162.256 | C31: 144.91 | D31: 242.469 | E31: 213.126 | F31: -12.101753
A32: Valencia | B32: 39.463 | C32: 83.841 | D32: 94.142 | E32: 129.464 | F32: 37.519917
A33: Vigo | B33: 2388.023 | C33: 2263.787 | D33: 4776.042 | E33: 4298.193 | F33: -10.005126
A34: Vilagarcía | B34: 0 | C34: 0 | D34: 0 | E34: 0
A35: TOTAL | B35: =SUM(B7:B34) -> 9028.406 | C35: =SUM(C7:C34) -> 8831.975 | D35: =SUM(D7:D34) -> 17809.275 | E35: =SUM(E7:E34) -> 16530.703 | F35: =E35*100/D35-100 -> -7.1792479
A36: Incluye descargas de peces, moluscos, crustáceos y otros productos

Sheet Avituallamiento
A1: 6. AVITUALLAMIENTO
A4: Datos en toneladas
A5: Autoridad Portuaria | B5: Febrero | D5: Acumulado desde Enero | N5: Fecha: 25/1/2024
B6: 2022 | C6: 2023 | D6: 2022 | E6: 2023 | F6: Var. (%)
A7: A Coruña | B7: 3796 | C7: 3713 | D7: 6794 | E7: 5740 | F7: -15.513689
A8: Alicante | B8: 1908 | C8: 1447 | D8: 3392 | E8: 3311 | F8: -2.3879717
A9: Almería | B9: 3839 | C9: 5090 | D9: 8440 | E9: 10283 | F9: 21.836493
A10: Avilés | B10: 3529 | C10: 3272 | D10: 7780 | E10: 7711 | F10: -0.88688946
A11: Bahía de Algeciras | B11: 342472 | C11: 189284 | D11: 629300 | E11: 479004 | F11: -23.883045
A12: Bahía de Cádiz | B12: 10864 | C12: 6172 | D12: 23709 | E12: 15823 | F12: -33.261631
A13: Baleares | B13: 3537 | C13: 3295 | D13: 9789 | E13: 6061 | F13: -38.083563
A14: Barcelona | B14: 144822 | C14: 106638 | D14: 285161 | E14: 224659 | F14: -21.216786
A15: Bilbao | B15: 7989 | C15: 9555 | D15: 16931 | E15: 18964 | F15: 12.00756
A16: Cartagena | B16: 20414 | C16: 11921 | D16: 42733 | E16: 20949 | F16: -50.976997
A17: Castellón | B17: 3538 | C17: 2086 | D17: 6006 | E17: 4633 | F17: -22.860473
A18: Ceuta | B18: 50667 | C18: 48607 | D18: 89825 | E18: 101591 | F18: 13.098803
... A34: Vilagarcía | B34: 729 | C34: 507 | D34: 1514 | E34: 1506 | F34: -0.52840159
A35: TOTAL | B35: =SUM(B7:B34) -> 904663 | C35: =SUM(C7:C34) -> 749410 | D35: =SUM(D7:D34) -> 1798452 | E35: =SUM(E7:E34) -> 1614075 | F35: =E35*100/D35-100 -> -10.251983
A36: Incluye cargas de combustibles líquidos, agua, hielo, provisiones y varios

Sheet Avi. combustibles
A1: 6.1. AVITUALLAMIENTO DE COMBUSTIBLES LÍQUIDOS
A4: Datos en toneladas
A5: Autoridad Portuaria | B5: Febrero | D5: Acumulado desde Enero | N5: Fecha: 25/1/2024
B6: 2022 | C6: 2023 | D6: 2022 | E6: 2023 | F6: Var. (%)
A7: A Coruña | B7: 3372 | C7: 2599 | D7: 5581 | E7: 4087 | F7: -26.769396
A8: Alicante | B8: 200 | C8: 186 | D8: 329 | E8: 369 | F8: 12.158055
A9: Almería | B9: 1964 | C9: 2304 | D9: 4254 | E9: 5287 | F9: 24.283028
A10: Avilés | B10: 1258 | C10: 1043 | D10: 2854 | E10: 2884 | F10: 1.0511563
A11: Bahía de Algeciras | B11: 327477 | C11: 176700 | D11: 601545 | E11: 451532 | F11: -24.937951
A12: Bahía de Cádiz | B12: 1521 | C12: 2618 | D12: 5257 | E12: 3586 | F12: -31.78619
A13: Baleares | B13: 125 | C13: 121 | D13: 252 | E13: 259 | F13: 2.7777778
A14: Barcelona | B14: 125953 | C14: 92490 | D14: 252644 | E14: 195941 | F14: -22.443834
A15: Bilbao | B15: 4235 | C15: 5063 | D15: 8975 | E15: 10049 | F15: 11.966574
A16: Cartagena | B16: 989 | C16: 892 | D16: 3013 | E16: 1292 | F16: -57.11915
A17: Castellón | B17: 0 | C17: 0 | D17: 0 | E17: 0
A18: Ceuta | B18: 49308 | C18: 47540 | D18: 87245 | E18: 98976 | F18: 13.446043
A19: Ferrol-San Cibrao | B19: 380 | C19: 571 | D19: 904 | E19: 1024 | F19: 13.274336
A20: Gijón | B20: 0 | C20: 0 | D20: 7499 | E20: 7423 | F20: -1.0134685
A21: Huelva | B21: 13983 | C21: 2923 | D21: 28939 | E21: 14559 | F21: -49.690729
A22: Las Palmas | B22: 163324 | C22: 204100 | D22: 353326 | E22: 366837 | F22: 3.8239473
A23: Málaga | B23: 1651 | C23: 1838 | D23: 3535 | E23: 4001 | F23: 13.182461
A24: Marín y Ría de Pontevedra | B24: 1578 | C24: 530 | D24: 3781 | E24: 1037 | F24: -72.573393
A25: Melilla | B25: 0 | C25: 0 | D25: 0 | E25: 0
A26: Motril | B26: 939 | C26: 1240 | D26: 1693 | E26: 1872 | F26: 10.572947
A27: Pasaia | B27: 376 | C27: 683 | D27: 1943 | E27: 2063 | F27: 6.1760165
A28: Santa Cruz de Tenerife | B28: 29647 | C28: 50251 | D28: 62641 | E28: 101272 | F28: 61.670471
A29: Santander | B29: 1063 | C29: 1194 | D29: 2248 | E29: 2623 | F29: 16.681495
A30: Sevilla | B30: 1169 | C30: 1497 | D30: 2202 | E30: 2741 | F30: 24.477748
A31: Tarragona | B31: 4121 | C31: 4275 | D31: 8801 | E31: 10507 | F31: 19.384161
A32: Valencia | B32: 22922 | C32: 28703 | D32: 55770 | E32: 55645 | F32: -0.22413484
A33: Vigo | B33: 3630 | C33: 700 | D33: 10695 | E33: 5962 | F33: -44.254324
A34: Vilagarcía | B34: 158 | C34: 270 | D34: 455 | E34: 769 | F34: 69.010989
A35: TOTAL | B35: =SUM(B7:B34) -> 761343 | C35: =SUM(C7:C34) -> 630331 | D35: =SUM(D7:D34) -> 1516381 | E35: =SUM(E7:E34) -> 1352597 | F35: =E35*100/D35-100 -> -10.800979
A36: Incluye cargas de combustibles líquidos

Sheet Tráfico interior
A1: 7. TRÁFICO INTERIOR
A4: Datos en toneladas
A5: Autoridad Portuaria | B5: Febrero | D5: Acumulado desde Enero | N5: Fecha: 25/1/2024
B6: 2022 | C6: 2023 | D6: 2022 | E6: 2023 | F6: Var. (%)
A7: A Coruña | B7: 0 | C7: 0 | D7: 0 | E7: 0
A8: Alicante | B8: 0 | C8: 0 | D8: 0 | E8: 0
A9: Almería | B9: 0 | C9: 0 | D9: 0 | E9: 0
A10: Avilés | B10: 0 | C10: 0 | D10: 0 | E10: 0
A11: Bahía de Algeciras | B11: 340260 | C11: 193570 | D11: 600860 | E11: 455411 | F11: -24.206804
A12: Bahía de Cádiz | B12: 0 | C12: 0 | D12: 0 | E12: 0
A13: Baleares | B13: 0 | C13: 663 | D13: 0 | E13: 699
A14: Barcelona | B14: 0 | C14: 0 | D14: 0 | E14: 0
A15: Bilbao | B15: 0 | C15: 0 | D15: 0 | E15: 0
A16: Cartagena | B16: 0 | C16: 0 | D16: 0 | E16: 0
A17: Castellón | B17: 0 | C17: 0 | D17: 0 | E17: 0
A18: Ceuta | B18: 0 | C18: 0 | D18: 0 | E18: 0
A19: Ferrol-San Cibrao | B19: 0 | C19: 0 | D19: 0 | E19: 0
A20: Gijón | B20: 0 | C20: 0 | D20: 0 | E20: 0
A21: Huelva | B21: 5796 | C21: 7019 | D21: 5796 | E21: 13019 | F21: 124.62043
A22: Las Palmas | B22: 0 | C22: 0 | D22: 0 | E22: 0
A23: Málaga | B23: 0 | C23: 0 | D23: 0 | E23: 0
A24: Marín y Ría de Pontevedra | B24: 0 | C24: 0 | D24: 0 | E24: 0
A25: Melilla | B25: 0 | C25: 0 | D25: 0 | E25: 0
A26: Motril | B26: 0 | C26: 0 | D26: 0 | E26: 0
A27: Pasaia | B27: 0 | C27: 0 | D27: 0 | E27: 0
A28: Santa Cruz de Tenerife | B28: 128 | C28: 131 | D28: 284 | E28: 258 | F28: -9.1549296
A29: Santander | B29: 0 | C29: 0 | D29: 0 | E29: 0
A30: Sevilla | B30: 0 | C30: 0 | D30: 0 | E30: 0
A31: Tarragona | B31: 12406 | C31: 19983 | D31: 12406 | E31: 19983 | F31: 61.075286
A32: Valencia | B32: 0 | C32: 0 | D32: 0 | E32: 0
A33: Vigo | B33: 0 | C33: 0 | D33: 0 | E33: 0
A34: Vilagarcía | B34: 0 | C34: 0 | D34: 0 | E34: 0
A35: TOTAL | B35: =SUM(B7:B34) -> 358590 | C35: =SUM(C7:C34) -> 221366 | D35: =SUM(D7:D34) -> 619346 | E35: =SUM(E7:E34) -> 489370 | F35: =E35*100/D35-100 -> -20.986008
A36: Incluye cargas, descargas, tránsito, transbordo y taras

Sheet Mercancías tránsito
A1: 8. MERCANCÍAS EN TRÁNSITO
A4: Datos en toneladas
A5: Autoridad Portuaria | B5: Febrero | D5: Acumulado desde Enero | N5: Fecha: 25/1/2024
B6: 2022 | C6: 2023 | D6: 2022 | E6: 2023 | F6: Var. (%)
A7: A Coruña | B7: 0 | C7: 315786 | D7: 92330 | E7: 584180 | F7: 532.70876
A8: Alicante | B8: 1107 | C8: 0 | D8: 5770 | E8: 1100 | F8: -80.935875
A9: Almería | B9: 0 | C9: 13 | D9: 141 | E9: 15 | F9: -89.361702
A10: Avilés | B10: 3025 | C10: 0 | D10: 6050 | E10: 0 | F10: -100
A11: Bahía de Algeciras | B11: 4621260 | C11: 4717294 | D11: 9925628 | E11: 9784078 | F11: -1.4261062
A12: Bahía de Cádiz | B12: 142537 | C12: 156309 | D12: 270730 | E12: 336823 | F12: 24.412884
A13: Baleares | B13: 1929 | C13: 918 | D13: 2607 | E13: 1552 | F13: -40.467971
A14: Barcelona | B14: 1901341 | C14: 1434017 | D14: 4023542 | E14: 3200399 | F14: -20.458168
A15: Bilbao | B15: 967 | C15: 4190 | D15: 2547 | E15: 5330 | F15: 109.2658
A16: Cartagena | B16: 0 | C16: 11 | D16: 0 | E16: 303212
A17: Castellón | B17: 1103 | C17: 1405 | D17: 2824 | E17: 2289 | F17: -18.944759
A18: Ceuta | B18: 0 | C18: 0 | D18: 0 | E18: 0
A19: Ferrol-San Cibrao | B19: 1289 | C19: 23307 | D19: 2283 | E19: 43115 | F19: 1788.5239
A20: Gijón | B20: 174279 | C20: 566478 | D20: 306021 | E20: 1254882 | F20: 310.06402
A21: Huelva | B21: 84559 | C21: 174262 | D21: 184137 | E21: 310817 | F21: 68.796603
A22: Las Palmas | B22: 893596 | C22: 831393 | D22: 2026635 | E22: 1738421 | F22: -14.221308
A23: Málaga | B23: 192842 | C23: 3709 | D23: 414172 | E23: 5719 | F23: -98.619173
A24: Marín y Ría de Pontevedra | B24: 366 | C24: 0 | D24: 576 | E24: 408 | F24: -29.166667
A25: Melilla | B25: 0 | C25: 0 | D25: 0 | E25: 0
A26: Motril | B26: 3430 | C26: 24084 | D26: 17538 | E26: 27146 | F26: 54.783898
A27: Pasaia | B27: 1433 | C27: 4284 | D27: 2258 | E27: 4284 | F27: 89.725421
A28: Santa Cruz de Tenerife | B28: 57677 | C28: 131645 | D28: 100321 | E28: 187504 | F28: 86.904038
A29: Santander | B29: 1004 | C29: 4180 | D29: 9325 | E29: 9869 | F29: 5.8337802
A30: Sevilla | B30: 0 | C30: 0 | D30: 0 | E30: 0
A31: Tarragona | B31: 51559 | C31: 321422 | D31: 269432 | E31: 488345 | F31: 81.249814
A32: Valencia | B32: 2838861 | C32: 2219522 | D32: 5747170 | E32: 4444687 | F32: -22.663032
A33: Vigo | B33: 15785 | C33: 13928 | D33: 37710 | E33: 37185 | F33: -1.3922037
A34: Vilagarcía | B34: 13 | C34: 158 | D34: 63 | E34: 244 | F34: 287.30159
A35: TOTAL | B35: =SUM(B7:B34) -> 10989962 | C35: =SUM(C7:C34) -> 10948315 | D35: =SUM(D7:D34) -> 23449810 | E35: =SUM(E7:E34) -> 22771604 | F35: =E35*100/D35-100 -> -2.8921599
A36: Incluye cargas y descargas en tránsito y taras

Sheet Mercan. contene. tránsito
A1: 8.1. MERCANCÍAS EN TRÁNSITO EN CONTENEDORES
A4: Datos en toneladas
A5: Autoridad Portuaria | B5: Febrero | D5: Acumulado desde Enero | N5: Fecha: 25/1/2024
B6: 2022 | C6: 2023 | D6: 2022 | E6: 2023 | F6: Var. (%)
A7: A Coruña | B7: 0 | C7: 0 | D7: 0 | E7: 0
A8: Alicante | B8: 1107 | C8: 0 | D8: 5770 | E8: 1100 | F8: -80.935875
A9: Almería | B9: 0 | C9: 13 | D9: 141 | E9: 15 | F9: -89.361702
A10: Avilés | B10: 0 | C10: 0 | D10: 0 | E10: 0
A11: Bahía de Algeciras | B11: 3607859 | C11: 3572655 | D11: 7861093 | E11: 7620435 | F11: -3.0613809
A12: Bahía de Cádiz | B12: 37843 | C12: 15018 | D12: 83821 | E12: 34217 | F12: -59.178487
A13: Baleares | B13: 0 | C13: 0 | D13: 0 | E13: 0
A14: Barcelona | B14: 1184031 | C14: 1070082 | D14: 2650924 | E14: 2470713 | F14: -6.7980448
A15: Bilbao | B15: 967 | C15: 4190 | D15: 2547 | E15: 5330 | F15: 109.2658
A16: Cartagena | B16: 0 | C16: 11 | D16: 0 | E16: 111
A17: Castellón | B17: 1103 | C17: 1405 | D17: 2824 | E17: 2289 | F17: -18.944759
A18: Ceuta | B18: 0 | C18: 0 | D18: 0 | E18: 0
A19: Ferrol-San Cibrao | B19: 0 | C19: 0 | D19: 0 | E19: 0
A20: Gijón | B20: 92 | C20: 0 | D20: 130 | E20: 5 | F20: -96.153846
A21: Huelva | B21: 0 | C21: 6 | D21: 11 | E21: 6 | F21: -45.454545
A22: Las Palmas | B22: 621634 | C22: 598532 | D22: 1330802 | E22: 1195819 | F22: -10.142981
A23: Málaga | B23: 188518 | C23: 2639 | D23: 409848 | E23: 2639 | F23: -99.356103
A24: Marín y Ría de Pontevedra | B24: 366 | C24: 0 | D24: 561 | E24: 408 | F24: -27.272727
A25: Melilla | B25: 0 | C25: 0 | D25: 0 | E25: 0
A26: Motril | B26: 0 | C26: 0 | D26: 0 | E26: 0
A27: Pasaia | B27: 0 | C27: 0 | D27: 0 | E27: 0
A28: Santa Cruz de Tenerife | B28: 52579 | C28: 128342 | D28: 88445 | E28: 181719 | F28: 105.45989
A29: Santander | B29: 0 | C29: 0 | D29: 0 | E29: 0
A30: Sevilla | B30: 0 | C30: 0 | D30: 0 | E30: 0
A31: Tarragona | B31: 9732 | C31: 882 | D31: 18264 | E31: 954 | F31: -94.77661
A32: Valencia | B32: 2782861 | C32: 2159411 | D32: 5642497 | E32: 4319892 | F32: -23.440066
A33: Vigo | B33: 12068 | C33: 10250 | D33: 28642 | E33: 24806 | F33: -13.392919
A34: Vilagarcía | B34: 13 | C34: 158 | D34: 63 | E34: 244 | F34: 287.30159
A35: TOTAL | B35: =SUM(B7:B34) -> 8500773 | C35: =SUM(C7:C34) -> 7563594 | D35: =SUM(D7:D34) -> 18126383 | E35: =SUM(E7:E34) -> 15860702 | F35: =E35*100/D35-100 -> -12.499355
A36: Incluye cargas y descargas en tránsito y taras

Sheet Ro-Ro
A1: 9. TRÁFICO RO-RO
A4: Datos en toneladas
A5: Autoridad Portuaria | B5: Febrero | D5: Acumulado desde Enero | N5: Fecha: 25/1/2024
B6: 2022 | C6: 2023 | D6: 2022 | E6: 2023 | F6: Var. (%)
A7: A Coruña | B7: 0 | C7: 0 | D7: 0 | E7: 0
A8: Alicante | B8: 4863 | C8: 51 | D8: 4922 | E8: 4881 | F8: -0.83299472
A9: Almería | B9: 68609 | C9: 56033 | D9: 140210 | E9: 105553 | F9: -24.717923
A10: Avilés | B10: 0 | C10: 0 | D10: 0 | E10: 0
A11: Bahía de Algeciras | B11: 1366370 | C11: 1227186 | D11: 2670849 | E11: 2425650 | F11: -9.1805639
A12: Bahía de Cádiz | B12: 65788 | C12: 63839 | D12: 132603 | E12: 132788 | F12: 0.13951419
A13: Baleares | B13: 958067 | C13: 987844 | D13: 1779677 | E13: 1863774 | F13: 4.725408
A14: Barcelona | B14: 913036 | C14: 856022 | D14: 1722663 | E14: 1652884 | F14: -4.0506472
A15: Bilbao | B15: 81629 | C15: 76505 | D15: 149493 | E15: 150019 | F15: 0.35185594
A16: Cartagena | B16: 0 | C16: 0 | D16: 0 | E16: 0
A17: Castellón | B17: 18018 | C17: 12932 | D17: 50086 | E17: 25340 | F17: -49.40702
A18: Ceuta | B18: 42288 | C18: 40410 | D18: 83576 | E18: 79368 | F18: -5.0349383
A19: Ferrol-San Cibrao | B19: 0 | C19: 1813 | D19: 1760 | E19: 2821 | F19: 60.284091
A20: Gijón | B20: 0 | C20: 0 | D20: 0 | E20: 0
A21: Huelva | B21: 46877 | C21: 51550 | D21: 86898 | E21: 101302 | F21: 16.575755
A22: Las Palmas | B22: 346551 | C22: 344383 | D22: 691175 | E22: 737536 | F22: 6.7075632
A23: Málaga | B23: 32693 | C23: 38307 | D23: 66159 | E23: 70587 | F23: 6.6929669
A24: Marín y Ría de Pontevedra | B24: 0 | C24: 0 | D24: 0 | E24: 0
A25: Melilla | B25: 36820 | C25: 35366 | D25: 74114 | E25: 67480 | F25: -8.9510754
A26: Motril | B26: 4251 | C26: 37064 | D26: 8455 | E26: 69751 | F26: 724.96747
A27: Pasaia | B27: 49809 | C27: 55951 | D27: 97286 | E27: 99692 | F27: 2.4731205
A28: Santa Cruz de Tenerife | B28: 295761 | C28: 304755 | D28: 590148 | E28: 638126 | F28: 8.1298251
A29: Santander | B29: 178543 | C29: 194138 | D29: 371409 | E29: 367002 | F29: -1.1865625
A30: Sevilla | B30: 5660 | C30: 14371 | D30: 15423 | E30: 29172 | F30: 89.146081
A31: Tarragona | B31: 49146 | C31: 24859 | D31: 91168 | E31: 58320 | F31: -36.030186
A32: Valencia | B32: 1055832 | C32: 1090398 | D32: 1980201 | E32: 2093091 | F32: 5.7009364
A33: Vigo | B33: 86019 | C33: 94966 | D33: 181964 | E33: 189545 | F33: 4.1662087
A34: Vilagarcía | B34: 0 | C34: 0 | D34: 0 | E34: 0
A35: TOTAL | B35: =SUM(B7:B34) -> 5706630 | C35: =SUM(C7:C34) -> 5608743 | D35: =SUM(D7:D34) -> 10990239 | E35: =SUM(E7:E34) -> 10964682 | F35: =E35*100/D35-100 -> -0.23254271
A36: Incluye cargas, descargas, tránsito, transbordo y taras

Sheet Ro-Ro UTIS
A1: 9.1. UNIDADES DE TRANSPORTE INTERMODAL RO-RO
A4: Datos en unidades
A5: Autoridad Portuaria | B5: Febrero | D5: Acumulado desde Enero | N5: Fecha: 25/1/2024
B6: 2022 | C6: 2023 | D6: 2022 | E6: 2023 | F6: Var. (%)
A7: A Coruña | B7: 0 | C7: 0 | D7: 0 | E7: 0
A8: Alicante | B8: 220 | C8: 0 | D8: 220 | E8: 186 | F8: -15.454545
A9: Almería | B9: 2931 | C9: 2957 | D9: 5931 | E9: 5450 | F9: -8.1099309
A10: Avilés | B10: 0 | C10: 0 | D10: 0 | E10: 0
A11: Bahía de Algeciras | B11: 43144 | C11: 40301 | D11: 84399 | E11: 80408 | F11: -4.728729
A12: Bahía de Cádiz | B12: 2013 | C12: 1910 | D12: 4087 | E12: 3949 | F12: -3.3765598
A13: Baleares | B13: 46140 | C13: 46496 | D13: 85039 | E13: 87562 | F13: 2.966874
A14: Barcelona | B14: 33171 | C14: 29291 | D14: 63041 | E14: 57702 | F14: -8.4690915
A15: Bilbao | B15: 3072 | C15: 3064 | D15: 5727 | E15: 5986 | F15: 4.5224376
A16: Cartagena | B16: 0 | C16: 0 | D16: 0 | E16: 0
A17: Castellón | B17: 10 | C17: 3 | D17: 11 | E17: 9 | F17: -18.181818
A18: Ceuta | B18: 2394 | C18: 2428 | D18: 4527 | E18: 4734 | F18: 4.5725646
A19: Ferrol-San Cibrao | B19: 0 | C19: 12 | D19: 3 | E19: 12 | F19: 300
A20: Gijón | B20: 0 | C20: 0 | D20: 0 | E20: 0
A21: Huelva | B21: 2385 | C21: 2576 | D21: 4461 | E21: 5044 | F21: 13.068819
A22: Las Palmas | B22: 25919 | C22: 24441 | D22: 50758 | E22: 51761 | F22: 1.9760432
A23: Málaga | B23: 1888 | C23: 2169 | D23: 3870 | E23: 4205 | F23: 8.6563307
A24: Marín y Ría de Pontevedra | B24: 0 | C24: 0 | D24: 0 | E24: 0
A25: Melilla | B25: 2275 | C25: 2344 | D25: 4560 | E25: 4457 | F25: -2.2587719
A26: Motril | B26: 208 | C26: 1410 | D26: 403 | E26: 2455 | F26: 509.18114
A27: Pasaia | B27: 333 | C27: 316 | D27: 604 | E27: 517 | F27: -14.403974
A28: Santa Cruz de Tenerife | B28: 22589 | C28: 22205 | D28: 44812 | E28: 46433 | F28: 3.6173346
A29: Santander | B29: 4844 | C29: 4601 | D29: 9973 | E29: 8455 | F29: -15.221097
A30: Sevilla | B30: 280 | C30: 701 | D30: 742 | E30: 1381 | F30: 86.118598
A31: Tarragona | B31: 1198 | C31: 152 | D31: 2415 | E31: 152 | F31: -93.706004
A32: Valencia | B32: 38039 | C32: 36368 | D32: 71406 | E32: 70838 | F32: -0.79545136
A33: Vigo | B33: 886 | C33: 968 | D33: 2006 | E33: 1903 | F33: -5.1345962
A34: Vilagarcía | B34: 0 | C34: 0 | D34: 0 | E34: 0
A35: TOTAL | B35: =SUM(B7:B34) -> 233939 | C35: =SUM(C7:C34) -> 224713 | D35: =SUM(D7:D34) -> 448995 | E35: =SUM(E7:E34) -> 443599 | F35: =E35*100/D35-100 -> -1.2017951
A36: Incluye camiones, remolques, semirremolques, plataformas, cabezas tractoras, furgones y otros equipos

Sheet TEUS
A1: 10. CONTENEDORES
A4: Datos en TEUS
A5: Autoridad Portuaria | B5: Febrero | D5: Acumulado desde Enero | N5: Fecha: 25/1/2024
B6: 2022 | C6: 2023 | D6: 2022 | E6: 2023 | F6: Var. (%)
A7: A Coruña | B7: 3 | C7: 0 | D7: 3 | E7: 6 | F7: 100
A8: Alicante | B8: 17968 | C8: 13856.75 | D8: 32902 | E8: 28110.5 | F8: -14.562945
A9: Almería | B9: 3113.25 | C9: 1335 | D9: 5242.75 | E9: 2628.5 | F9: -49.864098
A10: Avilés | B10: 0 | C10: 0 | D10: 0 | E10: 0
A11: Bahía de Algeciras | B11: 362336 | C11: 341186 | D11: 758980 | E11: 718782 | F11: -5.2963187
A12: Bahía de Cádiz | B12: 18613 | C12: 14367.75 | D12: 38255.75 | E12: 30243 | F12: -20.945217
A13: Baleares | B13: 7628 | C13: 6568 | D13: 14460 | E13: 12694 | F13: -12.213001
A14: Barcelona | B14: 264193.5 | C14: 243685 | D14: 558129.25 | E14: 514499 | F14: -7.8172305
A15: Bilbao | B15: 42858.5 | C15: 43415.25 | D15: 82920 | E15: 83929.25 | F15: 1.217137
A16: Cartagena | B16: 4586.25 | C16: 3292.75 | D16: 9221.75 | E16: 6352.5 | F16: -31.113943
A17: Castellón | B17: 6370 | C17: 5833 | D17: 15801.25 | E17: 11508 | F17: -27.170319
A18: Ceuta | B18: 394 | C18: 414 | D18: 821 | E18: 890.5 | F18: 8.4652862
A19: Ferrol-San Cibrao | B19: 1049.75 | C19: 2964.5 | D19: 2123.25 | E19: 8585.5 | F19: 304.35653
A20: Gijón | B20: 4012 | C20: 3640 | D20: 7835 | E20: 8483 | F20: 8.2705807
A21: Huelva | B21: 6899.25 | C21: 5940.25 | D21: 12485 | E21: 11735.5 | F21: -6.0032038
A22: Las Palmas | B22: 84845 | C22: 84350 | D22: 181125 | E22: 169885 | F22: -6.2056591
... A25: Melilla | B25: 492.25 | C25: 478 | D25: 1085.75 | E25: 937 | F25: -13.700207
A26: Motril | B26: 0 | C26: 114 | D26: 0 | E26: 144
A27: Pasaia | B27: 0 | C27: 0 | D27: 0 | E27: 0
A28: Santa Cruz de Tenerife | B28: 34841 | C28: 48982 | D28: 70573 | E28: 89190 | F28: 26.379777
A29: Santander | B29: 2718.75 | C29: 2534.25 | D29: 5769.75 | E29: 4521.75 | F29: -21.630053
A30: Sevilla | B30: 8522.75 | C30: 11552 | D30: 19416.5 | E30: 22436.5 | F30: 15.553782
A31: Tarragona | B31: 5466 | C31: 4025.75 | D31: 10758.75 | E31: 7240.75 | F31: -32.698966
A32: Valencia | B32: 435236 | C32: 358916 | D32: 885023 | E32: 721931 | F32: -18.427996
A33: Vigo | B33: 17615 | C33: 15660 | D33: 35868 | E33: 34533 | F33: -3.7219806
A34: Vilagarcía | B34: 2661.75 | C34: 2579.5 | D34: 5674.5 | E34: 4905.5 | F34: -13.551855
A35: TOTAL | B35: =SUM(B7:B34) -> 1356205.2 | C35: =SUM(C7:C34) -> 1222256.5 | D35: =SUM(D7:D34) -> 2803129.2 | E35: =SUM(E7:E34) -> 2506681.2 | F35: =E35*100/D35-100 -> -10.575609
A36: Incluye cargas, descargas, tránsito y transbordo

Sheet TEUS tránsito
A1: 10.1. CONTENEDORES EN TRÁNSITO
A4: Datos en TEUS
A5: Autoridad Portuaria | B5: Febrero | D5: Acumulado desde Enero | N5: Fecha: 25/1/2024
B6: 2022 | C6: 2023 | D6: 2022 | E6: 2023 | F6: Var. (%)
A7: A Coruña | B7: 0 | C7: 0 | D7: 0 | E7: 0
A8: Alicante | B8: 46 | C8: 0 | D8: 446.5 | E8: 109.5 | F8: -75.475924
A9: Almería | B9: 0 | C9: 2 | D9: 8 | E9: 3 | F9: -62.5
A10: Avilés | B10: 0 | C10: 0 | D10: 0 | E10: 0
A11: Bahía de Algeciras | B11: 296027 | C11: 284207 | D11: 637883 | E11: 596642 | F11: -6.4652922
A12: Bahía de Cádiz | B12: 3384.5 | C12: 1436 | D12: 7342.25 | E12: 3055.5 | F12: -58.384691
A13: Baleares | B13: 0 | C13: 0 | D13: 0 | E13: 0
A14: Barcelona | B14: 99424.42 | C14: 91663.5 | D14: 229194.92 | E14: 207673.5 | F14: -9.3900074
A15: Bilbao | B15: 72.75 | C15: 246.75 | D15: 186.5 | E15: 347.5 | F15: 86.327078
A16: Cartagena | B16: 0 | C16: 5 | D16: 0 | E16: 55
A17: Castellón | B17: 161 | C17: 124 | D17: 560 | E17: 323 | F17: -42.321429
A18: Ceuta | B18: 0 | C18: 0 | D18: 0 | E18: 0
A19: Ferrol-San Cibrao | B19: 0 | C19: 0 | D19: 0 | E19: 0
A20: Gijón | B20: 40 | C20: 0 | D20: 44 | E20: 2 | F20: -95.454545
A21: Huelva | B21: 0 | C21: 1 | D21: 2 | E21: 1 | F21: -50
A22: Las Palmas | B22: 41467 | C22: 38653 | D22: 91267 | E22: 79128 | F22: -13.300536
A23: Málaga | B23: 18450.5 | C23: 1328.25 | D23: 38255.5 | E23: 1328.25 | F23: -96.52795
A24: Marín y Ría de Pontevedra | B24: 87 | C24: 0 | D24: 174 | E24: 204 | F24: 17.241379
A25: Melilla | B25: 0 | C25: 0 | D25: 0 | E25: 0
A26: Motril | B26: 0 | C26: 0 | D26: 0 | E26: 0
A27: Pasaia | B27: 0 | C27: 0 | D27: 0 | E27: 0
A28: Santa Cruz de Tenerife | B28: 5158 | C28: 15142 | D28: 8832 | E28: 23096 | F28: 161.50362
A29: Santander | B29: 0 | C29: 0 | D29: 0 | E29: 0
A30: Sevilla | B30: 0 | C30: 0 | D30: 0 | E30: 0
A31: Tarragona | B31: 862 | C31: 402.25 | D31: 1620 | E31: 436.5 | F31: -73.055556
A32: Valencia | B32: 219596 | C32: 169772 | D32: 452437 | E32: 341682 | F32: -24.479651
A33: Vigo | B33: 1072 | C33: 785 | D33: 2189 | E33: 3049 | F33: 39.287346
A34: Vilagarcía | B34: 1 | C34: 6 | D34: 7.75 | E34: 12 | F34: 54.83871
A35: TOTAL | B35: =SUM(B7:B34) -> 685849.17 | C35: =SUM(C7:C34) -> 603773.75 | D35: =SUM(D7:D34) -> 1470449.4 | E35: =SUM(E7:E34) -> 1257147.8 | F35: =E35*100/D35-100 -> -14.505883
A36: Incluye cargas y descargas en tránsito y taras

Sheet TEUS nacional
A1: 10.2. CONTENEDORES ENTRADA-SALIDA NACIONAL
A4: Datos en TEUS
A5: Autoridad Portuaria | B5: Febrero | D5: Acumulado desde Enero | N5: Fecha: 25/1/2024
B6: 2022 | C6: 2023 | D6: 2022 | E6: 2023 | F6: Var. (%)
A7: A Coruña | B7: 0 | C7: 0 | D7: 0 | E7: 0
A8: Alicante | B8: 14861.75 | C8: 11734.5 | D8: 26410 | E8: 23525 | F8: -10.923892
A9: Almería | B9: 597.5 | C9: 996 | D9: 914.25 | E9: 1742 | F9: 90.538693
A10: Avilés | B10: 0 | C10: 0 | D10: 0 | E10: 0
A11: Bahía de Algeciras | B11: 2 | C11: 4 | D11: 74 | E11: 4 | F11: -94.594595
A12: Bahía de Cádiz | B12: 13068 | C12: 10917.25 | D12: 25620.5 | E12: 23689 | F12: -7.5388849
A13: Baleares | B13: 7628 | C13: 6568 | D13: 14460 | E13: 12692 | F13: -12.226833
A14: Barcelona | B14: 16190.75 | C14: 16664 | D14: 30277.5 | E14: 30970.5 | F14: 2.2888283
A15: Bilbao | B15: 3612.75 | C15: 3868.5 | D15: 7064.75 | E15: 8023.75 | F15: 13.574436
A16: Cartagena | B16: 1710 | C16: 640 | D16: 3148 | E16: 1264 | F16: -59.847522
A17: Castellón | B17: 30 | C17: 335 | D17: 291 | E17: 664 | F17: 128.17869
A18: Ceuta | B18: 391 | C18: 395 | D18: 814 | E18: 854.5 | F18: 4.97543
A19: Ferrol-San Cibrao | B19: 140 | C19: 692.75 | D19: 299.5 | E19: 2483.75 | F19: 729.29883
A20: Gijón | B20: 672 | C20: 596 | D20: 1406 | E20: 1782 | F20: 26.742532
A21: Huelva | B21: 5910.75 | C21: 5285 | D21: 10728.75 | E21: 10242.75 | F21: -4.5298847
A22: Las Palmas | B22: 38230 | C22: 39171 | D22: 77980 | E22: 79266 | F22: 1.6491408
... A25: Melilla | B25: 484.25 | C25: 475 | D25: 1070.75 | E25: 934 | F25: -12.771422
A26: Motril | B26: 0 | C26: 0 | D26: 0 | E26: 0
A27: Pasaia | B27: 0 | C27: 0 | D27: 0 | E27: 0
A28: Santa Cruz de Tenerife | B28: 26381 | C28: 30421 | D28: 54510 | E28: 59888 | F28: 9.8660796
A29: Santander | B29: 0 | C29: 0 | D29: 0 | E29: 0
A30: Sevilla | B30: 8395.75 | C30: 11478 | D30: 19197.5 | E30: 22308.5 | F30: 16.205235
A31: Tarragona | B31: 548.25 | C31: 943.5 | D31: 1160.25 | E31: 1817.25 | F31: 56.625727
A32: Valencia | B32: 15637 | C32: 13388 | D32: 32050 | E32: 28083 | F32: -12.377535
A33: Vigo | B33: 1275 | C33: 1064 | D33: 2830 | E33: 2359 | F33: -16.64311
A34: Vilagarcía | B34: 2478.75 | C34: 2407.5 | D34: 5259.75 | E34: 4615.5 | F34: -12.248681
A35: TOTAL | B35: =SUM(B7:B34) -> 158935.5 | C35: =SUM(C7:C34) -> 159082.25 | D35: =SUM(D7:D34) -> 317081.5 | E35: =SUM(E7:E34) -> 319402.5 | F35: =E35*100/D35-100 -> 0.73198846
A36: Incluye cargas, descargas y navegación de cabotaje

Sheet TEUS exterior
A1: 10.3. CONTENEDORES ENTRADA-SALIDA EXTERIOR
A4: Datos en TEUS
A5: Autoridad Portuaria | B5: Febrero | D5: Acumulado desde Enero | N5: Fecha: 25/1/2024
B6: 2022 | C6: 2023 | D6: 2022 | E6: 2023 | F6: Var. (%)
A7: A Coruña | B7: 3 | C7: 0 | D7: 3 | E7: 6 | F7: 100
A8: Alicante | B8: 3060.25 | C8: 2122.25 | D8: 6045.5 | E8: 4476 | F8: -25.961459
A9: Almería | B9: 2515.75 | C9: 337 | D9: 4320.5 | E9: 883.5 | F9: -79.550978
A10: Avilés | B10: 0 | C10: 0 | D10: 0 | E10: 0
A11: Bahía de Algeciras | B11: 66307 | C11: 56975 | D11: 121023 | E11: 122136 | F11: 0.9196599
A12: Bahía de Cádiz | B12: 2160.5 | C12: 2014.5 | D12: 5293 | E12: 3498.5 | F12: -33.903268
A13: Baleares | B13: 0 | C13: 0 | D13: 0 | E13: 2
A14: Barcelona | B14: 148578.33 | C14: 135357.5 | D14: 298656.83 | E14: 275855 | F14: -7.6347927
A15: Bilbao | B15: 39173 | C15: 39300 | D15: 75668.75 | E15: 75558 | F15: -0.14636161
A16: Cartagena | B16: 2876.25 | C16: 2647.75 | D16: 6073.75 | E16: 5033.5 | F16: -17.126981
A17: Castellón | B17: 6179 | C17: 5374 | D17: 14950.25 | E17: 10521 | F17: -29.626595
A18: Ceuta | B18: 3 | C18: 19 | D18: 7 | E18: 36 | F18: 414.28571
A19: Ferrol-San Cibrao | B19: 909.75 | C19: 2271.75 | D19: 1823.75 | E19: 6101.75 | F19: 234.57162
A20: Gijón | B20: 3300 | C20: 3044 | D20: 6385 | E20: 6699 | F20: 4.917776
A21: Huelva | B21: 988.5 | C21: 654.25 | D21: 1754.25 | E21: 1491.75 | F21: -14.96366
A22: Las Palmas | B22: 5148 | C22: 6526 | D22: 11878 | E22: 11491 | F22: -3.2581243
A23: Málaga | B23: 1302 | C23: 1168 | D23: 2552 | E23: 2062 | F23: -19.200627
A24: Marín y Ría de Pontevedra | B24: 3251.75 | C24: 3032.25 | D24: 6158.5 | E24: 6721.25 | F24: 9.1377771
A25: Melilla | B25: 8 | C25: 3 | D25: 15 | E25: 3 | F25: -80
A26: Motril | B26: 0 | C26: 114 | D26: 0 | E26: 144
A27: Pasaia | B27: 0 | C27: 0 | D27: 0 | E27: 0
A28: Santa Cruz de Tenerife | B28: 3302 | C28: 3419 | D28: 7231 | E28: 6206 | F28: -14.17508
A29: Santander | B29: 2718.75 | C29: 2534.25 | D29: 5769.75 | E29: 4521.75 | F29: -21.630053
A30: Sevilla | B30: 127 | C30: 74 | D30: 219 | E30: 128 | F30: -41.552511
A31: Tarragona | B31: 4055.75 | C31: 2680 | D31: 7978.5 | E31: 4987 | F31: -37.494517
A32: Valencia | B32: 200003 | C32: 175756 | D32: 400536 | E32: 352166 | F32: -12.076318
A33: Vigo | B33: 15268 | C33: 13811 | D33: 30849 | E33: 29125 | F33: -5.5885118
A34: Vilagarcía | B34: 182 | C34: 166 | D34: 407 | E34: 278 | F34: -31.695332
A35: TOTAL | B35: =SUM(B7:B34) -> 511420.58 | C35: =SUM(C7:C34) -> 459400.5 | D35: =SUM(D7:D34) -> 1015598.3 | E35: =SUM(E7:E34) -> 930131 | F35: =E35*100/D35-100 -> -8.4154658
A36: Incluye cargas, descargas y navegación de exterior

Sheet Buques número
A1: 11. BUQUES MERCANTES (NÚMERO)
A4: Datos en número
A5: Autoridad Portuaria | B5: Febrero | D5: Acumulado desde Enero | N5: Fecha: 25/1/2024
B6: 2022 | C6: 2023 | D6: 2022 | E6: 2023 | F6: Var. (%)
A7: A Coruña | B7: 69 | C7: 96 | D7: 158 | E7: 177 | F7: 12.025316
A8: Alicante | B8: 49 | C8: 53 | D8: 92 | E8: 111 | F8: 20.652174
A9: Almería | B9: 106 | C9: 111 | D9: 221 | E9: 224 | F9: 1.3574661
A10: Avilés | B10: 64 | C10: 58 | D10: 129 | E10: 122 | F10: -5.4263566
A11: Bahía de Algeciras | B11: 1634 | C11: 1796 | D11: 3372 | E11: 4134 | F11: 22.597865
A12: Bahía de Cádiz | B12: 101 | C12: 96 | D12: 262 | E12: 238 | F12: -9.1603053
A13: Baleares | B13: 2454 | C13: 2415 | D13: 5198 | E13: 4968 | F13: -4.4247788
A14: Barcelona | B14: 604 | C14: 601 | D14: 1241 | E14: 1245 | F14: 0.32232071
A15: Bilbao | B15: 174 | C15: 198 | D15: 371 | E15: 393 | F15: 5.9299191
A16: Cartagena | B16: 163 | C16: 143 | D16: 348 | E16: 297 | F16: -14.655172
A17: Castellón | B17: 122 | C17: 101 | D17: 254 | E17: 214 | F17: -15.748031
A18: Ceuta | B18: 691 | C18: 674 | D18: 1432 | E18: 1509 | F18: 5.377095
... A34: Vilagarcía | B34: 30 | C34: 30 | D34: 66 | E34: 58 | F34: -12.121212
A35: TOTAL | B35: =SUM(B7:B34) -> 9994 | C35: =SUM(C7:C34) -> 10471 | D35: =SUM(D7:D34) -> 21097 | E35: =SUM(E7:E34) -> 22113 | F35: =E35*100/D35-100 -> 4.8158506
A36: Incluye tanques, graneleros, carga general, portacontenedores, ro-ro, de pasaje y otros buques mercantes

Sheet Buques GT
A1: 11.1. BUQUES MERCANTES (G.T.)
A4: Datos en GT
A5: Autoridad Portuaria | B5: Febrero | D5: Acumulado desde Enero | N5: Fecha: 25/1/2024
B6: 2022 | C6: 2023 | D6: 2022 | E6: 2023 | F6: Var. (%)
A7: A Coruña | B7: 1083167 | C7: 1545849 | D7: 2699881 | E7: 3004690 | F7: 11.28972
A8: Alicante | B8: 627419 | C8: 816249 | D8: 1249729 | E8: 1793941 | F8: 43.546401
A9: Almería | B9: 1535939 | C9: 1876793 | D9: 3252235 | E9: 3774561 | F9: 16.060525
A10: Avilés | B10: 447154 | C10: 448131 | D10: 903617 | E10: 937626 | F10: 3.7636521
A11: Bahía de Algeciras | B11: 33023078 | C11: 34054976 | D11: 65991976 | E11: 76444075 | F11: 15.838439
A12: Bahía de Cádiz | B12: 1738496 | C12: 2214894 | D12: 4070310 | E12: 4864634 | F12: 19.515074
A13: Baleares | B13: 14820304 | C13: 15139445 | D13: 31679410 | E13: 32455066 | F13: 2.4484547
A14: Barcelona | B14: 21497627 | C14: 22613490 | D14: 44346544 | E14: 47160873 | F14: 6.3462194
A15: Bilbao | B15: 2908809 | C15: 3632415 | D15: 6433407 | E15: 7187031 | F15: 11.714229
A16: Cartagena | B16: 3508001 | C16: 3306411 | D16: 7644628 | E16: 7044756 | F16: -7.8469744
A17: Castellón | B17: 1559718 | C17: 1425735 | D17: 3560280 | E17: 2948346 | F17: -17.187805
A18: Ceuta | B18: 5428286 | C18: 4981358 | D18: 10344122 | E18: 11210121 | F18: 8.3718947
... A34: Vilagarcía | B34: 244570 | C34: 244095 | D34: 493562 | E34: 465265 | F34: -5.733221
A35: TOTAL | B35: =SUM(B7:B34) -> 167742678 | C35: =SUM(C7:C34) -> 178818396 | D35: =SUM(D7:D34) -> 348760767 | E35: =SUM(E7:E34) -> 378225996 | F35: =E35*100/D35-100 -> 8.4485503
A36: Incluye tanques, graneleros, carga general, portacontenedores, ro-ro, de pasaje y otros buques mercantes

Sheet Cruceros
A1: 11.2. BUQUES DE CRUCERO (NÚMERO)
A4: Datos en número
A5: Autoridad Portuaria | B5: Febrero | D5: Acumulado desde Enero | N5: Fecha: 25/1/2024
B6: 2022 | C6: 2023 | D6: 2022 | E6: 2023 | F6: Var. (%)
A7: A Coruña | B7: 1 | C7: 0 | D7: 6 | E7: 4 | F7: -33.333333
A8: Alicante | B8: 1 | C8: 4 | D8: 2 | E8: 8 | F8: 300
A9: Almería | B9: 0 | C9: 0 | D9: 0 | E9: 0
A10: Avilés | B10: 0 | C10: 0 | D10: 0 | E10: 0
A11: Bahía de Algeciras | B11: 1 | C11: 0 | D11: 1 | E11: 0 | F11: -100
A12: Bahía de Cádiz | B12: 7 | C12: 14 | D12: 18 | E12: 27 | F12: 50
A13: Baleares | B13: 11 | C13: 11 | D13: 26 | E13: 27 | F13: 3.8461538
A14: Barcelona | B14: 21 | C14: 20 | D14: 47 | E14: 46 | F14: -2.1276596
A15: Bilbao | B15: 0 | C15: 0 | D15: 0 | E15: 0
A16: Cartagena | B16: 7 | C16: 3 | D16: 16 | E16: 8 | F16: -50
A17: Castellón | B17: 0 | C17: 0 | D17: 0 | E17: 0
A18: Ceuta | B18: 0 | C18: 2 | D18: 0 | E18: 4
A19: Ferrol-San Cibrao | B19: 0 | C19: 0 | D19: 1 | E19: 1 | F19: 0
A20: Gijón | B20: 0 | C20: 0 | D20: 0 | E20: 0
A21: Huelva | B21: 0 | C21: 0 | D21: 0 | E21: 0
A22: Las Palmas | B22: 66 | C22: 79 | D22: 159 | E22: 163 | F22: 2.5157233
A23: Málaga | B23: 10 | C23: 7 | D23: 23 | E23: 15 | F23: -34.782609
A24: Marín y Ría de Pontevedra | B24: 0 | C24: 0 | D24: 0 | E24: 0
A25: Melilla | B25: 0 | C25: 0 | D25: 0 | E25: 0
A26: Motril | B26: 0 | C26: 0 | D26: 0 | E26: 0
A27: Pasaia | B27: 0 | C27: 0 | D27: 0 | E27: 0
A28: Santa Cruz de Tenerife | B28: 58 | C28: 62 | D28: 140 | E28: 126 | F28: -10
A29: Santander | B29: 0 | C29: 0 | D29: 0 | E29: 0
A30: Sevilla | B30: 1 | C30: 4 | D30: 2 | E30: 4 | F30: 100
A31: Tarragona | B31: 0 | C31: 0 | D31: 0 | E31: 0
A32: Valencia | B32: 12 | C32: 5 | D32: 24 | E32: 8 | F32: -66.666667
A33: Vigo | B33: 5 | C33: 0 | D33: 7 | E33: 3 | F33: -57.142857
A34: Vilagarcía | B34: 0 | C34: 0 | D34: 0 | E34: 0
A35: TOTAL | B35: =SUM(B7:B34) -> 201 | C35: =SUM(C7:C34) -> 211 | D35: =SUM(D7:D34) -> 472 | E35: =SUM(E7:E34) -> 444 | F35: =E35*100/D35-100 -> -5.9322034
A36: Incluye buques de crucero en cualquier tipo de situación (sin indicencias, en reparación, en avituallamiento, en construcción, en desguace e inactivo)

Sheet Pasajeros total
A1: 12. PASAJEROS EN RÉGIMEN DE TRANSPORTE Y DE CRUCERO
A4: Datos en número
A5: Autoridad Portuaria | B5: Febrero | D5: Acumulado desde Enero | N5: Fecha: 25/1/2024
B6: 2022 | C6: 2023 | D6: 2022 | E6: 2023 | F6: Var. (%)
A7: A Coruña | B7: 975 | C7: 0 | D7: 5697 | E7: 6584 | F7: 15.569598
A8: Alicante | B8: 12379 | C8: 18333 | D8: 24253 | E8: 38508 | F8: 58.776234
A9: Almería | B9: 12102 | C9: 22979 | D9: 25921 | E9: 58413 | F9: 125.3501
A10: Avilés | B10: 0 | C10: 0 | D10: 0 | E10: 0
A11: Bahía de Algeciras | B11: 112973 | C11: 237169 | D11: 225005 | E11: 552698 | F11: 145.6381
A12: Bahía de Cádiz | B12: 2899 | C12: 20845 | D12: 15725 | E12: 54458 | F12: 246.31479
A13: Baleares | B13: 235943 | C13: 266579 | D13: 460567 | E13: 553037 | F13: 20.077426
A14: Barcelona | B14: 71312 | C14: 136253 | D14: 149371 | E14: 299528 | F14: 100.52621
A15: Bilbao | B15: 1593 | C15: 2208 | D15: 3262 | E15: 4984 | F15: 52.7897
A16: Cartagena | B16: 5125 | C16: 5382 | D16: 11684 | E16: 12490 | F16: 6.8983225
A17: Castellón | B17: 0 | C17: 0 | D17: 0 | E17: 0
A18: Ceuta | B18: 76613 | C18: 101377 | D18: 152635 | E18: 239146 | F18: 56.67835
A19: Ferrol-San Cibrao | B19: 0 | C19: 0 | D19: 0 | E19: 749
A20: Gijón | B20: 0 | C20: 0 | D20: 0 | E20: 0
A21: Huelva | B21: 3678 | C21: 3892 | D21: 7566 | E21: 8267 | F21: 9.2651335
A22: Las Palmas | B22: 180281 | C22: 310922 | D22: 367297 | E22: 624191 | F22: 69.941764
A23: Málaga | B23: 15877 | C23: 30304 | D23: 37255 | E23: 68205 | F23: 83.076097
A24: Marín y Ría de Pontevedra | B24: 0 | C24: 0 | D24: 0 | E24: 0
A25: Melilla | B25: 17748 | C25: 24199 | D25: 39484 | E25: 61096 | F25: 54.736096
A26: Motril | B26: 1935 | C26: 2358 | D26: 4938 | E26: 7619 | F26: 54.293236
A27: Pasaia | B27: 0 | C27: 1 | D27: 0 | E27: 1
A28: Santa Cruz de Tenerife | B28: 412938 | C28: 590459 | D28: 795093 | E28: 1144979 | F28: 44.00567
A29: Santander | B29: 8287 | C29: 7264 | D29: 17003 | E29: 15278 | F29: -10.145268
A30: Sevilla | B30: 0 | C30: 860 | D30: 130 | E30: 860 | F30: 561.53846
A31: Tarragona | B31: 41 | C31: 12 | D31: 95 | E31: 12 | F31: -87.368421
A32: Valencia | B32: 53548 | C32: 45080 | D32: 102982 | E32: 96743 | F32: -6.0583403
A33: Vigo | B33: 8490 | C33: 0 | D33: 9234 | E33: 6442 | F33: -30.236084
A34: Vilagarcía | B34: 0 | C34: 0 | D34: 0 | E34: 0
A35: TOTAL | B35: =SUM(B7:B34) -> 1234737 | C35: =SUM(C7:C34) -> 1826476 | D35: =SUM(D7:D34) -> 2455197 | E35: =SUM(E7:E34) -> 3854288 | F35: =E35*100/D35-100 -> 56.984877
A36: Incluye embarques, desembarques y tránsito

Sheet Pasajeros regulares
A1: 12.1. PASAJEROS EN RÉGIMEN DE TRANSPORTE
A4: Datos en número
A5: Autoridad Portuaria | B5: Febrero | D5: Acumulado desde Enero | N5: Fecha: 25/1/2024
B6: 2022 | C6: 2023 | D6: 2022 | E6: 2023 | F6: Var. (%)
A7: A Coruña | B7: 0 | C7: 0 | D7: 0 | E7: 0
A8: Alicante | B8: 9971 | C8: 8555 | D8: 19365 | E8: 17917 | F8: -7.4774077
A9: Almería | B9: 12102 | C9: 22979 | D9: 25921 | E9: 58413 | F9: 125.3501
A10: Avilés | B10: 0 | C10: 0 | D10: 0 | E10: 0
A11: Bahía de Algeciras | B11: 112973 | C11: 237169 | D11: 225005 | E11: 552698 | F11: 145.6381
A12: Bahía de Cádiz | B12: 1099 | C12: 1426 | D12: 2667 | E12: 3177 | F12: 19.12261
A13: Baleares | B13: 223184 | C13: 220283 | D13: 426391 | E13: 450171 | F13: 5.5770408
A14: Barcelona | B14: 51078 | C14: 57059 | D14: 101430 | E14: 127321 | F14: 25.525979
A15: Bilbao | B15: 1593 | C15: 2208 | D15: 3262 | E15: 4984 | F15: 52.7897
A16: Cartagena | B16: 0 | C16: 0 | D16: 0 | E16: 0
A17: Castellón | B17: 0 | C17: 0 | D17: 0 | E17: 0
A18: Ceuta | B18: 76613 | C18: 97972 | D18: 152635 | E18: 232636 | F18: 52.413273
A19: Ferrol-San Cibrao | B19: 0 | C19: 0 | D19: 0 | E19: 0
A20: Gijón | B20: 0 | C20: 0 | D20: 0 | E20: 0
A21: Huelva | B21: 3678 | C21: 3892 | D21: 7566 | E21: 8267 | F21: 9.2651335
A22: Las Palmas | B22: 93237 | C22: 101902 | D22: 176594 | E22: 199286 | F22: 12.849814
A23: Málaga | B23: 14101 | C23: 15629 | D23: 29912 | E23: 38535 | F23: 28.827895
A24: Marín y Ría de Pontevedra | B24: 0 | C24: 0 | D24: 0 | E24: 0
A25: Melilla | B25: 17748 | C25: 24199 | D25: 39484 | E25: 61096 | F25: 54.736096
A26: Motril | B26: 1935 | C26: 2358 | D26: 4938 | E26: 7619 | F26: 54.293236
A27: Pasaia | B27: 0 | C27: 0 | D27: 0 | E27: 0
A28: Santa Cruz de Tenerife | B28: 353827 | C28: 441375 | D28: 667442 | E28: 834763 | F28: 25.068995
A29: Santander | B29: 8287 | C29: 7264 | D29: 17000 | E29: 15278 | F29: -10.129412
A30: Sevilla | B30: 0 | C30: 0 | D30: 0 | E30: 0
A31: Tarragona | B31: 41 | C31: 12 | D31: 95 | E31: 12 | F31: -87.368421
A32: Valencia | B32: 43758 | C32: 33278 | D32: 84858 | E32: 79626 | F32: -6.1655943
A33: Vigo | B33: 0 | C33: 0 | D33: 0 | E33: 0
A34: Vilagarcía | B34: 0 | C34: 0 | D34: 0 | E34: 0
A35: TOTAL | B35: =SUM(B7:B34) -> 1025225 | C35: =SUM(C7:C34) -> 1277560 | D35: =SUM(D7:D34) -> 1984565 | E35: =SUM(E7:E34) -> 2691799 | F35: =E35*100/D35-100 -> 35.636726
A36: Incluye embarques y desembarques

Sheet Pasajeros crucero
A1: 12.2. PASAJEROS DE CRUCERO
A4: Datos en número
A5: Autoridad Portuaria | B5: Febrero | D5: Acumulado desde Enero | N5: Fecha: 25/1/2024
B6: 2022 | C6: 2023 | D6: 2022 | E6: 2023 | F6: Var. (%)
A7: A Coruña | B7: 975 | C7: 0 | D7: 5697 | E7: 6584 | F7: 15.569598
A8: Alicante | B8: 2408 | C8: 9778 | D8: 4888 | E8: 20591 | F8: 321.25614
A9: Almería | B9: 0 | C9: 0 | D9: 0 | E9: 0
A10: Avilés | B10: 0 | C10: 0 | D10: 0 | E10: 0
A11: Bahía de Algeciras | B11: 0 | C11: 0 | D11: 0 | E11: 0
A12: Bahía de Cádiz | B12: 1800 | C12: 19419 | D12: 13058 | E12: 51281 | F12: 292.71711
A13: Baleares | B13: 12759 | C13: 46296 | D13: 34176 | E13: 102866 | F13: 200.989
A14: Barcelona | B14: 20234 | C14: 79194 | D14: 47941 | E14: 172207 | F14: 259.20611
A15: Bilbao | B15: 0 | C15: 0 | D15: 0 | E15: 0
A16: Cartagena | B16: 5125 | C16: 5382 | D16: 11684 | E16: 12490 | F16: 6.8983225
A17: Castellón | B17: 0 | C17: 0 | D17: 0 | E17: 0
A18: Ceuta | B18: 0 | C18: 3405 | D18: 0 | E18: 6510
A19: Ferrol-San Cibrao | B19: 0 | C19: 0 | D19: 0 | E19: 749
A20: Gijón | B20: 0 | C20: 0 | D20: 0 | E20: 0
A21: Huelva | B21: 0 | C21: 0 | D21: 0 | E21: 0
A22: Las Palmas | B22: 87044 | C22: 209020 | D22: 190703 | E22: 424905 | F22: 122.80981
A23: Málaga | B23: 1776 | C23: 14675 | D23: 7343 | E23: 29670 | F23: 304.05829
A24: Marín y Ría de Pontevedra | B24: 0 | C24: 0 | D24: 0 | E24: 0
A25: Melilla | B25: 0 | C25: 0 | D25: 0 | E25: 0
A26: Motril | B26: 0 | C26: 0 | D26: 0 | E26: 0
A27: Pasaia | B27: 0 | C27: 1 | D27: 0 | E27: 1
A28: Santa Cruz de Tenerife | B28: 59111 | C28: 149084 | D28: 127651 | E28: 310216 | F28: 143.01886
A29: Santander | B29: 0 | C29: 0 | D29: 3 | E29: 0 | F29: -100
A30: Sevilla | B30: 0 | C30: 860 | D30: 130 | E30: 860 | F30: 561.53846
A31: Tarragona | B31: 0 | C31: 0 | D31: 0 | E31: 0
A32: Valencia | B32: 9790 | C32: 11802 | D32: 18124 | E32: 17117 | F32: -5.5561686
A33: Vigo | B33: 8490 | C33: 0 | D33: 9234 | E33: 6442 | F33: -30.236084
A34: Vilagarcía | B34: 0 | C34: 0 | D34: 0 | E34: 0
A35: TOTAL | B35: =SUM(B7:B34) -> 209512 | C35: =SUM(C7:C34) -> 548916 | D35: =SUM(D7:D34) -> 470632 | E35: =SUM(E7:E34) -> 1162489 | F35: =E35*100/D35-100 -> 147.00594
A36: Incluye inicio, fin de línea y tránsito

Sheet Automóviles régimen pasaje
A1: 13.1. AUTOMÓVILES EN RÉGIMEN DE PASAJE
A4: Datos en unidades
A5: Autoridad Portuaria | B5: Febrero | D5: Acumulado desde Enero | N5: Fecha: 25/1/2024
B6: 2022 | C6: 2023 | D6: 2022 | E6: 2023 | F6: Var. (%)
A7: A Coruña | B7: 0 | C7: 0 | D7: 0 | E7: 0
A8: Alicante | B8: 2139 | C8: 1938 | D8: 4286 | E8: 4455 | F8: 3.9430705
A9: Almería | B9: 3208 | C9: 6871 | D9: 6619 | E9: 16578 | F9: 150.46079
A10: Avilés | B10: 0 | C10: 0 | D10: 0 | E10: 0
A11: Bahía de Algeciras | B11: 16263 | C11: 49402 | D11: 33283 | E11: 116093 | F11: 248.8057
A12: Bahía de Cádiz | B12: 626 | C12: 846 | D12: 1360 | E12: 1924 | F12: 41.470588
A13: Baleares | B13: 44315 | C13: 43672 | D13: 89489 | E13: 97123 | F13: 8.5306574
A14: Barcelona | B14: 14403 | C14: 17067 | D14: 29208 | E14: 39021 | F14: 33.59696
A15: Bilbao | B15: 578 | C15: 804 | D15: 1129 | E15: 1892 | F15: 67.581931
A16: Cartagena | B16: 0 | C16: 0 | D16: 0 | E16: 0
A17: Castellón | B17: 0 | C17: 0 | D17: 0 | E17: 0
A18: Ceuta | B18: 16266 | C18: 22761 | D18: 33241 | E18: 55378 | F18: 66.595469
A19: Ferrol-San Cibrao | B19: 0 | C19: 0 | D19: 0 | E19: 0
A20: Gijón | B20: 0 | C20: 0 | D20: 0 | E20: 0
A21: Huelva | B21: 2176 | C21: 2392 | D21: 4539 | E21: 5056 | F21: 11.390174
A22: Las Palmas | B22: 42720 | C22: 42114 | D22: 81997 | E22: 86172 | F22: 5.0916497
A23: Málaga | B23: 1714 | C23: 2745 | D23: 4333 | E23: 7277 | F23: 67.943688
A24: Marín y Ría de Pontevedra | B24: 0 | C24: 0 | D24: 0 | E24: 0
A25: Melilla | B25: 2905 | C25: 5017 | D25: 7191 | E25: 13160 | F25: 83.006536
A26: Motril | B26: 569 | C26: 506 | D26: 1552 | E26: 1740 | F26: 12.113402
A27: Pasaia | B27: 0 | C27: 0 | D27: 0 | E27: 0
A28: Santa Cruz de Tenerife | B28: 115223 | C28: 125480 | D28: 219389 | E28: 245146 | F28: 11.740333
A29: Santander | B29: 4116 | C29: 3622 | D29: 8433 | E29: 7544 | F29: -10.541919
A30: Sevilla | B30: 0 | C30: 0 | D30: 0 | E30: 0
A31: Tarragona | B31: 0 | C31: 0 | D31: 0 | E31: 0
A32: Valencia | B32: 10664 | C32: 8489 | D32: 22357 | E32: 22111 | F32: -1.1003265
A33: Vigo | B33: 0 | C33: 0 | D33: 0 | E33: 0
A34: Vilagarcía | B34: 0 | C34: 0 | D34: 0 | E34: 0
A35: TOTAL | B35: =SUM(B7:B34) -> 277885 | C35: =SUM(C7:C34) -> 333726 | D35: =SUM(D7:D34) -> 548406 | E35: =SUM(E7:E34) -> 720670 | F35: =E35*100/D35-100 -> 31.411764
A36: Incluye embarques y desembarques

Sheet Automóviles régimen mercancía
A1: 13.2. AUTOMÓVILES EN RÉGIMEN DE MERCANCÍA
A4: Datos en unidades
A5: Autoridad Portuaria | B5: Febrero | D5: Acumulado desde Enero | N5: Fecha: 25/1/2024
B6: 2022 | C6: 2023 | D6: 2022 | E6: 2023 | F6: Var. (%)
A7: A Coruña | B7: 0 | C7: 0 | D7: 0 | E7: 0
A8: Alicante | B8: 87 | C8: 142 | D8: 197 | E8: 220 | F8: 11.675127
A9: Almería | B9: 266 | C9: 152 | D9: 421 | E9: 322 | F9: -23.515439
A10: Avilés | B10: 0 | C10: 0 | D10: 0 | E10: 0
A11: Bahía de Algeciras | B11: 112 | C11: 243 | D11: 390 | E11: 478 | F11: 22.564103
A12: Bahía de Cádiz | B12: 901 | C12: 2377 | D12: 2082 | E12: 3691 | F12: 77.28146
A13: Baleares | B13: 4864 | C13: 6570 | D13: 7989 | E13: 12095 | F13: 51.395669
A14: Barcelona | B14: 38401 | C14: 72364 | D14: 58803 | E14: 119898 | F14: 103.89776
A15: Bilbao | B15: 6540 | C15: 3086 | D15: 7890 | E15: 4616 | F15: -41.495564
A16: Cartagena | B16: 0 | C16: 0 | D16: 6 | E16: 11 | F16: 83.333333
A17: Castellón | B17: 8 | C17: 96 | D17: 17 | E17: 179 | F17: 952.94118
A18: Ceuta | B18: 72 | C18: 105 | D18: 195 | E18: 223 | F18: 14.358974
A19: Ferrol-San Cibrao | B19: 0 | C19: 0 | D19: 0 | E19: 22
A20: Gijón | B20: 0 | C20: 1 | D20: 0 | E20: 1
A21: Huelva | B21: 610 | C21: 878 | D21: 1130 | E21: 1587 | F21: 40.442478
A22: Las Palmas | B22: 20626 | C22: 21116 | D22: 77404 | E22: 46500 | F22: -39.925585
A23: Málaga | B23: 8678 | C23: 4577 | D23: 20978 | E23: 5881 | F23: -71.965869
A24: Marín y Ría de Pontevedra | B24: 14 | C24: 3 | D24: 19 | E24: 8 | F24: -57.894737
A25: Melilla | B25: 176 | C25: 198 | D25: 339 | E25: 351 | F25: 3.539823
A26: Motril | B26: 0 | C26: 3 | D26: 0 | E26: 1014
A27: Pasaia | B27: 20465 | C27: 22488 | D27: 39883 | E27: 40736 | F27: 2.1387559
A28: Santa Cruz de Tenerife | B28: 4183 | C28: 6325 | D28: 8407 | E28: 12164 | F28: 44.68895
A29: Santander | B29: 20263 | C29: 47000 | D29: 40464 | E29: 80240 | F29: 98.299723
A30: Sevilla | B30: 356 | C30: 312 | D30: 621 | E30: 570 | F30: -8.2125604
A31: Tarragona | B31: 15980 | C31: 14764 | D31: 29291 | E31: 38457 | F31: 31.292889
A32: Valencia | B32: 51951 | C32: 53053 | D32: 95172 | E32: 101547 | F32: 6.6983987
A33: Vigo | B33: 42151 | C33: 45072 | D33: 87376 | E33: 91933 | F33: 5.215391
A34: Vilagarcía | B34: 11 | C34: 7 | D34: 21 | E34: 17 | F34: -19.047619
A35: TOTAL | B35: =SUM(B7:B34) -> 236715 | C35: =SUM(C7:C34) -> 300932 | D35: =SUM(D7:D34) -> 479095 | E35: =SUM(E7:E34) -> 562761 | F35: =E35*100/D35-100 -> 17.463342
A36: Incluye tractores, autobuses, turismos, camiones, vehículos especiales, motocicletas y resto
