Workbook
Name CABECERA: Cruceros!$A$5:$F$6
Name CONCEPTO: 'Resumen general'!$A$6
Name LblRes00_Acum: 'Resumen general'!$F$6:$G$6
Name LblRes00_Mes: 'Resumen general'!$D$6:$E$6
Name LblRes00_Var: 'Resumen general'!$H$6:$I$6
Name LblRes01_1_Acum: 'Total presentación'!$D$5:$F$5
Name LblRes01_1_Mes: 'Total presentación'!$B$5:$C$5
Name LblRes01_Acum: 'Automóviles régimen mercancía'!$D$5:$F$5
Name LblRes01_Acum: 'Ro-Ro remolques'!$D$5:$F$5
Name LblRes01_Acum: 'Total tráfico'!$D$5:$F$5
Name LblRes01_Mes: 'Automóviles régimen mercancía'!$B$5:$C$5
Name LblRes01_Mes: 'Ro-Ro remolques'!$B$5:$C$5
Name LblRes01_Mes: 'Total tráfico'!$B$5:$C$5
Name LblRes02_Acum: Líquidos!$D$5:$F$5
Name LblRes02_Mes: Líquidos!$B$5:$C$5
Name LblRes03_Acum: Sólidos!$D$5:$F$5
Name LblRes03_Mes: Sólidos!$B$5:$C$5
Name LblRes04_Acum: 'Mercancía general'!$D$5:$F$5
Name LblRes04_Mes: 'Mercancía general'!$B$5:$C$5
Name LblRes05_Acum: Pesca!$D$5:$F$5
Name LblRes05_Mes: Pesca!$B$5:$C$5
Name LblRes06_Acum: Avituallamiento!$D$5:$F$5
Name LblRes06_Mes: Avituallamiento!$B$5:$C$5
Name LblRes07_1_Acum: 'Mercan. contene. tránsito'!$D$5:$F$5
Name LblRes07_1_Mes: 'Mercan. contene. tránsito'!$B$5:$C$5
Name LblRes07_Acum: 'Mercancías tránsito'!$D$5:$F$5
Name LblRes07_Mes: 'Mercancías tránsito'!$B$5:$C$5
Name LblRes08_Acum: 'Mercancías contenedores'!$D$5:$F$5
Name LblRes08_Mes: 'Mercancías contenedores'!$B$5:$C$5
Name LblRes09_Acum: 'Ro-Ro'!$D$5:$F$5
Name LblRes09_Mes: 'Ro-Ro'!$B$5:$C$5
Name LblRes10_1_Acum: 'TEUS tránsito'!$D$5:$F$5
Name LblRes10_1_Mes: 'TEUS tránsito'!$B$5:$C$5
Name LblRes10_2_Acum: 'TEUS nacional'!$D$5:$F$5
Name LblRes10_2_Mes: 'TEUS nacional'!$B$5:$C$5
Name LblRes10_3_Acum: 'TEUS exterior'!$D$5:$F$5
Name LblRes10_3_Mes: 'TEUS exterior'!$B$5:$C$5
Name LblRes10_4_Acum: 'TEUS nacional y exterior'!$D$5:$F$5
Name LblRes10_4_Mes: 'TEUS nacional y exterior'!$B$5:$C$5
Name LblRes10_Acum: TEUS!$D$5:$F$5
Name LblRes10_Mes: TEUS!$B$5:$C$5
Name LblRes11_1_Acum: 'Pasajeros crucero'!$D$5:$F$5
Name LblRes11_1_Mes: 'Pasajeros crucero'!$B$5:$C$5
Name LblRes11_2_Acum: 'Automóviles régimen pasaje'!$D$5:$F$5
Name LblRes11_2_Mes: 'Automóviles régimen pasaje'!$B$5:$C$5
Name LblRes11_Acum: 'Pasajeros total'!$D$5:$F$5
Name LblRes11_Mes: 'Pasajeros total'!$B$5:$C$5
Name LblRes12_1_Acum: 'Buques número'!$D$5:$F$5
Name LblRes12_1_Mes: 'Buques número'!$B$5:$C$5
Name LblRes12_2_Acum: 'Buques GT'!$D$5:$F$5
Name LblRes12_2_Mes: 'Buques GT'!$B$5:$C$5
Name LblRes12_3_Acum: Cruceros!$D$5:$F$5
Name LblRes12_3_Mes: Cruceros!$B$5:$C$5
Name PROVINCIAS: Cruceros!$A$5:$A$35
Name TxtFecha: Cruceros!$L$5

Sheet Portada
I1: Dirección de Planificación y Desarrollo
I2: Departamento de Estadística
G15: RESUMEN GENERAL DEL TRÁFICO PORTUARIO*
G16: Diciembre 2022
K29: * DATOS DE CIERRE DEFINITIVOS

Sheet Indice
F5: ÍNDICE
B7: ="0." -> 0. | C7: RESUMEN GENERAL DEL TRÁFICO PORTUARIO
B8: ="1." -> 1. | C8: TRÁFICO PORTUARIO
B9: 1.1. | C9: MERCANCÍAS SEGÚN SU FORMA DE PRESENTACIÓN
B10: ="2." -> 2. | C10: GRANELES LÍQUIDOS
B11: ="3." -> 3. | C11: GRANELES SÓLIDOS
B12: ="4." -> 4. | C12: MERCANCÍA GENERAL
B13: 4.1. | C13: MERCANCÍAS EN CONTENEDORES
B14: ="5." -> 5. | C14: PESCA
B15: ="6." -> 6. | C15: AVITUALLAMIENTO
B16: 6.1. | C16: AVITUALLAMIENTO COMBUSTIBLES LÍQUIDOS
B17: ="7." -> 7. | C17: TRÁFICO INTERIOR
B18: ="8." -> 8. | C18: MERCANCÍAS EN TRÁNSITO
B19: 8.1. | C19: MERCANCÍAS EN CONTENEDORES EN TRÁNSITO
B20: ="9." -> 9. | C20: TRÁFICO RO-RO
B21: 9.1. | C21: TRÁFICO RO-RO DE REMOLQUES, SEMIRREMOLQUES Y PLATAFORMAS (unidades)
B22: ="10." -> 10. | C22: CONTENEDORES (TEUS)
B23: 10.1. | C23: CONTENEDORES EN TRÁNSITO (TEUS)
B24: 10.2. | C24: CONTENEDORES ENTRADAS-SALIDAS NACIONAL (TEUS)
B25: 10.3. | C25: CONTENEDORES IMPORTACIÓN-EXPORTACIÓN EXTERIOR (TEUS)
B26: 10.4. | C26: CONTENEDORES NACIONAL Y EXTERIOR (TEUS)
B27: ="11." -> 11. | C27: PASAJEROS EN RÉGIMEN DE TRANSPORTE Y DE CRUCERO (número)
B28: 11.1. | C28: PASAJEROS DE CRUCERO (número)
B29: 12.1. | C29: AUTOMÓVILES EN REGIMEN DE PASAJE (unidades)
B30: 12.2. | C30: TURISMOS, AUTOBUSES Y CAMIONES EN REGIMEN DE MERCANCÍA (unidades)
B31: ="13." -> 13. | C31: BUQUES MERCANTES (unidades)
B32: 13.1. | C32: BUQUES MERCANTES (unidades de arqueo bruto)
B33: 13.2. | C33: CRUCEROS (unidades)

Sheet Resumen general
D1: 00. RESUMEN GENERAL DEL TRÁFICO PORTUARIO
I4: Fecha: 27/01/2023
A6: CONCEPTO | D6: Mes diciembre | F6: Acumulado desde enero | H6: Variación
D7: 2021 | E7: 2022 | F7: 2021 | G7: 2022 | H7: Diferencia | I7: %
A8: MERCANCÍAS SEGÚN SU PRESENTACIÓN | B8: GRANELES | C8: LÍQUIDOS | D8: =Líquidos!B35 -> 14827296 | E8: =Líquidos!C35 -> 16919313 | F8: =Líquidos!D35 -> 170857145 | G8: =Líquidos!E35 -> 181703616 | H8: =G8-F8 -> 10846471 | I8: =((G8*100/F8)-100) -> 6.3482689
C9: SÓLIDOS | D9: =Sólidos!B35 -> 7356730 | E9: =Sólidos!C35 -> 8309824 | F9: =Sólidos!D35 -> 84980689 | G9: =Sólidos!E35 -> 93984728 | H9: =G9-F9 -> 9004039.4 | I9: =((G9*100/F9)-100) -> 10.595395
B10: MERCANCÍA GRAL. | C10: CONVENCIONAL | D10: =D12-D11 -> 6679384 | E10: =E12-E11 -> 6648864 | F10: =F12-F11 -> 77948202 | G10: =G12-G11 -> 82954951 | H10: =G10-F10 -> 5006749 | I10: =((G10*100/F10)-100) -> 6.4231745
C11: EN CONTENEDORES | D11: ='Mercancías contenedores'!B35 -> 16422542 | E11: ='Mercancías contenedores'!C35 -> 14397225 | F11: ='Mercancías contenedores'!D35 -> 198282966 | G11: ='Mercancías contenedores'!E35 -> 187548002 | H11: =G11-F11 -> -10734964 | I11: =((G11*100/F11)-100) -> -5.4139618
C12: TOTAL | D12: ='Mercancía general'!B35 -> 23101926 | E12: ='Mercancía general'!C35 -> 21046089 | F12: ='Mercancía general'!D35 -> 276231168 | G12: ='Mercancía general'!E35 -> 270502953 | H12: =G12-F12 -> -5728215 | I12: =((G12*100/F12)-100) -> -2.0737034
C13: TOTAL | D13: =+D8+D9+D12 -> 45285952 | E13: =+E8+E9+E12 -> 46275226 | F13: =+F8+F9+F12 -> 5.32069e+08 | G13: =+G8+G9+G12 -> 546191297 | H13: =G13-F13 -> 14122295 | I13: =((G13*100/F13)-100) -> 2.6542225
A14: OTRAS MERCANCÍAS | B14: PESCA | C14: TOTAL PESCA | D14: =Pesca!B35 -> 8712 | E14: =Pesca!C35 -> 9755 | F14: =Pesca!D35 -> 162962 | G14: =Pesca!E35 -> 147501 | H14: =G14-F14 -> -15461 | I14: =((G14*100/F14)-100) -> -9.4874879
B15: AVITUALLAMIENTO | C15: COMBUSTIBLES LÍQUIDOS | D15: ='Avi. combustibles'!B35 -> 769947 | E15: ='Avi. combustibles'!C35 -> 750459 | F15: ='Avi. combustibles'!D35 -> 8132367 | G15: ='Avi. combustibles'!E35 -> 9809062 | H15: =G15-F15 -> 1676695 | I15: =((G15*100/F15)-100) -> 20.617552
C16: OTROS | D16: =Avituallamiento!B35-'Resumen general'!D15 -> 151990 | E16: =Avituallamiento!C35-'Resumen general'!E15 -> 155303 | F16: =Avituallamiento!D35-'Resumen general'!F15 -> 1373621 | G16: =Avituallamiento!E35-'Resumen general'!G15 -> 1770950 | H16: =G16-F16 -> 397329 | I16: =((G16*100/F16)-100) -> 28.925664
B17: TRAFICO INTERIOR | C17: TOTAL TRAFICO INTERIOR | D17: ='Tráfico interior'!B35 -> 303068 | E17: ='Tráfico interior'!C35 -> 275190 | F17: ='Tráfico interior'!D35 -> 2681785 | G17: ='Tráfico interior'!E35 -> 3818316 | H17: =G17-F17 -> 1136531 | I17: =((G17*100/F17)-100) -> 42.379646
C18: TOTAL | D18: =+D14+D15+D16+D17 -> 1233717 | E18: =+E14+E15+E16+E17 -> 1190707 | F18: =+F14+F15+F16+F17 -> 12350735 | G18: =+G14+G15+G16+G17 -> 15545829 | H18: =G18-F18 -> 3195094 | I18: =((G18*100/F18)-100) -> 25.869667
C19: TOTAL TRÁFICO PORTUARIO (*) | D19: =+D13+D18 -> 46519669 | E19: =+E13+E18 -> 47465933 | F19: =+F13+F18 -> 5.4441974e+08 | G19: =+G13+G18 -> 561737126 | H19: =G19-F19 -> 17317389 | I19: =((G19*100/F19)-100) -> 3.1808893
A21: OTRAS INFORMACIONES | B21: MERCANCÍAS | C21: EN TRÁNSITO | D21: ='Mercancías tránsito'!B35 -> 12188800 | E21: ='Mercancías tránsito'!C35 -> 12263288 | F21: ='Mercancías tránsito'!D35 -> 150220169 | G21: ='Mercancías tránsito'!E35 -> 147413351 | H21: =G21-F21 -> -2806818 | I21: =((G21*100/F21)-100) -> -1.8684695
C22: EN CONTENEDORES EN TRÁNSITO | D22: ='Mercan. contene. tránsito'!B35 -> 9828584 | E22: ='Mercan. contene. tránsito'!C35 -> 8419471 | F22: ='Mercan. contene. tránsito'!D35 -> 118858394 | G22: ='Mercan. contene. tránsito'!E35 -> 110836651 | H22: =G22-F22 -> -8021743 | I22: =((G22*100/F22)-100) -> -6.7489916
B23: TRÁFICO RO-RO | C23: TOTAL TRÁFICO RO-RO | D23: ='Ro-Ro'!B35 -> 5577079 | E23: ='Ro-Ro'!C35 -> 5373733 | F23: ='Ro-Ro'!D35 -> 65293057 | G23: ='Ro-Ro'!E35 -> 70906005 | H23: =G23-F23 -> 5612948 | I23: =((G23*100/F23)-100) -> 8.5965465
C24: REMOLQUES, SEMIRR. Y PLATAF. (uds.) | D24: ='Ro-Ro remolques'!B35 -> 102664 | E24: ='Ro-Ro remolques'!C35 -> 109793 | F24: ='Ro-Ro remolques'!D35 -> 1189083 | G24: ='Ro-Ro remolques'!E35 -> 1304088 | H24: =G24-F24 -> 115005 | I24: =((G24*100/F24)-100) -> 9.6717386
B25: CONTENEDORES | C25: TOTAL CONTENEDORES (TEUS) | D25: =TEUS!B35 -> 1479592 | E25: =TEUS!C35 -> 1330478 | F25: =TEUS!D35 -> 17735438 | G25: =TEUS!E35 -> 17149426 | H25: =G25-F25 -> -586012 | I25: =((G25*100/F25)-100) -> -3.3041868
C26: EN TRÁNSITO (TEUS) | D26: ='TEUS tránsito'!B35 -> 781747 | E26: ='TEUS tránsito'!C35 -> 665608 | F26: ='TEUS tránsito'!D35 -> 9414175 | G26: ='TEUS tránsito'!E35 -> 8826044 | H26: =G26-F26 -> -588131 | I26: =((G26*100/F26)-100) -> -6.247292
C27: ENTRADAS-SALIDAS NACIONAL (TEUS) | D27: ='TEUS nacional'!B35 -> 180407 | E27: ='TEUS nacional'!C35 -> 171315 | F27: ='TEUS nacional'!D35 -> 2010187 | G27: ='TEUS nacional'!E35 -> 2097292 | H27: =G27-F27 -> 87105 | I27: =((G27*100/F27)-100) -> 4.333179
C28: IMPORT-EXPORT EXTERIOR (TEUS) | D28: ='TEUS exterior'!B35 -> 517439 | E28: ='TEUS exterior'!C35 -> 493555 | F28: ='TEUS exterior'!D35 -> 6311076 | G28: ='TEUS exterior'!E35 -> 6226090 | H28: =G28-F28 -> -84986 | I28: =((G28*100/F28)-100) -> -1.3466166
C29: NACIONAL Y EXTERIOR (TEUS) | D29: ='TEUS nacional y exterior'!B35 -> 697846 | E29: ='TEUS nacional y exterior'!C35 -> 664871 | F29: ='TEUS nacional y exterior'!D35 -> 8321263 | G29: ='TEUS nacional y exterior'!E35 -> 8323382 | H29: =G29-F29 -> 2119 | I29: =((G29*100/F29)-100) -> 0.025464884
B30: PASAJEROS | C30: REG. TRANSPORTE Y DE CRUCERO (nº) | D30: ='Pasajeros total'!B35 -> 1654580 | E30: ='Pasajeros total'!C35 -> 2266274 | F30: ='Pasajeros total'!D35 -> 17981420 | G30: ='Pasajeros total'!E35 -> 32992383 | H30: =G30-F30 -> 15010963 | I30: =((G30*100/F30)-100) -> 83.480409
C31: DE CRUCERO (nº) | D31: ='Pasajeros crucero'!B35 -> 324749 | E31: ='Pasajeros crucero'!C35 -> 671197 | F31: ='Pasajeros crucero'!D35 -> 2219083 | G31: ='Pasajeros crucero'!E35 -> 8179659 | H31: =G31-F31 -> 5960576 | I31: =((G31*100/F31)-100) -> 268.60537
B32: AUTOMÓVILES | C32: EN RÉGIMEN DE PASAJE (uds) | D32: ='Automóviles régimen pasaje'!B35 -> 374361 | E32: ='Automóviles régimen pasaje'!C35 -> 447247 | F32: ='Automóviles régimen pasaje'!D35 -> 4066713 | G32: ='Automóviles régimen pasaje'!E35 -> 6249199 | H32: =G32-F32 -> 2182486 | I32: =((G32*100/F32)-100) -> 53.667077
C33: EN RÉGIMEN DE MERCANCÍA (**) | D33: ='Automóviles régimen mercancía'!B35 -> 191575 | E33: ='Automóviles régimen mercancía'!C35 -> 322933 | F33: ='Automóviles régimen mercancía'!D35 -> 2416471.8 | G33: ='Automóviles régimen mercancía'!E35 -> 2702015 | H33: =G33-F33 -> 285543.21 | I33: =((G33*100/F33)-100) -> 11.816534
B34: BUQUES MERCANTES | C34: TOTAL BUQUES MERCANTES (uds) | D34: ='Buques número'!B35 -> 11160 | E34: ='Buques número'!C35 -> 12087 | F34: ='Buques número'!D35 -> 138889 | G34: ='Buques número'!E35 -> 157099 | H34: =G34-F34 -> 18210 | I34: =((G34*100/F34)-100) -> 13.11119
C35: UDS. ARQUEO BRUTO (G.T.) | D35: ='Buques GT'!B35 -> 182864364 | E35: ='Buques GT'!C35 -> 207024578 | F35: ='Buques GT'!D35 -> 2.0011887e+09 | G35: ='Buques GT'!E35 -> 2.4895083e+09 | H35: =G35-F35 -> 4.8831962e+08 | I35: =((G35*100/F35)-100) -> 24.401478
C36: CRUCEROS (uds) | D36: =Cruceros!B35 -> 305 | E36: =Cruceros!C35 -> 308 | F36: =Cruceros!D35 -> 2104 | G36: =Cruceros!E35 -> 4528 | H36: =G36-F36 -> 2424 | I36: =((G36*100/F36)-100) -> 115.20913
A37: (*) Incluye cargas, descargas, tránsitos y transbordos.
A38: (**) Solo turismos, autobuses y camiones

Sheet Total tráfico
F1: 1. TRÁFICO PORTUARIO (toneladas)
A5: Autoridad Portuaria | B5: ='Resumen general'!D6 -> Mes diciembre | D5: ='Resumen general'!F6 -> Acumulado desde enero | L5: ='Resumen general'!I4 -> Fecha: 27/01/2023
B6: ='Resumen general'!D7 -> 2021 | C6: ='Resumen general'!E7 -> 2022 | D6: ='Resumen general'!F7 -> 2021 | E6: ='Resumen general'!G7 -> 2022 | F6: Var. (%)
A7: A Coruña | B7: 1309537 | C7: 1581254 | D7: 11878047 | E7: 14919254 | F7: =((E7*100)/D7)-100 -> 25.603595
A8: Alicante | B8: 302197 | C8: 272099 | D8: 2647482 | E8: 3236786 | F8: =((E8*100)/D8)-100 -> 22.259037
A9: Almería | B9: 480109 | C9: 522749 | D9: 5829008 | E9: 5584287 | F9: =((E9*100)/D9)-100 -> -4.1983301
A10: Avilés | B10: 422082 | C10: 337273 | D10: 4705107 | E10: 4513490 | F10: =((E10*100)/D10)-100 -> -4.0725323
A11: Bahía de Algeciras | B11: 8963107 | C11: 9253301 | D11: 105075781 | E11: 107242746 | F11: =((E11*100)/D11)-100 -> 2.0622878
A12: Bahía de Cádiz | B12: 525729 | C12: 478906 | D12: 4943054 | E12: 5720441 | F12: =((E12*100)/D12)-100 -> 15.726856
A13: Baleares | B13: 1157473 | C13: 1098900 | D13: 13772748 | E13: 15517512 | F13: =((E13*100)/D13)-100 -> 12.668234
A14: Barcelona | B14: 5592453 | C14: 5978071 | D14: 66410581 | E14: 70904625 | F14: =((E14*100)/D14)-100 -> 6.7670602
A15: Bilbao | B15: 2628819 | C15: 3093790 | D15: 31298985 | E15: 32889220 | F15: =((E15*100)/D15)-100 -> 5.0807878
A16: Cartagena | B16: 2793139 | C16: 2944104 | D16: 31213499 | E16: 36588349 | F16: =((E16*100)/D16)-100 -> 17.219633
A17: Castellón | B17: 1704754 | C17: 1460664 | D17: 21237328 | E17: 20942490 | F17: =((E17*100)/D17)-100 -> -1.3883008
A18: Ceuta | B18: 141708 | C18: 176022 | D18: 1573105 | E18: 1939930 | F18: =((E18*100)/D18)-100 -> 23.318532
... A34: Vilagarcía | B34: 128667 | C34: 96872 | D34: 1511369 | E34: 1498073 | F34: =((E34*100)/D34)-100 -> -0.87973222
A35: Total | B35: =SUM(B7:B34) -> 46519669 | C35: =SUM(C7:C34) -> 47465933 | D35: =SUM(D7:D34) -> 5.4441974e+08 | E35: =SUM(E7:E34) -> 561737126 | F35: =((E35*100)/D35)-100 -> 3.1808893
A36: Incluye cargas, descargas, tránsitos y transbordos.
B38: =E6 -> 2022 | C38: =D6 -> 2021 | F38: =B38 -> 2022 | G38: =C38 -> 2021
A39: =A7 -> A Coruña | B39: =E7 -> 14919254 | C39: =D7 -> 11878047 | D39: =_xlfn.RANK.EQ(B39,$B$39:$B$66)+COUNTIF($B$39:$B$66,B39)-1 -> 12 | E39: =INDEX($A$39:$B$66,MATCH(ROW()-38,$D$39:$D$66,0),1) -> Bahía de Algeciras | F39: =LOOKUP(E39,$A$39:$A$66,$B$39:$B$66) -> 107242746 | G39: =LOOKUP(E39,$A$39:$A$66,$C$39:$C$66) -> 105075781
A40: =A8 -> Alicante | B40: =E8 -> 3236786 | C40: =D8 -> 2647482 | D40: =_xlfn.RANK.EQ(B40,$B$39:$B$66)+COUNTIF($B$39:$B$66,B40)-1 -> 23 | E40: =INDEX($A$39:$B$66,MATCH(ROW()-38,$D$39:$D$66,0),1) -> Valencia | F40: =LOOKUP(E40,$A$39:$A$66,$B$39:$B$66) -> 79365729 | G40: =LOOKUP(E40,$A$39:$A$66,$C$39:$C$66) -> 85269726
A41: =A9 -> Almería | B41: =E9 -> 5584287 | C41: =D9 -> 5829008 | D41: =_xlfn.RANK.EQ(B41,$B$39:$B$66)+COUNTIF($B$39:$B$66,B41)-1 -> 17 | E41: =INDEX($A$39:$B$66,MATCH(ROW()-38,$D$39:$D$66,0),1) -> Barcelona | F41: =LOOKUP(E41,$A$39:$A$66,$B$39:$B$66) -> 70904625 | G41: =LOOKUP(E41,$A$39:$A$66,$C$39:$C$66) -> 66410581
A42: =A10 -> Avilés | B42: =E10 -> 4513490 | C42: =D10 -> 4705107 | D42: =_xlfn.RANK.EQ(B42,$B$39:$B$66)+COUNTIF($B$39:$B$66,B42)-1 -> 19 | E42: =INDEX($A$39:$B$66,MATCH(ROW()-38,$D$39:$D$66,0),1) -> Cartagena | F42: =LOOKUP(E42,$A$39:$A$66,$B$39:$B$66) -> 36588349 | G42: =LOOKUP(E42,$A$39:$A$66,$C$39:$C$66) -> 31213499
A43: =A11 -> Bahía de Algeciras | B43: =E11 -> 107242746 | C43: =D11 -> 105075781 | D43: =_xlfn.RANK.EQ(B43,$B$39:$B$66)+COUNTIF($B$39:$B$66,B43)-1 -> 1 | E43: =INDEX($A$39:$B$66,MATCH(ROW()-38,$D$39:$D$66,0),1) -> Bilbao | F43: =LOOKUP(E43,$A$39:$A$66,$B$39:$B$66) -> 32889220 | G43: =LOOKUP(E43,$A$39:$A$66,$C$39:$C$66) -> 31298985
A44: =A12 -> Bahía de Cádiz | B44: =E12 -> 5720441 | C44: =D12 -> 4943054 | D44: =_xlfn.RANK.EQ(B44,$B$39:$B$66)+COUNTIF($B$39:$B$66,B44)-1 -> 16 | E44: =INDEX($A$39:$B$66,MATCH(ROW()-38,$D$39:$D$66,0),1) -> Huelva | F44: =LOOKUP(E44,$A$39:$A$66,$B$39:$B$66) -> 32145663 | G44: =LOOKUP(E44,$A$39:$A$66,$C$39:$C$66) -> 30685994
A45: =A13 -> Baleares | B45: =E13 -> 15517512 | C45: =D13 -> 13772748 | D45: =_xlfn.RANK.EQ(B45,$B$39:$B$66)+COUNTIF($B$39:$B$66,B45)-1 -> 11 | E45: =INDEX($A$39:$B$66,MATCH(ROW()-38,$D$39:$D$66,0),1) -> Tarragona | F45: =LOOKUP(E45,$A$39:$A$66,$B$39:$B$66) -> 29694582 | G45: =LOOKUP(E45,$A$39:$A$66,$C$39:$C$66) -> 31275930
A46: =A14 -> Barcelona | B46: =E14 -> 70904625 | C46: =D14 -> 66410581 | D46: =_xlfn.RANK.EQ(B46,$B$39:$B$66)+COUNTIF($B$39:$B$66,B46)-1 -> 3 | E46: =INDEX($A$39:$B$66,MATCH(ROW()-38,$D$39:$D$66,0),1) -> Las Palmas | F46: =LOOKUP(E46,$A$39:$A$66,$B$39:$B$66) -> 28291634 | G46: =LOOKUP(E46,$A$39:$A$66,$C$39:$C$66) -> 28208603
A47: =A15 -> Bilbao | B47: =E15 -> 32889220 | C47: =D15 -> 31298985 | D47: =_xlfn.RANK.EQ(B47,$B$39:$B$66)+COUNTIF($B$39:$B$66,B47)-1 -> 5 | E47: =INDEX($A$39:$B$66,MATCH(ROW()-38,$D$39:$D$66,0),1) -> Castellón | F47: =LOOKUP(E47,$A$39:$A$66,$B$39:$B$66) -> 20942490 | G47: =LOOKUP(E47,$A$39:$A$66,$C$39:$C$66) -> 21237328
A48: =A16 -> Cartagena | B48: =E16 -> 36588349 | C48: =D16 -> 31213499 | D48: =_xlfn.RANK.EQ(B48,$B$39:$B$66)+COUNTIF($B$39:$B$66,B48)-1 -> 4 | E48: =INDEX($A$39:$B$66,MATCH(ROW()-38,$D$39:$D$66,0),1) -> Gijón | F48: =LOOKUP(E48,$A$39:$A$66,$B$39:$B$66) -> 19100142 | G48: =LOOKUP(E48,$A$39:$A$66,$C$39:$C$66) -> 16668339
A49: =A17 -> Castellón | B49: =E17 -> 20942490 | C49: =D17 -> 21237328 | D49: =_xlfn.RANK.EQ(B49,$B$39:$B$66)+COUNTIF($B$39:$B$66,B49)-1 -> 9 | E49: =INDEX($A$39:$B$66,MATCH(ROW()-38,$D$39:$D$66,0),1) -> Baleares | F49: =LOOKUP(E49,$A$39:$A$66,$B$39:$B$66) -> 15517512 | G49: =LOOKUP(E49,$A$39:$A$66,$C$39:$C$66) -> 13772748
A50: =A18 -> Ceuta | B50: =E18 -> 1939930 | C50: =D18 -> 1573105 | D50: =_xlfn.RANK.EQ(B50,$B$39:$B$66)+COUNTIF($B$39:$B$66,B50)-1 -> 26 | E50: =INDEX($A$39:$B$66,MATCH(ROW()-38,$D$39:$D$66,0),1) -> A Coruña | F50: =LOOKUP(E50,$A$39:$A$66,$B$39:$B$66) -> 14919254 | G50: =LOOKUP(E50,$A$39:$A$66,$C$39:$C$66) -> 11878047
... A66: =A34 -> Vilagarcía | B66: =E34 -> 1498073 | C66: =D34 -> 1511369 | D66: =_xlfn.RANK.EQ(B66,$B$39:$B$66)+COUNTIF($B$39:$B$66,B66)-1 -> 27 | E66: =INDEX($A$39:$B$66,MATCH(ROW()-38,$D$39:$D$66,0),1) -> Melilla | F66: =LOOKUP(E66,$A$39:$A$66,$B$39:$B$66) -> 577251 | G66: =LOOKUP(E66,$A$39:$A$66,$C$39:$C$66) -> 601613

Sheet Total presentación
F1: 1.1. MERCANCÍAS SEGÚN SU FORMA DE PRESENTACIÓN
I2: (toneladas)
A5: Autoridad Portuaria | B5: ='Resumen general'!D6 -> Mes diciembre | D5: ='Resumen general'!F6 -> Acumulado desde enero | L5: ='Resumen general'!I4 -> Fecha: 27/01/2023
B6: ='Resumen general'!D7 -> 2021 | C6: ='Resumen general'!E7 -> 2022 | D6: ='Resumen general'!F7 -> 2021 | E6: ='Resumen general'!G7 -> 2022 | F6: Var. (%)
A7: A Coruña | B7: 1281584 | C7: 1557105 | D7: 11783425 | E7: 14817375 | F7: =((E7*100)/D7)-100 -> 25.747607
A8: Alicante | B8: 300381 | C8: 270557 | D8: 2634274 | E8: 3213965 | F8: =((E8*100)/D8)-100 -> 22.005722
A9: Almería | B9: 475455 | C9: 516457 | D9: 5780252 | E9: 5501563 | F9: =((E9*100)/D9)-100 -> -4.8213988
A10: Avilés | B10: 417514 | C10: 332971 | D10: 4619678 | E10: 4443664 | F10: =((E10*100)/D10)-100 -> -3.8100924
A11: Bahía de Algeciras | B11: 8356261 | C11: 8693450 | D11: 99377930 | E11: 99711046 | F11: =((E11*100)/D11)-100 -> 0.33520119
A12: Bahía de Cádiz | B12: 518005 | C12: 474974 | D12: 4826995 | E12: 5556409 | F12: =((E12*100)/D12)-100 -> 15.111141
A13: Baleares | B13: 1153665 | C13: 1094648 | D13: 13727359 | E13: 15429552 | F13: =((E13*100)/D13)-100 -> 12.400004
A14: Barcelona | B14: 5489900 | C14: 5866694 | D14: 64973291 | E14: 69078916 | F14: =((E14*100)/D14)-100 -> 6.3189427
A15: Bilbao | B15: 2620711 | C15: 3083513 | D15: 31182511 | E15: 32766593 | F15: =((E15*100)/D15)-100 -> 5.0800335
A16: Cartagena | B16: 2775313 | C16: 2934934 | D16: 31035919 | E16: 36383593 | F16: =((E16*100)/D16)-100 -> 17.230597
A17: Castellón | B17: 1702634 | C17: 1458181 | D17: 21202092 | E17: 20907494 | F17: =((E17*100)/D17)-100 -> -1.3894761
A18: Ceuta | B18: 83544 | C18: 118615 | D18: 1094162 | E18: 1256875 | F18: =((E18*100)/D18)-100 -> 14.871015
... A34: Vilagarcía | B34: 127918 | C34: 96346 | D34: 1503591 | E34: 1490296 | F34: =((E34*100)/D34)-100 -> -0.88421652
A35: Total | B35: =SUM(B7:B34) -> 45285952 | C35: =SUM(C7:C34) -> 46275226 | D35: =SUM(D7:D34) -> 5.32069e+08 | E35: =SUM(E7:E34) -> 546191297 | F35: =((E35*100)/D35)-100 -> 2.6542225
A36: Incluye cargas, descargas, tránsitos y transbordos.
B38: =E6 -> 2022 | C38: =D6 -> 2021 | F38: =B38 -> 2022 | G38: =C38 -> 2021
A39: =A7 -> A Coruña | B39: =E7 -> 14817375 | C39: =D7 -> 11783425 | D39: =_xlfn.RANK.EQ(B39,$B$39:$B$66)+COUNTIF($B$39:$B$66,B39)-1 -> 12 | E39: =INDEX($A$39:$B$66,MATCH(ROW()-38,$D$39:$D$66,0),1) -> Bahía de Algeciras | F39: =LOOKUP(E39,$A$39:$A$66,$B$39:$B$66) -> 99711046 | G39: =LOOKUP(E39,$A$39:$A$66,$C$39:$C$66) -> 99377930
A40: =A8 -> Alicante | B40: =E8 -> 3213965 | C40: =D8 -> 2634274 | D40: =_xlfn.RANK.EQ(B40,$B$39:$B$66)+COUNTIF($B$39:$B$66,B40)-1 -> 23 | E40: =INDEX($A$39:$B$66,MATCH(ROW()-38,$D$39:$D$66,0),1) -> Valencia | F40: =LOOKUP(E40,$A$39:$A$66,$B$39:$B$66) -> 78962958 | G40: =LOOKUP(E40,$A$39:$A$66,$C$39:$C$66) -> 84850755
A41: =A9 -> Almería | B41: =E9 -> 5501563 | C41: =D9 -> 5780252 | D41: =_xlfn.RANK.EQ(B41,$B$39:$B$66)+COUNTIF($B$39:$B$66,B41)-1 -> 17 | E41: =INDEX($A$39:$B$66,MATCH(ROW()-38,$D$39:$D$66,0),1) -> Barcelona | F41: =LOOKUP(E41,$A$39:$A$66,$B$39:$B$66) -> 69078916 | G41: =LOOKUP(E41,$A$39:$A$66,$C$39:$C$66) -> 64973291
A42: =A10 -> Avilés | B42: =E10 -> 4443664 | C42: =D10 -> 4619678 | D42: =_xlfn.RANK.EQ(B42,$B$39:$B$66)+COUNTIF($B$39:$B$66,B42)-1 -> 19 | E42: =INDEX($A$39:$B$66,MATCH(ROW()-38,$D$39:$D$66,0),1) -> Cartagena | F42: =LOOKUP(E42,$A$39:$A$66,$B$39:$B$66) -> 36383593 | G42: =LOOKUP(E42,$A$39:$A$66,$C$39:$C$66) -> 31035919
A43: =A11 -> Bahía de Algeciras | B43: =E11 -> 99711046 | C43: =D11 -> 99377930 | D43: =_xlfn.RANK.EQ(B43,$B$39:$B$66)+COUNTIF($B$39:$B$66,B43)-1 -> 1 | E43: =INDEX($A$39:$B$66,MATCH(ROW()-38,$D$39:$D$66,0),1) -> Bilbao | F43: =LOOKUP(E43,$A$39:$A$66,$B$39:$B$66) -> 32766593 | G43: =LOOKUP(E43,$A$39:$A$66,$C$39:$C$66) -> 31182511
A44: =A12 -> Bahía de Cádiz | B44: =E12 -> 5556409 | C44: =D12 -> 4826995 | D44: =_xlfn.RANK.EQ(B44,$B$39:$B$66)+COUNTIF($B$39:$B$66,B44)-1 -> 16 | E44: =INDEX($A$39:$B$66,MATCH(ROW()-38,$D$39:$D$66,0),1) -> Huelva | F44: =LOOKUP(E44,$A$39:$A$66,$B$39:$B$66) -> 31879539 | G44: =LOOKUP(E44,$A$39:$A$66,$C$39:$C$66) -> 30401726
A45: =A13 -> Baleares | B45: =E13 -> 15429552 | C45: =D13 -> 13727359 | D45: =_xlfn.RANK.EQ(B45,$B$39:$B$66)+COUNTIF($B$39:$B$66,B45)-1 -> 11 | E45: =INDEX($A$39:$B$66,MATCH(ROW()-38,$D$39:$D$66,0),1) -> Tarragona | F45: =LOOKUP(E45,$A$39:$A$66,$B$39:$B$66) -> 29385996 | G45: =LOOKUP(E45,$A$39:$A$66,$C$39:$C$66) -> 31168041
A46: =A14 -> Barcelona | B46: =E14 -> 69078916 | C46: =D14 -> 64973291 | D46: =_xlfn.RANK.EQ(B46,$B$39:$B$66)+COUNTIF($B$39:$B$66,B46)-1 -> 3 | E46: =INDEX($A$39:$B$66,MATCH(ROW()-38,$D$39:$D$66,0),1) -> Las Palmas | F46: =LOOKUP(E46,$A$39:$A$66,$B$39:$B$66) -> 25750980 | G46: =LOOKUP(E46,$A$39:$A$66,$C$39:$C$66) -> 25929254
A47: =A15 -> Bilbao | B47: =E15 -> 32766593 | C47: =D15 -> 31182511 | D47: =_xlfn.RANK.EQ(B47,$B$39:$B$66)+COUNTIF($B$39:$B$66,B47)-1 -> 5 | E47: =INDEX($A$39:$B$66,MATCH(ROW()-38,$D$39:$D$66,0),1) -> Castellón | F47: =LOOKUP(E47,$A$39:$A$66,$B$39:$B$66) -> 20907494 | G47: =LOOKUP(E47,$A$39:$A$66,$C$39:$C$66) -> 21202092
A48: =A16 -> Cartagena | B48: =E16 -> 36383593 | C48: =D16 -> 31035919 | D48: =_xlfn.RANK.EQ(B48,$B$39:$B$66)+COUNTIF($B$39:$B$66,B48)-1 -> 4 | E48: =INDEX($A$39:$B$66,MATCH(ROW()-38,$D$39:$D$66,0),1) -> Gijón | F48: =LOOKUP(E48,$A$39:$A$66,$B$39:$B$66) -> 19066179 | G48: =LOOKUP(E48,$A$39:$A$66,$C$39:$C$66) -> 16618684
A49: =A17 -> Castellón | B49: =E17 -> 20907494 | C49: =D17 -> 21202092 | D49: =_xlfn.RANK.EQ(B49,$B$39:$B$66)+COUNTIF($B$39:$B$66,B49)-1 -> 9 | E49: =INDEX($A$39:$B$66,MATCH(ROW()-38,$D$39:$D$66,0),1) -> Baleares | F49: =LOOKUP(E49,$A$39:$A$66,$B$39:$B$66) -> 15429552 | G49: =LOOKUP(E49,$A$39:$A$66,$C$39:$C$66) -> 13727359
A50: =A18 -> Ceuta | B50: =E18 -> 1256875 | C50: =D18 -> 1094162 | D50: =_xlfn.RANK.EQ(B50,$B$39:$B$66)+COUNTIF($B$39:$B$66,B50)-1 -> 27 | E50: =INDEX($A$39:$B$66,MATCH(ROW()-38,$D$39:$D$66,0),1) -> A Coruña | F50: =LOOKUP(E50,$A$39:$A$66,$B$39:$B$66) -> 14817375 | G50: =LOOKUP(E50,$A$39:$A$66,$C$39:$C$66) -> 11783425
... A66: =A34 -> Vilagarcía | B66: =E34 -> 1490296 | C66: =D34 -> 1503591 | D66: =_xlfn.RANK.EQ(B66,$B$39:$B$66)+COUNTIF($B$39:$B$66,B66)-1 -> 26 | E66: =INDEX($A$39:$B$66,MATCH(ROW()-38,$D$39:$D$66,0),1) -> Melilla | F66: =LOOKUP(E66,$A$39:$A$66,$B$39:$B$66) -> 572278 | G66: =LOOKUP(E66,$A$39:$A$66,$C$39:$C$66) -> 595430

Sheet Líquidos
F1: 2. GRANELES LÍQUIDOS (toneladas)
A5: Autoridad Portuaria | B5: ='Resumen general'!D6 -> Mes diciembre | D5: ='Resumen general'!F6 -> Acumulado desde enero | L5: ='Resumen general'!I4 -> Fecha: 27/01/2023
B6: ='Resumen general'!D7 -> 2021 | C6: ='Resumen general'!E7 -> 2022 | D6: ='Resumen general'!F7 -> 2021 | E6: ='Resumen general'!G7 -> 2022 | F6: Var. (%)
A7: A Coruña | B7: 884293 | C7: 802841 | D7: 7996655 | E7: 8528283 | F7: =((E7*100)/D7)-100 -> 6.6481297
A8: Alicante | B8: 3593 | C8: 0 | D8: 42237 | E8: 30422 | F8: =((E8*100)/D8)-100 -> -27.973104
A9: Almería | B9: 18511 | C9: 7824 | D9: 140628 | E9: 104484 | F9: =((E9*100)/D9)-100 -> -25.701852
A10: Avilés | B10: 52680 | C10: 74694 | D10: 601941 | E10: 651472 | F10: =((E10*100)/D10)-100 -> 8.2285473
A11: Bahía de Algeciras | B11: 2240445 | C11: 3003922 | D11: 28126069 | E11: 27286675 | F11: =((E11*100)/D11)-100 -> -2.9843986
A12: Bahía de Cádiz | B12: 127733 | C12: 136746 | D12: 1080865 | E12: 1472293 | F12: =((E12*100)/D12)-100 -> 36.214328
A13: Baleares | B13: 87879 | C13: 114581 | D13: 1114658 | E13: 1547982 | F13: =((E13*100)/D13)-100 -> 38.875063
A14: Barcelona | B14: 991816 | C14: 1684033 | D14: 12344965 | E14: 15504615 | F14: =((E14*100)/D14)-100 -> 25.594645
A15: Bilbao | B15: 1678452 | C15: 2125367 | D15: 17764532 | E15: 20452871 | F15: =((E15*100)/D15)-100 -> 15.133182
A16: Cartagena | B16: 2092111 | C16: 2168704 | D16: 24047180 | E16: 28011198 | F16: =((E16*100)/D16)-100 -> 16.484336
A17: Castellón | B17: 628842 | C17: 945407 | D17: 9912711 | E17: 10263666 | F17: =((E17*100)/D17)-100 -> 3.5404543
A18: Ceuta | B18: 34334 | C18: 78664 | D18: 479227 | E18: 681899 | F18: =((E18*100)/D18)-100 -> 42.29144
... A34: Vilagarcía | B34: 25282 | C34: 8804 | D34: 273548 | E34: 299566 | F34: =((E34*100)/D34)-100 -> 9.5113106
A35: Total | B35: =SUM(B7:B34) -> 14827296 | C35: =SUM(C7:C34) -> 16919313 | D35: =SUM(D7:D34) -> 170857145 | E35: =SUM(E7:E34) -> 181703616 | F35: =((E35*100)/D35)-100 -> 6.3482689
A36: Incluye cargas, descargas, tránsitos y transbordos.
B38: =E6 -> 2022 | C38: =D6 -> 2021 | F38: =B38 -> 2022 | G38: =C38 -> 2021
A39: =A7 -> A Coruña | B39: =E7 -> 8528283 | C39: =D7 -> 7996655 | D39: =_xlfn.RANK.EQ(B39,$B$39:$B$66)+COUNTIF($B$39:$B$66,B39)-1 -> 8 | E39: =INDEX($A$39:$B$66,MATCH(ROW()-38,$D$39:$D$66,0),1) -> Cartagena | F39: =LOOKUP(E39,$A$39:$A$66,$B$39:$B$66) -> 28011198 | G39: =LOOKUP(E39,$A$39:$A$66,$C$39:$C$66) -> 24047180
A40: =A8 -> Alicante | B40: =E8 -> 30422 | C40: =D8 -> 42237 | D40: =_xlfn.RANK.EQ(B40,$B$39:$B$66)+COUNTIF($B$39:$B$66,B40)-1 -> 26 | E40: =INDEX($A$39:$B$66,MATCH(ROW()-38,$D$39:$D$66,0),1) -> Bahía de Algeciras | F40: =LOOKUP(E40,$A$39:$A$66,$B$39:$B$66) -> 27286675 | G40: =LOOKUP(E40,$A$39:$A$66,$C$39:$C$66) -> 28126069
A41: =A9 -> Almería | B41: =E9 -> 104484 | C41: =D9 -> 140628 | D41: =_xlfn.RANK.EQ(B41,$B$39:$B$66)+COUNTIF($B$39:$B$66,B41)-1 -> 23 | E41: =INDEX($A$39:$B$66,MATCH(ROW()-38,$D$39:$D$66,0),1) -> Huelva | F41: =LOOKUP(E41,$A$39:$A$66,$B$39:$B$66) -> 24871239 | G41: =LOOKUP(E41,$A$39:$A$66,$C$39:$C$66) -> 24181628
A42: =A10 -> Avilés | B42: =E10 -> 651472 | C42: =D10 -> 601941 | D42: =_xlfn.RANK.EQ(B42,$B$39:$B$66)+COUNTIF($B$39:$B$66,B42)-1 -> 18 | E42: =INDEX($A$39:$B$66,MATCH(ROW()-38,$D$39:$D$66,0),1) -> Bilbao | F42: =LOOKUP(E42,$A$39:$A$66,$B$39:$B$66) -> 20452871 | G42: =LOOKUP(E42,$A$39:$A$66,$C$39:$C$66) -> 17764532
A43: =A11 -> Bahía de Algeciras | B43: =E11 -> 27286675 | C43: =D11 -> 28126069 | D43: =_xlfn.RANK.EQ(B43,$B$39:$B$66)+COUNTIF($B$39:$B$66,B43)-1 -> 2 | E43: =INDEX($A$39:$B$66,MATCH(ROW()-38,$D$39:$D$66,0),1) -> Tarragona | F43: =LOOKUP(E43,$A$39:$A$66,$B$39:$B$66) -> 17667571 | G43: =LOOKUP(E43,$A$39:$A$66,$C$39:$C$66) -> 21141198
A44: =A12 -> Bahía de Cádiz | B44: =E12 -> 1472293 | C44: =D12 -> 1080865 | D44: =_xlfn.RANK.EQ(B44,$B$39:$B$66)+COUNTIF($B$39:$B$66,B44)-1 -> 14 | E44: =INDEX($A$39:$B$66,MATCH(ROW()-38,$D$39:$D$66,0),1) -> Barcelona | F44: =LOOKUP(E44,$A$39:$A$66,$B$39:$B$66) -> 15504615 | G44: =LOOKUP(E44,$A$39:$A$66,$C$39:$C$66) -> 12344965
A45: =A13 -> Baleares | B45: =E13 -> 1547982 | C45: =D13 -> 1114658 | D45: =_xlfn.RANK.EQ(B45,$B$39:$B$66)+COUNTIF($B$39:$B$66,B45)-1 -> 13 | E45: =INDEX($A$39:$B$66,MATCH(ROW()-38,$D$39:$D$66,0),1) -> Castellón | F45: =LOOKUP(E45,$A$39:$A$66,$B$39:$B$66) -> 10263666 | G45: =LOOKUP(E45,$A$39:$A$66,$C$39:$C$66) -> 9912711
A46: =A14 -> Barcelona | B46: =E14 -> 15504615 | C46: =D14 -> 12344965 | D46: =_xlfn.RANK.EQ(B46,$B$39:$B$66)+COUNTIF($B$39:$B$66,B46)-1 -> 6 | E46: =INDEX($A$39:$B$66,MATCH(ROW()-38,$D$39:$D$66,0),1) -> A Coruña | F46: =LOOKUP(E46,$A$39:$A$66,$B$39:$B$66) -> 8528283 | G46: =LOOKUP(E46,$A$39:$A$66,$C$39:$C$66) -> 7996655
A47: =A15 -> Bilbao | B47: =E15 -> 20452871 | C47: =D15 -> 17764532 | D47: =_xlfn.RANK.EQ(B47,$B$39:$B$66)+COUNTIF($B$39:$B$66,B47)-1 -> 4 | E47: =INDEX($A$39:$B$66,MATCH(ROW()-38,$D$39:$D$66,0),1) -> Las Palmas | F47: =LOOKUP(E47,$A$39:$A$66,$B$39:$B$66) -> 7808563 | G47: =LOOKUP(E47,$A$39:$A$66,$C$39:$C$66) -> 8256892
A48: =A16 -> Cartagena | B48: =E16 -> 28011198 | C48: =D16 -> 24047180 | D48: =_xlfn.RANK.EQ(B48,$B$39:$B$66)+COUNTIF($B$39:$B$66,B48)-1 -> 1 | E48: =INDEX($A$39:$B$66,MATCH(ROW()-38,$D$39:$D$66,0),1) -> Valencia | F48: =LOOKUP(E48,$A$39:$A$66,$B$39:$B$66) -> 5819229 | G48: =LOOKUP(E48,$A$39:$A$66,$C$39:$C$66) -> 3867779
A49: =A17 -> Castellón | B49: =E17 -> 10263666 | C49: =D17 -> 9912711 | D49: =_xlfn.RANK.EQ(B49,$B$39:$B$66)+COUNTIF($B$39:$B$66,B49)-1 -> 7 | E49: =INDEX($A$39:$B$66,MATCH(ROW()-38,$D$39:$D$66,0),1) -> Ferrol-San Cibrao | F49: =LOOKUP(E49,$A$39:$A$66,$B$39:$B$66) -> 3961857 | G49: =LOOKUP(E49,$A$39:$A$66,$C$39:$C$66) -> 3172235
A50: =A18 -> Ceuta | B50: =E18 -> 681899 | C50: =D18 -> 479227 | D50: =_xlfn.RANK.EQ(B50,$B$39:$B$66)+COUNTIF($B$39:$B$66,B50)-1 -> 17 | E50: =INDEX($A$39:$B$66,MATCH(ROW()-38,$D$39:$D$66,0),1) -> Santa Cruz de Tenerife | F50: =LOOKUP(E50,$A$39:$A$66,$B$39:$B$66) -> 3690469 | G50: =LOOKUP(E50,$A$39:$A$66,$C$39:$C$66) -> 3035070
... A66: =A34 -> Vilagarcía | B66: =E34 -> 299566 | C66: =D34 -> 273548 | D66: =_xlfn.RANK.EQ(B66,$B$39:$B$66)+COUNTIF($B$39:$B$66,B66)-1 -> 20 | E66: =INDEX($A$39:$B$66,MATCH(ROW()-38,$D$39:$D$66,0),1) -> Pasaia | F66: =LOOKUP(E66,$A$39:$A$66,$B$39:$B$66) -> 0 | G66: =LOOKUP(E66,$A$39:$A$66,$C$39:$C$66) -> 0

Sheet Sólidos
F1: 3. GRANELES SÓLIDOS (toneladas)
A5: Autoridad Portuaria | B5: ='Resumen general'!D6 -> Mes diciembre | D5: ='Resumen general'!F6 -> Acumulado desde enero | L5: ='Resumen general'!I4 -> Fecha: 27/01/2023
B6: ='Resumen general'!D7 -> 2021 | C6: ='Resumen general'!E7 -> 2022 | D6: ='Resumen general'!F7 -> 2021 | E6: ='Resumen general'!G7 -> 2022 | F6: Var. (%)
A7: A Coruña | B7: 325609 | C7: 726454 | D7: 2934090 | E7: 5392360 | F7: =((E7*100)/D7)-100 -> 83.783047
A8: Alicante | B8: 146214 | C8: 140621 | D8: 1300401 | E8: 1659168 | F8: =((E8*100)/D8)-100 -> 27.588951
A9: Almería | B9: 321761 | C9: 384542 | D9: 4188630 | E9: 3914005 | F9: =((E9*100)/D9)-100 -> -6.5564397
A10: Avilés | B10: 226194 | C10: 193046 | D10: 2879791 | E10: 2795247 | F10: =((E10*100)/D10)-100 -> -2.9357686
A11: Bahía de Algeciras | B11: 51447 | C11: 88569 | D11: 664448 | E11: 1376367 | F11: =((E11*100)/D11)-100 -> 107.14443
A12: Bahía de Cádiz | B12: 190829 | C12: 166995 | D12: 1308133 | E12: 1878025 | F12: =((E12*100)/D12)-100 -> 43.565295
A13: Baleares | B13: 32726 | C13: 35122 | D13: 356648 | E13: 382225 | F13: =((E13*100)/D13)-100 -> 7.1714968
A14: Barcelona | B14: 414896 | C14: 479917 | D14: 4459744 | E14: 4549252 | F14: =((E14*100)/D14)-100 -> 2.007021
A15: Bilbao | B15: 266416 | C15: 317634 | D15: 4651321 | E15: 3752882 | F15: =((E15*100)/D15)-100 -> -19.315781
A16: Cartagena | B16: 603993 | C16: 688423 | D16: 6021397 | E16: 7367627 | F16: =((E16*100)/D16)-100 -> 22.357436
A17: Castellón | B17: 932922 | C17: 397210 | D17: 9385244 | E17: 9156401 | F17: =((E17*100)/D17)-100 -> -2.4383277
A18: Ceuta | B18: 1400 | C18: 0 | D18: 15911 | E18: 5856 | F18: =((E18*100)/D18)-100 -> -63.195274
... A34: Vilagarcía | B34: 49179 | C34: 38928 | D34: 425965 | E34: 401187 | F34: =((E34*100)/D34)-100 -> -5.8169098
A35: Total | B35: =SUM(B7:B34) -> 7356730 | C35: =SUM(C7:C34) -> 8309824 | D35: =SUM(D7:D34) -> 84980689 | E35: =SUM(E7:E34) -> 93984728 | F35: =((E35*100)/D35)-100 -> 10.595395
A36: Incluye cargas, descargas, tránsitos y transbordos.
B38: =E6 -> 2022 | C38: =D6 -> 2021 | F38: =B38 -> 2022 | G38: =C38 -> 2021
A39: =A7 -> A Coruña | B39: =E7 -> 5392360 | C39: =D7 -> 2934090 | D39: =_xlfn.RANK.EQ(B39,$B$39:$B$66)+COUNTIF($B$39:$B$66,B39)-1 -> 7 | E39: =INDEX($A$39:$B$66,MATCH(ROW()-38,$D$39:$D$66,0),1) -> Gijón | F39: =LOOKUP(E39,$A$39:$A$66,$B$39:$B$66) -> 16938901 | G39: =LOOKUP(E39,$A$39:$A$66,$C$39:$C$66) -> 14209772
A40: =A8 -> Alicante | B40: =E8 -> 1659168 | C40: =D8 -> 1300401 | D40: =_xlfn.RANK.EQ(B40,$B$39:$B$66)+COUNTIF($B$39:$B$66,B40)-1 -> 16 | E40: =INDEX($A$39:$B$66,MATCH(ROW()-38,$D$39:$D$66,0),1) -> Tarragona | F40: =LOOKUP(E40,$A$39:$A$66,$B$39:$B$66) -> 9323254 | G40: =LOOKUP(E40,$A$39:$A$66,$C$39:$C$66) -> 7744291
A41: =A9 -> Almería | B41: =E9 -> 3914005 | C41: =D9 -> 4188630 | D41: =_xlfn.RANK.EQ(B41,$B$39:$B$66)+COUNTIF($B$39:$B$66,B41)-1 -> 9 | E41: =INDEX($A$39:$B$66,MATCH(ROW()-38,$D$39:$D$66,0),1) -> Castellón | F41: =LOOKUP(E41,$A$39:$A$66,$B$39:$B$66) -> 9156401 | G41: =LOOKUP(E41,$A$39:$A$66,$C$39:$C$66) -> 9385244
A42: =A10 -> Avilés | B42: =E10 -> 2795247 | C42: =D10 -> 2879791 | D42: =_xlfn.RANK.EQ(B42,$B$39:$B$66)+COUNTIF($B$39:$B$66,B42)-1 -> 12 | E42: =INDEX($A$39:$B$66,MATCH(ROW()-38,$D$39:$D$66,0),1) -> Cartagena | F42: =LOOKUP(E42,$A$39:$A$66,$B$39:$B$66) -> 7367627 | G42: =LOOKUP(E42,$A$39:$A$66,$C$39:$C$66) -> 6021397
A43: =A11 -> Bahía de Algeciras | B43: =E11 -> 1376367 | C43: =D11 -> 664448 | D43: =_xlfn.RANK.EQ(B43,$B$39:$B$66)+COUNTIF($B$39:$B$66,B43)-1 -> 17 | E43: =INDEX($A$39:$B$66,MATCH(ROW()-38,$D$39:$D$66,0),1) -> Ferrol-San Cibrao | F43: =LOOKUP(E43,$A$39:$A$66,$B$39:$B$66) -> 6856470 | G43: =LOOKUP(E43,$A$39:$A$66,$C$39:$C$66) -> 5994200
A44: =A12 -> Bahía de Cádiz | B44: =E12 -> 1878025 | C44: =D12 -> 1308133 | D44: =_xlfn.RANK.EQ(B44,$B$39:$B$66)+COUNTIF($B$39:$B$66,B44)-1 -> 14 | E44: =INDEX($A$39:$B$66,MATCH(ROW()-38,$D$39:$D$66,0),1) -> Huelva | F44: =LOOKUP(E44,$A$39:$A$66,$B$39:$B$66) -> 5711606 | G44: =LOOKUP(E44,$A$39:$A$66,$C$39:$C$66) -> 5029739
A45: =A13 -> Baleares | B45: =E13 -> 382225 | C45: =D13 -> 356648 | D45: =_xlfn.RANK.EQ(B45,$B$39:$B$66)+COUNTIF($B$39:$B$66,B45)-1 -> 24 | E45: =INDEX($A$39:$B$66,MATCH(ROW()-38,$D$39:$D$66,0),1) -> A Coruña | F45: =LOOKUP(E45,$A$39:$A$66,$B$39:$B$66) -> 5392360 | G45: =LOOKUP(E45,$A$39:$A$66,$C$39:$C$66) -> 2934090
A46: =A14 -> Barcelona | B46: =E14 -> 4549252 | C46: =D14 -> 4459744 | D46: =_xlfn.RANK.EQ(B46,$B$39:$B$66)+COUNTIF($B$39:$B$66,B46)-1 -> 8 | E46: =INDEX($A$39:$B$66,MATCH(ROW()-38,$D$39:$D$66,0),1) -> Barcelona | F46: =LOOKUP(E46,$A$39:$A$66,$B$39:$B$66) -> 4549252 | G46: =LOOKUP(E46,$A$39:$A$66,$C$39:$C$66) -> 4459744
A47: =A15 -> Bilbao | B47: =E15 -> 3752882 | C47: =D15 -> 4651321 | D47: =_xlfn.RANK.EQ(B47,$B$39:$B$66)+COUNTIF($B$39:$B$66,B47)-1 -> 10 | E47: =INDEX($A$39:$B$66,MATCH(ROW()-38,$D$39:$D$66,0),1) -> Almería | F47: =LOOKUP(E47,$A$39:$A$66,$B$39:$B$66) -> 3914005 | G47: =LOOKUP(E47,$A$39:$A$66,$C$39:$C$66) -> 4188630
A48: =A16 -> Cartagena | B48: =E16 -> 7367627 | C48: =D16 -> 6021397 | D48: =_xlfn.RANK.EQ(B48,$B$39:$B$66)+COUNTIF($B$39:$B$66,B48)-1 -> 4 | E48: =INDEX($A$39:$B$66,MATCH(ROW()-38,$D$39:$D$66,0),1) -> Bilbao | F48: =LOOKUP(E48,$A$39:$A$66,$B$39:$B$66) -> 3752882 | G48: =LOOKUP(E48,$A$39:$A$66,$C$39:$C$66) -> 4651321
A49: =A17 -> Castellón | B49: =E17 -> 9156401 | C49: =D17 -> 9385244 | D49: =_xlfn.RANK.EQ(B49,$B$39:$B$66)+COUNTIF($B$39:$B$66,B49)-1 -> 3 | E49: =INDEX($A$39:$B$66,MATCH(ROW()-38,$D$39:$D$66,0),1) -> Santander | F49: =LOOKUP(E49,$A$39:$A$66,$B$39:$B$66) -> 3410479 | G49: =LOOKUP(E49,$A$39:$A$66,$C$39:$C$66) -> 3537849
A50: =A18 -> Ceuta | B50: =E18 -> 5856 | C50: =D18 -> 15911 | D50: =_xlfn.RANK.EQ(B50,$B$39:$B$66)+COUNTIF($B$39:$B$66,B50)-1 -> 28 | E50: =INDEX($A$39:$B$66,MATCH(ROW()-38,$D$39:$D$66,0),1) -> Avilés | F50: =LOOKUP(E50,$A$39:$A$66,$B$39:$B$66) -> 2795247 | G50: =LOOKUP(E50,$A$39:$A$66,$C$39:$C$66) -> 2879791
... A66: =A34 -> Vilagarcía | B66: =E34 -> 401187 | C66: =D34 -> 425965 | D66: =_xlfn.RANK.EQ(B66,$B$39:$B$66)+COUNTIF($B$39:$B$66,B66)-1 -> 23 | E66: =INDEX($A$39:$B$66,MATCH(ROW()-38,$D$39:$D$66,0),1) -> Ceuta | F66: =LOOKUP(E66,$A$39:$A$66,$B$39:$B$66) -> 5856 | G66: =LOOKUP(E66,$A$39:$A$66,$C$39:$C$66) -> 15911

Sheet Mercancía general
F1: 4. MERCANCÍA GENERAL (toneladas)
A5: Autoridad Portuaria | B5: ='Resumen general'!D6 -> Mes diciembre | D5: ='Resumen general'!F6 -> Acumulado desde enero | L5: ='Resumen general'!I4 -> Fecha: 27/01/2023
B6: ='Resumen general'!D7 -> 2021 | C6: ='Resumen general'!E7 -> 2022 | D6: ='Resumen general'!F7 -> 2021 | E6: ='Resumen general'!G7 -> 2022 | F6: Var. (%)
A7: A Coruña | B7: 71682 | C7: 27810 | D7: 852680 | E7: 896732 | F7: =((E7*100)/D7)-100 -> 5.1662992
A8: Alicante | B8: 150574 | C8: 129936 | D8: 1291636 | E8: 1524375 | F8: =((E8*100)/D8)-100 -> 18.018931
A9: Almería | B9: 135183 | C9: 124091 | D9: 1450994 | E9: 1483074 | F9: =((E9*100)/D9)-100 -> 2.2108982
A10: Avilés | B10: 138640 | C10: 65231 | D10: 1137946 | E10: 996945 | F10: =((E10*100)/D10)-100 -> -12.390834
A11: Bahía de Algeciras | B11: 6064369 | C11: 5600959 | D11: 70587413 | E11: 71048004 | F11: =((E11*100)/D11)-100 -> 0.65251152
A12: Bahía de Cádiz | B12: 199443 | C12: 171233 | D12: 2437997 | E12: 2206091 | F12: =((E12*100)/D12)-100 -> -9.5121528
A13: Baleares | B13: 1033060 | C13: 944945 | D13: 12256053 | E13: 13499345 | F13: =((E13*100)/D13)-100 -> 10.14431
A14: Barcelona | B14: 4083188 | C14: 3702744 | D14: 48168582 | E14: 49025049 | F14: =((E14*100)/D14)-100 -> 1.7780615
A15: Bilbao | B15: 675843 | C15: 640512 | D15: 8766658 | E15: 8560840 | F15: =((E15*100)/D15)-100 -> -2.3477362
A16: Cartagena | B16: 79209 | C16: 77807 | D16: 967342 | E16: 1004768 | F16: =((E16*100)/D16)-100 -> 3.8689522
A17: Castellón | B17: 140870 | C17: 115564 | D17: 1904137 | E17: 1487427 | F17: =((E17*100)/D17)-100 -> -21.884455
A18: Ceuta | B18: 47810 | C18: 39951 | D18: 599024 | E18: 569120 | F18: =((E18*100)/D18)-100 -> -4.9921205
... A34: Vilagarcía | B34: 53457 | C34: 48614 | D34: 804078 | E34: 789543 | F34: =((E34*100)/D34)-100 -> -1.8076605
A35: Total | B35: =SUM(B7:B34) -> 23101926 | C35: =SUM(C7:C34) -> 21046089 | D35: =SUM(D7:D34) -> 276231168 | E35: =SUM(E7:E34) -> 270502953 | F35: =((E35*100)/D35)-100 -> -2.0737034
A36: Incluye cargas, descargas, tránsitos y transbordos.
B38: =E6 -> 2022 | C38: =D6 -> 2021 | F38: =B38 -> 2022 | G38: =C38 -> 2021
A39: =A7 -> A Coruña | B39: =E7 -> 896732 | C39: =D7 -> 852680 | D39: =_xlfn.RANK.EQ(B39,$B$39:$B$66)+COUNTIF($B$39:$B$66,B39)-1 -> 24 | E39: =INDEX($A$39:$B$66,MATCH(ROW()-38,$D$39:$D$66,0),1) -> Bahía de Algeciras | F39: =LOOKUP(E39,$A$39:$A$66,$B$39:$B$66) -> 71048004 | G39: =LOOKUP(E39,$A$39:$A$66,$C$39:$C$66) -> 70587413
A40: =A8 -> Alicante | B40: =E8 -> 1524375 | C40: =D8 -> 1291636 | D40: =_xlfn.RANK.EQ(B40,$B$39:$B$66)+COUNTIF($B$39:$B$66,B40)-1 -> 15 | E40: =INDEX($A$39:$B$66,MATCH(ROW()-38,$D$39:$D$66,0),1) -> Valencia | F40: =LOOKUP(E40,$A$39:$A$66,$B$39:$B$66) -> 70888565 | G40: =LOOKUP(E40,$A$39:$A$66,$C$39:$C$66) -> 78823912
A41: =A9 -> Almería | B41: =E9 -> 1483074 | C41: =D9 -> 1450994 | D41: =_xlfn.RANK.EQ(B41,$B$39:$B$66)+COUNTIF($B$39:$B$66,B41)-1 -> 17 | E41: =INDEX($A$39:$B$66,MATCH(ROW()-38,$D$39:$D$66,0),1) -> Barcelona | F41: =LOOKUP(E41,$A$39:$A$66,$B$39:$B$66) -> 49025049 | G41: =LOOKUP(E41,$A$39:$A$66,$C$39:$C$66) -> 48168582
A42: =A10 -> Avilés | B42: =E10 -> 996945 | C42: =D10 -> 1137946 | D42: =_xlfn.RANK.EQ(B42,$B$39:$B$66)+COUNTIF($B$39:$B$66,B42)-1 -> 22 | E42: =INDEX($A$39:$B$66,MATCH(ROW()-38,$D$39:$D$66,0),1) -> Las Palmas | F42: =LOOKUP(E42,$A$39:$A$66,$B$39:$B$66) -> 17579731 | G42: =LOOKUP(E42,$A$39:$A$66,$C$39:$C$66) -> 17248633
A43: =A11 -> Bahía de Algeciras | B43: =E11 -> 71048004 | C43: =D11 -> 70587413 | D43: =_xlfn.RANK.EQ(B43,$B$39:$B$66)+COUNTIF($B$39:$B$66,B43)-1 -> 1 | E43: =INDEX($A$39:$B$66,MATCH(ROW()-38,$D$39:$D$66,0),1) -> Baleares | F43: =LOOKUP(E43,$A$39:$A$66,$B$39:$B$66) -> 13499345 | G43: =LOOKUP(E43,$A$39:$A$66,$C$39:$C$66) -> 12256053
A44: =A12 -> Bahía de Cádiz | B44: =E12 -> 2206091 | C44: =D12 -> 2437997 | D44: =_xlfn.RANK.EQ(B44,$B$39:$B$66)+COUNTIF($B$39:$B$66,B44)-1 -> 13 | E44: =INDEX($A$39:$B$66,MATCH(ROW()-38,$D$39:$D$66,0),1) -> Bilbao | F44: =LOOKUP(E44,$A$39:$A$66,$B$39:$B$66) -> 8560840 | G44: =LOOKUP(E44,$A$39:$A$66,$C$39:$C$66) -> 8766658
A45: =A13 -> Baleares | B45: =E13 -> 13499345 | C45: =D13 -> 12256053 | D45: =_xlfn.RANK.EQ(B45,$B$39:$B$66)+COUNTIF($B$39:$B$66,B45)-1 -> 5 | E45: =INDEX($A$39:$B$66,MATCH(ROW()-38,$D$39:$D$66,0),1) -> Santa Cruz de Tenerife | F45: =LOOKUP(E45,$A$39:$A$66,$B$39:$B$66) -> 7553946 | G45: =LOOKUP(E45,$A$39:$A$66,$C$39:$C$66) -> 7196030
A46: =A14 -> Barcelona | B46: =E14 -> 49025049 | C46: =D14 -> 48168582 | D46: =_xlfn.RANK.EQ(B46,$B$39:$B$66)+COUNTIF($B$39:$B$66,B46)-1 -> 3 | E46: =INDEX($A$39:$B$66,MATCH(ROW()-38,$D$39:$D$66,0),1) -> Vigo | F46: =LOOKUP(E46,$A$39:$A$66,$B$39:$B$66) -> 4216194 | G46: =LOOKUP(E46,$A$39:$A$66,$C$39:$C$66) -> 4253658
A47: =A15 -> Bilbao | B47: =E15 -> 8560840 | C47: =D15 -> 8766658 | D47: =_xlfn.RANK.EQ(B47,$B$39:$B$66)+COUNTIF($B$39:$B$66,B47)-1 -> 6 | E47: =INDEX($A$39:$B$66,MATCH(ROW()-38,$D$39:$D$66,0),1) -> Málaga | F47: =LOOKUP(E47,$A$39:$A$66,$B$39:$B$66) -> 2852663 | G47: =LOOKUP(E47,$A$39:$A$66,$C$39:$C$66) -> 2690740
A48: =A16 -> Cartagena | B48: =E16 -> 1004768 | C48: =D16 -> 967342 | D48: =_xlfn.RANK.EQ(B48,$B$39:$B$66)+COUNTIF($B$39:$B$66,B48)-1 -> 21 | E48: =INDEX($A$39:$B$66,MATCH(ROW()-38,$D$39:$D$66,0),1) -> Santander | F48: =LOOKUP(E48,$A$39:$A$66,$B$39:$B$66) -> 2761968 | G48: =LOOKUP(E48,$A$39:$A$66,$C$39:$C$66) -> 2990965
A49: =A17 -> Castellón | B49: =E17 -> 1487427 | C49: =D17 -> 1904137 | D49: =_xlfn.RANK.EQ(B49,$B$39:$B$66)+COUNTIF($B$39:$B$66,B49)-1 -> 16 | E49: =INDEX($A$39:$B$66,MATCH(ROW()-38,$D$39:$D$66,0),1) -> Tarragona | F49: =LOOKUP(E49,$A$39:$A$66,$B$39:$B$66) -> 2395171 | G49: =LOOKUP(E49,$A$39:$A$66,$C$39:$C$66) -> 2282552
A50: =A18 -> Ceuta | B50: =E18 -> 569120 | C50: =D18 -> 599024 | D50: =_xlfn.RANK.EQ(B50,$B$39:$B$66)+COUNTIF($B$39:$B$66,B50)-1 -> 26 | E50: =INDEX($A$39:$B$66,MATCH(ROW()-38,$D$39:$D$66,0),1) -> Pasaia | F50: =LOOKUP(E50,$A$39:$A$66,$B$39:$B$66) -> 2363507 | G50: =LOOKUP(E50,$A$39:$A$66,$C$39:$C$66) -> 2389843
... A66: =A34 -> Vilagarcía | B66: =E34 -> 789543 | C66: =D34 -> 804078 | D66: =_xlfn.RANK.EQ(B66,$B$39:$B$66)+COUNTIF($B$39:$B$66,B66)-1 -> 25 | E66: =INDEX($A$39:$B$66,MATCH(ROW()-38,$D$39:$D$66,0),1) -> Motril | F66: =LOOKUP(E66,$A$39:$A$66,$B$39:$B$66) -> 145266 | G66: =LOOKUP(E66,$A$39:$A$66,$C$39:$C$66) -> 171550

Sheet Mercancías contenedores
F1: 4.1. MERCANCÍAS EN CONTENEDORES (toneladas)
A5: Autoridad Portuaria | B5: ='Resumen general'!D6 -> Mes diciembre | D5: ='Resumen general'!F6 -> Acumulado desde enero | L5: ='Resumen general'!I4 -> Fecha: 27/01/2023
B6: ='Resumen general'!D7 -> 2021 | C6: ='Resumen general'!E7 -> 2022 | D6: ='Resumen general'!F7 -> 2021 | E6: ='Resumen general'!G7 -> 2022 | F6: Var. (%)
A7: A Coruña | B7: 0 | C7: 0 | D7: 29 | E7: 112 | F7: =((E7*100)/D7)-100 -> 286.2069
A8: Alicante | B8: 144569 | C8: 101747 | D8: 1171488 | E8: 1360453 | F8: =((E8*100)/D8)-100 -> 16.13034
A9: Almería | B9: 27847 | C9: 19195 | D9: 407382 | E9: 373333 | F9: =((E9*100)/D9)-100 -> -8.3580031
A10: Avilés | B10: 0 | C10: 0 | D10: 469 | E10: 0 | F10: =((E10*100)/D10)-100 -> -100
A11: Bahía de Algeciras | B11: 4804042 | C11: 4452869 | D11: 58728590 | E11: 56425787 | F11: =((E11*100)/D11)-100 -> -3.9210936
A12: Bahía de Cádiz | B12: 141850 | C12: 122174 | D12: 1748766 | E12: 1596091 | F12: =((E12*100)/D12)-100 -> -8.7304419
A13: Baleares | B13: 30282 | C13: 21865 | D13: 449154 | E13: 362382 | F13: =((E13*100)/D13)-100 -> -19.318986
A14: Barcelona | B14: 3248195 | C14: 2835237 | D14: 37455575 | E14: 37610182 | F14: =((E14*100)/D14)-100 -> 0.41277433
A15: Bilbao | B15: 455488 | C15: 392512 | D15: 5656436 | E15: 5399304 | F15: =((E15*100)/D15)-100 -> -4.5458306
A16: Cartagena | B16: 40611 | C16: 34075 | D16: 613474 | E16: 628464 | F16: =((E16*100)/D16)-100 -> 2.4434613
A17: Castellón | B17: 131324 | C17: 108687 | D17: 1713789 | E17: 1372636 | F17: =((E17*100)/D17)-100 -> -19.90636
A18: Ceuta | B18: 6065 | C18: 5117 | D18: 74736 | E18: 67455 | F18: =((E18*100)/D18)-100 -> -9.7422929
... A34: Vilagarcía | B34: 21619 | C34: 20839 | D34: 294080 | E34: 287010 | F34: =((E34*100)/D34)-100 -> -2.4041077
A35: Total | B35: =SUM(B7:B34) -> 16422542 | C35: =SUM(C7:C34) -> 14397225 | D35: =SUM(D7:D34) -> 198282966 | E35: =SUM(E7:E34) -> 187548002 | F35: =((E35*100)/D35)-100 -> -5.4139618
A36: Incluye cargas, descargas, tránsitos y transbordos.
B38: =E6 -> 2022 | C38: =D6 -> 2021 | F38: =B38 -> 2022 | G38: =C38 -> 2021
A39: =A7 -> A Coruña | B39: =E7 -> 112 | C39: =D7 -> 29 | D39: =_xlfn.RANK.EQ(B39,$B$39:$B$66)+COUNTIF($B$39:$B$66,B39)-1 -> 25 | E39: =INDEX($A$39:$B$66,MATCH(ROW()-38,$D$39:$D$66,0),1) -> Bahía de Algeciras | F39: =LOOKUP(E39,$A$39:$A$66,$B$39:$B$66) -> 56425787 | G39: =LOOKUP(E39,$A$39:$A$66,$C$39:$C$66) -> 58728590
A40: =A8 -> Alicante | B40: =E8 -> 1360453 | C40: =D8 -> 1171488 | D40: =_xlfn.RANK.EQ(B40,$B$39:$B$66)+COUNTIF($B$39:$B$66,B40)-1 -> 11 | E40: =INDEX($A$39:$B$66,MATCH(ROW()-38,$D$39:$D$66,0),1) -> Valencia | F40: =LOOKUP(E40,$A$39:$A$66,$B$39:$B$66) -> 56125555 | G40: =LOOKUP(E40,$A$39:$A$66,$C$39:$C$66) -> 64017231
A41: =A9 -> Almería | B41: =E9 -> 373333 | C41: =D9 -> 407382 | D41: =_xlfn.RANK.EQ(B41,$B$39:$B$66)+COUNTIF($B$39:$B$66,B41)-1 -> 19 | E41: =INDEX($A$39:$B$66,MATCH(ROW()-38,$D$39:$D$66,0),1) -> Barcelona | F41: =LOOKUP(E41,$A$39:$A$66,$B$39:$B$66) -> 37610182 | G41: =LOOKUP(E41,$A$39:$A$66,$C$39:$C$66) -> 37455575
A42: =A10 -> Avilés | B42: =E10 -> 0 | C42: =D10 -> 469 | D42: =_xlfn.RANK.EQ(B42,$B$39:$B$66)+COUNTIF($B$39:$B$66,B42)-1 -> 28 | E42: =INDEX($A$39:$B$66,MATCH(ROW()-38,$D$39:$D$66,0),1) -> Las Palmas | F42: =LOOKUP(E42,$A$39:$A$66,$B$39:$B$66) -> 12798647 | G42: =LOOKUP(E42,$A$39:$A$66,$C$39:$C$66) -> 13060685
A43: =A11 -> Bahía de Algeciras | B43: =E11 -> 56425787 | C43: =D11 -> 58728590 | D43: =_xlfn.RANK.EQ(B43,$B$39:$B$66)+COUNTIF($B$39:$B$66,B43)-1 -> 1 | E43: =INDEX($A$39:$B$66,MATCH(ROW()-38,$D$39:$D$66,0),1) -> Bilbao | F43: =LOOKUP(E43,$A$39:$A$66,$B$39:$B$66) -> 5399304 | G43: =LOOKUP(E43,$A$39:$A$66,$C$39:$C$66) -> 5656436
A44: =A12 -> Bahía de Cádiz | B44: =E12 -> 1596091 | C44: =D12 -> 1748766 | D44: =_xlfn.RANK.EQ(B44,$B$39:$B$66)+COUNTIF($B$39:$B$66,B44)-1 -> 9 | E44: =INDEX($A$39:$B$66,MATCH(ROW()-38,$D$39:$D$66,0),1) -> Santa Cruz de Tenerife | F44: =LOOKUP(E44,$A$39:$A$66,$B$39:$B$66) -> 3740564 | G44: =LOOKUP(E44,$A$39:$A$66,$C$39:$C$66) -> 3611406
A45: =A13 -> Baleares | B45: =E13 -> 362382 | C45: =D13 -> 449154 | D45: =_xlfn.RANK.EQ(B45,$B$39:$B$66)+COUNTIF($B$39:$B$66,B45)-1 -> 20 | E45: =INDEX($A$39:$B$66,MATCH(ROW()-38,$D$39:$D$66,0),1) -> Vigo | F45: =LOOKUP(E45,$A$39:$A$66,$B$39:$B$66) -> 2658304 | G45: =LOOKUP(E45,$A$39:$A$66,$C$39:$C$66) -> 2986304
A46: =A14 -> Barcelona | B46: =E14 -> 37610182 | C46: =D14 -> 37455575 | D46: =_xlfn.RANK.EQ(B46,$B$39:$B$66)+COUNTIF($B$39:$B$66,B46)-1 -> 3 | E46: =INDEX($A$39:$B$66,MATCH(ROW()-38,$D$39:$D$66,0),1) -> Málaga | F46: =LOOKUP(E46,$A$39:$A$66,$B$39:$B$66) -> 2396555 | G46: =LOOKUP(E46,$A$39:$A$66,$C$39:$C$66) -> 2252411
A47: =A15 -> Bilbao | B47: =E15 -> 5399304 | C47: =D15 -> 5656436 | D47: =_xlfn.RANK.EQ(B47,$B$39:$B$66)+COUNTIF($B$39:$B$66,B47)-1 -> 5 | E47: =INDEX($A$39:$B$66,MATCH(ROW()-38,$D$39:$D$66,0),1) -> Bahía de Cádiz | F47: =LOOKUP(E47,$A$39:$A$66,$B$39:$B$66) -> 1596091 | G47: =LOOKUP(E47,$A$39:$A$66,$C$39:$C$66) -> 1748766
A48: =A16 -> Cartagena | B48: =E16 -> 628464 | C48: =D16 -> 613474 | D48: =_xlfn.RANK.EQ(B48,$B$39:$B$66)+COUNTIF($B$39:$B$66,B48)-1 -> 15 | E48: =INDEX($A$39:$B$66,MATCH(ROW()-38,$D$39:$D$66,0),1) -> Castellón | F48: =LOOKUP(E48,$A$39:$A$66,$B$39:$B$66) -> 1372636 | G48: =LOOKUP(E48,$A$39:$A$66,$C$39:$C$66) -> 1713789
A49: =A17 -> Castellón | B49: =E17 -> 1372636 | C49: =D17 -> 1713789 | D49: =_xlfn.RANK.EQ(B49,$B$39:$B$66)+COUNTIF($B$39:$B$66,B49)-1 -> 10 | E49: =INDEX($A$39:$B$66,MATCH(ROW()-38,$D$39:$D$66,0),1) -> Alicante | F49: =LOOKUP(E49,$A$39:$A$66,$B$39:$B$66) -> 1360453 | G49: =LOOKUP(E49,$A$39:$A$66,$C$39:$C$66) -> 1171488
A50: =A18 -> Ceuta | B50: =E18 -> 67455 | C50: =D18 -> 74736 | D50: =_xlfn.RANK.EQ(B50,$B$39:$B$66)+COUNTIF($B$39:$B$66,B50)-1 -> 23 | E50: =INDEX($A$39:$B$66,MATCH(ROW()-38,$D$39:$D$66,0),1) -> Sevilla | F50: =LOOKUP(E50,$A$39:$A$66,$B$39:$B$66) -> 1010452 | G50: =LOOKUP(E50,$A$39:$A$66,$C$39:$C$66) -> 999941
... A66: =A34 -> Vilagarcía | B66: =E34 -> 287010 | C66: =D34 -> 294080 | D66: =_xlfn.RANK.EQ(B66,$B$39:$B$66)+COUNTIF($B$39:$B$66,B66)-1 -> 22 | E66: =INDEX($A$39:$B$66,MATCH(ROW()-38,$D$39:$D$66,0),1) -> Avilés | F66: =LOOKUP(E66,$A$39:$A$66,$B$39:$B$66) -> 0 | G66: =LOOKUP(E66,$A$39:$A$66,$C$39:$C$66) -> 469

Sheet Pesca
F1: 5. PESCA (toneladas)
A5: Autoridad Portuaria | B5: ='Resumen general'!D6 -> Mes diciembre | D5: ='Resumen general'!F6 -> Acumulado desde enero | L5: ='Resumen general'!I4 -> Fecha: 27/01/2023
B6: ='Resumen general'!D7 -> 2021 | C6: ='Resumen general'!E7 -> 2022 | D6: ='Resumen general'!F7 -> 2021 | E6: ='Resumen general'!G7 -> 2022 | F6: Var. (%)
A7: A Coruña | B7: 1319 | C7: 1918 | D7: 28331 | E7: 28131 | F7: =((E7*100)/D7)-100 -> -0.70594049
A8: Alicante | B8: 24 | C8: 0 | D8: 714 | E8: 378 | F8: =((E8*100)/D8)-100 -> -47.058824
A9: Almería | B9: 221 | C9: 145 | D9: 3923 | E9: 3064 | F9: =((E9*100)/D9)-100 -> -21.896508
A10: Avilés | B10: 559 | C10: 528 | D10: 18702 | E10: 14045 | F10: =((E10*100)/D10)-100 -> -24.90108
A11: Bahía de Algeciras | B11: 36 | C11: 105 | D11: 911 | E11: 1061 | F11: =((E11*100)/D11)-100 -> 16.465423
A12: Bahía de Cádiz | B12: 944 | C12: 903 | D12: 14155 | E12: 13453 | F12: =((E12*100)/D12)-100 -> -4.9593783
A13: Baleares | B13: 125 | C13: 115 | D13: 2114 | E13: 1888 | F13: =((E13*100)/D13)-100 -> -10.690634
A14: Barcelona | B14: 34 | C14: 84 | D14: 2168 | E14: 3201 | F14: =((E14*100)/D14)-100 -> 47.647601
A15: Bilbao | B15: 0 | C15: 0 | D15: 0 | E15: 0 | F15: =((E15*100)/D15)-100 -> #DIV/0!
A16: Cartagena | B16: 27 | C16: 15 | D16: 423 | E16: 380 | F16: =((E16*100)/D16)-100 -> -10.165485
A17: Castellón | B17: 92 | C17: 91 | D17: 3003 | E17: 2520 | F17: =((E17*100)/D17)-100 -> -16.083916
A18: Ceuta | B18: 2 | C18: 28 | D18: 44 | E18: 39 | F18: =((E18*100)/D18)-100 -> -11.363636
... A34: Vilagarcía | B34: 0 | C34: 0 | D34: 0 | E34: 0 | F34: =((E34*100)/D34)-100 -> #DIV/0!
A35: Total | B35: =SUM(B7:B34) -> 8712 | C35: =SUM(C7:C34) -> 9755 | D35: =SUM(D7:D34) -> 162962 | E35: =SUM(E7:E34) -> 147501 | F35: =((E35*100)/D35)-100 -> -9.4874879
B38: =E6 -> 2022 | C38: =D6 -> 2021 | F38: =B38 -> 2022 | G38: =C38 -> 2021
A39: =A7 -> A Coruña | B39: =E7 -> 28131 | C39: =D7 -> 28331 | D39: =_xlfn.RANK.EQ(B39,$B$39:$B$66)+COUNTIF($B$39:$B$66,B39)-1 -> 2 | E39: =INDEX($A$39:$B$66,MATCH(ROW()-38,$D$39:$D$66,0),1) -> Vigo | F39: =LOOKUP(E39,$A$39:$A$66,$B$39:$B$66) -> 34009 | G39: =LOOKUP(E39,$A$39:$A$66,$C$39:$C$66) -> 36581
A40: =A8 -> Alicante | B40: =E8 -> 378 | C40: =D8 -> 714 | D40: =_xlfn.RANK.EQ(B40,$B$39:$B$66)+COUNTIF($B$39:$B$66,B40)-1 -> 20 | E40: =INDEX($A$39:$B$66,MATCH(ROW()-38,$D$39:$D$66,0),1) -> A Coruña | F40: =LOOKUP(E40,$A$39:$A$66,$B$39:$B$66) -> 28131 | G40: =LOOKUP(E40,$A$39:$A$66,$C$39:$C$66) -> 28331
A41: =A9 -> Almería | B41: =E9 -> 3064 | C41: =D9 -> 3923 | D41: =_xlfn.RANK.EQ(B41,$B$39:$B$66)+COUNTIF($B$39:$B$66,B41)-1 -> 10 | E41: =INDEX($A$39:$B$66,MATCH(ROW()-38,$D$39:$D$66,0),1) -> Pasaia | F41: =LOOKUP(E41,$A$39:$A$66,$B$39:$B$66) -> 19055 | G41: =LOOKUP(E41,$A$39:$A$66,$C$39:$C$66) -> 18811
A42: =A10 -> Avilés | B42: =E10 -> 14045 | C42: =D10 -> 18702 | D42: =_xlfn.RANK.EQ(B42,$B$39:$B$66)+COUNTIF($B$39:$B$66,B42)-1 -> 4 | E42: =INDEX($A$39:$B$66,MATCH(ROW()-38,$D$39:$D$66,0),1) -> Avilés | F42: =LOOKUP(E42,$A$39:$A$66,$B$39:$B$66) -> 14045 | G42: =LOOKUP(E42,$A$39:$A$66,$C$39:$C$66) -> 18702
A43: =A11 -> Bahía de Algeciras | B43: =E11 -> 1061 | C43: =D11 -> 911 | D43: =_xlfn.RANK.EQ(B43,$B$39:$B$66)+COUNTIF($B$39:$B$66,B43)-1 -> 16 | E43: =INDEX($A$39:$B$66,MATCH(ROW()-38,$D$39:$D$66,0),1) -> Bahía de Cádiz | F43: =LOOKUP(E43,$A$39:$A$66,$B$39:$B$66) -> 13453 | G43: =LOOKUP(E43,$A$39:$A$66,$C$39:$C$66) -> 14155
A44: =A12 -> Bahía de Cádiz | B44: =E12 -> 13453 | C44: =D12 -> 14155 | D44: =_xlfn.RANK.EQ(B44,$B$39:$B$66)+COUNTIF($B$39:$B$66,B44)-1 -> 5 | E44: =INDEX($A$39:$B$66,MATCH(ROW()-38,$D$39:$D$66,0),1) -> Gijón | F44: =LOOKUP(E44,$A$39:$A$66,$B$39:$B$66) -> 8401 | G44: =LOOKUP(E44,$A$39:$A$66,$C$39:$C$66) -> 14882
A45: =A13 -> Baleares | B45: =E13 -> 1888 | C45: =D13 -> 2114 | D45: =_xlfn.RANK.EQ(B45,$B$39:$B$66)+COUNTIF($B$39:$B$66,B45)-1 -> 14 | E45: =INDEX($A$39:$B$66,MATCH(ROW()-38,$D$39:$D$66,0),1) -> Santander | F45: =LOOKUP(E45,$A$39:$A$66,$B$39:$B$66) -> 5631 | G45: =LOOKUP(E45,$A$39:$A$66,$C$39:$C$66) -> 5366
A46: =A14 -> Barcelona | B46: =E14 -> 3201 | C46: =D14 -> 2168 | D46: =_xlfn.RANK.EQ(B46,$B$39:$B$66)+COUNTIF($B$39:$B$66,B46)-1 -> 8 | E46: =INDEX($A$39:$B$66,MATCH(ROW()-38,$D$39:$D$66,0),1) -> Barcelona | F46: =LOOKUP(E46,$A$39:$A$66,$B$39:$B$66) -> 3201 | G46: =LOOKUP(E46,$A$39:$A$66,$C$39:$C$66) -> 2168
A47: =A15 -> Bilbao | B47: =E15 -> 0 | C47: =D15 -> 0 | D47: =_xlfn.RANK.EQ(B47,$B$39:$B$66)+COUNTIF($B$39:$B$66,B47)-1 -> 28 | E47: =INDEX($A$39:$B$66,MATCH(ROW()-38,$D$39:$D$66,0),1) -> Marín y Ría de Pontevedra | F47: =LOOKUP(E47,$A$39:$A$66,$B$39:$B$66) -> 3118 | G47: =LOOKUP(E47,$A$39:$A$66,$C$39:$C$66) -> 2731
A48: =A16 -> Cartagena | B48: =E16 -> 380 | C48: =D16 -> 423 | D48: =_xlfn.RANK.EQ(B48,$B$39:$B$66)+COUNTIF($B$39:$B$66,B48)-1 -> 19 | E48: =INDEX($A$39:$B$66,MATCH(ROW()-38,$D$39:$D$66,0),1) -> Almería | F48: =LOOKUP(E48,$A$39:$A$66,$B$39:$B$66) -> 3064 | G48: =LOOKUP(E48,$A$39:$A$66,$C$39:$C$66) -> 3923
A49: =A17 -> Castellón | B49: =E17 -> 2520 | C49: =D17 -> 3003 | D49: =_xlfn.RANK.EQ(B49,$B$39:$B$66)+COUNTIF($B$39:$B$66,B49)-1 -> 12 | E49: =INDEX($A$39:$B$66,MATCH(ROW()-38,$D$39:$D$66,0),1) -> Santa Cruz de Tenerife | F49: =LOOKUP(E49,$A$39:$A$66,$B$39:$B$66) -> 2657 | G49: =LOOKUP(E49,$A$39:$A$66,$C$39:$C$66) -> 3502
A50: =A18 -> Ceuta | B50: =E18 -> 39 | C50: =D18 -> 44 | D50: =_xlfn.RANK.EQ(B50,$B$39:$B$66)+COUNTIF($B$39:$B$66,B50)-1 -> 24 | E50: =INDEX($A$39:$B$66,MATCH(ROW()-38,$D$39:$D$66,0),1) -> Castellón | F50: =LOOKUP(E50,$A$39:$A$66,$B$39:$B$66) -> 2520 | G50: =LOOKUP(E50,$A$39:$A$66,$C$39:$C$66) -> 3003
... A66: =A34 -> Vilagarcía | B66: =E34 -> 0 | C66: =D34 -> 0 | D66: =_xlfn.RANK.EQ(B66,$B$39:$B$66)+COUNTIF($B$39:$B$66,B66)-1 -> 28 | E66: =INDEX($A$39:$B$66,MATCH(ROW()-38,$D$39:$D$66,0),1) -> Bilbao | F66: =LOOKUP(E66,$A$39:$A$66,$B$39:$B$66) -> 0 | G66: =LOOKUP(E66,$A$39:$A$66,$C$39:$C$66) -> 0

Sheet Avituallamiento
F1: 6. AVITUALLAMIENTO (toneladas)
A5: Autoridad Portuaria | B5: ='Resumen general'!D6 -> Mes diciembre | D5: ='Resumen general'!F6 -> Acumulado desde enero | L5: ='Resumen general'!I4 -> Fecha: 27/01/2023
B6: ='Resumen general'!D7 -> 2021 | C6: ='Resumen general'!E7 -> 2022 | D6: ='Resumen general'!F7 -> 2021 | E6: ='Resumen general'!G7 -> 2022 | F6: Var. (%)
A7: A Coruña | B7: 26634 | C7: 22231 | D7: 65672 | E7: 73748 | F7: =((E7*100)/D7)-100 -> 12.297478
A8: Alicante | B8: 1792 | C8: 1542 | D8: 12494 | E8: 22443 | F8: =((E8*100)/D8)-100 -> 79.630223
A9: Almería | B9: 4433 | C9: 6147 | D9: 44833 | E9: 79660 | F9: =((E9*100)/D9)-100 -> 77.681618
A10: Avilés | B10: 4009 | C10: 3774 | D10: 56726 | E10: 55781 | F10: =((E10*100)/D10)-100 -> -1.6659028
A11: Bahía de Algeciras | B11: 319683 | C11: 297597 | D11: 3108689 | E11: 3993357 | F11: =((E11*100)/D11)-100 -> 28.457913
A12: Bahía de Cádiz | B12: 6780 | C12: 3029 | D12: 101904 | E12: 150579 | F12: =((E12*100)/D12)-100 -> 47.765544
A13: Baleares | B13: 3683 | C13: 4023 | D13: 43275 | E13: 86072 | F13: =((E13*100)/D13)-100 -> 98.895436
A14: Barcelona | B14: 102519 | C14: 111293 | D14: 1435122 | E14: 1822508 | F14: =((E14*100)/D14)-100 -> 26.993245
A15: Bilbao | B15: 8108 | C15: 10277 | D15: 116474 | E15: 122627 | F15: =((E15*100)/D15)-100 -> 5.282724
A16: Cartagena | B16: 17799 | C16: 9155 | D16: 177157 | E16: 204376 | F16: =((E16*100)/D16)-100 -> 15.364338
A17: Castellón | B17: 2028 | C17: 2392 | D17: 32233 | E17: 32476 | F17: =((E17*100)/D17)-100 -> 0.75388577
A18: Ceuta | B18: 58162 | C18: 57379 | D18: 478899 | E18: 683016 | F18: =((E18*100)/D18)-100 -> 42.62214
... A34: Vilagarcía | B34: 749 | C34: 526 | D34: 7778 | E34: 7777 | F34: =((E34*100)/D34)-100 -> -0.012856776
A35: Total | B35: =SUM(B7:B34) -> 921937 | C35: =SUM(C7:C34) -> 905762 | D35: =SUM(D7:D34) -> 9505988 | E35: =SUM(E7:E34) -> 11580012 | F35: =((E35*100)/D35)-100 -> 21.818079
B38: =E6 -> 2022 | C38: =D6 -> 2021 | F38: =B38 -> 2022 | G38: =C38 -> 2021
A39: =A7 -> A Coruña | B39: =E7 -> 73748 | C39: =D7 -> 65672 | D39: =_xlfn.RANK.EQ(B39,$B$39:$B$66)+COUNTIF($B$39:$B$66,B39)-1 -> 16 | E39: =INDEX($A$39:$B$66,MATCH(ROW()-38,$D$39:$D$66,0),1) -> Bahía de Algeciras | F39: =LOOKUP(E39,$A$39:$A$66,$B$39:$B$66) -> 3993357 | G39: =LOOKUP(E39,$A$39:$A$66,$C$39:$C$66) -> 3108689
A40: =A8 -> Alicante | B40: =E8 -> 22443 | C40: =D8 -> 12494 | D40: =_xlfn.RANK.EQ(B40,$B$39:$B$66)+COUNTIF($B$39:$B$66,B40)-1 -> 24 | E40: =INDEX($A$39:$B$66,MATCH(ROW()-38,$D$39:$D$66,0),1) -> Las Palmas | F40: =LOOKUP(E40,$A$39:$A$66,$B$39:$B$66) -> 2539071 | G40: =LOOKUP(E40,$A$39:$A$66,$C$39:$C$66) -> 2278145
A41: =A9 -> Almería | B41: =E9 -> 79660 | C41: =D9 -> 44833 | D41: =_xlfn.RANK.EQ(B41,$B$39:$B$66)+COUNTIF($B$39:$B$66,B41)-1 -> 14 | E41: =INDEX($A$39:$B$66,MATCH(ROW()-38,$D$39:$D$66,0),1) -> Barcelona | F41: =LOOKUP(E41,$A$39:$A$66,$B$39:$B$66) -> 1822508 | G41: =LOOKUP(E41,$A$39:$A$66,$C$39:$C$66) -> 1435122
A42: =A10 -> Avilés | B42: =E10 -> 55781 | C42: =D10 -> 56726 | D42: =_xlfn.RANK.EQ(B42,$B$39:$B$66)+COUNTIF($B$39:$B$66,B42)-1 -> 17 | E42: =INDEX($A$39:$B$66,MATCH(ROW()-38,$D$39:$D$66,0),1) -> Ceuta | F42: =LOOKUP(E42,$A$39:$A$66,$B$39:$B$66) -> 683016 | G42: =LOOKUP(E42,$A$39:$A$66,$C$39:$C$66) -> 478899
A43: =A11 -> Bahía de Algeciras | B43: =E11 -> 3993357 | C43: =D11 -> 3108689 | D43: =_xlfn.RANK.EQ(B43,$B$39:$B$66)+COUNTIF($B$39:$B$66,B43)-1 -> 1 | E43: =INDEX($A$39:$B$66,MATCH(ROW()-38,$D$39:$D$66,0),1) -> Santa Cruz de Tenerife | F43: =LOOKUP(E43,$A$39:$A$66,$B$39:$B$66) -> 613804 | G43: =LOOKUP(E43,$A$39:$A$66,$C$39:$C$66) -> 444591
