Workbook
Name CABECERA: Cruceros!$A$5:$F$6
Name CONCEPTO: 'Resumen general'!$A$6
Name LblRes00_Acum: 'Resumen general'!$F$6:$G$6
Name LblRes00_Mes: 'Resumen general'!$D$6:$E$6
Name LblRes00_Var: 'Resumen general'!$H$6:$I$6
Name LblRes01_1_Acum: 'Total presentación'!$D$5:$F$5
Name LblRes01_1_Mes: 'Total presentación'!$B$5:$C$5
Name LblRes01_Acum: 'Automóviles régimen mercancía'!$D$5:$F$5
Name LblRes01_Acum: 'Ro-Ro remolques'!$D$5:$F$5
Name LblRes01_Acum: 'Total tráfico'!$D$5:$F$5
Name LblRes01_Mes: 'Automóviles régimen mercancía'!$B$5:$C$5
Name LblRes01_Mes: 'Ro-Ro remolques'!$B$5:$C$5
Name LblRes01_Mes: 'Total tráfico'!$B$5:$C$5
Name LblRes02_Acum: Líquidos!$D$5:$F$5
Name LblRes02_Mes: Líquidos!$B$5:$C$5
Name LblRes03_Acum: Sólidos!$D$5:$F$5
Name LblRes03_Mes: Sólidos!$B$5:$C$5
Name LblRes04_Acum: 'Mercancía general'!$D$5:$F$5
Name LblRes04_Mes: 'Mercancía general'!$B$5:$C$5
Name LblRes05_Acum: Pesca!$D$5:$F$5
Name LblRes05_Mes: Pesca!$B$5:$C$5
Name LblRes06_Acum: Avituallamiento!$D$5:$F$5
Name LblRes06_Mes: Avituallamiento!$B$5:$C$5
Name LblRes07_1_Acum: 'Mercan. contene. tránsito'!$D$5:$F$5
Name LblRes07_1_Mes: 'Mercan. contene. tránsito'!$B$5:$C$5
Name LblRes07_Acum: 'Mercancías tránsito'!$D$5:$F$5
Name LblRes07_Mes: 'Mercancías tránsito'!$B$5:$C$5
Name LblRes08_Acum: 'Mercancías contenedores'!$D$5:$F$5
Name LblRes08_Mes: 'Mercancías contenedores'!$B$5:$C$5
Name LblRes09_Acum: 'Ro-Ro'!$D$5:$F$5
Name LblRes09_Mes: 'Ro-Ro'!$B$5:$C$5
Name LblRes10_1_Acum: 'TEUS tránsito'!$D$5:$F$5
Name LblRes10_1_Mes: 'TEUS tránsito'!$B$5:$C$5
Name LblRes10_2_Acum: 'TEUS nacional'!$D$5:$F$5
Name LblRes10_2_Mes: 'TEUS nacional'!$B$5:$C$5
Name LblRes10_3_Acum: 'TEUS exterior'!$D$5:$F$5
Name LblRes10_3_Mes: 'TEUS exterior'!$B$5:$C$5
Name LblRes10_4_Acum: 'TEUS nacional y exterior'!$D$5:$F$5
Name LblRes10_4_Mes: 'TEUS nacional y exterior'!$B$5:$C$5
Name LblRes10_Acum: TEUS!$D$5:$F$5
Name LblRes10_Mes: TEUS!$B$5:$C$5
Name LblRes11_1_Acum: 'Pasajeros crucero'!$D$5:$F$5
Name LblRes11_1_Mes: 'Pasajeros crucero'!$B$5:$C$5
Name LblRes11_2_Acum: 'Automóviles régimen pasaje'!$D$5:$F$5
Name LblRes11_2_Mes: 'Automóviles régimen pasaje'!$B$5:$C$5
Name LblRes11_Acum: 'Pasajeros total'!$D$5:$F$5
Name LblRes11_Mes: 'Pasajeros total'!$B$5:$C$5
Name LblRes12_1_Acum: 'Buques número'!$D$5:$F$5
Name LblRes12_1_Mes: 'Buques número'!$B$5:$C$5
Name LblRes12_2_Acum: 'Buques GT'!$D$5:$F$5
Name LblRes12_2_Mes: 'Buques GT'!$B$5:$C$5
Name LblRes12_3_Acum: Cruceros!$D$5:$F$5
Name LblRes12_3_Mes: Cruceros!$B$5:$C$5
Name PROVINCIAS: Cruceros!$A$5:$A$35
Name TxtFecha: Cruceros!$L$5

Sheet Portada
I1: Dirección de Planificación y Desarrollo
I2: Departamento de Estadística
G15: RESUMEN GENERAL DEL TRÁFICO PORTUARIO*
G16: Diciembre 2022
K29: * DATOS DE CIERRE DEFINITIVOS

Sheet Indice
F5: ÍNDICE
B7: ="0." -> 0. | C7: RESUMEN GENERAL DEL TRÁFICO PORTUARIO
B8: ="1." -> 1. | C8: TRÁFICO PORTUARIO
B9: 1.1. | C9: MERCANCÍAS SEGÚN SU FORMA DE PRESENTACIÓN
B10: ="2." -> 2. | C10: GRANELES LÍQUIDOS
B11: ="3." -> 3. | C11: GRANELES SÓLIDOS
B12: ="4." -> 4. | C12: MERCANCÍA GENERAL
B13: 4.1. | C13: MERCANCÍAS EN CONTENEDORES
B14: ="5." -> 5. | C14: PESCA
B15: ="6." -> 6. | C15: AVITUALLAMIENTO
B16: 6.1. | C16: AVITUALLAMIENTO COMBUSTIBLES LÍQUIDOS
B17: ="7." -> 7. | C17: TRÁFICO INTERIOR
B18: ="8." -> 8. | C18: MERCANCÍAS EN TRÁNSITO
B19: 8.1. | C19: MERCANCÍAS EN CONTENEDORES EN TRÁNSITO
B20: ="9." -> 9. | C20: TRÁFICO RO-RO
B21: 9.1. | C21: TRÁFICO RO-RO DE REMOLQUES, SEMIRREMOLQUES Y PLATAFORMAS (unidades)
B22: ="10." -> 10. | C22: CONTENEDORES (TEUS)
B23: 10.1. | C23: CONTENEDORES EN TRÁNSITO (TEUS)
B24: 10.2. | C24: CONTENEDORES ENTRADAS-SALIDAS NACIONAL (TEUS)
B25: 10.3. | C25: CONTENEDORES IMPORTACIÓN-EXPORTACIÓN EXTERIOR (TEUS)
B26: 10.4. | C26: CONTENEDORES NACIONAL Y EXTERIOR (TEUS)
B27: ="11." -> 11. | C27: PASAJEROS EN RÉGIMEN DE TRANSPORTE Y DE CRUCERO (número)
B28: 11.1. | C28: PASAJEROS DE CRUCERO (número)
B29: 12.1. | C29: AUTOMÓVILES EN REGIMEN DE PASAJE (unidades)
B30: 12.2. | C30: TURISMOS, AUTOBUSES Y CAMIONES EN REGIMEN DE MERCANCÍA (unidades)
B31: ="13." -> 13. | C31: BUQUES MERCANTES (unidades)
B32: 13.1. | C32: BUQUES MERCANTES (unidades de arqueo bruto)
B33: 13.2. | C33: CRUCEROS (unidades)

Sheet Resumen general
D1: 00. RESUMEN GENERAL DEL TRÁFICO PORTUARIO
I4: Fecha: 27/01/2023
A6: CONCEPTO | D6: Mes diciembre | F6: Acumulado desde enero | H6: Variación
D7: 2021 | E7: 2022 | F7: 2021 | G7: 2022 | H7: Diferencia | I7: %
A8: MERCANCÍAS SEGÚN SU PRESENTACIÓN | B8: GRANELES | C8: LÍQUIDOS | D8: =Líquidos!B35 -> 14827296 | E8: =Líquidos!C35 -> 16919313 | F8: =Líquidos!D35 -> 170857145 | G8: =Líquidos!E35 -> 181703616 | H8: =G8-F8 -> 10846471 | I8: =((G8*100/F8)-100) -> 6.3482689
C9: SÓLIDOS | D9: =Sólidos!B35 -> 7356730 | E9: =Sólidos!C35 -> 8309824 | F9: =Sólidos!D35 -> 84980689 | G9: =Sólidos!E35 -> 93984728 | H9: =G9-F9 -> 9004039.4 | I9: =((G9*100/F9)-100) -> 10.595395
B10: MERCANCÍA GRAL. | C10: CONVENCIONAL | D10: =D12-D11 -> 6679384 | E10: =E12-E11 -> 6648864 | F10: =F12-F11 -> 77948202 | G10: =G12-G11 -> 82954951 | H10: =G10-F10 -> 5006749 | I10: =((G10*100/F10)-100) -> 6.4231745
C11: EN CONTENEDORES | D11: ='Mercancías contenedores'!B35 -> 16422542 | E11: ='Mercancías contenedores'!C35 -> 14397225 | F11: ='Mercancías contenedores'!D35 -> 198282966 | G11: ='Mercancías contenedores'!E35 -> 187548002 | H11: =G11-F11 -> -10734964 | I11: =((G11*100/F11)-100) -> -5.4139618
C12: TOTAL | D12: ='Mercancía general'!B35 -> 23101926 | E12: ='Mercancía general'!C35 -> 21046089 | F12: ='Mercancía general'!D35 -> 276231168 | G12: ='Mercancía general'!E35 -> 270502953 | H12: =G12-F12 -> -5728215 | I12: =((G12*100/F12)-100) -> -2.0737034
C13: TOTAL | D13: =+D8+D9+D12 -> 45285952 | E13: =+E8+E9+E12 -> 46275226 | F13: =+F8+F9+F12 -> 5.32069e+08 | G13: =+G8+G9+G12 -> 546191297 | H13: =G13-F13 -> 14122295 | I13: =((G13*100/F13)-100) -> 2.6542225
A14: OTRAS MERCANCÍAS | B14: PESCA | C14: TOTAL PESCA | D14: =Pesca!B35 -> 8712 | E14: =Pesca!C35 -> 9755 | F14: =Pesca!D35 -> 162962 | G14: =Pesca!E35 -> 147501 | H14: =G14-F14 -> -15461 | I14: =((G14*100/F14)-100) -> -9.4874879
B15: AVITUALLAMIENTO | C15: COMBUSTIBLES LÍQUIDOS | D15: ='Avi. combustibles'!B35 -> 769947 | E15: ='Avi. combustibles'!C35 -> 750459 | F15: ='Avi. combustibles'!D35 -> 8132367 | G15: ='Avi. combustibles'!E35 -> 9809062 | H15: =G15-F15 -> 1676695 | I15: =((G15*100/F15)-100) -> 20.617552
C16: OTROS | D16: =Avituallamiento!B35-'Resumen general'!D15 -> 151990 | E16: =Avituallamiento!C35-'Resumen general'!E15 -> 155303 | F16: =Avituallamiento!D35-'Resumen general'!F15 -> 1373621 | G16: =Avituallamiento!E35-'Resumen general'!G15 -> 1770950 | H16: =G16-F16 -> 397329 | I16: =((G16*100/F16)-100) -> 28.925664
B17: TRAFICO INTERIOR | C17: TOTAL TRAFICO INTERIOR | D17: ='Tráfico interior'!B35 -> 303068 | E17: ='Tráfico interior'!C35 -> 275190 | F17: ='Tráfico interior'!D35 -> 2681785 | G17: ='Tráfico interior'!E35 -> 3818316 | H17: =G17-F17 -> 1136531 | I17: =((G17*100/F17)-100) -> 42.379646
C18: TOTAL | D18: =+D14+D15+D16+D17 -> 1233717 | E18: =+E14+E15+E16+E17 -> 1190707 | F18: =+F14+F15+F16+F17 -> 12350735 | G18: =+G14+G15+G16+G17 -> 15545829 | H18: =G18-F18 -> 3195094 | I18: =((G18*100/F18)-100) -> 25.869667
C19: TOTAL TRÁFICO PORTUARIO (*) | D19: =+D13+D18 -> 46519669 | E19: =+E13+E18 -> 47465933 | F19: =+F13+F18 -> 5.4441974e+08 | G19: =+G13+G18 -> 561737126 | H19: =G19-F19 -> 17317389 | I19: =((G19*100/F19)-100) -> 3.1808893
A21: OTRAS INFORMACIONES | B21: MERCANCÍAS | C21: EN TRÁNSITO | D21: ='Mercancías tránsito'!B35 -> 12188800 | E21: ='Mercancías tránsito'!C35 -> 12263288 | F21: ='Mercancías tránsito'!D35 -> 150220169 | G21: ='Mercancías tránsito'!E35 -> 147413351 | H21: =G21-F21 -> -2806818 | I21: =((G21*100/F21)-100) -> -1.8684695
C22: EN CONTENEDORES EN TRÁNSITO | D22: ='Mercan. contene. tránsito'!B35 -> 9828584 | E22: ='Mercan. contene. tránsito'!C35 -> 8419471 | F22: ='Mercan. contene. tránsito'!D35 -> 118858394 | G22: ='Mercan. contene. tránsito'!E35 -> 110836651 | H22: =G22-F22 -> -8021743 | I22: =((G22*100/F22)-100) -> -6.7489916
B23: TRÁFICO RO-RO | C23: TOTAL TRÁFICO RO-RO | D23: ='Ro-Ro'!B35 -> 5577079 | E23: ='Ro-Ro'!C35 -> 5373733 | F23: ='Ro-Ro'!D35 -> 65293057 | G23: ='Ro-Ro'!E35 -> 70906005 | H23: =G23-F23 -> 5612948 | I23: =((G23*100/F23)-100) -> 8.5965465
C24: REMOLQUES, SEMIRR. Y PLATAF. (uds.) | D24: ='Ro-Ro remolques'!B35 -> 102664 | E24: ='Ro-Ro remolques'!C35 -> 109793 | F24: ='Ro-Ro remolques'!D35 -> 1189083 | G24: ='Ro-Ro remolques'!E35 -> 1304088 | H24: =G24-F24 -> 115005 | I24: =((G24*100/F24)-100) -> 9.6717386
B25: CONTENEDORES | C25: TOTAL CONTENEDORES (TEUS) | D25: =TEUS!B35 -> 1479592 | E25: =TEUS!C35 -> 1330478 | F25: =TEUS!D35 -> 17735438 | G25: =TEUS!E35 -> 17149426 | H25: =G25-F25 -> -586012 | I25: =((G25*100/F25)-100) -> -3.3041868
C26: EN TRÁNSITO (TEUS) | D26: ='TEUS tránsito'!B35 -> 781747 | E26: ='TEUS tránsito'!C35 -> 665608 | F26: ='TEUS tránsito'!D35 -> 9414175 | G26: ='TEUS tránsito'!E35 -> 8826044 | H26: =G26-F26 -> -588131 | I26: =((G26*100/F26)-100) -> -6.247292
C27: ENTRADAS-SALIDAS NACIONAL (TEUS) | D27: ='TEUS nacional'!B35 -> 180407 | E27: ='TEUS nacional'!C35 -> 171315 | F27: ='TEUS nacional'!D35 -> 2010187 | G27: ='TEUS nacional'!E35 -> 2097292 | H27: =G27-F27 -> 87105 | I27: =((G27*100/F27)-100) -> 4.333179
C28: IMPORT-EXPORT EXTERIOR (TEUS) | D28: ='TEUS exterior'!B35 -> 517439 | E28: ='TEUS exterior'!C35 -> 493555 | F28: ='TEUS exterior'!D35 -> 6311076 | G28: ='TEUS exterior'!E35 -> 6226090 | H28: =G28-F28 -> -84986 | I28: =((G28*100/F28)-100) -> -1.3466166
C29: NACIONAL Y EXTERIOR (TEUS) | D29: ='TEUS nacional y exterior'!B35 -> 697846 | E29: ='TEUS nacional y exterior'!C35 -> 664871 | F29: ='TEUS nacional y exterior'!D35 -> 8321263 | G29: ='TEUS nacional y exterior'!E35 -> 8323382 | H29: =G29-F29 -> 2119 | I29: =((G29*100/F29)-100) -> 0.025464884
B30: PASAJEROS | C30: REG. TRANSPORTE Y DE CRUCERO (nº) | D30: ='Pasajeros total'!B35 -> 1654580 | E30: ='Pasajeros total'!C35 -> 2266274 | F30: ='Pasajeros total'!D35 -> 17981420 | G30: ='Pasajeros total'!E35 -> 32992383 | H30: =G30-F30 -> 15010963 | I30: =((G30*100/F30)-100) -> 83.480409
C31: DE CRUCERO (nº) | D31: ='Pasajeros crucero'!B35 -> 324749 | E31: ='Pasajeros crucero'!C35 -> 671197 | F31: ='Pasajeros crucero'!D35 -> 2219083 | G31: ='Pasajeros crucero'!E35 -> 8179659 | H31: =G31-F31 -> 5960576 | I31: =((G31*100/F31)-100) -> 268.60537
B32: AUTOMÓVILES | C32: EN RÉGIMEN DE PASAJE (uds) | D32: ='Automóviles régimen pasaje'!B35 -> 374361 | E32: ='Automóviles régimen pasaje'!C35 -> 447247 | F32: ='Automóviles régimen pasaje'!D35 -> 4066713 | G32: ='Automóviles régimen pasaje'!E35 -> 6249199 | H32: =G32-F32 -> 2182486 | I32: =((G32*100/F32)-100) -> 53.667077
C33: EN RÉGIMEN DE MERCANCÍA (**) | D33: ='Automóviles régimen mercancía'!B35 -> 191575 | E33: ='Automóviles régimen mercancía'!C35 -> 322933 | F33: ='Automóviles régimen mercancía'!D35 -> 2416471.8 | G33: ='Automóviles régimen mercancía'!E35 -> 2702015 | H33: =G33-F33 -> 285543.21 | I33: =((G33*100/F33)-100) -> 11.816534
B34: BUQUES MERCANTES | C34: TOTAL BUQUES MERCANTES (uds) | D34: ='Buques número'!B35 -> 11160 | E34: ='Buques número'!C35 -> 12087 | F34: ='Buques número'!D35 -> 138889 | G34: ='Buques número'!E35 -> 157099 | H34: =G34-F34 -> 18210 | I34: =((G34*100/F34)-100) -> 13.11119
C35: UDS. ARQUEO BRUTO (G.T.) | D35: ='Buques GT'!B35 -> 182864364 | E35: ='Buques GT'!C35 -> 207024578 | F35: ='Buques GT'!D35 -> 2.0011887e+09 | G35: ='Buques GT'!E35 -> 2.4895083e+09 | H35: =G35-F35 -> 4.8831962e+08 | I35: =((G35*100/F35)-100) -> 24.401478
C36: CRUCEROS (uds) | D36: =Cruceros!B35 -> 305 | E36: =Cruceros!C35 -> 308 | F36: =Cruceros!D35 -> 2104 | G36: =Cruceros!E35 -> 4528 | H36: =G36-F36 -> 2424 | I36: =((G36*100/F36)-100) -> 115.20913
A37: (*) Incluye cargas, descargas, tránsitos y transbordos.
A38: (**) Solo turismos, autobuses y camiones

Sheet Total tráfico
F1: 1. TRÁFICO PORTUARIO (toneladas)
A5: Autoridad Portuaria | B5: ='Resumen general'!D6 -> Mes diciembre | D5: ='Resumen general'!F6 -> Acumulado desde enero | L5: ='Resumen general'!I4 -> Fecha: 27/01/2023
B6: ='Resumen general'!D7 -> 2021 | C6: ='Resumen general'!E7 -> 2022 | D6: ='Resumen general'!F7 -> 2021 | E6: ='Resumen general'!G7 -> 2022 | F6: Var. (%)
A7: A Coruña | B7: 1309537 | C7: 1581254 | D7: 11878047 | E7: 14919254 | F7: =((E7*100)/D7)-100 -> 25.603595
A8: Alicante | B8: 302197 | C8: 272099 | D8: 2647482 | E8: 3236786 | F8: =((E8*100)/D8)-100 -> 22.259037
A9: Almería | B9: 480109 | C9: 522749 | D9: 5829008 | E9: 5584287 | F9: =((E9*100)/D9)-100 -> -4.1983301
A10: Avilés | B10: 422082 | C10: 337273 | D10: 4705107 | E10: 4513490 | F10: =((E10*100)/D10)-100 -> -4.0725323
A11: Bahía de Algeciras | B11: 8963107 | C11: 9253301 | D11: 105075781 | E11: 107242746 | F11: =((E11*100)/D11)-100 -> 2.0622878
A12: Bahía de Cádiz | B12: 525729 | C12: 478906 | D12: 4943054 | E12: 5720441 | F12: =((E12*100)/D12)-100 -> 15.726856
A13: Baleares | B13: 1157473 | C13: 1098900 | D13: 13772748 | E13: 15517512 | F13: =((E13*100)/D13)-100 -> 12.668234
A14: Barcelona | B14: 5592453 | C14: 5978071 | D14: 66410581 | E14: 70904625 | F14: =((E14*100)/D14)-100 -> 6.7670602
A15: Bilbao | B15: 2628819 | C15: 3093790 | D15: 31298985 | E15: 32889220 | F15: =((E15*100)/D15)-100 -> 5.0807878
A16: Cartagena | B16: 2793139 | C16: 2944104 | D16: 31213499 | E16: 36588349 | F16: =((E16*100)/D16)-100 -> 17.219633
A17: Castellón | B17: 1704754 | C17: 1460664 | D17: 21237328 | E17: 20942490 | F17: =((E17*100)/D17)-100 -> -1.3883008
A18: Ceuta | B18: 141708 | C18: 176022 | D18: 1573105 | E18: 1939930 | F18: =((E18*100)/D18)-100 -> 23.318532
... A34: Vilagarcía | B34: 128667 | C34: 96872 | D34: 1511369 | E34: 1498073 | F34: =((E34*100)/D34)-100 -> -0.87973222
A35: Total | B35: =SUM(B7:B34) -> 46519669 | C35: =SUM(C7:C34) -> 47465933 | D35: =SUM(D7:D34) -> 5.4441974e+08 | E35: =SUM(E7:E34) -> 561737126 | F35: =((E35*100)/D35)-100 -> 3.1808893
A36: Incluye cargas, descargas, tránsitos y transbordos.
B38: =E6 -> 2022 | C38: =D6 -> 2021 | F38: =B38 -> 2022 | G38: =C38 -> 2021
A39: =A7 -> A Coruña | B39: =E7 -> 14919254 | C39: =D7 -> 11878047 | D39: =_xlfn.RANK.EQ(B39,$B$39:$B$66)+COUNTIF($B$39:$B$66,B39)-1 -> 12 | E39: =INDEX($A$39:$B$66,MATCH(ROW()-38,$D$39:$D$66,0),1) -> Bahía de Algeciras | F39: =LOOKUP(E39,$A$39:$A$66,$B$39:$B$66) -> 107242746 | G39: =LOOKUP(E39,$A$39:$A$66,$C$39:$C$66) -> 105075781
A40: =A8 -> Alicante | B40: =E8 -> 3236786 | C40: =D8 -> 2647482 | D40: =_xlfn.RANK.EQ(B40,$B$39:$B$66)+COUNTIF($B$39:$B$66,B40)-1 -> 23 | E40: =INDEX($A$39:$B$66,MATCH(ROW()-38,$D$39:$D$66,0),1) -> Valencia | F40: =LOOKUP(E40,$A$39:$A$66,$B$39:$B$66) -> 79365729 | G40: =LOOKUP(E40,$A$39:$A$66,$C$39:$C$66) -> 85269726
A41: =A9 -> Almería | B41: =E9 -> 5584287 | C41: =D9 -> 5829008 | D41: =_xlfn.RANK.EQ(B41,$B$39:$B$66)+COUNTIF($B$39:$B$66,B41)-1 -> 17 | E41: =INDEX($A$39:$B$66,MATCH(ROW()-38,$D$39:$D$66,0),1) -> Barcelona | F41: =LOOKUP(E41,$A$39:$A$66,$B$39:$B$66) -> 70904625 | G41: =LOOKUP(E41,$A$39:$A$66,$C$39:$C$66) -> 66410581
A42: =A10 -> Avilés | B42: =E10 -> 4513490 | C42: =D10 -> 4705107 | D42: =_xlfn.RANK.EQ(B42,$B$39:$B$66)+COUNTIF($B$39:$B$66,B42)-1 -> 19 | E42: =INDEX($A$39:$B$66,MATCH(ROW()-38,$D$39:$D$66,0),1) -> Cartagena | F42: =LOOKUP(E42,$A$39:$A$66,$B$39:$B$66) -> 36588349 | G42: =LOOKUP(E42,$A$39:$A$66,$C$39:$C$66) -> 31213499
A43: =A11 -> Bahía de Algeciras | B43: =E11 -> 107242746 | C43: =D11 -> 105075781 | D43: =_xlfn.RANK.EQ(B43,$B$39:$B$66)+COUNTIF($B$39:$B$66,B43)-1 -> 1 | E43: =INDEX($A$39:$B$66,MATCH(ROW()-38,$D$39:$D$66,0),1) -> Bilbao | F43: =LOOKUP(E43,$A$39:$A$66,$B$39:$B$66) -> 32889220 | G43: =LOOKUP(E43,$A$39:$A$66,$C$39:$C$66) -> 31298985
A44: =A12 -> Bahía de Cádiz | B44: =E12 -> 5720441 | C44: =D12 -> 4943054 | D44: =_xlfn.RANK.EQ(B44,$B$39:$B$66)+COUNTIF($B$39:$B$66,B44)-1 -> 16 | E44: =INDEX($A$39:$B$66,MATCH(ROW()-38,$D$39:$D$66,0),1) -> Huelva | F44: =LOOKUP(E44,$A$39:$A$66,$B$39:$B$66) -> 32145663 | G44: =LOOKUP(E44,$A$39:$A$66,$C$39:$C$66) -> 30685994
A45: =A13 -> Baleares | B45: =E13 -> 15517512 | C45: =D13 -> 13772748 | D45: =_xlfn.RANK.EQ(B45,$B$39:$B$66)+COUNTIF($B$39:$B$66,B45)-1 -> 11 | E45: =INDEX($A$39:$B$66,MATCH(ROW()-38,$D$39:$D$66,0),1) -> Tarragona | F45: =LOOKUP(E45,$A$39:$A$66,$B$39:$B$66) -> 29694582 | G45: =LOOKUP(E45,$A$39:$A$66,$C$39:$C$66) -> 31275930
A46: =A14 -> Barcelona | B46: =E14 -> 70904625 | C46: =D14 -> 66410581 | D46: =_xlfn.RANK.EQ(B46,$B$39:$B$66)+COUNTIF($B$39:$B$66,B46)-1 -> 3 | E46: =INDEX($A$39:$B$66,MATCH(ROW()-38,$D$39:$D$66,0),1) -> Las Palmas | F46: =LOOKUP(E46,$A$39:$A$66,$B$39:$B$66) -> 28291634 | G46: =LOOKUP(E46,$A$39:$A$66,$C$39:$C$66) -> 28208603
A47: =A15 -> Bilbao | B47: =E15 -> 32889220 | C47: =D15 -> 31298985 | D47: =_xlfn.RANK.EQ(B47,$B$39:$B$66)+COUNTIF($B$39:$B$66,B47)-1 -> 5 | E47: =INDEX($A$39:$B$66,MATCH(ROW()-38,$D$39:$D$66,0),1) -> Castellón | F47: =LOOKUP(E47,$A$39:$A$66,$B$39:$B$66) -> 20942490 | G47: =LOOKUP(E47,$A$39:$A$66,$C$39:$C$66) -> 21237328
A48: =A16 -> Cartagena | B48: =E16 -> 36588349 | C48: =D16 -> 31213499 | D48: =_xlfn.RANK.EQ(B48,$B$39:$B$66)+COUNTIF($B$39:$B$66,B48)-1 -> 4 | E48: =INDEX($A$39:$B$66,MATCH(ROW()-38,$D$39:$D$66,0),1) -> Gijón | F48: =LOOKUP(E48,$A$39:$A$66,$B$39:$B$66) -> 19100142 | G48: =LOOKUP(E48,$A$39:$A$66,$C$39:$C$66) -> 16668339
A49: =A17 -> Castellón | B49: =E17 -> 20942490 | C49: =D17 -> 21237328 | D49: =_xlfn.RANK.EQ(B49,$B$39:$B$66)+COUNTIF($B$39:$B$66,B49)-1 -> 9 | E49: =INDEX($A$39:$B$66,MATCH(ROW()-38,$D$39:$D$66,0),1) -> Baleares | F49: =LOOKUP(E49,$A$39:$A$66,$B$39:$B$66) -> 15517512 | G49: =LOOKUP(E49,$A$39:$A$66,$C$39:$C$66) -> 13772748
A50: =A18 -> Ceuta | B50: =E18 -> 1939930 | C50: =D18 -> 1573105 | D50: =_xlfn.RANK.EQ(B50,$B$39:$B$66)+COUNTIF($B$39:$B$66,B50)-1 -> 26 | E50: =INDEX($A$39:$B$66,MATCH(ROW()-38,$D$39:$D$66,0),1) -> A Coruña | F50: =LOOKUP(E50,$A$39:$A$66,$B$39:$B$66) -> 14919254 | G50: =LOOKUP(E50,$A$39:$A$66,$C$39:$C$66) -> 11878047
... A66: =A34 -> Vilagarcía | B66: =E34 -> 1498073 | C66: =D34 -> 1511369 | D66: =_xlfn.RANK.EQ(B66,$B$39:$B$66)+COUNTIF($B$39:$B$66,B66)-1 -> 27 | E66: =INDEX($A$39:$B$66,MATCH(ROW()-38,$D$39:$D$66,0),1) -> Melilla | F66: =LOOKUP(E66,$A$39:$A$66,$B$39:$B$66) -> 577251 | G66: =LOOKUP(E66,$A$39:$A$66,$C$39:$C$66) -> 601613

Sheet Total presentación
F1: 1.1. MERCANCÍAS SEGÚN SU FORMA DE PRESENTACIÓN
I2: (toneladas)
A5: Autoridad Portuaria | B5: ='Resumen general'!D6 -> Mes diciembre | D5: ='Resumen general'!F6 -> Acumulado desde enero | L5: ='Resumen general'!I4 -> Fecha: 27/01/2023
B6: ='Resumen general'!D7 -> 2021 | C6: ='Resumen general'!E7 -> 2022 | D6: ='Resumen general'!F7 -> 2021 | E6: ='Resumen general'!G7 -> 2022 | F6: Var. (%)
A7: A Coruña | B7: 1281584 | C7: 1557105 | D7: 11783425 | E7: 14817375 | F7: =((E7*100)/D7)-100 -> 25.747607
A8: Alicante | B8: 300381 | C8: 270557 | D8: 2634274 | E8: 3213965 | F8: =((E8*100)/D8)-100 -> 22.005722
A9: Almería | B9: 475455 | C9: 516457 | D9: 5780252 | E9: 5501563 | F9: =((E9*100)/D9)-100 -> -4.8213988
A10: Avilés | B10: 417514 | C10: 332971 | D10: 4619678 | E10: 4443664 | F10: =((E10*100)/D10)-100 -> -3.8100924
A11: Bahía de Algeciras | B11: 8356261 | C11: 8693450 | D11: 99377930 | E11: 99711046 | F11: =((E11*100)/D11)-100 -> 0.33520119
A12: Bahía de Cádiz | B12: 518005 | C12: 474974 | D12: 4826995 | E12: 5556409 | F12: =((E12*100)/D12)-100 -> 15.111141
A13: Baleares | B13: 1153665 | C13: 1094648 | D13: 13727359 | E13: 15429552 | F13: =((E13*100)/D13)-100 -> 12.400004
A14: Barcelona | B14: 5489900 | C14: 5866694 | D14: 64973291 | E14: 69078916 | F14: =((E14*100)/D14)-100 -> 6.3189427
A15: Bilbao | B15: 2620711 | C15: 3083513 | D15: 31182511 | E15: 32766593 | F15: =((E15*100)/D15)-100 -> 5.0800335
A16: Cartagena | B16: 2775313 | C16: 2934934 | D16: 31035919 | E16: 36383593 | F16: =((E16*100)/D16)-100 -> 17.230597
A17: Castellón | B17: 1702634 | C17: 1458181 | D17: 21202092 | E17: 20907494 | F17: =((E17*100)/D17)-100 -> -1.3894761
A18: Ceuta | B18: 83544 | C18: 118615 | D18: 1094162 | E18: 1256875 | F18: =((E18*100)/D18)-100 -> 14.871015
... A34: Vilagarcía | B34: 127918 | C34: 96346 | D34: 1503591 | E34: 1490296 | F34: =((E34*100)/D34)-100 -> -0.88421652
A35: Total | B35: =SUM(B7:B34) -> 45285952 | C35: =SUM(C7:C34) -> 46275226 | D35: =SUM(D7:D34) -> 5.32069e+08 | E35: =SUM(E7:E34) -> 546191297 | F35: =((E35*100)/D35)-100 -> 2.6542225
A36: Incluye cargas, descargas, tránsitos y transbordos.
B38: =E6 -> 2022 | C38: =D6 -> 2021 | F38: =B38 -> 2022 | G38: =C38 -> 2021
A39: =A7 -> A Coruña | B39: =E7 -> 14817375 | C39: =D7 -> 11783425 | D39: =_xlfn.RANK.EQ(B39,$B$39:$B$66)+COUNTIF($B$39:$B$66,B39)-1 -> 12 | E39: =INDEX($A$39:$B$66,MATCH(ROW()-38,$D$39:$D$66,0),1) -> Bahía de Algeciras | F39: =LOOKUP(E39,$A$39:$A$66,$B$39:$B$66) -> 99711046 | G39: =LOOKUP(E39,$A$39:$A$66,$C$39:$C$66) -> 99377930
A40: =A8 -> Alicante | B40: =E8 -> 3213965 | C40: =D8 -> 2634274 | D40: =_xlfn.RANK.EQ(B40,$B$39:$B$66)+COUNTIF($B$39:$B$66,B40)-1 -> 23 | E40: =INDEX($A$39:$B$66,MATCH(ROW()-38,$D$39:$D$66,0),1) -> Valencia | F40: =LOOKUP(E40,$A$39:$A$66,$B$39:$B$66) -> 78962958 | G40: =LOOKUP(E40,$A$39:$A$66,$C$39:$C$66) -> 84850755
A41: =A9 -> Almería | B41: =E9 -> 5501563 | C41: =D9 -> 5780252 | D41: =_xlfn.RANK.EQ(B41,$B$39:$B$66)+COUNTIF($B$39:$B$66,B41)-1 -> 17 | E41: =INDEX($A$39:$B$66,MATCH(ROW()-38,$D$39:$D$66,0),1) -> Barcelona | F41: =LOOKUP(E41,$A$39:$A$66,$B$39:$B$66) -> 69078916 | G41: =LOOKUP(E41,$A$39:$A$66,$C$39:$C$66) -> 64973291
A42: =A10 -> Avilés | B42: =E10 -> 4443664 | C42: =D10 -> 4619678 | D42: =_xlfn.RANK.EQ(B42,$B$39:$B$66)+COUNTIF($B$39:$B$66,B42)-1 -> 19 | E42: =INDEX($A$39:$B$66,MATCH(ROW()-38,$D$39:$D$66,0),1) -> Cartagena | F42: =LOOKUP(E42,$A$39:$A$66,$B$39:$B$66) -> 36383593 | G42: =LOOKUP(E42,$A$39:$A$66,$C$39:$C$66) -> 31035919
A43: =A11 -> Bahía de Algeciras | B43: =E11 -> 99711046 | C43: =D11 -> 99377930 | D43: =_xlfn.RANK.EQ(B43,$B$39:$B$66)+COUNTIF($B$39:$B$66,B43)-1 -> 1 | E43: =INDEX($A$39:$B$66,MATCH(ROW()-38,$D$39:$D$66,0),1) -> Bilbao | F43: =LOOKUP(E43,$A$39:$A$66,$B$39:$B$66) -> 32766593 | G43: =LOOKUP(E43,$A$39:$A$66,$C$39:$C$66) -> 31182511
A44: =A12 -> Bahía de Cádiz | B44: =E12 -> 5556409 | C44: =D12 -> 4826995 | D44: =_xlfn.RANK.EQ(B44,$B$39:$B$66)+COUNTIF($B$39:$B$66,B44)-1 -> 16 | E44: =INDEX($A$39:$B$66,MATCH(ROW()-38,$D$39:$D$66,0),1) -> Huelva | F44: =LOOKUP(E44,$A$39:$A$66,$B$39:$B$66) -> 31879539 | G44: =LOOKUP(E44,$A$39:$A$66,$C$39:$C$66) -> 30401726
A45: =A13 -> Baleares | B45: =E13 -> 15429552 | C45: =D13 -> 13727359 | D45: =_xlfn.RANK.EQ(B45,$B$39:$B$66)+COUNTIF($B$39:$B$66,B45)-1 -> 11 | E45: =INDEX($A$39:$B$66,MATCH(ROW()-38,$D$39:$D$66,0),1) -> Tarragona | F45: =LOOKUP(E45,$A$39:$A$66,$B$39:$B$66) -> 29385996 | G45: =LOOKUP(E45,$A$39:$A$66,$C$39:$C$66) -> 31168041
A46: =A14 -> Barcelona | B46: =E14 -> 69078916 | C46: =D14 -> 64973291 | D46: =_xlfn.RANK.EQ(B46,$B$39:$B$66)+COUNTIF($B$39:$B$66,B46)-1 -> 3 | E46: =INDEX($A$39:$B$66,MATCH(ROW()-38,$D$39:$D$66,0),1) -> Las Palmas | F46: =LOOKUP(E46,$A$39:$A$66,$B$39:$B$66) -> 25750980 | G46: =LOOKUP(E46,$A$39:$A$66,$C$39:$C$66) -> 25929254
A47: =A15 -> Bilbao | B47: =E15 -> 32766593 | C47: =D15 -> 31182511 | D47: =_xlfn.RANK.EQ(B47,$B$39:$B$66)+COUNTIF($B$39:$B$66,B47)-1 -> 5 | E47: =INDEX($A$39:$B$66,MATCH(ROW()-38,$D$39:$D$66,0),1) -> Castellón | F47: =LOOKUP(E47,$A$39:$A$66,$B$39:$B$66) -> 20907494 | G47: =LOOKUP(E47,$A$39:$A$66,$C$39:$C$66) -> 21202092
A48: =A16 -> Cartagena | B48: =E16 -> 36383593 | C48: =D16 -> 31035919 | D48: =_xlfn.RANK.EQ(B48,$B$39:$B$66)+COUNTIF($B$39:$B$66,B48)-1 -> 4 | E48: =INDEX($A$39:$B$66,MATCH(ROW()-38,$D$39:$D$66,0),1) -> Gijón | F48: =LOOKUP(E48,$A$39:$A$66,$B$39:$B$66) -> 19066179 | G48: =LOOKUP(E48,$A$39:$A$66,$C$39:$C$66) -> 16618684
A49: =A17 -> Castellón | B49: =E17 -> 20907494 | C49: =D17 -> 21202092 | D49: =_xlfn.RANK.EQ(B49,$B$39:$B$66)+COUNTIF($B$39:$B$66,B49)-1 -> 9 | E49: =INDEX($A$39:$B$66,MATCH(ROW()-38,$D$39:$D$66,0),1) -> Baleares | F49: =LOOKUP(E49,$A$39:$A$66,$B$39:$B$66) -> 15429552 | G49: =LOOKUP(E49,$A$39:$A$66,$C$39:$C$66) -> 13727359
A50: =A18 -> Ceuta | B50: =E18 -> 1256875 | C50: =D18 -> 1094162 | D50: =_xlfn.RANK.EQ(B50,$B$39:$B$66)+COUNTIF($B$39:$B$66,B50)-1 -> 27 | E50: =INDEX($A$39:$B$66,MATCH(ROW()-38,$D$39:$D$66,0),1) -> A Coruña | F50: =LOOKUP(E50,$A$39:$A$66,$B$39:$B$66) -> 14817375 | G50: =LOOKUP(E50,$A$39:$A$66,$C$39:$C$66) -> 11783425
... A66: =A34 -> Vilagarcía | B66: =E34 -> 1490296 | C66: =D34 -> 1503591 | D66: =_xlfn.RANK.EQ(B66,$B$39:$B$66)+COUNTIF($B$39:$B$66,B66)-1 -> 26 | E66: =INDEX($A$39:$B$66,MATCH(ROW()-38,$D$39:$D$66,0),1) -> Melilla | F66: =LOOKUP(E66,$A$39:$A$66,$B$39:$B$66) -> 572278 | G66: =LOOKUP(E66,$A$39:$A$66,$C$39:$C$66) -> 595430

Sheet Líquidos
F1: 2. GRANELES LÍQUIDOS (toneladas)
A5: Autoridad Portuaria | B5: ='Resumen general'!D6 -> Mes diciembre | D5: ='Resumen general'!F6 -> Acumulado desde enero | L5: ='Resumen general'!I4 -> Fecha: 27/01/2023
B6: ='Resumen general'!D7 -> 2021 | C6: ='Resumen general'!E7 -> 2022 | D6: ='Resumen general'!F7 -> 2021 | E6: ='Resumen general'!G7 -> 2022 | F6: Var. (%)
A7: A Coruña | B7: 884293 | C7: 802841 | D7: 7996655 | E7: 8528283 | F7: =((E7*100)/D7)-100 -> 6.6481297
A8: Alicante | B8: 3593 | C8: 0 | D8: 42237 | E8: 30422 | F8: =((E8*100)/D8)-100 -> -27.973104
A9: Almería | B9: 18511 | C9: 7824 | D9: 140628 | E9: 104484 | F9: =((E9*100)/D9)-100 -> -25.701852
A10: Avilés | B10: 52680 | C10: 74694 | D10: 601941 | E10: 651472 | F10: =((E10*100)/D10)-100 -> 8.2285473
A11: Bahía de Algeciras | B11: 2240445 | C11: 3003922 | D11: 28126069 | E11: 27286675 | F11: =((E11*100)/D11)-100 -> -2.9843986
A12: Bahía de Cádiz | B12: 127733 | C12: 136746 | D12: 1080865 | E12: 1472293 | F12: =((E12*100)/D12)-100 -> 36.214328
A13: Baleares | B13: 87879 | C13: 114581 | D13: 1114658 | E13: 1547982 | F13: =((E13*100)/D13)-100 -> 38.875063
A14: Barcelona | B14: 991816 | C14: 1684033 | D14: 12344965 | E14: 15504615 | F14: =((E14*100)/D14)-100 -> 25.594645
A15: Bilbao | B15: 1678452 | C15: 2125367 | D15: 17764532 | E15: 20452871 | F15: =((E15*100)/D15)-100 -> 15.133182
A16: Cartagena | B16: 2092111 | C16: 2168704 | D16: 24047180 | E16: 28011198 | F16: =((E16*100)/D16)-100 -> 16.484336
A17: Castellón | B17: 628842 | C17: 945407 | D17: 9912711 | E17: 10263666 | F17: =((E17*100)/D17)-100 -> 3.5404543
A18: Ceuta | B18: 34334 | C18: 78664 | D18: 479227 | E18: 681899 | F18: =((E18*100)/D18)-100 -> 42.29144
... A34: Vilagarcía | B34: 25282 | C34: 8804 | D34: 273548 | E34: 299566 | F34: =((E34*100)/D34)-100 -> 9.5113106
A35: Total | B35: =SUM(B7:B34) -> 14827296 | C35: =SUM(C7:C34) -> 16919313 | D35: =SUM(D7:D34) -> 170857145 | E35: =SUM(E7:E34) -> 181703616 | F35: =((E35*100)/D35)-100 -> 6.3482689
A36: Incluye cargas, descargas, tránsitos y transbordos.
B38: =E6 -> 2022 | C38: =D6 -> 2021 | F38: =B38 -> 2022 | G38: =C38 -> 2021
A39: =A7 -> A Coruña | B39: =E7 -> 8528283 | C39: =D7 -> 7996655 | D39: =_xlfn.RANK.EQ(B39,$B$39:$B$66)+COUNTIF($B$39:$B$66,B39)-1 -> 8 | E39: =INDEX($A$39:$B$66,MATCH(ROW()-38,$D$39:$D$66,0),1) -> Cartagena | F39: =LOOKUP(E39,$A$39:$A$66,$B$39:$B$66) -> 28011198 | G39: =LOOKUP(E39,$A$39:$A$66,$C$39:$C$66) -> 24047180
A40: =A8 -> Alicante | B40: =E8 -> 30422 | C40: =D8 -> 42237 | D40: =_xlfn.RANK.EQ(B40,$B$39:$B$66)+COUNTIF($B$39:$B$66,B40)-1 -> 26 | E40: =INDEX($A$39:$B$66,MATCH(ROW()-38,$D$39:$D$66,0),1) -> Bahía de Algeciras | F40: =LOOKUP(E40,$A$39:$A$66,$B$39:$B$66) -> 27286675 | G40: =LOOKUP(E40,$A$39:$A$66,$C$39:$C$66) -> 28126069
A41: =A9 -> Almería | B41: =E9 -> 104484 | C41: =D9 -> 140628 | D41: =_xlfn.RANK.EQ(B41,$B$39:$B$66)+COUNTIF($B$39:$B$66,B41)-1 -> 23 | E41: =INDEX($A$39:$B$66,MATCH(ROW()-38,$D$39:$D$66,0),1) -> Huelva | F41: =LOOKUP(E41,$A$39:$A$66,$B$39:$B$66) -> 24871239 | G41: =LOOKUP(E41,$A$39:$A$66,$C$39:$C$66) -> 24181628
A42: =A10 -> Avilés | B42: =E10 -> 651472 | C42: =D10 -> 601941 | D42: =_xlfn.RANK.EQ(B42,$B$39:$B$66)+COUNTIF($B$39:$B$66,B42)-1 -> 18 | E42: =INDEX($A$39:$B$66,MATCH(ROW()-38,$D$39:$D$66,0),1) -> Bilbao | F42: =LOOKUP(E42,$A$39:$A$66,$B$39:$B$66) -> 20452871 | G42: =LOOKUP(E42,$A$39:$A$66,$C$39:$C$66) -> 17764532
A43: =A11 -> Bahía de Algeciras | B43: =E11 -> 27286675 | C43: =D11 -> 28126069 | D43: =_xlfn.RANK.EQ(B43,$B$39:$B$66)+COUNTIF($B$39:$B$66,B43)-1 -> 2 | E43: =INDEX($A$39:$B$66,MATCH(ROW()-38,$D$39:$D$66,0),1) -> Tarragona | F43: =LOOKUP(E43,$A$39:$A$66,$B$39:$B$66) -> 17667571 | G43: =LOOKUP(E43,$A$39:$A$66,$C$39:$C$66) -> 21141198
A44: =A12 -> Bahía de Cádiz | B44: =E12 -> 1472293 | C44: =D12 -> 1080865 | D44: =_xlfn.RANK.EQ(B44,$B$39:$B$66)+COUNTIF($B$39:$B$66,B44)-1 -> 14 | E44: =INDEX($A$39:$B$66,MATCH(ROW()-38,$D$39:$D$66,0),1) -> Barcelona | F44: =LOOKUP(E44,$A$39:$A$66,$B$39:$B$66) -> 15504615 | G44: =LOOKUP(E44,$A$39:$A$66,$C$39:$C$66) -> 12344965
A45: =A13 -> Baleares | B45: =E13 -> 1547982 | C45: =D13 -> 1114658 | D45: =_xlfn.RANK.EQ(B45,$B$39:$B$66)+COUNTIF($B$39:$B$66,B45)-1 -> 13 | E45: =INDEX($A$39:$B$66,MATCH(ROW()-38,$D$39:$D$66,0),1) -> Castellón | F45: =LOOKUP(E45,$A$39:$A$66,$B$39:$B$66) -> 10263666 | G45: =LOOKUP(E45,$A$39:$A$66,$C$39:$C$66) -> 9912711
A46: =A14 -> Barcelona | B46: =E14 -> 15504615 | C46: =D14 -> 12344965 | D46: =_xlfn.RANK.EQ(B46,$B$39:$B$66)+COUNTIF($B$39:$B$66,B46)-1 -> 6 | E46: =INDEX($A$39:$B$66,MATCH(ROW()-38,$D$39:$D$66,0),1) -> A Coruña | F46: =LOOKUP(E46,$A$39:$A$66,$B$39:$B$66) -> 8528283 | G46: =LOOKUP(E46,$A$39:$A$66,$C$39:$C$66) -> 7996655
A47: =A15 -> Bilbao | B47: =E15 -> 20452871 | C47: =D15 -> 17764532 | D47: =_xlfn.RANK.EQ(B47,$B$39:$B$66)+COUNTIF($B$39:$B$66,B47)-1 -> 4 | E47: =INDEX($A$39:$B$66,MATCH(ROW()-38,$D$39:$D$66,0),1) -> Las Palmas | F47: =LOOKUP(E47,$A$39:$A$66,$B$39:$B$66) -> 7808563 | G47: =LOOKUP(E47,$A$39:$A$66,$C$39:$C$66) -> 8256892
A48: =A16 -> Cartagena | B48: =E16 -> 28011198 | C48: =D16 -> 24047180 | D48: =_xlfn.RANK.EQ(B48,$B$39:$B$66)+COUNTIF($B$39:$B$66,B48)-1 -> 1 | E48: =INDEX($A$39:$B$66,MATCH(ROW()-38,$D$39:$D$66,0),1) -> Valencia | F48: =LOOKUP(E48,$A$39:$A$66,$B$39:$B$66) -> 5819229 | G48: =LOOKUP(E48,$A$39:$A$66,$C$39:$C$66) -> 3867779
A49: =A17 -> Castellón | B49: =E17 -> 10263666 | C49: =D17 -> 9912711 | D49: =_xlfn.RANK.EQ(B49,$B$39:$B$66)+COUNTIF($B$39:$B$66,B49)-1 -> 7 | E49: =INDEX($A$39:$B$66,MATCH(ROW()-38,$D$39:$D$66,0),1) -> Ferrol-San Cibrao | F49: =LOOKUP(E49,$A$39:$A$66,$B$39:$B$66) -> 3961857 | G49: =LOOKUP(E49,$A$39:$A$66,$C$39:$C$66) -> 3172235
A50: =A18 -> Ceuta | B50: =E18 -> 681899 | C50: =D18 -> 479227 | D50: =_xlfn.RANK.EQ(B50,$B$39:$B$66)+COUNTIF($B$39:$B$66,B50)-1 -> 17 | E50: =INDEX($A$39:$B$66,MATCH(ROW()-38,$D$39:$D$66,0),1) -> Santa Cruz de Tenerife | F50: =LOOKUP(E50,$A$39:$A$66,$B$39:$B$66) -> 3690469 | G50: =LOOKUP(E50,$A$39:$A$66,$C$39:$C$66) -> 3035070
... A66: =A34 -> Vilagarcía | B66: =E34 -> 299566 | C66: =D34 -> 273548 | D66: =_xlfn.RANK.EQ(B66,$B$39:$B$66)+COUNTIF($B$39:$B$66,B66)-1 -> 20 | E66: =INDEX($A$39:$B$66,MATCH(ROW()-38,$D$39:$D$66,0),1) -> Pasaia | F66: =LOOKUP(E66,$A$39:$A$66,$B$39:$B$66) -> 0 | G66: =LOOKUP(E66,$A$39:$A$66,$C$39:$C$66) -> 0

Sheet Sólidos
F1: 3. GRANELES SÓLIDOS (toneladas)
A5: Autoridad Portuaria | B5: ='Resumen general'!D6 -> Mes diciembre | D5: ='Resumen general'!F6 -> Acumulado desde enero | L5: ='Resumen general'!I4 -> Fecha: 27/01/2023
B6: ='Resumen general'!D7 -> 2021 | C6: ='Resumen general'!E7 -> 2022 | D6: ='Resumen general'!F7 -> 2021 | E6: ='Resumen general'!G7 -> 2022 | F6: Var. (%)
A7: A Coruña | B7: 325609 | C7: 726454 | D7: 2934090 | E7: 5392360 | F7: =((E7*100)/D7)-100 -> 83.783047
A8: Alicante | B8: 146214 | C8: 140621 | D8: 1300401 | E8: 1659168 | F8: =((E8*100)/D8)-100 -> 27.588951
A9: Almería | B9: 321761 | C9: 384542 | D9: 4188630 | E9: 3914005 | F9: =((E9*100)/D9)-100 -> -6.5564397
A10: Avilés | B10: 226194 | C10: 193046 | D10: 2879791 | E10: 2795247 | F10: =((E10*100)/D10)-100 -> -2.9357686
A11: Bahía de Algeciras | B11: 51447 | C11: 88569 | D11: 664448 | E11: 1376367 | F11: =((E11*100)/D11)-100 -> 107.14443
A12: Bahía de Cádiz | B12: 190829 | C12: 166995 | D12: 1308133 | E12: 1878025 | F12: =((E12*100)/D12)-100 -> 43.565295
A13: Baleares | B13: 32726 | C13: 35122 | D13: 356648 | E13: 382225 | F13: =((E13*100)/D13)-100 -> 7.1714968
A14: Barcelona | B14: 414896 | C14: 479917 | D14: 4459744 | E14: 4549252 | F14: =((E14*100)/D14)-100 -> 2.007021
A15: Bilbao | B15: 266416 | C15: 317634 | D15: 4651321 | E15: 3752882 | F15: =((E15*100)/D15)-100 -> -19.315781
A16: Cartagena | B16: 603993 | C16: 688423 | D16: 6021397 | E16: 7367627 | F16: =((E16*100)/D16)-100 -> 22.357436
A17: Castellón | B17: 932922 | C17: 397210 | D17: 9385244 | E17: 9156401 | F17: =((E17*100)/D17)-100 -> -2.4383277
A18: Ceuta | B18: 1400 | C18: 0 | D18: 15911 | E18: 5856 | F18: =((E18*100)/D18)-100 -> -63.195274
... A34: Vilagarcía | B34: 49179 | C34: 38928 | D34: 425965 | E34: 401187 | F34: =((E34*100)/D34)-100 -> -5.8169098
A35: Total | B35: =SUM(B7:B34) -> 7356730 | C35: =SUM(C7:C34) -> 8309824 | D35: =SUM(D7:D34) -> 84980689 | E35: =SUM(E7:E34) -> 93984728 | F35: =((E35*100)/D35)-100 -> 10.595395
A36: Incluye cargas, descargas, tránsitos y transbordos.
B38: =E6 -> 2022 | C38: =D6 -> 2021 | F38: =B38 -> 2022 | G38: =C38 -> 2021
A39: =A7 -> A Coruña | B39: =E7 -> 5392360 | C39: =D7 -> 2934090 | D39: =_xlfn.RANK.EQ(B39,$B$39:$B$66)+COUNTIF($B$39:$B$66,B39)-1 -> 7 | E39: =INDEX($A$39:$B$66,MATCH(ROW()-38,$D$39:$D$66,0),1) -> Gijón | F39: =LOOKUP(E39,$A$39:$A$66,$B$39:$B$66) -> 16938901 | G39: =LOOKUP(E39,$A$39:$A$66,$C$39:$C$66) -> 14209772
A40: =A8 -> Alicante | B40: =E8 -> 1659168 | C40: =D8 -> 1300401 | D40: =_xlfn.RANK.EQ(B40,$B$39:$B$66)+COUNTIF($B$39:$B$66,B40)-1 -> 16 | E40: =INDEX($A$39:$B$66,MATCH(ROW()-38,$D$39:$D$66,0),1) -> Tarragona | F40: =LOOKUP(E40,$A$39:$A$66,$B$39:$B$66) -> 9323254 | G40: =LOOKUP(E40,$A$39:$A$66,$C$39:$C$66) -> 7744291
A41: =A9 -> Almería | B41: =E9 -> 3914005 | C41: =D9 -> 4188630 | D41: =_xlfn.RANK.EQ(B41,$B$39:$B$66)+COUNTIF($B$39:$B$66,B41)-1 -> 9 | E41: =INDEX($A$39:$B$66,MATCH(ROW()-38,$D$39:$D$66,0),1) -> Castellón | F41: =LOOKUP(E41,$A$39:$A$66,$B$39:$B$66) -> 9156401 | G41: =LOOKUP(E41,$A$39:$A$66,$C$39:$C$66) -> 9385244
A42: =A10 -> Avilés | B42: =E10 -> 2795247 | C42: =D10 -> 2879791 | D42: =_xlfn.RANK.EQ(B42,$B$39:$B$66)+COUNTIF($B$39:$B$66,B42)-1 -> 12 | E42: =INDEX($A$39:$B$66,MATCH(ROW()-38,$D$39:$D$66,0),1) -> Cartagena | F42: =LOOKUP(E42,$A$39:$A$66,$B$39:$B$66) -> 7367627 | G42: =LOOKUP(E42,$A$39:$A$66,$C$39:$C$66) -> 6021397
A43: =A11 -> Bahía de Algeciras | B43: =E11 -> 1376367 | C43: =D11 -> 664448 | D43: =_xlfn.RANK.EQ(B43,$B$39:$B$66)+COUNTIF($B$39:$B$66,B43)-1 -> 17 | E43: =INDEX($A$39:$B$66,MATCH(ROW()-38,$D$39:$D$66,0),1) -> Ferrol-San Cibrao | F43: =LOOKUP(E43,$A$39:$A$66,$B$39:$B$66) -> 6856470 | G43: =LOOKUP(E43,$A$39:$A$66,$C$39:$C$66) -> 5994200
A44: =A12 -> Bahía de Cádiz | B44: =E12 -> 1878025 | C44: =D12 -> 1308133 | D44: =_xlfn.RANK.EQ(B44,$B$39:$B$66)+COUNTIF($B$39:$B$66,B44)-1 -> 14 | E44: =INDEX($A$39:$B$66,MATCH(ROW()-38,$D$39:$D$66,0),1) -> Huelva | F44: =LOOKUP(E44,$A$39:$A$66,$B$39:$B$66) -> 5711606 | G44: =LOOKUP(E44,$A$39:$A$66,$C$39:$C$66) -> 5029739
A45: =A13 -> Baleares | B45: =E13 -> 382225 | C45: =D13 -> 356648 | D45: =_xlfn.RANK.EQ(B45,$B$39:$B$66)+COUNTIF($B$39:$B$66,B45)-1 -> 24 | E45: =INDEX($A$39:$B$66,MATCH(ROW()-38,$D$39:$D$66,0),1) -> A Coruña | F45: =LOOKUP(E45,$A$39:$A$66,$B$39:$B$66) -> 5392360 | G45: =LOOKUP(E45,$A$39:$A$66,$C$39:$C$66) -> 2934090
A46: =A14 -> Barcelona | B46: =E14 -> 4549252 | C46: =D14 -> 4459744 | D46: =_xlfn.RANK.EQ(B46,$B$39:$B$66)+COUNTIF($B$39:$B$66,B46)-1 -> 8 | E46: =INDEX($A$39:$B$66,MATCH(ROW()-38,$D$39:$D$66,0),1) -> Barcelona | F46: =LOOKUP(E46,$A$39:$A$66,$B$39:$B$66) -> 4549252 | G46: =LOOKUP(E46,$A$39:$A$66,$C$39:$C$66) -> 4459744
A47: =A15 -> Bilbao | B47: =E15 -> 3752882 | C47: =D15 -> 4651321 | D47: =_xlfn.RANK.EQ(B47,$B$39:$B$66)+COUNTIF($B$39:$B$66,B47)-1 -> 10 | E47: =INDEX($A$39:$B$66,MATCH(ROW()-38,$D$39:$D$66,0),1) -> Almería | F47: =LOOKUP(E47,$A$39:$A$66,$B$39:$B$66) -> 3914005 | G47: =LOOKUP(E47,$A$39:$A$66,$C$39:$C$66) -> 4188630
A48: =A16 -> Cartagena | B48: =E16 -> 7367627 | C48: =D16 -> 6021397 | D48: =_xlfn.RANK.EQ(B48,$B$39:$B$66)+COUNTIF($B$39:$B$66,B48)-1 -> 4 | E48: =INDEX($A$39:$B$66,MATCH(ROW()-38,$D$39:$D$66,0),1) -> Bilbao | F48: =LOOKUP(E48,$A$39:$A$66,$B$39:$B$66) -> 3752882 | G48: =LOOKUP(E48,$A$39:$A$66,$C$39:$C$66) -> 4651321
A49: =A17 -> Castellón | B49: =E17 -> 9156401 | C49: =D17 -> 9385244 | D49: =_xlfn.RANK.EQ(B49,$B$39:$B$66)+COUNTIF($B$39:$B$66,B49)-1 -> 3 | E49: =INDEX($A$39:$B$66,MATCH(ROW()-38,$D$39:$D$66,0),1) -> Santander | F49: =LOOKUP(E49,$A$39:$A$66,$B$39:$B$66) -> 3410479 | G49: =LOOKUP(E49,$A$39:$A$66,$C$39:$C$66) -> 3537849
A50: =A18 -> Ceuta | B50: =E18 -> 5856 | C50: =D18 -> 15911 | D50: =_xlfn.RANK.EQ(B50,$B$39:$B$66)+COUNTIF($B$39:$B$66,B50)-1 -> 28 | E50: =INDEX($A$39:$B$66,MATCH(ROW()-38,$D$39:$D$66,0),1) -> Avilés | F50: =LOOKUP(E50,$A$39:$A$66,$B$39:$B$66) -> 2795247 | G50: =LOOKUP(E50,$A$39:$A$66,$C$39:$C$66) -> 2879791
... A66: =A34 -> Vilagarcía | B66: =E34 -> 401187 | C66: =D34 -> 425965 | D66: =_xlfn.RANK.EQ(B66,$B$39:$B$66)+COUNTIF($B$39:$B$66,B66)-1 -> 23 | E66: =INDEX($A$39:$B$66,MATCH(ROW()-38,$D$39:$D$66,0),1) -> Ceuta | F66: =LOOKUP(E66,$A$39:$A$66,$B$39:$B$66) -> 5856 | G66: =LOOKUP(E66,$A$39:$A$66,$C$39:$C$66) -> 15911

Sheet Mercancía general
F1: 4. MERCANCÍA GENERAL (toneladas)
A5: Autoridad Portuaria | B5: ='Resumen general'!D6 -> Mes diciembre | D5: ='Resumen general'!F6 -> Acumulado desde enero | L5: ='Resumen general'!I4 -> Fecha: 27/01/2023
B6: ='Resumen general'!D7 -> 2021 | C6: ='Resumen general'!E7 -> 2022 | D6: ='Resumen general'!F7 -> 2021 | E6: ='Resumen general'!G7 -> 2022 | F6: Var. (%)
A7: A Coruña | B7: 71682 | C7: 27810 | D7: 852680 | E7: 896732 | F7: =((E7*100)/D7)-100 -> 5.1662992
A8: Alicante | B8: 150574 | C8: 129936 | D8: 1291636 | E8: 1524375 | F8: =((E8*100)/D8)-100 -> 18.018931
A9: Almería | B9: 135183 | C9: 124091 | D9: 1450994 | E9: 1483074 | F9: =((E9*100)/D9)-100 -> 2.2108982
A10: Avilés | B10: 138640 | C10: 65231 | D10: 1137946 | E10: 996945 | F10: =((E10*100)/D10)-100 -> -12.390834
A11: Bahía de Algeciras | B11: 6064369 | C11: 5600959 | D11: 70587413 | E11: 71048004 | F11: =((E11*100)/D11)-100 -> 0.65251152
A12: Bahía de Cádiz | B12: 199443 | C12: 171233 | D12: 2437997 | E12: 2206091 | F12: =((E12*100)/D12)-100 -> -9.5121528
A13: Baleares | B13: 1033060 | C13: 944945 | D13: 12256053 | E13: 13499345 | F13: =((E13*100)/D13)-100 -> 10.14431
A14: Barcelona | B14: 4083188 | C14: 3702744 | D14: 48168582 | E14: 49025049 | F14: =((E14*100)/D14)-100 -> 1.7780615
A15: Bilbao | B15: 675843 | C15: 640512 | D15: 8766658 | E15: 8560840 | F15: =((E15*100)/D15)-100 -> -2.3477362
A16: Cartagena | B16: 79209 | C16: 77807 | D16: 967342 | E16: 1004768 | F16: =((E16*100)/D16)-100 -> 3.8689522
A17: Castellón | B17: 140870 | C17: 115564 | D17: 1904137 | E17: 1487427 | F17: =((E17*100)/D17)-100 -> -21.884455
A18: Ceuta | B18: 47810 | C18: 39951 | D18: 599024 | E18: 569120 | F18: =((E18*100)/D18)-100 -> -4.9921205
... A34: Vilagarcía | B34: 53457 | C34: 48614 | D34: 804078 | E34: 789543 | F34: =((E34*100)/D34)-100 -> -1.8076605
A35: Total | B35: =SUM(B7:B34) -> 23101926 | C35: =SUM(C7:C34) -> 21046089 | D35: =SUM(D7:D34) -> 276231168 | E35: =SUM(E7:E34) -> 270502953 | F35: =((E35*100)/D35)-100 -> -2.0737034
A36: Incluye cargas, descargas, tránsitos y transbordos.
B38: =E6 -> 2022 | C38: =D6 -> 2021 | F38: =B38 -> 2022 | G38: =C38 -> 2021
A39: =A7 -> A Coruña | B39: =E7 -> 896732 | C39: =D7 -> 852680 | D39: =_xlfn.RANK.EQ(B39,$B$39:$B$66)+COUNTIF($B$39:$B$66,B39)-1 -> 24 | E39: =INDEX($A$39:$B$66,MATCH(ROW()-38,$D$39:$D$66,0),1) -> Bahía de Algeciras | F39: =LOOKUP(E39,$A$39:$A$66,$B$39:$B$66) -> 71048004 | G39: =LOOKUP(E39,$A$39:$A$66,$C$39:$C$66) -> 70587413
A40: =A8 -> Alicante | B40: =E8 -> 1524375 | C40: =D8 -> 1291636 | D40: =_xlfn.RANK.EQ(B40,$B$39:$B$66)+COUNTIF($B$39:$B$66,B40)-1 -> 15 | E40: =INDEX($A$39:$B$66,MATCH(ROW()-38,$D$39:$D$66,0),1) -> Valencia | F40: =LOOKUP(E40,$A$39:$A$66,$B$39:$B$66) -> 70888565 | G40: =LOOKUP(E40,$A$39:$A$66,$C$39:$C$66) -> 78823912
A41: =A9 -> Almería | B41: =E9 -> 1483074 | C41: =D9 -> 1450994 | D41: =_xlfn.RANK.EQ(B41,$B$39:$B$66)+COUNTIF($B$39:$B$66,B41)-1 -> 17 | E41: =INDEX($A$39:$B$66,MATCH(ROW()-38,$D$39:$D$66,0),1) -> Barcelona | F41: =LOOKUP(E41,$A$39:$A$66,$B$39:$B$66) -> 49025049 | G41: =LOOKUP(E41,$A$39:$A$66,$C$39:$C$66) -> 48168582
A42: =A10 -> Avilés | B42: =E10 -> 996945 | C42: =D10 -> 1137946 | D42: =_xlfn.RANK.EQ(B42,$B$39:$B$66)+COUNTIF($B$39:$B$66,B42)-1 -> 22 | E42: =INDEX($A$39:$B$66,MATCH(ROW()-38,$D$39:$D$66,0),1) -> Las Palmas | F42: =LOOKUP(E42,$A$39:$A$66,$B$39:$B$66) -> 17579731 | G42: =LOOKUP(E42,$A$39:$A$66,$C$39:$C$66) -> 17248633
A43: =A11 -> Bahía de Algeciras | B43: =E11 -> 71048004 | C43: =D11 -> 70587413 | D43: =_xlfn.RANK.EQ(B43,$B$39:$B$66)+COUNTIF($B$39:$B$66,B43)-1 -> 1 | E43: =INDEX($A$39:$B$66,MATCH(ROW()-38,$D$39:$D$66,0),1) -> Baleares | F43: =LOOKUP(E43,$A$39:$A$66,$B$39:$B$66) -> 13499345 | G43: =LOOKUP(E43,$A$39:$A$66,$C$39:$C$66) -> 12256053
A44: =A12 -> Bahía de Cádiz | B44: =E12 -> 2206091 | C44: =D12 -> 2437997 | D44: =_xlfn.RANK.EQ(B44,$B$39:$B$66)+COUNTIF($B$39:$B$66,B44)-1 -> 13 | E44: =INDEX($A$39:$B$66,MATCH(ROW()-38,$D$39:$D$66,0),1) -> Bilbao | F44: =LOOKUP(E44,$A$39:$A$66,$B$39:$B$66) -> 8560840 | G44: =LOOKUP(E44,$A$39:$A$66,$C$39:$C$66) -> 8766658
A45: =A13 -> Baleares | B45: =E13 -> 13499345 | C45: =D13 -> 12256053 | D45: =_xlfn.RANK.EQ(B45,$B$39:$B$66)+COUNTIF($B$39:$B$66,B45)-1 -> 5 | E45: =INDEX($A$39:$B$66,MATCH(ROW()-38,$D$39:$D$66,0),1) -> Santa Cruz de Tenerife | F45: =LOOKUP(E45,$A$39:$A$66,$B$39:$B$66) -> 7553946 | G45: =LOOKUP(E45,$A$39:$A$66,$C$39:$C$66) -> 7196030
A46: =A14 -> Barcelona | B46: =E14 -> 49025049 | C46: =D14 -> 48168582 | D46: =_xlfn.RANK.EQ(B46,$B$39:$B$66)+COUNTIF($B$39:$B$66,B46)-1 -> 3 | E46: =INDEX($A$39:$B$66,MATCH(ROW()-38,$D$39:$D$66,0),1) -> Vigo | F46: =LOOKUP(E46,$A$39:$A$66,$B$39:$B$66) -> 4216194 | G46: =LOOKUP(E46,$A$39:$A$66,$C$39:$C$66) -> 4253658
A47: =A15 -> Bilbao | B47: =E15 -> 8560840 | C47: =D15 -> 8766658 | D47: =_xlfn.RANK.EQ(B47,$B$39:$B$66)+COUNTIF($B$39:$B$66,B47)-1 -> 6 | E47: =INDEX($A$39:$B$66,MATCH(ROW()-38,$D$39:$D$66,0),1) -> Málaga | F47: =LOOKUP(E47,$A$39:$A$66,$B$39:$B$66) -> 2852663 | G47: =LOOKUP(E47,$A$39:$A$66,$C$39:$C$66) -> 2690740
A48: =A16 -> Cartagena | B48: =E16 -> 1004768 | C48: =D16 -> 967342 | D48: =_xlfn.RANK.EQ(B48,$B$39:$B$66)+COUNTIF($B$39:$B$66,B48)-1 -> 21 | E48: =INDEX($A$39:$B$66,MATCH(ROW()-38,$D$39:$D$66,0),1) -> Santander | F48: =LOOKUP(E48,$A$39:$A$66,$B$39:$B$66) -> 2761968 | G48: =LOOKUP(E48,$A$39:$A$66,$C$39:$C$66) -> 2990965
A49: =A17 -> Castellón | B49: =E17 -> 1487427 | C49: =D17 -> 1904137 | D49: =_xlfn.RANK.EQ(B49,$B$39:$B$66)+COUNTIF($B$39:$B$66,B49)-1 -> 16 | E49: =INDEX($A$39:$B$66,MATCH(ROW()-38,$D$39:$D$66,0),1) -> Tarragona | F49: =LOOKUP(E49,$A$39:$A$66,$B$39:$B$66) -> 2395171 | G49: =LOOKUP(E49,$A$39:$A$66,$C$39:$C$66) -> 2282552
A50: =A18 -> Ceuta | B50: =E18 -> 569120 | C50: =D18 -> 599024 | D50: =_xlfn.RANK.EQ(B50,$B$39:$B$66)+COUNTIF($B$39:$B$66,B50)-1 -> 26 | E50: =INDEX($A$39:$B$66,MATCH(ROW()-38,$D$39:$D$66,0),1) -> Pasaia | F50: =LOOKUP(E50,$A$39:$A$66,$B$39:$B$66) -> 2363507 | G50: =LOOKUP(E50,$A$39:$A$66,$C$39:$C$66) -> 2389843
... A66: =A34 -> Vilagarcía | B66: =E34 -> 789543 | C66: =D34 -> 804078 | D66: =_xlfn.RANK.EQ(B66,$B$39:$B$66)+COUNTIF($B$39:$B$66,B66)-1 -> 25 | E66: =INDEX($A$39:$B$66,MATCH(ROW()-38,$D$39:$D$66,0),1) -> Motril | F66: =LOOKUP(E66,$A$39:$A$66,$B$39:$B$66) -> 145266 | G66: =LOOKUP(E66,$A$39:$A$66,$C$39:$C$66) -> 171550

Sheet Mercancías contenedores
F1: 4.1. MERCANCÍAS EN CONTENEDORES (toneladas)
A5: Autoridad Portuaria | B5: ='Resumen general'!D6 -> Mes diciembre | D5: ='Resumen general'!F6 -> Acumulado desde enero | L5: ='Resumen general'!I4 -> Fecha: 27/01/2023
B6: ='Resumen general'!D7 -> 2021 | C6: ='Resumen general'!E7 -> 2022 | D6: ='Resumen general'!F7 -> 2021 | E6: ='Resumen general'!G7 -> 2022 | F6: Var. (%)
A7: A Coruña | B7: 0 | C7: 0 | D7: 29 | E7: 112 | F7: =((E7*100)/D7)-100 -> 286.2069
A8: Alicante | B8: 144569 | C8: 101747 | D8: 1171488 | E8: 1360453 | F8: =((E8*100)/D8)-100 -> 16.13034
A9: Almería | B9: 27847 | C9: 19195 | D9: 407382 | E9: 373333 | F9: =((E9*100)/D9)-100 -> -8.3580031
A10: Avilés | B10: 0 | C10: 0 | D10: 469 | E10: 0 | F10: =((E10*100)/D10)-100 -> -100
A11: Bahía de Algeciras | B11: 4804042 | C11: 4452869 | D11: 58728590 | E11: 56425787 | F11: =((E11*100)/D11)-100 -> -3.9210936
A12: Bahía de Cádiz | B12: 141850 | C12: 122174 | D12: 1748766 | E12: 1596091 | F12: =((E12*100)/D12)-100 -> -8.7304419
A13: Baleares | B13: 30282 | C13: 21865 | D13: 449154 | E13: 362382 | F13: =((E13*100)/D13)-100 -> -19.318986
A14: Barcelona | B14: 3248195 | C14: 2835237 | D14: 37455575 | E14: 37610182 | F14: =((E14*100)/D14)-100 -> 0.41277433
A15: Bilbao | B15: 455488 | C15: 392512 | D15: 5656436 | E15: 5399304 | F15: =((E15*100)/D15)-100 -> -4.5458306
A16: Cartagena | B16: 40611 | C16: 34075 | D16: 613474 | E16: 628464 | F16: =((E16*100)/D16)-100 -> 2.4434613
A17: Castellón | B17: 131324 | C17: 108687 | D17: 1713789 | E17: 1372636 | F17: =((E17*100)/D17)-100 -> -19.90636
A18: Ceuta | B18: 6065 | C18: 5117 | D18: 74736 | E18: 67455 | F18: =((E18*100)/D18)-100 -> -9.7422929
... A34: Vilagarcía | B34: 21619 | C34: 20839 | D34: 294080 | E34: 287010 | F34: =((E34*100)/D34)-100 -> -2.4041077
A35: Total | B35: =SUM(B7:B34) -> 16422542 | C35: =SUM(C7:C34) -> 14397225 | D35: =SUM(D7:D34) -> 198282966 | E35: =SUM(E7:E34) -> 187548002 | F35: =((E35*100)/D35)-100 -> -5.4139618
A36: Incluye cargas, descargas, tránsitos y transbordos.
B38: =E6 -> 2022 | C38: =D6 -> 2021 | F38: =B38 -> 2022 | G38: =C38 -> 2021
A39: =A7 -> A Coruña | B39: =E7 -> 112 | C39: =D7 -> 29 | D39: =_xlfn.RANK.EQ(B39,$B$39:$B$66)+COUNTIF($B$39:$B$66,B39)-1 -> 25 | E39: =INDEX($A$39:$B$66,MATCH(ROW()-38,$D$39:$D$66,0),1) -> Bahía de Algeciras | F39: =LOOKUP(E39,$A$39:$A$66,$B$39:$B$66) -> 56425787 | G39: =LOOKUP(E39,$A$39:$A$66,$C$39:$C$66) -> 58728590
A40: =A8 -> Alicante | B40: =E8 -> 1360453 | C40: =D8 -> 1171488 | D40: =_xlfn.RANK.EQ(B40,$B$39:$B$66)+COUNTIF($B$39:$B$66,B40)-1 -> 11 | E40: =INDEX($A$39:$B$66,MATCH(ROW()-38,$D$39:$D$66,0),1) -> Valencia | F40: =LOOKUP(E40,$A$39:$A$66,$B$39:$B$66) -> 56125555 | G40: =LOOKUP(E40,$A$39:$A$66,$C$39:$C$66) -> 64017231
A41: =A9 -> Almería | B41: =E9 -> 373333 | C41: =D9 -> 407382 | D41: =_xlfn.RANK.EQ(B41,$B$39:$B$66)+COUNTIF($B$39:$B$66,B41)-1 -> 19 | E41: =INDEX($A$39:$B$66,MATCH(ROW()-38,$D$39:$D$66,0),1) -> Barcelona | F41: =LOOKUP(E41,$A$39:$A$66,$B$39:$B$66) -> 37610182 | G41: =LOOKUP(E41,$A$39:$A$66,$C$39:$C$66) -> 37455575
A42: =A10 -> Avilés | B42: =E10 -> 0 | C42: =D10 -> 469 | D42: =_xlfn.RANK.EQ(B42,$B$39:$B$66)+COUNTIF($B$39:$B$66,B42)-1 -> 28 | E42: =INDEX($A$39:$B$66,MATCH(ROW()-38,$D$39:$D$66,0),1) -> Las Palmas | F42: =LOOKUP(E42,$A$39:$A$66,$B$39:$B$66) -> 12798647 | G42: =LOOKUP(E42,$A$39:$A$66,$C$39:$C$66) -> 13060685
A43: =A11 -> Bahía de Algeciras | B43: =E11 -> 56425787 | C43: =D11 -> 58728590 | D43: =_xlfn.RANK.EQ(B43,$B$39:$B$66)+COUNTIF($B$39:$B$66,B43)-1 -> 1 | E43: =INDEX($A$39:$B$66,MATCH(ROW()-38,$D$39:$D$66,0),1) -> Bilbao | F43: =LOOKUP(E43,$A$39:$A$66,$B$39:$B$66) -> 5399304 | G43: =LOOKUP(E43,$A$39:$A$66,$C$39:$C$66) -> 5656436
A44: =A12 -> Bahía de Cádiz | B44: =E12 -> 1596091 | C44: =D12 -> 1748766 | D44: =_xlfn.RANK.EQ(B44,$B$39:$B$66)+COUNTIF($B$39:$B$66,B44)-1 -> 9 | E44: =INDEX($A$39:$B$66,MATCH(ROW()-38,$D$39:$D$66,0),1) -> Santa Cruz de Tenerife | F44: =LOOKUP(E44,$A$39:$A$66,$B$39:$B$66) -> 3740564 | G44: =LOOKUP(E44,$A$39:$A$66,$C$39:$C$66) -> 3611406
A45: =A13 -> Baleares | B45: =E13 -> 362382 | C45: =D13 -> 449154 | D45: =_xlfn.RANK.EQ(B45,$B$39:$B$66)+COUNTIF($B$39:$B$66,B45)-1 -> 20 | E45: =INDEX($A$39:$B$66,MATCH(ROW()-38,$D$39:$D$66,0),1) -> Vigo | F45: =LOOKUP(E45,$A$39:$A$66,$B$39:$B$66) -> 2658304 | G45: =LOOKUP(E45,$A$39:$A$66,$C$39:$C$66) -> 2986304
A46: =A14 -> Barcelona | B46: =E14 -> 37610182 | C46: =D14 -> 37455575 | D46: =_xlfn.RANK.EQ(B46,$B$39:$B$66)+COUNTIF($B$39:$B$66,B46)-1 -> 3 | E46: =INDEX($A$39:$B$66,MATCH(ROW()-38,$D$39:$D$66,0),1) -> Málaga | F46: =LOOKUP(E46,$A$39:$A$66,$B$39:$B$66) -> 2396555 | G46: =LOOKUP(E46,$A$39:$A$66,$C$39:$C$66) -> 2252411
A47: =A15 -> Bilbao | B47: =E15 -> 5399304 | C47: =D15 -> 5656436 | D47: =_xlfn.RANK.EQ(B47,$B$39:$B$66)+COUNTIF($B$39:$B$66,B47)-1 -> 5 | E47: =INDEX($A$39:$B$66,MATCH(ROW()-38,$D$39:$D$66,0),1) -> Bahía de Cádiz | F47: =LOOKUP(E47,$A$39:$A$66,$B$39:$B$66) -> 1596091 | G47: =LOOKUP(E47,$A$39:$A$66,$C$39:$C$66) -> 1748766
A48: =A16 -> Cartagena | B48: =E16 -> 628464 | C48: =D16 -> 613474 | D48: =_xlfn.RANK.EQ(B48,$B$39:$B$66)+COUNTIF($B$39:$B$66,B48)-1 -> 15 | E48: =INDEX($A$39:$B$66,MATCH(ROW()-38,$D$39:$D$66,0),1) -> Castellón | F48: =LOOKUP(E48,$A$39:$A$66,$B$39:$B$66) -> 1372636 | G48: =LOOKUP(E48,$A$39:$A$66,$C$39:$C$66) -> 1713789
A49: =A17 -> Castellón | B49: =E17 -> 1372636 | C49: =D17 -> 1713789 | D49: =_xlfn.RANK.EQ(B49,$B$39:$B$66)+COUNTIF($B$39:$B$66,B49)-1 -> 10 | E49: =INDEX($A$39:$B$66,MATCH(ROW()-38,$D$39:$D$66,0),1) -> Alicante | F49: =LOOKUP(E49,$A$39:$A$66,$B$39:$B$66) -> 1360453 | G49: =LOOKUP(E49,$A$39:$A$66,$C$39:$C$66) -> 1171488
A50: =A18 -> Ceuta | B50: =E18 -> 67455 | C50: =D18 -> 74736 | D50: =_xlfn.RANK.EQ(B50,$B$39:$B$66)+COUNTIF($B$39:$B$66,B50)-1 -> 23 | E50: =INDEX($A$39:$B$66,MATCH(ROW()-38,$D$39:$D$66,0),1) -> Sevilla | F50: =LOOKUP(E50,$A$39:$A$66,$B$39:$B$66) -> 1010452 | G50: =LOOKUP(E50,$A$39:$A$66,$C$39:$C$66) -> 999941
... A66: =A34 -> Vilagarcía | B66: =E34 -> 287010 | C66: =D34 -> 294080 | D66: =_xlfn.RANK.EQ(B66,$B$39:$B$66)+COUNTIF($B$39:$B$66,B66)-1 -> 22 | E66: =INDEX($A$39:$B$66,MATCH(ROW()-38,$D$39:$D$66,0),1) -> Avilés | F66: =LOOKUP(E66,$A$39:$A$66,$B$39:$B$66) -> 0 | G66: =LOOKUP(E66,$A$39:$A$66,$C$39:$C$66) -> 469

Sheet Pesca
F1: 5. PESCA (toneladas)
A5: Autoridad Portuaria | B5: ='Resumen general'!D6 -> Mes diciembre | D5: ='Resumen general'!F6 -> Acumulado desde enero | L5: ='Resumen general'!I4 -> Fecha: 27/01/2023
B6: ='Resumen general'!D7 -> 2021 | C6: ='Resumen general'!E7 -> 2022 | D6: ='Resumen general'!F7 -> 2021 | E6: ='Resumen general'!G7 -> 2022 | F6: Var. (%)
A7: A Coruña | B7: 1319 | C7: 1918 | D7: 28331 | E7: 28131 | F7: =((E7*100)/D7)-100 -> -0.70594049
A8: Alicante | B8: 24 | C8: 0 | D8: 714 | E8: 378 | F8: =((E8*100)/D8)-100 -> -47.058824
A9: Almería | B9: 221 | C9: 145 | D9: 3923 | E9: 3064 | F9: =((E9*100)/D9)-100 -> -21.896508
A10: Avilés | B10: 559 | C10: 528 | D10: 18702 | E10: 14045 | F10: =((E10*100)/D10)-100 -> -24.90108
A11: Bahía de Algeciras | B11: 36 | C11: 105 | D11: 911 | E11: 1061 | F11: =((E11*100)/D11)-100 -> 16.465423
A12: Bahía de Cádiz | B12: 944 | C12: 903 | D12: 14155 | E12: 13453 | F12: =((E12*100)/D12)-100 -> -4.9593783
A13: Baleares | B13: 125 | C13: 115 | D13: 2114 | E13: 1888 | F13: =((E13*100)/D13)-100 -> -10.690634
A14: Barcelona | B14: 34 | C14: 84 | D14: 2168 | E14: 3201 | F14: =((E14*100)/D14)-100 -> 47.647601
A15: Bilbao | B15: 0 | C15: 0 | D15: 0 | E15: 0 | F15: =((E15*100)/D15)-100 -> #DIV/0!
A16: Cartagena | B16: 27 | C16: 15 | D16: 423 | E16: 380 | F16: =((E16*100)/D16)-100 -> -10.165485
A17: Castellón | B17: 92 | C17: 91 | D17: 3003 | E17: 2520 | F17: =((E17*100)/D17)-100 -> -16.083916
A18: Ceuta | B18: 2 | C18: 28 | D18: 44 | E18: 39 | F18: =((E18*100)/D18)-100 -> -11.363636
... A34: Vilagarcía | B34: 0 | C34: 0 | D34: 0 | E34: 0 | F34: =((E34*100)/D34)-100 -> #DIV/0!
A35: Total | B35: =SUM(B7:B34) -> 8712 | C35: =SUM(C7:C34) -> 9755 | D35: =SUM(D7:D34) -> 162962 | E35: =SUM(E7:E34) -> 147501 | F35: =((E35*100)/D35)-100 -> -9.4874879
B38: =E6 -> 2022 | C38: =D6 -> 2021 | F38: =B38 -> 2022 | G38: =C38 -> 2021
A39: =A7 -> A Coruña | B39: =E7 -> 28131 | C39: =D7 -> 28331 | D39: =_xlfn.RANK.EQ(B39,$B$39:$B$66)+COUNTIF($B$39:$B$66,B39)-1 -> 2 | E39: =INDEX($A$39:$B$66,MATCH(ROW()-38,$D$39:$D$66,0),1) -> Vigo | F39: =LOOKUP(E39,$A$39:$A$66,$B$39:$B$66) -> 34009 | G39: =LOOKUP(E39,$A$39:$A$66,$C$39:$C$66) -> 36581
A40: =A8 -> Alicante | B40: =E8 -> 378 | C40: =D8 -> 714 | D40: =_xlfn.RANK.EQ(B40,$B$39:$B$66)+COUNTIF($B$39:$B$66,B40)-1 -> 20 | E40: =INDEX($A$39:$B$66,MATCH(ROW()-38,$D$39:$D$66,0),1) -> A Coruña | F40: =LOOKUP(E40,$A$39:$A$66,$B$39:$B$66) -> 28131 | G40: =LOOKUP(E40,$A$39:$A$66,$C$39:$C$66) -> 28331
A41: =A9 -> Almería | B41: =E9 -> 3064 | C41: =D9 -> 3923 | D41: =_xlfn.RANK.EQ(B41,$B$39:$B$66)+COUNTIF($B$39:$B$66,B41)-1 -> 10 | E41: =INDEX($A$39:$B$66,MATCH(ROW()-38,$D$39:$D$66,0),1) -> Pasaia | F41: =LOOKUP(E41,$A$39:$A$66,$B$39:$B$66) -> 19055 | G41: =LOOKUP(E41,$A$39:$A$66,$C$39:$C$66) -> 18811
A42: =A10 -> Avilés | B42: =E10 -> 14045 | C42: =D10 -> 18702 | D42: =_xlfn.RANK.EQ(B42,$B$39:$B$66)+COUNTIF($B$39:$B$66,B42)-1 -> 4 | E42: =INDEX($A$39:$B$66,MATCH(ROW()-38,$D$39:$D$66,0),1) -> Avilés | F42: =LOOKUP(E42,$A$39:$A$66,$B$39:$B$66) -> 14045 | G42: =LOOKUP(E42,$A$39:$A$66,$C$39:$C$66) -> 18702
A43: =A11 -> Bahía de Algeciras | B43: =E11 -> 1061 | C43: =D11 -> 911 | D43: =_xlfn.RANK.EQ(B43,$B$39:$B$66)+COUNTIF($B$39:$B$66,B43)-1 -> 16 | E43: =INDEX($A$39:$B$66,MATCH(ROW()-38,$D$39:$D$66,0),1) -> Bahía de Cádiz | F43: =LOOKUP(E43,$A$39:$A$66,$B$39:$B$66) -> 13453 | G43: =LOOKUP(E43,$A$39:$A$66,$C$39:$C$66) -> 14155
A44: =A12 -> Bahía de Cádiz | B44: =E12 -> 13453 | C44: =D12 -> 14155 | D44: =_xlfn.RANK.EQ(B44,$B$39:$B$66)+COUNTIF($B$39:$B$66,B44)-1 -> 5 | E44: =INDEX($A$39:$B$66,MATCH(ROW()-38,$D$39:$D$66,0),1) -> Gijón | F44: =LOOKUP(E44,$A$39:$A$66,$B$39:$B$66) -> 8401 | G44: =LOOKUP(E44,$A$39:$A$66,$C$39:$C$66) -> 14882
A45: =A13 -> Baleares | B45: =E13 -> 1888 | C45: =D13 -> 2114 | D45: =_xlfn.RANK.EQ(B45,$B$39:$B$66)+COUNTIF($B$39:$B$66,B45)-1 -> 14 | E45: =INDEX($A$39:$B$66,MATCH(ROW()-38,$D$39:$D$66,0),1) -> Santander | F45: =LOOKUP(E45,$A$39:$A$66,$B$39:$B$66) -> 5631 | G45: =LOOKUP(E45,$A$39:$A$66,$C$39:$C$66) -> 5366
A46: =A14 -> Barcelona | B46: =E14 -> 3201 | C46: =D14 -> 2168 | D46: =_xlfn.RANK.EQ(B46,$B$39:$B$66)+COUNTIF($B$39:$B$66,B46)-1 -> 8 | E46: =INDEX($A$39:$B$66,MATCH(ROW()-38,$D$39:$D$66,0),1) -> Barcelona | F46: =LOOKUP(E46,$A$39:$A$66,$B$39:$B$66) -> 3201 | G46: =LOOKUP(E46,$A$39:$A$66,$C$39:$C$66) -> 2168
A47: =A15 -> Bilbao | B47: =E15 -> 0 | C47: =D15 -> 0 | D47: =_xlfn.RANK.EQ(B47,$B$39:$B$66)+COUNTIF($B$39:$B$66,B47)-1 -> 28 | E47: =INDEX($A$39:$B$66,MATCH(ROW()-38,$D$39:$D$66,0),1) -> Marín y Ría de Pontevedra | F47: =LOOKUP(E47,$A$39:$A$66,$B$39:$B$66) -> 3118 | G47: =LOOKUP(E47,$A$39:$A$66,$C$39:$C$66) -> 2731
A48: =A16 -> Cartagena | B48: =E16 -> 380 | C48: =D16 -> 423 | D48: =_xlfn.RANK.EQ(B48,$B$39:$B$66)+COUNTIF($B$39:$B$66,B48)-1 -> 19 | E48: =INDEX($A$39:$B$66,MATCH(ROW()-38,$D$39:$D$66,0),1) -> Almería | F48: =LOOKUP(E48,$A$39:$A$66,$B$39:$B$66) -> 3064 | G48: =LOOKUP(E48,$A$39:$A$66,$C$39:$C$66) -> 3923
A49: =A17 -> Castellón | B49: =E17 -> 2520 | C49: =D17 -> 3003 | D49: =_xlfn.RANK.EQ(B49,$B$39:$B$66)+COUNTIF($B$39:$B$66,B49)-1 -> 12 | E49: =INDEX($A$39:$B$66,MATCH(ROW()-38,$D$39:$D$66,0),1) -> Santa Cruz de Tenerife | F49: =LOOKUP(E49,$A$39:$A$66,$B$39:$B$66) -> 2657 | G49: =LOOKUP(E49,$A$39:$A$66,$C$39:$C$66) -> 3502
A50: =A18 -> Ceuta | B50: =E18 -> 39 | C50: =D18 -> 44 | D50: =_xlfn.RANK.EQ(B50,$B$39:$B$66)+COUNTIF($B$39:$B$66,B50)-1 -> 24 | E50: =INDEX($A$39:$B$66,MATCH(ROW()-38,$D$39:$D$66,0),1) -> Castellón | F50: =LOOKUP(E50,$A$39:$A$66,$B$39:$B$66) -> 2520 | G50: =LOOKUP(E50,$A$39:$A$66,$C$39:$C$66) -> 3003
... A66: =A34 -> Vilagarcía | B66: =E34 -> 0 | C66: =D34 -> 0 | D66: =_xlfn.RANK.EQ(B66,$B$39:$B$66)+COUNTIF($B$39:$B$66,B66)-1 -> 28 | E66: =INDEX($A$39:$B$66,MATCH(ROW()-38,$D$39:$D$66,0),1) -> Bilbao | F66: =LOOKUP(E66,$A$39:$A$66,$B$39:$B$66) -> 0 | G66: =LOOKUP(E66,$A$39:$A$66,$C$39:$C$66) -> 0

Sheet Avituallamiento
F1: 6. AVITUALLAMIENTO (toneladas)
A5: Autoridad Portuaria | B5: ='Resumen general'!D6 -> Mes diciembre | D5: ='Resumen general'!F6 -> Acumulado desde enero | L5: ='Resumen general'!I4 -> Fecha: 27/01/2023
B6: ='Resumen general'!D7 -> 2021 | C6: ='Resumen general'!E7 -> 2022 | D6: ='Resumen general'!F7 -> 2021 | E6: ='Resumen general'!G7 -> 2022 | F6: Var. (%)
A7: A Coruña | B7: 26634 | C7: 22231 | D7: 65672 | E7: 73748 | F7: =((E7*100)/D7)-100 -> 12.297478
A8: Alicante | B8: 1792 | C8: 1542 | D8: 12494 | E8: 22443 | F8: =((E8*100)/D8)-100 -> 79.630223
A9: Almería | B9: 4433 | C9: 6147 | D9: 44833 | E9: 79660 | F9: =((E9*100)/D9)-100 -> 77.681618
A10: Avilés | B10: 4009 | C10: 3774 | D10: 56726 | E10: 55781 | F10: =((E10*100)/D10)-100 -> -1.6659028
A11: Bahía de Algeciras | B11: 319683 | C11: 297597 | D11: 3108689 | E11: 3993357 | F11: =((E11*100)/D11)-100 -> 28.457913
A12: Bahía de Cádiz | B12: 6780 | C12: 3029 | D12: 101904 | E12: 150579 | F12: =((E12*100)/D12)-100 -> 47.765544
A13: Baleares | B13: 3683 | C13: 4023 | D13: 43275 | E13: 86072 | F13: =((E13*100)/D13)-100 -> 98.895436
A14: Barcelona | B14: 102519 | C14: 111293 | D14: 1435122 | E14: 1822508 | F14: =((E14*100)/D14)-100 -> 26.993245
A15: Bilbao | B15: 8108 | C15: 10277 | D15: 116474 | E15: 122627 | F15: =((E15*100)/D15)-100 -> 5.282724
A16: Cartagena | B16: 17799 | C16: 9155 | D16: 177157 | E16: 204376 | F16: =((E16*100)/D16)-100 -> 15.364338
A17: Castellón | B17: 2028 | C17: 2392 | D17: 32233 | E17: 32476 | F17: =((E17*100)/D17)-100 -> 0.75388577
A18: Ceuta | B18: 58162 | C18: 57379 | D18: 478899 | E18: 683016 | F18: =((E18*100)/D18)-100 -> 42.62214
... A34: Vilagarcía | B34: 749 | C34: 526 | D34: 7778 | E34: 7777 | F34: =((E34*100)/D34)-100 -> -0.012856776
A35: Total | B35: =SUM(B7:B34) -> 921937 | C35: =SUM(C7:C34) -> 905762 | D35: =SUM(D7:D34) -> 9505988 | E35: =SUM(E7:E34) -> 11580012 | F35: =((E35*100)/D35)-100 -> 21.818079
B38: =E6 -> 2022 | C38: =D6 -> 2021 | F38: =B38 -> 2022 | G38: =C38 -> 2021
A39: =A7 -> A Coruña | B39: =E7 -> 73748 | C39: =D7 -> 65672 | D39: =_xlfn.RANK.EQ(B39,$B$39:$B$66)+COUNTIF($B$39:$B$66,B39)-1 -> 16 | E39: =INDEX($A$39:$B$66,MATCH(ROW()-38,$D$39:$D$66,0),1) -> Bahía de Algeciras | F39: =LOOKUP(E39,$A$39:$A$66,$B$39:$B$66) -> 3993357 | G39: =LOOKUP(E39,$A$39:$A$66,$C$39:$C$66) -> 3108689
A40: =A8 -> Alicante | B40: =E8 -> 22443 | C40: =D8 -> 12494 | D40: =_xlfn.RANK.EQ(B40,$B$39:$B$66)+COUNTIF($B$39:$B$66,B40)-1 -> 24 | E40: =INDEX($A$39:$B$66,MATCH(ROW()-38,$D$39:$D$66,0),1) -> Las Palmas | F40: =LOOKUP(E40,$A$39:$A$66,$B$39:$B$66) -> 2539071 | G40: =LOOKUP(E40,$A$39:$A$66,$C$39:$C$66) -> 2278145
A41: =A9 -> Almería | B41: =E9 -> 79660 | C41: =D9 -> 44833 | D41: =_xlfn.RANK.EQ(B41,$B$39:$B$66)+COUNTIF($B$39:$B$66,B41)-1 -> 14 | E41: =INDEX($A$39:$B$66,MATCH(ROW()-38,$D$39:$D$66,0),1) -> Barcelona | F41: =LOOKUP(E41,$A$39:$A$66,$B$39:$B$66) -> 1822508 | G41: =LOOKUP(E41,$A$39:$A$66,$C$39:$C$66) -> 1435122
A42: =A10 -> Avilés | B42: =E10 -> 55781 | C42: =D10 -> 56726 | D42: =_xlfn.RANK.EQ(B42,$B$39:$B$66)+COUNTIF($B$39:$B$66,B42)-1 -> 17 | E42: =INDEX($A$39:$B$66,MATCH(ROW()-38,$D$39:$D$66,0),1) -> Ceuta | F42: =LOOKUP(E42,$A$39:$A$66,$B$39:$B$66) -> 683016 | G42: =LOOKUP(E42,$A$39:$A$66,$C$39:$C$66) -> 478899
A43: =A11 -> Bahía de Algeciras | B43: =E11 -> 3993357 | C43: =D11 -> 3108689 | D43: =_xlfn.RANK.EQ(B43,$B$39:$B$66)+COUNTIF($B$39:$B$66,B43)-1 -> 1 | E43: =INDEX($A$39:$B$66,MATCH(ROW()-38,$D$39:$D$66,0),1) -> Santa Cruz de Tenerife | F43: =LOOKUP(E43,$A$39:$A$66,$B$39:$B$66) -> 613804 | G43: =LOOKUP(E43,$A$39:$A$66,$C$39:$C$66) -> 444591
A44: =A12 -> Bahía de Cádiz | B44: =E12 -> 150579 | C44: =D12 -> 101904 | D44: =_xlfn.RANK.EQ(B44,$B$39:$B$66)+COUNTIF($B$39:$B$66,B44)-1 -> 9 | E44: =INDEX($A$39:$B$66,MATCH(ROW()-38,$D$39:$D$66,0),1) -> Valencia | F44: =LOOKUP(E44,$A$39:$A$66,$B$39:$B$66) -> 401718 | G44: =LOOKUP(E44,$A$39:$A$66,$C$39:$C$66) -> 417914
A45: =A13 -> Baleares | B45: =E13 -> 86072 | C45: =D13 -> 43275 | D45: =_xlfn.RANK.EQ(B45,$B$39:$B$66)+COUNTIF($B$39:$B$66,B45)-1 -> 13 | E45: =INDEX($A$39:$B$66,MATCH(ROW()-38,$D$39:$D$66,0),1) -> Cartagena | F45: =LOOKUP(E45,$A$39:$A$66,$B$39:$B$66) -> 204376 | G45: =LOOKUP(E45,$A$39:$A$66,$C$39:$C$66) -> 177157
A46: =A14 -> Barcelona | B46: =E14 -> 1822508 | C46: =D14 -> 1435122 | D46: =_xlfn.RANK.EQ(B46,$B$39:$B$66)+COUNTIF($B$39:$B$66,B46)-1 -> 3 | E46: =INDEX($A$39:$B$66,MATCH(ROW()-38,$D$39:$D$66,0),1) -> Huelva | F46: =LOOKUP(E46,$A$39:$A$66,$B$39:$B$66) -> 179212 | G46: =LOOKUP(E46,$A$39:$A$66,$C$39:$C$66) -> 210753
A47: =A15 -> Bilbao | B47: =E15 -> 122627 | C47: =D15 -> 116474 | D47: =_xlfn.RANK.EQ(B47,$B$39:$B$66)+COUNTIF($B$39:$B$66,B47)-1 -> 11 | E47: =INDEX($A$39:$B$66,MATCH(ROW()-38,$D$39:$D$66,0),1) -> Bahía de Cádiz | F47: =LOOKUP(E47,$A$39:$A$66,$B$39:$B$66) -> 150579 | G47: =LOOKUP(E47,$A$39:$A$66,$C$39:$C$66) -> 101904
A48: =A16 -> Cartagena | B48: =E16 -> 204376 | C48: =D16 -> 177157 | D48: =_xlfn.RANK.EQ(B48,$B$39:$B$66)+COUNTIF($B$39:$B$66,B48)-1 -> 7 | E48: =INDEX($A$39:$B$66,MATCH(ROW()-38,$D$39:$D$66,0),1) -> Vigo | F48: =LOOKUP(E48,$A$39:$A$66,$B$39:$B$66) -> 128913 | G48: =LOOKUP(E48,$A$39:$A$66,$C$39:$C$66) -> 129671
A49: =A17 -> Castellón | B49: =E17 -> 32476 | C49: =D17 -> 32233 | D49: =_xlfn.RANK.EQ(B49,$B$39:$B$66)+COUNTIF($B$39:$B$66,B49)-1 -> 21 | E49: =INDEX($A$39:$B$66,MATCH(ROW()-38,$D$39:$D$66,0),1) -> Bilbao | F49: =LOOKUP(E49,$A$39:$A$66,$B$39:$B$66) -> 122627 | G49: =LOOKUP(E49,$A$39:$A$66,$C$39:$C$66) -> 116474
A50: =A18 -> Ceuta | B50: =E18 -> 683016 | C50: =D18 -> 478899 | D50: =_xlfn.RANK.EQ(B50,$B$39:$B$66)+COUNTIF($B$39:$B$66,B50)-1 -> 4 | E50: =INDEX($A$39:$B$66,MATCH(ROW()-38,$D$39:$D$66,0),1) -> Tarragona | F50: =LOOKUP(E50,$A$39:$A$66,$B$39:$B$66) -> 113598 | G50: =LOOKUP(E50,$A$39:$A$66,$C$39:$C$66) -> 102226
... A66: =A34 -> Vilagarcía | B66: =E34 -> 7777 | C66: =D34 -> 7778 | D66: =_xlfn.RANK.EQ(B66,$B$39:$B$66)+COUNTIF($B$39:$B$66,B66)-1 -> 27 | E66: =INDEX($A$39:$B$66,MATCH(ROW()-38,$D$39:$D$66,0),1) -> Melilla | F66: =LOOKUP(E66,$A$39:$A$66,$B$39:$B$66) -> 4973 | G66: =LOOKUP(E66,$A$39:$A$66,$C$39:$C$66) -> 6183

Sheet Avi. combustibles
F1: 6.1. AVITUALLAMIENTO DE COMBUSTIBLES LÍQUIDOS
I2: (toneladas)
A5: Autoridad Portuaria | B5: ='Resumen general'!D6 -> Mes diciembre | D5: ='Resumen general'!F6 -> Acumulado desde enero | L5: ='Resumen general'!I4 -> Fecha: 27/01/2023
B6: ='Resumen general'!D7 -> 2021 | C6: ='Resumen general'!E7 -> 2022 | D6: ='Resumen general'!F7 -> 2021 | E6: ='Resumen general'!G7 -> 2022 | F6: Var. (%)
A7: A Coruña | B7: 3036 | C7: 3374 | D7: 27387 | E7: 31511 | F7: =((E7*100)/D7)-100 -> 15.058239
A8: Alicante | B8: 124 | C8: 82 | D8: 2655 | E8: 2280 | F8: =((E8*100)/D8)-100 -> -14.124294
A9: Almería | B9: 2273 | C9: 3423 | D9: 24545 | E9: 40964 | F9: =((E9*100)/D9)-100 -> 66.893461
A10: Avilés | B10: 1099 | C10: 1075 | D10: 17948 | E10: 16843 | F10: =((E10*100)/D10)-100 -> -6.1566748
A11: Bahía de Algeciras | B11: 306890 | C11: 287154 | D11: 2942643 | E11: 3806161 | F11: =((E11*100)/D11)-100 -> 29.34498
A12: Bahía de Cádiz | B12: 1944 | C12: 1166 | D12: 33374 | E12: 30053 | F12: =((E12*100)/D12)-100 -> -9.95086
A13: Baleares | B13: 120 | C13: 119 | D13: 3535 | E13: 1873 | F13: =((E13*100)/D13)-100 -> -47.015559
A14: Barcelona | B14: 88059 | C14: 93557 | D14: 1278910 | E14: 1559318 | F14: =((E14*100)/D14)-100 -> 21.925546
A15: Bilbao | B15: 4172 | C15: 5447 | D15: 60683 | E15: 64997 | F15: =((E15*100)/D15)-100 -> 7.109075
A16: Cartagena | B16: 3150 | C16: 845 | D16: 16360 | E16: 45324 | F16: =((E16*100)/D16)-100 -> 177.04156
A17: Castellón | B17: 0 | C17: 0 | D17: 0 | E17: 0 | F17: =((E17*100)/D17)-100 -> #DIV/0!
A18: Ceuta | B18: 56680 | C18: 55414 | D18: 464192 | E18: 666984 | F18: =((E18*100)/D18)-100 -> 43.687095
... A34: Vilagarcía | B34: 107 | C34: 125 | D34: 1794 | E34: 2051 | F34: =((E34*100)/D34)-100 -> 14.32553
A35: Total | B35: =SUM(B7:B34) -> 769947 | C35: =SUM(C7:C34) -> 750459 | D35: =SUM(D7:D34) -> 8132367 | E35: =SUM(E7:E34) -> 9809062 | F35: =((E35*100)/D35)-100 -> 20.617552
B38: =E6 -> 2022 | C38: =D6 -> 2021 | F38: =B38 -> 2022 | G38: =C38 -> 2021
A39: =A7 -> A Coruña | B39: =E7 -> 31511 | C39: =D7 -> 27387 | D39: =_xlfn.RANK.EQ(B39,$B$39:$B$66)+COUNTIF($B$39:$B$66,B39)-1 -> 13 | E39: =INDEX($A$39:$B$66,MATCH(ROW()-38,$D$39:$D$66,0),1) -> Bahía de Algeciras | F39: =LOOKUP(E39,$A$39:$A$66,$B$39:$B$66) -> 3806161 | G39: =LOOKUP(E39,$A$39:$A$66,$C$39:$C$66) -> 2942643
A40: =A8 -> Alicante | B40: =E8 -> 2280 | C40: =D8 -> 2655 | D40: =_xlfn.RANK.EQ(B40,$B$39:$B$66)+COUNTIF($B$39:$B$66,B40)-1 -> 24 | E40: =INDEX($A$39:$B$66,MATCH(ROW()-38,$D$39:$D$66,0),1) -> Las Palmas | F40: =LOOKUP(E40,$A$39:$A$66,$B$39:$B$66) -> 2307455 | G40: =LOOKUP(E40,$A$39:$A$66,$C$39:$C$66) -> 2077818
A41: =A9 -> Almería | B41: =E9 -> 40964 | C41: =D9 -> 24545 | D41: =_xlfn.RANK.EQ(B41,$B$39:$B$66)+COUNTIF($B$39:$B$66,B41)-1 -> 12 | E41: =INDEX($A$39:$B$66,MATCH(ROW()-38,$D$39:$D$66,0),1) -> Barcelona | F41: =LOOKUP(E41,$A$39:$A$66,$B$39:$B$66) -> 1559318 | G41: =LOOKUP(E41,$A$39:$A$66,$C$39:$C$66) -> 1278910
A42: =A10 -> Avilés | B42: =E10 -> 16843 | C42: =D10 -> 17948 | D42: =_xlfn.RANK.EQ(B42,$B$39:$B$66)+COUNTIF($B$39:$B$66,B42)-1 -> 18 | E42: =INDEX($A$39:$B$66,MATCH(ROW()-38,$D$39:$D$66,0),1) -> Ceuta | F42: =LOOKUP(E42,$A$39:$A$66,$B$39:$B$66) -> 666984 | G42: =LOOKUP(E42,$A$39:$A$66,$C$39:$C$66) -> 464192
A43: =A11 -> Bahía de Algeciras | B43: =E11 -> 3806161 | C43: =D11 -> 2942643 | D43: =_xlfn.RANK.EQ(B43,$B$39:$B$66)+COUNTIF($B$39:$B$66,B43)-1 -> 1 | E43: =INDEX($A$39:$B$66,MATCH(ROW()-38,$D$39:$D$66,0),1) -> Santa Cruz de Tenerife | F43: =LOOKUP(E43,$A$39:$A$66,$B$39:$B$66) -> 486711 | G43: =LOOKUP(E43,$A$39:$A$66,$C$39:$C$66) -> 372977
A44: =A12 -> Bahía de Cádiz | B44: =E12 -> 30053 | C44: =D12 -> 33374 | D44: =_xlfn.RANK.EQ(B44,$B$39:$B$66)+COUNTIF($B$39:$B$66,B44)-1 -> 14 | E44: =INDEX($A$39:$B$66,MATCH(ROW()-38,$D$39:$D$66,0),1) -> Valencia | F44: =LOOKUP(E44,$A$39:$A$66,$B$39:$B$66) -> 331850 | G44: =LOOKUP(E44,$A$39:$A$66,$C$39:$C$66) -> 371341
A45: =A13 -> Baleares | B45: =E13 -> 1873 | C45: =D13 -> 3535 | D45: =_xlfn.RANK.EQ(B45,$B$39:$B$66)+COUNTIF($B$39:$B$66,B45)-1 -> 26 | E45: =INDEX($A$39:$B$66,MATCH(ROW()-38,$D$39:$D$66,0),1) -> Huelva | F45: =LOOKUP(E45,$A$39:$A$66,$B$39:$B$66) -> 156675 | G45: =LOOKUP(E45,$A$39:$A$66,$C$39:$C$66) -> 190134
A46: =A14 -> Barcelona | B46: =E14 -> 1559318 | C46: =D14 -> 1278910 | D46: =_xlfn.RANK.EQ(B46,$B$39:$B$66)+COUNTIF($B$39:$B$66,B46)-1 -> 3 | E46: =INDEX($A$39:$B$66,MATCH(ROW()-38,$D$39:$D$66,0),1) -> Vigo | F46: =LOOKUP(E46,$A$39:$A$66,$B$39:$B$66) -> 67940 | G46: =LOOKUP(E46,$A$39:$A$66,$C$39:$C$66) -> 63681
A47: =A15 -> Bilbao | B47: =E15 -> 64997 | C47: =D15 -> 60683 | D47: =_xlfn.RANK.EQ(B47,$B$39:$B$66)+COUNTIF($B$39:$B$66,B47)-1 -> 9 | E47: =INDEX($A$39:$B$66,MATCH(ROW()-38,$D$39:$D$66,0),1) -> Bilbao | F47: =LOOKUP(E47,$A$39:$A$66,$B$39:$B$66) -> 64997 | G47: =LOOKUP(E47,$A$39:$A$66,$C$39:$C$66) -> 60683
A48: =A16 -> Cartagena | B48: =E16 -> 45324 | C48: =D16 -> 16360 | D48: =_xlfn.RANK.EQ(B48,$B$39:$B$66)+COUNTIF($B$39:$B$66,B48)-1 -> 11 | E48: =INDEX($A$39:$B$66,MATCH(ROW()-38,$D$39:$D$66,0),1) -> Tarragona | F48: =LOOKUP(E48,$A$39:$A$66,$B$39:$B$66) -> 54962 | G48: =LOOKUP(E48,$A$39:$A$66,$C$39:$C$66) -> 53788
A49: =A17 -> Castellón | B49: =E17 -> 0 | C49: =D17 -> 0 | D49: =_xlfn.RANK.EQ(B49,$B$39:$B$66)+COUNTIF($B$39:$B$66,B49)-1 -> 28 | E49: =INDEX($A$39:$B$66,MATCH(ROW()-38,$D$39:$D$66,0),1) -> Cartagena | F49: =LOOKUP(E49,$A$39:$A$66,$B$39:$B$66) -> 45324 | G49: =LOOKUP(E49,$A$39:$A$66,$C$39:$C$66) -> 16360
A50: =A18 -> Ceuta | B50: =E18 -> 666984 | C50: =D18 -> 464192 | D50: =_xlfn.RANK.EQ(B50,$B$39:$B$66)+COUNTIF($B$39:$B$66,B50)-1 -> 4 | E50: =INDEX($A$39:$B$66,MATCH(ROW()-38,$D$39:$D$66,0),1) -> Almería | F50: =LOOKUP(E50,$A$39:$A$66,$B$39:$B$66) -> 40964 | G50: =LOOKUP(E50,$A$39:$A$66,$C$39:$C$66) -> 24545
... A66: =A34 -> Vilagarcía | B66: =E34 -> 2051 | C66: =D34 -> 1794 | D66: =_xlfn.RANK.EQ(B66,$B$39:$B$66)+COUNTIF($B$39:$B$66,B66)-1 -> 25 | E66: =INDEX($A$39:$B$66,MATCH(ROW()-38,$D$39:$D$66,0),1) -> Castellón | F66: =LOOKUP(E66,$A$39:$A$66,$B$39:$B$66) -> 0 | G66: =LOOKUP(E66,$A$39:$A$66,$C$39:$C$66) -> 0

Sheet Tráfico interior
F1: 7. TRÁFICO INTERIOR (toneladas)
A5: Autoridad Portuaria | B5: ='Resumen general'!D6 -> Mes diciembre | D5: ='Resumen general'!F6 -> Acumulado desde enero | L5: ='Resumen general'!I4 -> Fecha: 27/01/2023
B6: ='Resumen general'!D7 -> 2021 | C6: ='Resumen general'!E7 -> 2022 | D6: ='Resumen general'!F7 -> 2021 | E6: ='Resumen general'!G7 -> 2022 | F6: Var. (%)
A7: A Coruña | B7: 0 | C7: 0 | D7: 619 | E7: 0 | F7: =((E7*100)/D7)-100 -> -100
A8: Alicante | B8: 0 | C8: 0 | D8: 0 | E8: 0 | F8: =((E8*100)/D8)-100 -> #DIV/0!
A9: Almería | B9: 0 | C9: 0 | D9: 0 | E9: 0 | F9: =((E9*100)/D9)-100 -> #DIV/0!
A10: Avilés | B10: 0 | C10: 0 | D10: 10001 | E10: 0 | F10: =((E10*100)/D10)-100 -> -100
A11: Bahía de Algeciras | B11: 287127 | C11: 262149 | D11: 2588251 | E11: 3537282 | F11: =((E11*100)/D11)-100 -> 36.666884
A12: Bahía de Cádiz | B12: 0 | C12: 0 | D12: 0 | E12: 0 | F12: =((E12*100)/D12)-100 -> #DIV/0!
A13: Baleares | B13: 0 | C13: 114 | D13: 0 | E13: 0 | F13: =((E13*100)/D13)-100 -> #DIV/0!
A14: Barcelona | B14: 0 | C14: 0 | D14: 0 | E14: 0 | F14: =((E14*100)/D14)-100 -> #DIV/0!
A15: Bilbao | B15: 0 | C15: 0 | D15: 0 | E15: 0 | F15: =((E15*100)/D15)-100 -> #DIV/0!
A16: Cartagena | B16: 0 | C16: 0 | D16: 0 | E16: 0 | F16: =((E16*100)/D16)-100 -> #DIV/0!
A17: Castellón | B17: 0 | C17: 0 | D17: 0 | E17: 0 | F17: =((E17*100)/D17)-100 -> #DIV/0!
A18: Ceuta | B18: 0 | C18: 0 | D18: 0 | E18: 0 | F18: =((E18*100)/D18)-100 -> #DIV/0!
... A34: Vilagarcía | B34: 0 | C34: 0 | D34: 0 | E34: 0 | F34: =((E34*100)/D34)-100 -> #DIV/0!
A35: Total | B35: =SUM(B7:B34) -> 303068 | C35: =SUM(C7:C34) -> 275190 | D35: =SUM(D7:D34) -> 2681785 | E35: =SUM(E7:E34) -> 3818316 | F35: =((E35*100)/D35)-100 -> 42.379646
A36: Incluye cargas, descargas, tránsitos y transbordos.
B38: =E6 -> 2022 | C38: =D6 -> 2021 | F38: =B38 -> 2022 | G38: =C38 -> 2021
A39: =A7 -> A Coruña | B39: =E7 -> 0 | C39: =D7 -> 619 | D39: =_xlfn.RANK.EQ(B39,$B$39:$B$66)+COUNTIF($B$39:$B$66,B39)-1 -> 28 | E39: =INDEX($A$39:$B$66,MATCH(ROW()-38,$D$39:$D$66,0),1) -> Bahía de Algeciras | F39: =LOOKUP(E39,$A$39:$A$66,$B$39:$B$66) -> 3537282 | G39: =LOOKUP(E39,$A$39:$A$66,$C$39:$C$66) -> 2588251
A40: =A8 -> Alicante | B40: =E8 -> 0 | C40: =D8 -> 0 | D40: =_xlfn.RANK.EQ(B40,$B$39:$B$66)+COUNTIF($B$39:$B$66,B40)-1 -> 28 | E40: =INDEX($A$39:$B$66,MATCH(ROW()-38,$D$39:$D$66,0),1) -> Tarragona | F40: =LOOKUP(E40,$A$39:$A$66,$B$39:$B$66) -> 192705 | G40: =LOOKUP(E40,$A$39:$A$66,$C$39:$C$66) -> 3570
A41: =A9 -> Almería | B41: =E9 -> 0 | C41: =D9 -> 0 | D41: =_xlfn.RANK.EQ(B41,$B$39:$B$66)+COUNTIF($B$39:$B$66,B41)-1 -> 28 | E41: =INDEX($A$39:$B$66,MATCH(ROW()-38,$D$39:$D$66,0),1) -> Huelva | F41: =LOOKUP(E41,$A$39:$A$66,$B$39:$B$66) -> 86740 | G41: =LOOKUP(E41,$A$39:$A$66,$C$39:$C$66) -> 73337
A42: =A10 -> Avilés | B42: =E10 -> 0 | C42: =D10 -> 10001 | D42: =_xlfn.RANK.EQ(B42,$B$39:$B$66)+COUNTIF($B$39:$B$66,B42)-1 -> 28 | E42: =INDEX($A$39:$B$66,MATCH(ROW()-38,$D$39:$D$66,0),1) -> Santa Cruz de Tenerife | F42: =LOOKUP(E42,$A$39:$A$66,$B$39:$B$66) -> 1559 | G42: =LOOKUP(E42,$A$39:$A$66,$C$39:$C$66) -> 1034
A43: =A11 -> Bahía de Algeciras | B43: =E11 -> 3537282 | C43: =D11 -> 2588251 | D43: =_xlfn.RANK.EQ(B43,$B$39:$B$66)+COUNTIF($B$39:$B$66,B43)-1 -> 1 | E43: =INDEX($A$39:$B$66,MATCH(ROW()-38,$D$39:$D$66,0),1) -> Ferrol-San Cibrao | F43: =LOOKUP(E43,$A$39:$A$66,$B$39:$B$66) -> 29 | G43: =LOOKUP(E43,$A$39:$A$66,$C$39:$C$66) -> 4972
A44: =A12 -> Bahía de Cádiz | B44: =E12 -> 0 | C44: =D12 -> 0 | D44: =_xlfn.RANK.EQ(B44,$B$39:$B$66)+COUNTIF($B$39:$B$66,B44)-1 -> 28 | E44: =INDEX($A$39:$B$66,MATCH(ROW()-38,$D$39:$D$66,0),1) -> Las Palmas | F44: =LOOKUP(E44,$A$39:$A$66,$B$39:$B$66) -> 1 | G44: =LOOKUP(E44,$A$39:$A$66,$C$39:$C$66) -> 1
A45: =A13 -> Baleares | B45: =E13 -> 0 | C45: =D13 -> 0 | D45: =_xlfn.RANK.EQ(B45,$B$39:$B$66)+COUNTIF($B$39:$B$66,B45)-1 -> 28 | E45: =INDEX($A$39:$B$66,MATCH(ROW()-38,$D$39:$D$66,0),1) -> #N/A | F45: =LOOKUP(E45,$A$39:$A$66,$B$39:$B$66) -> #N/A | G45: =LOOKUP(E45,$A$39:$A$66,$C$39:$C$66) -> #N/A
A46: =A14 -> Barcelona | B46: =E14 -> 0 | C46: =D14 -> 0 | D46: =_xlfn.RANK.EQ(B46,$B$39:$B$66)+COUNTIF($B$39:$B$66,B46)-1 -> 28 | E46: =INDEX($A$39:$B$66,MATCH(ROW()-38,$D$39:$D$66,0),1) -> #N/A | F46: =LOOKUP(E46,$A$39:$A$66,$B$39:$B$66) -> #N/A | G46: =LOOKUP(E46,$A$39:$A$66,$C$39:$C$66) -> #N/A
A47: =A15 -> Bilbao | B47: =E15 -> 0 | C47: =D15 -> 0 | D47: =_xlfn.RANK.EQ(B47,$B$39:$B$66)+COUNTIF($B$39:$B$66,B47)-1 -> 28 | E47: =INDEX($A$39:$B$66,MATCH(ROW()-38,$D$39:$D$66,0),1) -> #N/A | F47: =LOOKUP(E47,$A$39:$A$66,$B$39:$B$66) -> #N/A | G47: =LOOKUP(E47,$A$39:$A$66,$C$39:$C$66) -> #N/A
A48: =A16 -> Cartagena | B48: =E16 -> 0 | C48: =D16 -> 0 | D48: =_xlfn.RANK.EQ(B48,$B$39:$B$66)+COUNTIF($B$39:$B$66,B48)-1 -> 28 | E48: MELILLA | F48: =LOOKUP(E48,$A$39:$A$66,$B$39:$B$66) -> 0 | G48: =LOOKUP(E48,$A$39:$A$66,$C$39:$C$66) -> 0
A49: =A17 -> Castellón | B49: =E17 -> 0 | C49: =D17 -> 0 | D49: =_xlfn.RANK.EQ(B49,$B$39:$B$66)+COUNTIF($B$39:$B$66,B49)-1 -> 28 | E49: =INDEX($A$39:$B$66,MATCH(ROW()-38,$D$39:$D$66,0),1) -> #N/A | F49: =LOOKUP(E49,$A$39:$A$66,$B$39:$B$66) -> #N/A | G49: =LOOKUP(E49,$A$39:$A$66,$C$39:$C$66) -> #N/A
A50: =A18 -> Ceuta | B50: =E18 -> 0 | C50: =D18 -> 0 | D50: =_xlfn.RANK.EQ(B50,$B$39:$B$66)+COUNTIF($B$39:$B$66,B50)-1 -> 28 | E50: =INDEX($A$39:$B$66,MATCH(ROW()-38,$D$39:$D$66,0),1) -> #N/A | F50: =LOOKUP(E50,$A$39:$A$66,$B$39:$B$66) -> #N/A | G50: =LOOKUP(E50,$A$39:$A$66,$C$39:$C$66) -> #N/A
A51: =A19 -> Ferrol-San Cibrao | B51: =E19 -> 29 | C51: =D19 -> 4972 | D51: =_xlfn.RANK.EQ(B51,$B$39:$B$66)+COUNTIF($B$39:$B$66,B51)-1 -> 5 | E51: =INDEX($A$39:$B$66,MATCH(ROW()-38,$D$39:$D$66,0),1) -> #N/A | F51: =LOOKUP(E51,$A$39:$A$66,$B$39:$B$66) -> #N/A | G51: =LOOKUP(E51,$A$39:$A$66,$C$39:$C$66) -> #N/A
A52: =A20 -> Gijón | B52: =E20 -> 0 | C52: =D20 -> 0 | D52: =_xlfn.RANK.EQ(B52,$B$39:$B$66)+COUNTIF($B$39:$B$66,B52)-1 -> 28 | E52: =INDEX($A$39:$B$66,MATCH(ROW()-38,$D$39:$D$66,0),1) -> #N/A | F52: =LOOKUP(E52,$A$39:$A$66,$B$39:$B$66) -> #N/A | G52: =LOOKUP(E52,$A$39:$A$66,$C$39:$C$66) -> #N/A
A53: =A21 -> Huelva | B53: =E21 -> 86740 | C53: =D21 -> 73337 | D53: =_xlfn.RANK.EQ(B53,$B$39:$B$66)+COUNTIF($B$39:$B$66,B53)-1 -> 3 | E53: =INDEX($A$39:$B$66,MATCH(ROW()-38,$D$39:$D$66,0),1) -> #N/A | F53: =LOOKUP(E53,$A$39:$A$66,$B$39:$B$66) -> #N/A | G53: =LOOKUP(E53,$A$39:$A$66,$C$39:$C$66) -> #N/A
A54: =A22 -> Las Palmas | B54: =E22 -> 1 | C54: =D22 -> 1 | D54: =_xlfn.RANK.EQ(B54,$B$39:$B$66)+COUNTIF($B$39:$B$66,B54)-1 -> 6 | E54: =INDEX($A$39:$B$66,MATCH(ROW()-38,$D$39:$D$66,0),1) -> #N/A | F54: =LOOKUP(E54,$A$39:$A$66,$B$39:$B$66) -> #N/A | G54: =LOOKUP(E54,$A$39:$A$66,$C$39:$C$66) -> #N/A
A55: =A23 -> Málaga | B55: =E23 -> 0 | C55: =D23 -> 0 | D55: =_xlfn.RANK.EQ(B55,$B$39:$B$66)+COUNTIF($B$39:$B$66,B55)-1 -> 28 | E55: =INDEX($A$39:$B$66,MATCH(ROW()-38,$D$39:$D$66,0),1) -> #N/A | F55: =LOOKUP(E55,$A$39:$A$66,$B$39:$B$66) -> #N/A | G55: =LOOKUP(E55,$A$39:$A$66,$C$39:$C$66) -> #N/A
A56: =A24 -> Marín y Ría de Pontevedra | B56: =E24 -> 0 | C56: =D24 -> 0 | D56: =_xlfn.RANK.EQ(B56,$B$39:$B$66)+COUNTIF($B$39:$B$66,B56)-1 -> 28 | E56: =INDEX($A$39:$B$66,MATCH(ROW()-38,$D$39:$D$66,0),1) -> #N/A | F56: =LOOKUP(E56,$A$39:$A$66,$B$39:$B$66) -> #N/A | G56: =LOOKUP(E56,$A$39:$A$66,$C$39:$C$66) -> #N/A
A57: =A25 -> Melilla | B57: =E25 -> 0 | C57: =D25 -> 0 | D57: =_xlfn.RANK.EQ(B57,$B$39:$B$66)+COUNTIF($B$39:$B$66,B57)-1 -> 28 | E57: =INDEX($A$39:$B$66,MATCH(ROW()-38,$D$39:$D$66,0),1) -> #N/A | F57: =LOOKUP(E57,$A$39:$A$66,$B$39:$B$66) -> #N/A | G57: =LOOKUP(E57,$A$39:$A$66,$C$39:$C$66) -> #N/A
A58: =A26 -> Motril | B58: =E26 -> 0 | C58: =D26 -> 0 | D58: =_xlfn.RANK.EQ(B58,$B$39:$B$66)+COUNTIF($B$39:$B$66,B58)-1 -> 28 | E58: =INDEX($A$39:$B$66,MATCH(ROW()-38,$D$39:$D$66,0),1) -> #N/A | F58: =LOOKUP(E58,$A$39:$A$66,$B$39:$B$66) -> #N/A | G58: =LOOKUP(E58,$A$39:$A$66,$C$39:$C$66) -> #N/A
A59: =A27 -> Pasaia | B59: =E27 -> 0 | C59: =D27 -> 0 | D59: =_xlfn.RANK.EQ(B59,$B$39:$B$66)+COUNTIF($B$39:$B$66,B59)-1 -> 28 | E59: =INDEX($A$39:$B$66,MATCH(ROW()-38,$D$39:$D$66,0),1) -> #N/A | F59: =LOOKUP(E59,$A$39:$A$66,$B$39:$B$66) -> #N/A | G59: =LOOKUP(E59,$A$39:$A$66,$C$39:$C$66) -> #N/A
A60: =A28 -> Santa Cruz de Tenerife | B60: =E28 -> 1559 | C60: =D28 -> 1034 | D60: =_xlfn.RANK.EQ(B60,$B$39:$B$66)+COUNTIF($B$39:$B$66,B60)-1 -> 4 | E60: =INDEX($A$39:$B$66,MATCH(ROW()-38,$D$39:$D$66,0),1) -> #N/A | F60: =LOOKUP(E60,$A$39:$A$66,$B$39:$B$66) -> #N/A | G60: =LOOKUP(E60,$A$39:$A$66,$C$39:$C$66) -> #N/A
... A66: =A34 -> Vilagarcía | B66: =E34 -> 0 | C66: =D34 -> 0 | D66: =_xlfn.RANK.EQ(B66,$B$39:$B$66)+COUNTIF($B$39:$B$66,B66)-1 -> 28 | E66: =INDEX($A$39:$B$66,MATCH(ROW()-38,$D$39:$D$66,0),1) -> A Coruña | F66: =LOOKUP(E66,$A$39:$A$66,$B$39:$B$66) -> 0 | G66: =LOOKUP(E66,$A$39:$A$66,$C$39:$C$66) -> 619

Sheet Mercancías tránsito
F1: 8. MERCANCÍAS EN TRÁNSITO (toneladas)
A5: Autoridad Portuaria | B5: ='Resumen general'!D6 -> Mes diciembre | D5: ='Resumen general'!F6 -> Acumulado desde enero | L5: ='Resumen general'!I4 -> Fecha: 27/01/2023
B6: ='Resumen general'!D7 -> 2021 | C6: ='Resumen general'!E7 -> 2022 | D6: ='Resumen general'!F7 -> 2021 | E6: ='Resumen general'!G7 -> 2022 | F6: Var. (%)
A7: A Coruña | B7: 0 | C7: 470045 | D7: 0 | E7: 1929275 | F7: =((E7*100)/D7)-100 -> #DIV/0!
A8: Alicante | B8: 2987 | C8: 1076 | D8: 27100 | E8: 18634 | F8: =((E8*100)/D8)-100 -> -31.239852
A9: Almería | B9: 0 | C9: 0 | D9: 2 | E9: 11322 | F9: =((E9*100)/D9)-100 -> 566000
A10: Avilés | B10: 3005 | C10: 0 | D10: 4765 | E10: 6050 | F10: =((E10*100)/D10)-100 -> 26.967471
A11: Bahía de Algeciras | B11: 5371965 | C11: 4913978 | D11: 65954089 | E11: 62961267 | F11: =((E11*100)/D11)-100 -> -4.5377353
A12: Bahía de Cádiz | B12: 165977 | C12: 151465 | D12: 1636471 | E12: 1889851 | F12: =((E12*100)/D12)-100 -> 15.483317
A13: Baleares | B13: 641 | C13: 1313 | D13: 15904 | E13: 19954 | F13: =((E13*100)/D13)-100 -> 25.465292
A14: Barcelona | B14: 2004756 | C14: 1975091 | D14: 22944117 | E14: 25419178 | F14: =((E14*100)/D14)-100 -> 10.787345
A15: Bilbao | B15: 7131 | C15: 7688 | D15: 51915 | E15: 102489 | F15: =((E15*100)/D15)-100 -> 97.416932
A16: Cartagena | B16: 0 | C16: 0 | D16: 67943 | E16: 121779 | F16: =((E16*100)/D16)-100 -> 79.237007
A17: Castellón | B17: 10870 | C17: 9633 | D17: 76435 | E17: 35390 | F17: =((E17*100)/D17)-100 -> -53.699222
A18: Ceuta | B18: 0 | C18: 0 | D18: 37 | E18: 0 | F18: =((E18*100)/D18)-100 -> -100
... A34: Vilagarcía | B34: 33 | C34: 0 | D34: 8365 | E34: 24544 | F34: =((E34*100)/D34)-100 -> 193.41303
A35: Total | B35: =SUM(B7:B34) -> 12188800 | C35: =SUM(C7:C34) -> 12263288 | D35: =SUM(D7:D34) -> 150220169 | E35: =SUM(E7:E34) -> 147413351 | F35: =((E35*100)/D35)-100 -> -1.8684695
A36: No incluye transbordos.
B38: =E6 -> 2022 | C38: =D6 -> 2021 | F38: =B38 -> 2022 | G38: =C38 -> 2021
A39: =A7 -> A Coruña | B39: =E7 -> 1929275 | C39: =D7 -> 0 | D39: =_xlfn.RANK.EQ(B39,$B$39:$B$66)+COUNTIF($B$39:$B$66,B39)-1 -> 9 | E39: =INDEX($A$39:$B$66,MATCH(ROW()-38,$D$39:$D$66,0),1) -> Bahía de Algeciras | F39: =LOOKUP(E39,$A$39:$A$66,$B$39:$B$66) -> 62961267 | G39: =LOOKUP(E39,$A$39:$A$66,$C$39:$C$66) -> 65954089
A40: =A8 -> Alicante | B40: =E8 -> 18634 | C40: =D8 -> 27100 | D40: =_xlfn.RANK.EQ(B40,$B$39:$B$66)+COUNTIF($B$39:$B$66,B40)-1 -> 21 | E40: =INDEX($A$39:$B$66,MATCH(ROW()-38,$D$39:$D$66,0),1) -> Valencia | F40: =LOOKUP(E40,$A$39:$A$66,$B$39:$B$66) -> 30338909 | G40: =LOOKUP(E40,$A$39:$A$66,$C$39:$C$66) -> 36601812
A41: =A9 -> Almería | B41: =E9 -> 11322 | C41: =D9 -> 2 | D41: =_xlfn.RANK.EQ(B41,$B$39:$B$66)+COUNTIF($B$39:$B$66,B41)-1 -> 22 | E41: =INDEX($A$39:$B$66,MATCH(ROW()-38,$D$39:$D$66,0),1) -> Barcelona | F41: =LOOKUP(E41,$A$39:$A$66,$B$39:$B$66) -> 25419178 | G41: =LOOKUP(E41,$A$39:$A$66,$C$39:$C$66) -> 22944117
A42: =A10 -> Avilés | B42: =E10 -> 6050 | C42: =D10 -> 4765 | D42: =_xlfn.RANK.EQ(B42,$B$39:$B$66)+COUNTIF($B$39:$B$66,B42)-1 -> 24 | E42: =INDEX($A$39:$B$66,MATCH(ROW()-38,$D$39:$D$66,0),1) -> Las Palmas | F42: =LOOKUP(E42,$A$39:$A$66,$B$39:$B$66) -> 12125491 | G42: =LOOKUP(E42,$A$39:$A$66,$C$39:$C$66) -> 13593061
A43: =A11 -> Bahía de Algeciras | B43: =E11 -> 62961267 | C43: =D11 -> 65954089 | D43: =_xlfn.RANK.EQ(B43,$B$39:$B$66)+COUNTIF($B$39:$B$66,B43)-1 -> 1 | E43: =INDEX($A$39:$B$66,MATCH(ROW()-38,$D$39:$D$66,0),1) -> Gijón | F43: =LOOKUP(E43,$A$39:$A$66,$B$39:$B$66) -> 3180472 | G43: =LOOKUP(E43,$A$39:$A$66,$C$39:$C$66) -> 550519
A44: =A12 -> Bahía de Cádiz | B44: =E12 -> 1889851 | C44: =D12 -> 1636471 | D44: =_xlfn.RANK.EQ(B44,$B$39:$B$66)+COUNTIF($B$39:$B$66,B44)-1 -> 10 | E44: =INDEX($A$39:$B$66,MATCH(ROW()-38,$D$39:$D$66,0),1) -> Tarragona | F44: =LOOKUP(E44,$A$39:$A$66,$B$39:$B$66) -> 3077431 | G44: =LOOKUP(E44,$A$39:$A$66,$C$39:$C$66) -> 2603281
A45: =A13 -> Baleares | B45: =E13 -> 19954 | C45: =D13 -> 15904 | D45: =_xlfn.RANK.EQ(B45,$B$39:$B$66)+COUNTIF($B$39:$B$66,B45)-1 -> 20 | E45: =INDEX($A$39:$B$66,MATCH(ROW()-38,$D$39:$D$66,0),1) -> Huelva | F45: =LOOKUP(E45,$A$39:$A$66,$B$39:$B$66) -> 2279543 | G45: =LOOKUP(E45,$A$39:$A$66,$C$39:$C$66) -> 2805553
A46: =A14 -> Barcelona | B46: =E14 -> 25419178 | C46: =D14 -> 22944117 | D46: =_xlfn.RANK.EQ(B46,$B$39:$B$66)+COUNTIF($B$39:$B$66,B46)-1 -> 3 | E46: =INDEX($A$39:$B$66,MATCH(ROW()-38,$D$39:$D$66,0),1) -> Málaga | F46: =LOOKUP(E46,$A$39:$A$66,$B$39:$B$66) -> 2121396 | G46: =LOOKUP(E46,$A$39:$A$66,$C$39:$C$66) -> 2093769
A47: =A15 -> Bilbao | B47: =E15 -> 102489 | C47: =D15 -> 51915 | D47: =_xlfn.RANK.EQ(B47,$B$39:$B$66)+COUNTIF($B$39:$B$66,B47)-1 -> 15 | E47: =INDEX($A$39:$B$66,MATCH(ROW()-38,$D$39:$D$66,0),1) -> A Coruña | F47: =LOOKUP(E47,$A$39:$A$66,$B$39:$B$66) -> 1929275 | G47: =LOOKUP(E47,$A$39:$A$66,$C$39:$C$66) -> 0
A48: =A16 -> Cartagena | B48: =E16 -> 121779 | C48: =D16 -> 67943 | D48: =_xlfn.RANK.EQ(B48,$B$39:$B$66)+COUNTIF($B$39:$B$66,B48)-1 -> 14 | E48: =INDEX($A$39:$B$66,MATCH(ROW()-38,$D$39:$D$66,0),1) -> Bahía de Cádiz | F48: =LOOKUP(E48,$A$39:$A$66,$B$39:$B$66) -> 1889851 | G48: =LOOKUP(E48,$A$39:$A$66,$C$39:$C$66) -> 1636471
A49: =A17 -> Castellón | B49: =E17 -> 35390 | C49: =D17 -> 76435 | D49: =_xlfn.RANK.EQ(B49,$B$39:$B$66)+COUNTIF($B$39:$B$66,B49)-1 -> 18 | E49: =INDEX($A$39:$B$66,MATCH(ROW()-38,$D$39:$D$66,0),1) -> Ferrol-San Cibrao | F49: =LOOKUP(E49,$A$39:$A$66,$B$39:$B$66) -> 686156 | G49: =LOOKUP(E49,$A$39:$A$66,$C$39:$C$66) -> 7065
A50: =A18 -> Ceuta | B50: =E18 -> 0 | C50: =D18 -> 37 | D50: =_xlfn.RANK.EQ(B50,$B$39:$B$66)+COUNTIF($B$39:$B$66,B50)-1 -> 28 | E50: =INDEX($A$39:$B$66,MATCH(ROW()-38,$D$39:$D$66,0),1) -> Santa Cruz de Tenerife | F50: =LOOKUP(E50,$A$39:$A$66,$B$39:$B$66) -> 645508 | G50: =LOOKUP(E50,$A$39:$A$66,$C$39:$C$66) -> 619076
... A66: =A34 -> Vilagarcía | B66: =E34 -> 24544 | C66: =D34 -> 8365 | D66: =_xlfn.RANK.EQ(B66,$B$39:$B$66)+COUNTIF($B$39:$B$66,B66)-1 -> 19 | E66: =INDEX($A$39:$B$66,MATCH(ROW()-38,$D$39:$D$66,0),1) -> Ceuta | F66: =LOOKUP(E66,$A$39:$A$66,$B$39:$B$66) -> 0 | G66: =LOOKUP(E66,$A$39:$A$66,$C$39:$C$66) -> 37

Sheet Mercan. contene. tránsito
F1: 8.1. MERCANCÍAS EN CONTENEDORES EN TRÁNSITO (toneladas)
A5: Autoridad Portuaria | B5: ='Resumen general'!D6 -> Mes diciembre | D5: ='Resumen general'!F6 -> Acumulado desde enero | L5: ='Resumen general'!I4 -> Fecha: 27/01/2023
B6: ='Resumen general'!D7 -> 2021 | C6: ='Resumen general'!E7 -> 2022 | D6: ='Resumen general'!F7 -> 2021 | E6: ='Resumen general'!G7 -> 2022 | F6: Var. (%)
A7: A Coruña | B7: 0 | C7: 0 | D7: 0 | E7: 0 | F7: =((E7*100)/D7)-100 -> #DIV/0!
A8: Alicante | B8: 2987 | C8: 1076 | D8: 27100 | E8: 18634 | F8: =((E8*100)/D8)-100 -> -31.239852
A9: Almería | B9: 0 | C9: 0 | D9: 2 | E9: 791 | F9: =((E9*100)/D9)-100 -> 39450
A10: Avilés | B10: 0 | C10: 0 | D10: 0 | E10: 0 | F10: =((E10*100)/D10)-100 -> #DIV/0!
A11: Bahía de Algeciras | B11: 4311824 | C11: 3963595 | D11: 52695003 | E11: 50017308 | F11: =((E11*100)/D11)-100 -> -5.081497
A12: Bahía de Cádiz | B12: 36783 | C12: 18084 | D12: 474420 | E12: 348442 | F12: =((E12*100)/D12)-100 -> -26.554108
A13: Baleares | B13: 0 | C13: 0 | D13: 92 | E13: 15 | F13: =((E13*100)/D13)-100 -> -83.695652
A14: Barcelona | B14: 1570865 | C14: 1306198 | D14: 17922205 | E14: 18851176 | F14: =((E14*100)/D14)-100 -> 5.1833522
A15: Bilbao | B15: 7131 | C15: 5783 | D15: 28822 | E15: 55931 | F15: =((E15*100)/D15)-100 -> 94.056623
A16: Cartagena | B16: 0 | C16: 0 | D16: 136 | E16: 783 | F16: =((E16*100)/D16)-100 -> 475.73529
A17: Castellón | B17: 10816 | C17: 9633 | D17: 74519 | E17: 34576 | F17: =((E17*100)/D17)-100 -> -53.601095
A18: Ceuta | B18: 0 | C18: 0 | D18: 29 | E18: 0 | F18: =((E18*100)/D18)-100 -> -100
... A34: Vilagarcía | B34: 33 | C34: 0 | D34: 1180 | E34: 1780 | F34: =((E34*100)/D34)-100 -> 50.847458
A35: Total | B35: =SUM(B7:B34) -> 9828584 | C35: =SUM(C7:C34) -> 8419471 | D35: =SUM(D7:D34) -> 118858394 | E35: =SUM(E7:E34) -> 110836651 | F35: =((E35*100)/D35)-100 -> -6.7489916
A36: No incluye transbordos.
B38: =E6 -> 2022 | C38: =D6 -> 2021 | F38: =B38 -> 2022 | G38: =C38 -> 2021
A39: =A7 -> A Coruña | B39: =E7 -> 0 | C39: =D7 -> 0 | D39: =_xlfn.RANK.EQ(B39,$B$39:$B$66)+COUNTIF($B$39:$B$66,B39)-1 -> 28 | E39: =INDEX($A$39:$B$66,MATCH(ROW()-38,$D$39:$D$66,0),1) -> Bahía de Algeciras | F39: =LOOKUP(E39,$A$39:$A$66,$B$39:$B$66) -> 50017308 | G39: =LOOKUP(E39,$A$39:$A$66,$C$39:$C$66) -> 52695003
A40: =A8 -> Alicante | B40: =E8 -> 18634 | C40: =D8 -> 27100 | D40: =_xlfn.RANK.EQ(B40,$B$39:$B$66)+COUNTIF($B$39:$B$66,B40)-1 -> 13 | E40: =INDEX($A$39:$B$66,MATCH(ROW()-38,$D$39:$D$66,0),1) -> Valencia | F40: =LOOKUP(E40,$A$39:$A$66,$B$39:$B$66) -> 29810692 | G40: =LOOKUP(E40,$A$39:$A$66,$C$39:$C$66) -> 35900587
A41: =A9 -> Almería | B41: =E9 -> 791 | C41: =D9 -> 2 | D41: =_xlfn.RANK.EQ(B41,$B$39:$B$66)+COUNTIF($B$39:$B$66,B41)-1 -> 17 | E41: =INDEX($A$39:$B$66,MATCH(ROW()-38,$D$39:$D$66,0),1) -> Barcelona | F41: =LOOKUP(E41,$A$39:$A$66,$B$39:$B$66) -> 18851176 | G41: =LOOKUP(E41,$A$39:$A$66,$C$39:$C$66) -> 17922205
A42: =A10 -> Avilés | B42: =E10 -> 0 | C42: =D10 -> 0 | D42: =_xlfn.RANK.EQ(B42,$B$39:$B$66)+COUNTIF($B$39:$B$66,B42)-1 -> 28 | E42: =INDEX($A$39:$B$66,MATCH(ROW()-38,$D$39:$D$66,0),1) -> Las Palmas | F42: =LOOKUP(E42,$A$39:$A$66,$B$39:$B$66) -> 8463931 | G42: =LOOKUP(E42,$A$39:$A$66,$C$39:$C$66) -> 9036094
A43: =A11 -> Bahía de Algeciras | B43: =E11 -> 50017308 | C43: =D11 -> 52695003 | D43: =_xlfn.RANK.EQ(B43,$B$39:$B$66)+COUNTIF($B$39:$B$66,B43)-1 -> 1 | E43: =INDEX($A$39:$B$66,MATCH(ROW()-38,$D$39:$D$66,0),1) -> Málaga | F43: =LOOKUP(E43,$A$39:$A$66,$B$39:$B$66) -> 2099658 | G43: =LOOKUP(E43,$A$39:$A$66,$C$39:$C$66) -> 1969857
A44: =A12 -> Bahía de Cádiz | B44: =E12 -> 348442 | C44: =D12 -> 474420 | D44: =_xlfn.RANK.EQ(B44,$B$39:$B$66)+COUNTIF($B$39:$B$66,B44)-1 -> 7 | E44: =INDEX($A$39:$B$66,MATCH(ROW()-38,$D$39:$D$66,0),1) -> Santa Cruz de Tenerife | F44: =LOOKUP(E44,$A$39:$A$66,$B$39:$B$66) -> 598192 | G44: =LOOKUP(E44,$A$39:$A$66,$C$39:$C$66) -> 571249
A45: =A13 -> Baleares | B45: =E13 -> 15 | C45: =D13 -> 92 | D45: =_xlfn.RANK.EQ(B45,$B$39:$B$66)+COUNTIF($B$39:$B$66,B45)-1 -> 21 | E45: =INDEX($A$39:$B$66,MATCH(ROW()-38,$D$39:$D$66,0),1) -> Bahía de Cádiz | F45: =LOOKUP(E45,$A$39:$A$66,$B$39:$B$66) -> 348442 | G45: =LOOKUP(E45,$A$39:$A$66,$C$39:$C$66) -> 474420
A46: =A14 -> Barcelona | B46: =E14 -> 18851176 | C46: =D14 -> 17922205 | D46: =_xlfn.RANK.EQ(B46,$B$39:$B$66)+COUNTIF($B$39:$B$66,B46)-1 -> 3 | E46: =INDEX($A$39:$B$66,MATCH(ROW()-38,$D$39:$D$66,0),1) -> Tarragona | F46: =LOOKUP(E46,$A$39:$A$66,$B$39:$B$66) -> 298138 | G46: =LOOKUP(E46,$A$39:$A$66,$C$39:$C$66) -> 1941
A47: =A15 -> Bilbao | B47: =E15 -> 55931 | C47: =D15 -> 28822 | D47: =_xlfn.RANK.EQ(B47,$B$39:$B$66)+COUNTIF($B$39:$B$66,B47)-1 -> 10 | E47: =INDEX($A$39:$B$66,MATCH(ROW()-38,$D$39:$D$66,0),1) -> Vigo | F47: =LOOKUP(E47,$A$39:$A$66,$B$39:$B$66) -> 173815 | G47: =LOOKUP(E47,$A$39:$A$66,$C$39:$C$66) -> 145962
A48: =A16 -> Cartagena | B48: =E16 -> 783 | C48: =D16 -> 136 | D48: =_xlfn.RANK.EQ(B48,$B$39:$B$66)+COUNTIF($B$39:$B$66,B48)-1 -> 18 | E48: =INDEX($A$39:$B$66,MATCH(ROW()-38,$D$39:$D$66,0),1) -> Bilbao | F48: =LOOKUP(E48,$A$39:$A$66,$B$39:$B$66) -> 55931 | G48: =LOOKUP(E48,$A$39:$A$66,$C$39:$C$66) -> 28822
A49: =A17 -> Castellón | B49: =E17 -> 34576 | C49: =D17 -> 74519 | D49: =_xlfn.RANK.EQ(B49,$B$39:$B$66)+COUNTIF($B$39:$B$66,B49)-1 -> 12 | E49: =INDEX($A$39:$B$66,MATCH(ROW()-38,$D$39:$D$66,0),1) -> Ferrol-San Cibrao | F49: =LOOKUP(E49,$A$39:$A$66,$B$39:$B$66) -> 49378 | G49: =LOOKUP(E49,$A$39:$A$66,$C$39:$C$66) -> 0
A50: =A18 -> Ceuta | B50: =E18 -> 0 | C50: =D18 -> 29 | D50: =_xlfn.RANK.EQ(B50,$B$39:$B$66)+COUNTIF($B$39:$B$66,B50)-1 -> 28 | E50: =INDEX($A$39:$B$66,MATCH(ROW()-38,$D$39:$D$66,0),1) -> Castellón | F50: =LOOKUP(E50,$A$39:$A$66,$B$39:$B$66) -> 34576 | G50: =LOOKUP(E50,$A$39:$A$66,$C$39:$C$66) -> 74519
... A66: =A34 -> Vilagarcía | B66: =E34 -> 1780 | C66: =D34 -> 1180 | D66: =_xlfn.RANK.EQ(B66,$B$39:$B$66)+COUNTIF($B$39:$B$66,B66)-1 -> 15 | E66: =INDEX($A$39:$B$66,MATCH(ROW()-38,$D$39:$D$66,0),1) -> A Coruña | F66: =LOOKUP(E66,$A$39:$A$66,$B$39:$B$66) -> 0 | G66: =LOOKUP(E66,$A$39:$A$66,$C$39:$C$66) -> 0

Sheet Ro-Ro
F1: 9. TRÁFICO RO-RO (toneladas)
A5: Autoridad Portuaria | B5: ='Resumen general'!D6 -> Mes diciembre | D5: ='Resumen general'!F6 -> Acumulado desde enero | L5: ='Resumen general'!I4 -> Fecha: 27/01/2023
B6: ='Resumen general'!D7 -> 2021 | C6: ='Resumen general'!E7 -> 2022 | D6: ='Resumen general'!F7 -> 2021 | E6: ='Resumen general'!G7 -> 2022 | F6: Var. (%)
A7: A Coruña | B7: 0 | C7: 0 | D7: 0 | E7: 0 | F7: =((E7*100)/D7)-100 -> #DIV/0!
A8: Alicante | B8: 22 | C8: 4825 | D8: 10271 | E8: 55857 | F8: =((E8*100)/D8)-100 -> 443.83215
A9: Almería | B9: 92882 | C9: 73937 | D9: 856229 | E9: 830848 | F9: =((E9*100)/D9)-100 -> -2.9642771
A10: Avilés | B10: 0 | C10: 0 | D10: 0 | E10: 210 | F10: =((E10*100)/D10)-100 -> #DIV/0!
A11: Bahía de Algeciras | B11: 1242756 | C11: 1142242 | D11: 11696222 | E11: 14505706 | F11: =((E11*100)/D11)-100 -> 24.02044
A12: Bahía de Cádiz | B12: 64196 | C12: 68795 | D12: 748495 | E12: 775132 | F12: =((E12*100)/D12)-100 -> 3.5587412
A13: Baleares | B13: 1020065 | C13: 932316 | D13: 12154705 | E13: 13387541 | F13: =((E13*100)/D13)-100 -> 10.142871
A14: Barcelona | B14: 868817 | C14: 848708 | D14: 11091756 | E14: 11620714 | F14: =((E14*100)/D14)-100 -> 4.7689293
A15: Bilbao | B15: 86611 | C15: 75398 | D15: 896437 | E15: 1043088 | F15: =((E15*100)/D15)-100 -> 16.35932
A16: Cartagena | B16: 0 | C16: 0 | D16: 2154 | E16: 0 | F16: =((E16*100)/D16)-100 -> -100
A17: Castellón | B17: 46682 | C17: 17555 | D17: 410864 | E17: 325942 | F17: =((E17*100)/D17)-100 -> -20.669127
A18: Ceuta | B18: 47290 | C18: 39446 | D18: 595261 | E18: 565137 | F18: =((E18*100)/D18)-100 -> -5.0606373
... A34: Vilagarcía | B34: 0 | C34: 0 | D34: 0 | E34: 7061 | F34: =((E34*100)/D34)-100 -> #DIV/0!
A35: Total | B35: =SUM(B7:B34) -> 5577079 | C35: =SUM(C7:C34) -> 5373733 | D35: =SUM(D7:D34) -> 65293057 | E35: =SUM(E7:E34) -> 70906005 | F35: =((E35*100)/D35)-100 -> 8.5965465
A36: Incluye cargas, descargas, tránsitos y transbordos.
B38: =E6 -> 2022 | C38: =D6 -> 2021 | F38: =B38 -> 2022 | G38: =C38 -> 2021
A39: =A7 -> A Coruña | B39: =E7 -> 0 | C39: =D7 -> 0 | D39: =_xlfn.RANK.EQ(B39,$B$39:$B$66)+COUNTIF($B$39:$B$66,B39)-1 -> 28 | E39: =INDEX($A$39:$B$66,MATCH(ROW()-38,$D$39:$D$66,0),1) -> Bahía de Algeciras | F39: =LOOKUP(E39,$A$39:$A$66,$B$39:$B$66) -> 14505706 | G39: =LOOKUP(E39,$A$39:$A$66,$C$39:$C$66) -> 11696222
A40: =A8 -> Alicante | B40: =E8 -> 55857 | C40: =D8 -> 10271 | D40: =_xlfn.RANK.EQ(B40,$B$39:$B$66)+COUNTIF($B$39:$B$66,B40)-1 -> 20 | E40: =INDEX($A$39:$B$66,MATCH(ROW()-38,$D$39:$D$66,0),1) -> Baleares | F40: =LOOKUP(E40,$A$39:$A$66,$B$39:$B$66) -> 13387541 | G40: =LOOKUP(E40,$A$39:$A$66,$C$39:$C$66) -> 12154705
A41: =A9 -> Almería | B41: =E9 -> 830848 | C41: =D9 -> 856229 | D41: =_xlfn.RANK.EQ(B41,$B$39:$B$66)+COUNTIF($B$39:$B$66,B41)-1 -> 10 | E41: =INDEX($A$39:$B$66,MATCH(ROW()-38,$D$39:$D$66,0),1) -> Valencia | F41: =LOOKUP(E41,$A$39:$A$66,$B$39:$B$66) -> 12946088 | G41: =LOOKUP(E41,$A$39:$A$66,$C$39:$C$66) -> 12863187
A42: =A10 -> Avilés | B42: =E10 -> 210 | C42: =D10 -> 0 | D42: =_xlfn.RANK.EQ(B42,$B$39:$B$66)+COUNTIF($B$39:$B$66,B42)-1 -> 24 | E42: =INDEX($A$39:$B$66,MATCH(ROW()-38,$D$39:$D$66,0),1) -> Barcelona | F42: =LOOKUP(E42,$A$39:$A$66,$B$39:$B$66) -> 11620714 | G42: =LOOKUP(E42,$A$39:$A$66,$C$39:$C$66) -> 11091756
A43: =A11 -> Bahía de Algeciras | B43: =E11 -> 14505706 | C43: =D11 -> 11696222 | D43: =_xlfn.RANK.EQ(B43,$B$39:$B$66)+COUNTIF($B$39:$B$66,B43)-1 -> 1 | E43: =INDEX($A$39:$B$66,MATCH(ROW()-38,$D$39:$D$66,0),1) -> Las Palmas | F43: =LOOKUP(E43,$A$39:$A$66,$B$39:$B$66) -> 4729172 | G43: =LOOKUP(E43,$A$39:$A$66,$C$39:$C$66) -> 4038354
A44: =A12 -> Bahía de Cádiz | B44: =E12 -> 775132 | C44: =D12 -> 748495 | D44: =_xlfn.RANK.EQ(B44,$B$39:$B$66)+COUNTIF($B$39:$B$66,B44)-1 -> 11 | E44: =INDEX($A$39:$B$66,MATCH(ROW()-38,$D$39:$D$66,0),1) -> Santa Cruz de Tenerife | F44: =LOOKUP(E44,$A$39:$A$66,$B$39:$B$66) -> 3981674 | G44: =LOOKUP(E44,$A$39:$A$66,$C$39:$C$66) -> 3772772
A45: =A13 -> Baleares | B45: =E13 -> 13387541 | C45: =D13 -> 12154705 | D45: =_xlfn.RANK.EQ(B45,$B$39:$B$66)+COUNTIF($B$39:$B$66,B45)-1 -> 2 | E45: =INDEX($A$39:$B$66,MATCH(ROW()-38,$D$39:$D$66,0),1) -> Santander | F45: =LOOKUP(E45,$A$39:$A$66,$B$39:$B$66) -> 2309819 | G45: =LOOKUP(E45,$A$39:$A$66,$C$39:$C$66) -> 2430499
A46: =A14 -> Barcelona | B46: =E14 -> 11620714 | C46: =D14 -> 11091756 | D46: =_xlfn.RANK.EQ(B46,$B$39:$B$66)+COUNTIF($B$39:$B$66,B46)-1 -> 4 | E46: =INDEX($A$39:$B$66,MATCH(ROW()-38,$D$39:$D$66,0),1) -> Bilbao | F46: =LOOKUP(E46,$A$39:$A$66,$B$39:$B$66) -> 1043088 | G46: =LOOKUP(E46,$A$39:$A$66,$C$39:$C$66) -> 896437
A47: =A15 -> Bilbao | B47: =E15 -> 1043088 | C47: =D15 -> 896437 | D47: =_xlfn.RANK.EQ(B47,$B$39:$B$66)+COUNTIF($B$39:$B$66,B47)-1 -> 8 | E47: =INDEX($A$39:$B$66,MATCH(ROW()-38,$D$39:$D$66,0),1) -> Vigo | F47: =LOOKUP(E47,$A$39:$A$66,$B$39:$B$66) -> 984582 | G47: =LOOKUP(E47,$A$39:$A$66,$C$39:$C$66) -> 1071527
A48: =A16 -> Cartagena | B48: =E16 -> 0 | C48: =D16 -> 2154 | D48: =_xlfn.RANK.EQ(B48,$B$39:$B$66)+COUNTIF($B$39:$B$66,B48)-1 -> 28 | E48: =INDEX($A$39:$B$66,MATCH(ROW()-38,$D$39:$D$66,0),1) -> Almería | F48: =LOOKUP(E48,$A$39:$A$66,$B$39:$B$66) -> 830848 | G48: =LOOKUP(E48,$A$39:$A$66,$C$39:$C$66) -> 856229
A49: =A17 -> Castellón | B49: =E17 -> 325942 | C49: =D17 -> 410864 | D49: =_xlfn.RANK.EQ(B49,$B$39:$B$66)+COUNTIF($B$39:$B$66,B49)-1 -> 18 | E49: =INDEX($A$39:$B$66,MATCH(ROW()-38,$D$39:$D$66,0),1) -> Bahía de Cádiz | F49: =LOOKUP(E49,$A$39:$A$66,$B$39:$B$66) -> 775132 | G49: =LOOKUP(E49,$A$39:$A$66,$C$39:$C$66) -> 748495
A50: =A18 -> Ceuta | B50: =E18 -> 565137 | C50: =D18 -> 595261 | D50: =_xlfn.RANK.EQ(B50,$B$39:$B$66)+COUNTIF($B$39:$B$66,B50)-1 -> 14 | E50: =INDEX($A$39:$B$66,MATCH(ROW()-38,$D$39:$D$66,0),1) -> Huelva | F50: =LOOKUP(E50,$A$39:$A$66,$B$39:$B$66) -> 589853 | G50: =LOOKUP(E50,$A$39:$A$66,$C$39:$C$66) -> 458595
... A66: =A34 -> Vilagarcía | B66: =E34 -> 7061 | C66: =D34 -> 0 | D66: =_xlfn.RANK.EQ(B66,$B$39:$B$66)+COUNTIF($B$39:$B$66,B66)-1 -> 23 | E66: =INDEX($A$39:$B$66,MATCH(ROW()-38,$D$39:$D$66,0),1) -> A Coruña | F66: =LOOKUP(E66,$A$39:$A$66,$B$39:$B$66) -> 0 | G66: =LOOKUP(E66,$A$39:$A$66,$C$39:$C$66) -> 0

Sheet Ro-Ro remolques
E1: 9.1. TRÁFICO RO-RO DE REMOLQUES, SEMIRREMOLQUES Y PLATAFORMAS
I2: (unidades)
A5: Autoridad Portuaria | B5: ='Resumen general'!D6 -> Mes diciembre | D5: ='Resumen general'!F6 -> Acumulado desde enero | L5: ='Resumen general'!I4 -> Fecha: 27/01/2023
B6: ='Resumen general'!D7 -> 2021 | C6: ='Resumen general'!E7 -> 2022 | D6: ='Resumen general'!F7 -> 2021 | E6: ='Resumen general'!G7 -> 2022 | F6: Var. (%)
A7: A Coruña | B7: 0 | C7: 0 | D7: 0 | E7: 0 | F7: =((E7*100)/D7)-100 -> #DIV/0!
A8: Alicante | B8: 0 | C8: 200 | D8: 413 | E8: 2258 | F8: =((E8*100)/D8)-100 -> 446.73123
A9: Almería | B9: 1456 | C9: 1484 | D9: 16664 | E9: 19584 | F9: =((E9*100)/D9)-100 -> 17.522804
A10: Avilés | B10: 0 | C10: 0 | D10: 0 | E10: 0 | F10: =((E10*100)/D10)-100 -> #DIV/0!
A11: Bahía de Algeciras | B11: 8434 | C11: 7222 | D11: 108522 | E11: 112589 | F11: =((E11*100)/D11)-100 -> 3.7476272
A12: Bahía de Cádiz | B12: 1853 | C12: 1918 | D12: 20241 | E12: 22185 | F12: =((E12*100)/D12)-100 -> 9.6042686
A13: Baleares | B13: 5184 | C13: 20350 | D13: 37447 | E13: 83712 | F13: =((E13*100)/D13)-100 -> 123.54795
A14: Barcelona | B14: 17382 | C14: 14933 | D14: 218546 | E14: 230736 | F14: =((E14*100)/D14)-100 -> 5.5777731
A15: Bilbao | B15: 2744 | C15: 2386 | D15: 22346 | E15: 25414 | F15: =((E15*100)/D15)-100 -> 13.729527
A16: Cartagena | B16: 0 | C16: 0 | D16: 0 | E16: 0 | F16: =((E16*100)/D16)-100 -> #DIV/0!
A17: Castellón | B17: 5 | C17: 21 | D17: 6 | E17: 19 | F17: =((E17*100)/D17)-100 -> 216.66667
A18: Ceuta | B18: 1131 | C18: 955 | D18: 14576 | E18: 13542 | F18: =((E18*100)/D18)-100 -> -7.0938529
... A34: Vilagarcía | B34: 0 | C34: 0 | D34: 0 | E34: 0 | F34: =((E34*100)/D34)-100 -> #DIV/0!
A35: Total | B35: =SUM(B7:B34) -> 102664 | C35: =SUM(C7:C34) -> 109793 | D35: =SUM(D7:D34) -> 1189083 | E35: =SUM(E7:E34) -> 1304088 | F35: =((E35*100)/D35)-100 -> 9.6717386
A36: Incluye cargas, descargas, tránsitos y transbordos.
B38: =E6 -> 2022 | C38: =D6 -> 2021 | F38: =B38 -> 2022 | G38: =C38 -> 2021
A39: =A7 -> A Coruña | B39: =E7 -> 0 | C39: =D7 -> 0 | D39: =_xlfn.RANK.EQ(B39,$B$39:$B$66)+COUNTIF($B$39:$B$66,B39)-1 -> 28 | E39: =INDEX($A$39:$B$66,MATCH(ROW()-38,$D$39:$D$66,0),1) -> Valencia | F39: =LOOKUP(E39,$A$39:$A$66,$B$39:$B$66) -> 348927 | G39: =LOOKUP(E39,$A$39:$A$66,$C$39:$C$66) -> 340064
A40: =A8 -> Alicante | B40: =E8 -> 2258 | C40: =D8 -> 413 | D40: =_xlfn.RANK.EQ(B40,$B$39:$B$66)+COUNTIF($B$39:$B$66,B40)-1 -> 19 | E40: =INDEX($A$39:$B$66,MATCH(ROW()-38,$D$39:$D$66,0),1) -> Barcelona | F40: =LOOKUP(E40,$A$39:$A$66,$B$39:$B$66) -> 230736 | G40: =LOOKUP(E40,$A$39:$A$66,$C$39:$C$66) -> 218546
A41: =A9 -> Almería | B41: =E9 -> 19584 | C41: =D9 -> 16664 | D41: =_xlfn.RANK.EQ(B41,$B$39:$B$66)+COUNTIF($B$39:$B$66,B41)-1 -> 13 | E41: =INDEX($A$39:$B$66,MATCH(ROW()-38,$D$39:$D$66,0),1) -> Las Palmas | F41: =LOOKUP(E41,$A$39:$A$66,$B$39:$B$66) -> 182234 | G41: =LOOKUP(E41,$A$39:$A$66,$C$39:$C$66) -> 153458
A42: =A10 -> Avilés | B42: =E10 -> 0 | C42: =D10 -> 0 | D42: =_xlfn.RANK.EQ(B42,$B$39:$B$66)+COUNTIF($B$39:$B$66,B42)-1 -> 28 | E42: =INDEX($A$39:$B$66,MATCH(ROW()-38,$D$39:$D$66,0),1) -> Santa Cruz de Tenerife | F42: =LOOKUP(E42,$A$39:$A$66,$B$39:$B$66) -> 128356 | G42: =LOOKUP(E42,$A$39:$A$66,$C$39:$C$66) -> 116986
A43: =A11 -> Bahía de Algeciras | B43: =E11 -> 112589 | C43: =D11 -> 108522 | D43: =_xlfn.RANK.EQ(B43,$B$39:$B$66)+COUNTIF($B$39:$B$66,B43)-1 -> 5 | E43: =INDEX($A$39:$B$66,MATCH(ROW()-38,$D$39:$D$66,0),1) -> Bahía de Algeciras | F43: =LOOKUP(E43,$A$39:$A$66,$B$39:$B$66) -> 112589 | G43: =LOOKUP(E43,$A$39:$A$66,$C$39:$C$66) -> 108522
A44: =A12 -> Bahía de Cádiz | B44: =E12 -> 22185 | C44: =D12 -> 20241 | D44: =_xlfn.RANK.EQ(B44,$B$39:$B$66)+COUNTIF($B$39:$B$66,B44)-1 -> 11 | E44: =INDEX($A$39:$B$66,MATCH(ROW()-38,$D$39:$D$66,0),1) -> Baleares | F44: =LOOKUP(E44,$A$39:$A$66,$B$39:$B$66) -> 83712 | G44: =LOOKUP(E44,$A$39:$A$66,$C$39:$C$66) -> 37447
A45: =A13 -> Baleares | B45: =E13 -> 83712 | C45: =D13 -> 37447 | D45: =_xlfn.RANK.EQ(B45,$B$39:$B$66)+COUNTIF($B$39:$B$66,B45)-1 -> 6 | E45: =INDEX($A$39:$B$66,MATCH(ROW()-38,$D$39:$D$66,0),1) -> Santander | F45: =LOOKUP(E45,$A$39:$A$66,$B$39:$B$66) -> 33424 | G45: =LOOKUP(E45,$A$39:$A$66,$C$39:$C$66) -> 40292
A46: =A14 -> Barcelona | B46: =E14 -> 230736 | C46: =D14 -> 218546 | D46: =_xlfn.RANK.EQ(B46,$B$39:$B$66)+COUNTIF($B$39:$B$66,B46)-1 -> 2 | E46: =INDEX($A$39:$B$66,MATCH(ROW()-38,$D$39:$D$66,0),1) -> Huelva | F46: =LOOKUP(E46,$A$39:$A$66,$B$39:$B$66) -> 28294 | G46: =LOOKUP(E46,$A$39:$A$66,$C$39:$C$66) -> 22716
A47: =A15 -> Bilbao | B47: =E15 -> 25414 | C47: =D15 -> 22346 | D47: =_xlfn.RANK.EQ(B47,$B$39:$B$66)+COUNTIF($B$39:$B$66,B47)-1 -> 9 | E47: =INDEX($A$39:$B$66,MATCH(ROW()-38,$D$39:$D$66,0),1) -> Bilbao | F47: =LOOKUP(E47,$A$39:$A$66,$B$39:$B$66) -> 25414 | G47: =LOOKUP(E47,$A$39:$A$66,$C$39:$C$66) -> 22346
A48: =A16 -> Cartagena | B48: =E16 -> 0 | C48: =D16 -> 0 | D48: =_xlfn.RANK.EQ(B48,$B$39:$B$66)+COUNTIF($B$39:$B$66,B48)-1 -> 28 | E48: =INDEX($A$39:$B$66,MATCH(ROW()-38,$D$39:$D$66,0),1) -> Melilla | F48: =LOOKUP(E48,$A$39:$A$66,$B$39:$B$66) -> 22296 | G48: =LOOKUP(E48,$A$39:$A$66,$C$39:$C$66) -> 21843
A49: =A17 -> Castellón | B49: =E17 -> 19 | C49: =D17 -> 6 | D49: =_xlfn.RANK.EQ(B49,$B$39:$B$66)+COUNTIF($B$39:$B$66,B49)-1 -> 21 | E49: =INDEX($A$39:$B$66,MATCH(ROW()-38,$D$39:$D$66,0),1) -> Bahía de Cádiz | F49: =LOOKUP(E49,$A$39:$A$66,$B$39:$B$66) -> 22185 | G49: =LOOKUP(E49,$A$39:$A$66,$C$39:$C$66) -> 20241
A50: =A18 -> Ceuta | B50: =E18 -> 13542 | C50: =D18 -> 14576 | D50: =_xlfn.RANK.EQ(B50,$B$39:$B$66)+COUNTIF($B$39:$B$66,B50)-1 -> 14 | E50: =INDEX($A$39:$B$66,MATCH(ROW()-38,$D$39:$D$66,0),1) -> Málaga | F50: =LOOKUP(E50,$A$39:$A$66,$B$39:$B$66) -> 20508 | G50: =LOOKUP(E50,$A$39:$A$66,$C$39:$C$66) -> 20033
... A66: =A34 -> Vilagarcía | B66: =E34 -> 0 | C66: =D34 -> 0 | D66: =_xlfn.RANK.EQ(B66,$B$39:$B$66)+COUNTIF($B$39:$B$66,B66)-1 -> 28 | E66: =INDEX($A$39:$B$66,MATCH(ROW()-38,$D$39:$D$66,0),1) -> A Coruña | F66: =LOOKUP(E66,$A$39:$A$66,$B$39:$B$66) -> 0 | G66: =LOOKUP(E66,$A$39:$A$66,$C$39:$C$66) -> 0

Sheet TEUS
F1: 10. CONTENEDORES (TEUS)
A5: Autoridad Portuaria | B5: ='Resumen general'!D6 -> Mes diciembre | D5: ='Resumen general'!F6 -> Acumulado desde enero | L5: ='Resumen general'!I4 -> Fecha: 27/01/2023
B6: ='Resumen general'!D7 -> 2021 | C6: ='Resumen general'!E7 -> 2022 | D6: ='Resumen general'!F7 -> 2021 | E6: ='Resumen general'!G7 -> 2022 | F6: Var. (%)
A7: A Coruña | B7: 0 | C7: 0 | D7: 3 | E7: 10 | F7: =((E7*100)/D7)-100 -> 233.33333
A8: Alicante | B8: 18788 | C8: 15212 | D8: 173058 | E8: 210345 | F8: =((E8*100)/D8)-100 -> 21.545956
A9: Almería | B9: 1899 | C9: 1075 | D9: 25270 | E9: 22068 | F9: =((E9*100)/D9)-100 -> -12.671152
A10: Avilés | B10: 0 | C10: 0 | D10: 22 | E10: 0 | F10: =((E10*100)/D10)-100 -> -100
A11: Bahía de Algeciras | B11: 404312 | C11: 371636 | D11: 4799497 | E11: 4767282 | F11: =((E11*100)/D11)-100 -> -0.67121617
A12: Bahía de Cádiz | B12: 18472 | C12: 16803 | D12: 214868 | E12: 217500 | F12: =((E12*100)/D12)-100 -> 1.2249381
A13: Baleares | B13: 7840 | C13: 6321 | D13: 106942 | E13: 97232 | F13: =((E13*100)/D13)-100 -> -9.0796881
A14: Barcelona | B14: 301553 | C14: 279979 | D14: 3531324 | E14: 3522947 | F14: =((E14*100)/D14)-100 -> -0.23721981
A15: Bilbao | B15: 43716 | C15: 38083 | D15: 538917 | E15: 496625 | F15: =((E15*100)/D15)-100 -> -7.8475906
A16: Cartagena | B16: 3151 | C16: 3363 | D16: 50579 | E16: 52525 | F16: =((E16*100)/D16)-100 -> 3.8474466
A17: Castellón | B17: 10113 | C17: 7474 | D17: 129877 | E17: 103254 | F17: =((E17*100)/D17)-100 -> -20.498626
A18: Ceuta | B18: 491 | C18: 410 | D18: 5874 | E18: 5365 | F18: =((E18*100)/D18)-100 -> -8.6653047
... A34: Vilagarcía | B34: 2528 | C34: 2240 | D34: 33937 | E34: 33136 | F34: =((E34*100)/D34)-100 -> -2.3602558
A35: Total | B35: =SUM(B7:B34) -> 1479592 | C35: =SUM(C7:C34) -> 1330478 | D35: =SUM(D7:D34) -> 17735438 | E35: =SUM(E7:E34) -> 17149426 | F35: =((E35*100)/D35)-100 -> -3.3041868
A36: Incluye cargas, descargas, tránsitos y transbordos.
B38: =E6 -> 2022 | C38: =D6 -> 2021 | F38: =B38 -> 2022 | G38: =C38 -> 2021
A39: =A7 -> A Coruña | B39: =E7 -> 10 | C39: =D7 -> 3 | D39: =_xlfn.RANK.EQ(B39,$B$39:$B$66)+COUNTIF($B$39:$B$66,B39)-1 -> 26 | E39: =INDEX($A$39:$B$66,MATCH(ROW()-38,$D$39:$D$66,0),1) -> Valencia | F39: =LOOKUP(E39,$A$39:$A$66,$B$39:$B$66) -> 5052272 | G39: =LOOKUP(E39,$A$39:$A$66,$C$39:$C$66) -> 5604478
A40: =A8 -> Alicante | B40: =E8 -> 210345 | C40: =D8 -> 173058 | D40: =_xlfn.RANK.EQ(B40,$B$39:$B$66)+COUNTIF($B$39:$B$66,B40)-1 -> 10 | E40: =INDEX($A$39:$B$66,MATCH(ROW()-38,$D$39:$D$66,0),1) -> Bahía de Algeciras | F40: =LOOKUP(E40,$A$39:$A$66,$B$39:$B$66) -> 4767282 | G40: =LOOKUP(E40,$A$39:$A$66,$C$39:$C$66) -> 4799497
A41: =A9 -> Almería | B41: =E9 -> 22068 | C41: =D9 -> 25270 | D41: =_xlfn.RANK.EQ(B41,$B$39:$B$66)+COUNTIF($B$39:$B$66,B41)-1 -> 22 | E41: =INDEX($A$39:$B$66,MATCH(ROW()-38,$D$39:$D$66,0),1) -> Barcelona | F41: =LOOKUP(E41,$A$39:$A$66,$B$39:$B$66) -> 3522947 | G41: =LOOKUP(E41,$A$39:$A$66,$C$39:$C$66) -> 3531324
A42: =A10 -> Avilés | B42: =E10 -> 0 | C42: =D10 -> 22 | D42: =_xlfn.RANK.EQ(B42,$B$39:$B$66)+COUNTIF($B$39:$B$66,B42)-1 -> 28 | E42: =INDEX($A$39:$B$66,MATCH(ROW()-38,$D$39:$D$66,0),1) -> Las Palmas | F42: =LOOKUP(E42,$A$39:$A$66,$B$39:$B$66) -> 1164111 | G42: =LOOKUP(E42,$A$39:$A$66,$C$39:$C$66) -> 1176501
A43: =A11 -> Bahía de Algeciras | B43: =E11 -> 4767282 | C43: =D11 -> 4799497 | D43: =_xlfn.RANK.EQ(B43,$B$39:$B$66)+COUNTIF($B$39:$B$66,B43)-1 -> 2 | E43: =INDEX($A$39:$B$66,MATCH(ROW()-38,$D$39:$D$66,0),1) -> Bilbao | F43: =LOOKUP(E43,$A$39:$A$66,$B$39:$B$66) -> 496625 | G43: =LOOKUP(E43,$A$39:$A$66,$C$39:$C$66) -> 538917
A44: =A12 -> Bahía de Cádiz | B44: =E12 -> 217500 | C44: =D12 -> 214868 | D44: =_xlfn.RANK.EQ(B44,$B$39:$B$66)+COUNTIF($B$39:$B$66,B44)-1 -> 9 | E44: =INDEX($A$39:$B$66,MATCH(ROW()-38,$D$39:$D$66,0),1) -> Santa Cruz de Tenerife | F44: =LOOKUP(E44,$A$39:$A$66,$B$39:$B$66) -> 479698 | G44: =LOOKUP(E44,$A$39:$A$66,$C$39:$C$66) -> 435909
A45: =A13 -> Baleares | B45: =E13 -> 97232 | C45: =D13 -> 106942 | D45: =_xlfn.RANK.EQ(B45,$B$39:$B$66)+COUNTIF($B$39:$B$66,B45)-1 -> 13 | E45: =INDEX($A$39:$B$66,MATCH(ROW()-38,$D$39:$D$66,0),1) -> Málaga | F45: =LOOKUP(E45,$A$39:$A$66,$B$39:$B$66) -> 227875 | G45: =LOOKUP(E45,$A$39:$A$66,$C$39:$C$66) -> 236811
A46: =A14 -> Barcelona | B46: =E14 -> 3522947 | C46: =D14 -> 3531324 | D46: =_xlfn.RANK.EQ(B46,$B$39:$B$66)+COUNTIF($B$39:$B$66,B46)-1 -> 3 | E46: =INDEX($A$39:$B$66,MATCH(ROW()-38,$D$39:$D$66,0),1) -> Vigo | F46: =LOOKUP(E46,$A$39:$A$66,$B$39:$B$66) -> 226129 | G46: =LOOKUP(E46,$A$39:$A$66,$C$39:$C$66) -> 239302
A47: =A15 -> Bilbao | B47: =E15 -> 496625 | C47: =D15 -> 538917 | D47: =_xlfn.RANK.EQ(B47,$B$39:$B$66)+COUNTIF($B$39:$B$66,B47)-1 -> 5 | E47: =INDEX($A$39:$B$66,MATCH(ROW()-38,$D$39:$D$66,0),1) -> Bahía de Cádiz | F47: =LOOKUP(E47,$A$39:$A$66,$B$39:$B$66) -> 217500 | G47: =LOOKUP(E47,$A$39:$A$66,$C$39:$C$66) -> 214868
A48: =A16 -> Cartagena | B48: =E16 -> 52525 | C48: =D16 -> 50579 | D48: =_xlfn.RANK.EQ(B48,$B$39:$B$66)+COUNTIF($B$39:$B$66,B48)-1 -> 16 | E48: =INDEX($A$39:$B$66,MATCH(ROW()-38,$D$39:$D$66,0),1) -> Alicante | F48: =LOOKUP(E48,$A$39:$A$66,$B$39:$B$66) -> 210345 | G48: =LOOKUP(E48,$A$39:$A$66,$C$39:$C$66) -> 173058
A49: =A17 -> Castellón | B49: =E17 -> 103254 | C49: =D17 -> 129877 | D49: =_xlfn.RANK.EQ(B49,$B$39:$B$66)+COUNTIF($B$39:$B$66,B49)-1 -> 12 | E49: =INDEX($A$39:$B$66,MATCH(ROW()-38,$D$39:$D$66,0),1) -> Sevilla | F49: =LOOKUP(E49,$A$39:$A$66,$B$39:$B$66) -> 141231 | G49: =LOOKUP(E49,$A$39:$A$66,$C$39:$C$66) -> 135742
A50: =A18 -> Ceuta | B50: =E18 -> 5365 | C50: =D18 -> 5874 | D50: =_xlfn.RANK.EQ(B50,$B$39:$B$66)+COUNTIF($B$39:$B$66,B50)-1 -> 24 | E50: =INDEX($A$39:$B$66,MATCH(ROW()-38,$D$39:$D$66,0),1) -> Castellón | F50: =LOOKUP(E50,$A$39:$A$66,$B$39:$B$66) -> 103254 | G50: =LOOKUP(E50,$A$39:$A$66,$C$39:$C$66) -> 129877
... A66: =A34 -> Vilagarcía | B66: =E34 -> 33136 | C66: =D34 -> 33937 | D66: =_xlfn.RANK.EQ(B66,$B$39:$B$66)+COUNTIF($B$39:$B$66,B66)-1 -> 20 | E66: =INDEX($A$39:$B$66,MATCH(ROW()-38,$D$39:$D$66,0),1) -> Avilés | F66: =LOOKUP(E66,$A$39:$A$66,$B$39:$B$66) -> 0 | G66: =LOOKUP(E66,$A$39:$A$66,$C$39:$C$66) -> 22

Sheet TEUS tránsito
F1: 10.1. CONTENEDORES EN TRÁNSITO (TEUS)
A5: Autoridad Portuaria | B5: ='Resumen general'!D6 -> Mes diciembre | D5: ='Resumen general'!F6 -> Acumulado desde enero | L5: ='Resumen general'!I4 -> Fecha: 27/01/2023
B6: ='Resumen general'!D7 -> 2021 | C6: ='Resumen general'!E7 -> 2022 | D6: ='Resumen general'!F7 -> 2021 | E6: ='Resumen general'!G7 -> 2022 | F6: Var. (%)
A7: A Coruña | B7: 0 | C7: 0 | D7: 0 | E7: 0 | F7: =((E7*100)/D7)-100 -> #DIV/0!
A8: Alicante | B8: 150 | C8: 112 | D8: 2028 | E8: 1531 | F8: =((E8*100)/D8)-100 -> -24.506903
A9: Almería | B9: 0 | C9: 0 | D9: 1 | E9: 333 | F9: =((E9*100)/D9)-100 -> 33200
A10: Avilés | B10: 0 | C10: 0 | D10: 0 | E10: 0 | F10: =((E10*100)/D10)-100 -> #DIV/0!
A11: Bahía de Algeciras | B11: 345657 | C11: 308290 | D11: 4084351 | E11: 3950284 | F11: =((E11*100)/D11)-100 -> -3.2824554
A12: Bahía de Cádiz | B12: 3247 | C12: 1688 | D12: 45297 | E12: 31802 | F12: =((E12*100)/D12)-100 -> -29.79226
A13: Baleares | B13: 0 | C13: 0 | D13: 14 | E13: 8 | F13: =((E13*100)/D13)-100 -> -42.857143
A14: Barcelona | B14: 123252 | C14: 110803 | D14: 1477242 | E14: 1550999 | F14: =((E14*100)/D14)-100 -> 4.9928854
A15: Bilbao | B15: 493 | C15: 387 | D15: 2198 | E15: 3836 | F15: =((E15*100)/D15)-100 -> 74.522293
A16: Cartagena | B16: 0 | C16: 0 | D16: 68 | E16: 390 | F16: =((E16*100)/D16)-100 -> 473.52941
A17: Castellón | B17: 720 | C17: 762 | D17: 5782 | E17: 3019 | F17: =((E17*100)/D17)-100 -> -47.786233
A18: Ceuta | B18: 0 | C18: 0 | D18: 2 | E18: 0 | F18: =((E18*100)/D18)-100 -> -100
... A34: Vilagarcía | B34: 5 | C34: 0 | D34: 99 | E34: 236 | F34: =((E34*100)/D34)-100 -> 138.38384
A35: Total | B35: =SUM(B7:B34) -> 781747 | C35: =SUM(C7:C34) -> 665608 | D35: =SUM(D7:D34) -> 9414175 | E35: =SUM(E7:E34) -> 8826044 | F35: =((E35*100)/D35)-100 -> -6.247292
A36: No incluye transbordos.
B38: =E6 -> 2022 | C38: =D6 -> 2021 | F38: =B38 -> 2022 | G38: =C38 -> 2021
A39: =A7 -> A Coruña | B39: =E7 -> 0 | C39: =D7 -> 0 | D39: =_xlfn.RANK.EQ(B39,$B$39:$B$66)+COUNTIF($B$39:$B$66,B39)-1 -> 28 | E39: =INDEX($A$39:$B$66,MATCH(ROW()-38,$D$39:$D$66,0),1) -> Bahía de Algeciras | F39: =LOOKUP(E39,$A$39:$A$66,$B$39:$B$66) -> 3950284 | G39: =LOOKUP(E39,$A$39:$A$66,$C$39:$C$66) -> 4084351
A40: =A8 -> Alicante | B40: =E8 -> 1531 | C40: =D8 -> 2028 | D40: =_xlfn.RANK.EQ(B40,$B$39:$B$66)+COUNTIF($B$39:$B$66,B40)-1 -> 14 | E40: =INDEX($A$39:$B$66,MATCH(ROW()-38,$D$39:$D$66,0),1) -> Valencia | F40: =LOOKUP(E40,$A$39:$A$66,$B$39:$B$66) -> 2391978 | G40: =LOOKUP(E40,$A$39:$A$66,$C$39:$C$66) -> 2887881
A41: =A9 -> Almería | B41: =E9 -> 333 | C41: =D9 -> 1 | D41: =_xlfn.RANK.EQ(B41,$B$39:$B$66)+COUNTIF($B$39:$B$66,B41)-1 -> 17 | E41: =INDEX($A$39:$B$66,MATCH(ROW()-38,$D$39:$D$66,0),1) -> Barcelona | F41: =LOOKUP(E41,$A$39:$A$66,$B$39:$B$66) -> 1550999 | G41: =LOOKUP(E41,$A$39:$A$66,$C$39:$C$66) -> 1477242
A42: =A10 -> Avilés | B42: =E10 -> 0 | C42: =D10 -> 0 | D42: =_xlfn.RANK.EQ(B42,$B$39:$B$66)+COUNTIF($B$39:$B$66,B42)-1 -> 28 | E42: =INDEX($A$39:$B$66,MATCH(ROW()-38,$D$39:$D$66,0),1) -> Las Palmas | F42: =LOOKUP(E42,$A$39:$A$66,$B$39:$B$66) -> 576912 | G42: =LOOKUP(E42,$A$39:$A$66,$C$39:$C$66) -> 641757
A43: =A11 -> Bahía de Algeciras | B43: =E11 -> 3950284 | C43: =D11 -> 4084351 | D43: =_xlfn.RANK.EQ(B43,$B$39:$B$66)+COUNTIF($B$39:$B$66,B43)-1 -> 1 | E43: =INDEX($A$39:$B$66,MATCH(ROW()-38,$D$39:$D$66,0),1) -> Málaga | F43: =LOOKUP(E43,$A$39:$A$66,$B$39:$B$66) -> 201771 | G43: =LOOKUP(E43,$A$39:$A$66,$C$39:$C$66) -> 211407
A44: =A12 -> Bahía de Cádiz | B44: =E12 -> 31802 | C44: =D12 -> 45297 | D44: =_xlfn.RANK.EQ(B44,$B$39:$B$66)+COUNTIF($B$39:$B$66,B44)-1 -> 7 | E44: =INDEX($A$39:$B$66,MATCH(ROW()-38,$D$39:$D$66,0),1) -> Santa Cruz de Tenerife | F44: =LOOKUP(E44,$A$39:$A$66,$B$39:$B$66) -> 66019 | G44: =LOOKUP(E44,$A$39:$A$66,$C$39:$C$66) -> 41413
A45: =A13 -> Baleares | B45: =E13 -> 8 | C45: =D13 -> 14 | D45: =_xlfn.RANK.EQ(B45,$B$39:$B$66)+COUNTIF($B$39:$B$66,B45)-1 -> 20 | E45: =INDEX($A$39:$B$66,MATCH(ROW()-38,$D$39:$D$66,0),1) -> Bahía de Cádiz | F45: =LOOKUP(E45,$A$39:$A$66,$B$39:$B$66) -> 31802 | G45: =LOOKUP(E45,$A$39:$A$66,$C$39:$C$66) -> 45297
A46: =A14 -> Barcelona | B46: =E14 -> 1550999 | C46: =D14 -> 1477242 | D46: =_xlfn.RANK.EQ(B46,$B$39:$B$66)+COUNTIF($B$39:$B$66,B46)-1 -> 3 | E46: =INDEX($A$39:$B$66,MATCH(ROW()-38,$D$39:$D$66,0),1) -> Tarragona | F46: =LOOKUP(E46,$A$39:$A$66,$B$39:$B$66) -> 27260 | G46: =LOOKUP(E46,$A$39:$A$66,$C$39:$C$66) -> 355
A47: =A15 -> Bilbao | B47: =E15 -> 3836 | C47: =D15 -> 2198 | D47: =_xlfn.RANK.EQ(B47,$B$39:$B$66)+COUNTIF($B$39:$B$66,B47)-1 -> 11 | E47: =INDEX($A$39:$B$66,MATCH(ROW()-38,$D$39:$D$66,0),1) -> Vigo | F47: =LOOKUP(E47,$A$39:$A$66,$B$39:$B$66) -> 13463 | G47: =LOOKUP(E47,$A$39:$A$66,$C$39:$C$66) -> 10895
A48: =A16 -> Cartagena | B48: =E16 -> 390 | C48: =D16 -> 68 | D48: =_xlfn.RANK.EQ(B48,$B$39:$B$66)+COUNTIF($B$39:$B$66,B48)-1 -> 15 | E48: =INDEX($A$39:$B$66,MATCH(ROW()-38,$D$39:$D$66,0),1) -> Ferrol-San Cibrao | F48: =LOOKUP(E48,$A$39:$A$66,$B$39:$B$66) -> 3996 | G48: =LOOKUP(E48,$A$39:$A$66,$C$39:$C$66) -> 0
A49: =A17 -> Castellón | B49: =E17 -> 3019 | C49: =D17 -> 5782 | D49: =_xlfn.RANK.EQ(B49,$B$39:$B$66)+COUNTIF($B$39:$B$66,B49)-1 -> 12 | E49: =INDEX($A$39:$B$66,MATCH(ROW()-38,$D$39:$D$66,0),1) -> Bilbao | F49: =LOOKUP(E49,$A$39:$A$66,$B$39:$B$66) -> 3836 | G49: =LOOKUP(E49,$A$39:$A$66,$C$39:$C$66) -> 2198
A50: =A18 -> Ceuta | B50: =E18 -> 0 | C50: =D18 -> 2 | D50: =_xlfn.RANK.EQ(B50,$B$39:$B$66)+COUNTIF($B$39:$B$66,B50)-1 -> 28 | E50: =INDEX($A$39:$B$66,MATCH(ROW()-38,$D$39:$D$66,0),1) -> Castellón | F50: =LOOKUP(E50,$A$39:$A$66,$B$39:$B$66) -> 3019 | G50: =LOOKUP(E50,$A$39:$A$66,$C$39:$C$66) -> 5782
... A66: =A34 -> Vilagarcía | B66: =E34 -> 236 | C66: =D34 -> 99 | D66: =_xlfn.RANK.EQ(B66,$B$39:$B$66)+COUNTIF($B$39:$B$66,B66)-1 -> 18 | E66: =INDEX($A$39:$B$66,MATCH(ROW()-38,$D$39:$D$66,0),1) -> A Coruña | F66: =LOOKUP(E66,$A$39:$A$66,$B$39:$B$66) -> 0 | G66: =LOOKUP(E66,$A$39:$A$66,$C$39:$C$66) -> 0

Sheet TEUS nacional
F1: 10.2. CONTENEDORES ENTRADA-SALIDA NACIONAL (TEUS)
A5: Autoridad Portuaria | B5: ='Resumen general'!D6 -> Mes diciembre | D5: ='Resumen general'!F6 -> Acumulado desde enero | L5: ='Resumen general'!I4 -> Fecha: 27/01/2023
B6: ='Resumen general'!D7 -> 2021 | C6: ='Resumen general'!E7 -> 2022 | D6: ='Resumen general'!F7 -> 2021 | E6: ='Resumen general'!G7 -> 2022 | F6: Var. (%)
A7: A Coruña | B7: 0 | C7: 0 | D7: 0 | E7: 0 | F7: =((E7*100)/D7)-100 -> #DIV/0!
A8: Alicante | B8: 15826 | C8: 13211 | D8: 145258 | E8: 181133 | F8: =((E8*100)/D8)-100 -> 24.697435
A9: Almería | B9: 220 | C9: 217 | D9: 3344 | E9: 3068 | F9: =((E9*100)/D9)-100 -> -8.2535885
A10: Avilés | B10: 0 | C10: 0 | D10: 0 | E10: 0 | F10: =((E10*100)/D10)-100 -> #DIV/0!
A11: Bahía de Algeciras | B11: 24 | C11: 1 | D11: 259 | E11: 225 | F11: =((E11*100)/D11)-100 -> -13.127413
A12: Bahía de Cádiz | B12: 12790 | C12: 13343 | D12: 131909 | E12: 156032 | F12: =((E12*100)/D12)-100 -> 18.287607
A13: Baleares | B13: 7828 | C13: 6317 | D13: 106898 | E13: 97200 | F13: =((E13*100)/D13)-100 -> -9.0721997
A14: Barcelona | B14: 18513 | C14: 16490 | D14: 224647 | E14: 198983 | F14: =((E14*100)/D14)-100 -> -11.424145
A15: Bilbao | B15: 4040 | C15: 3782 | D15: 45098 | E15: 45420 | F15: =((E15*100)/D15)-100 -> 0.71400062
A16: Cartagena | B16: 802 | C16: 1169 | D16: 12010 | E16: 14152 | F16: =((E16*100)/D16)-100 -> 17.835137
A17: Castellón | B17: 60 | C17: 470 | D17: 6540 | E17: 3876 | F17: =((E17*100)/D17)-100 -> -40.733945
A18: Ceuta | B18: 475 | C18: 403 | D18: 5751 | E18: 5260 | F18: =((E18*100)/D18)-100 -> -8.5376456
... A34: Vilagarcía | B34: 2406 | C34: 2162 | D34: 32302 | E34: 31020 | F34: =((E34*100)/D34)-100 -> -3.9687945
A35: Total | B35: =SUM(B7:B34) -> 180407 | C35: =SUM(C7:C34) -> 171315 | D35: =SUM(D7:D34) -> 2010187 | E35: =SUM(E7:E34) -> 2097292 | F35: =((E35*100)/D35)-100 -> 4.333179
A36: No incluye tránsitos ni transbordos. Navegación de cabotaje.
B38: =E6 -> 2022 | C38: =D6 -> 2021 | F38: =B38 -> 2022 | G38: =C38 -> 2021
A39: =A7 -> A Coruña | B39: =E7 -> 0 | C39: =D7 -> 0 | D39: =_xlfn.RANK.EQ(B39,$B$39:$B$66)+COUNTIF($B$39:$B$66,B39)-1 -> 28 | E39: =INDEX($A$39:$B$66,MATCH(ROW()-38,$D$39:$D$66,0),1) -> Las Palmas | F39: =LOOKUP(E39,$A$39:$A$66,$B$39:$B$66) -> 517248 | G39: =LOOKUP(E39,$A$39:$A$66,$C$39:$C$66) -> 469249
A40: =A8 -> Alicante | B40: =E8 -> 181133 | C40: =D8 -> 145258 | D40: =_xlfn.RANK.EQ(B40,$B$39:$B$66)+COUNTIF($B$39:$B$66,B40)-1 -> 5 | E40: =INDEX($A$39:$B$66,MATCH(ROW()-38,$D$39:$D$66,0),1) -> Santa Cruz de Tenerife | F40: =LOOKUP(E40,$A$39:$A$66,$B$39:$B$66) -> 372600 | G40: =LOOKUP(E40,$A$39:$A$66,$C$39:$C$66) -> 359771
A41: =A9 -> Almería | B41: =E9 -> 3068 | C41: =D9 -> 3344 | D41: =_xlfn.RANK.EQ(B41,$B$39:$B$66)+COUNTIF($B$39:$B$66,B41)-1 -> 22 | E41: =INDEX($A$39:$B$66,MATCH(ROW()-38,$D$39:$D$66,0),1) -> Barcelona | F41: =LOOKUP(E41,$A$39:$A$66,$B$39:$B$66) -> 198983 | G41: =LOOKUP(E41,$A$39:$A$66,$C$39:$C$66) -> 224647
A42: =A10 -> Avilés | B42: =E10 -> 0 | C42: =D10 -> 0 | D42: =_xlfn.RANK.EQ(B42,$B$39:$B$66)+COUNTIF($B$39:$B$66,B42)-1 -> 28 | E42: =INDEX($A$39:$B$66,MATCH(ROW()-38,$D$39:$D$66,0),1) -> Valencia | F42: =LOOKUP(E42,$A$39:$A$66,$B$39:$B$66) -> 196460 | G42: =LOOKUP(E42,$A$39:$A$66,$C$39:$C$66) -> 214393
A43: =A11 -> Bahía de Algeciras | B43: =E11 -> 225 | C43: =D11 -> 259 | D43: =_xlfn.RANK.EQ(B43,$B$39:$B$66)+COUNTIF($B$39:$B$66,B43)-1 -> 23 | E43: =INDEX($A$39:$B$66,MATCH(ROW()-38,$D$39:$D$66,0),1) -> Alicante | F43: =LOOKUP(E43,$A$39:$A$66,$B$39:$B$66) -> 181133 | G43: =LOOKUP(E43,$A$39:$A$66,$C$39:$C$66) -> 145258
A44: =A12 -> Bahía de Cádiz | B44: =E12 -> 156032 | C44: =D12 -> 131909 | D44: =_xlfn.RANK.EQ(B44,$B$39:$B$66)+COUNTIF($B$39:$B$66,B44)-1 -> 6 | E44: =INDEX($A$39:$B$66,MATCH(ROW()-38,$D$39:$D$66,0),1) -> Bahía de Cádiz | F44: =LOOKUP(E44,$A$39:$A$66,$B$39:$B$66) -> 156032 | G44: =LOOKUP(E44,$A$39:$A$66,$C$39:$C$66) -> 131909
A45: =A13 -> Baleares | B45: =E13 -> 97200 | C45: =D13 -> 106898 | D45: =_xlfn.RANK.EQ(B45,$B$39:$B$66)+COUNTIF($B$39:$B$66,B45)-1 -> 8 | E45: =INDEX($A$39:$B$66,MATCH(ROW()-38,$D$39:$D$66,0),1) -> Sevilla | F45: =LOOKUP(E45,$A$39:$A$66,$B$39:$B$66) -> 139898 | G45: =LOOKUP(E45,$A$39:$A$66,$C$39:$C$66) -> 134343
A46: =A14 -> Barcelona | B46: =E14 -> 198983 | C46: =D14 -> 224647 | D46: =_xlfn.RANK.EQ(B46,$B$39:$B$66)+COUNTIF($B$39:$B$66,B46)-1 -> 3 | E46: =INDEX($A$39:$B$66,MATCH(ROW()-38,$D$39:$D$66,0),1) -> Baleares | F46: =LOOKUP(E46,$A$39:$A$66,$B$39:$B$66) -> 97200 | G46: =LOOKUP(E46,$A$39:$A$66,$C$39:$C$66) -> 106898
A47: =A15 -> Bilbao | B47: =E15 -> 45420 | C47: =D15 -> 45098 | D47: =_xlfn.RANK.EQ(B47,$B$39:$B$66)+COUNTIF($B$39:$B$66,B47)-1 -> 10 | E47: =INDEX($A$39:$B$66,MATCH(ROW()-38,$D$39:$D$66,0),1) -> Huelva | F47: =LOOKUP(E47,$A$39:$A$66,$B$39:$B$66) -> 69986 | G47: =LOOKUP(E47,$A$39:$A$66,$C$39:$C$66) -> 66545
A48: =A16 -> Cartagena | B48: =E16 -> 14152 | C48: =D16 -> 12010 | D48: =_xlfn.RANK.EQ(B48,$B$39:$B$66)+COUNTIF($B$39:$B$66,B48)-1 -> 13 | E48: =INDEX($A$39:$B$66,MATCH(ROW()-38,$D$39:$D$66,0),1) -> Bilbao | F48: =LOOKUP(E48,$A$39:$A$66,$B$39:$B$66) -> 45420 | G48: =LOOKUP(E48,$A$39:$A$66,$C$39:$C$66) -> 45098
A49: =A17 -> Castellón | B49: =E17 -> 3876 | C49: =D17 -> 6540 | D49: =_xlfn.RANK.EQ(B49,$B$39:$B$66)+COUNTIF($B$39:$B$66,B49)-1 -> 21 | E49: =INDEX($A$39:$B$66,MATCH(ROW()-38,$D$39:$D$66,0),1) -> Vilagarcía | F49: =LOOKUP(E49,$A$39:$A$66,$B$39:$B$66) -> 31020 | G49: =LOOKUP(E49,$A$39:$A$66,$C$39:$C$66) -> 32302
A50: =A18 -> Ceuta | B50: =E18 -> 5260 | C50: =D18 -> 5751 | D50: =_xlfn.RANK.EQ(B50,$B$39:$B$66)+COUNTIF($B$39:$B$66,B50)-1 -> 19 | E50: =INDEX($A$39:$B$66,MATCH(ROW()-38,$D$39:$D$66,0),1) -> Vigo | F50: =LOOKUP(E50,$A$39:$A$66,$B$39:$B$66) -> 18392 | G50: =LOOKUP(E50,$A$39:$A$66,$C$39:$C$66) -> 14698
... A66: =A34 -> Vilagarcía | B66: =E34 -> 31020 | C66: =D34 -> 32302 | D66: =_xlfn.RANK.EQ(B66,$B$39:$B$66)+COUNTIF($B$39:$B$66,B66)-1 -> 11 | E66: =INDEX($A$39:$B$66,MATCH(ROW()-38,$D$39:$D$66,0),1) -> A Coruña | F66: =LOOKUP(E66,$A$39:$A$66,$B$39:$B$66) -> 0 | G66: =LOOKUP(E66,$A$39:$A$66,$C$39:$C$66) -> 0

Sheet TEUS exterior
F1: 10.3. CONTENEDORES IMPORTACIÓN-EXPORTACIÓN EXTERIOR (TEUS)
A5: Autoridad Portuaria | B5: ='Resumen general'!D6 -> Mes diciembre | D5: ='Resumen general'!F6 -> Acumulado desde enero | L5: ='Resumen general'!I4 -> Fecha: 27/01/2023
B6: ='Resumen general'!D7 -> 2021 | C6: ='Resumen general'!E7 -> 2022 | D6: ='Resumen general'!F7 -> 2021 | E6: ='Resumen general'!G7 -> 2022 | F6: Var. (%)
A7: A Coruña | B7: 0 | C7: 0 | D7: 3 | E7: 10 | F7: =((E7*100)/D7)-100 -> 233.33333
A8: Alicante | B8: 2812 | C8: 1890 | D8: 25772 | E8: 27681 | F8: =((E8*100)/D8)-100 -> 7.4072637
A9: Almería | B9: 1678 | C9: 858 | D9: 21925 | E9: 18667 | F9: =((E9*100)/D9)-100 -> -14.859749
A10: Avilés | B10: 0 | C10: 0 | D10: 22 | E10: 0 | F10: =((E10*100)/D10)-100 -> -100
A11: Bahía de Algeciras | B11: 58631 | C11: 63345 | D11: 714887 | E11: 816773 | F11: =((E11*100)/D11)-100 -> 14.252043
A12: Bahía de Cádiz | B12: 2435 | C12: 1772 | D12: 37662 | E12: 29666 | F12: =((E12*100)/D12)-100 -> -21.230949
A13: Baleares | B13: 12 | C13: 4 | D13: 30 | E13: 24 | F13: =((E13*100)/D13)-100 -> -20
A14: Barcelona | B14: 159789 | C14: 152686 | D14: 1829435 | E14: 1772965 | F14: =((E14*100)/D14)-100 -> -3.0867454
A15: Bilbao | B15: 39183 | C15: 33915 | D15: 491621 | E15: 447369 | F15: =((E15*100)/D15)-100 -> -9.0012428
A16: Cartagena | B16: 2349 | C16: 2194 | D16: 38501 | E16: 37983 | F16: =((E16*100)/D16)-100 -> -1.3454196
A17: Castellón | B17: 9333 | C17: 6242 | D17: 117555 | E17: 96359 | F17: =((E17*100)/D17)-100 -> -18.030709
A18: Ceuta | B18: 16 | C18: 7 | D18: 121 | E18: 105 | F18: =((E18*100)/D18)-100 -> -13.22314
... A34: Vilagarcía | B34: 117 | C34: 78 | D34: 1536 | E34: 1880 | F34: =((E34*100)/D34)-100 -> 22.395833
A35: Total | B35: =SUM(B7:B34) -> 517439 | C35: =SUM(C7:C34) -> 493555 | D35: =SUM(D7:D34) -> 6311076 | E35: =SUM(E7:E34) -> 6226090 | F35: =((E35*100)/D35)-100 -> -1.3466166
A36: No incluye tránsitos ni transbordos. Navegación de exterior.
B38: =E6 -> 2022 | C38: =D6 -> 2021 | F38: =B38 -> 2022 | G38: =C38 -> 2021
A39: =A7 -> A Coruña | B39: =E7 -> 10 | C39: =D7 -> 3 | D39: =_xlfn.RANK.EQ(B39,$B$39:$B$66)+COUNTIF($B$39:$B$66,B39)-1 -> 26 | E39: =INDEX($A$39:$B$66,MATCH(ROW()-38,$D$39:$D$66,0),1) -> Valencia | F39: =LOOKUP(E39,$A$39:$A$66,$B$39:$B$66) -> 2463834 | G39: =LOOKUP(E39,$A$39:$A$66,$C$39:$C$66) -> 2502204
A40: =A8 -> Alicante | B40: =E8 -> 27681 | C40: =D8 -> 25772 | D40: =_xlfn.RANK.EQ(B40,$B$39:$B$66)+COUNTIF($B$39:$B$66,B40)-1 -> 15 | E40: =INDEX($A$39:$B$66,MATCH(ROW()-38,$D$39:$D$66,0),1) -> Barcelona | F40: =LOOKUP(E40,$A$39:$A$66,$B$39:$B$66) -> 1772965 | G40: =LOOKUP(E40,$A$39:$A$66,$C$39:$C$66) -> 1829435
A41: =A9 -> Almería | B41: =E9 -> 18667 | C41: =D9 -> 21925 | D41: =_xlfn.RANK.EQ(B41,$B$39:$B$66)+COUNTIF($B$39:$B$66,B41)-1 -> 17 | E41: =INDEX($A$39:$B$66,MATCH(ROW()-38,$D$39:$D$66,0),1) -> Bahía de Algeciras | F41: =LOOKUP(E41,$A$39:$A$66,$B$39:$B$66) -> 816773 | G41: =LOOKUP(E41,$A$39:$A$66,$C$39:$C$66) -> 714887
A42: =A10 -> Avilés | B42: =E10 -> 0 | C42: =D10 -> 22 | D42: =_xlfn.RANK.EQ(B42,$B$39:$B$66)+COUNTIF($B$39:$B$66,B42)-1 -> 28 | E42: =INDEX($A$39:$B$66,MATCH(ROW()-38,$D$39:$D$66,0),1) -> Bilbao | F42: =LOOKUP(E42,$A$39:$A$66,$B$39:$B$66) -> 447369 | G42: =LOOKUP(E42,$A$39:$A$66,$C$39:$C$66) -> 491621
A43: =A11 -> Bahía de Algeciras | B43: =E11 -> 816773 | C43: =D11 -> 714887 | D43: =_xlfn.RANK.EQ(B43,$B$39:$B$66)+COUNTIF($B$39:$B$66,B43)-1 -> 3 | E43: =INDEX($A$39:$B$66,MATCH(ROW()-38,$D$39:$D$66,0),1) -> Vigo | F43: =LOOKUP(E43,$A$39:$A$66,$B$39:$B$66) -> 194274 | G43: =LOOKUP(E43,$A$39:$A$66,$C$39:$C$66) -> 213709
A44: =A12 -> Bahía de Cádiz | B44: =E12 -> 29666 | C44: =D12 -> 37662 | D44: =_xlfn.RANK.EQ(B44,$B$39:$B$66)+COUNTIF($B$39:$B$66,B44)-1 -> 13 | E44: =INDEX($A$39:$B$66,MATCH(ROW()-38,$D$39:$D$66,0),1) -> Castellón | F44: =LOOKUP(E44,$A$39:$A$66,$B$39:$B$66) -> 96359 | G44: =LOOKUP(E44,$A$39:$A$66,$C$39:$C$66) -> 117555
A45: =A13 -> Baleares | B45: =E13 -> 24 | C45: =D13 -> 30 | D45: =_xlfn.RANK.EQ(B45,$B$39:$B$66)+COUNTIF($B$39:$B$66,B45)-1 -> 24 | E45: =INDEX($A$39:$B$66,MATCH(ROW()-38,$D$39:$D$66,0),1) -> Las Palmas | F45: =LOOKUP(E45,$A$39:$A$66,$B$39:$B$66) -> 69951 | G45: =LOOKUP(E45,$A$39:$A$66,$C$39:$C$66) -> 65495
A46: =A14 -> Barcelona | B46: =E14 -> 1772965 | C46: =D14 -> 1829435 | D46: =_xlfn.RANK.EQ(B46,$B$39:$B$66)+COUNTIF($B$39:$B$66,B46)-1 -> 2 | E46: =INDEX($A$39:$B$66,MATCH(ROW()-38,$D$39:$D$66,0),1) -> Tarragona | F46: =LOOKUP(E46,$A$39:$A$66,$B$39:$B$66) -> 46617 | G46: =LOOKUP(E46,$A$39:$A$66,$C$39:$C$66) -> 45196
A47: =A15 -> Bilbao | B47: =E15 -> 447369 | C47: =D15 -> 491621 | D47: =_xlfn.RANK.EQ(B47,$B$39:$B$66)+COUNTIF($B$39:$B$66,B47)-1 -> 4 | E47: =INDEX($A$39:$B$66,MATCH(ROW()-38,$D$39:$D$66,0),1) -> Marín y Ría de Pontevedra | F47: =LOOKUP(E47,$A$39:$A$66,$B$39:$B$66) -> 41343 | G47: =LOOKUP(E47,$A$39:$A$66,$C$39:$C$66) -> 36642
A48: =A16 -> Cartagena | B48: =E16 -> 37983 | C48: =D16 -> 38501 | D48: =_xlfn.RANK.EQ(B48,$B$39:$B$66)+COUNTIF($B$39:$B$66,B48)-1 -> 11 | E48: =INDEX($A$39:$B$66,MATCH(ROW()-38,$D$39:$D$66,0),1) -> Santa Cruz de Tenerife | F48: =LOOKUP(E48,$A$39:$A$66,$B$39:$B$66) -> 41079 | G48: =LOOKUP(E48,$A$39:$A$66,$C$39:$C$66) -> 34725
A49: =A17 -> Castellón | B49: =E17 -> 96359 | C49: =D17 -> 117555 | D49: =_xlfn.RANK.EQ(B49,$B$39:$B$66)+COUNTIF($B$39:$B$66,B49)-1 -> 6 | E49: =INDEX($A$39:$B$66,MATCH(ROW()-38,$D$39:$D$66,0),1) -> Cartagena | F49: =LOOKUP(E49,$A$39:$A$66,$B$39:$B$66) -> 37983 | G49: =LOOKUP(E49,$A$39:$A$66,$C$39:$C$66) -> 38501
A50: =A18 -> Ceuta | B50: =E18 -> 105 | C50: =D18 -> 121 | D50: =_xlfn.RANK.EQ(B50,$B$39:$B$66)+COUNTIF($B$39:$B$66,B50)-1 -> 22 | E50: =INDEX($A$39:$B$66,MATCH(ROW()-38,$D$39:$D$66,0),1) -> Gijón | F50: =LOOKUP(E50,$A$39:$A$66,$B$39:$B$66) -> 37214 | G50: =LOOKUP(E50,$A$39:$A$66,$C$39:$C$66) -> 49814
... A66: =A34 -> Vilagarcía | B66: =E34 -> 1880 | C66: =D34 -> 1536 | D66: =_xlfn.RANK.EQ(B66,$B$39:$B$66)+COUNTIF($B$39:$B$66,B66)-1 -> 20 | E66: =INDEX($A$39:$B$66,MATCH(ROW()-38,$D$39:$D$66,0),1) -> Avilés | F66: =LOOKUP(E66,$A$39:$A$66,$B$39:$B$66) -> 0 | G66: =LOOKUP(E66,$A$39:$A$66,$C$39:$C$66) -> 22

Sheet TEUS nacional y exterior
F1: 10.4. CONTENEDORES NACIONAL Y EXTERIOR (TEUS)
A5: Autoridad Portuaria | B5: ='Resumen general'!D6 -> Mes diciembre | D5: ='Resumen general'!F6 -> Acumulado desde enero | L5: ='Resumen general'!I4 -> Fecha: 27/01/2023
B6: ='Resumen general'!D7 -> 2021 | C6: ='Resumen general'!E7 -> 2022 | D6: ='Resumen general'!F7 -> 2021 | E6: ='Resumen general'!G7 -> 2022 | F6: Var. (%)
A7: A Coruña | B7: 0 | C7: 0 | D7: 3 | E7: ='TEUS nacional'!E7+'TEUS exterior'!E7 -> 10 | F7: =((E7*100)/D7)-100 -> 233.33333
A8: Alicante | B8: 18638 | C8: 15101 | D8: 171030 | E8: ='TEUS nacional'!E8+'TEUS exterior'!E8 -> 208814 | F8: =((E8*100)/D8)-100 -> 22.092031
A9: Almería | B9: 1899 | C9: 1075 | D9: 25269 | E9: ='TEUS nacional'!E9+'TEUS exterior'!E9 -> 21735 | F9: =((E9*100)/D9)-100 -> -13.985516
A10: Avilés | B10: 0 | C10: 0 | D10: 22 | E10: ='TEUS nacional'!E10+'TEUS exterior'!E10 -> 0 | F10: =((E10*100)/D10)-100 -> -100
A11: Bahía de Algeciras | B11: 58655 | C11: 63346 | D11: 715146 | E11: ='TEUS nacional'!E11+'TEUS exterior'!E11 -> 816998 | F11: =((E11*100)/D11)-100 -> 14.242127
A12: Bahía de Cádiz | B12: 15226 | C12: 15115 | D12: 169571 | E12: ='TEUS nacional'!E12+'TEUS exterior'!E12 -> 185698 | F12: =((E12*100)/D12)-100 -> 9.5104705
A13: Baleares | B13: 7840 | C13: 6321 | D13: 106928 | E13: ='TEUS nacional'!E13+'TEUS exterior'!E13 -> 97224 | F13: =((E13*100)/D13)-100 -> -9.0752656
A14: Barcelona | B14: 178301 | C14: 169176 | D14: 2054082 | E14: ='TEUS nacional'!E14+'TEUS exterior'!E14 -> 1971948 | F14: =((E14*100)/D14)-100 -> -3.9985745
A15: Bilbao | B15: 43223 | C15: 37697 | D15: 536719 | E15: ='TEUS nacional'!E15+'TEUS exterior'!E15 -> 492789 | F15: =((E15*100)/D15)-100 -> -8.1849161
A16: Cartagena | B16: 3151 | C16: 3363 | D16: 50511 | E16: ='TEUS nacional'!E16+'TEUS exterior'!E16 -> 52135 | F16: =((E16*100)/D16)-100 -> 3.2151413
A17: Castellón | B17: 9393 | C17: 6712 | D17: 124095 | E17: ='TEUS nacional'!E17+'TEUS exterior'!E17 -> 100235 | F17: =((E17*100)/D17)-100 -> -19.227205
A18: Ceuta | B18: 491 | C18: 410 | D18: 5872 | E18: ='TEUS nacional'!E18+'TEUS exterior'!E18 -> 5365 | F18: =((E18*100)/D18)-100 -> -8.6341962
... A34: Vilagarcía | B34: 2523 | C34: 2240 | D34: 33838 | E34: ='TEUS nacional'!E34+'TEUS exterior'!E34 -> 32900 | F34: =((E34*100)/D34)-100 -> -2.7720314
A35: Total | B35: =SUM(B7:B34) -> 697846 | C35: =SUM(C7:C34) -> 664871 | D35: =SUM(D7:D34) -> 8321263 | E35: =SUM(E7:E34) -> 8323382 | F35: =((E35*100)/D35)-100 -> 0.025464884
A36: No incluye tránsitos ni transbordos. Navegación de cabotaje y exterior.
B38: =E6 -> 2022 | C38: =D6 -> 2021 | F38: =B38 -> 2022 | G38: =C38 -> 2021
A39: =A7 -> A Coruña | B39: =E7 -> 10 | C39: =D7 -> 3 | D39: =_xlfn.RANK.EQ(B39,$B$39:$B$66)+COUNTIF($B$39:$B$66,B39)-1 -> 26 | E39: =INDEX($A$39:$B$66,MATCH(ROW()-38,$D$39:$D$66,0),1) -> Valencia | F39: =LOOKUP(E39,$A$39:$A$66,$B$39:$B$66) -> 2660294 | G39: =LOOKUP(E39,$A$39:$A$66,$C$39:$C$66) -> 2716597
A40: =A8 -> Alicante | B40: =E8 -> 208814 | C40: =D8 -> 171030 | D40: =_xlfn.RANK.EQ(B40,$B$39:$B$66)+COUNTIF($B$39:$B$66,B40)-1 -> 8 | E40: =INDEX($A$39:$B$66,MATCH(ROW()-38,$D$39:$D$66,0),1) -> Barcelona | F40: =LOOKUP(E40,$A$39:$A$66,$B$39:$B$66) -> 1971948 | G40: =LOOKUP(E40,$A$39:$A$66,$C$39:$C$66) -> 2054082
A41: =A9 -> Almería | B41: =E9 -> 21735 | C41: =D9 -> 25269 | D41: =_xlfn.RANK.EQ(B41,$B$39:$B$66)+COUNTIF($B$39:$B$66,B41)-1 -> 22 | E41: =INDEX($A$39:$B$66,MATCH(ROW()-38,$D$39:$D$66,0),1) -> Bahía de Algeciras | F41: =LOOKUP(E41,$A$39:$A$66,$B$39:$B$66) -> 816998 | G41: =LOOKUP(E41,$A$39:$A$66,$C$39:$C$66) -> 715146
A42: =A10 -> Avilés | B42: =E10 -> 0 | C42: =D10 -> 22 | D42: =_xlfn.RANK.EQ(B42,$B$39:$B$66)+COUNTIF($B$39:$B$66,B42)-1 -> 28 | E42: =INDEX($A$39:$B$66,MATCH(ROW()-38,$D$39:$D$66,0),1) -> Las Palmas | F42: =LOOKUP(E42,$A$39:$A$66,$B$39:$B$66) -> 587199 | G42: =LOOKUP(E42,$A$39:$A$66,$C$39:$C$66) -> 534744
A43: =A11 -> Bahía de Algeciras | B43: =E11 -> 816998 | C43: =D11 -> 715146 | D43: =_xlfn.RANK.EQ(B43,$B$39:$B$66)+COUNTIF($B$39:$B$66,B43)-1 -> 3 | E43: =INDEX($A$39:$B$66,MATCH(ROW()-38,$D$39:$D$66,0),1) -> Bilbao | F43: =LOOKUP(E43,$A$39:$A$66,$B$39:$B$66) -> 492789 | G43: =LOOKUP(E43,$A$39:$A$66,$C$39:$C$66) -> 536719
A44: =A12 -> Bahía de Cádiz | B44: =E12 -> 185698 | C44: =D12 -> 169571 | D44: =_xlfn.RANK.EQ(B44,$B$39:$B$66)+COUNTIF($B$39:$B$66,B44)-1 -> 9 | E44: =INDEX($A$39:$B$66,MATCH(ROW()-38,$D$39:$D$66,0),1) -> Santa Cruz de Tenerife | F44: =LOOKUP(E44,$A$39:$A$66,$B$39:$B$66) -> 413679 | G44: =LOOKUP(E44,$A$39:$A$66,$C$39:$C$66) -> 394496
A45: =A13 -> Baleares | B45: =E13 -> 97224 | C45: =D13 -> 106928 | D45: =_xlfn.RANK.EQ(B45,$B$39:$B$66)+COUNTIF($B$39:$B$66,B45)-1 -> 12 | E45: =INDEX($A$39:$B$66,MATCH(ROW()-38,$D$39:$D$66,0),1) -> Vigo | F45: =LOOKUP(E45,$A$39:$A$66,$B$39:$B$66) -> 212666 | G45: =LOOKUP(E45,$A$39:$A$66,$C$39:$C$66) -> 228407
A46: =A14 -> Barcelona | B46: =E14 -> 1971948 | C46: =D14 -> 2054082 | D46: =_xlfn.RANK.EQ(B46,$B$39:$B$66)+COUNTIF($B$39:$B$66,B46)-1 -> 2 | E46: =INDEX($A$39:$B$66,MATCH(ROW()-38,$D$39:$D$66,0),1) -> Alicante | F46: =LOOKUP(E46,$A$39:$A$66,$B$39:$B$66) -> 208814 | G46: =LOOKUP(E46,$A$39:$A$66,$C$39:$C$66) -> 171030
A47: =A15 -> Bilbao | B47: =E15 -> 492789 | C47: =D15 -> 536719 | D47: =_xlfn.RANK.EQ(B47,$B$39:$B$66)+COUNTIF($B$39:$B$66,B47)-1 -> 5 | E47: =INDEX($A$39:$B$66,MATCH(ROW()-38,$D$39:$D$66,0),1) -> Bahía de Cádiz | F47: =LOOKUP(E47,$A$39:$A$66,$B$39:$B$66) -> 185698 | G47: =LOOKUP(E47,$A$39:$A$66,$C$39:$C$66) -> 169571
A48: =A16 -> Cartagena | B48: =E16 -> 52135 | C48: =D16 -> 50511 | D48: =_xlfn.RANK.EQ(B48,$B$39:$B$66)+COUNTIF($B$39:$B$66,B48)-1 -> 15 | E48: =INDEX($A$39:$B$66,MATCH(ROW()-38,$D$39:$D$66,0),1) -> Sevilla | F48: =LOOKUP(E48,$A$39:$A$66,$B$39:$B$66) -> 141231 | G48: =LOOKUP(E48,$A$39:$A$66,$C$39:$C$66) -> 135742
A49: =A17 -> Castellón | B49: =E17 -> 100235 | C49: =D17 -> 124095 | D49: =_xlfn.RANK.EQ(B49,$B$39:$B$66)+COUNTIF($B$39:$B$66,B49)-1 -> 11 | E49: =INDEX($A$39:$B$66,MATCH(ROW()-38,$D$39:$D$66,0),1) -> Castellón | F49: =LOOKUP(E49,$A$39:$A$66,$B$39:$B$66) -> 100235 | G49: =LOOKUP(E49,$A$39:$A$66,$C$39:$C$66) -> 124095
A50: =A18 -> Ceuta | B50: =E18 -> 5365 | C50: =D18 -> 5872 | D50: =_xlfn.RANK.EQ(B50,$B$39:$B$66)+COUNTIF($B$39:$B$66,B50)-1 -> 24 | E50: =INDEX($A$39:$B$66,MATCH(ROW()-38,$D$39:$D$66,0),1) -> Baleares | F50: =LOOKUP(E50,$A$39:$A$66,$B$39:$B$66) -> 97224 | G50: =LOOKUP(E50,$A$39:$A$66,$C$39:$C$66) -> 106928
... A66: =A34 -> Vilagarcía | B66: =E34 -> 32900 | C66: =D34 -> 33838 | D66: =_xlfn.RANK.EQ(B66,$B$39:$B$66)+COUNTIF($B$39:$B$66,B66)-1 -> 19 | E66: =INDEX($A$39:$B$66,MATCH(ROW()-38,$D$39:$D$66,0),1) -> Avilés | F66: =LOOKUP(E66,$A$39:$A$66,$B$39:$B$66) -> 0 | G66: =LOOKUP(E66,$A$39:$A$66,$C$39:$C$66) -> 22

Sheet Pasajeros total
F1: 11. PASAJEROS EN RÉGIMEN DE TRANSPORTE Y DE CRUCERO
I2: (número)
A5: Autoridad Portuaria | B5: ='Resumen general'!D6 -> Mes diciembre | D5: ='Resumen general'!F6 -> Acumulado desde enero | L5: ='Resumen general'!I4 -> Fecha: 27/01/2023
B6: ='Resumen general'!D7 -> 2021 | C6: ='Resumen general'!E7 -> 2022 | D6: ='Resumen general'!F7 -> 2021 | E6: ='Resumen general'!G7 -> 2022 | F6: Var. (%)
A7: A Coruña | B7: 5703 | C7: 10397 | D7: 30177 | E7: 222723 | F7: =((E7*100)/D7)-100 -> 638.05547
A8: Alicante | B8: 10894 | C8: 14007 | D8: 66709 | E8: 244182 | F8: =((E8*100)/D8)-100 -> 266.04056
A9: Almería | B9: 17258 | C9: 37988 | D9: 73763 | E9: 712546 | F9: =((E9*100)/D9)-100 -> 865.99379
A10: Avilés | B10: 0 | C10: 0 | D10: 137 | E10: 166 | F10: =((E10*100)/D10)-100 -> 21.167883
A11: Bahía de Algeciras | B11: 135163 | C11: 320505 | D11: 1311506 | E11: 4387073 | F11: =((E11*100)/D11)-100 -> 234.50651
A12: Bahía de Cádiz | B12: 21050 | C12: 26140 | D12: 151952 | E12: 416095 | F12: =((E12*100)/D12)-100 -> 173.83318
A13: Baleares | B13: 266935 | C13: 344333 | D13: 6013613 | E13: 8748725 | F13: =((E13*100)/D13)-100 -> 45.482009
A14: Barcelona | B14: 100400 | C14: 195428 | D14: 1498817 | E14: 3922079 | F14: =((E14*100)/D14)-100 -> 161.67831
A15: Bilbao | B15: 3348 | C15: 3790 | D15: 73853 | E15: 214028 | F15: =((E15*100)/D15)-100 -> 189.80272
A16: Cartagena | B16: 7319 | C16: 5374 | D16: 70087 | E16: 175706 | F16: =((E16*100)/D16)-100 -> 150.69699
A17: Castellón | B17: 0 | C17: 0 | D17: 1077 | E17: 633 | F17: =((E17*100)/D17)-100 -> -41.225627
A18: Ceuta | B18: 102851 | C18: 151144 | D18: 943457 | E18: 1818459 | F18: =((E18*100)/D18)-100 -> 92.744237
... A34: Vilagarcía | B34: 0 | C34: 0 | D34: 1166 | E34: 2076 | F34: =((E34*100)/D34)-100 -> 78.044597
A35: Total | B35: =SUM(B7:B34) -> 1654580 | C35: =SUM(C7:C34) -> 2266274 | D35: =SUM(D7:D34) -> 17981420 | E35: =SUM(E7:E34) -> 32992383 | F35: =((E35*100)/D35)-100 -> 83.480409
A36: Incluye embarques, desembarques y en tránsito.
B38: =E6 -> 2022 | C38: =D6 -> 2021 | F38: =B38 -> 2022 | G38: =C38 -> 2021
A39: =A7 -> A Coruña | B39: =E7 -> 222723 | C39: =D7 -> 30177 | D39: =_xlfn.RANK.EQ(B39,$B$39:$B$66)+COUNTIF($B$39:$B$66,B39)-1 -> 14 | E39: =INDEX($A$39:$B$66,MATCH(ROW()-38,$D$39:$D$66,0),1) -> Baleares | F39: =LOOKUP(E39,$A$39:$A$66,$B$39:$B$66) -> 8748725 | G39: =LOOKUP(E39,$A$39:$A$66,$C$39:$C$66) -> 6013613
A40: =A8 -> Alicante | B40: =E8 -> 244182 | C40: =D8 -> 66709 | D40: =_xlfn.RANK.EQ(B40,$B$39:$B$66)+COUNTIF($B$39:$B$66,B40)-1 -> 13 | E40: =INDEX($A$39:$B$66,MATCH(ROW()-38,$D$39:$D$66,0),1) -> Santa Cruz de Tenerife | F40: =LOOKUP(E40,$A$39:$A$66,$B$39:$B$66) -> 5981426 | G40: =LOOKUP(E40,$A$39:$A$66,$C$39:$C$66) -> 4553977
A41: =A9 -> Almería | B41: =E9 -> 712546 | C41: =D9 -> 73763 | D41: =_xlfn.RANK.EQ(B41,$B$39:$B$66)+COUNTIF($B$39:$B$66,B41)-1 -> 8 | E41: =INDEX($A$39:$B$66,MATCH(ROW()-38,$D$39:$D$66,0),1) -> Bahía de Algeciras | F41: =LOOKUP(E41,$A$39:$A$66,$B$39:$B$66) -> 4387073 | G41: =LOOKUP(E41,$A$39:$A$66,$C$39:$C$66) -> 1311506
A42: =A10 -> Avilés | B42: =E10 -> 166 | C42: =D10 -> 137 | D42: =_xlfn.RANK.EQ(B42,$B$39:$B$66)+COUNTIF($B$39:$B$66,B42)-1 -> 27 | E42: =INDEX($A$39:$B$66,MATCH(ROW()-38,$D$39:$D$66,0),1) -> Barcelona | F42: =LOOKUP(E42,$A$39:$A$66,$B$39:$B$66) -> 3922079 | G42: =LOOKUP(E42,$A$39:$A$66,$C$39:$C$66) -> 1498817
A43: =A11 -> Bahía de Algeciras | B43: =E11 -> 4387073 | C43: =D11 -> 1311506 | D43: =_xlfn.RANK.EQ(B43,$B$39:$B$66)+COUNTIF($B$39:$B$66,B43)-1 -> 3 | E43: =INDEX($A$39:$B$66,MATCH(ROW()-38,$D$39:$D$66,0),1) -> Las Palmas | F43: =LOOKUP(E43,$A$39:$A$66,$B$39:$B$66) -> 2680720 | G43: =LOOKUP(E43,$A$39:$A$66,$C$39:$C$66) -> 1727945
A44: =A12 -> Bahía de Cádiz | B44: =E12 -> 416095 | C44: =D12 -> 151952 | D44: =_xlfn.RANK.EQ(B44,$B$39:$B$66)+COUNTIF($B$39:$B$66,B44)-1 -> 11 | E44: =INDEX($A$39:$B$66,MATCH(ROW()-38,$D$39:$D$66,0),1) -> Ceuta | F44: =LOOKUP(E44,$A$39:$A$66,$B$39:$B$66) -> 1818459 | G44: =LOOKUP(E44,$A$39:$A$66,$C$39:$C$66) -> 943457
A45: =A13 -> Baleares | B45: =E13 -> 8748725 | C45: =D13 -> 6013613 | D45: =_xlfn.RANK.EQ(B45,$B$39:$B$66)+COUNTIF($B$39:$B$66,B45)-1 -> 1 | E45: =INDEX($A$39:$B$66,MATCH(ROW()-38,$D$39:$D$66,0),1) -> Valencia | F45: =LOOKUP(E45,$A$39:$A$66,$B$39:$B$66) -> 1373552 | G45: =LOOKUP(E45,$A$39:$A$66,$C$39:$C$66) -> 635689
A46: =A14 -> Barcelona | B46: =E14 -> 3922079 | C46: =D14 -> 1498817 | D46: =_xlfn.RANK.EQ(B46,$B$39:$B$66)+COUNTIF($B$39:$B$66,B46)-1 -> 4 | E46: =INDEX($A$39:$B$66,MATCH(ROW()-38,$D$39:$D$66,0),1) -> Almería | F46: =LOOKUP(E46,$A$39:$A$66,$B$39:$B$66) -> 712546 | G46: =LOOKUP(E46,$A$39:$A$66,$C$39:$C$66) -> 73763
A47: =A15 -> Bilbao | B47: =E15 -> 214028 | C47: =D15 -> 73853 | D47: =_xlfn.RANK.EQ(B47,$B$39:$B$66)+COUNTIF($B$39:$B$66,B47)-1 -> 15 | E47: =INDEX($A$39:$B$66,MATCH(ROW()-38,$D$39:$D$66,0),1) -> Málaga | F47: =LOOKUP(E47,$A$39:$A$66,$B$39:$B$66) -> 690530 | G47: =LOOKUP(E47,$A$39:$A$66,$C$39:$C$66) -> 305346
A48: =A16 -> Cartagena | B48: =E16 -> 175706 | C48: =D16 -> 70087 | D48: =_xlfn.RANK.EQ(B48,$B$39:$B$66)+COUNTIF($B$39:$B$66,B48)-1 -> 16 | E48: =INDEX($A$39:$B$66,MATCH(ROW()-38,$D$39:$D$66,0),1) -> Melilla | F48: =LOOKUP(E48,$A$39:$A$66,$B$39:$B$66) -> 641263 | G48: =LOOKUP(E48,$A$39:$A$66,$C$39:$C$66) -> 265474
A49: =A17 -> Castellón | B49: =E17 -> 633 | C49: =D17 -> 1077 | D49: =_xlfn.RANK.EQ(B49,$B$39:$B$66)+COUNTIF($B$39:$B$66,B49)-1 -> 26 | E49: =INDEX($A$39:$B$66,MATCH(ROW()-38,$D$39:$D$66,0),1) -> Bahía de Cádiz | F49: =LOOKUP(E49,$A$39:$A$66,$B$39:$B$66) -> 416095 | G49: =LOOKUP(E49,$A$39:$A$66,$C$39:$C$66) -> 151952
A50: =A18 -> Ceuta | B50: =E18 -> 1818459 | C50: =D18 -> 943457 | D50: =_xlfn.RANK.EQ(B50,$B$39:$B$66)+COUNTIF($B$39:$B$66,B50)-1 -> 6 | E50: =INDEX($A$39:$B$66,MATCH(ROW()-38,$D$39:$D$66,0),1) -> Santander | F50: =LOOKUP(E50,$A$39:$A$66,$B$39:$B$66) -> 259448 | G50: =LOOKUP(E50,$A$39:$A$66,$C$39:$C$66) -> 120467
... A66: =A34 -> Vilagarcía | B66: =E34 -> 2076 | C66: =D34 -> 1166 | D66: =_xlfn.RANK.EQ(B66,$B$39:$B$66)+COUNTIF($B$39:$B$66,B66)-1 -> 24 | E66: =INDEX($A$39:$B$66,MATCH(ROW()-38,$D$39:$D$66,0),1) -> Marín y Ría de Pontevedra | F66: =LOOKUP(E66,$A$39:$A$66,$B$39:$B$66) -> 0 | G66: =LOOKUP(E66,$A$39:$A$66,$C$39:$C$66) -> 0

Sheet Pasajeros crucero
F1: 11.1. PASAJEROS DE CRUCERO (número)
A5: Autoridad Portuaria | B5: ='Resumen general'!D6 -> Mes diciembre | D5: ='Resumen general'!F6 -> Acumulado desde enero | L5: ='Resumen general'!I4 -> Fecha: 27/01/2023
B6: ='Resumen general'!D7 -> 2021 | C6: ='Resumen general'!E7 -> 2022 | D6: ='Resumen general'!F7 -> 2021 | E6: ='Resumen general'!G7 -> 2022 | F6: Var. (%)
A7: A Coruña | B7: 5703 | C7: 10397 | D7: 30177 | E7: 222723 | F7: =((E7*100)/D7)-100 -> 638.05547
A8: Alicante | B8: 0 | C8: 6650 | D8: 43466 | E8: 117434 | F8: =((E8*100)/D8)-100 -> 170.17439
A9: Almería | B9: 0 | C9: 0 | D9: 3819 | E9: 7038 | F9: =((E9*100)/D9)-100 -> 84.289081
A10: Avilés | B10: 0 | C10: 0 | D10: 137 | E10: 166 | F10: =((E10*100)/D10)-100 -> 21.167883
A11: Bahía de Algeciras | B11: 0 | C11: 0 | D11: 94 | E11: 0 | F11: =((E11*100)/D11)-100 -> -100
A12: Bahía de Cádiz | B12: 19846 | C12: 24634 | D12: 133511 | E12: 394276 | F12: =((E12*100)/D12)-100 -> 195.31349
A13: Baleares | B13: 18574 | C13: 61763 | D13: 345099 | E13: 1727509 | F13: =((E13*100)/D13)-100 -> 400.5836
A14: Barcelona | B14: 33965 | C14: 105385 | D14: 520854 | E14: 2329332 | F14: =((E14*100)/D14)-100 -> 347.214
A15: Bilbao | B15: 1387 | C15: 727 | D15: 13079 | E15: 109348 | F15: =((E15*100)/D15)-100 -> 736.0578
A16: Cartagena | B16: 7319 | C16: 5374 | D16: 70087 | E16: 175706 | F16: =((E16*100)/D16)-100 -> 150.69699
A17: Castellón | B17: 0 | C17: 0 | D17: 1077 | E17: 633 | F17: =((E17*100)/D17)-100 -> -41.225627
A18: Ceuta | B18: 0 | C18: 0 | D18: 150 | E18: 3520 | F18: =((E18*100)/D18)-100 -> 2246.6667
... A34: Vilagarcía | B34: 0 | C34: 0 | D34: 1166 | E34: 2076 | F34: =((E34*100)/D34)-100 -> 78.044597
A35: Total | B35: =SUM(B7:B34) -> 324749 | C35: =SUM(C7:C34) -> 671197 | D35: =SUM(D7:D34) -> 2219083 | E35: =SUM(E7:E34) -> 8179659 | F35: =((E35*100)/D35)-100 -> 268.60537
A36: Incluye embarques (inicio de línea), desembarques (fin de línea) y en tránsito.
B38: =E6 -> 2022 | C38: =D6 -> 2021 | F38: =B38 -> 2022 | G38: =C38 -> 2021
A39: =A7 -> A Coruña | B39: =E7 -> 222723 | C39: =D7 -> 30177 | D39: =_xlfn.RANK.EQ(B39,$B$39:$B$66)+COUNTIF($B$39:$B$66,B39)-1 -> 8 | E39: =INDEX($A$39:$B$66,MATCH(ROW()-38,$D$39:$D$66,0),1) -> Barcelona | F39: =LOOKUP(E39,$A$39:$A$66,$B$39:$B$66) -> 2329332 | G39: =LOOKUP(E39,$A$39:$A$66,$C$39:$C$66) -> 520854
A40: =A8 -> Alicante | B40: =E8 -> 117434 | C40: =D8 -> 43466 | D40: =_xlfn.RANK.EQ(B40,$B$39:$B$66)+COUNTIF($B$39:$B$66,B40)-1 -> 11 | E40: =INDEX($A$39:$B$66,MATCH(ROW()-38,$D$39:$D$66,0),1) -> Baleares | F40: =LOOKUP(E40,$A$39:$A$66,$B$39:$B$66) -> 1727509 | G40: =LOOKUP(E40,$A$39:$A$66,$C$39:$C$66) -> 345099
A41: =A9 -> Almería | B41: =E9 -> 7038 | C41: =D9 -> 3819 | D41: =_xlfn.RANK.EQ(B41,$B$39:$B$66)+COUNTIF($B$39:$B$66,B41)-1 -> 18 | E41: =INDEX($A$39:$B$66,MATCH(ROW()-38,$D$39:$D$66,0),1) -> Las Palmas | F41: =LOOKUP(E41,$A$39:$A$66,$B$39:$B$66) -> 1035652 | G41: =LOOKUP(E41,$A$39:$A$66,$C$39:$C$66) -> 450299
A42: =A10 -> Avilés | B42: =E10 -> 166 | C42: =D10 -> 137 | D42: =_xlfn.RANK.EQ(B42,$B$39:$B$66)+COUNTIF($B$39:$B$66,B42)-1 -> 26 | E42: =INDEX($A$39:$B$66,MATCH(ROW()-38,$D$39:$D$66,0),1) -> Santa Cruz de Tenerife | F42: =LOOKUP(E42,$A$39:$A$66,$B$39:$B$66) -> 759918 | G42: =LOOKUP(E42,$A$39:$A$66,$C$39:$C$66) -> 304405
A43: =A11 -> Bahía de Algeciras | B43: =E11 -> 0 | C43: =D11 -> 94 | D43: =_xlfn.RANK.EQ(B43,$B$39:$B$66)+COUNTIF($B$39:$B$66,B43)-1 -> 28 | E43: =INDEX($A$39:$B$66,MATCH(ROW()-38,$D$39:$D$66,0),1) -> Valencia | F43: =LOOKUP(E43,$A$39:$A$66,$B$39:$B$66) -> 623053 | G43: =LOOKUP(E43,$A$39:$A$66,$C$39:$C$66) -> 130869
A44: =A12 -> Bahía de Cádiz | B44: =E12 -> 394276 | C44: =D12 -> 133511 | D44: =_xlfn.RANK.EQ(B44,$B$39:$B$66)+COUNTIF($B$39:$B$66,B44)-1 -> 6 | E44: =INDEX($A$39:$B$66,MATCH(ROW()-38,$D$39:$D$66,0),1) -> Bahía de Cádiz | F44: =LOOKUP(E44,$A$39:$A$66,$B$39:$B$66) -> 394276 | G44: =LOOKUP(E44,$A$39:$A$66,$C$39:$C$66) -> 133511
A45: =A13 -> Baleares | B45: =E13 -> 1727509 | C45: =D13 -> 345099 | D45: =_xlfn.RANK.EQ(B45,$B$39:$B$66)+COUNTIF($B$39:$B$66,B45)-1 -> 2 | E45: =INDEX($A$39:$B$66,MATCH(ROW()-38,$D$39:$D$66,0),1) -> Málaga | F45: =LOOKUP(E45,$A$39:$A$66,$B$39:$B$66) -> 342045 | G45: =LOOKUP(E45,$A$39:$A$66,$C$39:$C$66) -> 118330
A46: =A14 -> Barcelona | B46: =E14 -> 2329332 | C46: =D14 -> 520854 | D46: =_xlfn.RANK.EQ(B46,$B$39:$B$66)+COUNTIF($B$39:$B$66,B46)-1 -> 1 | E46: =INDEX($A$39:$B$66,MATCH(ROW()-38,$D$39:$D$66,0),1) -> A Coruña | F46: =LOOKUP(E46,$A$39:$A$66,$B$39:$B$66) -> 222723 | G46: =LOOKUP(E46,$A$39:$A$66,$C$39:$C$66) -> 30177
A47: =A15 -> Bilbao | B47: =E15 -> 109348 | C47: =D15 -> 13079 | D47: =_xlfn.RANK.EQ(B47,$B$39:$B$66)+COUNTIF($B$39:$B$66,B47)-1 -> 12 | E47: =INDEX($A$39:$B$66,MATCH(ROW()-38,$D$39:$D$66,0),1) -> Cartagena | F47: =LOOKUP(E47,$A$39:$A$66,$B$39:$B$66) -> 175706 | G47: =LOOKUP(E47,$A$39:$A$66,$C$39:$C$66) -> 70087
A48: =A16 -> Cartagena | B48: =E16 -> 175706 | C48: =D16 -> 70087 | D48: =_xlfn.RANK.EQ(B48,$B$39:$B$66)+COUNTIF($B$39:$B$66,B48)-1 -> 9 | E48: =INDEX($A$39:$B$66,MATCH(ROW()-38,$D$39:$D$66,0),1) -> Vigo | F48: =LOOKUP(E48,$A$39:$A$66,$B$39:$B$66) -> 173220 | G48: =LOOKUP(E48,$A$39:$A$66,$C$39:$C$66) -> 34656
A49: =A17 -> Castellón | B49: =E17 -> 633 | C49: =D17 -> 1077 | D49: =_xlfn.RANK.EQ(B49,$B$39:$B$66)+COUNTIF($B$39:$B$66,B49)-1 -> 25 | E49: =INDEX($A$39:$B$66,MATCH(ROW()-38,$D$39:$D$66,0),1) -> Alicante | F49: =LOOKUP(E49,$A$39:$A$66,$B$39:$B$66) -> 117434 | G49: =LOOKUP(E49,$A$39:$A$66,$C$39:$C$66) -> 43466
A50: =A18 -> Ceuta | B50: =E18 -> 3520 | C50: =D18 -> 150 | D50: =_xlfn.RANK.EQ(B50,$B$39:$B$66)+COUNTIF($B$39:$B$66,B50)-1 -> 21 | E50: =INDEX($A$39:$B$66,MATCH(ROW()-38,$D$39:$D$66,0),1) -> Bilbao | F50: =LOOKUP(E50,$A$39:$A$66,$B$39:$B$66) -> 109348 | G50: =LOOKUP(E50,$A$39:$A$66,$C$39:$C$66) -> 13079
... A66: =A34 -> Vilagarcía | B66: =E34 -> 2076 | C66: =D34 -> 1166 | D66: =_xlfn.RANK.EQ(B66,$B$39:$B$66)+COUNTIF($B$39:$B$66,B66)-1 -> 22 | E66: =INDEX($A$39:$B$66,MATCH(ROW()-38,$D$39:$D$66,0),1) -> Bahía de Algeciras | F66: =LOOKUP(E66,$A$39:$A$66,$B$39:$B$66) -> 0 | G66: =LOOKUP(E66,$A$39:$A$66,$C$39:$C$66) -> 94

Sheet Automóviles régimen pasaje
F1: 12.1. AUTOMÓVILES EN RÉGIMEN DE PASAJE (unidades)
A5: Autoridad Portuaria | B5: ='Resumen general'!D6 -> Mes diciembre | D5: ='Resumen general'!F6 -> Acumulado desde enero | L5: ='Resumen general'!I4 -> Fecha: 27/01/2023
B6: ='Resumen general'!D7 -> 2021 | C6: ='Resumen general'!E7 -> 2022 | D6: ='Resumen general'!F7 -> 2021 | E6: ='Resumen general'!G7 -> 2022 | F6: Var. (%)
A7: A Coruña | B7: 0 | C7: 0 | D7: 0 | E7: 0 | F7: =((E7*100)/D7)-100 -> #DIV/0!
A8: Alicante | B8: 2420 | C8: 2308 | D8: 5408 | E8: 31819 | F8: =((E8*100)/D8)-100 -> 488.36908
A9: Almería | B9: 4113 | C9: 10991 | D9: 12213 | E9: 169494 | F9: =((E9*100)/D9)-100 -> 1287.8163
A10: Avilés | B10: 0 | C10: 0 | D10: 0 | E10: 0 | F10: =((E10*100)/D10)-100 -> #DIV/0!
A11: Bahía de Algeciras | B11: 22978 | C11: 68206 | D11: 207843 | E11: 926760 | F11: =((E11*100)/D11)-100 -> 345.89426
A12: Bahía de Cádiz | B12: 384 | C12: 914 | D12: 10485 | E12: 12350 | F12: =((E12*100)/D12)-100 -> 17.787315
A13: Baleares | B13: 56534 | C13: 66218 | D13: 951491 | E13: 1167200 | F13: =((E13*100)/D13)-100 -> 22.67063
A14: Barcelona | B14: 19426 | C14: 27773 | D14: 294309 | E14: 485123 | F14: =((E14*100)/D14)-100 -> 64.834579
A15: Bilbao | B15: 646 | C15: 1285 | D15: 25247 | E15: 44358 | F15: =((E15*100)/D15)-100 -> 75.696122
A16: Cartagena | B16: 0 | C16: 0 | D16: 0 | E16: 0 | F16: =((E16*100)/D16)-100 -> #DIV/0!
A17: Castellón | B17: 0 | C17: 0 | D17: 0 | E17: 0 | F17: =((E17*100)/D17)-100 -> #DIV/0!
A18: Ceuta | B18: 22784 | C18: 36028 | D18: 204230 | E18: 418435 | F18: =((E18*100)/D18)-100 -> 104.8842
... A34: Vilagarcía | B34: 0 | C34: 0 | D34: 0 | E34: 0 | F34: =((E34*100)/D34)-100 -> #DIV/0!
A35: Total | B35: =SUM(B7:B34) -> 374361 | C35: =SUM(C7:C34) -> 447247 | D35: =SUM(D7:D34) -> 4066713 | E35: =SUM(E7:E34) -> 6249199 | F35: =((E35*100)/D35)-100 -> 53.667077
A36: Incluye embarques, desembarques y en tránsito.
B38: =E6 -> 2022 | C38: =D6 -> 2021 | F38: =B38 -> 2022 | G38: =C38 -> 2021
A39: =A7 -> A Coruña | B39: =E7 -> 0 | C39: =D7 -> 0 | D39: =_xlfn.RANK.EQ(B39,$B$39:$B$66)+COUNTIF($B$39:$B$66,B39)-1 -> 28 | E39: =INDEX($A$39:$B$66,MATCH(ROW()-38,$D$39:$D$66,0),1) -> Santa Cruz de Tenerife | F39: =LOOKUP(E39,$A$39:$A$66,$B$39:$B$66) -> 1715012 | G39: =LOOKUP(E39,$A$39:$A$66,$C$39:$C$66) -> 1485402
A40: =A8 -> Alicante | B40: =E8 -> 31819 | C40: =D8 -> 5408 | D40: =_xlfn.RANK.EQ(B40,$B$39:$B$66)+COUNTIF($B$39:$B$66,B40)-1 -> 14 | E40: =INDEX($A$39:$B$66,MATCH(ROW()-38,$D$39:$D$66,0),1) -> Baleares | F40: =LOOKUP(E40,$A$39:$A$66,$B$39:$B$66) -> 1167200 | G40: =LOOKUP(E40,$A$39:$A$66,$C$39:$C$66) -> 951491
A41: =A9 -> Almería | B41: =E9 -> 169494 | C41: =D9 -> 12213 | D41: =_xlfn.RANK.EQ(B41,$B$39:$B$66)+COUNTIF($B$39:$B$66,B41)-1 -> 8 | E41: =INDEX($A$39:$B$66,MATCH(ROW()-38,$D$39:$D$66,0),1) -> Bahía de Algeciras | F41: =LOOKUP(E41,$A$39:$A$66,$B$39:$B$66) -> 926760 | G41: =LOOKUP(E41,$A$39:$A$66,$C$39:$C$66) -> 207843
A42: =A10 -> Avilés | B42: =E10 -> 0 | C42: =D10 -> 0 | D42: =_xlfn.RANK.EQ(B42,$B$39:$B$66)+COUNTIF($B$39:$B$66,B42)-1 -> 28 | E42: =INDEX($A$39:$B$66,MATCH(ROW()-38,$D$39:$D$66,0),1) -> Las Palmas | F42: =LOOKUP(E42,$A$39:$A$66,$B$39:$B$66) -> 695231 | G42: =LOOKUP(E42,$A$39:$A$66,$C$39:$C$66) -> 557923
A43: =A11 -> Bahía de Algeciras | B43: =E11 -> 926760 | C43: =D11 -> 207843 | D43: =_xlfn.RANK.EQ(B43,$B$39:$B$66)+COUNTIF($B$39:$B$66,B43)-1 -> 3 | E43: =INDEX($A$39:$B$66,MATCH(ROW()-38,$D$39:$D$66,0),1) -> Barcelona | F43: =LOOKUP(E43,$A$39:$A$66,$B$39:$B$66) -> 485123 | G43: =LOOKUP(E43,$A$39:$A$66,$C$39:$C$66) -> 294309
A44: =A12 -> Bahía de Cádiz | B44: =E12 -> 12350 | C44: =D12 -> 10485 | D44: =_xlfn.RANK.EQ(B44,$B$39:$B$66)+COUNTIF($B$39:$B$66,B44)-1 -> 16 | E44: =INDEX($A$39:$B$66,MATCH(ROW()-38,$D$39:$D$66,0),1) -> Ceuta | F44: =LOOKUP(E44,$A$39:$A$66,$B$39:$B$66) -> 418435 | G44: =LOOKUP(E44,$A$39:$A$66,$C$39:$C$66) -> 204230
A45: =A13 -> Baleares | B45: =E13 -> 1167200 | C45: =D13 -> 951491 | D45: =_xlfn.RANK.EQ(B45,$B$39:$B$66)+COUNTIF($B$39:$B$66,B45)-1 -> 2 | E45: =INDEX($A$39:$B$66,MATCH(ROW()-38,$D$39:$D$66,0),1) -> Valencia | F45: =LOOKUP(E45,$A$39:$A$66,$B$39:$B$66) -> 200464 | G45: =LOOKUP(E45,$A$39:$A$66,$C$39:$C$66) -> 132299
A46: =A14 -> Barcelona | B46: =E14 -> 485123 | C46: =D14 -> 294309 | D46: =_xlfn.RANK.EQ(B46,$B$39:$B$66)+COUNTIF($B$39:$B$66,B46)-1 -> 5 | E46: =INDEX($A$39:$B$66,MATCH(ROW()-38,$D$39:$D$66,0),1) -> Almería | F46: =LOOKUP(E46,$A$39:$A$66,$B$39:$B$66) -> 169494 | G46: =LOOKUP(E46,$A$39:$A$66,$C$39:$C$66) -> 12213
A47: =A15 -> Bilbao | B47: =E15 -> 44358 | C47: =D15 -> 25247 | D47: =_xlfn.RANK.EQ(B47,$B$39:$B$66)+COUNTIF($B$39:$B$66,B47)-1 -> 12 | E47: =INDEX($A$39:$B$66,MATCH(ROW()-38,$D$39:$D$66,0),1) -> Melilla | F47: =LOOKUP(E47,$A$39:$A$66,$B$39:$B$66) -> 135189 | G47: =LOOKUP(E47,$A$39:$A$66,$C$39:$C$66) -> 52945
A48: =A16 -> Cartagena | B48: =E16 -> 0 | C48: =D16 -> 0 | D48: =_xlfn.RANK.EQ(B48,$B$39:$B$66)+COUNTIF($B$39:$B$66,B48)-1 -> 28 | E48: =INDEX($A$39:$B$66,MATCH(ROW()-38,$D$39:$D$66,0),1) -> Santander | F48: =LOOKUP(E48,$A$39:$A$66,$B$39:$B$66) -> 109602 | G48: =LOOKUP(E48,$A$39:$A$66,$C$39:$C$66) -> 55326
A49: =A17 -> Castellón | B49: =E17 -> 0 | C49: =D17 -> 0 | D49: =_xlfn.RANK.EQ(B49,$B$39:$B$66)+COUNTIF($B$39:$B$66,B49)-1 -> 28 | E49: =INDEX($A$39:$B$66,MATCH(ROW()-38,$D$39:$D$66,0),1) -> Málaga | F49: =LOOKUP(E49,$A$39:$A$66,$B$39:$B$66) -> 66914 | G49: =LOOKUP(E49,$A$39:$A$66,$C$39:$C$66) -> 31729
A50: =A18 -> Ceuta | B50: =E18 -> 418435 | C50: =D18 -> 204230 | D50: =_xlfn.RANK.EQ(B50,$B$39:$B$66)+COUNTIF($B$39:$B$66,B50)-1 -> 6 | E50: =INDEX($A$39:$B$66,MATCH(ROW()-38,$D$39:$D$66,0),1) -> Bilbao | F50: =LOOKUP(E50,$A$39:$A$66,$B$39:$B$66) -> 44358 | G50: =LOOKUP(E50,$A$39:$A$66,$C$39:$C$66) -> 25247
... A66: =A34 -> Vilagarcía | B66: =E34 -> 0 | C66: =D34 -> 0 | D66: =_xlfn.RANK.EQ(B66,$B$39:$B$66)+COUNTIF($B$39:$B$66,B66)-1 -> 28 | E66: =INDEX($A$39:$B$66,MATCH(ROW()-38,$D$39:$D$66,0),1) -> A Coruña | F66: =LOOKUP(E66,$A$39:$A$66,$B$39:$B$66) -> 0 | G66: =LOOKUP(E66,$A$39:$A$66,$C$39:$C$66) -> 0

Sheet Automóviles régimen mercancía
E1: 12.2. TURISMOS, AUTOBUSES Y CAMIONES EN RÉGIMEN DE MERCANCÍA
H2: (unidades)
A5: Autoridad Portuaria | B5: ='Resumen general'!D6 -> Mes diciembre | D5: ='Resumen general'!F6 -> Acumulado desde enero | L5: ='Resumen general'!I4 -> Fecha: 27/01/2023
B6: ='Resumen general'!D7 -> 2021 | C6: ='Resumen general'!E7 -> 2022 | D6: ='Resumen general'!F7 -> 2021 | E6: ='Resumen general'!G7 -> 2022 | F6: Var. (%)
A7: A Coruña | B7: 0 | C7: 0 | D7: 0 | E7: 0 | F7: =((E7*100)/D7)-100 -> #DIV/0!
A8: Alicante | B8: 28 | C8: 988 | D8: 578 | E8: 1568 | F8: =((E8*100)/D8)-100 -> 171.28028
A9: Almería | B9: 98 | C9: 104 | D9: 1460 | E9: 1836 | F9: =((E9*100)/D9)-100 -> 25.753425
A10: Avilés | B10: 0 | C10: 0 | D10: 0 | E10: 0 | F10: =((E10*100)/D10)-100 -> #DIV/0!
A11: Bahía de Algeciras | B11: 381 | C11: 210 | D11: 5998 | E11: 2696 | F11: =((E11*100)/D11)-100 -> -55.051684
A12: Bahía de Cádiz | B12: 1306 | C12: 1344 | D12: 12336 | E12: 16624 | F12: =((E12*100)/D12)-100 -> 34.760052
A13: Baleares | B13: 4546 | C13: 7060 | D13: 121577 | E13: 99220 | F13: =((E13*100)/D13)-100 -> -18.389169
A14: Barcelona | B14: 41922 | C14: 84750 | D14: 497283 | E14: 588572 | F14: =((E14*100)/D14)-100 -> 18.357555
A15: Bilbao | B15: 2287 | C15: 906 | D15: 9830.7864 | E15: 9576 | F15: =((E15*100)/D15)-100 -> -2.5917191
A16: Cartagena | B16: 0 | C16: 0 | D16: 43 | E16: 5 | F16: =((E16*100)/D16)-100 -> -88.372093
A17: Castellón | B17: 28 | C17: 4 | D17: 306 | E17: 513 | F17: =((E17*100)/D17)-100 -> 67.647059
A18: Ceuta | B18: 64 | C18: 95 | D18: 991 | E18: 1118 | F18: =((E18*100)/D18)-100 -> 12.815338
... A34: Vilagarcía | B34: 4 | C34: 3 | D34: 161 | E34: 111 | F34: =((E34*100)/D34)-100 -> -31.055901
A35: Total | B35: =SUM(B7:B34) -> 191575 | C35: =SUM(C7:C34) -> 322933 | D35: =SUM(D7:D34) -> 2416471.8 | E35: =SUM(E7:E34) -> 2702015 | F35: =((E35*100)/D35)-100 -> 11.816534
A36: Incluye cargas, descargas, tránsitos y transbordos. Sólo turismos, autobuses y camiones.
B38: =E6 -> 2022 | C38: =D6 -> 2021 | F38: =B38 -> 2022 | G38: =C38 -> 2021
A39: =A7 -> A Coruña | B39: =E7 -> 0 | C39: =D7 -> 0 | D39: =_xlfn.RANK.EQ(B39,$B$39:$B$66)+COUNTIF($B$39:$B$66,B39)-1 -> 28 | E39: =INDEX($A$39:$B$66,MATCH(ROW()-38,$D$39:$D$66,0),1) -> Valencia | F39: =LOOKUP(E39,$A$39:$A$66,$B$39:$B$66) -> 598868 | G39: =LOOKUP(E39,$A$39:$A$66,$C$39:$C$66) -> 488665
A40: =A8 -> Alicante | B40: =E8 -> 1568 | C40: =D8 -> 578 | D40: =_xlfn.RANK.EQ(B40,$B$39:$B$66)+COUNTIF($B$39:$B$66,B40)-1 -> 18 | E40: =INDEX($A$39:$B$66,MATCH(ROW()-38,$D$39:$D$66,0),1) -> Barcelona | F40: =LOOKUP(E40,$A$39:$A$66,$B$39:$B$66) -> 588572 | G40: =LOOKUP(E40,$A$39:$A$66,$C$39:$C$66) -> 497283
A41: =A9 -> Almería | B41: =E9 -> 1836 | C41: =D9 -> 1460 | D41: =_xlfn.RANK.EQ(B41,$B$39:$B$66)+COUNTIF($B$39:$B$66,B41)-1 -> 17 | E41: =INDEX($A$39:$B$66,MATCH(ROW()-38,$D$39:$D$66,0),1) -> Vigo | F41: =LOOKUP(E41,$A$39:$A$66,$B$39:$B$66) -> 473229 | G41: =LOOKUP(E41,$A$39:$A$66,$C$39:$C$66) -> 503295
A42: =A10 -> Avilés | B42: =E10 -> 0 | C42: =D10 -> 0 | D42: =_xlfn.RANK.EQ(B42,$B$39:$B$66)+COUNTIF($B$39:$B$66,B42)-1 -> 28 | E42: =INDEX($A$39:$B$66,MATCH(ROW()-38,$D$39:$D$66,0),1) -> Santander | F42: =LOOKUP(E42,$A$39:$A$66,$B$39:$B$66) -> 325930 | G42: =LOOKUP(E42,$A$39:$A$66,$C$39:$C$66) -> 277783
A43: =A11 -> Bahía de Algeciras | B43: =E11 -> 2696 | C43: =D11 -> 5998 | D43: =_xlfn.RANK.EQ(B43,$B$39:$B$66)+COUNTIF($B$39:$B$66,B43)-1 -> 15 | E43: =INDEX($A$39:$B$66,MATCH(ROW()-38,$D$39:$D$66,0),1) -> Pasaia | F43: =LOOKUP(E43,$A$39:$A$66,$B$39:$B$66) -> 239954 | G43: =LOOKUP(E43,$A$39:$A$66,$C$39:$C$66) -> 209454
A44: =A12 -> Bahía de Cádiz | B44: =E12 -> 16624 | C44: =D12 -> 12336 | D44: =_xlfn.RANK.EQ(B44,$B$39:$B$66)+COUNTIF($B$39:$B$66,B44)-1 -> 11 | E44: =INDEX($A$39:$B$66,MATCH(ROW()-38,$D$39:$D$66,0),1) -> Tarragona | F44: =LOOKUP(E44,$A$39:$A$66,$B$39:$B$66) -> 172164 | G44: =LOOKUP(E44,$A$39:$A$66,$C$39:$C$66) -> 135600
A45: =A13 -> Baleares | B45: =E13 -> 99220 | C45: =D13 -> 121577 | D45: =_xlfn.RANK.EQ(B45,$B$39:$B$66)+COUNTIF($B$39:$B$66,B45)-1 -> 7 | E45: =INDEX($A$39:$B$66,MATCH(ROW()-38,$D$39:$D$66,0),1) -> Baleares | F45: =LOOKUP(E45,$A$39:$A$66,$B$39:$B$66) -> 99220 | G45: =LOOKUP(E45,$A$39:$A$66,$C$39:$C$66) -> 121577
A46: =A14 -> Barcelona | B46: =E14 -> 588572 | C46: =D14 -> 497283 | D46: =_xlfn.RANK.EQ(B46,$B$39:$B$66)+COUNTIF($B$39:$B$66,B46)-1 -> 2 | E46: =INDEX($A$39:$B$66,MATCH(ROW()-38,$D$39:$D$66,0),1) -> Santa Cruz de Tenerife | F46: =LOOKUP(E46,$A$39:$A$66,$B$39:$B$66) -> 58498 | G46: =LOOKUP(E46,$A$39:$A$66,$C$39:$C$66) -> 52759
A47: =A15 -> Bilbao | B47: =E15 -> 9576 | C47: =D15 -> 9830.7864 | D47: =_xlfn.RANK.EQ(B47,$B$39:$B$66)+COUNTIF($B$39:$B$66,B47)-1 -> 13 | E47: =INDEX($A$39:$B$66,MATCH(ROW()-38,$D$39:$D$66,0),1) -> Las Palmas | F47: =LOOKUP(E47,$A$39:$A$66,$B$39:$B$66) -> 47059 | G47: =LOOKUP(E47,$A$39:$A$66,$C$39:$C$66) -> 56668
A48: =A16 -> Cartagena | B48: =E16 -> 5 | C48: =D16 -> 43 | D48: =_xlfn.RANK.EQ(B48,$B$39:$B$66)+COUNTIF($B$39:$B$66,B48)-1 -> 25 | E48: =INDEX($A$39:$B$66,MATCH(ROW()-38,$D$39:$D$66,0),1) -> Málaga | F48: =LOOKUP(E48,$A$39:$A$66,$B$39:$B$66) -> 46201 | G48: =LOOKUP(E48,$A$39:$A$66,$C$39:$C$66) -> 34377
A49: =A17 -> Castellón | B49: =E17 -> 513 | C49: =D17 -> 306 | D49: =_xlfn.RANK.EQ(B49,$B$39:$B$66)+COUNTIF($B$39:$B$66,B49)-1 -> 20 | E49: =INDEX($A$39:$B$66,MATCH(ROW()-38,$D$39:$D$66,0),1) -> Bahía de Cádiz | F49: =LOOKUP(E49,$A$39:$A$66,$B$39:$B$66) -> 16624 | G49: =LOOKUP(E49,$A$39:$A$66,$C$39:$C$66) -> 12336
A50: =A18 -> Ceuta | B50: =E18 -> 1118 | C50: =D18 -> 991 | D50: =_xlfn.RANK.EQ(B50,$B$39:$B$66)+COUNTIF($B$39:$B$66,B50)-1 -> 19 | E50: =INDEX($A$39:$B$66,MATCH(ROW()-38,$D$39:$D$66,0),1) -> Huelva | F50: =LOOKUP(E50,$A$39:$A$66,$B$39:$B$66) -> 13059 | G50: =LOOKUP(E50,$A$39:$A$66,$C$39:$C$66) -> 4052
... A66: =A34 -> Vilagarcía | B66: =E34 -> 111 | C66: =D34 -> 161 | D66: =_xlfn.RANK.EQ(B66,$B$39:$B$66)+COUNTIF($B$39:$B$66,B66)-1 -> 21 | E66: =INDEX($A$39:$B$66,MATCH(ROW()-38,$D$39:$D$66,0),1) -> A Coruña | F66: =LOOKUP(E66,$A$39:$A$66,$B$39:$B$66) -> 0 | G66: =LOOKUP(E66,$A$39:$A$66,$C$39:$C$66) -> 0

Sheet Buques número
F1: 13. BUQUES MERCANTES (unidades)
A5: Autoridad Portuaria | B5: ='Resumen general'!D6 -> Mes diciembre | D5: ='Resumen general'!F6 -> Acumulado desde enero | L5: ='Resumen general'!I4 -> Fecha: 27/01/2023
B6: ='Resumen general'!D7 -> 2021 | C6: ='Resumen general'!E7 -> 2022 | D6: ='Resumen general'!F7 -> 2021 | E6: ='Resumen general'!G7 -> 2022 | F6: Var. (%)
A7: A Coruña | B7: 95 | C7: 90 | D7: 938 | E7: 1094 | F7: =((E7*100)/D7)-100 -> 16.63113
A8: Alicante | B8: 47 | C8: 54 | D8: 504 | E8: 669 | F8: =((E8*100)/D8)-100 -> 32.738095
A9: Almería | B9: 115 | C9: 123 | D9: 1289 | E9: 1769 | F9: =((E9*100)/D9)-100 -> 37.238169
A10: Avilés | B10: 66 | C10: 58 | D10: 831 | E10: 771 | F10: =((E10*100)/D10)-100 -> -7.2202166
A11: Bahía de Algeciras | B11: 1755 | C11: 2291 | D11: 19519 | E11: 27451 | F11: =((E11*100)/D11)-100 -> 40.637328
A12: Bahía de Cádiz | B12: 123 | C12: 117 | D12: 1518 | E12: 1558 | F12: =((E12*100)/D12)-100 -> 2.6350461
A13: Baleares | B13: 2591 | C13: 2780 | D13: 43635 | E13: 46719 | F13: =((E13*100)/D13)-100 -> 7.0677209
A14: Barcelona | B14: 639 | C14: 709 | D14: 7518 | E14: 8711 | F14: =((E14*100)/D14)-100 -> 15.868582
A15: Bilbao | B15: 194 | C15: 213 | D15: 2669 | E15: 2642 | F15: =((E15*100)/D15)-100 -> -1.0116148
A16: Cartagena | B16: 183 | C16: 161 | D16: 2078 | E16: 2106 | F16: =((E16*100)/D16)-100 -> 1.3474495
A17: Castellón | B17: 123 | C17: 100 | D17: 1666 | E17: 1527 | F17: =((E17*100)/D17)-100 -> -8.3433373
A18: Ceuta | B18: 798 | C18: 910 | D18: 7783 | E18: 10119 | F18: =((E18*100)/D18)-100 -> 30.014133
... A34: Vilagarcía | B34: 31 | C34: 26 | D34: 407 | E34: 397 | F34: =((E34*100)/D34)-100 -> -2.4570025
A35: Total | B35: =SUM(B7:B34) -> 11160 | C35: =SUM(C7:C34) -> 12087 | D35: =SUM(D7:D34) -> 138889 | E35: =SUM(E7:E34) -> 157099 | F35: =((E35*100)/D35)-100 -> 13.11119
A36: Incluye tanques, graneleros, de carga general, ro-ro, solo de pasaje, cruceros, portacontenedores y otros buques mercantes.
B38: =E6 -> 2022 | C38: =D6 -> 2021 | F38: =B38 -> 2022 | G38: =C38 -> 2021
A39: =A7 -> A Coruña | B39: =E7 -> 1094 | C39: =D7 -> 938 | D39: =_xlfn.RANK.EQ(B39,$B$39:$B$66)+COUNTIF($B$39:$B$66,B39)-1 -> 20 | E39: =INDEX($A$39:$B$66,MATCH(ROW()-38,$D$39:$D$66,0),1) -> Baleares | F39: =LOOKUP(E39,$A$39:$A$66,$B$39:$B$66) -> 46719 | G39: =LOOKUP(E39,$A$39:$A$66,$C$39:$C$66) -> 43635
A40: =A8 -> Alicante | B40: =E8 -> 669 | C40: =D8 -> 504 | D40: =_xlfn.RANK.EQ(B40,$B$39:$B$66)+COUNTIF($B$39:$B$66,B40)-1 -> 25 | E40: =INDEX($A$39:$B$66,MATCH(ROW()-38,$D$39:$D$66,0),1) -> Bahía de Algeciras | F40: =LOOKUP(E40,$A$39:$A$66,$B$39:$B$66) -> 27451 | G40: =LOOKUP(E40,$A$39:$A$66,$C$39:$C$66) -> 19519
A41: =A9 -> Almería | B41: =E9 -> 1769 | C41: =D9 -> 1289 | D41: =_xlfn.RANK.EQ(B41,$B$39:$B$66)+COUNTIF($B$39:$B$66,B41)-1 -> 12 | E41: =INDEX($A$39:$B$66,MATCH(ROW()-38,$D$39:$D$66,0),1) -> Santa Cruz de Tenerife | F41: =LOOKUP(E41,$A$39:$A$66,$B$39:$B$66) -> 16085 | G41: =LOOKUP(E41,$A$39:$A$66,$C$39:$C$66) -> 14167
A42: =A10 -> Avilés | B42: =E10 -> 771 | C42: =D10 -> 831 | D42: =_xlfn.RANK.EQ(B42,$B$39:$B$66)+COUNTIF($B$39:$B$66,B42)-1 -> 24 | E42: =INDEX($A$39:$B$66,MATCH(ROW()-38,$D$39:$D$66,0),1) -> Las Palmas | F42: =LOOKUP(E42,$A$39:$A$66,$B$39:$B$66) -> 12600 | G42: =LOOKUP(E42,$A$39:$A$66,$C$39:$C$66) -> 11809
A43: =A11 -> Bahía de Algeciras | B43: =E11 -> 27451 | C43: =D11 -> 19519 | D43: =_xlfn.RANK.EQ(B43,$B$39:$B$66)+COUNTIF($B$39:$B$66,B43)-1 -> 2 | E43: =INDEX($A$39:$B$66,MATCH(ROW()-38,$D$39:$D$66,0),1) -> Ceuta | F43: =LOOKUP(E43,$A$39:$A$66,$B$39:$B$66) -> 10119 | G43: =LOOKUP(E43,$A$39:$A$66,$C$39:$C$66) -> 7783
A44: =A12 -> Bahía de Cádiz | B44: =E12 -> 1558 | C44: =D12 -> 1518 | D44: =_xlfn.RANK.EQ(B44,$B$39:$B$66)+COUNTIF($B$39:$B$66,B44)-1 -> 14 | E44: =INDEX($A$39:$B$66,MATCH(ROW()-38,$D$39:$D$66,0),1) -> Barcelona | F44: =LOOKUP(E44,$A$39:$A$66,$B$39:$B$66) -> 8711 | G44: =LOOKUP(E44,$A$39:$A$66,$C$39:$C$66) -> 7518
A45: =A13 -> Baleares | B45: =E13 -> 46719 | C45: =D13 -> 43635 | D45: =_xlfn.RANK.EQ(B45,$B$39:$B$66)+COUNTIF($B$39:$B$66,B45)-1 -> 1 | E45: =INDEX($A$39:$B$66,MATCH(ROW()-38,$D$39:$D$66,0),1) -> Valencia | F45: =LOOKUP(E45,$A$39:$A$66,$B$39:$B$66) -> 7521 | G45: =LOOKUP(E45,$A$39:$A$66,$C$39:$C$66) -> 7295
A46: =A14 -> Barcelona | B46: =E14 -> 8711 | C46: =D14 -> 7518 | D46: =_xlfn.RANK.EQ(B46,$B$39:$B$66)+COUNTIF($B$39:$B$66,B46)-1 -> 6 | E46: =INDEX($A$39:$B$66,MATCH(ROW()-38,$D$39:$D$66,0),1) -> Bilbao | F46: =LOOKUP(E46,$A$39:$A$66,$B$39:$B$66) -> 2642 | G46: =LOOKUP(E46,$A$39:$A$66,$C$39:$C$66) -> 2669
A47: =A15 -> Bilbao | B47: =E15 -> 2642 | C47: =D15 -> 2669 | D47: =_xlfn.RANK.EQ(B47,$B$39:$B$66)+COUNTIF($B$39:$B$66,B47)-1 -> 8 | E47: =INDEX($A$39:$B$66,MATCH(ROW()-38,$D$39:$D$66,0),1) -> Tarragona | F47: =LOOKUP(E47,$A$39:$A$66,$B$39:$B$66) -> 2319 | G47: =LOOKUP(E47,$A$39:$A$66,$C$39:$C$66) -> 2618
A48: =A16 -> Cartagena | B48: =E16 -> 2106 | C48: =D16 -> 2078 | D48: =_xlfn.RANK.EQ(B48,$B$39:$B$66)+COUNTIF($B$39:$B$66,B48)-1 -> 11 | E48: =INDEX($A$39:$B$66,MATCH(ROW()-38,$D$39:$D$66,0),1) -> Huelva | F48: =LOOKUP(E48,$A$39:$A$66,$B$39:$B$66) -> 2170 | G48: =LOOKUP(E48,$A$39:$A$66,$C$39:$C$66) -> 2265
A49: =A17 -> Castellón | B49: =E17 -> 1527 | C49: =D17 -> 1666 | D49: =_xlfn.RANK.EQ(B49,$B$39:$B$66)+COUNTIF($B$39:$B$66,B49)-1 -> 15 | E49: =INDEX($A$39:$B$66,MATCH(ROW()-38,$D$39:$D$66,0),1) -> Cartagena | F49: =LOOKUP(E49,$A$39:$A$66,$B$39:$B$66) -> 2106 | G49: =LOOKUP(E49,$A$39:$A$66,$C$39:$C$66) -> 2078
A50: =A18 -> Ceuta | B50: =E18 -> 10119 | C50: =D18 -> 7783 | D50: =_xlfn.RANK.EQ(B50,$B$39:$B$66)+COUNTIF($B$39:$B$66,B50)-1 -> 5 | E50: =INDEX($A$39:$B$66,MATCH(ROW()-38,$D$39:$D$66,0),1) -> Almería | F50: =LOOKUP(E50,$A$39:$A$66,$B$39:$B$66) -> 1769 | G50: =LOOKUP(E50,$A$39:$A$66,$C$39:$C$66) -> 1289
... A66: =A34 -> Vilagarcía | B66: =E34 -> 397 | C66: =D34 -> 407 | D66: =_xlfn.RANK.EQ(B66,$B$39:$B$66)+COUNTIF($B$39:$B$66,B66)-1 -> 28 | E66: =INDEX($A$39:$B$66,MATCH(ROW()-38,$D$39:$D$66,0),1) -> Vilagarcía | F66: =LOOKUP(E66,$A$39:$A$66,$B$39:$B$66) -> 397 | G66: =LOOKUP(E66,$A$39:$A$66,$C$39:$C$66) -> 407

Sheet Buques GT
F1: 13.1. BUQUES MERCANTES (unidades de arqueo bruto)
A5: Autoridad Portuaria | B5: ='Resumen general'!D6 -> Mes diciembre | D5: ='Resumen general'!F6 -> Acumulado desde enero | L5: ='Resumen general'!I4 -> Fecha: 27/01/2023
B6: ='Resumen general'!D7 -> 2021 | C6: ='Resumen general'!E7 -> 2022 | D6: ='Resumen general'!F7 -> 2021 | E6: ='Resumen general'!G7 -> 2022 | F6: Var. (%)
A7: A Coruña | B7: 1928879 | C7: 1936468 | D7: 14420048 | E7: 26583332 | F7: =((E7*100)/D7)-100 -> 84.349816
A8: Alicante | B8: 470731 | C8: 820162 | D8: 8159091 | E8: 11897698 | F8: =((E8*100)/D8)-100 -> 45.821367
A9: Almería | B9: 1774687 | C9: 2216412 | D9: 20963512 | E9: 28727684 | F9: =((E9*100)/D9)-100 -> 37.0366
A10: Avilés | B10: 449141 | C10: 388963 | D10: 5682178 | E10: 5605906 | F10: =((E10*100)/D10)-100 -> -1.3423022
A11: Bahía de Algeciras | B11: 33120919 | C11: 41635133 | D11: 366100961 | E11: 482808119 | F11: =((E11*100)/D11)-100 -> 31.878408
A12: Bahía de Cádiz | B12: 2668604 | C12: 2561651 | D12: 26573581 | E12: 37059976 | F12: =((E12*100)/D12)-100 -> 39.461731
A13: Baleares | B13: 17488199 | C13: 18616036 | D13: 206553700 | E13: 279043443 | F13: =((E13*100)/D13)-100 -> 35.094865
A14: Barcelona | B14: 22852027 | C14: 27171386 | D14: 267717352 | E14: 350942546 | F14: =((E14*100)/D14)-100 -> 31.086963
A15: Bilbao | B15: 3651354 | C15: 4371125 | D15: 43311218 | E15: 53587327 | F15: =((E15*100)/D15)-100 -> 23.726206
A16: Cartagena | B16: 3814921 | C16: 3691445 | D16: 39914097 | E16: 52080587 | F16: =((E16*100)/D16)-100 -> 30.481686
A17: Castellón | B17: 1799276 | C17: 1567057 | D17: 22902989 | E17: 22019106 | F17: =((E17*100)/D17)-100 -> -3.8592474
A18: Ceuta | B18: 5221250 | C18: 6353124 | D18: 47559355 | E18: 72005471 | F18: =((E18*100)/D18)-100 -> 51.401277
... A34: Vilagarcía | B34: 234303 | C34: 181485 | D34: 2819916 | E34: 2962960 | F34: =((E34*100)/D34)-100 -> 5.0726334
A35: Total | B35: =SUM(B7:B34) -> 182864364 | C35: =SUM(C7:C34) -> 207024578 | D35: =SUM(D7:D34) -> 2.0011887e+09 | E35: =SUM(E7:E34) -> 2.4895083e+09 | F35: =((E35*100)/D35)-100 -> 24.401478
A36: Unidades de arqueo bruto en G.T.
B38: =E6 -> 2022 | C38: =D6 -> 2021 | F38: =B38 -> 2022 | G38: =C38 -> 2021
A39: =A7 -> A Coruña | B39: =E7 -> 26583332 | C39: =D7 -> 14420048 | D39: =_xlfn.RANK.EQ(B39,$B$39:$B$66)+COUNTIF($B$39:$B$66,B39)-1 -> 18 | E39: =INDEX($A$39:$B$66,MATCH(ROW()-38,$D$39:$D$66,0),1) -> Bahía de Algeciras | F39: =LOOKUP(E39,$A$39:$A$66,$B$39:$B$66) -> 482808119 | G39: =LOOKUP(E39,$A$39:$A$66,$C$39:$C$66) -> 366100961
A40: =A8 -> Alicante | B40: =E8 -> 11897698 | C40: =D8 -> 8159091 | D40: =_xlfn.RANK.EQ(B40,$B$39:$B$66)+COUNTIF($B$39:$B$66,B40)-1 -> 22 | E40: =INDEX($A$39:$B$66,MATCH(ROW()-38,$D$39:$D$66,0),1) -> Barcelona | F40: =LOOKUP(E40,$A$39:$A$66,$B$39:$B$66) -> 350942546 | G40: =LOOKUP(E40,$A$39:$A$66,$C$39:$C$66) -> 267717352
A41: =A9 -> Almería | B41: =E9 -> 28727684 | C41: =D9 -> 20963512 | D41: =_xlfn.RANK.EQ(B41,$B$39:$B$66)+COUNTIF($B$39:$B$66,B41)-1 -> 16 | E41: =INDEX($A$39:$B$66,MATCH(ROW()-38,$D$39:$D$66,0),1) -> Valencia | F41: =LOOKUP(E41,$A$39:$A$66,$B$39:$B$66) -> 291254456 | G41: =LOOKUP(E41,$A$39:$A$66,$C$39:$C$66) -> 255630994
A42: =A10 -> Avilés | B42: =E10 -> 5605906 | C42: =D10 -> 5682178 | D42: =_xlfn.RANK.EQ(B42,$B$39:$B$66)+COUNTIF($B$39:$B$66,B42)-1 -> 25 | E42: =INDEX($A$39:$B$66,MATCH(ROW()-38,$D$39:$D$66,0),1) -> Baleares | F42: =LOOKUP(E42,$A$39:$A$66,$B$39:$B$66) -> 279043443 | G42: =LOOKUP(E42,$A$39:$A$66,$C$39:$C$66) -> 206553700
A43: =A11 -> Bahía de Algeciras | B43: =E11 -> 482808119 | C43: =D11 -> 366100961 | D43: =_xlfn.RANK.EQ(B43,$B$39:$B$66)+COUNTIF($B$39:$B$66,B43)-1 -> 1 | E43: =INDEX($A$39:$B$66,MATCH(ROW()-38,$D$39:$D$66,0),1) -> Las Palmas | F43: =LOOKUP(E43,$A$39:$A$66,$B$39:$B$66) -> 272794875 | G43: =LOOKUP(E43,$A$39:$A$66,$C$39:$C$66) -> 232945919
A44: =A12 -> Bahía de Cádiz | B44: =E12 -> 37059976 | C44: =D12 -> 26573581 | D44: =_xlfn.RANK.EQ(B44,$B$39:$B$66)+COUNTIF($B$39:$B$66,B44)-1 -> 13 | E44: =INDEX($A$39:$B$66,MATCH(ROW()-38,$D$39:$D$66,0),1) -> Santa Cruz de Tenerife | F44: =LOOKUP(E44,$A$39:$A$66,$B$39:$B$66) -> 206204966 | G44: =LOOKUP(E44,$A$39:$A$66,$C$39:$C$66) -> 188353493
A45: =A13 -> Baleares | B45: =E13 -> 279043443 | C45: =D13 -> 206553700 | D45: =_xlfn.RANK.EQ(B45,$B$39:$B$66)+COUNTIF($B$39:$B$66,B45)-1 -> 4 | E45: =INDEX($A$39:$B$66,MATCH(ROW()-38,$D$39:$D$66,0),1) -> Ceuta | F45: =LOOKUP(E45,$A$39:$A$66,$B$39:$B$66) -> 72005471 | G45: =LOOKUP(E45,$A$39:$A$66,$C$39:$C$66) -> 47559355
A46: =A14 -> Barcelona | B46: =E14 -> 350942546 | C46: =D14 -> 267717352 | D46: =_xlfn.RANK.EQ(B46,$B$39:$B$66)+COUNTIF($B$39:$B$66,B46)-1 -> 2 | E46: =INDEX($A$39:$B$66,MATCH(ROW()-38,$D$39:$D$66,0),1) -> Bilbao | F46: =LOOKUP(E46,$A$39:$A$66,$B$39:$B$66) -> 53587327 | G46: =LOOKUP(E46,$A$39:$A$66,$C$39:$C$66) -> 43311218
A47: =A15 -> Bilbao | B47: =E15 -> 53587327 | C47: =D15 -> 43311218 | D47: =_xlfn.RANK.EQ(B47,$B$39:$B$66)+COUNTIF($B$39:$B$66,B47)-1 -> 8 | E47: =INDEX($A$39:$B$66,MATCH(ROW()-38,$D$39:$D$66,0),1) -> Cartagena | F47: =LOOKUP(E47,$A$39:$A$66,$B$39:$B$66) -> 52080587 | G47: =LOOKUP(E47,$A$39:$A$66,$C$39:$C$66) -> 39914097
A48: =A16 -> Cartagena | B48: =E16 -> 52080587 | C48: =D16 -> 39914097 | D48: =_xlfn.RANK.EQ(B48,$B$39:$B$66)+COUNTIF($B$39:$B$66,B48)-1 -> 9 | E48: =INDEX($A$39:$B$66,MATCH(ROW()-38,$D$39:$D$66,0),1) -> Málaga | F48: =LOOKUP(E48,$A$39:$A$66,$B$39:$B$66) -> 48563335 | G48: =LOOKUP(E48,$A$39:$A$66,$C$39:$C$66) -> 34595273
A49: =A17 -> Castellón | B49: =E17 -> 22019106 | C49: =D17 -> 22902989 | D49: =_xlfn.RANK.EQ(B49,$B$39:$B$66)+COUNTIF($B$39:$B$66,B49)-1 -> 19 | E49: =INDEX($A$39:$B$66,MATCH(ROW()-38,$D$39:$D$66,0),1) -> Tarragona | F49: =LOOKUP(E49,$A$39:$A$66,$B$39:$B$66) -> 46017795 | G49: =LOOKUP(E49,$A$39:$A$66,$C$39:$C$66) -> 42612887
A50: =A18 -> Ceuta | B50: =E18 -> 72005471 | C50: =D18 -> 47559355 | D50: =_xlfn.RANK.EQ(B50,$B$39:$B$66)+COUNTIF($B$39:$B$66,B50)-1 -> 7 | E50: =INDEX($A$39:$B$66,MATCH(ROW()-38,$D$39:$D$66,0),1) -> Huelva | F50: =LOOKUP(E50,$A$39:$A$66,$B$39:$B$66) -> 43390353 | G50: =LOOKUP(E50,$A$39:$A$66,$C$39:$C$66) -> 38521089
... A66: =A34 -> Vilagarcía | B66: =E34 -> 2962960 | C66: =D34 -> 2819916 | D66: =_xlfn.RANK.EQ(B66,$B$39:$B$66)+COUNTIF($B$39:$B$66,B66)-1 -> 27 | E66: =INDEX($A$39:$B$66,MATCH(ROW()-38,$D$39:$D$66,0),1) -> Marín y Ría de Pontevedra | F66: =LOOKUP(E66,$A$39:$A$66,$B$39:$B$66) -> 2752472 | G66: =LOOKUP(E66,$A$39:$A$66,$C$39:$C$66) -> 2569528

Sheet Cruceros
F1: 13.2. CRUCEROS (unidades)
A5: Autoridad Portuaria | B5: ='Resumen general'!D6 -> Mes diciembre | D5: ='Resumen general'!F6 -> Acumulado desde enero | L5: ='Resumen general'!I4 -> Fecha: 27/01/2023
B6: ='Resumen general'!D7 -> 2021 | C6: ='Resumen general'!E7 -> 2022 | D6: ='Resumen general'!F7 -> 2021 | E6: ='Resumen general'!G7 -> 2022 | F6: Var. (%)
A7: A Coruña | B7: 4 | C7: 7 | D7: 31 | E7: 137 | F7: =((E7*100)/D7)-100 -> 341.93548
A8: Alicante | B8: 0 | C8: 2 | D8: 31 | E8: 60 | F8: =((E8*100)/D8)-100 -> 93.548387
A9: Almería | B9: 0 | C9: 0 | D9: 9 | E9: 14 | F9: =((E9*100)/D9)-100 -> 55.555556
A10: Avilés | B10: 0 | C10: 0 | D10: 1 | E10: 3 | F10: =((E10*100)/D10)-100 -> 200
A11: Bahía de Algeciras | B11: 1 | C11: 1 | D11: 8 | E11: 2 | F11: =((E11*100)/D11)-100 -> -75
A12: Bahía de Cádiz | B12: 21 | C12: 17 | D12: 162 | E12: 315 | F12: =((E12*100)/D12)-100 -> 94.444444
A13: Baleares | B13: 10 | C13: 18 | D13: 227 | E13: 717 | F13: =((E13*100)/D13)-100 -> 215.85903
A14: Barcelona | B14: 23 | C14: 33 | D14: 272 | E14: 807 | F14: =((E14*100)/D14)-100 -> 196.69118
A15: Bilbao | B15: 2 | C15: 1 | D15: 14 | E15: 78 | F15: =((E15*100)/D15)-100 -> 457.14286
A16: Cartagena | B16: 8 | C16: 5 | D16: 79 | E16: 185 | F16: =((E16*100)/D16)-100 -> 134.17722
A17: Castellón | B17: 0 | C17: 0 | D17: 2 | E17: 1 | F17: =((E17*100)/D17)-100 -> -50
A18: Ceuta | B18: 0 | C18: 0 | D18: 4 | E18: 5 | F18: =((E18*100)/D18)-100 -> 25
... A33: Vigo | B33: 5 | C33: 4 | D33: 28 | E33: 91 | F33: =((E33*100)/D33)-100 -> 225
A34: Vilagarcía | B34: 0 | C34: 0 | D34: 4 | E34: 5 | F34: =((E34*100)/D34)-100 -> 25 | H34: º
A35: Total | B35: =SUM(B7:B34) -> 305 | C35: =SUM(C7:C34) -> 308 | D35: =SUM(D7:D34) -> 2104 | E35: =SUM(E7:E34) -> 4528 | F35: =((E35*100)/D35)-100 -> 115.20913
B38: =E6 -> 2022 | C38: =D6 -> 2021 | F38: =B38 -> 2022 | G38: =C38 -> 2021
A39: =A7 -> A Coruña | B39: =E7 -> 137 | C39: =D7 -> 31 | D39: =_xlfn.RANK.EQ(B39,$B$39:$B$66)+COUNTIF($B$39:$B$66,B39)-1 -> 9 | E39: =INDEX($A$39:$B$66,MATCH(ROW()-38,$D$39:$D$66,0),1) -> Barcelona | F39: =LOOKUP(E39,$A$39:$A$66,$B$39:$B$66) -> 807 | G39: =LOOKUP(E39,$A$39:$A$66,$C$39:$C$66) -> 272
A40: =A8 -> Alicante | B40: =E8 -> 60 | C40: =D8 -> 31 | D40: =_xlfn.RANK.EQ(B40,$B$39:$B$66)+COUNTIF($B$39:$B$66,B40)-1 -> 13 | E40: =INDEX($A$39:$B$66,MATCH(ROW()-38,$D$39:$D$66,0),1) -> Baleares | F40: =LOOKUP(E40,$A$39:$A$66,$B$39:$B$66) -> 717 | G40: =LOOKUP(E40,$A$39:$A$66,$C$39:$C$66) -> 227
A41: =A9 -> Almería | B41: =E9 -> 14 | C41: =D9 -> 9 | D41: =_xlfn.RANK.EQ(B41,$B$39:$B$66)+COUNTIF($B$39:$B$66,B41)-1 -> 20 | E41: =INDEX($A$39:$B$66,MATCH(ROW()-38,$D$39:$D$66,0),1) -> Las Palmas | F41: =LOOKUP(E41,$A$39:$A$66,$B$39:$B$66) -> 673 | G41: =LOOKUP(E41,$A$39:$A$66,$C$39:$C$66) -> 450
A42: =A10 -> Avilés | B42: =E10 -> 3 | C42: =D10 -> 1 | D42: =_xlfn.RANK.EQ(B42,$B$39:$B$66)+COUNTIF($B$39:$B$66,B42)-1 -> 25 | E42: =INDEX($A$39:$B$66,MATCH(ROW()-38,$D$39:$D$66,0),1) -> Santa Cruz de Tenerife | F42: =LOOKUP(E42,$A$39:$A$66,$B$39:$B$66) -> 623 | G42: =LOOKUP(E42,$A$39:$A$66,$C$39:$C$66) -> 506
A43: =A11 -> Bahía de Algeciras | B43: =E11 -> 2 | C43: =D11 -> 8 | D43: =_xlfn.RANK.EQ(B43,$B$39:$B$66)+COUNTIF($B$39:$B$66,B43)-1 -> 26 | E43: =INDEX($A$39:$B$66,MATCH(ROW()-38,$D$39:$D$66,0),1) -> Bahía de Cádiz | F43: =LOOKUP(E43,$A$39:$A$66,$B$39:$B$66) -> 315 | G43: =LOOKUP(E43,$A$39:$A$66,$C$39:$C$66) -> 162
A44: =A12 -> Bahía de Cádiz | B44: =E12 -> 315 | C44: =D12 -> 162 | D44: =_xlfn.RANK.EQ(B44,$B$39:$B$66)+COUNTIF($B$39:$B$66,B44)-1 -> 5 | E44: =INDEX($A$39:$B$66,MATCH(ROW()-38,$D$39:$D$66,0),1) -> Valencia | F44: =LOOKUP(E44,$A$39:$A$66,$B$39:$B$66) -> 298 | G44: =LOOKUP(E44,$A$39:$A$66,$C$39:$C$66) -> 95
A45: =A13 -> Baleares | B45: =E13 -> 717 | C45: =D13 -> 227 | D45: =_xlfn.RANK.EQ(B45,$B$39:$B$66)+COUNTIF($B$39:$B$66,B45)-1 -> 2 | E45: =INDEX($A$39:$B$66,MATCH(ROW()-38,$D$39:$D$66,0),1) -> Málaga | F45: =LOOKUP(E45,$A$39:$A$66,$B$39:$B$66) -> 285 | G45: =LOOKUP(E45,$A$39:$A$66,$C$39:$C$66) -> 119
A46: =A14 -> Barcelona | B46: =E14 -> 807 | C46: =D14 -> 272 | D46: =_xlfn.RANK.EQ(B46,$B$39:$B$66)+COUNTIF($B$39:$B$66,B46)-1 -> 1 | E46: =INDEX($A$39:$B$66,MATCH(ROW()-38,$D$39:$D$66,0),1) -> Cartagena | F46: =LOOKUP(E46,$A$39:$A$66,$B$39:$B$66) -> 185 | G46: =LOOKUP(E46,$A$39:$A$66,$C$39:$C$66) -> 79
A47: =A15 -> Bilbao | B47: =E15 -> 78 | C47: =D15 -> 14 | D47: =_xlfn.RANK.EQ(B47,$B$39:$B$66)+COUNTIF($B$39:$B$66,B47)-1 -> 11 | E47: =INDEX($A$39:$B$66,MATCH(ROW()-38,$D$39:$D$66,0),1) -> A Coruña | F47: =LOOKUP(E47,$A$39:$A$66,$B$39:$B$66) -> 137 | G47: =LOOKUP(E47,$A$39:$A$66,$C$39:$C$66) -> 31
A48: =A16 -> Cartagena | B48: =E16 -> 185 | C48: =D16 -> 79 | D48: =_xlfn.RANK.EQ(B48,$B$39:$B$66)+COUNTIF($B$39:$B$66,B48)-1 -> 8 | E48: =INDEX($A$39:$B$66,MATCH(ROW()-38,$D$39:$D$66,0),1) -> Vigo | F48: =LOOKUP(E48,$A$39:$A$66,$B$39:$B$66) -> 91 | G48: =LOOKUP(E48,$A$39:$A$66,$C$39:$C$66) -> 28
A49: =A17 -> Castellón | B49: =E17 -> 1 | C49: =D17 -> 2 | D49: =_xlfn.RANK.EQ(B49,$B$39:$B$66)+COUNTIF($B$39:$B$66,B49)-1 -> 28 | E49: =INDEX($A$39:$B$66,MATCH(ROW()-38,$D$39:$D$66,0),1) -> Bilbao | F49: =LOOKUP(E49,$A$39:$A$66,$B$39:$B$66) -> 78 | G49: =LOOKUP(E49,$A$39:$A$66,$C$39:$C$66) -> 14
A50: =A18 -> Ceuta | B50: =E18 -> 5 | C50: =D18 -> 4 | D50: =_xlfn.RANK.EQ(B50,$B$39:$B$66)+COUNTIF($B$39:$B$66,B50)-1 -> 24 | E50: =INDEX($A$39:$B$66,MATCH(ROW()-38,$D$39:$D$66,0),1) -> Sevilla | F50: =LOOKUP(E50,$A$39:$A$66,$B$39:$B$66) -> 76 | G50: =LOOKUP(E50,$A$39:$A$66,$C$39:$C$66) -> 24
... A66: =A34 -> Vilagarcía | B66: =E34 -> 5 | C66: =D34 -> 4 | D66: =_xlfn.RANK.EQ(B66,$B$39:$B$66)+COUNTIF($B$39:$B$66,B66)-1 -> 24 | E66: =INDEX($A$39:$B$66,MATCH(ROW()-38,$D$39:$D$66,0),1) -> Castellón | F66: =LOOKUP(E66,$A$39:$A$66,$B$39:$B$66) -> 1 | G66: =LOOKUP(E66,$A$39:$A$66,$C$39:$C$66) -> 2
