Workbook
Name CABECERA: Cruceros!$A$5:$F$6
Name CONCEPTO: 'Resumen general'!$A$6
Name LblRes00_Acum: 'Resumen general'!$F$6:$G$6
Name LblRes00_Mes: 'Resumen general'!$D$6:$E$6
Name LblRes00_Var: 'Resumen general'!$H$6:$I$6
Name LblRes01_1_Acum: 'Total presentación'!$D$5:$F$5
Name LblRes01_1_Mes: 'Total presentación'!$B$5:$C$5
Name LblRes01_Acum: 'Automóviles régimen mercancía'!$D$5:$F$5
Name LblRes01_Acum: 'Ro-Ro remolques'!$D$5:$F$5
Name LblRes01_Acum: 'Total tráfico'!$D$5:$F$5
Name LblRes01_Mes: 'Automóviles régimen mercancía'!$B$5:$C$5
Name LblRes01_Mes: 'Ro-Ro remolques'!$B$5:$C$5
Name LblRes01_Mes: 'Total tráfico'!$B$5:$C$5
Name LblRes02_Acum: Líquidos!$D$5:$F$5
Name LblRes02_Mes: Líquidos!$B$5:$C$5
Name LblRes03_Acum: Sólidos!$D$5:$F$5
Name LblRes03_Mes: Sólidos!$B$5:$C$5
Name LblRes04_Acum: 'Mercancía general'!$D$5:$F$5
Name LblRes04_Mes: 'Mercancía general'!$B$5:$C$5
Name LblRes05_Acum: Pesca!$D$5:$F$5
Name LblRes05_Mes: Pesca!$B$5:$C$5
Name LblRes06_Acum: Avituallamiento!$D$5:$F$5
Name LblRes06_Mes: Avituallamiento!$B$5:$C$5
Name LblRes07_1_Acum: 'Mercan. contene. tránsito'!$D$5:$F$5
Name LblRes07_1_Mes: 'Mercan. contene. tránsito'!$B$5:$C$5
Name LblRes07_Acum: 'Mercancías tránsito'!$D$5:$F$5
Name LblRes07_Mes: 'Mercancías tránsito'!$B$5:$C$5
Name LblRes08_Acum: 'Mercancías contenedores'!$D$5:$F$5
Name LblRes08_Mes: 'Mercancías contenedores'!$B$5:$C$5
Name LblRes09_Acum: 'Ro-Ro'!$D$5:$F$5
Name LblRes09_Mes: 'Ro-Ro'!$B$5:$C$5
Name LblRes10_1_Acum: 'TEUS tránsito'!$D$5:$F$5
Name LblRes10_1_Mes: 'TEUS tránsito'!$B$5:$C$5
Name LblRes10_2_Acum: 'TEUS nacional'!$D$5:$F$5
Name LblRes10_2_Mes: 'TEUS nacional'!$B$5:$C$5
Name LblRes10_3_Acum: 'TEUS exterior'!$D$5:$F$5
Name LblRes10_3_Mes: 'TEUS exterior'!$B$5:$C$5
Name LblRes10_4_Acum: 'TEUS nacional y exterior'!$D$5:$F$5
Name LblRes10_4_Mes: 'TEUS nacional y exterior'!$B$5:$C$5
Name LblRes10_Acum: TEUS!$D$5:$F$5
Name LblRes10_Mes: TEUS!$B$5:$C$5
Name LblRes11_1_Acum: 'Pasajeros crucero'!$D$5:$F$5
Name LblRes11_1_Mes: 'Pasajeros crucero'!$B$5:$C$5
Name LblRes11_2_Acum: 'Automóviles régimen pasaje'!$D$5:$F$5
Name LblRes11_2_Mes: 'Automóviles régimen pasaje'!$B$5:$C$5
Name LblRes11_Acum: 'Pasajeros total'!$D$5:$F$5
Name LblRes11_Mes: 'Pasajeros total'!$B$5:$C$5
Name LblRes12_1_Acum: 'Buques número'!$D$5:$F$5
Name LblRes12_1_Mes: 'Buques número'!$B$5:$C$5
Name LblRes12_2_Acum: 'Buques GT'!$D$5:$F$5
Name LblRes12_2_Mes: 'Buques GT'!$B$5:$C$5
Name LblRes12_3_Acum: Cruceros!$D$5:$F$5
Name LblRes12_3_Mes: Cruceros!$B$5:$C$5
Name PROVINCIAS: Cruceros!$A$5:$A$35
Name TxtFecha: Cruceros!$L$5

Sheet Portada
I1: Dirección de Planificación y Desarrollo
I2: Departamento de Estadística
G15: RESUMEN GENERAL DEL TRÁFICO PORTUARIO*
G16: Diciembre 2021
K29: * DATOS DE CIERRE DEFINITIVOS

Sheet Indice
F5: ÍNDICE
B7: ="0." -> 0. | C7: RESUMEN GENERAL DEL TRÁFICO PORTUARIO
B8: ="1." -> 1. | C8: TRÁFICO PORTUARIO
B9: 1.1. | C9: MERCANCÍAS SEGÚN SU FORMA DE PRESENTACIÓN
B10: ="2." -> 2. | C10: GRANELES LÍQUIDOS
B11: ="3." -> 3. | C11: GRANELES SÓLIDOS
B12: ="4." -> 4. | C12: MERCANCÍA GENERAL
B13: 4.1. | C13: MERCANCÍAS EN CONTENEDORES
B14: ="5." -> 5. | C14: PESCA
B15: ="6." -> 6. | C15: AVITUALLAMIENTO
B16: 6.1. | C16: AVITUALLAMIENTO COMBUSTIBLES LÍQUIDOS
B17: ="7." -> 7. | C17: TRÁFICO INTERIOR
B18: ="8." -> 8. | C18: MERCANCÍAS EN TRÁNSITO
B19: 8.1. | C19: MERCANCÍAS EN CONTENEDORES EN TRÁNSITO
B20: ="9." -> 9. | C20: TRÁFICO RO-RO
B21: 9.1. | C21: TRÁFICO RO-RO DE REMOLQUES, SEMIRREMOLQUES Y PLATAFORMAS (unidades)
B22: ="10." -> 10. | C22: CONTENEDORES (TEUS)
B23: 10.1. | C23: CONTENEDORES EN TRÁNSITO (TEUS)
B24: 10.2. | C24: CONTENEDORES ENTRADAS-SALIDAS NACIONAL (TEUS)
B25: 10.3. | C25: CONTENEDORES IMPORTACIÓN-EXPORTACIÓN EXTERIOR (TEUS)
B26: 10.4. | C26: CONTENEDORES NACIONAL Y EXTERIOR (TEUS)
B27: ="11." -> 11. | C27: PASAJEROS EN RÉGIMEN DE TRANSPORTE Y DE CRUCERO (número)
B28: 11.1. | C28: PASAJEROS DE CRUCERO (número)
B29: 12.1. | C29: AUTOMÓVILES EN REGIMEN DE PASAJE (unidades)
B30: 12.2. | C30: TURISMOS, AUTOBUSES Y CAMIONES EN REGIMEN DE MERCANCÍA (unidades)
B31: ="13." -> 13. | C31: BUQUES MERCANTES (unidades)
B32: 13.1. | C32: BUQUES MERCANTES (unidades de arqueo bruto)
B33: 13.2. | C33: CRUCEROS (unidades)

Sheet Resumen general
D1: 00. RESUMEN GENERAL DEL TRÁFICO PORTUARIO
I4: Fecha: 30/01/2023
A6: CONCEPTO | D6: Mes diciembre | F6: Acumulado desde enero | H6: Variación
D7: 2020 | E7: 2021 | F7: 2020 | G7: 2021 | H7: Diferencia | I7: %
A8: MERCANCÍAS SEGÚN SU PRESENTACIÓN | B8: GRANELES | C8: LÍQUIDOS | D8: =Líquidos!B35 -> 13745088 | E8: =Líquidos!C35 -> 14827296 | F8: =Líquidos!D35 -> 1.6699112e+08 | G8: =Líquidos!E35 -> 170857145 | H8: =G8-F8 -> 3866025.5 | I8: =((G8*100/F8)-100) -> 2.3151084
C9: SÓLIDOS | D9: =Sólidos!B35 -> 6165562 | E9: =Sólidos!C35 -> 7356730 | F9: =Sólidos!D35 -> 77071498 | G9: =Sólidos!E35 -> 84980689 | H9: =G9-F9 -> 7909191 | I9: =((G9*100/F9)-100) -> 10.262148
B10: MERCANCÍA GRAL. | C10: CONVENCIONAL | D10: =D12-D11 -> 5724250 | E10: =E12-E11 -> 6679384 | F10: =F12-F11 -> 67731573 | G10: =G12-G11 -> 77948202 | H10: =G10-F10 -> 10216629 | I10: =((G10*100/F10)-100) -> 15.083998
C11: EN CONTENEDORES | D11: ='Mercancías contenedores'!B35 -> 17404768 | E11: ='Mercancías contenedores'!C35 -> 16422542 | F11: ='Mercancías contenedores'!D35 -> 1.9378288e+08 | G11: ='Mercancías contenedores'!E35 -> 198282966 | H11: =G11-F11 -> 4500084.7 | I11: =((G11*100/F11)-100) -> 2.3222303
C12: TOTAL | D12: ='Mercancía general'!B35 -> 23129018 | E12: ='Mercancía general'!C35 -> 23101926 | F12: ='Mercancía general'!D35 -> 2.6151445e+08 | G12: ='Mercancía general'!E35 -> 276231168 | H12: =G12-F12 -> 14716714 | I12: =((G12*100/F12)-100) -> 5.6274955
C13: TOTAL | D13: =+D8+D9+D12 -> 43039668 | E13: =+E8+E9+E12 -> 45285952 | F13: =+F8+F9+F12 -> 5.0557707e+08 | G13: =+G8+G9+G12 -> 5.32069e+08 | H13: =G13-F13 -> 26491931 | I13: =((G13*100/F13)-100) -> 5.2399391
A14: OTRAS MERCANCÍAS | B14: PESCA | C14: TOTAL PESCA | D14: =Pesca!B35 -> 9125 | E14: =Pesca!C35 -> 8712 | F14: =Pesca!D35 -> 163355.93 | G14: =Pesca!E35 -> 162962 | H14: =G14-F14 -> -393.93308 | I14: =((G14*100/F14)-100) -> -0.24115015
B15: AVITUALLAMIENTO | C15: COMBUSTIBLES LÍQUIDOS | D15: ='Avi. combustibles'!B35 -> 568079 | E15: ='Avi. combustibles'!C35 -> 769947 | F15: ='Avi. combustibles'!D35 -> 6539682.2 | G15: ='Avi. combustibles'!E35 -> 8132367 | H15: =G15-F15 -> 1592684.8 | I15: =((G15*100/F15)-100) -> 24.354162
C16: OTROS | D16: =Avituallamiento!B35-'Resumen general'!D15 -> 117287 | E16: =Avituallamiento!C35-'Resumen general'!E15 -> 151990 | F16: =Avituallamiento!D35-'Resumen general'!F15 -> 1358958 | G16: =Avituallamiento!E35-'Resumen general'!G15 -> 1373621 | H16: =G16-F16 -> 14662.992 | I16: =((G16*100/F16)-100) -> 1.0789879
B17: TRAFICO INTERIOR | C17: TOTAL TRAFICO INTERIOR | D17: ='Tráfico interior'!B35 -> 163089 | E17: ='Tráfico interior'!C35 -> 303068 | F17: ='Tráfico interior'!D35 -> 1934642.2 | G17: ='Tráfico interior'!E35 -> 2681785 | H17: =G17-F17 -> 747142.82 | I17: =((G17*100/F17)-100) -> 38.619173
C18: TOTAL | D18: =+D14+D15+D16+D17 -> 857580 | E18: =+E14+E15+E16+E17 -> 1233717 | F18: =+F14+F15+F16+F17 -> 9996638.3 | G18: =+G14+G15+G16+G17 -> 12350735 | H18: =G18-F18 -> 2354096.7 | I18: =((G18*100/F18)-100) -> 23.548883
C19: TOTAL TRÁFICO PORTUARIO (*) | D19: =+D13+D18 -> 43897248 | E19: =+E13+E18 -> 46519669 | F19: =+F13+F18 -> 5.1557371e+08 | G19: =+G13+G18 -> 5.4441974e+08 | H19: =G19-F19 -> 28846027 | I19: =((G19*100/F19)-100) -> 5.5949376
A21: OTRAS INFORMACIONES | B21: MERCANCÍAS | C21: EN TRÁNSITO | D21: ='Mercancías tránsito'!B35 -> 13807486 | E21: ='Mercancías tránsito'!C35 -> 12188800 | F21: ='Mercancías tránsito'!D35 -> 1.5637118e+08 | G21: ='Mercancías tránsito'!E35 -> 150220169 | H21: =G21-F21 -> -6151006.3 | I21: =((G21*100/F21)-100) -> -3.9335935
C22: EN CONTENEDORES EN TRÁNSITO | D22: ='Mercan. contene. tránsito'!B35 -> 11250330 | E22: ='Mercan. contene. tránsito'!C35 -> 9828584 | F22: ='Mercan. contene. tránsito'!D35 -> 1.2242328e+08 | G22: ='Mercan. contene. tránsito'!E35 -> 118858394 | H22: =G22-F22 -> -3564884.6 | I22: =((G22*100/F22)-100) -> -2.9119336
B23: TRÁFICO RO-RO | C23: TOTAL TRÁFICO RO-RO | D23: ='Ro-Ro'!B35 -> 4906854 | E23: ='Ro-Ro'!C35 -> 5577079 | F23: ='Ro-Ro'!D35 -> 57079524 | G23: ='Ro-Ro'!E35 -> 65293057 | H23: =G23-F23 -> 8213533.1 | I23: =((G23*100/F23)-100) -> 14.389632
C24: REMOLQUES, SEMIRR. Y PLATAF. (uds.) | D24: ='Ro-Ro remolques'!B35 -> 90111 | E24: ='Ro-Ro remolques'!C35 -> 102664 | F24: ='Ro-Ro remolques'!D35 -> 1044943 | G24: ='Ro-Ro remolques'!E35 -> 1189083 | H24: =G24-F24 -> 144140 | I24: =((G24*100/F24)-100) -> 13.794054
B25: CONTENEDORES | C25: TOTAL CONTENEDORES (TEUS) | D25: =TEUS!B35 -> 1495291 | E25: =TEUS!C35 -> 1479592 | F25: =TEUS!D35 -> 16792659 | G25: =TEUS!E35 -> 17735438 | H25: =G25-F25 -> 942778.89 | I25: =((G25*100/F25)-100) -> 5.6142323
C26: EN TRÁNSITO (TEUS) | D26: ='TEUS tránsito'!B35 -> 859501 | E26: ='TEUS tránsito'!C35 -> 781747 | F26: ='TEUS tránsito'!D35 -> 9381940 | G26: ='TEUS tránsito'!E35 -> 9414175 | H26: =G26-F26 -> 32235 | I26: =((G26*100/F26)-100) -> 0.34358565
C27: ENTRADAS-SALIDAS NACIONAL (TEUS) | D27: ='TEUS nacional'!B35 -> 152467 | E27: ='TEUS nacional'!C35 -> 180407 | F27: ='TEUS nacional'!D35 -> 1794214.9 | G27: ='TEUS nacional'!E35 -> 2010187 | H27: =G27-F27 -> 215972.15 | I27: =((G27*100/F27)-100) -> 12.03714
C28: IMPORT-EXPORT EXTERIOR (TEUS) | D28: ='TEUS exterior'!B35 -> 483326 | E28: ='TEUS exterior'!C35 -> 517439 | F28: ='TEUS exterior'!D35 -> 5616504.3 | G28: ='TEUS exterior'!E35 -> 6311076 | H28: =G28-F28 -> 694571.74 | I28: =((G28*100/F28)-100) -> 12.36662
C29: NACIONAL Y EXTERIOR (TEUS) | D29: ='TEUS nacional y exterior'!B35 -> 635792 | E29: ='TEUS nacional y exterior'!C35 -> 697846 | F29: ='TEUS nacional y exterior'!D35 -> 7410719.1 | G29: ='TEUS nacional y exterior'!E35 -> 8321263 | H29: =G29-F29 -> 910543.89 | I29: =((G29*100/F29)-100) -> 12.286849
B30: PASAJEROS | C30: REG. TRANSPORTE Y DE CRUCERO (nº) | D30: ='Pasajeros total'!B35 -> 758353 | E30: ='Pasajeros total'!C35 -> 1654580 | F30: ='Pasajeros total'!D35 -> 13343303 | G30: ='Pasajeros total'!E35 -> 17981420 | H30: =G30-F30 -> 4638117 | I30: =((G30*100/F30)-100) -> 34.759887
C31: DE CRUCERO (nº) | D31: ='Pasajeros crucero'!B35 -> 55131 | E31: ='Pasajeros crucero'!C35 -> 324749 | F31: ='Pasajeros crucero'!D35 -> 1369361 | G31: ='Pasajeros crucero'!E35 -> 2219083 | H31: =G31-F31 -> 849722 | I31: =((G31*100/F31)-100) -> 62.052446
B32: AUTOMÓVILES | C32: EN RÉGIMEN DE PASAJE (uds) | D32: ='Automóviles régimen pasaje'!B35 -> 210433 | E32: ='Automóviles régimen pasaje'!C35 -> 374361 | F32: ='Automóviles régimen pasaje'!D35 -> 3131747 | G32: ='Automóviles régimen pasaje'!E35 -> 4066713 | H32: =G32-F32 -> 934966 | I32: =((G32*100/F32)-100) -> 29.854455
C33: EN RÉGIMEN DE MERCANCÍA (**) | D33: ='Automóviles régimen mercancía'!B35 -> 253800 | E33: ='Automóviles régimen mercancía'!C35 -> 191575 | F33: ='Automóviles régimen mercancía'!D35 -> 2828871 | G33: ='Automóviles régimen mercancía'!E35 -> 2416471.8 | H33: =G33-F33 -> -412399.21 | I33: =((G33*100/F33)-100) -> -14.578226
B34: BUQUES MERCANTES | C34: TOTAL BUQUES MERCANTES (uds) | D34: ='Buques número'!B35 -> 9546 | E34: ='Buques número'!C35 -> 11160 | F34: ='Buques número'!D35 -> 117829 | G34: ='Buques número'!E35 -> 138889 | H34: =G34-F34 -> 21060 | I34: =((G34*100/F34)-100) -> 17.873359
C35: UDS. ARQUEO BRUTO (G.T.) | D35: ='Buques GT'!B35 -> 143811701 | E35: ='Buques GT'!C35 -> 182864364 | F35: ='Buques GT'!D35 -> 1.7743821e+09 | G35: ='Buques GT'!E35 -> 2.0011887e+09 | H35: =G35-F35 -> 2.2680657e+08 | I35: =((G35*100/F35)-100) -> 12.782285
C36: CRUCEROS (uds) | D36: =Cruceros!B35 -> 78 | E36: =Cruceros!C35 -> 305 | F36: =Cruceros!D35 -> 744 | G36: =Cruceros!E35 -> 2104 | H36: =G36-F36 -> 1360 | I36: =((G36*100/F36)-100) -> 182.7957
A37: (*) Incluye cargas, descargas, tránsitos y transbordos.
A38: (**) Solo turismos, autobuses y camiones

Sheet Total tráfico
F1: 1. TRÁFICO PORTUARIO (toneladas)
A5: Autoridad Portuaria | B5: ='Resumen general'!D6 -> Mes diciembre | D5: ='Resumen general'!F6 -> Acumulado desde enero | L5: ='Resumen general'!I4 -> Fecha: 30/01/2023
B6: ='Resumen general'!D7 -> 2020 | C6: ='Resumen general'!E7 -> 2021 | D6: ='Resumen general'!F7 -> 2020 | E6: ='Resumen general'!G7 -> 2021 | F6: Var. (%)
A7: A Coruña | B7: 800409 | C7: 1309537 | D7: 10599040 | E7: 11878047 | F7: =((E7*100)/D7)-100 -> 12.067197
A8: Alicante | B8: 293263 | C8: 302197 | D8: 2731080.6 | E8: 2647482 | F8: =((E8*100)/D8)-100 -> -3.0610066
A9: Almería | B9: 456864 | C9: 480109 | D9: 4827086.9 | E9: 5829008 | F9: =((E9*100)/D9)-100 -> 20.756226
A10: Avilés | B10: 309858 | C10: 422082 | D10: 4121671.3 | E10: 4705107 | F10: =((E10*100)/D10)-100 -> 14.155318
A11: Bahía de Algeciras | B11: 9162945 | C11: 8963107 | D11: 1.0732335e+08 | E11: 105075781 | F11: =((E11*100)/D11)-100 -> -2.094203
A12: Bahía de Cádiz | B12: 402156 | C12: 525729 | D12: 4449319.1 | E12: 4943054 | F12: =((E12*100)/D12)-100 -> 11.096865
A13: Baleares | B13: 1004795 | C13: 1157473 | D13: 12367160 | E13: 13772748 | F13: =((E13*100)/D13)-100 -> 11.365484
A14: Barcelona | B14: 5967499 | C14: 5592453 | D14: 59497429 | E14: 66410581 | F14: =((E14*100)/D14)-100 -> 11.619245
A15: Bilbao | B15: 1635598 | C15: 2628819 | D15: 29645138 | E15: 31298985 | F15: =((E15*100)/D15)-100 -> 5.5788136
A16: Cartagena | B16: 3031123 | C16: 2793139 | D16: 32894927 | E16: 31213499 | F16: =((E16*100)/D16)-100 -> -5.1115107
A17: Castellón | B17: 1518952 | C17: 1704754 | D17: 18541540 | E17: 21237328 | F17: =((E17*100)/D17)-100 -> 14.539184
A18: Ceuta | B18: 138426 | C18: 141708 | D18: 1851680.3 | E18: 1573105 | F18: =((E18*100)/D18)-100 -> -15.044461
... A34: Vilagarcía | B34: 111598 | C34: 128667 | D34: 1209822 | E34: 1511369 | F34: =((E34*100)/D34)-100 -> 24.924906
A35: Total | B35: =SUM(B7:B34) -> 43897248 | C35: =SUM(C7:C34) -> 46519669 | D35: =SUM(D7:D34) -> 5.1557371e+08 | E35: =SUM(E7:E34) -> 5.4441974e+08 | F35: =((E35*100)/D35)-100 -> 5.5949376
A36: Incluye cargas, descargas, tránsitos y transbordos.
B38: =E6 -> 2021 | C38: =D6 -> 2020 | F38: =B38 -> 2021 | G38: =C38 -> 2020
A39: =A7 -> A Coruña | B39: =E7 -> 11878047 | C39: =D7 -> 10599040 | D39: =_xlfn.RANK.EQ(B39,$B$39:$B$66)+COUNTIF($B$39:$B$66,B39)-1 -> 12 | E39: =INDEX($A$39:$B$66,MATCH(ROW()-38,$D$39:$D$66,0),1) -> Bahía de Algeciras | F39: =LOOKUP(E39,$A$39:$A$66,$B$39:$B$66) -> 105075781 | G39: =LOOKUP(E39,$A$39:$A$66,$C$39:$C$66) -> 1.0732335e+08
A40: =A8 -> Alicante | B40: =E8 -> 2647482 | C40: =D8 -> 2731080.6 | D40: =_xlfn.RANK.EQ(B40,$B$39:$B$66)+COUNTIF($B$39:$B$66,B40)-1 -> 23 | E40: =INDEX($A$39:$B$66,MATCH(ROW()-38,$D$39:$D$66,0),1) -> Valencia | F40: =LOOKUP(E40,$A$39:$A$66,$B$39:$B$66) -> 85269726 | G40: =LOOKUP(E40,$A$39:$A$66,$C$39:$C$66) -> 80882224
A41: =A9 -> Almería | B41: =E9 -> 5829008 | C41: =D9 -> 4827086.9 | D41: =_xlfn.RANK.EQ(B41,$B$39:$B$66)+COUNTIF($B$39:$B$66,B41)-1 -> 16 | E41: =INDEX($A$39:$B$66,MATCH(ROW()-38,$D$39:$D$66,0),1) -> Barcelona | F41: =LOOKUP(E41,$A$39:$A$66,$B$39:$B$66) -> 66410581 | G41: =LOOKUP(E41,$A$39:$A$66,$C$39:$C$66) -> 59497429
A42: =A10 -> Avilés | B42: =E10 -> 4705107 | C42: =D10 -> 4121671.3 | D42: =_xlfn.RANK.EQ(B42,$B$39:$B$66)+COUNTIF($B$39:$B$66,B42)-1 -> 19 | E42: =INDEX($A$39:$B$66,MATCH(ROW()-38,$D$39:$D$66,0),1) -> Bilbao | F42: =LOOKUP(E42,$A$39:$A$66,$B$39:$B$66) -> 31298985 | G42: =LOOKUP(E42,$A$39:$A$66,$C$39:$C$66) -> 29645138
A43: =A11 -> Bahía de Algeciras | B43: =E11 -> 105075781 | C43: =D11 -> 1.0732335e+08 | D43: =_xlfn.RANK.EQ(B43,$B$39:$B$66)+COUNTIF($B$39:$B$66,B43)-1 -> 1 | E43: =INDEX($A$39:$B$66,MATCH(ROW()-38,$D$39:$D$66,0),1) -> Tarragona | F43: =LOOKUP(E43,$A$39:$A$66,$B$39:$B$66) -> 31275930 | G43: =LOOKUP(E43,$A$39:$A$66,$C$39:$C$66) -> 26508632
A44: =A12 -> Bahía de Cádiz | B44: =E12 -> 4943054 | C44: =D12 -> 4449319.1 | D44: =_xlfn.RANK.EQ(B44,$B$39:$B$66)+COUNTIF($B$39:$B$66,B44)-1 -> 17 | E44: =INDEX($A$39:$B$66,MATCH(ROW()-38,$D$39:$D$66,0),1) -> Cartagena | F44: =LOOKUP(E44,$A$39:$A$66,$B$39:$B$66) -> 31213499 | G44: =LOOKUP(E44,$A$39:$A$66,$C$39:$C$66) -> 32894927
A45: =A13 -> Baleares | B45: =E13 -> 13772748 | C45: =D13 -> 12367160 | D45: =_xlfn.RANK.EQ(B45,$B$39:$B$66)+COUNTIF($B$39:$B$66,B45)-1 -> 11 | E45: =INDEX($A$39:$B$66,MATCH(ROW()-38,$D$39:$D$66,0),1) -> Huelva | F45: =LOOKUP(E45,$A$39:$A$66,$B$39:$B$66) -> 30685994 | G45: =LOOKUP(E45,$A$39:$A$66,$C$39:$C$66) -> 29919220
A46: =A14 -> Barcelona | B46: =E14 -> 66410581 | C46: =D14 -> 59497429 | D46: =_xlfn.RANK.EQ(B46,$B$39:$B$66)+COUNTIF($B$39:$B$66,B46)-1 -> 3 | E46: =INDEX($A$39:$B$66,MATCH(ROW()-38,$D$39:$D$66,0),1) -> Las Palmas | F46: =LOOKUP(E46,$A$39:$A$66,$B$39:$B$66) -> 28208603 | G46: =LOOKUP(E46,$A$39:$A$66,$C$39:$C$66) -> 25767950
A47: =A15 -> Bilbao | B47: =E15 -> 31298985 | C47: =D15 -> 29645138 | D47: =_xlfn.RANK.EQ(B47,$B$39:$B$66)+COUNTIF($B$39:$B$66,B47)-1 -> 4 | E47: =INDEX($A$39:$B$66,MATCH(ROW()-38,$D$39:$D$66,0),1) -> Castellón | F47: =LOOKUP(E47,$A$39:$A$66,$B$39:$B$66) -> 21237328 | G47: =LOOKUP(E47,$A$39:$A$66,$C$39:$C$66) -> 18541540
A48: =A16 -> Cartagena | B48: =E16 -> 31213499 | C48: =D16 -> 32894927 | D48: =_xlfn.RANK.EQ(B48,$B$39:$B$66)+COUNTIF($B$39:$B$66,B48)-1 -> 6 | E48: =INDEX($A$39:$B$66,MATCH(ROW()-38,$D$39:$D$66,0),1) -> Gijón | F48: =LOOKUP(E48,$A$39:$A$66,$B$39:$B$66) -> 16668339 | G48: =LOOKUP(E48,$A$39:$A$66,$C$39:$C$66) -> 16131487
A49: =A17 -> Castellón | B49: =E17 -> 21237328 | C49: =D17 -> 18541540 | D49: =_xlfn.RANK.EQ(B49,$B$39:$B$66)+COUNTIF($B$39:$B$66,B49)-1 -> 9 | E49: =INDEX($A$39:$B$66,MATCH(ROW()-38,$D$39:$D$66,0),1) -> Baleares | F49: =LOOKUP(E49,$A$39:$A$66,$B$39:$B$66) -> 13772748 | G49: =LOOKUP(E49,$A$39:$A$66,$C$39:$C$66) -> 12367160
A50: =A18 -> Ceuta | B50: =E18 -> 1573105 | C50: =D18 -> 1851680.3 | D50: =_xlfn.RANK.EQ(B50,$B$39:$B$66)+COUNTIF($B$39:$B$66,B50)-1 -> 26 | E50: =INDEX($A$39:$B$66,MATCH(ROW()-38,$D$39:$D$66,0),1) -> A Coruña | F50: =LOOKUP(E50,$A$39:$A$66,$B$39:$B$66) -> 11878047 | G50: =LOOKUP(E50,$A$39:$A$66,$C$39:$C$66) -> 10599040
... A66: =A34 -> Vilagarcía | B66: =E34 -> 1511369 | C66: =D34 -> 1209822 | D66: =_xlfn.RANK.EQ(B66,$B$39:$B$66)+COUNTIF($B$39:$B$66,B66)-1 -> 27 | E66: =INDEX($A$39:$B$66,MATCH(ROW()-38,$D$39:$D$66,0),1) -> Melilla | F66: =LOOKUP(E66,$A$39:$A$66,$B$39:$B$66) -> 601613 | G66: =LOOKUP(E66,$A$39:$A$66,$C$39:$C$66) -> 625244

Sheet Total presentación
F1: 1.1. MERCANCÍAS SEGÚN SU FORMA DE PRESENTACIÓN
I2: (toneladas)
A5: Autoridad Portuaria | B5: ='Resumen general'!D6 -> Mes diciembre | D5: ='Resumen general'!F6 -> Acumulado desde enero | L5: ='Resumen general'!I4 -> Fecha: 30/01/2023
B6: ='Resumen general'!D7 -> 2020 | C6: ='Resumen general'!E7 -> 2021 | D6: ='Resumen general'!F7 -> 2020 | E6: ='Resumen general'!G7 -> 2021 | F6: Var. (%)
A7: A Coruña | B7: 777474 | C7: 1281584 | D7: 10504577 | E7: 11783425 | F7: =((E7*100)/D7)-100 -> 12.174198
A8: Alicante | B8: 291610 | C8: 300381 | D8: 2715164 | E8: 2634274 | F8: =((E8*100)/D8)-100 -> -2.9791939
A9: Almería | B9: 453920 | C9: 475455 | D9: 4782425 | E9: 5780252 | F9: =((E9*100)/D9)-100 -> 20.864457
A10: Avilés | B10: 305735 | C10: 417514 | D10: 4050774 | E10: 4619678 | F10: =((E10*100)/D10)-100 -> 14.044328
A11: Bahía de Algeciras | B11: 8830383 | C11: 8356261 | D11: 1.035959e+08 | E11: 99377930 | F11: =((E11*100)/D11)-100 -> -4.0715571
A12: Bahía de Cádiz | B12: 396074 | C12: 518005 | D12: 4360698.7 | E12: 4826995 | F12: =((E12*100)/D12)-100 -> 10.693156
A13: Baleares | B13: 1001900 | C13: 1153665 | D13: 12327169 | E13: 13727359 | F13: =((E13*100)/D13)-100 -> 11.358569
A14: Barcelona | B14: 5871757 | C14: 5489900 | D14: 58471200 | E14: 64973291 | F14: =((E14*100)/D14)-100 -> 11.120159
A15: Bilbao | B15: 1629515 | C15: 2620711 | D15: 29544082 | E15: 31182511 | F15: =((E15*100)/D15)-100 -> 5.5457096
A16: Cartagena | B16: 3016247 | C16: 2775313 | D16: 32708473 | E16: 31035919 | F16: =((E16*100)/D16)-100 -> -5.113518
A17: Castellón | B17: 1516151 | C17: 1702634 | D17: 18506727 | E17: 21202092 | F17: =((E17*100)/D17)-100 -> 14.564242
A18: Ceuta | B18: 95845 | C18: 83544 | D18: 1295641 | E18: 1094162 | F18: =((E18*100)/D18)-100 -> -15.550527
... A34: Vilagarcía | B34: 110993 | C34: 127918 | D34: 1204573 | E34: 1503591 | F34: =((E34*100)/D34)-100 -> 24.823568
A35: Total | B35: =SUM(B7:B34) -> 43039668 | C35: =SUM(C7:C34) -> 45285952 | D35: =SUM(D7:D34) -> 5.0557707e+08 | E35: =SUM(E7:E34) -> 5.32069e+08 | F35: =((E35*100)/D35)-100 -> 5.2399391
A36: Incluye cargas, descargas, tránsitos y transbordos.
B38: =E6 -> 2021 | C38: =D6 -> 2020 | F38: =B38 -> 2021 | G38: =C38 -> 2020
A39: =A7 -> A Coruña | B39: =E7 -> 11783425 | C39: =D7 -> 10504577 | D39: =_xlfn.RANK.EQ(B39,$B$39:$B$66)+COUNTIF($B$39:$B$66,B39)-1 -> 12 | E39: =INDEX($A$39:$B$66,MATCH(ROW()-38,$D$39:$D$66,0),1) -> Bahía de Algeciras | F39: =LOOKUP(E39,$A$39:$A$66,$B$39:$B$66) -> 99377930 | G39: =LOOKUP(E39,$A$39:$A$66,$C$39:$C$66) -> 1.035959e+08
A40: =A8 -> Alicante | B40: =E8 -> 2634274 | C40: =D8 -> 2715164 | D40: =_xlfn.RANK.EQ(B40,$B$39:$B$66)+COUNTIF($B$39:$B$66,B40)-1 -> 23 | E40: =INDEX($A$39:$B$66,MATCH(ROW()-38,$D$39:$D$66,0),1) -> Valencia | F40: =LOOKUP(E40,$A$39:$A$66,$B$39:$B$66) -> 84850755 | G40: =LOOKUP(E40,$A$39:$A$66,$C$39:$C$66) -> 80544637
A41: =A9 -> Almería | B41: =E9 -> 5780252 | C41: =D9 -> 4782425 | D41: =_xlfn.RANK.EQ(B41,$B$39:$B$66)+COUNTIF($B$39:$B$66,B41)-1 -> 16 | E41: =INDEX($A$39:$B$66,MATCH(ROW()-38,$D$39:$D$66,0),1) -> Barcelona | F41: =LOOKUP(E41,$A$39:$A$66,$B$39:$B$66) -> 64973291 | G41: =LOOKUP(E41,$A$39:$A$66,$C$39:$C$66) -> 58471200
A42: =A10 -> Avilés | B42: =E10 -> 4619678 | C42: =D10 -> 4050774 | D42: =_xlfn.RANK.EQ(B42,$B$39:$B$66)+COUNTIF($B$39:$B$66,B42)-1 -> 19 | E42: =INDEX($A$39:$B$66,MATCH(ROW()-38,$D$39:$D$66,0),1) -> Bilbao | F42: =LOOKUP(E42,$A$39:$A$66,$B$39:$B$66) -> 31182511 | G42: =LOOKUP(E42,$A$39:$A$66,$C$39:$C$66) -> 29544082
A43: =A11 -> Bahía de Algeciras | B43: =E11 -> 99377930 | C43: =D11 -> 1.035959e+08 | D43: =_xlfn.RANK.EQ(B43,$B$39:$B$66)+COUNTIF($B$39:$B$66,B43)-1 -> 1 | E43: =INDEX($A$39:$B$66,MATCH(ROW()-38,$D$39:$D$66,0),1) -> Tarragona | F43: =LOOKUP(E43,$A$39:$A$66,$B$39:$B$66) -> 31168041 | G43: =LOOKUP(E43,$A$39:$A$66,$C$39:$C$66) -> 26341217
A44: =A12 -> Bahía de Cádiz | B44: =E12 -> 4826995 | C44: =D12 -> 4360698.7 | D44: =_xlfn.RANK.EQ(B44,$B$39:$B$66)+COUNTIF($B$39:$B$66,B44)-1 -> 17 | E44: =INDEX($A$39:$B$66,MATCH(ROW()-38,$D$39:$D$66,0),1) -> Cartagena | F44: =LOOKUP(E44,$A$39:$A$66,$B$39:$B$66) -> 31035919 | G44: =LOOKUP(E44,$A$39:$A$66,$C$39:$C$66) -> 32708473
A45: =A13 -> Baleares | B45: =E13 -> 13727359 | C45: =D13 -> 12327169 | D45: =_xlfn.RANK.EQ(B45,$B$39:$B$66)+COUNTIF($B$39:$B$66,B45)-1 -> 11 | E45: =INDEX($A$39:$B$66,MATCH(ROW()-38,$D$39:$D$66,0),1) -> Huelva | F45: =LOOKUP(E45,$A$39:$A$66,$B$39:$B$66) -> 30401726 | G45: =LOOKUP(E45,$A$39:$A$66,$C$39:$C$66) -> 29672943
A46: =A14 -> Barcelona | B46: =E14 -> 64973291 | C46: =D14 -> 58471200 | D46: =_xlfn.RANK.EQ(B46,$B$39:$B$66)+COUNTIF($B$39:$B$66,B46)-1 -> 3 | E46: =INDEX($A$39:$B$66,MATCH(ROW()-38,$D$39:$D$66,0),1) -> Las Palmas | F46: =LOOKUP(E46,$A$39:$A$66,$B$39:$B$66) -> 25929254 | G46: =LOOKUP(E46,$A$39:$A$66,$C$39:$C$66) -> 23437158
A47: =A15 -> Bilbao | B47: =E15 -> 31182511 | C47: =D15 -> 29544082 | D47: =_xlfn.RANK.EQ(B47,$B$39:$B$66)+COUNTIF($B$39:$B$66,B47)-1 -> 4 | E47: =INDEX($A$39:$B$66,MATCH(ROW()-38,$D$39:$D$66,0),1) -> Castellón | F47: =LOOKUP(E47,$A$39:$A$66,$B$39:$B$66) -> 21202092 | G47: =LOOKUP(E47,$A$39:$A$66,$C$39:$C$66) -> 18506727
A48: =A16 -> Cartagena | B48: =E16 -> 31035919 | C48: =D16 -> 32708473 | D48: =_xlfn.RANK.EQ(B48,$B$39:$B$66)+COUNTIF($B$39:$B$66,B48)-1 -> 6 | E48: =INDEX($A$39:$B$66,MATCH(ROW()-38,$D$39:$D$66,0),1) -> Gijón | F48: =LOOKUP(E48,$A$39:$A$66,$B$39:$B$66) -> 16618684 | G48: =LOOKUP(E48,$A$39:$A$66,$C$39:$C$66) -> 16103154
A49: =A17 -> Castellón | B49: =E17 -> 21202092 | C49: =D17 -> 18506727 | D49: =_xlfn.RANK.EQ(B49,$B$39:$B$66)+COUNTIF($B$39:$B$66,B49)-1 -> 9 | E49: =INDEX($A$39:$B$66,MATCH(ROW()-38,$D$39:$D$66,0),1) -> Baleares | F49: =LOOKUP(E49,$A$39:$A$66,$B$39:$B$66) -> 13727359 | G49: =LOOKUP(E49,$A$39:$A$66,$C$39:$C$66) -> 12327169
A50: =A18 -> Ceuta | B50: =E18 -> 1094162 | C50: =D18 -> 1295641 | D50: =_xlfn.RANK.EQ(B50,$B$39:$B$66)+COUNTIF($B$39:$B$66,B50)-1 -> 27 | E50: =INDEX($A$39:$B$66,MATCH(ROW()-38,$D$39:$D$66,0),1) -> A Coruña | F50: =LOOKUP(E50,$A$39:$A$66,$B$39:$B$66) -> 11783425 | G50: =LOOKUP(E50,$A$39:$A$66,$C$39:$C$66) -> 10504577
... A66: =A34 -> Vilagarcía | B66: =E34 -> 1503591 | C66: =D34 -> 1204573 | D66: =_xlfn.RANK.EQ(B66,$B$39:$B$66)+COUNTIF($B$39:$B$66,B66)-1 -> 26 | E66: =INDEX($A$39:$B$66,MATCH(ROW()-38,$D$39:$D$66,0),1) -> Melilla | F66: =LOOKUP(E66,$A$39:$A$66,$B$39:$B$66) -> 595430 | G66: =LOOKUP(E66,$A$39:$A$66,$C$39:$C$66) -> 620552

Sheet Líquidos
F1: 2. GRANELES LÍQUIDOS (toneladas)
A5: Autoridad Portuaria | B5: ='Resumen general'!D6 -> Mes diciembre | D5: ='Resumen general'!F6 -> Acumulado desde enero | L5: ='Resumen general'!I4 -> Fecha: 30/01/2023
B6: ='Resumen general'!D7 -> 2020 | C6: ='Resumen general'!E7 -> 2021 | D6: ='Resumen general'!F7 -> 2020 | E6: ='Resumen general'!G7 -> 2021 | F6: Var. (%)
A7: A Coruña | B7: 611239 | C7: 884293 | D7: 7116313 | E7: 7996655 | F7: =((E7*100)/D7)-100 -> 12.37076
A8: Alicante | B8: 4976 | C8: 3593 | D8: 34480 | E8: 42237 | F8: =((E8*100)/D8)-100 -> 22.4971
A9: Almería | B9: 3384 | C9: 18511 | D9: 107351 | E9: 140628 | F9: =((E9*100)/D9)-100 -> 30.998314
A10: Avilés | B10: 59135 | C10: 52680 | D10: 675125 | E10: 601941 | F10: =((E10*100)/D10)-100 -> -10.840067
A11: Bahía de Algeciras | B11: 2654203 | C11: 2240445 | D11: 28312085 | E11: 28126069 | F11: =((E11*100)/D11)-100 -> -0.65701979
A12: Bahía de Cádiz | B12: 70855 | C12: 127733 | D12: 1271350.3 | E12: 1080865 | F12: =((E12*100)/D12)-100 -> -14.982912
A13: Baleares | B13: 73474 | C13: 87879 | D13: 979245 | E13: 1114658 | F13: =((E13*100)/D13)-100 -> 13.828307
A14: Barcelona | B14: 1153670 | C14: 991816 | D14: 12862069 | E14: 12344965 | F14: =((E14*100)/D14)-100 -> -4.0203824
A15: Bilbao | B15: 1037311 | C15: 1678452 | D15: 18156750 | E15: 17764532 | F15: =((E15*100)/D15)-100 -> -2.1601773
A16: Cartagena | B16: 2122024 | C16: 2092111 | D16: 25161498 | E16: 24047180 | F16: =((E16*100)/D16)-100 -> -4.4286627
A17: Castellón | B17: 826522 | C17: 628842 | D17: 9801550.4 | E17: 9912711 | F17: =((E17*100)/D17)-100 -> 1.1341124
A18: Ceuta | B18: 47481 | C18: 34334 | D18: 714554 | E18: 479227 | F18: =((E18*100)/D18)-100 -> -32.93341
... A34: Vilagarcía | B34: 40993 | C34: 25282 | D34: 233458.5 | E34: 273548 | F34: =((E34*100)/D34)-100 -> 17.172003
A35: Total | B35: =SUM(B7:B34) -> 13745088 | C35: =SUM(C7:C34) -> 14827296 | D35: =SUM(D7:D34) -> 1.6699112e+08 | E35: =SUM(E7:E34) -> 170857145 | F35: =((E35*100)/D35)-100 -> 2.3151084
A36: Incluye cargas, descargas, tránsitos y transbordos.
B38: =E6 -> 2021 | C38: =D6 -> 2020 | F38: =B38 -> 2021 | G38: =C38 -> 2020
A39: =A7 -> A Coruña | B39: =E7 -> 7996655 | C39: =D7 -> 7116313 | D39: =_xlfn.RANK.EQ(B39,$B$39:$B$66)+COUNTIF($B$39:$B$66,B39)-1 -> 9 | E39: =INDEX($A$39:$B$66,MATCH(ROW()-38,$D$39:$D$66,0),1) -> Bahía de Algeciras | F39: =LOOKUP(E39,$A$39:$A$66,$B$39:$B$66) -> 28126069 | G39: =LOOKUP(E39,$A$39:$A$66,$C$39:$C$66) -> 28312085
A40: =A8 -> Alicante | B40: =E8 -> 42237 | C40: =D8 -> 34480 | D40: =_xlfn.RANK.EQ(B40,$B$39:$B$66)+COUNTIF($B$39:$B$66,B40)-1 -> 26 | E40: =INDEX($A$39:$B$66,MATCH(ROW()-38,$D$39:$D$66,0),1) -> Huelva | F40: =LOOKUP(E40,$A$39:$A$66,$B$39:$B$66) -> 24181628 | G40: =LOOKUP(E40,$A$39:$A$66,$C$39:$C$66) -> 23486206
A41: =A9 -> Almería | B41: =E9 -> 140628 | C41: =D9 -> 107351 | D41: =_xlfn.RANK.EQ(B41,$B$39:$B$66)+COUNTIF($B$39:$B$66,B41)-1 -> 23 | E41: =INDEX($A$39:$B$66,MATCH(ROW()-38,$D$39:$D$66,0),1) -> Cartagena | F41: =LOOKUP(E41,$A$39:$A$66,$B$39:$B$66) -> 24047180 | G41: =LOOKUP(E41,$A$39:$A$66,$C$39:$C$66) -> 25161498
A42: =A10 -> Avilés | B42: =E10 -> 601941 | C42: =D10 -> 675125 | D42: =_xlfn.RANK.EQ(B42,$B$39:$B$66)+COUNTIF($B$39:$B$66,B42)-1 -> 17 | E42: =INDEX($A$39:$B$66,MATCH(ROW()-38,$D$39:$D$66,0),1) -> Tarragona | F42: =LOOKUP(E42,$A$39:$A$66,$B$39:$B$66) -> 21141198 | G42: =LOOKUP(E42,$A$39:$A$66,$C$39:$C$66) -> 18319624
A43: =A11 -> Bahía de Algeciras | B43: =E11 -> 28126069 | C43: =D11 -> 28312085 | D43: =_xlfn.RANK.EQ(B43,$B$39:$B$66)+COUNTIF($B$39:$B$66,B43)-1 -> 1 | E43: =INDEX($A$39:$B$66,MATCH(ROW()-38,$D$39:$D$66,0),1) -> Bilbao | F43: =LOOKUP(E43,$A$39:$A$66,$B$39:$B$66) -> 17764532 | G43: =LOOKUP(E43,$A$39:$A$66,$C$39:$C$66) -> 18156750
A44: =A12 -> Bahía de Cádiz | B44: =E12 -> 1080865 | C44: =D12 -> 1271350.3 | D44: =_xlfn.RANK.EQ(B44,$B$39:$B$66)+COUNTIF($B$39:$B$66,B44)-1 -> 15 | E44: =INDEX($A$39:$B$66,MATCH(ROW()-38,$D$39:$D$66,0),1) -> Barcelona | F44: =LOOKUP(E44,$A$39:$A$66,$B$39:$B$66) -> 12344965 | G44: =LOOKUP(E44,$A$39:$A$66,$C$39:$C$66) -> 12862069
A45: =A13 -> Baleares | B45: =E13 -> 1114658 | C45: =D13 -> 979245 | D45: =_xlfn.RANK.EQ(B45,$B$39:$B$66)+COUNTIF($B$39:$B$66,B45)-1 -> 14 | E45: =INDEX($A$39:$B$66,MATCH(ROW()-38,$D$39:$D$66,0),1) -> Castellón | F45: =LOOKUP(E45,$A$39:$A$66,$B$39:$B$66) -> 9912711 | G45: =LOOKUP(E45,$A$39:$A$66,$C$39:$C$66) -> 9801550.4
A46: =A14 -> Barcelona | B46: =E14 -> 12344965 | C46: =D14 -> 12862069 | D46: =_xlfn.RANK.EQ(B46,$B$39:$B$66)+COUNTIF($B$39:$B$66,B46)-1 -> 6 | E46: =INDEX($A$39:$B$66,MATCH(ROW()-38,$D$39:$D$66,0),1) -> Las Palmas | F46: =LOOKUP(E46,$A$39:$A$66,$B$39:$B$66) -> 8256892 | G46: =LOOKUP(E46,$A$39:$A$66,$C$39:$C$66) -> 7817669
A47: =A15 -> Bilbao | B47: =E15 -> 17764532 | C47: =D15 -> 18156750 | D47: =_xlfn.RANK.EQ(B47,$B$39:$B$66)+COUNTIF($B$39:$B$66,B47)-1 -> 5 | E47: =INDEX($A$39:$B$66,MATCH(ROW()-38,$D$39:$D$66,0),1) -> A Coruña | F47: =LOOKUP(E47,$A$39:$A$66,$B$39:$B$66) -> 7996655 | G47: =LOOKUP(E47,$A$39:$A$66,$C$39:$C$66) -> 7116313
A48: =A16 -> Cartagena | B48: =E16 -> 24047180 | C48: =D16 -> 25161498 | D48: =_xlfn.RANK.EQ(B48,$B$39:$B$66)+COUNTIF($B$39:$B$66,B48)-1 -> 3 | E48: =INDEX($A$39:$B$66,MATCH(ROW()-38,$D$39:$D$66,0),1) -> Valencia | F48: =LOOKUP(E48,$A$39:$A$66,$B$39:$B$66) -> 3867779 | G48: =LOOKUP(E48,$A$39:$A$66,$C$39:$C$66) -> 2673188
A49: =A17 -> Castellón | B49: =E17 -> 9912711 | C49: =D17 -> 9801550.4 | D49: =_xlfn.RANK.EQ(B49,$B$39:$B$66)+COUNTIF($B$39:$B$66,B49)-1 -> 7 | E49: =INDEX($A$39:$B$66,MATCH(ROW()-38,$D$39:$D$66,0),1) -> Ferrol-San Cibrao | F49: =LOOKUP(E49,$A$39:$A$66,$B$39:$B$66) -> 3172235 | G49: =LOOKUP(E49,$A$39:$A$66,$C$39:$C$66) -> 2936160
A50: =A18 -> Ceuta | B50: =E18 -> 479227 | C50: =D18 -> 714554 | D50: =_xlfn.RANK.EQ(B50,$B$39:$B$66)+COUNTIF($B$39:$B$66,B50)-1 -> 18 | E50: =INDEX($A$39:$B$66,MATCH(ROW()-38,$D$39:$D$66,0),1) -> Santa Cruz de Tenerife | F50: =LOOKUP(E50,$A$39:$A$66,$B$39:$B$66) -> 3035070 | G50: =LOOKUP(E50,$A$39:$A$66,$C$39:$C$66) -> 3397370
... A66: =A34 -> Vilagarcía | B66: =E34 -> 273548 | C66: =D34 -> 233458.5 | D66: =_xlfn.RANK.EQ(B66,$B$39:$B$66)+COUNTIF($B$39:$B$66,B66)-1 -> 20 | E66: =INDEX($A$39:$B$66,MATCH(ROW()-38,$D$39:$D$66,0),1) -> Marín y Ría de Pontevedra | F66: =LOOKUP(E66,$A$39:$A$66,$B$39:$B$66) -> 0 | G66: =LOOKUP(E66,$A$39:$A$66,$C$39:$C$66) -> 0

Sheet Sólidos
F1: 3. GRANELES SÓLIDOS (toneladas)
A5: Autoridad Portuaria | B5: ='Resumen general'!D6 -> Mes diciembre | D5: ='Resumen general'!F6 -> Acumulado desde enero | L5: ='Resumen general'!I4 -> Fecha: 30/01/2023
B6: ='Resumen general'!D7 -> 2020 | C6: ='Resumen general'!E7 -> 2021 | D6: ='Resumen general'!F7 -> 2020 | E6: ='Resumen general'!G7 -> 2021 | F6: Var. (%)
A7: A Coruña | B7: 104929 | C7: 325609 | D7: 2548387 | E7: 2934090 | F7: =((E7*100)/D7)-100 -> 15.135182
A8: Alicante | B8: 167648 | C8: 146214 | D8: 1396877 | E8: 1300401 | F8: =((E8*100)/D8)-100 -> -6.9065494
A9: Almería | B9: 326081 | C9: 321761 | D9: 3460895 | E9: 4188630 | F9: =((E9*100)/D9)-100 -> 21.027364
A10: Avilés | B10: 198915 | C10: 226194 | D10: 2519254 | E10: 2879791 | F10: =((E10*100)/D10)-100 -> 14.31126
A11: Bahía de Algeciras | B11: 58727 | C11: 51447 | D11: 552762.14 | E11: 664448 | F11: =((E11*100)/D11)-100 -> 20.20505
A12: Bahía de Cádiz | B12: 105704 | C12: 190829 | D12: 1443545.4 | E12: 1308133 | F12: =((E12*100)/D12)-100 -> -9.3805432
A13: Baleares | B13: 62769 | C13: 32726 | D13: 524598 | E13: 356648 | F13: =((E13*100)/D13)-100 -> -32.014991
A14: Barcelona | B14: 412430 | C14: 414896 | D14: 4012866.7 | E14: 4459744 | F14: =((E14*100)/D14)-100 -> 11.13611
A15: Bilbao | B15: 155458 | C15: 266416 | D15: 3667962 | E15: 4651321 | F15: =((E15*100)/D15)-100 -> 26.809411
A16: Cartagena | B16: 824507 | C16: 603993 | D16: 6469064.8 | E16: 6021397 | F16: =((E16*100)/D16)-100 -> -6.9201323
A17: Castellón | B17: 522442 | C17: 932922 | D17: 6727253 | E17: 9385244 | F17: =((E17*100)/D17)-100 -> 39.510793
A18: Ceuta | B18: 0 | C18: 1400 | D18: 20697 | E18: 15911 | F18: =((E18*100)/D18)-100 -> -23.124124
... A34: Vilagarcía | B34: 14602 | C34: 49179 | D34: 314246.5 | E34: 425965 | F34: =((E34*100)/D34)-100 -> 35.551231
A35: Total | B35: =SUM(B7:B34) -> 6165562 | C35: =SUM(C7:C34) -> 7356730 | D35: =SUM(D7:D34) -> 77071498 | E35: =SUM(E7:E34) -> 84980689 | F35: =((E35*100)/D35)-100 -> 10.262148
A36: Incluye cargas, descargas, tránsitos y transbordos.
B38: =E6 -> 2021 | C38: =D6 -> 2020 | F38: =B38 -> 2021 | G38: =C38 -> 2020
A39: =A7 -> A Coruña | B39: =E7 -> 2934090 | C39: =D7 -> 2548387 | D39: =_xlfn.RANK.EQ(B39,$B$39:$B$66)+COUNTIF($B$39:$B$66,B39)-1 -> 11 | E39: =INDEX($A$39:$B$66,MATCH(ROW()-38,$D$39:$D$66,0),1) -> Gijón | F39: =LOOKUP(E39,$A$39:$A$66,$B$39:$B$66) -> 14209772 | G39: =LOOKUP(E39,$A$39:$A$66,$C$39:$C$66) -> 13616321
A40: =A8 -> Alicante | B40: =E8 -> 1300401 | C40: =D8 -> 1396877 | D40: =_xlfn.RANK.EQ(B40,$B$39:$B$66)+COUNTIF($B$39:$B$66,B40)-1 -> 17 | E40: =INDEX($A$39:$B$66,MATCH(ROW()-38,$D$39:$D$66,0),1) -> Castellón | F40: =LOOKUP(E40,$A$39:$A$66,$B$39:$B$66) -> 9385244 | G40: =LOOKUP(E40,$A$39:$A$66,$C$39:$C$66) -> 6727253
A41: =A9 -> Almería | B41: =E9 -> 4188630 | C41: =D9 -> 3460895 | D41: =_xlfn.RANK.EQ(B41,$B$39:$B$66)+COUNTIF($B$39:$B$66,B41)-1 -> 9 | E41: =INDEX($A$39:$B$66,MATCH(ROW()-38,$D$39:$D$66,0),1) -> Tarragona | F41: =LOOKUP(E41,$A$39:$A$66,$B$39:$B$66) -> 7744291 | G41: =LOOKUP(E41,$A$39:$A$66,$C$39:$C$66) -> 6480982
A42: =A10 -> Avilés | B42: =E10 -> 2879791 | C42: =D10 -> 2519254 | D42: =_xlfn.RANK.EQ(B42,$B$39:$B$66)+COUNTIF($B$39:$B$66,B42)-1 -> 12 | E42: =INDEX($A$39:$B$66,MATCH(ROW()-38,$D$39:$D$66,0),1) -> Cartagena | F42: =LOOKUP(E42,$A$39:$A$66,$B$39:$B$66) -> 6021397 | G42: =LOOKUP(E42,$A$39:$A$66,$C$39:$C$66) -> 6469064.8
A43: =A11 -> Bahía de Algeciras | B43: =E11 -> 664448 | C43: =D11 -> 552762.14 | D43: =_xlfn.RANK.EQ(B43,$B$39:$B$66)+COUNTIF($B$39:$B$66,B43)-1 -> 21 | E43: =INDEX($A$39:$B$66,MATCH(ROW()-38,$D$39:$D$66,0),1) -> Ferrol-San Cibrao | F43: =LOOKUP(E43,$A$39:$A$66,$B$39:$B$66) -> 5994200 | G43: =LOOKUP(E43,$A$39:$A$66,$C$39:$C$66) -> 6371480
A44: =A12 -> Bahía de Cádiz | B44: =E12 -> 1308133 | C44: =D12 -> 1443545.4 | D44: =_xlfn.RANK.EQ(B44,$B$39:$B$66)+COUNTIF($B$39:$B$66,B44)-1 -> 16 | E44: =INDEX($A$39:$B$66,MATCH(ROW()-38,$D$39:$D$66,0),1) -> Huelva | F44: =LOOKUP(E44,$A$39:$A$66,$B$39:$B$66) -> 5029739 | G44: =LOOKUP(E44,$A$39:$A$66,$C$39:$C$66) -> 4886834
A45: =A13 -> Baleares | B45: =E13 -> 356648 | C45: =D13 -> 524598 | D45: =_xlfn.RANK.EQ(B45,$B$39:$B$66)+COUNTIF($B$39:$B$66,B45)-1 -> 25 | E45: =INDEX($A$39:$B$66,MATCH(ROW()-38,$D$39:$D$66,0),1) -> Bilbao | F45: =LOOKUP(E45,$A$39:$A$66,$B$39:$B$66) -> 4651321 | G45: =LOOKUP(E45,$A$39:$A$66,$C$39:$C$66) -> 3667962
A46: =A14 -> Barcelona | B46: =E14 -> 4459744 | C46: =D14 -> 4012866.7 | D46: =_xlfn.RANK.EQ(B46,$B$39:$B$66)+COUNTIF($B$39:$B$66,B46)-1 -> 8 | E46: =INDEX($A$39:$B$66,MATCH(ROW()-38,$D$39:$D$66,0),1) -> Barcelona | F46: =LOOKUP(E46,$A$39:$A$66,$B$39:$B$66) -> 4459744 | G46: =LOOKUP(E46,$A$39:$A$66,$C$39:$C$66) -> 4012866.7
A47: =A15 -> Bilbao | B47: =E15 -> 4651321 | C47: =D15 -> 3667962 | D47: =_xlfn.RANK.EQ(B47,$B$39:$B$66)+COUNTIF($B$39:$B$66,B47)-1 -> 7 | E47: =INDEX($A$39:$B$66,MATCH(ROW()-38,$D$39:$D$66,0),1) -> Almería | F47: =LOOKUP(E47,$A$39:$A$66,$B$39:$B$66) -> 4188630 | G47: =LOOKUP(E47,$A$39:$A$66,$C$39:$C$66) -> 3460895
A48: =A16 -> Cartagena | B48: =E16 -> 6021397 | C48: =D16 -> 6469064.8 | D48: =_xlfn.RANK.EQ(B48,$B$39:$B$66)+COUNTIF($B$39:$B$66,B48)-1 -> 4 | E48: =INDEX($A$39:$B$66,MATCH(ROW()-38,$D$39:$D$66,0),1) -> Santander | F48: =LOOKUP(E48,$A$39:$A$66,$B$39:$B$66) -> 3537849 | G48: =LOOKUP(E48,$A$39:$A$66,$C$39:$C$66) -> 3026140
A49: =A17 -> Castellón | B49: =E17 -> 9385244 | C49: =D17 -> 6727253 | D49: =_xlfn.RANK.EQ(B49,$B$39:$B$66)+COUNTIF($B$39:$B$66,B49)-1 -> 2 | E49: =INDEX($A$39:$B$66,MATCH(ROW()-38,$D$39:$D$66,0),1) -> A Coruña | F49: =LOOKUP(E49,$A$39:$A$66,$B$39:$B$66) -> 2934090 | G49: =LOOKUP(E49,$A$39:$A$66,$C$39:$C$66) -> 2548387
A50: =A18 -> Ceuta | B50: =E18 -> 15911 | C50: =D18 -> 20697 | D50: =_xlfn.RANK.EQ(B50,$B$39:$B$66)+COUNTIF($B$39:$B$66,B50)-1 -> 28 | E50: =INDEX($A$39:$B$66,MATCH(ROW()-38,$D$39:$D$66,0),1) -> Avilés | F50: =LOOKUP(E50,$A$39:$A$66,$B$39:$B$66) -> 2879791 | G50: =LOOKUP(E50,$A$39:$A$66,$C$39:$C$66) -> 2519254
... A66: =A34 -> Vilagarcía | B66: =E34 -> 425965 | C66: =D34 -> 314246.5 | D66: =_xlfn.RANK.EQ(B66,$B$39:$B$66)+COUNTIF($B$39:$B$66,B66)-1 -> 23 | E66: =INDEX($A$39:$B$66,MATCH(ROW()-38,$D$39:$D$66,0),1) -> Ceuta | F66: =LOOKUP(E66,$A$39:$A$66,$B$39:$B$66) -> 15911 | G66: =LOOKUP(E66,$A$39:$A$66,$C$39:$C$66) -> 20697

Sheet Mercancía general
F1: 4. MERCANCÍA GENERAL (toneladas)
A5: Autoridad Portuaria | B5: ='Resumen general'!D6 -> Mes diciembre | D5: ='Resumen general'!F6 -> Acumulado desde enero | L5: ='Resumen general'!I4 -> Fecha: 30/01/2023
B6: ='Resumen general'!D7 -> 2020 | C6: ='Resumen general'!E7 -> 2021 | D6: ='Resumen general'!F7 -> 2020 | E6: ='Resumen general'!G7 -> 2021 | F6: Var. (%)
A7: A Coruña | B7: 61306 | C7: 71682 | D7: 839877 | E7: 852680 | F7: =((E7*100)/D7)-100 -> 1.5243899
A8: Alicante | B8: 118986 | C8: 150574 | D8: 1283807 | E8: 1291636 | F8: =((E8*100)/D8)-100 -> 0.60982687
A9: Almería | B9: 124455 | C9: 135183 | D9: 1214179 | E9: 1450994 | F9: =((E9*100)/D9)-100 -> 19.504126
A10: Avilés | B10: 47685 | C10: 138640 | D10: 856395 | E10: 1137946 | F10: =((E10*100)/D10)-100 -> 32.876301
A11: Bahía de Algeciras | B11: 6117453 | C11: 6064369 | D11: 74731049 | E11: 70587413 | F11: =((E11*100)/D11)-100 -> -5.5447313
A12: Bahía de Cádiz | B12: 219515 | C12: 199443 | D12: 1645803 | E12: 2437997 | F12: =((E12*100)/D12)-100 -> 48.134193
A13: Baleares | B13: 865657 | C13: 1033060 | D13: 10823326 | E13: 12256053 | F13: =((E13*100)/D13)-100 -> 13.2374
A14: Barcelona | B14: 4305657 | C14: 4083188 | D14: 41596264 | E14: 48168582 | F14: =((E14*100)/D14)-100 -> 15.800259
A15: Bilbao | B15: 436746 | C15: 675843 | D15: 7719370 | E15: 8766658 | F15: =((E15*100)/D15)-100 -> 13.567014
A16: Cartagena | B16: 69716 | C16: 79209 | D16: 1077909.9 | E16: 967342 | F16: =((E16*100)/D16)-100 -> -10.257621
A17: Castellón | B17: 167187 | C17: 140870 | D17: 1977924 | E17: 1904137 | F17: =((E17*100)/D17)-100 -> -3.7305276
A18: Ceuta | B18: 48364 | C18: 47810 | D18: 560390 | E18: 599024 | F18: =((E18*100)/D18)-100 -> 6.8941273
... A34: Vilagarcía | B34: 55398 | C34: 53457 | D34: 656868 | E34: 804078 | F34: =((E34*100)/D34)-100 -> 22.410895
A35: Total | B35: =SUM(B7:B34) -> 23129018 | C35: =SUM(C7:C34) -> 23101926 | D35: =SUM(D7:D34) -> 2.6151445e+08 | E35: =SUM(E7:E34) -> 276231168 | F35: =((E35*100)/D35)-100 -> 5.6274955
A36: Incluye cargas, descargas, tránsitos y transbordos.
B38: =E6 -> 2021 | C38: =D6 -> 2020 | F38: =B38 -> 2021 | G38: =C38 -> 2020
A39: =A7 -> A Coruña | B39: =E7 -> 852680 | C39: =D7 -> 839877 | D39: =_xlfn.RANK.EQ(B39,$B$39:$B$66)+COUNTIF($B$39:$B$66,B39)-1 -> 23 | E39: =INDEX($A$39:$B$66,MATCH(ROW()-38,$D$39:$D$66,0),1) -> Valencia | F39: =LOOKUP(E39,$A$39:$A$66,$B$39:$B$66) -> 78823912 | G39: =LOOKUP(E39,$A$39:$A$66,$C$39:$C$66) -> 76011953
A40: =A8 -> Alicante | B40: =E8 -> 1291636 | C40: =D8 -> 1283807 | D40: =_xlfn.RANK.EQ(B40,$B$39:$B$66)+COUNTIF($B$39:$B$66,B40)-1 -> 18 | E40: =INDEX($A$39:$B$66,MATCH(ROW()-38,$D$39:$D$66,0),1) -> Bahía de Algeciras | F40: =LOOKUP(E40,$A$39:$A$66,$B$39:$B$66) -> 70587413 | G40: =LOOKUP(E40,$A$39:$A$66,$C$39:$C$66) -> 74731049
A41: =A9 -> Almería | B41: =E9 -> 1450994 | C41: =D9 -> 1214179 | D41: =_xlfn.RANK.EQ(B41,$B$39:$B$66)+COUNTIF($B$39:$B$66,B41)-1 -> 17 | E41: =INDEX($A$39:$B$66,MATCH(ROW()-38,$D$39:$D$66,0),1) -> Barcelona | F41: =LOOKUP(E41,$A$39:$A$66,$B$39:$B$66) -> 48168582 | G41: =LOOKUP(E41,$A$39:$A$66,$C$39:$C$66) -> 41596264
A42: =A10 -> Avilés | B42: =E10 -> 1137946 | C42: =D10 -> 856395 | D42: =_xlfn.RANK.EQ(B42,$B$39:$B$66)+COUNTIF($B$39:$B$66,B42)-1 -> 21 | E42: =INDEX($A$39:$B$66,MATCH(ROW()-38,$D$39:$D$66,0),1) -> Las Palmas | F42: =LOOKUP(E42,$A$39:$A$66,$B$39:$B$66) -> 17248633 | G42: =LOOKUP(E42,$A$39:$A$66,$C$39:$C$66) -> 15222571
A43: =A11 -> Bahía de Algeciras | B43: =E11 -> 70587413 | C43: =D11 -> 74731049 | D43: =_xlfn.RANK.EQ(B43,$B$39:$B$66)+COUNTIF($B$39:$B$66,B43)-1 -> 2 | E43: =INDEX($A$39:$B$66,MATCH(ROW()-38,$D$39:$D$66,0),1) -> Baleares | F43: =LOOKUP(E43,$A$39:$A$66,$B$39:$B$66) -> 12256053 | G43: =LOOKUP(E43,$A$39:$A$66,$C$39:$C$66) -> 10823326
A44: =A12 -> Bahía de Cádiz | B44: =E12 -> 2437997 | C44: =D12 -> 1645803 | D44: =_xlfn.RANK.EQ(B44,$B$39:$B$66)+COUNTIF($B$39:$B$66,B44)-1 -> 11 | E44: =INDEX($A$39:$B$66,MATCH(ROW()-38,$D$39:$D$66,0),1) -> Bilbao | F44: =LOOKUP(E44,$A$39:$A$66,$B$39:$B$66) -> 8766658 | G44: =LOOKUP(E44,$A$39:$A$66,$C$39:$C$66) -> 7719370
A45: =A13 -> Baleares | B45: =E13 -> 12256053 | C45: =D13 -> 10823326 | D45: =_xlfn.RANK.EQ(B45,$B$39:$B$66)+COUNTIF($B$39:$B$66,B45)-1 -> 5 | E45: =INDEX($A$39:$B$66,MATCH(ROW()-38,$D$39:$D$66,0),1) -> Santa Cruz de Tenerife | F45: =LOOKUP(E45,$A$39:$A$66,$B$39:$B$66) -> 7196030 | G45: =LOOKUP(E45,$A$39:$A$66,$C$39:$C$66) -> 6671139
A46: =A14 -> Barcelona | B46: =E14 -> 48168582 | C46: =D14 -> 41596264 | D46: =_xlfn.RANK.EQ(B46,$B$39:$B$66)+COUNTIF($B$39:$B$66,B46)-1 -> 3 | E46: =INDEX($A$39:$B$66,MATCH(ROW()-38,$D$39:$D$66,0),1) -> Vigo | F46: =LOOKUP(E46,$A$39:$A$66,$B$39:$B$66) -> 4253658 | G46: =LOOKUP(E46,$A$39:$A$66,$C$39:$C$66) -> 3978247.8
A47: =A15 -> Bilbao | B47: =E15 -> 8766658 | C47: =D15 -> 7719370 | D47: =_xlfn.RANK.EQ(B47,$B$39:$B$66)+COUNTIF($B$39:$B$66,B47)-1 -> 6 | E47: =INDEX($A$39:$B$66,MATCH(ROW()-38,$D$39:$D$66,0),1) -> Santander | F47: =LOOKUP(E47,$A$39:$A$66,$B$39:$B$66) -> 2990965 | G47: =LOOKUP(E47,$A$39:$A$66,$C$39:$C$66) -> 2597898
A48: =A16 -> Cartagena | B48: =E16 -> 967342 | C48: =D16 -> 1077909.9 | D48: =_xlfn.RANK.EQ(B48,$B$39:$B$66)+COUNTIF($B$39:$B$66,B48)-1 -> 22 | E48: =INDEX($A$39:$B$66,MATCH(ROW()-38,$D$39:$D$66,0),1) -> Málaga | F48: =LOOKUP(E48,$A$39:$A$66,$B$39:$B$66) -> 2690740 | G48: =LOOKUP(E48,$A$39:$A$66,$C$39:$C$66) -> 1061609
A49: =A17 -> Castellón | B49: =E17 -> 1904137 | C49: =D17 -> 1977924 | D49: =_xlfn.RANK.EQ(B49,$B$39:$B$66)+COUNTIF($B$39:$B$66,B49)-1 -> 14 | E49: =INDEX($A$39:$B$66,MATCH(ROW()-38,$D$39:$D$66,0),1) -> Bahía de Cádiz | F49: =LOOKUP(E49,$A$39:$A$66,$B$39:$B$66) -> 2437997 | G49: =LOOKUP(E49,$A$39:$A$66,$C$39:$C$66) -> 1645803
A50: =A18 -> Ceuta | B50: =E18 -> 599024 | C50: =D18 -> 560390 | D50: =_xlfn.RANK.EQ(B50,$B$39:$B$66)+COUNTIF($B$39:$B$66,B50)-1 -> 26 | E50: =INDEX($A$39:$B$66,MATCH(ROW()-38,$D$39:$D$66,0),1) -> Pasaia | F50: =LOOKUP(E50,$A$39:$A$66,$B$39:$B$66) -> 2389843 | G50: =LOOKUP(E50,$A$39:$A$66,$C$39:$C$66) -> 1984246
... A66: =A34 -> Vilagarcía | B66: =E34 -> 804078 | C66: =D34 -> 656868 | D66: =_xlfn.RANK.EQ(B66,$B$39:$B$66)+COUNTIF($B$39:$B$66,B66)-1 -> 24 | E66: =INDEX($A$39:$B$66,MATCH(ROW()-38,$D$39:$D$66,0),1) -> Motril | F66: =LOOKUP(E66,$A$39:$A$66,$B$39:$B$66) -> 171550 | G66: =LOOKUP(E66,$A$39:$A$66,$C$39:$C$66) -> 256389

Sheet Mercancías contenedores
F1: 4.1. MERCANCÍAS EN CONTENEDORES (toneladas)
A5: Autoridad Portuaria | B5: ='Resumen general'!D6 -> Mes diciembre | D5: ='Resumen general'!F6 -> Acumulado desde enero | L5: ='Resumen general'!I4 -> Fecha: 30/01/2023
B6: ='Resumen general'!D7 -> 2020 | C6: ='Resumen general'!E7 -> 2021 | D6: ='Resumen general'!F7 -> 2020 | E6: ='Resumen general'!G7 -> 2021 | F6: Var. (%)
A7: A Coruña | B7: 0 | C7: 0 | D7: 17 | E7: 29 | F7: =((E7*100)/D7)-100 -> 70.588235
A8: Alicante | B8: 88968 | C8: 144569 | D8: 1080125 | E8: 1171488 | F8: =((E8*100)/D8)-100 -> 8.458558
A9: Almería | B9: 39360 | C9: 27847 | D9: 417620 | E9: 407382 | F9: =((E9*100)/D9)-100 -> -2.4515109
A10: Avilés | B10: 0 | C10: 0 | D10: 0 | E10: 469 | F10: =((E10*100)/D10)-100 -> #DIV/0!
A11: Bahía de Algeciras | B11: 5215301 | C11: 4804042 | D11: 65434200 | E11: 58728590 | F11: =((E11*100)/D11)-100 -> -10.247868
A12: Bahía de Cádiz | B12: 176762 | C12: 141850 | D12: 937299.5 | E12: 1748766 | F12: =((E12*100)/D12)-100 -> 86.574942
A13: Baleares | B13: 27565 | C13: 30282 | D13: 347050 | E13: 449154 | F13: =((E13*100)/D13)-100 -> 29.420545
A14: Barcelona | B14: 3490520 | C14: 3248195 | D14: 31975633 | E14: 37455575 | F14: =((E14*100)/D14)-100 -> 17.137869
A15: Bilbao | B15: 337206 | C15: 455488 | D15: 5182838 | E15: 5656436 | F15: =((E15*100)/D15)-100 -> 9.1378121
A16: Cartagena | B16: 50248 | C16: 40611 | D16: 738739.07 | E16: 613474 | F16: =((E16*100)/D16)-100 -> -16.956605
A17: Castellón | B17: 153504 | C17: 131324 | D17: 1850193 | E17: 1713789 | F17: =((E17*100)/D17)-100 -> -7.3724201
A18: Ceuta | B18: 7510 | C18: 6065 | D18: 74717 | E18: 74736 | F18: =((E18*100)/D18)-100 -> 0.025429287
... A34: Vilagarcía | B34: 26837 | C34: 21619 | D34: 312361 | E34: 294080 | F34: =((E34*100)/D34)-100 -> -5.8525232
A35: Total | B35: =SUM(B7:B34) -> 17404768 | C35: =SUM(C7:C34) -> 16422542 | D35: =SUM(D7:D34) -> 1.9378288e+08 | E35: =SUM(E7:E34) -> 198282966 | F35: =((E35*100)/D35)-100 -> 2.3222303
A36: Incluye cargas, descargas, tránsitos y transbordos.
B38: =E6 -> 2021 | C38: =D6 -> 2020 | F38: =B38 -> 2021 | G38: =C38 -> 2020
A39: =A7 -> A Coruña | B39: =E7 -> 29 | C39: =D7 -> 17 | D39: =_xlfn.RANK.EQ(B39,$B$39:$B$66)+COUNTIF($B$39:$B$66,B39)-1 -> 26 | E39: =INDEX($A$39:$B$66,MATCH(ROW()-38,$D$39:$D$66,0),1) -> Valencia | F39: =LOOKUP(E39,$A$39:$A$66,$B$39:$B$66) -> 64017231 | G39: =LOOKUP(E39,$A$39:$A$66,$C$39:$C$66) -> 63264401
A40: =A8 -> Alicante | B40: =E8 -> 1171488 | C40: =D8 -> 1080125 | D40: =_xlfn.RANK.EQ(B40,$B$39:$B$66)+COUNTIF($B$39:$B$66,B40)-1 -> 11 | E40: =INDEX($A$39:$B$66,MATCH(ROW()-38,$D$39:$D$66,0),1) -> Bahía de Algeciras | F40: =LOOKUP(E40,$A$39:$A$66,$B$39:$B$66) -> 58728590 | G40: =LOOKUP(E40,$A$39:$A$66,$C$39:$C$66) -> 65434200
A41: =A9 -> Almería | B41: =E9 -> 407382 | C41: =D9 -> 417620 | D41: =_xlfn.RANK.EQ(B41,$B$39:$B$66)+COUNTIF($B$39:$B$66,B41)-1 -> 20 | E41: =INDEX($A$39:$B$66,MATCH(ROW()-38,$D$39:$D$66,0),1) -> Barcelona | F41: =LOOKUP(E41,$A$39:$A$66,$B$39:$B$66) -> 37455575 | G41: =LOOKUP(E41,$A$39:$A$66,$C$39:$C$66) -> 31975633
A42: =A10 -> Avilés | B42: =E10 -> 469 | C42: =D10 -> 0 | D42: =_xlfn.RANK.EQ(B42,$B$39:$B$66)+COUNTIF($B$39:$B$66,B42)-1 -> 25 | E42: =INDEX($A$39:$B$66,MATCH(ROW()-38,$D$39:$D$66,0),1) -> Las Palmas | F42: =LOOKUP(E42,$A$39:$A$66,$B$39:$B$66) -> 13060685 | G42: =LOOKUP(E42,$A$39:$A$66,$C$39:$C$66) -> 11445173
A43: =A11 -> Bahía de Algeciras | B43: =E11 -> 58728590 | C43: =D11 -> 65434200 | D43: =_xlfn.RANK.EQ(B43,$B$39:$B$66)+COUNTIF($B$39:$B$66,B43)-1 -> 2 | E43: =INDEX($A$39:$B$66,MATCH(ROW()-38,$D$39:$D$66,0),1) -> Bilbao | F43: =LOOKUP(E43,$A$39:$A$66,$B$39:$B$66) -> 5656436 | G43: =LOOKUP(E43,$A$39:$A$66,$C$39:$C$66) -> 5182838
A44: =A12 -> Bahía de Cádiz | B44: =E12 -> 1748766 | C44: =D12 -> 937299.5 | D44: =_xlfn.RANK.EQ(B44,$B$39:$B$66)+COUNTIF($B$39:$B$66,B44)-1 -> 9 | E44: =INDEX($A$39:$B$66,MATCH(ROW()-38,$D$39:$D$66,0),1) -> Santa Cruz de Tenerife | F44: =LOOKUP(E44,$A$39:$A$66,$B$39:$B$66) -> 3611406 | G44: =LOOKUP(E44,$A$39:$A$66,$C$39:$C$66) -> 3202652
A45: =A13 -> Baleares | B45: =E13 -> 449154 | C45: =D13 -> 347050 | D45: =_xlfn.RANK.EQ(B45,$B$39:$B$66)+COUNTIF($B$39:$B$66,B45)-1 -> 18 | E45: =INDEX($A$39:$B$66,MATCH(ROW()-38,$D$39:$D$66,0),1) -> Vigo | F45: =LOOKUP(E45,$A$39:$A$66,$B$39:$B$66) -> 2986304 | G45: =LOOKUP(E45,$A$39:$A$66,$C$39:$C$66) -> 2780286.8
A46: =A14 -> Barcelona | B46: =E14 -> 37455575 | C46: =D14 -> 31975633 | D46: =_xlfn.RANK.EQ(B46,$B$39:$B$66)+COUNTIF($B$39:$B$66,B46)-1 -> 3 | E46: =INDEX($A$39:$B$66,MATCH(ROW()-38,$D$39:$D$66,0),1) -> Málaga | F46: =LOOKUP(E46,$A$39:$A$66,$B$39:$B$66) -> 2252411 | G46: =LOOKUP(E46,$A$39:$A$66,$C$39:$C$66) -> 617003
A47: =A15 -> Bilbao | B47: =E15 -> 5656436 | C47: =D15 -> 5182838 | D47: =_xlfn.RANK.EQ(B47,$B$39:$B$66)+COUNTIF($B$39:$B$66,B47)-1 -> 5 | E47: =INDEX($A$39:$B$66,MATCH(ROW()-38,$D$39:$D$66,0),1) -> Bahía de Cádiz | F47: =LOOKUP(E47,$A$39:$A$66,$B$39:$B$66) -> 1748766 | G47: =LOOKUP(E47,$A$39:$A$66,$C$39:$C$66) -> 937299.5
A48: =A16 -> Cartagena | B48: =E16 -> 613474 | C48: =D16 -> 738739.07 | D48: =_xlfn.RANK.EQ(B48,$B$39:$B$66)+COUNTIF($B$39:$B$66,B48)-1 -> 14 | E48: =INDEX($A$39:$B$66,MATCH(ROW()-38,$D$39:$D$66,0),1) -> Castellón | F48: =LOOKUP(E48,$A$39:$A$66,$B$39:$B$66) -> 1713789 | G48: =LOOKUP(E48,$A$39:$A$66,$C$39:$C$66) -> 1850193
A49: =A17 -> Castellón | B49: =E17 -> 1713789 | C49: =D17 -> 1850193 | D49: =_xlfn.RANK.EQ(B49,$B$39:$B$66)+COUNTIF($B$39:$B$66,B49)-1 -> 10 | E49: =INDEX($A$39:$B$66,MATCH(ROW()-38,$D$39:$D$66,0),1) -> Alicante | F49: =LOOKUP(E49,$A$39:$A$66,$B$39:$B$66) -> 1171488 | G49: =LOOKUP(E49,$A$39:$A$66,$C$39:$C$66) -> 1080125
A50: =A18 -> Ceuta | B50: =E18 -> 74736 | C50: =D18 -> 74717 | D50: =_xlfn.RANK.EQ(B50,$B$39:$B$66)+COUNTIF($B$39:$B$66,B50)-1 -> 23 | E50: =INDEX($A$39:$B$66,MATCH(ROW()-38,$D$39:$D$66,0),1) -> Sevilla | F50: =LOOKUP(E50,$A$39:$A$66,$B$39:$B$66) -> 999941 | G50: =LOOKUP(E50,$A$39:$A$66,$C$39:$C$66) -> 896657
... A66: =A34 -> Vilagarcía | B66: =E34 -> 294080 | C66: =D34 -> 312361 | D66: =_xlfn.RANK.EQ(B66,$B$39:$B$66)+COUNTIF($B$39:$B$66,B66)-1 -> 21 | E66: =INDEX($A$39:$B$66,MATCH(ROW()-38,$D$39:$D$66,0),1) -> Motril | F66: =LOOKUP(E66,$A$39:$A$66,$B$39:$B$66) -> 0 | G66: =LOOKUP(E66,$A$39:$A$66,$C$39:$C$66) -> 506

Sheet Pesca
F1: 5. PESCA (toneladas)
A5: Autoridad Portuaria | B5: ='Resumen general'!D6 -> Mes diciembre | D5: ='Resumen general'!F6 -> Acumulado desde enero | L5: ='Resumen general'!I4 -> Fecha: 30/01/2023
B6: ='Resumen general'!D7 -> 2020 | C6: ='Resumen general'!E7 -> 2021 | D6: ='Resumen general'!F7 -> 2020 | E6: ='Resumen general'!G7 -> 2021 | F6: Var. (%)
A7: A Coruña | B7: 1730 | C7: 1319 | D7: 33299 | E7: 28331 | F7: =((E7*100)/D7)-100 -> -14.919367
A8: Alicante | B8: 37 | C8: 24 | D8: 1281.555 | E8: 714 | F8: =((E8*100)/D8)-100 -> -44.286433
A9: Almería | B9: 140 | C9: 221 | D9: 3914.926 | E9: 3923 | F9: =((E9*100)/D9)-100 -> 0.20623634
A10: Avilés | B10: 501 | C10: 559 | D10: 17811.315 | E10: 18702 | F10: =((E10*100)/D10)-100 -> 5.0006695
A11: Bahía de Algeciras | B11: 72 | C11: 36 | D11: 887.56 | E11: 911 | F11: =((E11*100)/D11)-100 -> 2.6409482
A12: Bahía de Cádiz | B12: 915 | C12: 944 | D12: 14026.361 | E12: 14155 | F12: =((E12*100)/D12)-100 -> 0.91712312
A13: Baleares | B13: 129 | C13: 125 | D13: 2458.326 | E13: 2114 | F13: =((E13*100)/D13)-100 -> -14.006523
A14: Barcelona | B14: 51 | C14: 34 | D14: 2187.445 | E14: 2168 | F14: =((E14*100)/D14)-100 -> -0.88893664
A15: Bilbao | B15: 0 | C15: 0 | D15: 0 | E15: 0 | F15: =((E15*100)/D15)-100 -> #DIV/0!
A16: Cartagena | B16: 22 | C16: 27 | D16: 504.067 | E16: 423 | F16: =((E16*100)/D16)-100 -> -16.082584
A17: Castellón | B17: 73 | C17: 92 | D17: 3275.111 | E17: 3003 | F17: =((E17*100)/D17)-100 -> -8.3084512
A18: Ceuta | B18: 1 | C18: 2 | D18: 54.322 | E18: 44 | F18: =((E18*100)/D18)-100 -> -19.00151
... A34: Vilagarcía | B34: 0 | C34: 0 | D34: 0 | E34: 0 | F34: =((E34*100)/D34)-100 -> #DIV/0!
A35: Total | B35: =SUM(B7:B34) -> 9125 | C35: =SUM(C7:C34) -> 8712 | D35: =SUM(D7:D34) -> 163355.93 | E35: =SUM(E7:E34) -> 162962 | F35: =((E35*100)/D35)-100 -> -0.24115015
B38: =E6 -> 2021 | C38: =D6 -> 2020 | F38: =B38 -> 2021 | G38: =C38 -> 2020
A39: =A7 -> A Coruña | B39: =E7 -> 28331 | C39: =D7 -> 33299 | D39: =_xlfn.RANK.EQ(B39,$B$39:$B$66)+COUNTIF($B$39:$B$66,B39)-1 -> 2 | E39: =INDEX($A$39:$B$66,MATCH(ROW()-38,$D$39:$D$66,0),1) -> Vigo | F39: =LOOKUP(E39,$A$39:$A$66,$B$39:$B$66) -> 36581 | G39: =LOOKUP(E39,$A$39:$A$66,$C$39:$C$66) -> 36796.39
A40: =A8 -> Alicante | B40: =E8 -> 714 | C40: =D8 -> 1281.555 | D40: =_xlfn.RANK.EQ(B40,$B$39:$B$66)+COUNTIF($B$39:$B$66,B40)-1 -> 19 | E40: =INDEX($A$39:$B$66,MATCH(ROW()-38,$D$39:$D$66,0),1) -> A Coruña | F40: =LOOKUP(E40,$A$39:$A$66,$B$39:$B$66) -> 28331 | G40: =LOOKUP(E40,$A$39:$A$66,$C$39:$C$66) -> 33299
A41: =A9 -> Almería | B41: =E9 -> 3923 | C41: =D9 -> 3914.926 | D41: =_xlfn.RANK.EQ(B41,$B$39:$B$66)+COUNTIF($B$39:$B$66,B41)-1 -> 8 | E41: =INDEX($A$39:$B$66,MATCH(ROW()-38,$D$39:$D$66,0),1) -> Pasaia | F41: =LOOKUP(E41,$A$39:$A$66,$B$39:$B$66) -> 18811 | G41: =LOOKUP(E41,$A$39:$A$66,$C$39:$C$66) -> 20461.645
A42: =A10 -> Avilés | B42: =E10 -> 18702 | C42: =D10 -> 17811.315 | D42: =_xlfn.RANK.EQ(B42,$B$39:$B$66)+COUNTIF($B$39:$B$66,B42)-1 -> 4 | E42: =INDEX($A$39:$B$66,MATCH(ROW()-38,$D$39:$D$66,0),1) -> Avilés | F42: =LOOKUP(E42,$A$39:$A$66,$B$39:$B$66) -> 18702 | G42: =LOOKUP(E42,$A$39:$A$66,$C$39:$C$66) -> 17811.315
A43: =A11 -> Bahía de Algeciras | B43: =E11 -> 911 | C43: =D11 -> 887.56 | D43: =_xlfn.RANK.EQ(B43,$B$39:$B$66)+COUNTIF($B$39:$B$66,B43)-1 -> 18 | E43: =INDEX($A$39:$B$66,MATCH(ROW()-38,$D$39:$D$66,0),1) -> Gijón | F43: =LOOKUP(E43,$A$39:$A$66,$B$39:$B$66) -> 14882 | G43: =LOOKUP(E43,$A$39:$A$66,$C$39:$C$66) -> 8922.341
A44: =A12 -> Bahía de Cádiz | B44: =E12 -> 14155 | C44: =D12 -> 14026.361 | D44: =_xlfn.RANK.EQ(B44,$B$39:$B$66)+COUNTIF($B$39:$B$66,B44)-1 -> 6 | E44: =INDEX($A$39:$B$66,MATCH(ROW()-38,$D$39:$D$66,0),1) -> Bahía de Cádiz | F44: =LOOKUP(E44,$A$39:$A$66,$B$39:$B$66) -> 14155 | G44: =LOOKUP(E44,$A$39:$A$66,$C$39:$C$66) -> 14026.361
A45: =A13 -> Baleares | B45: =E13 -> 2114 | C45: =D13 -> 2458.326 | D45: =_xlfn.RANK.EQ(B45,$B$39:$B$66)+COUNTIF($B$39:$B$66,B45)-1 -> 13 | E45: =INDEX($A$39:$B$66,MATCH(ROW()-38,$D$39:$D$66,0),1) -> Santander | F45: =LOOKUP(E45,$A$39:$A$66,$B$39:$B$66) -> 5366 | G45: =LOOKUP(E45,$A$39:$A$66,$C$39:$C$66) -> 4493.567
A46: =A14 -> Barcelona | B46: =E14 -> 2168 | C46: =D14 -> 2187.445 | D46: =_xlfn.RANK.EQ(B46,$B$39:$B$66)+COUNTIF($B$39:$B$66,B46)-1 -> 12 | E46: =INDEX($A$39:$B$66,MATCH(ROW()-38,$D$39:$D$66,0),1) -> Almería | F46: =LOOKUP(E46,$A$39:$A$66,$B$39:$B$66) -> 3923 | G46: =LOOKUP(E46,$A$39:$A$66,$C$39:$C$66) -> 3914.926
A47: =A15 -> Bilbao | B47: =E15 -> 0 | C47: =D15 -> 0 | D47: =_xlfn.RANK.EQ(B47,$B$39:$B$66)+COUNTIF($B$39:$B$66,B47)-1 -> 28 | E47: =INDEX($A$39:$B$66,MATCH(ROW()-38,$D$39:$D$66,0),1) -> Santa Cruz de Tenerife | F47: =LOOKUP(E47,$A$39:$A$66,$B$39:$B$66) -> 3502 | G47: =LOOKUP(E47,$A$39:$A$66,$C$39:$C$66) -> 4546.905
A48: =A16 -> Cartagena | B48: =E16 -> 423 | C48: =D16 -> 504.067 | D48: =_xlfn.RANK.EQ(B48,$B$39:$B$66)+COUNTIF($B$39:$B$66,B48)-1 -> 21 | E48: =INDEX($A$39:$B$66,MATCH(ROW()-38,$D$39:$D$66,0),1) -> Castellón | F48: =LOOKUP(E48,$A$39:$A$66,$B$39:$B$66) -> 3003 | G48: =LOOKUP(E48,$A$39:$A$66,$C$39:$C$66) -> 3275.111
A49: =A17 -> Castellón | B49: =E17 -> 3003 | C49: =D17 -> 3275.111 | D49: =_xlfn.RANK.EQ(B49,$B$39:$B$66)+COUNTIF($B$39:$B$66,B49)-1 -> 10 | E49: =INDEX($A$39:$B$66,MATCH(ROW()-38,$D$39:$D$66,0),1) -> Marín y Ría de Pontevedra | F49: =LOOKUP(E49,$A$39:$A$66,$B$39:$B$66) -> 2731 | G49: =LOOKUP(E49,$A$39:$A$66,$C$39:$C$66) -> 1895.263
A50: =A18 -> Ceuta | B50: =E18 -> 44 | C50: =D18 -> 54.322 | D50: =_xlfn.RANK.EQ(B50,$B$39:$B$66)+COUNTIF($B$39:$B$66,B50)-1 -> 24 | E50: =INDEX($A$39:$B$66,MATCH(ROW()-38,$D$39:$D$66,0),1) -> Barcelona | F50: =LOOKUP(E50,$A$39:$A$66,$B$39:$B$66) -> 2168 | G50: =LOOKUP(E50,$A$39:$A$66,$C$39:$C$66) -> 2187.445
... A66: =A34 -> Vilagarcía | B66: =E34 -> 0 | C66: =D34 -> 0 | D66: =_xlfn.RANK.EQ(B66,$B$39:$B$66)+COUNTIF($B$39:$B$66,B66)-1 -> 28 | E66: =INDEX($A$39:$B$66,MATCH(ROW()-38,$D$39:$D$66,0),1) -> Bilbao | F66: =LOOKUP(E66,$A$39:$A$66,$B$39:$B$66) -> 0 | G66: =LOOKUP(E66,$A$39:$A$66,$C$39:$C$66) -> 0

Sheet Avituallamiento
F1: 6. AVITUALLAMIENTO (toneladas)
A5: Autoridad Portuaria | B5: ='Resumen general'!D6 -> Mes diciembre | D5: ='Resumen general'!F6 -> Acumulado desde enero | L5: ='Resumen general'!I4 -> Fecha: 30/01/2023
B6: ='Resumen general'!D7 -> 2020 | C6: ='Resumen general'!E7 -> 2021 | D6: ='Resumen general'!F7 -> 2020 | E6: ='Resumen general'!G7 -> 2021 | F6: Var. (%)
A7: A Coruña | B7: 21205 | C7: 26634 | D7: 61164 | E7: 65672 | F7: =((E7*100)/D7)-100 -> 7.3703486
A8: Alicante | B8: 1616 | C8: 1792 | D8: 14635 | E8: 12494 | F8: =((E8*100)/D8)-100 -> -14.629313
A9: Almería | B9: 2804 | C9: 4433 | D9: 40747 | E9: 44833 | F9: =((E9*100)/D9)-100 -> 10.027732
A10: Avilés | B10: 3622 | C10: 4009 | D10: 53086 | E10: 56726 | F10: =((E10*100)/D10)-100 -> 6.8567984
A11: Bahía de Algeciras | B11: 179530 | C11: 319683 | D11: 1982166 | E11: 3108689 | F11: =((E11*100)/D11)-100 -> 56.832929
A12: Bahía de Cádiz | B12: 5167 | C12: 6780 | D12: 74594 | E12: 101904 | F12: =((E12*100)/D12)-100 -> 36.611524
A13: Baleares | B13: 2766 | C13: 3683 | D13: 37533 | E13: 43275 | F13: =((E13*100)/D13)-100 -> 15.298537
A14: Barcelona | B14: 95691 | C14: 102519 | D14: 1024041.2 | E14: 1435122 | F14: =((E14*100)/D14)-100 -> 40.14299
A15: Bilbao | B15: 6083 | C15: 8108 | D15: 101056 | E15: 116474 | F15: =((E15*100)/D15)-100 -> 15.256887
A16: Cartagena | B16: 14854 | C16: 17799 | D16: 185950 | E16: 177157 | F16: =((E16*100)/D16)-100 -> -4.7286905
A17: Castellón | B17: 2728 | C17: 2028 | D17: 31537 | E17: 32233 | F17: =((E17*100)/D17)-100 -> 2.2069315
A18: Ceuta | B18: 42580 | C18: 58162 | D18: 555985 | E18: 478899 | F18: =((E18*100)/D18)-100 -> -13.864763
... A34: Vilagarcía | B34: 605 | C34: 749 | D34: 5249 | E34: 7778 | F34: =((E34*100)/D34)-100 -> 48.180606
A35: Total | B35: =SUM(B7:B34) -> 685366 | C35: =SUM(C7:C34) -> 921937 | D35: =SUM(D7:D34) -> 7898640.2 | E35: =SUM(E7:E34) -> 9505988 | F35: =((E35*100)/D35)-100 -> 20.349677
B38: =E6 -> 2021 | C38: =D6 -> 2020 | F38: =B38 -> 2021 | G38: =C38 -> 2020
A39: =A7 -> A Coruña | B39: =E7 -> 65672 | C39: =D7 -> 61164 | D39: =_xlfn.RANK.EQ(B39,$B$39:$B$66)+COUNTIF($B$39:$B$66,B39)-1 -> 13 | E39: =INDEX($A$39:$B$66,MATCH(ROW()-38,$D$39:$D$66,0),1) -> Bahía de Algeciras | F39: =LOOKUP(E39,$A$39:$A$66,$B$39:$B$66) -> 3108689 | G39: =LOOKUP(E39,$A$39:$A$66,$C$39:$C$66) -> 1982166
A40: =A8 -> Alicante | B40: =E8 -> 12494 | C40: =D8 -> 14635 | D40: =_xlfn.RANK.EQ(B40,$B$39:$B$66)+COUNTIF($B$39:$B$66,B40)-1 -> 26 | E40: =INDEX($A$39:$B$66,MATCH(ROW()-38,$D$39:$D$66,0),1) -> Las Palmas | F40: =LOOKUP(E40,$A$39:$A$66,$B$39:$B$66) -> 2278145 | G40: =LOOKUP(E40,$A$39:$A$66,$C$39:$C$66) -> 2329507
A41: =A9 -> Almería | B41: =E9 -> 44833 | C41: =D9 -> 40747 | D41: =_xlfn.RANK.EQ(B41,$B$39:$B$66)+COUNTIF($B$39:$B$66,B41)-1 -> 16 | E41: =INDEX($A$39:$B$66,MATCH(ROW()-38,$D$39:$D$66,0),1) -> Barcelona | F41: =LOOKUP(E41,$A$39:$A$66,$B$39:$B$66) -> 1435122 | G41: =LOOKUP(E41,$A$39:$A$66,$C$39:$C$66) -> 1024041.2
A42: =A10 -> Avilés | B42: =E10 -> 56726 | C42: =D10 -> 53086 | D42: =_xlfn.RANK.EQ(B42,$B$39:$B$66)+COUNTIF($B$39:$B$66,B42)-1 -> 15 | E42: =INDEX($A$39:$B$66,MATCH(ROW()-38,$D$39:$D$66,0),1) -> Ceuta | F42: =LOOKUP(E42,$A$39:$A$66,$B$39:$B$66) -> 478899 | G42: =LOOKUP(E42,$A$39:$A$66,$C$39:$C$66) -> 555985
A43: =A11 -> Bahía de Algeciras | B43: =E11 -> 3108689 | C43: =D11 -> 1982166 | D43: =_xlfn.RANK.EQ(B43,$B$39:$B$66)+COUNTIF($B$39:$B$66,B43)-1 -> 1 | E43: =INDEX($A$39:$B$66,MATCH(ROW()-38,$D$39:$D$66,0),1) -> Santa Cruz de Tenerife | F43: =LOOKUP(E43,$A$39:$A$66,$B$39:$B$66) -> 444591 | G43: =LOOKUP(E43,$A$39:$A$66,$C$39:$C$66) -> 497617
A44: =A12 -> Bahía de Cádiz | B44: =E12 -> 101904 | C44: =D12 -> 74594 | D44: =_xlfn.RANK.EQ(B44,$B$39:$B$66)+COUNTIF($B$39:$B$66,B44)-1 -> 12 | E44: =INDEX($A$39:$B$66,MATCH(ROW()-38,$D$39:$D$66,0),1) -> Valencia | F44: =LOOKUP(E44,$A$39:$A$66,$B$39:$B$66) -> 417914 | G44: =LOOKUP(E44,$A$39:$A$66,$C$39:$C$66) -> 336071
A45: =A13 -> Baleares | B45: =E13 -> 43275 | C45: =D13 -> 37533 | D45: =_xlfn.RANK.EQ(B45,$B$39:$B$66)+COUNTIF($B$39:$B$66,B45)-1 -> 17 | E45: =INDEX($A$39:$B$66,MATCH(ROW()-38,$D$39:$D$66,0),1) -> Huelva | F45: =LOOKUP(E45,$A$39:$A$66,$B$39:$B$66) -> 210753 | G45: =LOOKUP(E45,$A$39:$A$66,$C$39:$C$66) -> 156752
A46: =A14 -> Barcelona | B46: =E14 -> 1435122 | C46: =D14 -> 1024041.2 | D46: =_xlfn.RANK.EQ(B46,$B$39:$B$66)+COUNTIF($B$39:$B$66,B46)-1 -> 3 | E46: =INDEX($A$39:$B$66,MATCH(ROW()-38,$D$39:$D$66,0),1) -> Cartagena | F46: =LOOKUP(E46,$A$39:$A$66,$B$39:$B$66) -> 177157 | G46: =LOOKUP(E46,$A$39:$A$66,$C$39:$C$66) -> 185950
A47: =A15 -> Bilbao | B47: =E15 -> 116474 | C47: =D15 -> 101056 | D47: =_xlfn.RANK.EQ(B47,$B$39:$B$66)+COUNTIF($B$39:$B$66,B47)-1 -> 10 | E47: =INDEX($A$39:$B$66,MATCH(ROW()-38,$D$39:$D$66,0),1) -> Vigo | F47: =LOOKUP(E47,$A$39:$A$66,$B$39:$B$66) -> 129671 | G47: =LOOKUP(E47,$A$39:$A$66,$C$39:$C$66) -> 122432
A48: =A16 -> Cartagena | B48: =E16 -> 177157 | C48: =D16 -> 185950 | D48: =_xlfn.RANK.EQ(B48,$B$39:$B$66)+COUNTIF($B$39:$B$66,B48)-1 -> 8 | E48: =INDEX($A$39:$B$66,MATCH(ROW()-38,$D$39:$D$66,0),1) -> Bilbao | F48: =LOOKUP(E48,$A$39:$A$66,$B$39:$B$66) -> 116474 | G48: =LOOKUP(E48,$A$39:$A$66,$C$39:$C$66) -> 101056
A49: =A17 -> Castellón | B49: =E17 -> 32233 | C49: =D17 -> 31537 | D49: =_xlfn.RANK.EQ(B49,$B$39:$B$66)+COUNTIF($B$39:$B$66,B49)-1 -> 19 | E49: =INDEX($A$39:$B$66,MATCH(ROW()-38,$D$39:$D$66,0),1) -> Tarragona | F49: =LOOKUP(E49,$A$39:$A$66,$B$39:$B$66) -> 102226 | G49: =LOOKUP(E49,$A$39:$A$66,$C$39:$C$66) -> 66441
A50: =A18 -> Ceuta | B50: =E18 -> 478899 | C50: =D18 -> 555985 | D50: =_xlfn.RANK.EQ(B50,$B$39:$B$66)+COUNTIF($B$39:$B$66,B50)-1 -> 4 | E50: =INDEX($A$39:$B$66,MATCH(ROW()-38,$D$39:$D$66,0),1) -> Bahía de Cádiz | F50: =LOOKUP(E50,$A$39:$A$66,$B$39:$B$66) -> 101904 | G50: =LOOKUP(E50,$A$39:$A$66,$C$39:$C$66) -> 74594
... A66: =A34 -> Vilagarcía | B66: =E34 -> 7778 | C66: =D34 -> 5249 | D66: =_xlfn.RANK.EQ(B66,$B$39:$B$66)+COUNTIF($B$39:$B$66,B66)-1 -> 27 | E66: =INDEX($A$39:$B$66,MATCH(ROW()-38,$D$39:$D$66,0),1) -> Melilla | F66: =LOOKUP(E66,$A$39:$A$66,$B$39:$B$66) -> 6183 | G66: =LOOKUP(E66,$A$39:$A$66,$C$39:$C$66) -> 4692

Sheet Avi. combustibles
F1: 6.1. AVITUALLAMIENTO DE COMBUSTIBLES LÍQUIDOS
I2: (toneladas)
A5: Autoridad Portuaria | B5: ='Resumen general'!D6 -> Mes diciembre | D5: ='Resumen general'!F6 -> Acumulado desde enero | L5: ='Resumen general'!I4 -> Fecha: 30/01/2023
B6: ='Resumen general'!D7 -> 2020 | C6: ='Resumen general'!E7 -> 2021 | D6: ='Resumen general'!F7 -> 2020 | E6: ='Resumen general'!G7 -> 2021 | F6: Var. (%)
A7: A Coruña | B7: 1863 | C7: 3036 | D7: 26725 | E7: 27387 | F7: =((E7*100)/D7)-100 -> 2.4770814
A8: Alicante | B8: 144 | C8: 124 | D8: 2194 | E8: 2655 | F8: =((E8*100)/D8)-100 -> 21.011851
A9: Almería | B9: 1690 | C9: 2273 | D9: 23866 | E9: 24545 | F9: =((E9*100)/D9)-100 -> 2.8450515
A10: Avilés | B10: 1393 | C10: 1099 | D10: 18150 | E10: 17948 | F10: =((E10*100)/D10)-100 -> -1.1129477
A11: Bahía de Algeciras | B11: 168634 | C11: 306890 | D11: 1808368 | E11: 2942643 | F11: =((E11*100)/D11)-100 -> 62.723682
A12: Bahía de Cádiz | B12: 2688 | C12: 1944 | D12: 21568 | E12: 33374 | F12: =((E12*100)/D12)-100 -> 54.738501
A13: Baleares | B13: 408 | C13: 120 | D13: 5310.5 | E13: 3535 | F13: =((E13*100)/D13)-100 -> -33.433763
A14: Barcelona | B14: 87992 | C14: 88059 | D14: 904953.72 | E14: 1278910 | F14: =((E14*100)/D14)-100 -> 41.323249
A15: Bilbao | B15: 3224 | C15: 4172 | D15: 53558 | E15: 60683 | F15: =((E15*100)/D15)-100 -> 13.303335
A16: Cartagena | B16: 1849 | C16: 3150 | D16: 19635 | E16: 16360 | F16: =((E16*100)/D16)-100 -> -16.679399
A17: Castellón | B17: 0 | C17: 0 | D17: 0 | E17: 0 | F17: =((E17*100)/D17)-100 -> #DIV/0!
A18: Ceuta | B18: 41163 | C18: 56680 | D18: 541380 | E18: 464192 | F18: =((E18*100)/D18)-100 -> -14.257638
... A34: Vilagarcía | B34: 170 | C34: 107 | D34: 1702 | E34: 1794 | F34: =((E34*100)/D34)-100 -> 5.4054054
A35: Total | B35: =SUM(B7:B34) -> 568079 | C35: =SUM(C7:C34) -> 769947 | D35: =SUM(D7:D34) -> 6539682.2 | E35: =SUM(E7:E34) -> 8132367 | F35: =((E35*100)/D35)-100 -> 24.354162
B38: =E6 -> 2021 | C38: =D6 -> 2020 | F38: =B38 -> 2021 | G38: =C38 -> 2020
A39: =A7 -> A Coruña | B39: =E7 -> 27387 | C39: =D7 -> 26725 | D39: =_xlfn.RANK.EQ(B39,$B$39:$B$66)+COUNTIF($B$39:$B$66,B39)-1 -> 13 | E39: =INDEX($A$39:$B$66,MATCH(ROW()-38,$D$39:$D$66,0),1) -> Bahía de Algeciras | F39: =LOOKUP(E39,$A$39:$A$66,$B$39:$B$66) -> 2942643 | G39: =LOOKUP(E39,$A$39:$A$66,$C$39:$C$66) -> 1808368
A40: =A8 -> Alicante | B40: =E8 -> 2655 | C40: =D8 -> 2194 | D40: =_xlfn.RANK.EQ(B40,$B$39:$B$66)+COUNTIF($B$39:$B$66,B40)-1 -> 25 | E40: =INDEX($A$39:$B$66,MATCH(ROW()-38,$D$39:$D$66,0),1) -> Las Palmas | F40: =LOOKUP(E40,$A$39:$A$66,$B$39:$B$66) -> 2077818 | G40: =LOOKUP(E40,$A$39:$A$66,$C$39:$C$66) -> 2114032
A41: =A9 -> Almería | B41: =E9 -> 24545 | C41: =D9 -> 23866 | D41: =_xlfn.RANK.EQ(B41,$B$39:$B$66)+COUNTIF($B$39:$B$66,B41)-1 -> 14 | E41: =INDEX($A$39:$B$66,MATCH(ROW()-38,$D$39:$D$66,0),1) -> Barcelona | F41: =LOOKUP(E41,$A$39:$A$66,$B$39:$B$66) -> 1278910 | G41: =LOOKUP(E41,$A$39:$A$66,$C$39:$C$66) -> 904953.72
A42: =A10 -> Avilés | B42: =E10 -> 17948 | C42: =D10 -> 18150 | D42: =_xlfn.RANK.EQ(B42,$B$39:$B$66)+COUNTIF($B$39:$B$66,B42)-1 -> 16 | E42: =INDEX($A$39:$B$66,MATCH(ROW()-38,$D$39:$D$66,0),1) -> Ceuta | F42: =LOOKUP(E42,$A$39:$A$66,$B$39:$B$66) -> 464192 | G42: =LOOKUP(E42,$A$39:$A$66,$C$39:$C$66) -> 541380
A43: =A11 -> Bahía de Algeciras | B43: =E11 -> 2942643 | C43: =D11 -> 1808368 | D43: =_xlfn.RANK.EQ(B43,$B$39:$B$66)+COUNTIF($B$39:$B$66,B43)-1 -> 1 | E43: =INDEX($A$39:$B$66,MATCH(ROW()-38,$D$39:$D$66,0),1) -> Santa Cruz de Tenerife | F43: =LOOKUP(E43,$A$39:$A$66,$B$39:$B$66) -> 372977 | G43: =LOOKUP(E43,$A$39:$A$66,$C$39:$C$66) -> 383369
A44: =A12 -> Bahía de Cádiz | B44: =E12 -> 33374 | C44: =D12 -> 21568 | D44: =_xlfn.RANK.EQ(B44,$B$39:$B$66)+COUNTIF($B$39:$B$66,B44)-1 -> 12 | E44: =INDEX($A$39:$B$66,MATCH(ROW()-38,$D$39:$D$66,0),1) -> Valencia | F44: =LOOKUP(E44,$A$39:$A$66,$B$39:$B$66) -> 371341 | G44: =LOOKUP(E44,$A$39:$A$66,$C$39:$C$66) -> 283263
A45: =A13 -> Baleares | B45: =E13 -> 3535 | C45: =D13 -> 5310.5 | D45: =_xlfn.RANK.EQ(B45,$B$39:$B$66)+COUNTIF($B$39:$B$66,B45)-1 -> 24 | E45: =INDEX($A$39:$B$66,MATCH(ROW()-38,$D$39:$D$66,0),1) -> Huelva | F45: =LOOKUP(E45,$A$39:$A$66,$B$39:$B$66) -> 190134 | G45: =LOOKUP(E45,$A$39:$A$66,$C$39:$C$66) -> 135613
A46: =A14 -> Barcelona | B46: =E14 -> 1278910 | C46: =D14 -> 904953.72 | D46: =_xlfn.RANK.EQ(B46,$B$39:$B$66)+COUNTIF($B$39:$B$66,B46)-1 -> 3 | E46: =INDEX($A$39:$B$66,MATCH(ROW()-38,$D$39:$D$66,0),1) -> Vigo | F46: =LOOKUP(E46,$A$39:$A$66,$B$39:$B$66) -> 63681 | G46: =LOOKUP(E46,$A$39:$A$66,$C$39:$C$66) -> 60624
A47: =A15 -> Bilbao | B47: =E15 -> 60683 | C47: =D15 -> 53558 | D47: =_xlfn.RANK.EQ(B47,$B$39:$B$66)+COUNTIF($B$39:$B$66,B47)-1 -> 9 | E47: =INDEX($A$39:$B$66,MATCH(ROW()-38,$D$39:$D$66,0),1) -> Bilbao | F47: =LOOKUP(E47,$A$39:$A$66,$B$39:$B$66) -> 60683 | G47: =LOOKUP(E47,$A$39:$A$66,$C$39:$C$66) -> 53558
A48: =A16 -> Cartagena | B48: =E16 -> 16360 | C48: =D16 -> 19635 | D48: =_xlfn.RANK.EQ(B48,$B$39:$B$66)+COUNTIF($B$39:$B$66,B48)-1 -> 18 | E48: =INDEX($A$39:$B$66,MATCH(ROW()-38,$D$39:$D$66,0),1) -> Tarragona | F48: =LOOKUP(E48,$A$39:$A$66,$B$39:$B$66) -> 53788 | G48: =LOOKUP(E48,$A$39:$A$66,$C$39:$C$66) -> 20156
A49: =A17 -> Castellón | B49: =E17 -> 0 | C49: =D17 -> 0 | D49: =_xlfn.RANK.EQ(B49,$B$39:$B$66)+COUNTIF($B$39:$B$66,B49)-1 -> 28 | E49: =INDEX($A$39:$B$66,MATCH(ROW()-38,$D$39:$D$66,0),1) -> Gijón | F49: =LOOKUP(E49,$A$39:$A$66,$B$39:$B$66) -> 34322 | G49: =LOOKUP(E49,$A$39:$A$66,$C$39:$C$66) -> 19313
A50: =A18 -> Ceuta | B50: =E18 -> 464192 | C50: =D18 -> 541380 | D50: =_xlfn.RANK.EQ(B50,$B$39:$B$66)+COUNTIF($B$39:$B$66,B50)-1 -> 4 | E50: =INDEX($A$39:$B$66,MATCH(ROW()-38,$D$39:$D$66,0),1) -> Bahía de Cádiz | F50: =LOOKUP(E50,$A$39:$A$66,$B$39:$B$66) -> 33374 | G50: =LOOKUP(E50,$A$39:$A$66,$C$39:$C$66) -> 21568
... A66: =A34 -> Vilagarcía | B66: =E34 -> 1794 | C66: =D34 -> 1702 | D66: =_xlfn.RANK.EQ(B66,$B$39:$B$66)+COUNTIF($B$39:$B$66,B66)-1 -> 26 | E66: =INDEX($A$39:$B$66,MATCH(ROW()-38,$D$39:$D$66,0),1) -> Castellón | F66: =LOOKUP(E66,$A$39:$A$66,$B$39:$B$66) -> 0 | G66: =LOOKUP(E66,$A$39:$A$66,$C$39:$C$66) -> 0

Sheet Tráfico interior
F1: 7. TRÁFICO INTERIOR (toneladas)
A5: Autoridad Portuaria | B5: ='Resumen general'!D6 -> Mes diciembre | D5: ='Resumen general'!F6 -> Acumulado desde enero | L5: ='Resumen general'!I4 -> Fecha: 30/01/2023
B6: ='Resumen general'!D7 -> 2020 | C6: ='Resumen general'!E7 -> 2021 | D6: ='Resumen general'!F7 -> 2020 | E6: ='Resumen general'!G7 -> 2021 | F6: Var. (%)
A7: A Coruña | B7: 0 | C7: 0 | D7: 0 | E7: 619 | F7: =((E7*100)/D7)-100 -> #DIV/0!
A8: Alicante | B8: 0 | C8: 0 | D8: 0 | E8: 0 | F8: =((E8*100)/D8)-100 -> #DIV/0!
A9: Almería | B9: 0 | C9: 0 | D9: 0 | E9: 0 | F9: =((E9*100)/D9)-100 -> #DIV/0!
A10: Avilés | B10: 0 | C10: 0 | D10: 0 | E10: 10001 | F10: =((E10*100)/D10)-100 -> #DIV/0!
A11: Bahía de Algeciras | B11: 152960 | C11: 287127 | D11: 1744400.2 | E11: 2588251 | F11: =((E11*100)/D11)-100 -> 48.374841
A12: Bahía de Cádiz | B12: 0 | C12: 0 | D12: 0 | E12: 0 | F12: =((E12*100)/D12)-100 -> #DIV/0!
A13: Baleares | B13: 0 | C13: 0 | D13: 0 | E13: 0 | F13: =((E13*100)/D13)-100 -> #DIV/0!
A14: Barcelona | B14: 0 | C14: 0 | D14: 0 | E14: 0 | F14: =((E14*100)/D14)-100 -> #DIV/0!
A15: Bilbao | B15: 0 | C15: 0 | D15: 0 | E15: 0 | F15: =((E15*100)/D15)-100 -> #DIV/0!
A16: Cartagena | B16: 0 | C16: 0 | D16: 0 | E16: 0 | F16: =((E16*100)/D16)-100 -> #DIV/0!
A17: Castellón | B17: 0 | C17: 0 | D17: 0 | E17: 0 | F17: =((E17*100)/D17)-100 -> #DIV/0!
A18: Ceuta | B18: 0 | C18: 0 | D18: 0 | E18: 0 | F18: =((E18*100)/D18)-100 -> #DIV/0!
... A34: Vilagarcía | B34: 0 | C34: 0 | D34: 0 | E34: 0 | F34: =((E34*100)/D34)-100 -> #DIV/0!
A35: Total | B35: =SUM(B7:B34) -> 163089 | C35: =SUM(C7:C34) -> 303068 | D35: =SUM(D7:D34) -> 1934642.2 | E35: =SUM(E7:E34) -> 2681785 | F35: =((E35*100)/D35)-100 -> 38.619173
A36: Incluye cargas, descargas, tránsitos y transbordos.
B38: =E6 -> 2021 | C38: =D6 -> 2020 | F38: =B38 -> 2021 | G38: =C38 -> 2020
A39: =A7 -> A Coruña | B39: =E7 -> 619 | C39: =D7 -> 0 | D39: =_xlfn.RANK.EQ(B39,$B$39:$B$66)+COUNTIF($B$39:$B$66,B39)-1 -> 7 | E39: =INDEX($A$39:$B$66,MATCH(ROW()-38,$D$39:$D$66,0),1) -> Bahía de Algeciras | F39: =LOOKUP(E39,$A$39:$A$66,$B$39:$B$66) -> 2588251 | G39: =LOOKUP(E39,$A$39:$A$66,$C$39:$C$66) -> 1744400.2
A40: =A8 -> Alicante | B40: =E8 -> 0 | C40: =D8 -> 0 | D40: =_xlfn.RANK.EQ(B40,$B$39:$B$66)+COUNTIF($B$39:$B$66,B40)-1 -> 28 | E40: =INDEX($A$39:$B$66,MATCH(ROW()-38,$D$39:$D$66,0),1) -> Huelva | F40: =LOOKUP(E40,$A$39:$A$66,$B$39:$B$66) -> 73337 | G40: =LOOKUP(E40,$A$39:$A$66,$C$39:$C$66) -> 89363
A41: =A9 -> Almería | B41: =E9 -> 0 | C41: =D9 -> 0 | D41: =_xlfn.RANK.EQ(B41,$B$39:$B$66)+COUNTIF($B$39:$B$66,B41)-1 -> 28 | E41: =INDEX($A$39:$B$66,MATCH(ROW()-38,$D$39:$D$66,0),1) -> Avilés | F41: =LOOKUP(E41,$A$39:$A$66,$B$39:$B$66) -> 10001 | G41: =LOOKUP(E41,$A$39:$A$66,$C$39:$C$66) -> 0
A42: =A10 -> Avilés | B42: =E10 -> 10001 | C42: =D10 -> 0 | D42: =_xlfn.RANK.EQ(B42,$B$39:$B$66)+COUNTIF($B$39:$B$66,B42)-1 -> 3 | E42: =INDEX($A$39:$B$66,MATCH(ROW()-38,$D$39:$D$66,0),1) -> Ferrol-San Cibrao | F42: =LOOKUP(E42,$A$39:$A$66,$B$39:$B$66) -> 4972 | G42: =LOOKUP(E42,$A$39:$A$66,$C$39:$C$66) -> 0
A43: =A11 -> Bahía de Algeciras | B43: =E11 -> 2588251 | C43: =D11 -> 1744400.2 | D43: =_xlfn.RANK.EQ(B43,$B$39:$B$66)+COUNTIF($B$39:$B$66,B43)-1 -> 1 | E43: =INDEX($A$39:$B$66,MATCH(ROW()-38,$D$39:$D$66,0),1) -> Tarragona | F43: =LOOKUP(E43,$A$39:$A$66,$B$39:$B$66) -> 3570 | G43: =LOOKUP(E43,$A$39:$A$66,$C$39:$C$66) -> 99245
A44: =A12 -> Bahía de Cádiz | B44: =E12 -> 0 | C44: =D12 -> 0 | D44: =_xlfn.RANK.EQ(B44,$B$39:$B$66)+COUNTIF($B$39:$B$66,B44)-1 -> 28 | E44: =INDEX($A$39:$B$66,MATCH(ROW()-38,$D$39:$D$66,0),1) -> Santa Cruz de Tenerife | F44: =LOOKUP(E44,$A$39:$A$66,$B$39:$B$66) -> 1034 | G44: =LOOKUP(E44,$A$39:$A$66,$C$39:$C$66) -> 1534
A45: =A13 -> Baleares | B45: =E13 -> 0 | C45: =D13 -> 0 | D45: =_xlfn.RANK.EQ(B45,$B$39:$B$66)+COUNTIF($B$39:$B$66,B45)-1 -> 28 | E45: =INDEX($A$39:$B$66,MATCH(ROW()-38,$D$39:$D$66,0),1) -> A Coruña | F45: =LOOKUP(E45,$A$39:$A$66,$B$39:$B$66) -> 619 | G45: =LOOKUP(E45,$A$39:$A$66,$C$39:$C$66) -> 0
A46: =A14 -> Barcelona | B46: =E14 -> 0 | C46: =D14 -> 0 | D46: =_xlfn.RANK.EQ(B46,$B$39:$B$66)+COUNTIF($B$39:$B$66,B46)-1 -> 28 | E46: =INDEX($A$39:$B$66,MATCH(ROW()-38,$D$39:$D$66,0),1) -> Las Palmas | F46: =LOOKUP(E46,$A$39:$A$66,$B$39:$B$66) -> 1 | G46: =LOOKUP(E46,$A$39:$A$66,$C$39:$C$66) -> 2
A47: =A15 -> Bilbao | B47: =E15 -> 0 | C47: =D15 -> 0 | D47: =_xlfn.RANK.EQ(B47,$B$39:$B$66)+COUNTIF($B$39:$B$66,B47)-1 -> 28 | E47: =INDEX($A$39:$B$66,MATCH(ROW()-38,$D$39:$D$66,0),1) -> #N/A | F47: =LOOKUP(E47,$A$39:$A$66,$B$39:$B$66) -> #N/A | G47: =LOOKUP(E47,$A$39:$A$66,$C$39:$C$66) -> #N/A
A48: =A16 -> Cartagena | B48: =E16 -> 0 | C48: =D16 -> 0 | D48: =_xlfn.RANK.EQ(B48,$B$39:$B$66)+COUNTIF($B$39:$B$66,B48)-1 -> 28 | E48: MELILLA | F48: =LOOKUP(E48,$A$39:$A$66,$B$39:$B$66) -> 0 | G48: =LOOKUP(E48,$A$39:$A$66,$C$39:$C$66) -> 0
A49: =A17 -> Castellón | B49: =E17 -> 0 | C49: =D17 -> 0 | D49: =_xlfn.RANK.EQ(B49,$B$39:$B$66)+COUNTIF($B$39:$B$66,B49)-1 -> 28 | E49: =INDEX($A$39:$B$66,MATCH(ROW()-38,$D$39:$D$66,0),1) -> #N/A | F49: =LOOKUP(E49,$A$39:$A$66,$B$39:$B$66) -> #N/A | G49: =LOOKUP(E49,$A$39:$A$66,$C$39:$C$66) -> #N/A
A50: =A18 -> Ceuta | B50: =E18 -> 0 | C50: =D18 -> 0 | D50: =_xlfn.RANK.EQ(B50,$B$39:$B$66)+COUNTIF($B$39:$B$66,B50)-1 -> 28 | E50: =INDEX($A$39:$B$66,MATCH(ROW()-38,$D$39:$D$66,0),1) -> #N/A | F50: =LOOKUP(E50,$A$39:$A$66,$B$39:$B$66) -> #N/A | G50: =LOOKUP(E50,$A$39:$A$66,$C$39:$C$66) -> #N/A
A51: =A19 -> Ferrol-San Cibrao | B51: =E19 -> 4972 | C51: =D19 -> 0 | D51: =_xlfn.RANK.EQ(B51,$B$39:$B$66)+COUNTIF($B$39:$B$66,B51)-1 -> 4 | E51: =INDEX($A$39:$B$66,MATCH(ROW()-38,$D$39:$D$66,0),1) -> #N/A | F51: =LOOKUP(E51,$A$39:$A$66,$B$39:$B$66) -> #N/A | G51: =LOOKUP(E51,$A$39:$A$66,$C$39:$C$66) -> #N/A
A52: =A20 -> Gijón | B52: =E20 -> 0 | C52: =D20 -> 98 | D52: =_xlfn.RANK.EQ(B52,$B$39:$B$66)+COUNTIF($B$39:$B$66,B52)-1 -> 28 | E52: =INDEX($A$39:$B$66,MATCH(ROW()-38,$D$39:$D$66,0),1) -> #N/A | F52: =LOOKUP(E52,$A$39:$A$66,$B$39:$B$66) -> #N/A | G52: =LOOKUP(E52,$A$39:$A$66,$C$39:$C$66) -> #N/A
A53: =A21 -> Huelva | B53: =E21 -> 73337 | C53: =D21 -> 89363 | D53: =_xlfn.RANK.EQ(B53,$B$39:$B$66)+COUNTIF($B$39:$B$66,B53)-1 -> 2 | E53: =INDEX($A$39:$B$66,MATCH(ROW()-38,$D$39:$D$66,0),1) -> #N/A | F53: =LOOKUP(E53,$A$39:$A$66,$B$39:$B$66) -> #N/A | G53: =LOOKUP(E53,$A$39:$A$66,$C$39:$C$66) -> #N/A
A54: =A22 -> Las Palmas | B54: =E22 -> 1 | C54: =D22 -> 2 | D54: =_xlfn.RANK.EQ(B54,$B$39:$B$66)+COUNTIF($B$39:$B$66,B54)-1 -> 8 | E54: =INDEX($A$39:$B$66,MATCH(ROW()-38,$D$39:$D$66,0),1) -> #N/A | F54: =LOOKUP(E54,$A$39:$A$66,$B$39:$B$66) -> #N/A | G54: =LOOKUP(E54,$A$39:$A$66,$C$39:$C$66) -> #N/A
A55: =A23 -> Málaga | B55: =E23 -> 0 | C55: =D23 -> 0 | D55: =_xlfn.RANK.EQ(B55,$B$39:$B$66)+COUNTIF($B$39:$B$66,B55)-1 -> 28 | E55: =INDEX($A$39:$B$66,MATCH(ROW()-38,$D$39:$D$66,0),1) -> #N/A | F55: =LOOKUP(E55,$A$39:$A$66,$B$39:$B$66) -> #N/A | G55: =LOOKUP(E55,$A$39:$A$66,$C$39:$C$66) -> #N/A
A56: =A24 -> Marín y Ría de Pontevedra | B56: =E24 -> 0 | C56: =D24 -> 0 | D56: =_xlfn.RANK.EQ(B56,$B$39:$B$66)+COUNTIF($B$39:$B$66,B56)-1 -> 28 | E56: =INDEX($A$39:$B$66,MATCH(ROW()-38,$D$39:$D$66,0),1) -> #N/A | F56: =LOOKUP(E56,$A$39:$A$66,$B$39:$B$66) -> #N/A | G56: =LOOKUP(E56,$A$39:$A$66,$C$39:$C$66) -> #N/A
A57: =A25 -> Melilla | B57: =E25 -> 0 | C57: =D25 -> 0 | D57: =_xlfn.RANK.EQ(B57,$B$39:$B$66)+COUNTIF($B$39:$B$66,B57)-1 -> 28 | E57: =INDEX($A$39:$B$66,MATCH(ROW()-38,$D$39:$D$66,0),1) -> #N/A | F57: =LOOKUP(E57,$A$39:$A$66,$B$39:$B$66) -> #N/A | G57: =LOOKUP(E57,$A$39:$A$66,$C$39:$C$66) -> #N/A
A58: =A26 -> Motril | B58: =E26 -> 0 | C58: =D26 -> 0 | D58: =_xlfn.RANK.EQ(B58,$B$39:$B$66)+COUNTIF($B$39:$B$66,B58)-1 -> 28 | E58: =INDEX($A$39:$B$66,MATCH(ROW()-38,$D$39:$D$66,0),1) -> #N/A | F58: =LOOKUP(E58,$A$39:$A$66,$B$39:$B$66) -> #N/A | G58: =LOOKUP(E58,$A$39:$A$66,$C$39:$C$66) -> #N/A
A59: =A27 -> Pasaia | B59: =E27 -> 0 | C59: =D27 -> 0 | D59: =_xlfn.RANK.EQ(B59,$B$39:$B$66)+COUNTIF($B$39:$B$66,B59)-1 -> 28 | E59: =INDEX($A$39:$B$66,MATCH(ROW()-38,$D$39:$D$66,0),1) -> #N/A | F59: =LOOKUP(E59,$A$39:$A$66,$B$39:$B$66) -> #N/A | G59: =LOOKUP(E59,$A$39:$A$66,$C$39:$C$66) -> #N/A
A60: =A28 -> Santa Cruz de Tenerife | B60: =E28 -> 1034 | C60: =D28 -> 1534 | D60: =_xlfn.RANK.EQ(B60,$B$39:$B$66)+COUNTIF($B$39:$B$66,B60)-1 -> 6 | E60: =INDEX($A$39:$B$66,MATCH(ROW()-38,$D$39:$D$66,0),1) -> #N/A | F60: =LOOKUP(E60,$A$39:$A$66,$B$39:$B$66) -> #N/A | G60: =LOOKUP(E60,$A$39:$A$66,$C$39:$C$66) -> #N/A
... A66: =A34 -> Vilagarcía | B66: =E34 -> 0 | C66: =D34 -> 0 | D66: =_xlfn.RANK.EQ(B66,$B$39:$B$66)+COUNTIF($B$39:$B$66,B66)-1 -> 28 | E66: =INDEX($A$39:$B$66,MATCH(ROW()-38,$D$39:$D$66,0),1) -> Alicante | F66: =LOOKUP(E66,$A$39:$A$66,$B$39:$B$66) -> 0 | G66: =LOOKUP(E66,$A$39:$A$66,$C$39:$C$66) -> 0

Sheet Mercancías tránsito
F1: 8. MERCANCÍAS EN TRÁNSITO (toneladas)
A5: Autoridad Portuaria | B5: ='Resumen general'!D6 -> Mes diciembre | D5: ='Resumen general'!F6 -> Acumulado desde enero | L5: ='Resumen general'!I4 -> Fecha: 30/01/2023
B6: ='Resumen general'!D7 -> 2020 | C6: ='Resumen general'!E7 -> 2021 | D6: ='Resumen general'!F7 -> 2020 | E6: ='Resumen general'!G7 -> 2021 | F6: Var. (%)
A7: A Coruña | B7: 0 | C7: 0 | D7: 73725 | E7: 0 | F7: =((E7*100)/D7)-100 -> -100
A8: Alicante | B8: 1136 | C8: 2987 | D8: 44227.38 | E8: 27100 | F8: =((E8*100)/D8)-100 -> -38.72574
A9: Almería | B9: 44 | C9: 0 | D9: 553 | E9: 2 | F9: =((E9*100)/D9)-100 -> -99.638336
A10: Avilés | B10: 0 | C10: 3005 | D10: 2964 | E10: 4765 | F10: =((E10*100)/D10)-100 -> 60.762483
A11: Bahía de Algeciras | B11: 5953492 | C11: 5371965 | D11: 73786102 | E11: 65954089 | F11: =((E11*100)/D11)-100 -> -10.614483
A12: Bahía de Cádiz | B12: 166354 | C12: 165977 | D12: 1628064 | E12: 1636471 | F12: =((E12*100)/D12)-100 -> 0.51638019
A13: Baleares | B13: 788 | C13: 641 | D13: 6050 | E13: 15904 | F13: =((E13*100)/D13)-100 -> 162.87603
A14: Barcelona | B14: 2514574 | C14: 2004756 | D14: 20160357 | E14: 22944117 | F14: =((E14*100)/D14)-100 -> 13.808087
A15: Bilbao | B15: 106 | C15: 7131 | D15: 88888 | E15: 51915 | F15: =((E15*100)/D15)-100 -> -41.595041
A16: Cartagena | B16: 0 | C16: 0 | D16: 113472 | E16: 67943 | F16: =((E16*100)/D16)-100 -> -40.123555
A17: Castellón | B17: 3800 | C17: 10870 | D17: 42215 | E17: 76435 | F17: =((E17*100)/D17)-100 -> 81.061234
A18: Ceuta | B18: 0 | C18: 0 | D18: 0 | E18: 37 | F18: =((E18*100)/D18)-100 -> #DIV/0!
... A34: Vilagarcía | B34: 267 | C34: 33 | D34: 6297.4 | E34: 8365 | F34: =((E34*100)/D34)-100 -> 32.832598
A35: Total | B35: =SUM(B7:B34) -> 13807486 | C35: =SUM(C7:C34) -> 12188800 | D35: =SUM(D7:D34) -> 1.5637118e+08 | E35: =SUM(E7:E34) -> 150220169 | F35: =((E35*100)/D35)-100 -> -3.9335935
A36: No incluye transbordos.
B38: =E6 -> 2021 | C38: =D6 -> 2020 | F38: =B38 -> 2021 | G38: =C38 -> 2020
A39: =A7 -> A Coruña | B39: =E7 -> 0 | C39: =D7 -> 73725 | D39: =_xlfn.RANK.EQ(B39,$B$39:$B$66)+COUNTIF($B$39:$B$66,B39)-1 -> 28 | E39: =INDEX($A$39:$B$66,MATCH(ROW()-38,$D$39:$D$66,0),1) -> Bahía de Algeciras | F39: =LOOKUP(E39,$A$39:$A$66,$B$39:$B$66) -> 65954089 | G39: =LOOKUP(E39,$A$39:$A$66,$C$39:$C$66) -> 73786102
A40: =A8 -> Alicante | B40: =E8 -> 27100 | C40: =D8 -> 44227.38 | D40: =_xlfn.RANK.EQ(B40,$B$39:$B$66)+COUNTIF($B$39:$B$66,B40)-1 -> 17 | E40: =INDEX($A$39:$B$66,MATCH(ROW()-38,$D$39:$D$66,0),1) -> Valencia | F40: =LOOKUP(E40,$A$39:$A$66,$B$39:$B$66) -> 36601812 | G40: =LOOKUP(E40,$A$39:$A$66,$C$39:$C$66) -> 39366648
A41: =A9 -> Almería | B41: =E9 -> 2 | C41: =D9 -> 553 | D41: =_xlfn.RANK.EQ(B41,$B$39:$B$66)+COUNTIF($B$39:$B$66,B41)-1 -> 26 | E41: =INDEX($A$39:$B$66,MATCH(ROW()-38,$D$39:$D$66,0),1) -> Barcelona | F41: =LOOKUP(E41,$A$39:$A$66,$B$39:$B$66) -> 22944117 | G41: =LOOKUP(E41,$A$39:$A$66,$C$39:$C$66) -> 20160357
A42: =A10 -> Avilés | B42: =E10 -> 4765 | C42: =D10 -> 2964 | D42: =_xlfn.RANK.EQ(B42,$B$39:$B$66)+COUNTIF($B$39:$B$66,B42)-1 -> 22 | E42: =INDEX($A$39:$B$66,MATCH(ROW()-38,$D$39:$D$66,0),1) -> Las Palmas | F42: =LOOKUP(E42,$A$39:$A$66,$B$39:$B$66) -> 13593061 | G42: =LOOKUP(E42,$A$39:$A$66,$C$39:$C$66) -> 12073437
A43: =A11 -> Bahía de Algeciras | B43: =E11 -> 65954089 | C43: =D11 -> 73786102 | D43: =_xlfn.RANK.EQ(B43,$B$39:$B$66)+COUNTIF($B$39:$B$66,B43)-1 -> 1 | E43: =INDEX($A$39:$B$66,MATCH(ROW()-38,$D$39:$D$66,0),1) -> Huelva | F43: =LOOKUP(E43,$A$39:$A$66,$B$39:$B$66) -> 2805553 | G43: =LOOKUP(E43,$A$39:$A$66,$C$39:$C$66) -> 2934073
A44: =A12 -> Bahía de Cádiz | B44: =E12 -> 1636471 | C44: =D12 -> 1628064 | D44: =_xlfn.RANK.EQ(B44,$B$39:$B$66)+COUNTIF($B$39:$B$66,B44)-1 -> 8 | E44: =INDEX($A$39:$B$66,MATCH(ROW()-38,$D$39:$D$66,0),1) -> Tarragona | F44: =LOOKUP(E44,$A$39:$A$66,$B$39:$B$66) -> 2603281 | G44: =LOOKUP(E44,$A$39:$A$66,$C$39:$C$66) -> 1412344
A45: =A13 -> Baleares | B45: =E13 -> 15904 | C45: =D13 -> 6050 | D45: =_xlfn.RANK.EQ(B45,$B$39:$B$66)+COUNTIF($B$39:$B$66,B45)-1 -> 18 | E45: =INDEX($A$39:$B$66,MATCH(ROW()-38,$D$39:$D$66,0),1) -> Málaga | F45: =LOOKUP(E45,$A$39:$A$66,$B$39:$B$66) -> 2093769 | G45: =LOOKUP(E45,$A$39:$A$66,$C$39:$C$66) -> 403133
A46: =A14 -> Barcelona | B46: =E14 -> 22944117 | C46: =D14 -> 20160357 | D46: =_xlfn.RANK.EQ(B46,$B$39:$B$66)+COUNTIF($B$39:$B$66,B46)-1 -> 3 | E46: =INDEX($A$39:$B$66,MATCH(ROW()-38,$D$39:$D$66,0),1) -> Bahía de Cádiz | F46: =LOOKUP(E46,$A$39:$A$66,$B$39:$B$66) -> 1636471 | G46: =LOOKUP(E46,$A$39:$A$66,$C$39:$C$66) -> 1628064
A47: =A15 -> Bilbao | B47: =E15 -> 51915 | C47: =D15 -> 88888 | D47: =_xlfn.RANK.EQ(B47,$B$39:$B$66)+COUNTIF($B$39:$B$66,B47)-1 -> 16 | E47: =INDEX($A$39:$B$66,MATCH(ROW()-38,$D$39:$D$66,0),1) -> Santa Cruz de Tenerife | F47: =LOOKUP(E47,$A$39:$A$66,$B$39:$B$66) -> 619076 | G47: =LOOKUP(E47,$A$39:$A$66,$C$39:$C$66) -> 488969.8
A48: =A16 -> Cartagena | B48: =E16 -> 67943 | C48: =D16 -> 113472 | D48: =_xlfn.RANK.EQ(B48,$B$39:$B$66)+COUNTIF($B$39:$B$66,B48)-1 -> 15 | E48: =INDEX($A$39:$B$66,MATCH(ROW()-38,$D$39:$D$66,0),1) -> Gijón | F48: =LOOKUP(E48,$A$39:$A$66,$B$39:$B$66) -> 550519 | G48: =LOOKUP(E48,$A$39:$A$66,$C$39:$C$66) -> 3198813.7
A49: =A17 -> Castellón | B49: =E17 -> 76435 | C49: =D17 -> 42215 | D49: =_xlfn.RANK.EQ(B49,$B$39:$B$66)+COUNTIF($B$39:$B$66,B49)-1 -> 14 | E49: =INDEX($A$39:$B$66,MATCH(ROW()-38,$D$39:$D$66,0),1) -> Vigo | F49: =LOOKUP(E49,$A$39:$A$66,$B$39:$B$66) -> 254450 | G49: =LOOKUP(E49,$A$39:$A$66,$C$39:$C$66) -> 226206.38
A50: =A18 -> Ceuta | B50: =E18 -> 37 | C50: =D18 -> 0 | D50: =_xlfn.RANK.EQ(B50,$B$39:$B$66)+COUNTIF($B$39:$B$66,B50)-1 -> 25 | E50: =INDEX($A$39:$B$66,MATCH(ROW()-38,$D$39:$D$66,0),1) -> Motril | F50: =LOOKUP(E50,$A$39:$A$66,$B$39:$B$66) -> 177362 | G50: =LOOKUP(E50,$A$39:$A$66,$C$39:$C$66) -> 222650
... A66: =A34 -> Vilagarcía | B66: =E34 -> 8365 | C66: =D34 -> 6297.4 | D66: =_xlfn.RANK.EQ(B66,$B$39:$B$66)+COUNTIF($B$39:$B$66,B66)-1 -> 19 | E66: =INDEX($A$39:$B$66,MATCH(ROW()-38,$D$39:$D$66,0),1) -> A Coruña | F66: =LOOKUP(E66,$A$39:$A$66,$B$39:$B$66) -> 0 | G66: =LOOKUP(E66,$A$39:$A$66,$C$39:$C$66) -> 73725

Sheet Mercan. contene. tránsito
F1: 8.1. MERCANCÍAS EN CONTENEDORES EN TRÁNSITO (toneladas)
A5: Autoridad Portuaria | B5: ='Resumen general'!D6 -> Mes diciembre | D5: ='Resumen general'!F6 -> Acumulado desde enero | L5: ='Resumen general'!I4 -> Fecha: 30/01/2023
B6: ='Resumen general'!D7 -> 2020 | C6: ='Resumen general'!E7 -> 2021 | D6: ='Resumen general'!F7 -> 2020 | E6: ='Resumen general'!G7 -> 2021 | F6: Var. (%)
A7: A Coruña | B7: 0 | C7: 0 | D7: 0 | E7: 0 | F7: =((E7*100)/D7)-100 -> #DIV/0!
A8: Alicante | B8: 1136 | C8: 2987 | D8: 43266 | E8: 27100 | F8: =((E8*100)/D8)-100 -> -37.364212
A9: Almería | B9: 44 | C9: 0 | D9: 508 | E9: 2 | F9: =((E9*100)/D9)-100 -> -99.606299
A10: Avilés | B10: 0 | C10: 0 | D10: 0 | E10: 0 | F10: =((E10*100)/D10)-100 -> #DIV/0!
A11: Bahía de Algeciras | B11: 4790755 | C11: 4311824 | D11: 59827039 | E11: 52695003 | F11: =((E11*100)/D11)-100 -> -11.921091
A12: Bahía de Cádiz | B12: 95499 | C12: 36783 | D12: 342063 | E12: 474420 | F12: =((E12*100)/D12)-100 -> 38.693749
A13: Baleares | B13: 5 | C13: 0 | D13: 61.4 | E13: 92 | F13: =((E13*100)/D13)-100 -> 49.837134
A14: Barcelona | B14: 1934618 | C14: 1570865 | D14: 14598693 | E14: 17922205 | F14: =((E14*100)/D14)-100 -> 22.765819
A15: Bilbao | B15: 106 | C15: 7131 | D15: 22065 | E15: 28822 | F15: =((E15*100)/D15)-100 -> 30.623159
A16: Cartagena | B16: 0 | C16: 0 | D16: 2825 | E16: 136 | F16: =((E16*100)/D16)-100 -> -95.185841
A17: Castellón | B17: 3800 | C17: 10816 | D17: 42167 | E17: 74519 | F17: =((E17*100)/D17)-100 -> 76.723504
A18: Ceuta | B18: 0 | C18: 0 | D18: 0 | E18: 29 | F18: =((E18*100)/D18)-100 -> #DIV/0!
... A34: Vilagarcía | B34: 267 | C34: 33 | D34: 2232 | E34: 1180 | F34: =((E34*100)/D34)-100 -> -47.132616
A35: Total | B35: =SUM(B7:B34) -> 11250330 | C35: =SUM(C7:C34) -> 9828584 | D35: =SUM(D7:D34) -> 1.2242328e+08 | E35: =SUM(E7:E34) -> 118858394 | F35: =((E35*100)/D35)-100 -> -2.9119336
A36: No incluye transbordos.
B38: =E6 -> 2021 | C38: =D6 -> 2020 | F38: =B38 -> 2021 | G38: =C38 -> 2020
A39: =A7 -> A Coruña | B39: =E7 -> 0 | C39: =D7 -> 0 | D39: =_xlfn.RANK.EQ(B39,$B$39:$B$66)+COUNTIF($B$39:$B$66,B39)-1 -> 28 | E39: =INDEX($A$39:$B$66,MATCH(ROW()-38,$D$39:$D$66,0),1) -> Bahía de Algeciras | F39: =LOOKUP(E39,$A$39:$A$66,$B$39:$B$66) -> 52695003 | G39: =LOOKUP(E39,$A$39:$A$66,$C$39:$C$66) -> 59827039
A40: =A8 -> Alicante | B40: =E8 -> 27100 | C40: =D8 -> 43266 | D40: =_xlfn.RANK.EQ(B40,$B$39:$B$66)+COUNTIF($B$39:$B$66,B40)-1 -> 11 | E40: =INDEX($A$39:$B$66,MATCH(ROW()-38,$D$39:$D$66,0),1) -> Valencia | F40: =LOOKUP(E40,$A$39:$A$66,$B$39:$B$66) -> 35900587 | G40: =LOOKUP(E40,$A$39:$A$66,$C$39:$C$66) -> 38993991
A41: =A9 -> Almería | B41: =E9 -> 2 | C41: =D9 -> 508 | D41: =_xlfn.RANK.EQ(B41,$B$39:$B$66)+COUNTIF($B$39:$B$66,B41)-1 -> 21 | E41: =INDEX($A$39:$B$66,MATCH(ROW()-38,$D$39:$D$66,0),1) -> Barcelona | F41: =LOOKUP(E41,$A$39:$A$66,$B$39:$B$66) -> 17922205 | G41: =LOOKUP(E41,$A$39:$A$66,$C$39:$C$66) -> 14598693
A42: =A10 -> Avilés | B42: =E10 -> 0 | C42: =D10 -> 0 | D42: =_xlfn.RANK.EQ(B42,$B$39:$B$66)+COUNTIF($B$39:$B$66,B42)-1 -> 28 | E42: =INDEX($A$39:$B$66,MATCH(ROW()-38,$D$39:$D$66,0),1) -> Las Palmas | F42: =LOOKUP(E42,$A$39:$A$66,$B$39:$B$66) -> 9036094 | G42: =LOOKUP(E42,$A$39:$A$66,$C$39:$C$66) -> 7645537
A43: =A11 -> Bahía de Algeciras | B43: =E11 -> 52695003 | C43: =D11 -> 59827039 | D43: =_xlfn.RANK.EQ(B43,$B$39:$B$66)+COUNTIF($B$39:$B$66,B43)-1 -> 1 | E43: =INDEX($A$39:$B$66,MATCH(ROW()-38,$D$39:$D$66,0),1) -> Málaga | F43: =LOOKUP(E43,$A$39:$A$66,$B$39:$B$66) -> 1969857 | G43: =LOOKUP(E43,$A$39:$A$66,$C$39:$C$66) -> 326596
A44: =A12 -> Bahía de Cádiz | B44: =E12 -> 474420 | C44: =D12 -> 342063 | D44: =_xlfn.RANK.EQ(B44,$B$39:$B$66)+COUNTIF($B$39:$B$66,B44)-1 -> 7 | E44: =INDEX($A$39:$B$66,MATCH(ROW()-38,$D$39:$D$66,0),1) -> Santa Cruz de Tenerife | F44: =LOOKUP(E44,$A$39:$A$66,$B$39:$B$66) -> 571249 | G44: =LOOKUP(E44,$A$39:$A$66,$C$39:$C$66) -> 408928.5
A45: =A13 -> Baleares | B45: =E13 -> 92 | C45: =D13 -> 61.4 | D45: =_xlfn.RANK.EQ(B45,$B$39:$B$66)+COUNTIF($B$39:$B$66,B45)-1 -> 18 | E45: =INDEX($A$39:$B$66,MATCH(ROW()-38,$D$39:$D$66,0),1) -> Bahía de Cádiz | F45: =LOOKUP(E45,$A$39:$A$66,$B$39:$B$66) -> 474420 | G45: =LOOKUP(E45,$A$39:$A$66,$C$39:$C$66) -> 342063
A46: =A14 -> Barcelona | B46: =E14 -> 17922205 | C46: =D14 -> 14598693 | D46: =_xlfn.RANK.EQ(B46,$B$39:$B$66)+COUNTIF($B$39:$B$66,B46)-1 -> 3 | E46: =INDEX($A$39:$B$66,MATCH(ROW()-38,$D$39:$D$66,0),1) -> Vigo | F46: =LOOKUP(E46,$A$39:$A$66,$B$39:$B$66) -> 145962 | G46: =LOOKUP(E46,$A$39:$A$66,$C$39:$C$66) -> 147215.99
A47: =A15 -> Bilbao | B47: =E15 -> 28822 | C47: =D15 -> 22065 | D47: =_xlfn.RANK.EQ(B47,$B$39:$B$66)+COUNTIF($B$39:$B$66,B47)-1 -> 10 | E47: =INDEX($A$39:$B$66,MATCH(ROW()-38,$D$39:$D$66,0),1) -> Castellón | F47: =LOOKUP(E47,$A$39:$A$66,$B$39:$B$66) -> 74519 | G47: =LOOKUP(E47,$A$39:$A$66,$C$39:$C$66) -> 42167
A48: =A16 -> Cartagena | B48: =E16 -> 136 | C48: =D16 -> 2825 | D48: =_xlfn.RANK.EQ(B48,$B$39:$B$66)+COUNTIF($B$39:$B$66,B48)-1 -> 17 | E48: =INDEX($A$39:$B$66,MATCH(ROW()-38,$D$39:$D$66,0),1) -> Bilbao | F48: =LOOKUP(E48,$A$39:$A$66,$B$39:$B$66) -> 28822 | G48: =LOOKUP(E48,$A$39:$A$66,$C$39:$C$66) -> 22065
A49: =A17 -> Castellón | B49: =E17 -> 74519 | C49: =D17 -> 42167 | D49: =_xlfn.RANK.EQ(B49,$B$39:$B$66)+COUNTIF($B$39:$B$66,B49)-1 -> 9 | E49: =INDEX($A$39:$B$66,MATCH(ROW()-38,$D$39:$D$66,0),1) -> Alicante | F49: =LOOKUP(E49,$A$39:$A$66,$B$39:$B$66) -> 27100 | G49: =LOOKUP(E49,$A$39:$A$66,$C$39:$C$66) -> 43266
A50: =A18 -> Ceuta | B50: =E18 -> 29 | C50: =D18 -> 0 | D50: =_xlfn.RANK.EQ(B50,$B$39:$B$66)+COUNTIF($B$39:$B$66,B50)-1 -> 20 | E50: =INDEX($A$39:$B$66,MATCH(ROW()-38,$D$39:$D$66,0),1) -> Marín y Ría de Pontevedra | F50: =LOOKUP(E50,$A$39:$A$66,$B$39:$B$66) -> 7133 | G50: =LOOKUP(E50,$A$39:$A$66,$C$39:$C$66) -> 9743
... A66: =A34 -> Vilagarcía | B66: =E34 -> 1180 | C66: =D34 -> 2232 | D66: =_xlfn.RANK.EQ(B66,$B$39:$B$66)+COUNTIF($B$39:$B$66,B66)-1 -> 15 | E66: =INDEX($A$39:$B$66,MATCH(ROW()-38,$D$39:$D$66,0),1) -> A Coruña | F66: =LOOKUP(E66,$A$39:$A$66,$B$39:$B$66) -> 0 | G66: =LOOKUP(E66,$A$39:$A$66,$C$39:$C$66) -> 0

Sheet Ro-Ro
F1: 9. TRÁFICO RO-RO (toneladas)
A5: Autoridad Portuaria | B5: ='Resumen general'!D6 -> Mes diciembre | D5: ='Resumen general'!F6 -> Acumulado desde enero | L5: ='Resumen general'!I4 -> Fecha: 30/01/2023
B6: ='Resumen general'!D7 -> 2020 | C6: ='Resumen general'!E7 -> 2021 | D6: ='Resumen general'!F7 -> 2020 | E6: ='Resumen general'!G7 -> 2021 | F6: Var. (%)
A7: A Coruña | B7: 0 | C7: 0 | D7: 0 | E7: 0 | F7: =((E7*100)/D7)-100 -> #DIV/0!
A8: Alicante | B8: 11908 | C8: 22 | D8: 49980 | E8: 10271 | F8: =((E8*100)/D8)-100 -> -79.44978
A9: Almería | B9: 66442 | C9: 92882 | D9: 654554 | E9: 856229 | F9: =((E9*100)/D9)-100 -> 30.811056
A10: Avilés | B10: 0 | C10: 0 | D10: 0 | E10: 0 | F10: =((E10*100)/D10)-100 -> #DIV/0!
A11: Bahía de Algeciras | B11: 884226 | C11: 1242756 | D11: 9141084.1 | E11: 11696222 | F11: =((E11*100)/D11)-100 -> 27.952242
A12: Bahía de Cádiz | B12: 54514 | C12: 64196 | D12: 765026 | E12: 748495 | F12: =((E12*100)/D12)-100 -> -2.1608416
A13: Baleares | B13: 858157 | C13: 1020065 | D13: 10712184 | E13: 12154705 | F13: =((E13*100)/D13)-100 -> 13.466171
A14: Barcelona | B14: 815774 | C14: 868817 | D14: 9668363.2 | E14: 11091756 | F14: =((E14*100)/D14)-100 -> 14.72217
A15: Bilbao | B15: 47399 | C15: 86611 | D15: 717321 | E15: 896437 | F15: =((E15*100)/D15)-100 -> 24.970132
A16: Cartagena | B16: 0 | C16: 0 | D16: 0 | E16: 2154 | F16: =((E16*100)/D16)-100 -> #DIV/0!
A17: Castellón | B17: 49181 | C17: 46682 | D17: 430745 | E17: 410864 | F17: =((E17*100)/D17)-100 -> -4.6154918
A18: Ceuta | B18: 47909 | C18: 47290 | D18: 557712 | E18: 595261 | F18: =((E18*100)/D18)-100 -> 6.7326864
... A34: Vilagarcía | B34: 0 | C34: 0 | D34: 0 | E34: 0 | F34: =((E34*100)/D34)-100 -> #DIV/0!
A35: Total | B35: =SUM(B7:B34) -> 4906854 | C35: =SUM(C7:C34) -> 5577079 | D35: =SUM(D7:D34) -> 57079524 | E35: =SUM(E7:E34) -> 65293057 | F35: =((E35*100)/D35)-100 -> 14.389632
A36: Incluye cargas, descargas, tránsitos y transbordos.
B38: =E6 -> 2021 | C38: =D6 -> 2020 | F38: =B38 -> 2021 | G38: =C38 -> 2020
A39: =A7 -> A Coruña | B39: =E7 -> 0 | C39: =D7 -> 0 | D39: =_xlfn.RANK.EQ(B39,$B$39:$B$66)+COUNTIF($B$39:$B$66,B39)-1 -> 28 | E39: =INDEX($A$39:$B$66,MATCH(ROW()-38,$D$39:$D$66,0),1) -> Valencia | F39: =LOOKUP(E39,$A$39:$A$66,$B$39:$B$66) -> 12863187 | G39: =LOOKUP(E39,$A$39:$A$66,$C$39:$C$66) -> 11223554
A40: =A8 -> Alicante | B40: =E8 -> 10271 | C40: =D8 -> 49980 | D40: =_xlfn.RANK.EQ(B40,$B$39:$B$66)+COUNTIF($B$39:$B$66,B40)-1 -> 22 | E40: =INDEX($A$39:$B$66,MATCH(ROW()-38,$D$39:$D$66,0),1) -> Baleares | F40: =LOOKUP(E40,$A$39:$A$66,$B$39:$B$66) -> 12154705 | G40: =LOOKUP(E40,$A$39:$A$66,$C$39:$C$66) -> 10712184
A41: =A9 -> Almería | B41: =E9 -> 856229 | C41: =D9 -> 654554 | D41: =_xlfn.RANK.EQ(B41,$B$39:$B$66)+COUNTIF($B$39:$B$66,B41)-1 -> 10 | E41: =INDEX($A$39:$B$66,MATCH(ROW()-38,$D$39:$D$66,0),1) -> Bahía de Algeciras | F41: =LOOKUP(E41,$A$39:$A$66,$B$39:$B$66) -> 11696222 | G41: =LOOKUP(E41,$A$39:$A$66,$C$39:$C$66) -> 9141084.1
A42: =A10 -> Avilés | B42: =E10 -> 0 | C42: =D10 -> 0 | D42: =_xlfn.RANK.EQ(B42,$B$39:$B$66)+COUNTIF($B$39:$B$66,B42)-1 -> 28 | E42: =INDEX($A$39:$B$66,MATCH(ROW()-38,$D$39:$D$66,0),1) -> Barcelona | F42: =LOOKUP(E42,$A$39:$A$66,$B$39:$B$66) -> 11091756 | G42: =LOOKUP(E42,$A$39:$A$66,$C$39:$C$66) -> 9668363.2
A43: =A11 -> Bahía de Algeciras | B43: =E11 -> 11696222 | C43: =D11 -> 9141084.1 | D43: =_xlfn.RANK.EQ(B43,$B$39:$B$66)+COUNTIF($B$39:$B$66,B43)-1 -> 3 | E43: =INDEX($A$39:$B$66,MATCH(ROW()-38,$D$39:$D$66,0),1) -> Las Palmas | F43: =LOOKUP(E43,$A$39:$A$66,$B$39:$B$66) -> 4038354 | G43: =LOOKUP(E43,$A$39:$A$66,$C$39:$C$66) -> 3686305
A44: =A12 -> Bahía de Cádiz | B44: =E12 -> 748495 | C44: =D12 -> 765026 | D44: =_xlfn.RANK.EQ(B44,$B$39:$B$66)+COUNTIF($B$39:$B$66,B44)-1 -> 11 | E44: =INDEX($A$39:$B$66,MATCH(ROW()-38,$D$39:$D$66,0),1) -> Santa Cruz de Tenerife | F44: =LOOKUP(E44,$A$39:$A$66,$B$39:$B$66) -> 3772772 | G44: =LOOKUP(E44,$A$39:$A$66,$C$39:$C$66) -> 3736122
A45: =A13 -> Baleares | B45: =E13 -> 12154705 | C45: =D13 -> 10712184 | D45: =_xlfn.RANK.EQ(B45,$B$39:$B$66)+COUNTIF($B$39:$B$66,B45)-1 -> 2 | E45: =INDEX($A$39:$B$66,MATCH(ROW()-38,$D$39:$D$66,0),1) -> Santander | F45: =LOOKUP(E45,$A$39:$A$66,$B$39:$B$66) -> 2430499 | G45: =LOOKUP(E45,$A$39:$A$66,$C$39:$C$66) -> 2152254
A46: =A14 -> Barcelona | B46: =E14 -> 11091756 | C46: =D14 -> 9668363.2 | D46: =_xlfn.RANK.EQ(B46,$B$39:$B$66)+COUNTIF($B$39:$B$66,B46)-1 -> 4 | E46: =INDEX($A$39:$B$66,MATCH(ROW()-38,$D$39:$D$66,0),1) -> Vigo | F46: =LOOKUP(E46,$A$39:$A$66,$B$39:$B$66) -> 1071527 | G46: =LOOKUP(E46,$A$39:$A$66,$C$39:$C$66) -> 1017609.6
A47: =A15 -> Bilbao | B47: =E15 -> 896437 | C47: =D15 -> 717321 | D47: =_xlfn.RANK.EQ(B47,$B$39:$B$66)+COUNTIF($B$39:$B$66,B47)-1 -> 9 | E47: =INDEX($A$39:$B$66,MATCH(ROW()-38,$D$39:$D$66,0),1) -> Bilbao | F47: =LOOKUP(E47,$A$39:$A$66,$B$39:$B$66) -> 896437 | G47: =LOOKUP(E47,$A$39:$A$66,$C$39:$C$66) -> 717321
A48: =A16 -> Cartagena | B48: =E16 -> 2154 | C48: =D16 -> 0 | D48: =_xlfn.RANK.EQ(B48,$B$39:$B$66)+COUNTIF($B$39:$B$66,B48)-1 -> 23 | E48: =INDEX($A$39:$B$66,MATCH(ROW()-38,$D$39:$D$66,0),1) -> Almería | F48: =LOOKUP(E48,$A$39:$A$66,$B$39:$B$66) -> 856229 | G48: =LOOKUP(E48,$A$39:$A$66,$C$39:$C$66) -> 654554
A49: =A17 -> Castellón | B49: =E17 -> 410864 | C49: =D17 -> 430745 | D49: =_xlfn.RANK.EQ(B49,$B$39:$B$66)+COUNTIF($B$39:$B$66,B49)-1 -> 18 | E49: =INDEX($A$39:$B$66,MATCH(ROW()-38,$D$39:$D$66,0),1) -> Bahía de Cádiz | F49: =LOOKUP(E49,$A$39:$A$66,$B$39:$B$66) -> 748495 | G49: =LOOKUP(E49,$A$39:$A$66,$C$39:$C$66) -> 765026
A50: =A18 -> Ceuta | B50: =E18 -> 595261 | C50: =D18 -> 557712 | D50: =_xlfn.RANK.EQ(B50,$B$39:$B$66)+COUNTIF($B$39:$B$66,B50)-1 -> 12 | E50: =INDEX($A$39:$B$66,MATCH(ROW()-38,$D$39:$D$66,0),1) -> Ceuta | F50: =LOOKUP(E50,$A$39:$A$66,$B$39:$B$66) -> 595261 | G50: =LOOKUP(E50,$A$39:$A$66,$C$39:$C$66) -> 557712
... A66: =A34 -> Vilagarcía | B66: =E34 -> 0 | C66: =D34 -> 0 | D66: =_xlfn.RANK.EQ(B66,$B$39:$B$66)+COUNTIF($B$39:$B$66,B66)-1 -> 28 | E66: =INDEX($A$39:$B$66,MATCH(ROW()-38,$D$39:$D$66,0),1) -> A Coruña | F66: =LOOKUP(E66,$A$39:$A$66,$B$39:$B$66) -> 0 | G66: =LOOKUP(E66,$A$39:$A$66,$C$39:$C$66) -> 0

Sheet Ro-Ro remolques
E1: 9.1. TRÁFICO RO-RO DE REMOLQUES, SEMIRREMOLQUES Y PLATAFORMAS
I2: (unidades)
A5: Autoridad Portuaria | B5: ='Resumen general'!D6 -> Mes diciembre | D5: ='Resumen general'!F6 -> Acumulado desde enero | L5: ='Resumen general'!I4 -> Fecha: 30/01/2023
B6: ='Resumen general'!D7 -> 2020 | C6: ='Resumen general'!E7 -> 2021 | D6: ='Resumen general'!F7 -> 2020 | E6: ='Resumen general'!G7 -> 2021 | F6: Var. (%)
A7: A Coruña | B7: 0 | C7: 0 | D7: 0 | E7: 0 | F7: =((E7*100)/D7)-100 -> #DIV/0!
A8: Alicante | B8: 500 | C8: 0 | D8: 2094 | E8: 413 | F8: =((E8*100)/D8)-100 -> -80.276982
A9: Almería | B9: 1021 | C9: 1456 | D9: 12319 | E9: 16664 | F9: =((E9*100)/D9)-100 -> 35.27072
A10: Avilés | B10: 0 | C10: 0 | D10: 0 | E10: 0 | F10: =((E10*100)/D10)-100 -> #DIV/0!
A11: Bahía de Algeciras | B11: 8526 | C11: 8434 | D11: 103500 | E11: 108522 | F11: =((E11*100)/D11)-100 -> 4.8521739
A12: Bahía de Cádiz | B12: 1456 | C12: 1853 | D12: 20735 | E12: 20241 | F12: =((E12*100)/D12)-100 -> -2.3824451
A13: Baleares | B13: 4305 | C13: 5184 | D13: 21824 | E13: 37447 | F13: =((E13*100)/D13)-100 -> 71.586327
A14: Barcelona | B14: 15450 | C14: 17382 | D14: 181964 | E14: 218546 | F14: =((E14*100)/D14)-100 -> 20.103977
A15: Bilbao | B15: 1628 | C15: 2744 | D15: 17040 | E15: 22346 | F15: =((E15*100)/D15)-100 -> 31.138498
A16: Cartagena | B16: 0 | C16: 0 | D16: 0 | E16: 0 | F16: =((E16*100)/D16)-100 -> #DIV/0!
A17: Castellón | B17: 0 | C17: 5 | D17: 0 | E17: 6 | F17: =((E17*100)/D17)-100 -> #DIV/0!
A18: Ceuta | B18: 1101 | C18: 1131 | D18: 14234 | E18: 14576 | F18: =((E18*100)/D18)-100 -> 2.4026978
... A34: Vilagarcía | B34: 0 | C34: 0 | D34: 0 | E34: 0 | F34: =((E34*100)/D34)-100 -> #DIV/0!
A35: Total | B35: =SUM(B7:B34) -> 90111 | C35: =SUM(C7:C34) -> 102664 | D35: =SUM(D7:D34) -> 1044943 | E35: =SUM(E7:E34) -> 1189083 | F35: =((E35*100)/D35)-100 -> 13.794054
A36: Incluye cargas, descargas, tránsitos y transbordos.
B38: =E6 -> 2021 | C38: =D6 -> 2020 | F38: =B38 -> 2021 | G38: =C38 -> 2020
A39: =A7 -> A Coruña | B39: =E7 -> 0 | C39: =D7 -> 0 | D39: =_xlfn.RANK.EQ(B39,$B$39:$B$66)+COUNTIF($B$39:$B$66,B39)-1 -> 28 | E39: =INDEX($A$39:$B$66,MATCH(ROW()-38,$D$39:$D$66,0),1) -> Valencia | F39: =LOOKUP(E39,$A$39:$A$66,$B$39:$B$66) -> 340064 | G39: =LOOKUP(E39,$A$39:$A$66,$C$39:$C$66) -> 289253
A40: =A8 -> Alicante | B40: =E8 -> 413 | C40: =D8 -> 2094 | D40: =_xlfn.RANK.EQ(B40,$B$39:$B$66)+COUNTIF($B$39:$B$66,B40)-1 -> 20 | E40: =INDEX($A$39:$B$66,MATCH(ROW()-38,$D$39:$D$66,0),1) -> Barcelona | F40: =LOOKUP(E40,$A$39:$A$66,$B$39:$B$66) -> 218546 | G40: =LOOKUP(E40,$A$39:$A$66,$C$39:$C$66) -> 181964
A41: =A9 -> Almería | B41: =E9 -> 16664 | C41: =D9 -> 12319 | D41: =_xlfn.RANK.EQ(B41,$B$39:$B$66)+COUNTIF($B$39:$B$66,B41)-1 -> 13 | E41: =INDEX($A$39:$B$66,MATCH(ROW()-38,$D$39:$D$66,0),1) -> Las Palmas | F41: =LOOKUP(E41,$A$39:$A$66,$B$39:$B$66) -> 153458 | G41: =LOOKUP(E41,$A$39:$A$66,$C$39:$C$66) -> 137353
A42: =A10 -> Avilés | B42: =E10 -> 0 | C42: =D10 -> 0 | D42: =_xlfn.RANK.EQ(B42,$B$39:$B$66)+COUNTIF($B$39:$B$66,B42)-1 -> 28 | E42: =INDEX($A$39:$B$66,MATCH(ROW()-38,$D$39:$D$66,0),1) -> Santa Cruz de Tenerife | F42: =LOOKUP(E42,$A$39:$A$66,$B$39:$B$66) -> 116986 | G42: =LOOKUP(E42,$A$39:$A$66,$C$39:$C$66) -> 118006
A43: =A11 -> Bahía de Algeciras | B43: =E11 -> 108522 | C43: =D11 -> 103500 | D43: =_xlfn.RANK.EQ(B43,$B$39:$B$66)+COUNTIF($B$39:$B$66,B43)-1 -> 5 | E43: =INDEX($A$39:$B$66,MATCH(ROW()-38,$D$39:$D$66,0),1) -> Bahía de Algeciras | F43: =LOOKUP(E43,$A$39:$A$66,$B$39:$B$66) -> 108522 | G43: =LOOKUP(E43,$A$39:$A$66,$C$39:$C$66) -> 103500
A44: =A12 -> Bahía de Cádiz | B44: =E12 -> 20241 | C44: =D12 -> 20735 | D44: =_xlfn.RANK.EQ(B44,$B$39:$B$66)+COUNTIF($B$39:$B$66,B44)-1 -> 11 | E44: =INDEX($A$39:$B$66,MATCH(ROW()-38,$D$39:$D$66,0),1) -> Santander | F44: =LOOKUP(E44,$A$39:$A$66,$B$39:$B$66) -> 40292 | G44: =LOOKUP(E44,$A$39:$A$66,$C$39:$C$66) -> 34429
A45: =A13 -> Baleares | B45: =E13 -> 37447 | C45: =D13 -> 21824 | D45: =_xlfn.RANK.EQ(B45,$B$39:$B$66)+COUNTIF($B$39:$B$66,B45)-1 -> 7 | E45: =INDEX($A$39:$B$66,MATCH(ROW()-38,$D$39:$D$66,0),1) -> Baleares | F45: =LOOKUP(E45,$A$39:$A$66,$B$39:$B$66) -> 37447 | G45: =LOOKUP(E45,$A$39:$A$66,$C$39:$C$66) -> 21824
A46: =A14 -> Barcelona | B46: =E14 -> 218546 | C46: =D14 -> 181964 | D46: =_xlfn.RANK.EQ(B46,$B$39:$B$66)+COUNTIF($B$39:$B$66,B46)-1 -> 2 | E46: =INDEX($A$39:$B$66,MATCH(ROW()-38,$D$39:$D$66,0),1) -> Huelva | F46: =LOOKUP(E46,$A$39:$A$66,$B$39:$B$66) -> 22716 | G46: =LOOKUP(E46,$A$39:$A$66,$C$39:$C$66) -> 23510
A47: =A15 -> Bilbao | B47: =E15 -> 22346 | C47: =D15 -> 17040 | D47: =_xlfn.RANK.EQ(B47,$B$39:$B$66)+COUNTIF($B$39:$B$66,B47)-1 -> 9 | E47: =INDEX($A$39:$B$66,MATCH(ROW()-38,$D$39:$D$66,0),1) -> Bilbao | F47: =LOOKUP(E47,$A$39:$A$66,$B$39:$B$66) -> 22346 | G47: =LOOKUP(E47,$A$39:$A$66,$C$39:$C$66) -> 17040
A48: =A16 -> Cartagena | B48: =E16 -> 0 | C48: =D16 -> 0 | D48: =_xlfn.RANK.EQ(B48,$B$39:$B$66)+COUNTIF($B$39:$B$66,B48)-1 -> 28 | E48: =INDEX($A$39:$B$66,MATCH(ROW()-38,$D$39:$D$66,0),1) -> Melilla | F48: =LOOKUP(E48,$A$39:$A$66,$B$39:$B$66) -> 21843 | G48: =LOOKUP(E48,$A$39:$A$66,$C$39:$C$66) -> 21115
A49: =A17 -> Castellón | B49: =E17 -> 6 | C49: =D17 -> 0 | D49: =_xlfn.RANK.EQ(B49,$B$39:$B$66)+COUNTIF($B$39:$B$66,B49)-1 -> 21 | E49: =INDEX($A$39:$B$66,MATCH(ROW()-38,$D$39:$D$66,0),1) -> Bahía de Cádiz | F49: =LOOKUP(E49,$A$39:$A$66,$B$39:$B$66) -> 20241 | G49: =LOOKUP(E49,$A$39:$A$66,$C$39:$C$66) -> 20735
A50: =A18 -> Ceuta | B50: =E18 -> 14576 | C50: =D18 -> 14234 | D50: =_xlfn.RANK.EQ(B50,$B$39:$B$66)+COUNTIF($B$39:$B$66,B50)-1 -> 14 | E50: =INDEX($A$39:$B$66,MATCH(ROW()-38,$D$39:$D$66,0),1) -> Málaga | F50: =LOOKUP(E50,$A$39:$A$66,$B$39:$B$66) -> 20033 | G50: =LOOKUP(E50,$A$39:$A$66,$C$39:$C$66) -> 19358
... A66: =A34 -> Vilagarcía | B66: =E34 -> 0 | C66: =D34 -> 0 | D66: =_xlfn.RANK.EQ(B66,$B$39:$B$66)+COUNTIF($B$39:$B$66,B66)-1 -> 28 | E66: =INDEX($A$39:$B$66,MATCH(ROW()-38,$D$39:$D$66,0),1) -> A Coruña | F66: =LOOKUP(E66,$A$39:$A$66,$B$39:$B$66) -> 0 | G66: =LOOKUP(E66,$A$39:$A$66,$C$39:$C$66) -> 0

Sheet TEUS
F1: 10. CONTENEDORES (TEUS)
A5: Autoridad Portuaria | B5: ='Resumen general'!D6 -> Mes diciembre | D5: ='Resumen general'!F6 -> Acumulado desde enero | L5: ='Resumen general'!I4 -> Fecha: 30/01/2023
B6: ='Resumen general'!D7 -> 2020 | C6: ='Resumen general'!E7 -> 2021 | D6: ='Resumen general'!F7 -> 2020 | E6: ='Resumen general'!G7 -> 2021 | F6: Var. (%)
A7: A Coruña | B7: 0 | C7: 0 | D7: 3 | E7: 3 | F7: =((E7*100)/D7)-100 -> 0
A8: Alicante | B8: 13711 | C8: 18788 | D8: 158031 | E8: 173058 | F8: =((E8*100)/D8)-100 -> 9.5088938
A9: Almería | B9: 2110 | C9: 1899 | D9: 23924 | E9: 25270 | F9: =((E9*100)/D9)-100 -> 5.6261495
A10: Avilés | B10: 0 | C10: 0 | D10: 0 | E10: 22 | F10: =((E10*100)/D10)-100 -> #DIV/0!
A11: Bahía de Algeciras | B11: 406218 | C11: 404312 | D11: 5107873 | E11: 4799497 | F11: =((E11*100)/D11)-100 -> -6.0372684
A12: Bahía de Cádiz | B12: 21745 | C12: 18472 | D12: 108914 | E12: 214868 | F12: =((E12*100)/D12)-100 -> 97.282259
A13: Baleares | B13: 7653 | C13: 7840 | D13: 91883 | E13: 106942 | F13: =((E13*100)/D13)-100 -> 16.389321
A14: Barcelona | B14: 306805 | C14: 301553 | D14: 2958039.5 | E14: 3531324 | F14: =((E14*100)/D14)-100 -> 19.380555
A15: Bilbao | B15: 29387 | C15: 43716 | D15: 485776.6 | E15: 538917 | F15: =((E15*100)/D15)-100 -> 10.939267
A16: Cartagena | B16: 4236 | C16: 3151 | D16: 57072 | E16: 50579 | F16: =((E16*100)/D16)-100 -> -11.376857
A17: Castellón | B17: 12339 | C17: 10113 | D17: 130972 | E17: 129877 | F17: =((E17*100)/D17)-100 -> -0.83605656
A18: Ceuta | B18: 576 | C18: 491 | D18: 6020 | E18: 5874 | F18: =((E18*100)/D18)-100 -> -2.4252492
... A34: Vilagarcía | B34: 2955 | C34: 2528 | D34: 35890 | E34: 33937 | F34: =((E34*100)/D34)-100 -> -5.4416272
A35: Total | B35: =SUM(B7:B34) -> 1495291 | C35: =SUM(C7:C34) -> 1479592 | D35: =SUM(D7:D34) -> 16792659 | E35: =SUM(E7:E34) -> 17735438 | F35: =((E35*100)/D35)-100 -> 5.6142323
A36: Incluye cargas, descargas, tránsitos y transbordos.
B38: =E6 -> 2021 | C38: =D6 -> 2020 | F38: =B38 -> 2021 | G38: =C38 -> 2020
A39: =A7 -> A Coruña | B39: =E7 -> 3 | C39: =D7 -> 3 | D39: =_xlfn.RANK.EQ(B39,$B$39:$B$66)+COUNTIF($B$39:$B$66,B39)-1 -> 26 | E39: =INDEX($A$39:$B$66,MATCH(ROW()-38,$D$39:$D$66,0),1) -> Valencia | F39: =LOOKUP(E39,$A$39:$A$66,$B$39:$B$66) -> 5604478 | G39: =LOOKUP(E39,$A$39:$A$66,$C$39:$C$66) -> 5428307
A40: =A8 -> Alicante | B40: =E8 -> 173058 | C40: =D8 -> 158031 | D40: =_xlfn.RANK.EQ(B40,$B$39:$B$66)+COUNTIF($B$39:$B$66,B40)-1 -> 10 | E40: =INDEX($A$39:$B$66,MATCH(ROW()-38,$D$39:$D$66,0),1) -> Bahía de Algeciras | F40: =LOOKUP(E40,$A$39:$A$66,$B$39:$B$66) -> 4799497 | G40: =LOOKUP(E40,$A$39:$A$66,$C$39:$C$66) -> 5107873
A41: =A9 -> Almería | B41: =E9 -> 25270 | C41: =D9 -> 23924 | D41: =_xlfn.RANK.EQ(B41,$B$39:$B$66)+COUNTIF($B$39:$B$66,B41)-1 -> 21 | E41: =INDEX($A$39:$B$66,MATCH(ROW()-38,$D$39:$D$66,0),1) -> Barcelona | F41: =LOOKUP(E41,$A$39:$A$66,$B$39:$B$66) -> 3531324 | G41: =LOOKUP(E41,$A$39:$A$66,$C$39:$C$66) -> 2958039.5
A42: =A10 -> Avilés | B42: =E10 -> 22 | C42: =D10 -> 0 | D42: =_xlfn.RANK.EQ(B42,$B$39:$B$66)+COUNTIF($B$39:$B$66,B42)-1 -> 25 | E42: =INDEX($A$39:$B$66,MATCH(ROW()-38,$D$39:$D$66,0),1) -> Las Palmas | F42: =LOOKUP(E42,$A$39:$A$66,$B$39:$B$66) -> 1176501 | G42: =LOOKUP(E42,$A$39:$A$66,$C$39:$C$66) -> 1033486
A43: =A11 -> Bahía de Algeciras | B43: =E11 -> 4799497 | C43: =D11 -> 5107873 | D43: =_xlfn.RANK.EQ(B43,$B$39:$B$66)+COUNTIF($B$39:$B$66,B43)-1 -> 2 | E43: =INDEX($A$39:$B$66,MATCH(ROW()-38,$D$39:$D$66,0),1) -> Bilbao | F43: =LOOKUP(E43,$A$39:$A$66,$B$39:$B$66) -> 538917 | G43: =LOOKUP(E43,$A$39:$A$66,$C$39:$C$66) -> 485776.6
A44: =A12 -> Bahía de Cádiz | B44: =E12 -> 214868 | C44: =D12 -> 108914 | D44: =_xlfn.RANK.EQ(B44,$B$39:$B$66)+COUNTIF($B$39:$B$66,B44)-1 -> 9 | E44: =INDEX($A$39:$B$66,MATCH(ROW()-38,$D$39:$D$66,0),1) -> Santa Cruz de Tenerife | F44: =LOOKUP(E44,$A$39:$A$66,$B$39:$B$66) -> 435909 | G44: =LOOKUP(E44,$A$39:$A$66,$C$39:$C$66) -> 376762
A45: =A13 -> Baleares | B45: =E13 -> 106942 | C45: =D13 -> 91883 | D45: =_xlfn.RANK.EQ(B45,$B$39:$B$66)+COUNTIF($B$39:$B$66,B45)-1 -> 13 | E45: =INDEX($A$39:$B$66,MATCH(ROW()-38,$D$39:$D$66,0),1) -> Vigo | F45: =LOOKUP(E45,$A$39:$A$66,$B$39:$B$66) -> 239302 | G45: =LOOKUP(E45,$A$39:$A$66,$C$39:$C$66) -> 228728
A46: =A14 -> Barcelona | B46: =E14 -> 3531324 | C46: =D14 -> 2958039.5 | D46: =_xlfn.RANK.EQ(B46,$B$39:$B$66)+COUNTIF($B$39:$B$66,B46)-1 -> 3 | E46: =INDEX($A$39:$B$66,MATCH(ROW()-38,$D$39:$D$66,0),1) -> Málaga | F46: =LOOKUP(E46,$A$39:$A$66,$B$39:$B$66) -> 236811 | G46: =LOOKUP(E46,$A$39:$A$66,$C$39:$C$66) -> 123871
A47: =A15 -> Bilbao | B47: =E15 -> 538917 | C47: =D15 -> 485776.6 | D47: =_xlfn.RANK.EQ(B47,$B$39:$B$66)+COUNTIF($B$39:$B$66,B47)-1 -> 5 | E47: =INDEX($A$39:$B$66,MATCH(ROW()-38,$D$39:$D$66,0),1) -> Bahía de Cádiz | F47: =LOOKUP(E47,$A$39:$A$66,$B$39:$B$66) -> 214868 | G47: =LOOKUP(E47,$A$39:$A$66,$C$39:$C$66) -> 108914
A48: =A16 -> Cartagena | B48: =E16 -> 50579 | C48: =D16 -> 57072 | D48: =_xlfn.RANK.EQ(B48,$B$39:$B$66)+COUNTIF($B$39:$B$66,B48)-1 -> 17 | E48: =INDEX($A$39:$B$66,MATCH(ROW()-38,$D$39:$D$66,0),1) -> Alicante | F48: =LOOKUP(E48,$A$39:$A$66,$B$39:$B$66) -> 173058 | G48: =LOOKUP(E48,$A$39:$A$66,$C$39:$C$66) -> 158031
A49: =A17 -> Castellón | B49: =E17 -> 129877 | C49: =D17 -> 130972 | D49: =_xlfn.RANK.EQ(B49,$B$39:$B$66)+COUNTIF($B$39:$B$66,B49)-1 -> 12 | E49: =INDEX($A$39:$B$66,MATCH(ROW()-38,$D$39:$D$66,0),1) -> Sevilla | F49: =LOOKUP(E49,$A$39:$A$66,$B$39:$B$66) -> 135742 | G49: =LOOKUP(E49,$A$39:$A$66,$C$39:$C$66) -> 126163
A50: =A18 -> Ceuta | B50: =E18 -> 5874 | C50: =D18 -> 6020 | D50: =_xlfn.RANK.EQ(B50,$B$39:$B$66)+COUNTIF($B$39:$B$66,B50)-1 -> 24 | E50: =INDEX($A$39:$B$66,MATCH(ROW()-38,$D$39:$D$66,0),1) -> Castellón | F50: =LOOKUP(E50,$A$39:$A$66,$B$39:$B$66) -> 129877 | G50: =LOOKUP(E50,$A$39:$A$66,$C$39:$C$66) -> 130972
... A66: =A34 -> Vilagarcía | B66: =E34 -> 33937 | C66: =D34 -> 35890 | D66: =_xlfn.RANK.EQ(B66,$B$39:$B$66)+COUNTIF($B$39:$B$66,B66)-1 -> 20 | E66: =INDEX($A$39:$B$66,MATCH(ROW()-38,$D$39:$D$66,0),1) -> Motril | F66: =LOOKUP(E66,$A$39:$A$66,$B$39:$B$66) -> 0 | G66: =LOOKUP(E66,$A$39:$A$66,$C$39:$C$66) -> 67

Sheet TEUS tránsito
F1: 10.1. CONTENEDORES EN TRÁNSITO (TEUS)
A5: Autoridad Portuaria | B5: ='Resumen general'!D6 -> Mes diciembre | D5: ='Resumen general'!F6 -> Acumulado desde enero | L5: ='Resumen general'!I4 -> Fecha: 30/01/2023
B6: ='Resumen general'!D7 -> 2020 | C6: ='Resumen general'!E7 -> 2021 | D6: ='Resumen general'!F7 -> 2020 | E6: ='Resumen general'!G7 -> 2021 | F6: Var. (%)
A7: A Coruña | B7: 0 | C7: 0 | D7: 0 | E7: 0 | F7: =((E7*100)/D7)-100 -> #DIV/0!
A8: Alicante | B8: 65 | C8: 150 | D8: 4135 | E8: 2028 | F8: =((E8*100)/D8)-100 -> -50.95526
A9: Almería | B9: 5 | C9: 0 | D9: 55 | E9: 1 | F9: =((E9*100)/D9)-100 -> -98.181818
A10: Avilés | B10: 0 | C10: 0 | D10: 0 | E10: 0 | F10: =((E10*100)/D10)-100 -> #DIV/0!
A11: Bahía de Algeciras | B11: 359578 | C11: 345657 | D11: 4431045 | E11: 4084351 | F11: =((E11*100)/D11)-100 -> -7.824204
A12: Bahía de Cádiz | B12: 11552 | C12: 3247 | D12: 31491 | E12: 45297 | F12: =((E12*100)/D12)-100 -> 43.841097
A13: Baleares | B13: 2 | C13: 0 | D13: 32 | E13: 14 | F13: =((E13*100)/D13)-100 -> -56.25
A14: Barcelona | B14: 145074 | C14: 123252 | D14: 1175230 | E14: 1477242 | F14: =((E14*100)/D14)-100 -> 25.698119
A15: Bilbao | B15: 14 | C15: 493 | D15: 1622 | E15: 2198 | F15: =((E15*100)/D15)-100 -> 35.511714
A16: Cartagena | B16: 0 | C16: 0 | D16: 192 | E16: 68 | F16: =((E16*100)/D16)-100 -> -64.583333
A17: Castellón | B17: 227 | C17: 720 | D17: 3153 | E17: 5782 | F17: =((E17*100)/D17)-100 -> 83.380907
A18: Ceuta | B18: 0 | C18: 0 | D18: 0 | E18: 2 | F18: =((E18*100)/D18)-100 -> #DIV/0!
... A34: Vilagarcía | B34: 24 | C34: 5 | D34: 183 | E34: 99 | F34: =((E34*100)/D34)-100 -> -45.901639
A35: Total | B35: =SUM(B7:B34) -> 859501 | C35: =SUM(C7:C34) -> 781747 | D35: =SUM(D7:D34) -> 9381940 | E35: =SUM(E7:E34) -> 9414175 | F35: =((E35*100)/D35)-100 -> 0.34358565
A36: No incluye transbordos.
B38: =E6 -> 2021 | C38: =D6 -> 2020 | F38: =B38 -> 2021 | G38: =C38 -> 2020
A39: =A7 -> A Coruña | B39: =E7 -> 0 | C39: =D7 -> 0 | D39: =_xlfn.RANK.EQ(B39,$B$39:$B$66)+COUNTIF($B$39:$B$66,B39)-1 -> 28 | E39: =INDEX($A$39:$B$66,MATCH(ROW()-38,$D$39:$D$66,0),1) -> Bahía de Algeciras | F39: =LOOKUP(E39,$A$39:$A$66,$B$39:$B$66) -> 4084351 | G39: =LOOKUP(E39,$A$39:$A$66,$C$39:$C$66) -> 4431045
A40: =A8 -> Alicante | B40: =E8 -> 2028 | C40: =D8 -> 4135 | D40: =_xlfn.RANK.EQ(B40,$B$39:$B$66)+COUNTIF($B$39:$B$66,B40)-1 -> 12 | E40: =INDEX($A$39:$B$66,MATCH(ROW()-38,$D$39:$D$66,0),1) -> Valencia | F40: =LOOKUP(E40,$A$39:$A$66,$B$39:$B$66) -> 2887881 | G40: =LOOKUP(E40,$A$39:$A$66,$C$39:$C$66) -> 3060792
A41: =A9 -> Almería | B41: =E9 -> 1 | C41: =D9 -> 55 | D41: =_xlfn.RANK.EQ(B41,$B$39:$B$66)+COUNTIF($B$39:$B$66,B41)-1 -> 21 | E41: =INDEX($A$39:$B$66,MATCH(ROW()-38,$D$39:$D$66,0),1) -> Barcelona | F41: =LOOKUP(E41,$A$39:$A$66,$B$39:$B$66) -> 1477242 | G41: =LOOKUP(E41,$A$39:$A$66,$C$39:$C$66) -> 1175230
A42: =A10 -> Avilés | B42: =E10 -> 0 | C42: =D10 -> 0 | D42: =_xlfn.RANK.EQ(B42,$B$39:$B$66)+COUNTIF($B$39:$B$66,B42)-1 -> 28 | E42: =INDEX($A$39:$B$66,MATCH(ROW()-38,$D$39:$D$66,0),1) -> Las Palmas | F42: =LOOKUP(E42,$A$39:$A$66,$B$39:$B$66) -> 641757 | G42: =LOOKUP(E42,$A$39:$A$66,$C$39:$C$66) -> 535757
A43: =A11 -> Bahía de Algeciras | B43: =E11 -> 4084351 | C43: =D11 -> 4431045 | D43: =_xlfn.RANK.EQ(B43,$B$39:$B$66)+COUNTIF($B$39:$B$66,B43)-1 -> 1 | E43: =INDEX($A$39:$B$66,MATCH(ROW()-38,$D$39:$D$66,0),1) -> Málaga | F43: =LOOKUP(E43,$A$39:$A$66,$B$39:$B$66) -> 211407 | G43: =LOOKUP(E43,$A$39:$A$66,$C$39:$C$66) -> 97267
A44: =A12 -> Bahía de Cádiz | B44: =E12 -> 45297 | C44: =D12 -> 31491 | D44: =_xlfn.RANK.EQ(B44,$B$39:$B$66)+COUNTIF($B$39:$B$66,B44)-1 -> 6 | E44: =INDEX($A$39:$B$66,MATCH(ROW()-38,$D$39:$D$66,0),1) -> Bahía de Cádiz | F44: =LOOKUP(E44,$A$39:$A$66,$B$39:$B$66) -> 45297 | G44: =LOOKUP(E44,$A$39:$A$66,$C$39:$C$66) -> 31491
A45: =A13 -> Baleares | B45: =E13 -> 14 | C45: =D13 -> 32 | D45: =_xlfn.RANK.EQ(B45,$B$39:$B$66)+COUNTIF($B$39:$B$66,B45)-1 -> 18 | E45: =INDEX($A$39:$B$66,MATCH(ROW()-38,$D$39:$D$66,0),1) -> Santa Cruz de Tenerife | F45: =LOOKUP(E45,$A$39:$A$66,$B$39:$B$66) -> 41413 | G45: =LOOKUP(E45,$A$39:$A$66,$C$39:$C$66) -> 25429
A46: =A14 -> Barcelona | B46: =E14 -> 1477242 | C46: =D14 -> 1175230 | D46: =_xlfn.RANK.EQ(B46,$B$39:$B$66)+COUNTIF($B$39:$B$66,B46)-1 -> 3 | E46: =INDEX($A$39:$B$66,MATCH(ROW()-38,$D$39:$D$66,0),1) -> Vigo | F46: =LOOKUP(E46,$A$39:$A$66,$B$39:$B$66) -> 10895 | G46: =LOOKUP(E46,$A$39:$A$66,$C$39:$C$66) -> 9975
A47: =A15 -> Bilbao | B47: =E15 -> 2198 | C47: =D15 -> 1622 | D47: =_xlfn.RANK.EQ(B47,$B$39:$B$66)+COUNTIF($B$39:$B$66,B47)-1 -> 11 | E47: =INDEX($A$39:$B$66,MATCH(ROW()-38,$D$39:$D$66,0),1) -> Castellón | F47: =LOOKUP(E47,$A$39:$A$66,$B$39:$B$66) -> 5782 | G47: =LOOKUP(E47,$A$39:$A$66,$C$39:$C$66) -> 3153
A48: =A16 -> Cartagena | B48: =E16 -> 68 | C48: =D16 -> 192 | D48: =_xlfn.RANK.EQ(B48,$B$39:$B$66)+COUNTIF($B$39:$B$66,B48)-1 -> 17 | E48: =INDEX($A$39:$B$66,MATCH(ROW()-38,$D$39:$D$66,0),1) -> Marín y Ría de Pontevedra | F48: =LOOKUP(E48,$A$39:$A$66,$B$39:$B$66) -> 3099 | G48: =LOOKUP(E48,$A$39:$A$66,$C$39:$C$66) -> 3713
A49: =A17 -> Castellón | B49: =E17 -> 5782 | C49: =D17 -> 3153 | D49: =_xlfn.RANK.EQ(B49,$B$39:$B$66)+COUNTIF($B$39:$B$66,B49)-1 -> 9 | E49: =INDEX($A$39:$B$66,MATCH(ROW()-38,$D$39:$D$66,0),1) -> Bilbao | F49: =LOOKUP(E49,$A$39:$A$66,$B$39:$B$66) -> 2198 | G49: =LOOKUP(E49,$A$39:$A$66,$C$39:$C$66) -> 1622
A50: =A18 -> Ceuta | B50: =E18 -> 2 | C50: =D18 -> 0 | D50: =_xlfn.RANK.EQ(B50,$B$39:$B$66)+COUNTIF($B$39:$B$66,B50)-1 -> 20 | E50: =INDEX($A$39:$B$66,MATCH(ROW()-38,$D$39:$D$66,0),1) -> Alicante | F50: =LOOKUP(E50,$A$39:$A$66,$B$39:$B$66) -> 2028 | G50: =LOOKUP(E50,$A$39:$A$66,$C$39:$C$66) -> 4135
... A66: =A34 -> Vilagarcía | B66: =E34 -> 99 | C66: =D34 -> 183 | D66: =_xlfn.RANK.EQ(B66,$B$39:$B$66)+COUNTIF($B$39:$B$66,B66)-1 -> 16 | E66: =INDEX($A$39:$B$66,MATCH(ROW()-38,$D$39:$D$66,0),1) -> A Coruña | F66: =LOOKUP(E66,$A$39:$A$66,$B$39:$B$66) -> 0 | G66: =LOOKUP(E66,$A$39:$A$66,$C$39:$C$66) -> 0

Sheet TEUS nacional
F1: 10.2. CONTENEDORES ENTRADA-SALIDA NACIONAL (TEUS)
A5: Autoridad Portuaria | B5: ='Resumen general'!D6 -> Mes diciembre | D5: ='Resumen general'!F6 -> Acumulado desde enero | L5: ='Resumen general'!I4 -> Fecha: 30/01/2023
B6: ='Resumen general'!D7 -> 2020 | C6: ='Resumen general'!E7 -> 2021 | D6: ='Resumen general'!F7 -> 2020 | E6: ='Resumen general'!G7 -> 2021 | F6: Var. (%)
A7: A Coruña | B7: 0 | C7: 0 | D7: 0 | E7: 0 | F7: =((E7*100)/D7)-100 -> #DIV/0!
A8: Alicante | B8: 11471 | C8: 15826 | D8: 133293 | E8: 145258 | F8: =((E8*100)/D8)-100 -> 8.9764654
A9: Almería | B9: 259 | C9: 220 | D9: 3461 | E9: 3344 | F9: =((E9*100)/D9)-100 -> -3.3805259
A10: Avilés | B10: 0 | C10: 0 | D10: 0 | E10: 0 | F10: =((E10*100)/D10)-100 -> #DIV/0!
A11: Bahía de Algeciras | B11: 4 | C11: 24 | D11: 154 | E11: 259 | F11: =((E11*100)/D11)-100 -> 68.181818
A12: Bahía de Cádiz | B12: 7855 | C12: 12790 | D12: 57523 | E12: 131909 | F12: =((E12*100)/D12)-100 -> 129.31523
A13: Baleares | B13: 7651 | C13: 7828 | D13: 91846 | E13: 106898 | F13: =((E13*100)/D13)-100 -> 16.388302
A14: Barcelona | B14: 18253 | C14: 18513 | D14: 204479.25 | E14: 224647 | F14: =((E14*100)/D14)-100 -> 9.8629812
A15: Bilbao | B15: 1430 | C15: 4040 | D15: 43572.6 | E15: 45098 | F15: =((E15*100)/D15)-100 -> 3.5008239
A16: Cartagena | B16: 832 | C16: 802 | D16: 9214 | E16: 12010 | F16: =((E16*100)/D16)-100 -> 30.345127
A17: Castellón | B17: 483 | C17: 60 | D17: 4227 | E17: 6540 | F17: =((E17*100)/D17)-100 -> 54.719659
A18: Ceuta | B18: 552 | C18: 475 | D18: 5711 | E18: 5751 | F18: =((E18*100)/D18)-100 -> 0.70040273
... A34: Vilagarcía | B34: 2789 | C34: 2406 | D34: 34053 | E34: 32302 | F34: =((E34*100)/D34)-100 -> -5.1419846
A35: Total | B35: =SUM(B7:B34) -> 152467 | C35: =SUM(C7:C34) -> 180407 | D35: =SUM(D7:D34) -> 1794214.9 | E35: =SUM(E7:E34) -> 2010187 | F35: =((E35*100)/D35)-100 -> 12.03714
A36: No incluye tránsitos ni transbordos. Navegación de cabotaje.
B38: =E6 -> 2021 | C38: =D6 -> 2020 | F38: =B38 -> 2021 | G38: =C38 -> 2020
A39: =A7 -> A Coruña | B39: =E7 -> 0 | C39: =D7 -> 0 | D39: =_xlfn.RANK.EQ(B39,$B$39:$B$66)+COUNTIF($B$39:$B$66,B39)-1 -> 28 | E39: =INDEX($A$39:$B$66,MATCH(ROW()-38,$D$39:$D$66,0),1) -> Las Palmas | F39: =LOOKUP(E39,$A$39:$A$66,$B$39:$B$66) -> 469249 | G39: =LOOKUP(E39,$A$39:$A$66,$C$39:$C$66) -> 424563
A40: =A8 -> Alicante | B40: =E8 -> 145258 | C40: =D8 -> 133293 | D40: =_xlfn.RANK.EQ(B40,$B$39:$B$66)+COUNTIF($B$39:$B$66,B40)-1 -> 5 | E40: =INDEX($A$39:$B$66,MATCH(ROW()-38,$D$39:$D$66,0),1) -> Santa Cruz de Tenerife | F40: =LOOKUP(E40,$A$39:$A$66,$B$39:$B$66) -> 359771 | G40: =LOOKUP(E40,$A$39:$A$66,$C$39:$C$66) -> 318820
A41: =A9 -> Almería | B41: =E9 -> 3344 | C41: =D9 -> 3461 | D41: =_xlfn.RANK.EQ(B41,$B$39:$B$66)+COUNTIF($B$39:$B$66,B41)-1 -> 20 | E41: =INDEX($A$39:$B$66,MATCH(ROW()-38,$D$39:$D$66,0),1) -> Barcelona | F41: =LOOKUP(E41,$A$39:$A$66,$B$39:$B$66) -> 224647 | G41: =LOOKUP(E41,$A$39:$A$66,$C$39:$C$66) -> 204479.25
A42: =A10 -> Avilés | B42: =E10 -> 0 | C42: =D10 -> 0 | D42: =_xlfn.RANK.EQ(B42,$B$39:$B$66)+COUNTIF($B$39:$B$66,B42)-1 -> 28 | E42: =INDEX($A$39:$B$66,MATCH(ROW()-38,$D$39:$D$66,0),1) -> Valencia | F42: =LOOKUP(E42,$A$39:$A$66,$B$39:$B$66) -> 214393 | G42: =LOOKUP(E42,$A$39:$A$66,$C$39:$C$66) -> 203187
A43: =A11 -> Bahía de Algeciras | B43: =E11 -> 259 | C43: =D11 -> 154 | D43: =_xlfn.RANK.EQ(B43,$B$39:$B$66)+COUNTIF($B$39:$B$66,B43)-1 -> 23 | E43: =INDEX($A$39:$B$66,MATCH(ROW()-38,$D$39:$D$66,0),1) -> Alicante | F43: =LOOKUP(E43,$A$39:$A$66,$B$39:$B$66) -> 145258 | G43: =LOOKUP(E43,$A$39:$A$66,$C$39:$C$66) -> 133293
A44: =A12 -> Bahía de Cádiz | B44: =E12 -> 131909 | C44: =D12 -> 57523 | D44: =_xlfn.RANK.EQ(B44,$B$39:$B$66)+COUNTIF($B$39:$B$66,B44)-1 -> 7 | E44: =INDEX($A$39:$B$66,MATCH(ROW()-38,$D$39:$D$66,0),1) -> Sevilla | F44: =LOOKUP(E44,$A$39:$A$66,$B$39:$B$66) -> 134343 | G44: =LOOKUP(E44,$A$39:$A$66,$C$39:$C$66) -> 124707
A45: =A13 -> Baleares | B45: =E13 -> 106898 | C45: =D13 -> 91846 | D45: =_xlfn.RANK.EQ(B45,$B$39:$B$66)+COUNTIF($B$39:$B$66,B45)-1 -> 8 | E45: =INDEX($A$39:$B$66,MATCH(ROW()-38,$D$39:$D$66,0),1) -> Bahía de Cádiz | F45: =LOOKUP(E45,$A$39:$A$66,$B$39:$B$66) -> 131909 | G45: =LOOKUP(E45,$A$39:$A$66,$C$39:$C$66) -> 57523
A46: =A14 -> Barcelona | B46: =E14 -> 224647 | C46: =D14 -> 204479.25 | D46: =_xlfn.RANK.EQ(B46,$B$39:$B$66)+COUNTIF($B$39:$B$66,B46)-1 -> 3 | E46: =INDEX($A$39:$B$66,MATCH(ROW()-38,$D$39:$D$66,0),1) -> Baleares | F46: =LOOKUP(E46,$A$39:$A$66,$B$39:$B$66) -> 106898 | G46: =LOOKUP(E46,$A$39:$A$66,$C$39:$C$66) -> 91846
A47: =A15 -> Bilbao | B47: =E15 -> 45098 | C47: =D15 -> 43572.6 | D47: =_xlfn.RANK.EQ(B47,$B$39:$B$66)+COUNTIF($B$39:$B$66,B47)-1 -> 10 | E47: =INDEX($A$39:$B$66,MATCH(ROW()-38,$D$39:$D$66,0),1) -> Huelva | F47: =LOOKUP(E47,$A$39:$A$66,$B$39:$B$66) -> 66545 | G47: =LOOKUP(E47,$A$39:$A$66,$C$39:$C$66) -> 65863
A48: =A16 -> Cartagena | B48: =E16 -> 12010 | C48: =D16 -> 9214 | D48: =_xlfn.RANK.EQ(B48,$B$39:$B$66)+COUNTIF($B$39:$B$66,B48)-1 -> 13 | E48: =INDEX($A$39:$B$66,MATCH(ROW()-38,$D$39:$D$66,0),1) -> Bilbao | F48: =LOOKUP(E48,$A$39:$A$66,$B$39:$B$66) -> 45098 | G48: =LOOKUP(E48,$A$39:$A$66,$C$39:$C$66) -> 43572.6
A49: =A17 -> Castellón | B49: =E17 -> 6540 | C49: =D17 -> 4227 | D49: =_xlfn.RANK.EQ(B49,$B$39:$B$66)+COUNTIF($B$39:$B$66,B49)-1 -> 18 | E49: =INDEX($A$39:$B$66,MATCH(ROW()-38,$D$39:$D$66,0),1) -> Vilagarcía | F49: =LOOKUP(E49,$A$39:$A$66,$B$39:$B$66) -> 32302 | G49: =LOOKUP(E49,$A$39:$A$66,$C$39:$C$66) -> 34053
A50: =A18 -> Ceuta | B50: =E18 -> 5751 | C50: =D18 -> 5711 | D50: =_xlfn.RANK.EQ(B50,$B$39:$B$66)+COUNTIF($B$39:$B$66,B50)-1 -> 19 | E50: =INDEX($A$39:$B$66,MATCH(ROW()-38,$D$39:$D$66,0),1) -> Vigo | F50: =LOOKUP(E50,$A$39:$A$66,$B$39:$B$66) -> 14698 | G50: =LOOKUP(E50,$A$39:$A$66,$C$39:$C$66) -> 15659
... A66: =A34 -> Vilagarcía | B66: =E34 -> 32302 | C66: =D34 -> 34053 | D66: =_xlfn.RANK.EQ(B66,$B$39:$B$66)+COUNTIF($B$39:$B$66,B66)-1 -> 11 | E66: =INDEX($A$39:$B$66,MATCH(ROW()-38,$D$39:$D$66,0),1) -> A Coruña | F66: =LOOKUP(E66,$A$39:$A$66,$B$39:$B$66) -> 0 | G66: =LOOKUP(E66,$A$39:$A$66,$C$39:$C$66) -> 0

Sheet TEUS exterior
F1: 10.3. CONTENEDORES IMPORTACIÓN-EXPORTACIÓN EXTERIOR (TEUS)
A5: Autoridad Portuaria | B5: ='Resumen general'!D6 -> Mes diciembre | D5: ='Resumen general'!F6 -> Acumulado desde enero | L5: ='Resumen general'!I4 -> Fecha: 30/01/2023
B6: ='Resumen general'!D7 -> 2020 | C6: ='Resumen general'!E7 -> 2021 | D6: ='Resumen general'!F7 -> 2020 | E6: ='Resumen general'!G7 -> 2021 | F6: Var. (%)
A7: A Coruña | B7: 0 | C7: 0 | D7: 3 | E7: 3 | F7: =((E7*100)/D7)-100 -> 0
A8: Alicante | B8: 2176 | C8: 2812 | D8: 20603 | E8: 25772 | F8: =((E8*100)/D8)-100 -> 25.088579
A9: Almería | B9: 1846 | C9: 1678 | D9: 20408 | E9: 21925 | F9: =((E9*100)/D9)-100 -> 7.4333595
A10: Avilés | B10: 0 | C10: 0 | D10: 0 | E10: 22 | F10: =((E10*100)/D10)-100 -> #DIV/0!
A11: Bahía de Algeciras | B11: 46636 | C11: 58631 | D11: 676674 | E11: 714887 | F11: =((E11*100)/D11)-100 -> 5.6471802
A12: Bahía de Cádiz | B12: 2338 | C12: 2435 | D12: 19900 | E12: 37662 | F12: =((E12*100)/D12)-100 -> 89.256281
A13: Baleares | B13: 0 | C13: 12 | D13: 5 | E13: 30 | F13: =((E13*100)/D13)-100 -> 500
A14: Barcelona | B14: 143478 | C14: 159789 | D14: 1578330.3 | E14: 1829435 | F14: =((E14*100)/D14)-100 -> 15.909518
A15: Bilbao | B15: 27942 | C15: 39183 | D15: 440582 | E15: 491621 | F15: =((E15*100)/D15)-100 -> 11.58445
A16: Cartagena | B16: 3405 | C16: 2349 | D16: 47666 | E16: 38501 | F16: =((E16*100)/D16)-100 -> -19.227542
A17: Castellón | B17: 11629 | C17: 9333 | D17: 123592 | E17: 117555 | F17: =((E17*100)/D17)-100 -> -4.8846204
A18: Ceuta | B18: 24 | C18: 16 | D18: 309 | E18: 121 | F18: =((E18*100)/D18)-100 -> -60.841424
... A34: Vilagarcía | B34: 142 | C34: 117 | D34: 1654 | E34: 1536 | F34: =((E34*100)/D34)-100 -> -7.1342201
A35: Total | B35: =SUM(B7:B34) -> 483326 | C35: =SUM(C7:C34) -> 517439 | D35: =SUM(D7:D34) -> 5616504.3 | E35: =SUM(E7:E34) -> 6311076 | F35: =((E35*100)/D35)-100 -> 12.36662
A36: No incluye tránsitos ni transbordos. Navegación de exterior.
B38: =E6 -> 2021 | C38: =D6 -> 2020 | F38: =B38 -> 2021 | G38: =C38 -> 2020
A39: =A7 -> A Coruña | B39: =E7 -> 3 | C39: =D7 -> 3 | D39: =_xlfn.RANK.EQ(B39,$B$39:$B$66)+COUNTIF($B$39:$B$66,B39)-1 -> 26 | E39: =INDEX($A$39:$B$66,MATCH(ROW()-38,$D$39:$D$66,0),1) -> Valencia | F39: =LOOKUP(E39,$A$39:$A$66,$B$39:$B$66) -> 2502204 | G39: =LOOKUP(E39,$A$39:$A$66,$C$39:$C$66) -> 2164328
A40: =A8 -> Alicante | B40: =E8 -> 25772 | C40: =D8 -> 20603 | D40: =_xlfn.RANK.EQ(B40,$B$39:$B$66)+COUNTIF($B$39:$B$66,B40)-1 -> 15 | E40: =INDEX($A$39:$B$66,MATCH(ROW()-38,$D$39:$D$66,0),1) -> Barcelona | F40: =LOOKUP(E40,$A$39:$A$66,$B$39:$B$66) -> 1829435 | G40: =LOOKUP(E40,$A$39:$A$66,$C$39:$C$66) -> 1578330.3
A41: =A9 -> Almería | B41: =E9 -> 21925 | C41: =D9 -> 20408 | D41: =_xlfn.RANK.EQ(B41,$B$39:$B$66)+COUNTIF($B$39:$B$66,B41)-1 -> 16 | E41: =INDEX($A$39:$B$66,MATCH(ROW()-38,$D$39:$D$66,0),1) -> Bahía de Algeciras | F41: =LOOKUP(E41,$A$39:$A$66,$B$39:$B$66) -> 714887 | G41: =LOOKUP(E41,$A$39:$A$66,$C$39:$C$66) -> 676674
A42: =A10 -> Avilés | B42: =E10 -> 22 | C42: =D10 -> 0 | D42: =_xlfn.RANK.EQ(B42,$B$39:$B$66)+COUNTIF($B$39:$B$66,B42)-1 -> 25 | E42: =INDEX($A$39:$B$66,MATCH(ROW()-38,$D$39:$D$66,0),1) -> Bilbao | F42: =LOOKUP(E42,$A$39:$A$66,$B$39:$B$66) -> 491621 | G42: =LOOKUP(E42,$A$39:$A$66,$C$39:$C$66) -> 440582
A43: =A11 -> Bahía de Algeciras | B43: =E11 -> 714887 | C43: =D11 -> 676674 | D43: =_xlfn.RANK.EQ(B43,$B$39:$B$66)+COUNTIF($B$39:$B$66,B43)-1 -> 3 | E43: =INDEX($A$39:$B$66,MATCH(ROW()-38,$D$39:$D$66,0),1) -> Vigo | F43: =LOOKUP(E43,$A$39:$A$66,$B$39:$B$66) -> 213709 | G43: =LOOKUP(E43,$A$39:$A$66,$C$39:$C$66) -> 203094
A44: =A12 -> Bahía de Cádiz | B44: =E12 -> 37662 | C44: =D12 -> 19900 | D44: =_xlfn.RANK.EQ(B44,$B$39:$B$66)+COUNTIF($B$39:$B$66,B44)-1 -> 12 | E44: =INDEX($A$39:$B$66,MATCH(ROW()-38,$D$39:$D$66,0),1) -> Castellón | F44: =LOOKUP(E44,$A$39:$A$66,$B$39:$B$66) -> 117555 | G44: =LOOKUP(E44,$A$39:$A$66,$C$39:$C$66) -> 123592
A45: =A13 -> Baleares | B45: =E13 -> 30 | C45: =D13 -> 5 | D45: =_xlfn.RANK.EQ(B45,$B$39:$B$66)+COUNTIF($B$39:$B$66,B45)-1 -> 24 | E45: =INDEX($A$39:$B$66,MATCH(ROW()-38,$D$39:$D$66,0),1) -> Las Palmas | F45: =LOOKUP(E45,$A$39:$A$66,$B$39:$B$66) -> 65495 | G45: =LOOKUP(E45,$A$39:$A$66,$C$39:$C$66) -> 73166
A46: =A14 -> Barcelona | B46: =E14 -> 1829435 | C46: =D14 -> 1578330.3 | D46: =_xlfn.RANK.EQ(B46,$B$39:$B$66)+COUNTIF($B$39:$B$66,B46)-1 -> 2 | E46: =INDEX($A$39:$B$66,MATCH(ROW()-38,$D$39:$D$66,0),1) -> Gijón | F46: =LOOKUP(E46,$A$39:$A$66,$B$39:$B$66) -> 49814 | G46: =LOOKUP(E46,$A$39:$A$66,$C$39:$C$66) -> 64464
A47: =A15 -> Bilbao | B47: =E15 -> 491621 | C47: =D15 -> 440582 | D47: =_xlfn.RANK.EQ(B47,$B$39:$B$66)+COUNTIF($B$39:$B$66,B47)-1 -> 4 | E47: =INDEX($A$39:$B$66,MATCH(ROW()-38,$D$39:$D$66,0),1) -> Tarragona | F47: =LOOKUP(E47,$A$39:$A$66,$B$39:$B$66) -> 45196 | G47: =LOOKUP(E47,$A$39:$A$66,$C$39:$C$66) -> 33294
A48: =A16 -> Cartagena | B48: =E16 -> 38501 | C48: =D16 -> 47666 | D48: =_xlfn.RANK.EQ(B48,$B$39:$B$66)+COUNTIF($B$39:$B$66,B48)-1 -> 10 | E48: =INDEX($A$39:$B$66,MATCH(ROW()-38,$D$39:$D$66,0),1) -> Cartagena | F48: =LOOKUP(E48,$A$39:$A$66,$B$39:$B$66) -> 38501 | G48: =LOOKUP(E48,$A$39:$A$66,$C$39:$C$66) -> 47666
A49: =A17 -> Castellón | B49: =E17 -> 117555 | C49: =D17 -> 123592 | D49: =_xlfn.RANK.EQ(B49,$B$39:$B$66)+COUNTIF($B$39:$B$66,B49)-1 -> 6 | E49: =INDEX($A$39:$B$66,MATCH(ROW()-38,$D$39:$D$66,0),1) -> Santander | F49: =LOOKUP(E49,$A$39:$A$66,$B$39:$B$66) -> 37758 | G49: =LOOKUP(E49,$A$39:$A$66,$C$39:$C$66) -> 26111
A50: =A18 -> Ceuta | B50: =E18 -> 121 | C50: =D18 -> 309 | D50: =_xlfn.RANK.EQ(B50,$B$39:$B$66)+COUNTIF($B$39:$B$66,B50)-1 -> 22 | E50: =INDEX($A$39:$B$66,MATCH(ROW()-38,$D$39:$D$66,0),1) -> Bahía de Cádiz | F50: =LOOKUP(E50,$A$39:$A$66,$B$39:$B$66) -> 37662 | G50: =LOOKUP(E50,$A$39:$A$66,$C$39:$C$66) -> 19900
... A66: =A34 -> Vilagarcía | B66: =E34 -> 1536 | C66: =D34 -> 1654 | D66: =_xlfn.RANK.EQ(B66,$B$39:$B$66)+COUNTIF($B$39:$B$66,B66)-1 -> 20 | E66: =INDEX($A$39:$B$66,MATCH(ROW()-38,$D$39:$D$66,0),1) -> Motril | F66: =LOOKUP(E66,$A$39:$A$66,$B$39:$B$66) -> 0 | G66: =LOOKUP(E66,$A$39:$A$66,$C$39:$C$66) -> 67

Sheet TEUS nacional y exterior
F1: 10.4. CONTENEDORES NACIONAL Y EXTERIOR (TEUS)
A5: Autoridad Portuaria | B5: ='Resumen general'!D6 -> Mes diciembre | D5: ='Resumen general'!F6 -> Acumulado desde enero | L5: ='Resumen general'!I4 -> Fecha: 30/01/2023
B6: ='Resumen general'!D7 -> 2020 | C6: ='Resumen general'!E7 -> 2021 | D6: ='Resumen general'!F7 -> 2020 | E6: ='Resumen general'!G7 -> 2021 | F6: Var. (%)
A7: A Coruña | B7: 0 | C7: 0 | D7: 3 | E7: 3 | F7: =((E7*100)/D7)-100 -> 0
A8: Alicante | B8: 13647 | C8: 18638 | D8: 153896 | E8: 171030 | F8: =((E8*100)/D8)-100 -> 11.133493
A9: Almería | B9: 2105 | C9: 1899 | D9: 23869 | E9: 25269 | F9: =((E9*100)/D9)-100 -> 5.8653484
A10: Avilés | B10: 0 | C10: 0 | D10: 0 | E10: 22 | F10: =((E10*100)/D10)-100 -> #DIV/0!
A11: Bahía de Algeciras | B11: 46640 | C11: 58655 | D11: 676828 | E11: 715146 | F11: =((E11*100)/D11)-100 -> 5.6614088
A12: Bahía de Cádiz | B12: 10193 | C12: 15226 | D12: 77423 | E12: 169571 | F12: =((E12*100)/D12)-100 -> 119.0189
A13: Baleares | B13: 7651 | C13: 7840 | D13: 91851 | E13: 106928 | F13: =((E13*100)/D13)-100 -> 16.414628
A14: Barcelona | B14: 161731 | C14: 178301 | D14: 1782809.5 | E14: 2054082 | F14: =((E14*100)/D14)-100 -> 15.216011
A15: Bilbao | B15: 29373 | C15: 43223 | D15: 484154.6 | E15: 536719 | F15: =((E15*100)/D15)-100 -> 10.856945
A16: Cartagena | B16: 4236 | C16: 3151 | D16: 56880 | E16: 50511 | F16: =((E16*100)/D16)-100 -> -11.197257
A17: Castellón | B17: 12112 | C17: 9393 | D17: 127819 | E17: 124095 | F17: =((E17*100)/D17)-100 -> -2.9134949
A18: Ceuta | B18: 576 | C18: 491 | D18: 6020 | E18: 5872 | F18: =((E18*100)/D18)-100 -> -2.4584718
... A34: Vilagarcía | B34: 2931 | C34: 2523 | D34: 35707 | E34: 33838 | F34: =((E34*100)/D34)-100 -> -5.2342678
A35: Total | B35: =SUM(B7:B34) -> 635792 | C35: =SUM(C7:C34) -> 697846 | D35: =SUM(D7:D34) -> 7410719.1 | E35: =SUM(E7:E34) -> 8321263 | F35: =((E35*100)/D35)-100 -> 12.286849
A36: No incluye tránsitos ni transbordos. Navegación de cabotaje y exterior.
B38: =E6 -> 2021 | C38: =D6 -> 2020 | F38: =B38 -> 2021 | G38: =C38 -> 2020
A39: =A7 -> A Coruña | B39: =E7 -> 3 | C39: =D7 -> 3 | D39: =_xlfn.RANK.EQ(B39,$B$39:$B$66)+COUNTIF($B$39:$B$66,B39)-1 -> 26 | E39: =INDEX($A$39:$B$66,MATCH(ROW()-38,$D$39:$D$66,0),1) -> Valencia | F39: =LOOKUP(E39,$A$39:$A$66,$B$39:$B$66) -> 2716597 | G39: =LOOKUP(E39,$A$39:$A$66,$C$39:$C$66) -> 2367515
A40: =A8 -> Alicante | B40: =E8 -> 171030 | C40: =D8 -> 153896 | D40: =_xlfn.RANK.EQ(B40,$B$39:$B$66)+COUNTIF($B$39:$B$66,B40)-1 -> 8 | E40: =INDEX($A$39:$B$66,MATCH(ROW()-38,$D$39:$D$66,0),1) -> Barcelona | F40: =LOOKUP(E40,$A$39:$A$66,$B$39:$B$66) -> 2054082 | G40: =LOOKUP(E40,$A$39:$A$66,$C$39:$C$66) -> 1782809.5
A41: =A9 -> Almería | B41: =E9 -> 25269 | C41: =D9 -> 23869 | D41: =_xlfn.RANK.EQ(B41,$B$39:$B$66)+COUNTIF($B$39:$B$66,B41)-1 -> 21 | E41: =INDEX($A$39:$B$66,MATCH(ROW()-38,$D$39:$D$66,0),1) -> Bahía de Algeciras | F41: =LOOKUP(E41,$A$39:$A$66,$B$39:$B$66) -> 715146 | G41: =LOOKUP(E41,$A$39:$A$66,$C$39:$C$66) -> 676828
A42: =A10 -> Avilés | B42: =E10 -> 22 | C42: =D10 -> 0 | D42: =_xlfn.RANK.EQ(B42,$B$39:$B$66)+COUNTIF($B$39:$B$66,B42)-1 -> 25 | E42: =INDEX($A$39:$B$66,MATCH(ROW()-38,$D$39:$D$66,0),1) -> Bilbao | F42: =LOOKUP(E42,$A$39:$A$66,$B$39:$B$66) -> 536719 | G42: =LOOKUP(E42,$A$39:$A$66,$C$39:$C$66) -> 484154.6
A43: =A11 -> Bahía de Algeciras | B43: =E11 -> 715146 | C43: =D11 -> 676828 | D43: =_xlfn.RANK.EQ(B43,$B$39:$B$66)+COUNTIF($B$39:$B$66,B43)-1 -> 3 | E43: =INDEX($A$39:$B$66,MATCH(ROW()-38,$D$39:$D$66,0),1) -> Las Palmas | F43: =LOOKUP(E43,$A$39:$A$66,$B$39:$B$66) -> 534744 | G43: =LOOKUP(E43,$A$39:$A$66,$C$39:$C$66) -> 497729
A44: =A12 -> Bahía de Cádiz | B44: =E12 -> 169571 | C44: =D12 -> 77423 | D44: =_xlfn.RANK.EQ(B44,$B$39:$B$66)+COUNTIF($B$39:$B$66,B44)-1 -> 9 | E44: =INDEX($A$39:$B$66,MATCH(ROW()-38,$D$39:$D$66,0),1) -> Santa Cruz de Tenerife | F44: =LOOKUP(E44,$A$39:$A$66,$B$39:$B$66) -> 394496 | G44: =LOOKUP(E44,$A$39:$A$66,$C$39:$C$66) -> 351333
A45: =A13 -> Baleares | B45: =E13 -> 106928 | C45: =D13 -> 91851 | D45: =_xlfn.RANK.EQ(B45,$B$39:$B$66)+COUNTIF($B$39:$B$66,B45)-1 -> 12 | E45: =INDEX($A$39:$B$66,MATCH(ROW()-38,$D$39:$D$66,0),1) -> Vigo | F45: =LOOKUP(E45,$A$39:$A$66,$B$39:$B$66) -> 228407 | G45: =LOOKUP(E45,$A$39:$A$66,$C$39:$C$66) -> 218753
A46: =A14 -> Barcelona | B46: =E14 -> 2054082 | C46: =D14 -> 1782809.5 | D46: =_xlfn.RANK.EQ(B46,$B$39:$B$66)+COUNTIF($B$39:$B$66,B46)-1 -> 2 | E46: =INDEX($A$39:$B$66,MATCH(ROW()-38,$D$39:$D$66,0),1) -> Alicante | F46: =LOOKUP(E46,$A$39:$A$66,$B$39:$B$66) -> 171030 | G46: =LOOKUP(E46,$A$39:$A$66,$C$39:$C$66) -> 153896
A47: =A15 -> Bilbao | B47: =E15 -> 536719 | C47: =D15 -> 484154.6 | D47: =_xlfn.RANK.EQ(B47,$B$39:$B$66)+COUNTIF($B$39:$B$66,B47)-1 -> 4 | E47: =INDEX($A$39:$B$66,MATCH(ROW()-38,$D$39:$D$66,0),1) -> Bahía de Cádiz | F47: =LOOKUP(E47,$A$39:$A$66,$B$39:$B$66) -> 169571 | G47: =LOOKUP(E47,$A$39:$A$66,$C$39:$C$66) -> 77423
A48: =A16 -> Cartagena | B48: =E16 -> 50511 | C48: =D16 -> 56880 | D48: =_xlfn.RANK.EQ(B48,$B$39:$B$66)+COUNTIF($B$39:$B$66,B48)-1 -> 16 | E48: =INDEX($A$39:$B$66,MATCH(ROW()-38,$D$39:$D$66,0),1) -> Sevilla | F48: =LOOKUP(E48,$A$39:$A$66,$B$39:$B$66) -> 135742 | G48: =LOOKUP(E48,$A$39:$A$66,$C$39:$C$66) -> 126163
A49: =A17 -> Castellón | B49: =E17 -> 124095 | C49: =D17 -> 127819 | D49: =_xlfn.RANK.EQ(B49,$B$39:$B$66)+COUNTIF($B$39:$B$66,B49)-1 -> 11 | E49: =INDEX($A$39:$B$66,MATCH(ROW()-38,$D$39:$D$66,0),1) -> Castellón | F49: =LOOKUP(E49,$A$39:$A$66,$B$39:$B$66) -> 124095 | G49: =LOOKUP(E49,$A$39:$A$66,$C$39:$C$66) -> 127819
A50: =A18 -> Ceuta | B50: =E18 -> 5872 | C50: =D18 -> 6020 | D50: =_xlfn.RANK.EQ(B50,$B$39:$B$66)+COUNTIF($B$39:$B$66,B50)-1 -> 24 | E50: =INDEX($A$39:$B$66,MATCH(ROW()-38,$D$39:$D$66,0),1) -> Baleares | F50: =LOOKUP(E50,$A$39:$A$66,$B$39:$B$66) -> 106928 | G50: =LOOKUP(E50,$A$39:$A$66,$C$39:$C$66) -> 91851
... A66: =A34 -> Vilagarcía | B66: =E34 -> 33838 | C66: =D34 -> 35707 | D66: =_xlfn.RANK.EQ(B66,$B$39:$B$66)+COUNTIF($B$39:$B$66,B66)-1 -> 19 | E66: =INDEX($A$39:$B$66,MATCH(ROW()-38,$D$39:$D$66,0),1) -> Motril | F66: =LOOKUP(E66,$A$39:$A$66,$B$39:$B$66) -> 0 | G66: =LOOKUP(E66,$A$39:$A$66,$C$39:$C$66) -> 67

Sheet Pasajeros total
F1: 11. PASAJEROS EN RÉGIMEN DE TRANSPORTE Y DE CRUCERO
I2: (número)
A5: Autoridad Portuaria | B5: ='Resumen general'!D6 -> Mes diciembre | D5: ='Resumen general'!F6 -> Acumulado desde enero | L5: ='Resumen general'!I4 -> Fecha: 30/01/2023
B6: ='Resumen general'!D7 -> 2020 | C6: ='Resumen general'!E7 -> 2021 | D6: ='Resumen general'!F7 -> 2020 | E6: ='Resumen general'!G7 -> 2021 | F6: Var. (%)
A7: A Coruña | B7: 0 | C7: 5703 | D7: 6586 | E7: 30177 | F7: =((E7*100)/D7)-100 -> 358.19921
A8: Alicante | B8: 0 | C8: 10894 | D8: 22340 | E8: 66709 | F8: =((E8*100)/D8)-100 -> 198.60788
A9: Almería | B9: 3501 | C9: 17258 | D9: 127024 | E9: 73763 | F9: =((E9*100)/D9)-100 -> -41.929872
A10: Avilés | B10: 0 | C10: 0 | D10: 0 | E10: 137 | F10: =((E10*100)/D10)-100 -> #DIV/0!
A11: Bahía de Algeciras | B11: 79964 | C11: 135163 | D11: 1545826 | E11: 1311506 | F11: =((E11*100)/D11)-100 -> -15.158239
A12: Bahía de Cádiz | B12: 944 | C12: 21050 | D12: 56385 | E12: 151952 | F12: =((E12*100)/D12)-100 -> 169.49011
A13: Baleares | B13: 158417 | C13: 266935 | D13: 3782911 | E13: 6013613 | F13: =((E13*100)/D13)-100 -> 58.967869
A14: Barcelona | B14: 31966 | C14: 100400 | D14: 857966 | E14: 1498817 | F14: =((E14*100)/D14)-100 -> 74.694219
A15: Bilbao | B15: 524 | C15: 3348 | D15: 45583 | E15: 73853 | F15: =((E15*100)/D15)-100 -> 62.018735
A16: Cartagena | B16: 0 | C16: 7319 | D16: 18862 | E16: 70087 | F16: =((E16*100)/D16)-100 -> 271.57778
A17: Castellón | B17: 0 | C17: 0 | D17: 0 | E17: 1077 | F17: =((E17*100)/D17)-100 -> #DIV/0!
A18: Ceuta | B18: 49274 | C18: 102851 | D18: 786289 | E18: 943457 | F18: =((E18*100)/D18)-100 -> 19.988579
... A34: Vilagarcía | B34: 0 | C34: 0 | D34: 0 | E34: 1166 | F34: =((E34*100)/D34)-100 -> #DIV/0!
A35: Total | B35: =SUM(B7:B34) -> 758353 | C35: =SUM(C7:C34) -> 1654580 | D35: =SUM(D7:D34) -> 13343303 | E35: =SUM(E7:E34) -> 17981420 | F35: =((E35*100)/D35)-100 -> 34.759887
A36: Incluye embarques, desembarques y en tránsito.
B38: =E6 -> 2021 | C38: =D6 -> 2020 | F38: =B38 -> 2021 | G38: =C38 -> 2020
A39: =A7 -> A Coruña | B39: =E7 -> 30177 | C39: =D7 -> 6586 | D39: =_xlfn.RANK.EQ(B39,$B$39:$B$66)+COUNTIF($B$39:$B$66,B39)-1 -> 19 | E39: =INDEX($A$39:$B$66,MATCH(ROW()-38,$D$39:$D$66,0),1) -> Baleares | F39: =LOOKUP(E39,$A$39:$A$66,$B$39:$B$66) -> 6013613 | G39: =LOOKUP(E39,$A$39:$A$66,$C$39:$C$66) -> 3782911
A40: =A8 -> Alicante | B40: =E8 -> 66709 | C40: =D8 -> 22340 | D40: =_xlfn.RANK.EQ(B40,$B$39:$B$66)+COUNTIF($B$39:$B$66,B40)-1 -> 15 | E40: =INDEX($A$39:$B$66,MATCH(ROW()-38,$D$39:$D$66,0),1) -> Santa Cruz de Tenerife | F40: =LOOKUP(E40,$A$39:$A$66,$B$39:$B$66) -> 4553977 | G40: =LOOKUP(E40,$A$39:$A$66,$C$39:$C$66) -> 3488716
A41: =A9 -> Almería | B41: =E9 -> 73763 | C41: =D9 -> 127024 | D41: =_xlfn.RANK.EQ(B41,$B$39:$B$66)+COUNTIF($B$39:$B$66,B41)-1 -> 13 | E41: =INDEX($A$39:$B$66,MATCH(ROW()-38,$D$39:$D$66,0),1) -> Las Palmas | F41: =LOOKUP(E41,$A$39:$A$66,$B$39:$B$66) -> 1727945 | G41: =LOOKUP(E41,$A$39:$A$66,$C$39:$C$66) -> 1590002
A42: =A10 -> Avilés | B42: =E10 -> 137 | C42: =D10 -> 0 | D42: =_xlfn.RANK.EQ(B42,$B$39:$B$66)+COUNTIF($B$39:$B$66,B42)-1 -> 27 | E42: =INDEX($A$39:$B$66,MATCH(ROW()-38,$D$39:$D$66,0),1) -> Barcelona | F42: =LOOKUP(E42,$A$39:$A$66,$B$39:$B$66) -> 1498817 | G42: =LOOKUP(E42,$A$39:$A$66,$C$39:$C$66) -> 857966
A43: =A11 -> Bahía de Algeciras | B43: =E11 -> 1311506 | C43: =D11 -> 1545826 | D43: =_xlfn.RANK.EQ(B43,$B$39:$B$66)+COUNTIF($B$39:$B$66,B43)-1 -> 5 | E43: =INDEX($A$39:$B$66,MATCH(ROW()-38,$D$39:$D$66,0),1) -> Bahía de Algeciras | F43: =LOOKUP(E43,$A$39:$A$66,$B$39:$B$66) -> 1311506 | G43: =LOOKUP(E43,$A$39:$A$66,$C$39:$C$66) -> 1545826
A44: =A12 -> Bahía de Cádiz | B44: =E12 -> 151952 | C44: =D12 -> 56385 | D44: =_xlfn.RANK.EQ(B44,$B$39:$B$66)+COUNTIF($B$39:$B$66,B44)-1 -> 10 | E44: =INDEX($A$39:$B$66,MATCH(ROW()-38,$D$39:$D$66,0),1) -> Ceuta | F44: =LOOKUP(E44,$A$39:$A$66,$B$39:$B$66) -> 943457 | G44: =LOOKUP(E44,$A$39:$A$66,$C$39:$C$66) -> 786289
A45: =A13 -> Baleares | B45: =E13 -> 6013613 | C45: =D13 -> 3782911 | D45: =_xlfn.RANK.EQ(B45,$B$39:$B$66)+COUNTIF($B$39:$B$66,B45)-1 -> 1 | E45: =INDEX($A$39:$B$66,MATCH(ROW()-38,$D$39:$D$66,0),1) -> Valencia | F45: =LOOKUP(E45,$A$39:$A$66,$B$39:$B$66) -> 635689 | G45: =LOOKUP(E45,$A$39:$A$66,$C$39:$C$66) -> 419121
A46: =A14 -> Barcelona | B46: =E14 -> 1498817 | C46: =D14 -> 857966 | D46: =_xlfn.RANK.EQ(B46,$B$39:$B$66)+COUNTIF($B$39:$B$66,B46)-1 -> 4 | E46: =INDEX($A$39:$B$66,MATCH(ROW()-38,$D$39:$D$66,0),1) -> Málaga | F46: =LOOKUP(E46,$A$39:$A$66,$B$39:$B$66) -> 305346 | G46: =LOOKUP(E46,$A$39:$A$66,$C$39:$C$66) -> 214219
A47: =A15 -> Bilbao | B47: =E15 -> 73853 | C47: =D15 -> 45583 | D47: =_xlfn.RANK.EQ(B47,$B$39:$B$66)+COUNTIF($B$39:$B$66,B47)-1 -> 12 | E47: =INDEX($A$39:$B$66,MATCH(ROW()-38,$D$39:$D$66,0),1) -> Melilla | F47: =LOOKUP(E47,$A$39:$A$66,$B$39:$B$66) -> 265474 | G47: =LOOKUP(E47,$A$39:$A$66,$C$39:$C$66) -> 234536
A48: =A16 -> Cartagena | B48: =E16 -> 70087 | C48: =D16 -> 18862 | D48: =_xlfn.RANK.EQ(B48,$B$39:$B$66)+COUNTIF($B$39:$B$66,B48)-1 -> 14 | E48: =INDEX($A$39:$B$66,MATCH(ROW()-38,$D$39:$D$66,0),1) -> Bahía de Cádiz | F48: =LOOKUP(E48,$A$39:$A$66,$B$39:$B$66) -> 151952 | G48: =LOOKUP(E48,$A$39:$A$66,$C$39:$C$66) -> 56385
A49: =A17 -> Castellón | B49: =E17 -> 1077 | C49: =D17 -> 0 | D49: =_xlfn.RANK.EQ(B49,$B$39:$B$66)+COUNTIF($B$39:$B$66,B49)-1 -> 25 | E49: =INDEX($A$39:$B$66,MATCH(ROW()-38,$D$39:$D$66,0),1) -> Santander | F49: =LOOKUP(E49,$A$39:$A$66,$B$39:$B$66) -> 120467 | G49: =LOOKUP(E49,$A$39:$A$66,$C$39:$C$66) -> 73244
A50: =A18 -> Ceuta | B50: =E18 -> 943457 | C50: =D18 -> 786289 | D50: =_xlfn.RANK.EQ(B50,$B$39:$B$66)+COUNTIF($B$39:$B$66,B50)-1 -> 6 | E50: =INDEX($A$39:$B$66,MATCH(ROW()-38,$D$39:$D$66,0),1) -> Bilbao | F50: =LOOKUP(E50,$A$39:$A$66,$B$39:$B$66) -> 73853 | G50: =LOOKUP(E50,$A$39:$A$66,$C$39:$C$66) -> 45583
... A66: =A34 -> Vilagarcía | B66: =E34 -> 1166 | C66: =D34 -> 0 | D66: =_xlfn.RANK.EQ(B66,$B$39:$B$66)+COUNTIF($B$39:$B$66,B66)-1 -> 24 | E66: =INDEX($A$39:$B$66,MATCH(ROW()-38,$D$39:$D$66,0),1) -> Marín y Ría de Pontevedra | F66: =LOOKUP(E66,$A$39:$A$66,$B$39:$B$66) -> 0 | G66: =LOOKUP(E66,$A$39:$A$66,$C$39:$C$66) -> 0

Sheet Pasajeros crucero
F1: 11.1. PASAJEROS DE CRUCERO (número)
A5: Autoridad Portuaria | B5: ='Resumen general'!D6 -> Mes diciembre | D5: ='Resumen general'!F6 -> Acumulado desde enero | L5: ='Resumen general'!I4 -> Fecha: 30/01/2023
B6: ='Resumen general'!D7 -> 2020 | C6: ='Resumen general'!E7 -> 2021 | D6: ='Resumen general'!F7 -> 2020 | E6: ='Resumen general'!G7 -> 2021 | F6: Var. (%)
A7: A Coruña | B7: 0 | C7: 5703 | D7: 6586 | E7: 30177 | F7: =((E7*100)/D7)-100 -> 358.19921
A8: Alicante | B8: 0 | C8: 0 | D8: 2413 | E8: 43466 | F8: =((E8*100)/D8)-100 -> 1701.3262
A9: Almería | B9: 0 | C9: 0 | D9: 592 | E9: 3819 | F9: =((E9*100)/D9)-100 -> 545.10135
A10: Avilés | B10: 0 | C10: 0 | D10: 0 | E10: 137 | F10: =((E10*100)/D10)-100 -> #DIV/0!
A11: Bahía de Algeciras | B11: 0 | C11: 0 | D11: 0 | E11: 94 | F11: =((E11*100)/D11)-100 -> #DIV/0!
A12: Bahía de Cádiz | B12: 0 | C12: 19846 | D12: 40690 | E12: 133511 | F12: =((E12*100)/D12)-100 -> 228.11747
A13: Baleares | B13: 0 | C13: 18574 | D13: 156757 | E13: 345099 | F13: =((E13*100)/D13)-100 -> 120.14902
A14: Barcelona | B14: 0 | C14: 33965 | D14: 198842 | E14: 520854 | F14: =((E14*100)/D14)-100 -> 161.94365
A15: Bilbao | B15: 0 | C15: 1387 | D15: 0 | E15: 13079 | F15: =((E15*100)/D15)-100 -> #DIV/0!
A16: Cartagena | B16: 0 | C16: 7319 | D16: 18862 | E16: 70087 | F16: =((E16*100)/D16)-100 -> 271.57778
A17: Castellón | B17: 0 | C17: 0 | D17: 0 | E17: 1077 | F17: =((E17*100)/D17)-100 -> #DIV/0!
A18: Ceuta | B18: 0 | C18: 0 | D18: 0 | E18: 150 | F18: =((E18*100)/D18)-100 -> #DIV/0!
... A34: Vilagarcía | B34: 0 | C34: 0 | D34: 0 | E34: 1166 | F34: =((E34*100)/D34)-100 -> #DIV/0!
A35: Total | B35: =SUM(B7:B34) -> 55131 | C35: =SUM(C7:C34) -> 324749 | D35: =SUM(D7:D34) -> 1369361 | E35: =SUM(E7:E34) -> 2219083 | F35: =((E35*100)/D35)-100 -> 62.052446
A36: Incluye embarques (inicio de línea), desembarques (fin de línea) y en tránsito.
B38: =E6 -> 2021 | C38: =D6 -> 2020 | F38: =B38 -> 2021 | G38: =C38 -> 2020
A39: =A7 -> A Coruña | B39: =E7 -> 30177 | C39: =D7 -> 6586 | D39: =_xlfn.RANK.EQ(B39,$B$39:$B$66)+COUNTIF($B$39:$B$66,B39)-1 -> 11 | E39: =INDEX($A$39:$B$66,MATCH(ROW()-38,$D$39:$D$66,0),1) -> Barcelona | F39: =LOOKUP(E39,$A$39:$A$66,$B$39:$B$66) -> 520854 | G39: =LOOKUP(E39,$A$39:$A$66,$C$39:$C$66) -> 198842
A40: =A8 -> Alicante | B40: =E8 -> 43466 | C40: =D8 -> 2413 | D40: =_xlfn.RANK.EQ(B40,$B$39:$B$66)+COUNTIF($B$39:$B$66,B40)-1 -> 9 | E40: =INDEX($A$39:$B$66,MATCH(ROW()-38,$D$39:$D$66,0),1) -> Las Palmas | F40: =LOOKUP(E40,$A$39:$A$66,$B$39:$B$66) -> 450299 | G40: =LOOKUP(E40,$A$39:$A$66,$C$39:$C$66) -> 517241
A41: =A9 -> Almería | B41: =E9 -> 3819 | C41: =D9 -> 592 | D41: =_xlfn.RANK.EQ(B41,$B$39:$B$66)+COUNTIF($B$39:$B$66,B41)-1 -> 14 | E41: =INDEX($A$39:$B$66,MATCH(ROW()-38,$D$39:$D$66,0),1) -> Baleares | F41: =LOOKUP(E41,$A$39:$A$66,$B$39:$B$66) -> 345099 | G41: =LOOKUP(E41,$A$39:$A$66,$C$39:$C$66) -> 156757
A42: =A10 -> Avilés | B42: =E10 -> 137 | C42: =D10 -> 0 | D42: =_xlfn.RANK.EQ(B42,$B$39:$B$66)+COUNTIF($B$39:$B$66,B42)-1 -> 26 | E42: =INDEX($A$39:$B$66,MATCH(ROW()-38,$D$39:$D$66,0),1) -> Santa Cruz de Tenerife | F42: =LOOKUP(E42,$A$39:$A$66,$B$39:$B$66) -> 304405 | G42: =LOOKUP(E42,$A$39:$A$66,$C$39:$C$66) -> 345093
A43: =A11 -> Bahía de Algeciras | B43: =E11 -> 94 | C43: =D11 -> 0 | D43: =_xlfn.RANK.EQ(B43,$B$39:$B$66)+COUNTIF($B$39:$B$66,B43)-1 -> 27 | E43: =INDEX($A$39:$B$66,MATCH(ROW()-38,$D$39:$D$66,0),1) -> Bahía de Cádiz | F43: =LOOKUP(E43,$A$39:$A$66,$B$39:$B$66) -> 133511 | G43: =LOOKUP(E43,$A$39:$A$66,$C$39:$C$66) -> 40690
A44: =A12 -> Bahía de Cádiz | B44: =E12 -> 133511 | C44: =D12 -> 40690 | D44: =_xlfn.RANK.EQ(B44,$B$39:$B$66)+COUNTIF($B$39:$B$66,B44)-1 -> 5 | E44: =INDEX($A$39:$B$66,MATCH(ROW()-38,$D$39:$D$66,0),1) -> Valencia | F44: =LOOKUP(E44,$A$39:$A$66,$B$39:$B$66) -> 130869 | G44: =LOOKUP(E44,$A$39:$A$66,$C$39:$C$66) -> 26286
A45: =A13 -> Baleares | B45: =E13 -> 345099 | C45: =D13 -> 156757 | D45: =_xlfn.RANK.EQ(B45,$B$39:$B$66)+COUNTIF($B$39:$B$66,B45)-1 -> 3 | E45: =INDEX($A$39:$B$66,MATCH(ROW()-38,$D$39:$D$66,0),1) -> Málaga | F45: =LOOKUP(E45,$A$39:$A$66,$B$39:$B$66) -> 118330 | G45: =LOOKUP(E45,$A$39:$A$66,$C$39:$C$66) -> 40172
A46: =A14 -> Barcelona | B46: =E14 -> 520854 | C46: =D14 -> 198842 | D46: =_xlfn.RANK.EQ(B46,$B$39:$B$66)+COUNTIF($B$39:$B$66,B46)-1 -> 1 | E46: =INDEX($A$39:$B$66,MATCH(ROW()-38,$D$39:$D$66,0),1) -> Cartagena | F46: =LOOKUP(E46,$A$39:$A$66,$B$39:$B$66) -> 70087 | G46: =LOOKUP(E46,$A$39:$A$66,$C$39:$C$66) -> 18862
A47: =A15 -> Bilbao | B47: =E15 -> 13079 | C47: =D15 -> 0 | D47: =_xlfn.RANK.EQ(B47,$B$39:$B$66)+COUNTIF($B$39:$B$66,B47)-1 -> 12 | E47: =INDEX($A$39:$B$66,MATCH(ROW()-38,$D$39:$D$66,0),1) -> Alicante | F47: =LOOKUP(E47,$A$39:$A$66,$B$39:$B$66) -> 43466 | G47: =LOOKUP(E47,$A$39:$A$66,$C$39:$C$66) -> 2413
A48: =A16 -> Cartagena | B48: =E16 -> 70087 | C48: =D16 -> 18862 | D48: =_xlfn.RANK.EQ(B48,$B$39:$B$66)+COUNTIF($B$39:$B$66,B48)-1 -> 8 | E48: =INDEX($A$39:$B$66,MATCH(ROW()-38,$D$39:$D$66,0),1) -> Vigo | F48: =LOOKUP(E48,$A$39:$A$66,$B$39:$B$66) -> 34656 | G48: =LOOKUP(E48,$A$39:$A$66,$C$39:$C$66) -> 9425
A49: =A17 -> Castellón | B49: =E17 -> 1077 | C49: =D17 -> 0 | D49: =_xlfn.RANK.EQ(B49,$B$39:$B$66)+COUNTIF($B$39:$B$66,B49)-1 -> 22 | E49: =INDEX($A$39:$B$66,MATCH(ROW()-38,$D$39:$D$66,0),1) -> A Coruña | F49: =LOOKUP(E49,$A$39:$A$66,$B$39:$B$66) -> 30177 | G49: =LOOKUP(E49,$A$39:$A$66,$C$39:$C$66) -> 6586
A50: =A18 -> Ceuta | B50: =E18 -> 150 | C50: =D18 -> 0 | D50: =_xlfn.RANK.EQ(B50,$B$39:$B$66)+COUNTIF($B$39:$B$66,B50)-1 -> 24 | E50: =INDEX($A$39:$B$66,MATCH(ROW()-38,$D$39:$D$66,0),1) -> Bilbao | F50: =LOOKUP(E50,$A$39:$A$66,$B$39:$B$66) -> 13079 | G50: =LOOKUP(E50,$A$39:$A$66,$C$39:$C$66) -> 0
... A66: =A34 -> Vilagarcía | B66: =E34 -> 1166 | C66: =D34 -> 0 | D66: =_xlfn.RANK.EQ(B66,$B$39:$B$66)+COUNTIF($B$39:$B$66,B66)-1 -> 21 | E66: =INDEX($A$39:$B$66,MATCH(ROW()-38,$D$39:$D$66,0),1) -> Marín y Ría de Pontevedra | F66: =LOOKUP(E66,$A$39:$A$66,$B$39:$B$66) -> 0 | G66: =LOOKUP(E66,$A$39:$A$66,$C$39:$C$66) -> 0

Sheet Automóviles régimen pasaje
F1: 12.1. AUTOMÓVILES EN RÉGIMEN DE PASAJE (unidades)
A5: Autoridad Portuaria | B5: ='Resumen general'!D6 -> Mes diciembre | D5: ='Resumen general'!F6 -> Acumulado desde enero | L5: ='Resumen general'!I4 -> Fecha: 30/01/2023
B6: ='Resumen general'!D7 -> 2020 | C6: ='Resumen general'!E7 -> 2021 | D6: ='Resumen general'!F7 -> 2020 | E6: ='Resumen general'!G7 -> 2021 | F6: Var. (%)
A7: A Coruña | B7: 0 | C7: 0 | D7: 0 | E7: 0 | F7: =((E7*100)/D7)-100 -> #DIV/0!
A8: Alicante | B8: 90 | C8: 2420 | D8: 7762 | E8: 5408 | F8: =((E8*100)/D8)-100 -> -30.327235
A9: Almería | B9: 457 | C9: 4113 | D9: 29887 | E9: 12213 | F9: =((E9*100)/D9)-100 -> -59.136079
A10: Avilés | B10: 0 | C10: 0 | D10: 0 | E10: 0 | F10: =((E10*100)/D10)-100 -> #DIV/0!
A11: Bahía de Algeciras | B11: 12422 | C11: 22978 | D11: 283192 | E11: 207843 | F11: =((E11*100)/D11)-100 -> -26.607037
A12: Bahía de Cádiz | B12: 557 | C12: 384 | D12: 8632 | E12: 10485 | F12: =((E12*100)/D12)-100 -> 21.466636
A13: Baleares | B13: 31649 | C13: 56534 | D13: 652782 | E13: 951491 | F13: =((E13*100)/D13)-100 -> 45.759381
A14: Barcelona | B14: 7296 | C14: 19426 | D14: 176306 | E14: 294309 | F14: =((E14*100)/D14)-100 -> 66.930791
A15: Bilbao | B15: 182 | C15: 646 | D15: 21207 | E15: 25247 | F15: =((E15*100)/D15)-100 -> 19.050314
A16: Cartagena | B16: 0 | C16: 0 | D16: 0 | E16: 0 | F16: =((E16*100)/D16)-100 -> #DIV/0!
A17: Castellón | B17: 0 | C17: 0 | D17: 0 | E17: 0 | F17: =((E17*100)/D17)-100 -> #DIV/0!
A18: Ceuta | B18: 11639 | C18: 22784 | D18: 173001 | E18: 204230 | F18: =((E18*100)/D18)-100 -> 18.051341
... A34: Vilagarcía | B34: 0 | C34: 0 | D34: 0 | E34: 0 | F34: =((E34*100)/D34)-100 -> #DIV/0!
A35: Total | B35: =SUM(B7:B34) -> 210433 | C35: =SUM(C7:C34) -> 374361 | D35: =SUM(D7:D34) -> 3131747 | E35: =SUM(E7:E34) -> 4066713 | F35: =((E35*100)/D35)-100 -> 29.854455
A36: Incluye embarques, desembarques y en tránsito.
B38: =E6 -> 2021 | C38: =D6 -> 2020 | F38: =B38 -> 2021 | G38: =C38 -> 2020
A39: =A7 -> A Coruña | B39: =E7 -> 0 | C39: =D7 -> 0 | D39: =_xlfn.RANK.EQ(B39,$B$39:$B$66)+COUNTIF($B$39:$B$66,B39)-1 -> 28 | E39: =INDEX($A$39:$B$66,MATCH(ROW()-38,$D$39:$D$66,0),1) -> Santa Cruz de Tenerife | F39: =LOOKUP(E39,$A$39:$A$66,$B$39:$B$66) -> 1485402 | G39: =LOOKUP(E39,$A$39:$A$66,$C$39:$C$66) -> 1103884
A40: =A8 -> Alicante | B40: =E8 -> 5408 | C40: =D8 -> 7762 | D40: =_xlfn.RANK.EQ(B40,$B$39:$B$66)+COUNTIF($B$39:$B$66,B40)-1 -> 16 | E40: =INDEX($A$39:$B$66,MATCH(ROW()-38,$D$39:$D$66,0),1) -> Baleares | F40: =LOOKUP(E40,$A$39:$A$66,$B$39:$B$66) -> 951491 | G40: =LOOKUP(E40,$A$39:$A$66,$C$39:$C$66) -> 652782
A41: =A9 -> Almería | B41: =E9 -> 12213 | C41: =D9 -> 29887 | D41: =_xlfn.RANK.EQ(B41,$B$39:$B$66)+COUNTIF($B$39:$B$66,B41)-1 -> 14 | E41: =INDEX($A$39:$B$66,MATCH(ROW()-38,$D$39:$D$66,0),1) -> Las Palmas | F41: =LOOKUP(E41,$A$39:$A$66,$B$39:$B$66) -> 557923 | G41: =LOOKUP(E41,$A$39:$A$66,$C$39:$C$66) -> 450642
A42: =A10 -> Avilés | B42: =E10 -> 0 | C42: =D10 -> 0 | D42: =_xlfn.RANK.EQ(B42,$B$39:$B$66)+COUNTIF($B$39:$B$66,B42)-1 -> 28 | E42: =INDEX($A$39:$B$66,MATCH(ROW()-38,$D$39:$D$66,0),1) -> Barcelona | F42: =LOOKUP(E42,$A$39:$A$66,$B$39:$B$66) -> 294309 | G42: =LOOKUP(E42,$A$39:$A$66,$C$39:$C$66) -> 176306
A43: =A11 -> Bahía de Algeciras | B43: =E11 -> 207843 | C43: =D11 -> 283192 | D43: =_xlfn.RANK.EQ(B43,$B$39:$B$66)+COUNTIF($B$39:$B$66,B43)-1 -> 5 | E43: =INDEX($A$39:$B$66,MATCH(ROW()-38,$D$39:$D$66,0),1) -> Bahía de Algeciras | F43: =LOOKUP(E43,$A$39:$A$66,$B$39:$B$66) -> 207843 | G43: =LOOKUP(E43,$A$39:$A$66,$C$39:$C$66) -> 283192
A44: =A12 -> Bahía de Cádiz | B44: =E12 -> 10485 | C44: =D12 -> 8632 | D44: =_xlfn.RANK.EQ(B44,$B$39:$B$66)+COUNTIF($B$39:$B$66,B44)-1 -> 15 | E44: =INDEX($A$39:$B$66,MATCH(ROW()-38,$D$39:$D$66,0),1) -> Ceuta | F44: =LOOKUP(E44,$A$39:$A$66,$B$39:$B$66) -> 204230 | G44: =LOOKUP(E44,$A$39:$A$66,$C$39:$C$66) -> 173001
A45: =A13 -> Baleares | B45: =E13 -> 951491 | C45: =D13 -> 652782 | D45: =_xlfn.RANK.EQ(B45,$B$39:$B$66)+COUNTIF($B$39:$B$66,B45)-1 -> 2 | E45: =INDEX($A$39:$B$66,MATCH(ROW()-38,$D$39:$D$66,0),1) -> Valencia | F45: =LOOKUP(E45,$A$39:$A$66,$B$39:$B$66) -> 132299 | G45: =LOOKUP(E45,$A$39:$A$66,$C$39:$C$66) -> 95399
A46: =A14 -> Barcelona | B46: =E14 -> 294309 | C46: =D14 -> 176306 | D46: =_xlfn.RANK.EQ(B46,$B$39:$B$66)+COUNTIF($B$39:$B$66,B46)-1 -> 4 | E46: =INDEX($A$39:$B$66,MATCH(ROW()-38,$D$39:$D$66,0),1) -> Santander | F46: =LOOKUP(E46,$A$39:$A$66,$B$39:$B$66) -> 55326 | G46: =LOOKUP(E46,$A$39:$A$66,$C$39:$C$66) -> 31431
A47: =A15 -> Bilbao | B47: =E15 -> 25247 | C47: =D15 -> 21207 | D47: =_xlfn.RANK.EQ(B47,$B$39:$B$66)+COUNTIF($B$39:$B$66,B47)-1 -> 12 | E47: =INDEX($A$39:$B$66,MATCH(ROW()-38,$D$39:$D$66,0),1) -> Melilla | F47: =LOOKUP(E47,$A$39:$A$66,$B$39:$B$66) -> 52945 | G47: =LOOKUP(E47,$A$39:$A$66,$C$39:$C$66) -> 43443
A48: =A16 -> Cartagena | B48: =E16 -> 0 | C48: =D16 -> 0 | D48: =_xlfn.RANK.EQ(B48,$B$39:$B$66)+COUNTIF($B$39:$B$66,B48)-1 -> 28 | E48: =INDEX($A$39:$B$66,MATCH(ROW()-38,$D$39:$D$66,0),1) -> Málaga | F48: =LOOKUP(E48,$A$39:$A$66,$B$39:$B$66) -> 31729 | G48: =LOOKUP(E48,$A$39:$A$66,$C$39:$C$66) -> 31570
A49: =A17 -> Castellón | B49: =E17 -> 0 | C49: =D17 -> 0 | D49: =_xlfn.RANK.EQ(B49,$B$39:$B$66)+COUNTIF($B$39:$B$66,B49)-1 -> 28 | E49: =INDEX($A$39:$B$66,MATCH(ROW()-38,$D$39:$D$66,0),1) -> Huelva | F49: =LOOKUP(E49,$A$39:$A$66,$B$39:$B$66) -> 26877 | G49: =LOOKUP(E49,$A$39:$A$66,$C$39:$C$66) -> 18612
A50: =A18 -> Ceuta | B50: =E18 -> 204230 | C50: =D18 -> 173001 | D50: =_xlfn.RANK.EQ(B50,$B$39:$B$66)+COUNTIF($B$39:$B$66,B50)-1 -> 6 | E50: =INDEX($A$39:$B$66,MATCH(ROW()-38,$D$39:$D$66,0),1) -> Bilbao | F50: =LOOKUP(E50,$A$39:$A$66,$B$39:$B$66) -> 25247 | G50: =LOOKUP(E50,$A$39:$A$66,$C$39:$C$66) -> 21207
... A66: =A34 -> Vilagarcía | B66: =E34 -> 0 | C66: =D34 -> 0 | D66: =_xlfn.RANK.EQ(B66,$B$39:$B$66)+COUNTIF($B$39:$B$66,B66)-1 -> 28 | E66: =INDEX($A$39:$B$66,MATCH(ROW()-38,$D$39:$D$66,0),1) -> A Coruña | F66: =LOOKUP(E66,$A$39:$A$66,$B$39:$B$66) -> 0 | G66: =LOOKUP(E66,$A$39:$A$66,$C$39:$C$66) -> 0

Sheet Automóviles régimen mercancía
E1: 12.2. TURISMOS, AUTOBUSES Y CAMIONES EN RÉGIMEN DE MERCANCÍA
H2: (unidades)
A5: Autoridad Portuaria | B5: ='Resumen general'!D6 -> Mes diciembre | D5: ='Resumen general'!F6 -> Acumulado desde enero | L5: ='Resumen general'!I4 -> Fecha: 30/01/2023
B6: ='Resumen general'!D7 -> 2020 | C6: ='Resumen general'!E7 -> 2021 | D6: ='Resumen general'!F7 -> 2020 | E6: ='Resumen general'!G7 -> 2021 | F6: Var. (%)
A7: A Coruña | B7: 0 | C7: 0 | D7: 0 | E7: 0 | F7: =((E7*100)/D7)-100 -> #DIV/0!
A8: Alicante | B8: 255 | C8: 28 | D8: 1690 | E8: 578 | F8: =((E8*100)/D8)-100 -> -65.798817
A9: Almería | B9: 48 | C9: 98 | D9: 450 | E9: 1460 | F9: =((E9*100)/D9)-100 -> 224.44444
A10: Avilés | B10: 0 | C10: 0 | D10: 0 | E10: 0 | F10: =((E10*100)/D10)-100 -> #DIV/0!
A11: Bahía de Algeciras | B11: 482 | C11: 381 | D11: 3889 | E11: 5998 | F11: =((E11*100)/D11)-100 -> 54.229879
A12: Bahía de Cádiz | B12: 1083 | C12: 1306 | D12: 12884 | E12: 12336 | F12: =((E12*100)/D12)-100 -> -4.2533375
A13: Baleares | B13: 3416 | C13: 4546 | D13: 105142 | E13: 121577 | F13: =((E13*100)/D13)-100 -> 15.631242
A14: Barcelona | B14: 56237 | C14: 41922 | D14: 811797 | E14: 497283 | F14: =((E14*100)/D14)-100 -> -38.742937
A15: Bilbao | B15: 1583 | C15: 2287 | D15: 7891 | E15: 9830.7864 | F15: =((E15*100)/D15)-100 -> 24.582263
A16: Cartagena | B16: 2 | C16: 0 | D16: 0 | E16: 43 | F16: =((E16*100)/D16)-100 -> #DIV/0!
A17: Castellón | B17: 3 | C17: 28 | D17: 113 | E17: 306 | F17: =((E17*100)/D17)-100 -> 170.79646
A18: Ceuta | B18: 86 | C18: 64 | D18: 992 | E18: 991 | F18: =((E18*100)/D18)-100 -> -0.10080645
... A34: Vilagarcía | B34: 9 | C34: 4 | D34: 224 | E34: 161 | F34: =((E34*100)/D34)-100 -> -28.125
A35: Total | B35: =SUM(B7:B34) -> 253800 | C35: =SUM(C7:C34) -> 191575 | D35: =SUM(D7:D34) -> 2828871 | E35: =SUM(E7:E34) -> 2416471.8 | F35: =((E35*100)/D35)-100 -> -14.578226
A36: Incluye cargas, descargas, tránsitos y transbordos. Sólo turismos, autobuses y camiones.
B38: =E6 -> 2021 | C38: =D6 -> 2020 | F38: =B38 -> 2021 | G38: =C38 -> 2020
A39: =A7 -> A Coruña | B39: =E7 -> 0 | C39: =D7 -> 0 | D39: =_xlfn.RANK.EQ(B39,$B$39:$B$66)+COUNTIF($B$39:$B$66,B39)-1 -> 28 | E39: =INDEX($A$39:$B$66,MATCH(ROW()-38,$D$39:$D$66,0),1) -> Vigo | F39: =LOOKUP(E39,$A$39:$A$66,$B$39:$B$66) -> 503295 | G39: =LOOKUP(E39,$A$39:$A$66,$C$39:$C$66) -> 511797
A40: =A8 -> Alicante | B40: =E8 -> 578 | C40: =D8 -> 1690 | D40: =_xlfn.RANK.EQ(B40,$B$39:$B$66)+COUNTIF($B$39:$B$66,B40)-1 -> 19 | E40: =INDEX($A$39:$B$66,MATCH(ROW()-38,$D$39:$D$66,0),1) -> Barcelona | F40: =LOOKUP(E40,$A$39:$A$66,$B$39:$B$66) -> 497283 | G40: =LOOKUP(E40,$A$39:$A$66,$C$39:$C$66) -> 811797
A41: =A9 -> Almería | B41: =E9 -> 1460 | C41: =D9 -> 450 | D41: =_xlfn.RANK.EQ(B41,$B$39:$B$66)+COUNTIF($B$39:$B$66,B41)-1 -> 16 | E41: =INDEX($A$39:$B$66,MATCH(ROW()-38,$D$39:$D$66,0),1) -> Valencia | F41: =LOOKUP(E41,$A$39:$A$66,$B$39:$B$66) -> 488665 | G41: =LOOKUP(E41,$A$39:$A$66,$C$39:$C$66) -> 529133
A42: =A10 -> Avilés | B42: =E10 -> 0 | C42: =D10 -> 0 | D42: =_xlfn.RANK.EQ(B42,$B$39:$B$66)+COUNTIF($B$39:$B$66,B42)-1 -> 28 | E42: =INDEX($A$39:$B$66,MATCH(ROW()-38,$D$39:$D$66,0),1) -> Santander | F42: =LOOKUP(E42,$A$39:$A$66,$B$39:$B$66) -> 277783 | G42: =LOOKUP(E42,$A$39:$A$66,$C$39:$C$66) -> 324215
A43: =A11 -> Bahía de Algeciras | B43: =E11 -> 5998 | C43: =D11 -> 3889 | D43: =_xlfn.RANK.EQ(B43,$B$39:$B$66)+COUNTIF($B$39:$B$66,B43)-1 -> 13 | E43: =INDEX($A$39:$B$66,MATCH(ROW()-38,$D$39:$D$66,0),1) -> Pasaia | F43: =LOOKUP(E43,$A$39:$A$66,$B$39:$B$66) -> 209454 | G43: =LOOKUP(E43,$A$39:$A$66,$C$39:$C$66) -> 236381
A44: =A12 -> Bahía de Cádiz | B44: =E12 -> 12336 | C44: =D12 -> 12884 | D44: =_xlfn.RANK.EQ(B44,$B$39:$B$66)+COUNTIF($B$39:$B$66,B44)-1 -> 11 | E44: =INDEX($A$39:$B$66,MATCH(ROW()-38,$D$39:$D$66,0),1) -> Tarragona | F44: =LOOKUP(E44,$A$39:$A$66,$B$39:$B$66) -> 135600 | G44: =LOOKUP(E44,$A$39:$A$66,$C$39:$C$66) -> 128071
A45: =A13 -> Baleares | B45: =E13 -> 121577 | C45: =D13 -> 105142 | D45: =_xlfn.RANK.EQ(B45,$B$39:$B$66)+COUNTIF($B$39:$B$66,B45)-1 -> 7 | E45: =INDEX($A$39:$B$66,MATCH(ROW()-38,$D$39:$D$66,0),1) -> Baleares | F45: =LOOKUP(E45,$A$39:$A$66,$B$39:$B$66) -> 121577 | G45: =LOOKUP(E45,$A$39:$A$66,$C$39:$C$66) -> 105142
A46: =A14 -> Barcelona | B46: =E14 -> 497283 | C46: =D14 -> 811797 | D46: =_xlfn.RANK.EQ(B46,$B$39:$B$66)+COUNTIF($B$39:$B$66,B46)-1 -> 2 | E46: =INDEX($A$39:$B$66,MATCH(ROW()-38,$D$39:$D$66,0),1) -> Las Palmas | F46: =LOOKUP(E46,$A$39:$A$66,$B$39:$B$66) -> 56668 | G46: =LOOKUP(E46,$A$39:$A$66,$C$39:$C$66) -> 61381
A47: =A15 -> Bilbao | B47: =E15 -> 9830.7864 | C47: =D15 -> 7891 | D47: =_xlfn.RANK.EQ(B47,$B$39:$B$66)+COUNTIF($B$39:$B$66,B47)-1 -> 12 | E47: =INDEX($A$39:$B$66,MATCH(ROW()-38,$D$39:$D$66,0),1) -> Santa Cruz de Tenerife | F47: =LOOKUP(E47,$A$39:$A$66,$B$39:$B$66) -> 52759 | G47: =LOOKUP(E47,$A$39:$A$66,$C$39:$C$66) -> 53197
A48: =A16 -> Cartagena | B48: =E16 -> 43 | C48: =D16 -> 0 | D48: =_xlfn.RANK.EQ(B48,$B$39:$B$66)+COUNTIF($B$39:$B$66,B48)-1 -> 23 | E48: =INDEX($A$39:$B$66,MATCH(ROW()-38,$D$39:$D$66,0),1) -> Málaga | F48: =LOOKUP(E48,$A$39:$A$66,$B$39:$B$66) -> 34377 | G48: =LOOKUP(E48,$A$39:$A$66,$C$39:$C$66) -> 34034
A49: =A17 -> Castellón | B49: =E17 -> 306 | C49: =D17 -> 113 | D49: =_xlfn.RANK.EQ(B49,$B$39:$B$66)+COUNTIF($B$39:$B$66,B49)-1 -> 20 | E49: =INDEX($A$39:$B$66,MATCH(ROW()-38,$D$39:$D$66,0),1) -> Bahía de Cádiz | F49: =LOOKUP(E49,$A$39:$A$66,$B$39:$B$66) -> 12336 | G49: =LOOKUP(E49,$A$39:$A$66,$C$39:$C$66) -> 12884
A50: =A18 -> Ceuta | B50: =E18 -> 991 | C50: =D18 -> 992 | D50: =_xlfn.RANK.EQ(B50,$B$39:$B$66)+COUNTIF($B$39:$B$66,B50)-1 -> 18 | E50: =INDEX($A$39:$B$66,MATCH(ROW()-38,$D$39:$D$66,0),1) -> Bilbao | F50: =LOOKUP(E50,$A$39:$A$66,$B$39:$B$66) -> 9830.7864 | G50: =LOOKUP(E50,$A$39:$A$66,$C$39:$C$66) -> 7891
... A66: =A34 -> Vilagarcía | B66: =E34 -> 161 | C66: =D34 -> 224 | D66: =_xlfn.RANK.EQ(B66,$B$39:$B$66)+COUNTIF($B$39:$B$66,B66)-1 -> 21 | E66: =INDEX($A$39:$B$66,MATCH(ROW()-38,$D$39:$D$66,0),1) -> A Coruña | F66: =LOOKUP(E66,$A$39:$A$66,$B$39:$B$66) -> 0 | G66: =LOOKUP(E66,$A$39:$A$66,$C$39:$C$66) -> 0

Sheet Buques número
F1: 13. BUQUES MERCANTES (unidades)
A5: Autoridad Portuaria | B5: ='Resumen general'!D6 -> Mes diciembre | D5: ='Resumen general'!F6 -> Acumulado desde enero | L5: ='Resumen general'!I4 -> Fecha: 30/01/2023
B6: ='Resumen general'!D7 -> 2020 | C6: ='Resumen general'!E7 -> 2021 | D6: ='Resumen general'!F7 -> 2020 | E6: ='Resumen general'!G7 -> 2021 | F6: Var. (%)
A7: A Coruña | B7: 62 | C7: 95 | D7: 841 | E7: 938 | F7: =((E7*100)/D7)-100 -> 11.533888
A8: Alicante | B8: 53 | C8: 47 | D8: 546 | E8: 504 | F8: =((E8*100)/D8)-100 -> -7.6923077
A9: Almería | B9: 89 | C9: 115 | D9: 1213 | E9: 1289 | F9: =((E9*100)/D9)-100 -> 6.2654575
A10: Avilés | B10: 55 | C10: 66 | D10: 690 | E10: 831 | F10: =((E10*100)/D10)-100 -> 20.434783
A11: Bahía de Algeciras | B11: 1410 | C11: 1755 | D11: 18322 | E11: 19519 | F11: =((E11*100)/D11)-100 -> 6.5331296
A12: Bahía de Cádiz | B12: 101 | C12: 123 | D12: 1079 | E12: 1518 | F12: =((E12*100)/D12)-100 -> 40.68582
A13: Baleares | B13: 2319 | C13: 2591 | D13: 30494 | E13: 43635 | F13: =((E13*100)/D13)-100 -> 43.093723
A14: Barcelona | B14: 560 | C14: 639 | D14: 6724 | E14: 7518 | F14: =((E14*100)/D14)-100 -> 11.808447
A15: Bilbao | B15: 134 | C15: 194 | D15: 2338 | E15: 2669 | F15: =((E15*100)/D15)-100 -> 14.157399
A16: Cartagena | B16: 162 | C16: 183 | D16: 1982 | E16: 2078 | F16: =((E16*100)/D16)-100 -> 4.8435923
A17: Castellón | B17: 136 | C17: 123 | D17: 1629 | E17: 1666 | F17: =((E17*100)/D17)-100 -> 2.2713321
A18: Ceuta | B18: 608 | C18: 798 | D18: 7219 | E18: 7783 | F18: =((E18*100)/D18)-100 -> 7.8127164
... A34: Vilagarcía | B34: 27 | C34: 31 | D34: 315 | E34: 407 | F34: =((E34*100)/D34)-100 -> 29.206349
A35: Total | B35: =SUM(B7:B34) -> 9546 | C35: =SUM(C7:C34) -> 11160 | D35: =SUM(D7:D34) -> 117829 | E35: =SUM(E7:E34) -> 138889 | F35: =((E35*100)/D35)-100 -> 17.873359
A36: Incluye tanques, graneleros, de carga general, ro-ro, solo de pasaje, cruceros, portacontenedores y otros buques mercantes.
B38: =E6 -> 2021 | C38: =D6 -> 2020 | F38: =B38 -> 2021 | G38: =C38 -> 2020
A39: =A7 -> A Coruña | B39: =E7 -> 938 | C39: =D7 -> 841 | D39: =_xlfn.RANK.EQ(B39,$B$39:$B$66)+COUNTIF($B$39:$B$66,B39)-1 -> 23 | E39: =INDEX($A$39:$B$66,MATCH(ROW()-38,$D$39:$D$66,0),1) -> Baleares | F39: =LOOKUP(E39,$A$39:$A$66,$B$39:$B$66) -> 43635 | G39: =LOOKUP(E39,$A$39:$A$66,$C$39:$C$66) -> 30494
A40: =A8 -> Alicante | B40: =E8 -> 504 | C40: =D8 -> 546 | D40: =_xlfn.RANK.EQ(B40,$B$39:$B$66)+COUNTIF($B$39:$B$66,B40)-1 -> 26 | E40: =INDEX($A$39:$B$66,MATCH(ROW()-38,$D$39:$D$66,0),1) -> Bahía de Algeciras | F40: =LOOKUP(E40,$A$39:$A$66,$B$39:$B$66) -> 19519 | G40: =LOOKUP(E40,$A$39:$A$66,$C$39:$C$66) -> 18322
A41: =A9 -> Almería | B41: =E9 -> 1289 | C41: =D9 -> 1213 | D41: =_xlfn.RANK.EQ(B41,$B$39:$B$66)+COUNTIF($B$39:$B$66,B41)-1 -> 16 | E41: =INDEX($A$39:$B$66,MATCH(ROW()-38,$D$39:$D$66,0),1) -> Santa Cruz de Tenerife | F41: =LOOKUP(E41,$A$39:$A$66,$B$39:$B$66) -> 14167 | G41: =LOOKUP(E41,$A$39:$A$66,$C$39:$C$66) -> 12143
A42: =A10 -> Avilés | B42: =E10 -> 831 | C42: =D10 -> 690 | D42: =_xlfn.RANK.EQ(B42,$B$39:$B$66)+COUNTIF($B$39:$B$66,B42)-1 -> 24 | E42: =INDEX($A$39:$B$66,MATCH(ROW()-38,$D$39:$D$66,0),1) -> Las Palmas | F42: =LOOKUP(E42,$A$39:$A$66,$B$39:$B$66) -> 11809 | G42: =LOOKUP(E42,$A$39:$A$66,$C$39:$C$66) -> 11271
A43: =A11 -> Bahía de Algeciras | B43: =E11 -> 19519 | C43: =D11 -> 18322 | D43: =_xlfn.RANK.EQ(B43,$B$39:$B$66)+COUNTIF($B$39:$B$66,B43)-1 -> 2 | E43: =INDEX($A$39:$B$66,MATCH(ROW()-38,$D$39:$D$66,0),1) -> Ceuta | F43: =LOOKUP(E43,$A$39:$A$66,$B$39:$B$66) -> 7783 | G43: =LOOKUP(E43,$A$39:$A$66,$C$39:$C$66) -> 7219
A44: =A12 -> Bahía de Cádiz | B44: =E12 -> 1518 | C44: =D12 -> 1079 | D44: =_xlfn.RANK.EQ(B44,$B$39:$B$66)+COUNTIF($B$39:$B$66,B44)-1 -> 15 | E44: =INDEX($A$39:$B$66,MATCH(ROW()-38,$D$39:$D$66,0),1) -> Barcelona | F44: =LOOKUP(E44,$A$39:$A$66,$B$39:$B$66) -> 7518 | G44: =LOOKUP(E44,$A$39:$A$66,$C$39:$C$66) -> 6724
A45: =A13 -> Baleares | B45: =E13 -> 43635 | C45: =D13 -> 30494 | D45: =_xlfn.RANK.EQ(B45,$B$39:$B$66)+COUNTIF($B$39:$B$66,B45)-1 -> 1 | E45: =INDEX($A$39:$B$66,MATCH(ROW()-38,$D$39:$D$66,0),1) -> Valencia | F45: =LOOKUP(E45,$A$39:$A$66,$B$39:$B$66) -> 7295 | G45: =LOOKUP(E45,$A$39:$A$66,$C$39:$C$66) -> 6851
A46: =A14 -> Barcelona | B46: =E14 -> 7518 | C46: =D14 -> 6724 | D46: =_xlfn.RANK.EQ(B46,$B$39:$B$66)+COUNTIF($B$39:$B$66,B46)-1 -> 6 | E46: =INDEX($A$39:$B$66,MATCH(ROW()-38,$D$39:$D$66,0),1) -> Bilbao | F46: =LOOKUP(E46,$A$39:$A$66,$B$39:$B$66) -> 2669 | G46: =LOOKUP(E46,$A$39:$A$66,$C$39:$C$66) -> 2338
A47: =A15 -> Bilbao | B47: =E15 -> 2669 | C47: =D15 -> 2338 | D47: =_xlfn.RANK.EQ(B47,$B$39:$B$66)+COUNTIF($B$39:$B$66,B47)-1 -> 8 | E47: =INDEX($A$39:$B$66,MATCH(ROW()-38,$D$39:$D$66,0),1) -> Tarragona | F47: =LOOKUP(E47,$A$39:$A$66,$B$39:$B$66) -> 2618 | G47: =LOOKUP(E47,$A$39:$A$66,$C$39:$C$66) -> 2189
A48: =A16 -> Cartagena | B48: =E16 -> 2078 | C48: =D16 -> 1982 | D48: =_xlfn.RANK.EQ(B48,$B$39:$B$66)+COUNTIF($B$39:$B$66,B48)-1 -> 11 | E48: =INDEX($A$39:$B$66,MATCH(ROW()-38,$D$39:$D$66,0),1) -> Huelva | F48: =LOOKUP(E48,$A$39:$A$66,$B$39:$B$66) -> 2265 | G48: =LOOKUP(E48,$A$39:$A$66,$C$39:$C$66) -> 2216
A49: =A17 -> Castellón | B49: =E17 -> 1666 | C49: =D17 -> 1629 | D49: =_xlfn.RANK.EQ(B49,$B$39:$B$66)+COUNTIF($B$39:$B$66,B49)-1 -> 12 | E49: =INDEX($A$39:$B$66,MATCH(ROW()-38,$D$39:$D$66,0),1) -> Cartagena | F49: =LOOKUP(E49,$A$39:$A$66,$B$39:$B$66) -> 2078 | G49: =LOOKUP(E49,$A$39:$A$66,$C$39:$C$66) -> 1982
A50: =A18 -> Ceuta | B50: =E18 -> 7783 | C50: =D18 -> 7219 | D50: =_xlfn.RANK.EQ(B50,$B$39:$B$66)+COUNTIF($B$39:$B$66,B50)-1 -> 5 | E50: =INDEX($A$39:$B$66,MATCH(ROW()-38,$D$39:$D$66,0),1) -> Castellón | F50: =LOOKUP(E50,$A$39:$A$66,$B$39:$B$66) -> 1666 | G50: =LOOKUP(E50,$A$39:$A$66,$C$39:$C$66) -> 1629
... A66: =A34 -> Vilagarcía | B66: =E34 -> 407 | C66: =D34 -> 315 | D66: =_xlfn.RANK.EQ(B66,$B$39:$B$66)+COUNTIF($B$39:$B$66,B66)-1 -> 28 | E66: =INDEX($A$39:$B$66,MATCH(ROW()-38,$D$39:$D$66,0),1) -> Vilagarcía | F66: =LOOKUP(E66,$A$39:$A$66,$B$39:$B$66) -> 407 | G66: =LOOKUP(E66,$A$39:$A$66,$C$39:$C$66) -> 315

Sheet Buques GT
F1: 13.1. BUQUES MERCANTES (unidades de arqueo bruto)
A5: Autoridad Portuaria | B5: ='Resumen general'!D6 -> Mes diciembre | D5: ='Resumen general'!F6 -> Acumulado desde enero | L5: ='Resumen general'!I4 -> Fecha: 30/01/2023
B6: ='Resumen general'!D7 -> 2020 | C6: ='Resumen general'!E7 -> 2021 | D6: ='Resumen general'!F7 -> 2020 | E6: ='Resumen general'!G7 -> 2021 | F6: Var. (%)
A7: A Coruña | B7: 835319 | C7: 1928879 | D7: 10973047 | E7: 14420048 | F7: =((E7*100)/D7)-100 -> 31.413344
A8: Alicante | B8: 628255 | C8: 470731 | D8: 5851842 | E8: 8159091 | F8: =((E8*100)/D8)-100 -> 39.427739
A9: Almería | B9: 1185553 | C9: 1774687 | D9: 17937844 | E9: 20963512 | F9: =((E9*100)/D9)-100 -> 16.867512
A10: Avilés | B10: 365878 | C10: 449141 | D10: 4858866 | E10: 5682178 | F10: =((E10*100)/D10)-100 -> 16.94453
A11: Bahía de Algeciras | B11: 26804061 | C11: 33120919 | D11: 349267363 | E11: 366100961 | F11: =((E11*100)/D11)-100 -> 4.8196882
A12: Bahía de Cádiz | B12: 1010363 | C12: 2668604 | D12: 14599435 | E12: 26573581 | F12: =((E12*100)/D12)-100 -> 82.017873
A13: Baleares | B13: 10742345 | C13: 17488199 | D13: 147470349 | E13: 206553700 | F13: =((E13*100)/D13)-100 -> 40.064563
A14: Barcelona | B14: 17978969 | C14: 22852027 | D14: 220109528 | E14: 267717352 | F14: =((E14*100)/D14)-100 -> 21.629152
A15: Bilbao | B15: 2003861 | C15: 3651354 | D15: 40428166 | E15: 43311218 | F15: =((E15*100)/D15)-100 -> 7.1312955
A16: Cartagena | B16: 2856662 | C16: 3814921 | D16: 35240553 | E16: 39914097 | F16: =((E16*100)/D16)-100 -> 13.261835
A17: Castellón | B17: 1680666 | C17: 1799276 | D17: 21846429 | E17: 22902989 | F17: =((E17*100)/D17)-100 -> 4.8363053
A18: Ceuta | B18: 4351631 | C18: 5221250 | D18: 52167810 | E18: 47559355 | F18: =((E18*100)/D18)-100 -> -8.8339054
... A34: Vilagarcía | B34: 187761 | C34: 234303 | D34: 2311394 | E34: 2819916 | F34: =((E34*100)/D34)-100 -> 22.000663
A35: Total | B35: =SUM(B7:B34) -> 143811701 | C35: =SUM(C7:C34) -> 182864364 | D35: =SUM(D7:D34) -> 1.7743821e+09 | E35: =SUM(E7:E34) -> 2.0011887e+09 | F35: =((E35*100)/D35)-100 -> 12.782285
A36: Unidades de arqueo bruto en G.T.
B38: =E6 -> 2021 | C38: =D6 -> 2020 | F38: =B38 -> 2021 | G38: =C38 -> 2020
A39: =A7 -> A Coruña | B39: =E7 -> 14420048 | C39: =D7 -> 10973047 | D39: =_xlfn.RANK.EQ(B39,$B$39:$B$66)+COUNTIF($B$39:$B$66,B39)-1 -> 21 | E39: =INDEX($A$39:$B$66,MATCH(ROW()-38,$D$39:$D$66,0),1) -> Bahía de Algeciras | F39: =LOOKUP(E39,$A$39:$A$66,$B$39:$B$66) -> 366100961 | G39: =LOOKUP(E39,$A$39:$A$66,$C$39:$C$66) -> 349267363
A40: =A8 -> Alicante | B40: =E8 -> 8159091 | C40: =D8 -> 5851842 | D40: =_xlfn.RANK.EQ(B40,$B$39:$B$66)+COUNTIF($B$39:$B$66,B40)-1 -> 22 | E40: =INDEX($A$39:$B$66,MATCH(ROW()-38,$D$39:$D$66,0),1) -> Barcelona | F40: =LOOKUP(E40,$A$39:$A$66,$B$39:$B$66) -> 267717352 | G40: =LOOKUP(E40,$A$39:$A$66,$C$39:$C$66) -> 220109528
A41: =A9 -> Almería | B41: =E9 -> 20963512 | C41: =D9 -> 17937844 | D41: =_xlfn.RANK.EQ(B41,$B$39:$B$66)+COUNTIF($B$39:$B$66,B41)-1 -> 17 | E41: =INDEX($A$39:$B$66,MATCH(ROW()-38,$D$39:$D$66,0),1) -> Valencia | F41: =LOOKUP(E41,$A$39:$A$66,$B$39:$B$66) -> 255630994 | G41: =LOOKUP(E41,$A$39:$A$66,$C$39:$C$66) -> 243417632
A42: =A10 -> Avilés | B42: =E10 -> 5682178 | C42: =D10 -> 4858866 | D42: =_xlfn.RANK.EQ(B42,$B$39:$B$66)+COUNTIF($B$39:$B$66,B42)-1 -> 25 | E42: =INDEX($A$39:$B$66,MATCH(ROW()-38,$D$39:$D$66,0),1) -> Las Palmas | F42: =LOOKUP(E42,$A$39:$A$66,$B$39:$B$66) -> 232945919 | G42: =LOOKUP(E42,$A$39:$A$66,$C$39:$C$66) -> 226249298
A43: =A11 -> Bahía de Algeciras | B43: =E11 -> 366100961 | C43: =D11 -> 349267363 | D43: =_xlfn.RANK.EQ(B43,$B$39:$B$66)+COUNTIF($B$39:$B$66,B43)-1 -> 1 | E43: =INDEX($A$39:$B$66,MATCH(ROW()-38,$D$39:$D$66,0),1) -> Baleares | F43: =LOOKUP(E43,$A$39:$A$66,$B$39:$B$66) -> 206553700 | G43: =LOOKUP(E43,$A$39:$A$66,$C$39:$C$66) -> 147470349
A44: =A12 -> Bahía de Cádiz | B44: =E12 -> 26573581 | C44: =D12 -> 14599435 | D44: =_xlfn.RANK.EQ(B44,$B$39:$B$66)+COUNTIF($B$39:$B$66,B44)-1 -> 15 | E44: =INDEX($A$39:$B$66,MATCH(ROW()-38,$D$39:$D$66,0),1) -> Santa Cruz de Tenerife | F44: =LOOKUP(E44,$A$39:$A$66,$B$39:$B$66) -> 188353493 | G44: =LOOKUP(E44,$A$39:$A$66,$C$39:$C$66) -> 158292039
A45: =A13 -> Baleares | B45: =E13 -> 206553700 | C45: =D13 -> 147470349 | D45: =_xlfn.RANK.EQ(B45,$B$39:$B$66)+COUNTIF($B$39:$B$66,B45)-1 -> 5 | E45: =INDEX($A$39:$B$66,MATCH(ROW()-38,$D$39:$D$66,0),1) -> Ceuta | F45: =LOOKUP(E45,$A$39:$A$66,$B$39:$B$66) -> 47559355 | G45: =LOOKUP(E45,$A$39:$A$66,$C$39:$C$66) -> 52167810
A46: =A14 -> Barcelona | B46: =E14 -> 267717352 | C46: =D14 -> 220109528 | D46: =_xlfn.RANK.EQ(B46,$B$39:$B$66)+COUNTIF($B$39:$B$66,B46)-1 -> 2 | E46: =INDEX($A$39:$B$66,MATCH(ROW()-38,$D$39:$D$66,0),1) -> Bilbao | F46: =LOOKUP(E46,$A$39:$A$66,$B$39:$B$66) -> 43311218 | G46: =LOOKUP(E46,$A$39:$A$66,$C$39:$C$66) -> 40428166
A47: =A15 -> Bilbao | B47: =E15 -> 43311218 | C47: =D15 -> 40428166 | D47: =_xlfn.RANK.EQ(B47,$B$39:$B$66)+COUNTIF($B$39:$B$66,B47)-1 -> 8 | E47: =INDEX($A$39:$B$66,MATCH(ROW()-38,$D$39:$D$66,0),1) -> Tarragona | F47: =LOOKUP(E47,$A$39:$A$66,$B$39:$B$66) -> 42612887 | G47: =LOOKUP(E47,$A$39:$A$66,$C$39:$C$66) -> 37360573
A48: =A16 -> Cartagena | B48: =E16 -> 39914097 | C48: =D16 -> 35240553 | D48: =_xlfn.RANK.EQ(B48,$B$39:$B$66)+COUNTIF($B$39:$B$66,B48)-1 -> 10 | E48: =INDEX($A$39:$B$66,MATCH(ROW()-38,$D$39:$D$66,0),1) -> Cartagena | F48: =LOOKUP(E48,$A$39:$A$66,$B$39:$B$66) -> 39914097 | G48: =LOOKUP(E48,$A$39:$A$66,$C$39:$C$66) -> 35240553
A49: =A17 -> Castellón | B49: =E17 -> 22902989 | C49: =D17 -> 21846429 | D49: =_xlfn.RANK.EQ(B49,$B$39:$B$66)+COUNTIF($B$39:$B$66,B49)-1 -> 16 | E49: =INDEX($A$39:$B$66,MATCH(ROW()-38,$D$39:$D$66,0),1) -> Huelva | F49: =LOOKUP(E49,$A$39:$A$66,$B$39:$B$66) -> 38521089 | G49: =LOOKUP(E49,$A$39:$A$66,$C$39:$C$66) -> 37516958
A50: =A18 -> Ceuta | B50: =E18 -> 47559355 | C50: =D18 -> 52167810 | D50: =_xlfn.RANK.EQ(B50,$B$39:$B$66)+COUNTIF($B$39:$B$66,B50)-1 -> 7 | E50: =INDEX($A$39:$B$66,MATCH(ROW()-38,$D$39:$D$66,0),1) -> Málaga | F50: =LOOKUP(E50,$A$39:$A$66,$B$39:$B$66) -> 34595273 | G50: =LOOKUP(E50,$A$39:$A$66,$C$39:$C$66) -> 24721417
... A66: =A34 -> Vilagarcía | B66: =E34 -> 2819916 | C66: =D34 -> 2311394 | D66: =_xlfn.RANK.EQ(B66,$B$39:$B$66)+COUNTIF($B$39:$B$66,B66)-1 -> 27 | E66: =INDEX($A$39:$B$66,MATCH(ROW()-38,$D$39:$D$66,0),1) -> Marín y Ría de Pontevedra | F66: =LOOKUP(E66,$A$39:$A$66,$B$39:$B$66) -> 2569528 | G66: =LOOKUP(E66,$A$39:$A$66,$C$39:$C$66) -> 2502776

Sheet Cruceros
F1: 13.2. CRUCEROS (unidades)
A5: Autoridad Portuaria | B5: ='Resumen general'!D6 -> Mes diciembre | D5: ='Resumen general'!F6 -> Acumulado desde enero | L5: ='Resumen general'!I4 -> Fecha: 30/01/2023
B6: ='Resumen general'!D7 -> 2020 | C6: ='Resumen general'!E7 -> 2021 | D6: ='Resumen general'!F7 -> 2020 | E6: ='Resumen general'!G7 -> 2021 | F6: Var. (%)
A7: A Coruña | B7: 0 | C7: 4 | D7: 5 | E7: 31 | F7: =((E7*100)/D7)-100 -> 520
A8: Alicante | B8: 0 | C8: 0 | D8: 1 | E8: 31 | F8: =((E8*100)/D8)-100 -> 3000
A9: Almería | B9: 0 | C9: 0 | D9: 2 | E9: 9 | F9: =((E9*100)/D9)-100 -> 350
A10: Avilés | B10: 0 | C10: 0 | D10: 0 | E10: 1 | F10: =((E10*100)/D10)-100 -> #DIV/0!
A11: Bahía de Algeciras | B11: 3 | C11: 1 | D11: 5 | E11: 8 | F11: =((E11*100)/D11)-100 -> 60
A12: Bahía de Cádiz | B12: 0 | C12: 21 | D12: 32 | E12: 162 | F12: =((E12*100)/D12)-100 -> 406.25
A13: Baleares | B13: 0 | C13: 10 | D13: 39 | E13: 227 | F13: =((E13*100)/D13)-100 -> 482.05128
A14: Barcelona | B14: 0 | C14: 23 | D14: 71 | E14: 272 | F14: =((E14*100)/D14)-100 -> 283.09859
A15: Bilbao | B15: 0 | C15: 2 | D15: 0 | E15: 14 | F15: =((E15*100)/D15)-100 -> #DIV/0!
A16: Cartagena | B16: 0 | C16: 8 | D16: 10 | E16: 79 | F16: =((E16*100)/D16)-100 -> 690
A17: Castellón | B17: 0 | C17: 0 | D17: 0 | E17: 2 | F17: =((E17*100)/D17)-100 -> #DIV/0!
A18: Ceuta | B18: 0 | C18: 0 | D18: 0 | E18: 4 | F18: =((E18*100)/D18)-100 -> #DIV/0!
... A34: Vilagarcía | B34: 0 | C34: 0 | D34: 0 | E34: 4 | F34: =((E34*100)/D34)-100 -> #DIV/0!
A35: Total | B35: =SUM(B7:B34) -> 78 | C35: =SUM(C7:C34) -> 305 | D35: =SUM(D7:D34) -> 744 | E35: =SUM(E7:E34) -> 2104 | F35: =((E35*100)/D35)-100 -> 182.7957
B38: =E6 -> 2021 | C38: =D6 -> 2020 | F38: =B38 -> 2021 | G38: =C38 -> 2020
A39: =A7 -> A Coruña | B39: =E7 -> 31 | C39: =D7 -> 5 | D39: =_xlfn.RANK.EQ(B39,$B$39:$B$66)+COUNTIF($B$39:$B$66,B39)-1 -> 10 | E39: =INDEX($A$39:$B$66,MATCH(ROW()-38,$D$39:$D$66,0),1) -> Santa Cruz de Tenerife | F39: =LOOKUP(E39,$A$39:$A$66,$B$39:$B$66) -> 506 | G39: =LOOKUP(E39,$A$39:$A$66,$C$39:$C$66) -> 277
A40: =A8 -> Alicante | B40: =E8 -> 31 | C40: =D8 -> 1 | D40: =_xlfn.RANK.EQ(B40,$B$39:$B$66)+COUNTIF($B$39:$B$66,B40)-1 -> 10 | E40: =INDEX($A$39:$B$66,MATCH(ROW()-38,$D$39:$D$66,0),1) -> Las Palmas | F40: =LOOKUP(E40,$A$39:$A$66,$B$39:$B$66) -> 450 | G40: =LOOKUP(E40,$A$39:$A$66,$C$39:$C$66) -> 234
A41: =A9 -> Almería | B41: =E9 -> 9 | C41: =D9 -> 2 | D41: =_xlfn.RANK.EQ(B41,$B$39:$B$66)+COUNTIF($B$39:$B$66,B41)-1 -> 14 | E41: =INDEX($A$39:$B$66,MATCH(ROW()-38,$D$39:$D$66,0),1) -> Barcelona | F41: =LOOKUP(E41,$A$39:$A$66,$B$39:$B$66) -> 272 | G41: =LOOKUP(E41,$A$39:$A$66,$C$39:$C$66) -> 71
A42: =A10 -> Avilés | B42: =E10 -> 1 | C42: =D10 -> 0 | D42: =_xlfn.RANK.EQ(B42,$B$39:$B$66)+COUNTIF($B$39:$B$66,B42)-1 -> 27 | E42: =INDEX($A$39:$B$66,MATCH(ROW()-38,$D$39:$D$66,0),1) -> Baleares | F42: =LOOKUP(E42,$A$39:$A$66,$B$39:$B$66) -> 227 | G42: =LOOKUP(E42,$A$39:$A$66,$C$39:$C$66) -> 39
A43: =A11 -> Bahía de Algeciras | B43: =E11 -> 8 | C43: =D11 -> 5 | D43: =_xlfn.RANK.EQ(B43,$B$39:$B$66)+COUNTIF($B$39:$B$66,B43)-1 -> 17 | E43: =INDEX($A$39:$B$66,MATCH(ROW()-38,$D$39:$D$66,0),1) -> Bahía de Cádiz | F43: =LOOKUP(E43,$A$39:$A$66,$B$39:$B$66) -> 162 | G43: =LOOKUP(E43,$A$39:$A$66,$C$39:$C$66) -> 32
A44: =A12 -> Bahía de Cádiz | B44: =E12 -> 162 | C44: =D12 -> 32 | D44: =_xlfn.RANK.EQ(B44,$B$39:$B$66)+COUNTIF($B$39:$B$66,B44)-1 -> 5 | E44: =INDEX($A$39:$B$66,MATCH(ROW()-38,$D$39:$D$66,0),1) -> Málaga | F44: =LOOKUP(E44,$A$39:$A$66,$B$39:$B$66) -> 119 | G44: =LOOKUP(E44,$A$39:$A$66,$C$39:$C$66) -> 41
A45: =A13 -> Baleares | B45: =E13 -> 227 | C45: =D13 -> 39 | D45: =_xlfn.RANK.EQ(B45,$B$39:$B$66)+COUNTIF($B$39:$B$66,B45)-1 -> 4 | E45: =INDEX($A$39:$B$66,MATCH(ROW()-38,$D$39:$D$66,0),1) -> Valencia | F45: =LOOKUP(E45,$A$39:$A$66,$B$39:$B$66) -> 95 | G45: =LOOKUP(E45,$A$39:$A$66,$C$39:$C$66) -> 10
A46: =A14 -> Barcelona | B46: =E14 -> 272 | C46: =D14 -> 71 | D46: =_xlfn.RANK.EQ(B46,$B$39:$B$66)+COUNTIF($B$39:$B$66,B46)-1 -> 3 | E46: =INDEX($A$39:$B$66,MATCH(ROW()-38,$D$39:$D$66,0),1) -> Cartagena | F46: =LOOKUP(E46,$A$39:$A$66,$B$39:$B$66) -> 79 | G46: =LOOKUP(E46,$A$39:$A$66,$C$39:$C$66) -> 10
A47: =A15 -> Bilbao | B47: =E15 -> 14 | C47: =D15 -> 0 | D47: =_xlfn.RANK.EQ(B47,$B$39:$B$66)+COUNTIF($B$39:$B$66,B47)-1 -> 13 | E47: =INDEX($A$39:$B$66,MATCH(ROW()-38,$D$39:$D$66,0),1) -> #N/A | F47: =LOOKUP(E47,$A$39:$A$66,$B$39:$B$66) -> #N/A | G47: =LOOKUP(E47,$A$39:$A$66,$C$39:$C$66) -> #N/A
A48: =A16 -> Cartagena | B48: =E16 -> 79 | C48: =D16 -> 10 | D48: =_xlfn.RANK.EQ(B48,$B$39:$B$66)+COUNTIF($B$39:$B$66,B48)-1 -> 8 | E48: =INDEX($A$39:$B$66,MATCH(ROW()-38,$D$39:$D$66,0),1) -> A Coruña | F48: =LOOKUP(E48,$A$39:$A$66,$B$39:$B$66) -> 31 | G48: =LOOKUP(E48,$A$39:$A$66,$C$39:$C$66) -> 5
A49: =A17 -> Castellón | B49: =E17 -> 2 | C49: =D17 -> 0 | D49: =_xlfn.RANK.EQ(B49,$B$39:$B$66)+COUNTIF($B$39:$B$66,B49)-1 -> 25 | E49: =INDEX($A$39:$B$66,MATCH(ROW()-38,$D$39:$D$66,0),1) -> Vigo | F49: =LOOKUP(E49,$A$39:$A$66,$B$39:$B$66) -> 28 | G49: =LOOKUP(E49,$A$39:$A$66,$C$39:$C$66) -> 7
A50: =A18 -> Ceuta | B50: =E18 -> 4 | C50: =D18 -> 0 | D50: =_xlfn.RANK.EQ(B50,$B$39:$B$66)+COUNTIF($B$39:$B$66,B50)-1 -> 22 | E50: =INDEX($A$39:$B$66,MATCH(ROW()-38,$D$39:$D$66,0),1) -> Sevilla | F50: =LOOKUP(E50,$A$39:$A$66,$B$39:$B$66) -> 24 | G50: =LOOKUP(E50,$A$39:$A$66,$C$39:$C$66) -> 5
... A66: =A34 -> Vilagarcía | B66: =E34 -> 4 | C66: =D34 -> 0 | D66: =_xlfn.RANK.EQ(B66,$B$39:$B$66)+COUNTIF($B$39:$B$66,B66)-1 -> 22 | E66: =INDEX($A$39:$B$66,MATCH(ROW()-38,$D$39:$D$66,0),1) -> Marín y Ría de Pontevedra | F66: =LOOKUP(E66,$A$39:$A$66,$B$39:$B$66) -> 0 | G66: =LOOKUP(E66,$A$39:$A$66,$C$39:$C$66) -> 0
