Workbook
Name CABECERA: Cruceros!$A$5:$F$6
Name CONCEPTO: 'Resumen general'!$A$6
Name LblRes00_Acum: 'Resumen general'!$F$6:$G$6
Name LblRes00_Mes: 'Resumen general'!$D$6:$E$6
Name LblRes00_Var: 'Resumen general'!$H$6:$I$6
Name LblRes01_1_Acum: 'Total presentación'!$D$5:$F$5
Name LblRes01_1_Mes: 'Total presentación'!$B$5:$C$5
Name LblRes01_Acum: 'Automóviles régimen mercancía'!$D$5:$F$5
Name LblRes01_Acum: 'Ro-Ro remolques'!$D$5:$F$5
Name LblRes01_Acum: 'Total tráfico'!$D$5:$F$5
Name LblRes01_Mes: 'Automóviles régimen mercancía'!$B$5:$C$5
Name LblRes01_Mes: 'Ro-Ro remolques'!$B$5:$C$5
Name LblRes01_Mes: 'Total tráfico'!$B$5:$C$5
Name LblRes02_Acum: Líquidos!$D$5:$F$5
Name LblRes02_Mes: Líquidos!$B$5:$C$5
Name LblRes03_Acum: Sólidos!$D$5:$F$5
Name LblRes03_Mes: Sólidos!$B$5:$C$5
Name LblRes04_Acum: 'Mercancía general'!$D$5:$F$5
Name LblRes04_Mes: 'Mercancía general'!$B$5:$C$5
Name LblRes05_Acum: Pesca!$D$5:$F$5
Name LblRes05_Mes: Pesca!$B$5:$C$5
Name LblRes06_Acum: Avituallamiento!$D$5:$F$5
Name LblRes06_Mes: Avituallamiento!$B$5:$C$5
Name LblRes07_1_Acum: 'Mercan. contene. tránsito'!$D$5:$F$5
Name LblRes07_1_Mes: 'Mercan. contene. tránsito'!$B$5:$C$5
Name LblRes07_Acum: 'Mercancías tránsito'!$D$5:$F$5
Name LblRes07_Mes: 'Mercancías tránsito'!$B$5:$C$5
Name LblRes08_Acum: 'Mercancías contenedores'!$D$5:$F$5
Name LblRes08_Mes: 'Mercancías contenedores'!$B$5:$C$5
Name LblRes09_Acum: 'Ro-Ro'!$D$5:$F$5
Name LblRes09_Mes: 'Ro-Ro'!$B$5:$C$5
Name LblRes10_1_Acum: 'TEUS tránsito'!$D$5:$F$5
Name LblRes10_1_Mes: 'TEUS tránsito'!$B$5:$C$5
Name LblRes10_2_Acum: 'TEUS nacional'!$D$5:$F$5
Name LblRes10_2_Mes: 'TEUS nacional'!$B$5:$C$5
Name LblRes10_3_Acum: 'TEUS exterior'!$D$5:$F$5
Name LblRes10_3_Mes: 'TEUS exterior'!$B$5:$C$5
Name LblRes10_4_Acum: 'TEUS nacional y exterior'!$D$5:$F$5
Name LblRes10_4_Mes: 'TEUS nacional y exterior'!$B$5:$C$5
Name LblRes10_Acum: TEUS!$D$5:$F$5
Name LblRes10_Mes: TEUS!$B$5:$C$5
Name LblRes11_1_Acum: 'Pasajeros crucero'!$D$5:$F$5
Name LblRes11_1_Mes: 'Pasajeros crucero'!$B$5:$C$5
Name LblRes11_2_Acum: 'Automóviles régimen pasaje'!$D$5:$F$5
Name LblRes11_2_Mes: 'Automóviles régimen pasaje'!$B$5:$C$5
Name LblRes11_Acum: 'Pasajeros total'!$D$5:$F$5
Name LblRes11_Mes: 'Pasajeros total'!$B$5:$C$5
Name LblRes12_1_Acum: 'Buques número'!$D$5:$F$5
Name LblRes12_1_Mes: 'Buques número'!$B$5:$C$5
Name LblRes12_2_Acum: 'Buques GT'!$D$5:$F$5
Name LblRes12_2_Mes: 'Buques GT'!$B$5:$C$5
Name LblRes12_3_Acum: Cruceros!$D$5:$F$5
Name LblRes12_3_Mes: Cruceros!$B$5:$C$5
Name PROVINCIAS: Cruceros!$A$5:$A$35
Name TxtFecha: Cruceros!$L$5

Sheet Portada
I1: Dirección de Planificación y Desarrollo
I2: Departamento de Estadística
G15: RESUMEN GENERAL DEL TRÁFICO PORTUARIO*
G16: Diciembre 2021
K29: * DATOS DE CIERRE DEFINITIVOS

Sheet Indice
F5: ÍNDICE
B7: ="0." -> 0. | C7: RESUMEN GENERAL DEL TRÁFICO PORTUARIO
B8: ="1." -> 1. | C8: TRÁFICO PORTUARIO
B9: 1.1. | C9: MERCANCÍAS SEGÚN SU FORMA DE PRESENTACIÓN
B10: ="2." -> 2. | C10: GRANELES LÍQUIDOS
B11: ="3." -> 3. | C11: GRANELES SÓLIDOS
B12: ="4." -> 4. | C12: MERCANCÍA GENERAL
B13: 4.1. | C13: MERCANCÍAS EN CONTENEDORES
B14: ="5." -> 5. | C14: PESCA
B15: ="6." -> 6. | C15: AVITUALLAMIENTO
B16: 6.1. | C16: AVITUALLAMIENTO COMBUSTIBLES LÍQUIDOS
B17: ="7." -> 7. | C17: TRÁFICO INTERIOR
B18: ="8." -> 8. | C18: MERCANCÍAS EN TRÁNSITO
B19: 8.1. | C19: MERCANCÍAS EN CONTENEDORES EN TRÁNSITO
B20: ="9." -> 9. | C20: TRÁFICO RO-RO
B21: 9.1. | C21: TRÁFICO RO-RO DE REMOLQUES, SEMIRREMOLQUES Y PLATAFORMAS (unidades)
B22: ="10." -> 10. | C22: CONTENEDORES (TEUS)
B23: 10.1. | C23: CONTENEDORES EN TRÁNSITO (TEUS)
B24: 10.2. | C24: CONTENEDORES ENTRADAS-SALIDAS NACIONAL (TEUS)
B25: 10.3. | C25: CONTENEDORES IMPORTACIÓN-EXPORTACIÓN EXTERIOR (TEUS)
B26: 10.4. | C26: CONTENEDORES NACIONAL Y EXTERIOR (TEUS)
B27: ="11." -> 11. | C27: PASAJEROS EN RÉGIMEN DE TRANSPORTE Y DE CRUCERO (número)
B28: 11.1. | C28: PASAJEROS DE CRUCERO (número)
B29: 12.1. | C29: AUTOMÓVILES EN REGIMEN DE PASAJE (unidades)
B30: 12.2. | C30: TURISMOS, AUTOBUSES Y CAMIONES EN REGIMEN DE MERCANCÍA (unidades)
B31: ="13." -> 13. | C31: BUQUES MERCANTES (unidades)
B32: 13.1. | C32: BUQUES MERCANTES (unidades de arqueo bruto)
B33: 13.2. | C33: CRUCEROS (unidades)

Sheet Resumen general
D1: 00. RESUMEN GENERAL DEL TRÁFICO PORTUARIO
I4: Fecha: 30/01/2023
A6: CONCEPTO | D6: Mes diciembre | F6: Acumulado desde enero | H6: Variación
D7: 2020 | E7: 2021 | F7: 2020 | G7: 2021 | H7: Diferencia | I7: %
A8: MERCANCÍAS SEGÚN SU PRESENTACIÓN | B8: GRANELES | C8: LÍQUIDOS | D8: =Líquidos!B35 -> 13745088 | E8: =Líquidos!C35 -> 14827296 | F8: =Líquidos!D35 -> 1.6699112e+08 | G8: =Líquidos!E35 -> 170857145 | H8: =G8-F8 -> 3866025.5 | I8: =((G8*100/F8)-100) -> 2.3151084
C9: SÓLIDOS | D9: =Sólidos!B35 -> 6165562 | E9: =Sólidos!C35 -> 7356730 | F9: =Sólidos!D35 -> 77071498 | G9: =Sólidos!E35 -> 84980689 | H9: =G9-F9 -> 7909191 | I9: =((G9*100/F9)-100) -> 10.262148
B10: MERCANCÍA GRAL. | C10: CONVENCIONAL | D10: =D12-D11 -> 5724250 | E10: =E12-E11 -> 6679384 | F10: =F12-F11 -> 67731573 | G10: =G12-G11 -> 77948202 | H10: =G10-F10 -> 10216629 | I10: =((G10*100/F10)-100) -> 15.083998
C11: EN CONTENEDORES | D11: ='Mercancías contenedores'!B35 -> 17404768 | E11: ='Mercancías contenedores'!C35 -> 16422542 | F11: ='Mercancías contenedores'!D35 -> 1.9378288e+08 | G11: ='Mercancías contenedores'!E35 -> 198282966 | H11: =G11-F11 -> 4500084.7 | I11: =((G11*100/F11)-100) -> 2.3222303
C12: TOTAL | D12: ='Mercancía general'!B35 -> 23129018 | E12: ='Mercancía general'!C35 -> 23101926 | F12: ='Mercancía general'!D35 -> 2.6151445e+08 | G12: ='Mercancía general'!E35 -> 276231168 | H12: =G12-F12 -> 14716714 | I12: =((G12*100/F12)-100) -> 5.6274955
C13: TOTAL | D13: =+D8+D9+D12 -> 43039668 | E13: =+E8+E9+E12 -> 45285952 | F13: =+F8+F9+F12 -> 5.0557707e+08 | G13: =+G8+G9+G12 -> 5.32069e+08 | H13: =G13-F13 -> 26491931 | I13: =((G13*100/F13)-100) -> 5.2399391
A14: OTRAS MERCANCÍAS | B14: PESCA | C14: TOTAL PESCA | D14: =Pesca!B35 -> 9125 | E14: =Pesca!C35 -> 8712 | F14: =Pesca!D35 -> 163355.93 | G14: =Pesca!E35 -> 162962 | H14: =G14-F14 -> -393.93308 | I14: =((G14*100/F14)-100) -> -0.24115015
B15: AVITUALLAMIENTO | C15: COMBUSTIBLES LÍQUIDOS | D15: ='Avi. combustibles'!B35 -> 568079 | E15: ='Avi. combustibles'!C35 -> 769947 | F15: ='Avi. combustibles'!D35 -> 6539682.2 | G15: ='Avi. combustibles'!E35 -> 8132367 | H15: =G15-F15 -> 1592684.8 | I15: =((G15*100/F15)-100) -> 24.354162
C16: OTROS | D16: =Avituallamiento!B35-'Resumen general'!D15 -> 117287 | E16: =Avituallamiento!C35-'Resumen general'!E15 -> 151990 | F16: =Avituallamiento!D35-'Resumen general'!F15 -> 1358958 | G16: =Avituallamiento!E35-'Resumen general'!G15 -> 1373621 | H16: =G16-F16 -> 14662.992 | I16: =((G16*100/F16)-100) -> 1.0789879
B17: TRAFICO INTERIOR | C17: TOTAL TRAFICO INTERIOR | D17: ='Tráfico interior'!B35 -> 163089 | E17: ='Tráfico interior'!C35 -> 303068 | F17: ='Tráfico interior'!D35 -> 1934642.2 | G17: ='Tráfico interior'!E35 -> 2681785 | H17: =G17-F17 -> 747142.82 | I17: =((G17*100/F17)-100) -> 38.619173
C18: TOTAL | D18: =+D14+D15+D16+D17 -> 857580 | E18: =+E14+E15+E16+E17 -> 1233717 | F18: =+F14+F15+F16+F17 -> 9996638.3 | G18: =+G14+G15+G16+G17 -> 12350735 | H18: =G18-F18 -> 2354096.7 | I18: =((G18*100/F18)-100) -> 23.548883
C19: TOTAL TRÁFICO PORTUARIO (*) | D19: =+D13+D18 -> 43897248 | E19: =+E13+E18 -> 46519669 | F19: =+F13+F18 -> 5.1557371e+08 | G19: =+G13+G18 -> 5.4441974e+08 | H19: =G19-F19 -> 28846027 | I19: =((G19*100/F19)-100) -> 5.5949376
A21: OTRAS INFORMACIONES | B21: MERCANCÍAS | C21: EN TRÁNSITO | D21: ='Mercancías tránsito'!B35 -> 13807486 | E21: ='Mercancías tránsito'!C35 -> 12188800 | F21: ='Mercancías tránsito'!D35 -> 1.5637118e+08 | G21: ='Mercancías tránsito'!E35 -> 150220169 | H21: =G21-F21 -> -6151006.3 | I21: =((G21*100/F21)-100) -> -3.9335935
C22: EN CONTENEDORES EN TRÁNSITO | D22: ='Mercan. contene. tránsito'!B35 -> 11250330 | E22: ='Mercan. contene. tránsito'!C35 -> 9828584 | F22: ='Mercan. contene. tránsito'!D35 -> 1.2242328e+08 | G22: ='Mercan. contene. tránsito'!E35 -> 118858394 | H22: =G22-F22 -> -3564884.6 | I22: =((G22*100/F22)-100) -> -2.9119336
B23: TRÁFICO RO-RO | C23: TOTAL TRÁFICO RO-RO | D23: ='Ro-Ro'!B35 -> 4906854 | E23: ='Ro-Ro'!C35 -> 5577079 | F23: ='Ro-Ro'!D35 -> 57079524 | G23: ='Ro-Ro'!E35 -> 65293057 | H23: =G23-F23 -> 8213533.1 | I23: =((G23*100/F23)-100) -> 14.389632
C24: REMOLQUES, SEMIRR. Y PLATAF. (uds.) | D24: ='Ro-Ro remolques'!B35 -> 90111 | E24: ='Ro-Ro remolques'!C35 -> 102664 | F24: ='Ro-Ro remolques'!D35 -> 1044943 | G24: ='Ro-Ro remolques'!E35 -> 1189083 | H24: =G24-F24 -> 144140 | I24: =((G24*100/F24)-100) -> 13.794054
B25: CONTENEDORES | C25: TOTAL CONTENEDORES (TEUS) | D25: =TEUS!B35 -> 1495291 | E25: =TEUS!C35 -> 1479592 | F25: =TEUS!D35 -> 16792659 | G25: =TEUS!E35 -> 17735438 | H25: =G25-F25 -> 942778.89 | I25: =((G25*100/F25)-100) -> 5.6142323
C26: EN TRÁNSITO (TEUS) | D26: ='TEUS tránsito'!B35 -> 859501 | E26: ='TEUS tránsito'!C35 -> 781747 | F26: ='TEUS tránsito'!D35 -> 9381940 | G26: ='TEUS tránsito'!E35 -> 9414175 | H26: =G26-F26 -> 32235 | I26: =((G26*100/F26)-100) -> 0.34358565
C27: ENTRADAS-SALIDAS NACIONAL (TEUS) | D27: ='TEUS nacional'!B35 -> 152467 | E27: ='TEUS nacional'!C35 -> 180407 | F27: ='TEUS nacional'!D35 -> 1794214.9 | G27: ='TEUS nacional'!E35 -> 2010187 | H27: =G27-F27 -> 215972.15 | I27: =((G27*100/F27)-100) -> 12.03714
C28: IMPORT-EXPORT EXTERIOR (TEUS) | D28: ='TEUS exterior'!B35 -> 483326 | E28: ='TEUS exterior'!C35 -> 517439 | F28: ='TEUS exterior'!D35 -> 5616504.3 | G28: ='TEUS exterior'!E35 -> 6311076 | H28: =G28-F28 -> 694571.74 | I28: =((G28*100/F28)-100) -> 12.36662
C29: NACIONAL Y EXTERIOR (TEUS) | D29: ='TEUS nacional y exterior'!B35 -> 635792 | E29: ='TEUS nacional y exterior'!C35 -> 697846 | F29: ='TEUS nacional y exterior'!D35 -> 7410719.1 | G29: ='TEUS nacional y exterior'!E35 -> 8321263 | H29: =G29-F29 -> 910543.89 | I29: =((G29*100/F29)-100) -> 12.286849
B30: PASAJEROS | C30: REG. TRANSPORTE Y DE CRUCERO (nº) | D30: ='Pasajeros total'!B35 -> 758353 | E30: ='Pasajeros total'!C35 -> 1654580 | F30: ='Pasajeros total'!D35 -> 13343303 | G30: ='Pasajeros total'!E35 -> 17981420 | H30: =G30-F30 -> 4638117 | I30: =((G30*100/F30)-100) -> 34.759887
C31: DE CRUCERO (nº) | D31: ='Pasajeros crucero'!B35 -> 55131 | E31: ='Pasajeros crucero'!C35 -> 324749 | F31: ='Pasajeros crucero'!D35 -> 1369361 | G31: ='Pasajeros crucero'!E35 -> 2219083 | H31: =G31-F31 -> 849722 | I31: =((G31*100/F31)-100) -> 62.052446
B32: AUTOMÓVILES | C32: EN RÉGIMEN DE PASAJE (uds) | D32: ='Automóviles régimen pasaje'!B35 -> 210433 | E32: ='Automóviles régimen pasaje'!C35 -> 374361 | F32: ='Automóviles régimen pasaje'!D35 -> 3131747 | G32: ='Automóviles régimen pasaje'!E35 -> 4066713 | H32: =G32-F32 -> 934966 | I32: =((G32*100/F32)-100) -> 29.854455
C33: EN RÉGIMEN DE MERCANCÍA (**) | D33: ='Automóviles régimen mercancía'!B35 -> 253800 | E33: ='Automóviles régimen mercancía'!C35 -> 191575 | F33: ='Automóviles régimen mercancía'!D35 -> 2828871 | G33: ='Automóviles régimen mercancía'!E35 -> 2416471.8 | H33: =G33-F33 -> -412399.21 | I33: =((G33*100/F33)-100) -> -14.578226
B34: BUQUES MERCANTES | C34: TOTAL BUQUES MERCANTES (uds) | D34: ='Buques número'!B35 -> 9546 | E34: ='Buques número'!C35 -> 11160 | F34: ='Buques número'!D35 -> 117829 | G34: ='Buques número'!E35 -> 138889 | H34: =G34-F34 -> 21060 | I34: =((G34*100/F34)-100) -> 17.873359
C35: UDS. ARQUEO BRUTO (G.T.) | D35: ='Buques GT'!B35 -> 143811701 | E35: ='Buques GT'!C35 -> 182864364 | F35: ='Buques GT'!D35 -> 1.7743821e+09 | G35: ='Buques GT'!E35 -> 2.0011887e+09 | H35: =G35-F35 -> 2.2680657e+08 | I35: =((G35*100/F35)-100) -> 12.782285
C36: CRUCEROS (uds) | D36: =Cruceros!B35 -> 78 | E36: =Cruceros!C35 -> 305 | F36: =Cruceros!D35 -> 744 | G36: =Cruceros!E35 -> 2104 | H36: =G36-F36 -> 1360 | I36: =((G36*100/F36)-100) -> 182.7957
A37: (*) Incluye cargas, descargas, tránsitos y transbordos.
A38: (**) Solo turismos, autobuses y camiones

Sheet Total tráfico
F1: 1. TRÁFICO PORTUARIO (toneladas)
A5: Autoridad Portuaria | B5: ='Resumen general'!D6 -> Mes diciembre | D5: ='Resumen general'!F6 -> Acumulado desde enero | L5: ='Resumen general'!I4 -> Fecha: 30/01/2023
B6: ='Resumen general'!D7 -> 2020 | C6: ='Resumen general'!E7 -> 2021 | D6: ='Resumen general'!F7 -> 2020 | E6: ='Resumen general'!G7 -> 2021 | F6: Var. (%)
A7: A Coruña | B7: 800409 | C7: 1309537 | D7: 10599040 | E7: 11878047 | F7: =((E7*100)/D7)-100 -> 12.067197
A8: Alicante | B8: 293263 | C8: 302197 | D8: 2731080.6 | E8: 2647482 | F8: =((E8*100)/D8)-100 -> -3.0610066
A9: Almería | B9: 456864 | C9: 480109 | D9: 4827086.9 | E9: 5829008 | F9: =((E9*100)/D9)-100 -> 20.756226
A10: Avilés | B10: 309858 | C10: 422082 | D10: 4121671.3 | E10: 4705107 | F10: =((E10*100)/D10)-100 -> 14.155318
A11: Bahía de Algeciras | B11: 9162945 | C11: 8963107 | D11: 1.0732335e+08 | E11: 105075781 | F11: =((E11*100)/D11)-100 -> -2.094203
A12: Bahía de Cádiz | B12: 402156 | C12: 525729 | D12: 4449319.1 | E12: 4943054 | F12: =((E12*100)/D12)-100 -> 11.096865
A13: Baleares | B13: 1004795 | C13: 1157473 | D13: 12367160 | E13: 13772748 | F13: =((E13*100)/D13)-100 -> 11.365484
A14: Barcelona | B14: 5967499 | C14: 5592453 | D14: 59497429 | E14: 66410581 | F14: =((E14*100)/D14)-100 -> 11.619245
A15: Bilbao | B15: 1635598 | C15: 2628819 | D15: 29645138 | E15: 31298985 | F15: =((E15*100)/D15)-100 -> 5.5788136
A16: Cartagena | B16: 3031123 | C16: 2793139 | D16: 32894927 | E16: 31213499 | F16: =((E16*100)/D16)-100 -> -5.1115107
A17: Castellón | B17: 1518952 | C17: 1704754 | D17: 18541540 | E17: 21237328 | F17: =((E17*100)/D17)-100 -> 14.539184
A18: Ceuta | B18: 138426 | C18: 141708 | D18: 1851680.3 | E18: 1573105 | F18: =((E18*100)/D18)-100 -> -15.044461
... A34: Vilagarcía | B34: 111598 | C34: 128667 | D34: 1209822 | E34: 1511369 | F34: =((E34*100)/D34)-100 -> 24.924906
A35: Total | B35: =SUM(B7:B34) -> 43897248 | C35: =SUM(C7:C34) -> 46519669 | D35: =SUM(D7:D34) -> 5.1557371e+08 | E35: =SUM(E7:E34) -> 5.4441974e+08 | F35: =((E35*100)/D35)-100 -> 5.5949376
A36: Incluye cargas, descargas, tránsitos y transbordos.
B38: =E6 -> 2021 | C38: =D6 -> 2020 | F38: =B38 -> 2021 | G38: =C38 -> 2020
A39: =A7 -> A Coruña | B39: =E7 -> 11878047 | C39: =D7 -> 10599040 | D39: =_xlfn.RANK.EQ(B39,$B$39:$B$66)+COUNTIF($B$39:$B$66,B39)-1 -> 12 | E39: =INDEX($A$39:$B$66,MATCH(ROW()-38,$D$39:$D$66,0),1) -> Bahía de Algeciras | F39: =LOOKUP(E39,$A$39:$A$66,$B$39:$B$66) -> 105075781 | G39: =LOOKUP(E39,$A$39:$A$66,$C$39:$C$66) -> 1.0732335e+08
A40: =A8 -> Alicante | B40: =E8 -> 2647482 | C40: =D8 -> 2731080.6 | D40: =_xlfn.RANK.EQ(B40,$B$39:$B$66)+COUNTIF($B$39:$B$66,B40)-1 -> 23 | E40: =INDEX($A$39:$B$66,MATCH(ROW()-38,$D$39:$D$66,0),1) -> Valencia | F40: =LOOKUP(E40,$A$39:$A$66,$B$39:$B$66) -> 85269726 | G40: =LOOKUP(E40,$A$39:$A$66,$C$39:$C$66) -> 80882224
A41: =A9 -> Almería | B41: =E9 -> 5829008 | C41: =D9 -> 4827086.9 | D41: =_xlfn.RANK.EQ(B41,$B$39:$B$66)+COUNTIF($B$39:$B$66,B41)-1 -> 16 | E41: =INDEX($A$39:$B$66,MATCH(ROW()-38,$D$39:$D$66,0),1) -> Barcelona | F41: =LOOKUP(E41,$A$39:$A$66,$B$39:$B$66) -> 66410581 | G41: =LOOKUP(E41,$A$39:$A$66,$C$39:$C$66) -> 59497429
A42: =A10 -> Avilés | B42: =E10 -> 4705107 | C42: =D10 -> 4121671.3 | D42: =_xlfn.RANK.EQ(B42,$B$39:$B$66)+COUNTIF($B$39:$B$66,B42)-1 -> 19 | E42: =INDEX($A$39:$B$66,MATCH(ROW()-38,$D$39:$D$66,0),1) -> Bilbao | F42: =LOOKUP(E42,$A$39:$A$66,$B$39:$B$66) -> 31298985 | G42: =LOOKUP(E42,$A$39:$A$66,$C$39:$C$66) -> 29645138
A43: =A11 -> Bahía de Algeciras | B43: =E11 -> 105075781 | C43: =D11 -> 1.0732335e+08 | D43: =_xlfn.RANK.EQ(B43,$B$39:$B$66)+COUNTIF($B$39:$B$66,B43)-1 -> 1 | E43: =INDEX($A$39:$B$66,MATCH(ROW()-38,$D$39:$D$66,0),1) -> Tarragona | F43: =LOOKUP(E43,$A$39:$A$66,$B$39:$B$66) -> 31275930 | G43: =LOOKUP(E43,$A$39:$A$66,$C$39:$C$66) -> 26508632
A44: =A12 -> Bahía de Cádiz | B44: =E12 -> 4943054 | C44: =D12 -> 4449319.1 | D44: =_xlfn.RANK.EQ(B44,$B$39:$B$66)+COUNTIF($B$39:$B$66,B44)-1 -> 17 | E44: =INDEX($A$39:$B$66,MATCH(ROW()-38,$D$39:$D$66,0),1) -> Cartagena | F44: =LOOKUP(E44,$A$39:$A$66,$B$39:$B$66) -> 31213499 | G44: =LOOKUP(E44,$A$39:$A$66,$C$39:$C$66) -> 32894927
A45: =A13 -> Baleares | B45: =E13 -> 13772748 | C45: =D13 -> 12367160 | D45: =_xlfn.RANK.EQ(B45,$B$39:$B$66)+COUNTIF($B$39:$B$66,B45)-1 -> 11 | E45: =INDEX($A$39:$B$66,MATCH(ROW()-38,$D$39:$D$66,0),1) -> Huelva | F45: =LOOKUP(E45,$A$39:$A$66,$B$39:$B$66) -> 30685994 | G45: =LOOKUP(E45,$A$39:$A$66,$C$39:$C$66) -> 29919220
A46: =A14 -> Barcelona | B46: =E14 -> 66410581 | C46: =D14 -> 59497429 | D46: =_xlfn.RANK.EQ(B46,$B$39:$B$66)+COUNTIF($B$39:$B$66,B46)-1 -> 3 | E46: =INDEX($A$39:$B$66,MATCH(ROW()-38,$D$39:$D$66,0),1) -> Las Palmas | F46: =LOOKUP(E46,$A$39:$A$66,$B$39:$B$66) -> 28208603 | G46: =LOOKUP(E46,$A$39:$A$66,$C$39:$C$66) -> 25767950
A47: =A15 -> Bilbao | B47: =E15 -> 31298985 | C47: =D15 -> 29645138 | D47: =_xlfn.RANK.EQ(B47,$B$39:$B$66)+COUNTIF($B$39:$B$66,B47)-1 -> 4 | E47: =INDEX($A$39:$B$66,MATCH(ROW()-38,$D$39:$D$66,0),1) -> Castellón | F47: =LOOKUP(E47,$A$39:$A$66,$B$39:$B$66) -> 21237328 | G47: =LOOKUP(E47,$A$39:$A$66,$C$39:$C$66) -> 18541540
A48: =A16 -> Cartagena | B48: =E16 -> 31213499 | C48: =D16 -> 32894927 | D48: =_xlfn.RANK.EQ(B48,$B$39:$B$66)+COUNTIF($B$39:$B$66,B48)-1 -> 6 | E48: =INDEX($A$39:$B$66,MATCH(ROW()-38,$D$39:$D$66,0),1) -> Gijón | F48: =LOOKUP(E48,$A$39:$A$66,$B$39:$B$66) -> 16668339 | G48: =LOOKUP(E48,$A$39:$A$66,$C$39:$C$66) -> 16131487
A49: =A17 -> Castellón | B49: =E17 -> 21237328 | C49: =D17 -> 18541540 | D49: =_xlfn.RANK.EQ(B49,$B$39:$B$66)+COUNTIF($B$39:$B$66,B49)-1 -> 9 | E49: =INDEX($A$39:$B$66,MATCH(ROW()-38,$D$39:$D$66,0),1) -> Baleares | F49: =LOOKUP(E49,$A$39:$A$66,$B$39:$B$66) -> 13772748 | G49: =LOOKUP(E49,$A$39:$A$66,$C$39:$C$66) -> 12367160
A50: =A18 -> Ceuta | B50: =E18 -> 1573105 | C50: =D18 -> 1851680.3 | D50: =_xlfn.RANK.EQ(B50,$B$39:$B$66)+COUNTIF($B$39:$B$66,B50)-1 -> 26 | E50: =INDEX($A$39:$B$66,MATCH(ROW()-38,$D$39:$D$66,0),1) -> A Coruña | F50: =LOOKUP(E50,$A$39:$A$66,$B$39:$B$66) -> 11878047 | G50: =LOOKUP(E50,$A$39:$A$66,$C$39:$C$66) -> 10599040
... A66: =A34 -> Vilagarcía | B66: =E34 -> 1511369 | C66: =D34 -> 1209822 | D66: =_xlfn.RANK.EQ(B66,$B$39:$B$66)+COUNTIF($B$39:$B$66,B66)-1 -> 27 | E66: =INDEX($A$39:$B$66,MATCH(ROW()-38,$D$39:$D$66,0),1) -> Melilla | F66: =LOOKUP(E66,$A$39:$A$66,$B$39:$B$66) -> 601613 | G66: =LOOKUP(E66,$A$39:$A$66,$C$39:$C$66) -> 625244

Sheet Total presentación
F1: 1.1. MERCANCÍAS SEGÚN SU FORMA DE PRESENTACIÓN
I2: (toneladas)
A5: Autoridad Portuaria | B5: ='Resumen general'!D6 -> Mes diciembre | D5: ='Resumen general'!F6 -> Acumulado desde enero | L5: ='Resumen general'!I4 -> Fecha: 30/01/2023
B6: ='Resumen general'!D7 -> 2020 | C6: ='Resumen general'!E7 -> 2021 | D6: ='Resumen general'!F7 -> 2020 | E6: ='Resumen general'!G7 -> 2021 | F6: Var. (%)
A7: A Coruña | B7: 777474 | C7: 1281584 | D7: 10504577 | E7: 11783425 | F7: =((E7*100)/D7)-100 -> 12.174198
A8: Alicante | B8: 291610 | C8: 300381 | D8: 2715164 | E8: 2634274 | F8: =((E8*100)/D8)-100 -> -2.9791939
A9: Almería | B9: 453920 | C9: 475455 | D9: 4782425 | E9: 5780252 | F9: =((E9*100)/D9)-100 -> 20.864457
A10: Avilés | B10: 305735 | C10: 417514 | D10: 4050774 | E10: 4619678 | F10: =((E10*100)/D10)-100 -> 14.044328
A11: Bahía de Algeciras | B11: 8830383 | C11: 8356261 | D11: 1.035959e+08 | E11: 99377930 | F11: =((E11*100)/D11)-100 -> -4.0715571
A12: Bahía de Cádiz | B12: 396074 | C12: 518005 | D12: 4360698.7 | E12: 4826995 | F12: =((E12*100)/D12)-100 -> 10.693156
A13: Baleares | B13: 1001900 | C13: 1153665 | D13: 12327169 | E13: 13727359 | F13: =((E13*100)/D13)-100 -> 11.358569
A14: Barcelona | B14: 5871757 | C14: 5489900 | D14: 58471200 | E14: 64973291 | F14: =((E14*100)/D14)-100 -> 11.120159
A15: Bilbao | B15: 1629515 | C15: 2620711 | D15: 29544082 | E15: 31182511 | F15: =((E15*100)/D15)-100 -> 5.5457096
A16: Cartagena | B16: 3016247 | C16: 2775313 | D16: 32708473 | E16: 31035919 | F16: =((E16*100)/D16)-100 -> -5.113518
A17: Castellón | B17: 1516151 | C17: 1702634 | D17: 18506727 | E17: 21202092 | F17: =((E17*100)/D17)-100 -> 14.564242
A18: Ceuta | B18: 95845 | C18: 83544 | D18: 1295641 | E18: 1094162 | F18: =((E18*100)/D18)-100 -> -15.550527
... A34: Vilagarcía | B34: 110993 | C34: 127918 | D34: 1204573 | E34: 1503591 | F34: =((E34*100)/D34)-100 -> 24.823568
A35: Total | B35: =SUM(B7:B34) -> 43039668 | C35: =SUM(C7:C34) -> 45285952 | D35: =SUM(D7:D34) -> 5.0557707e+08 | E35: =SUM(E7:E34) -> 5.32069e+08 | F35: =((E35*100)/D35)-100 -> 5.2399391
A36: Incluye cargas, descargas, tránsitos y transbordos.
B38: =E6 -> 2021 | C38: =D6 -> 2020 | F38: =B38 -> 2021 | G38: =C38 -> 2020
A39: =A7 -> A Coruña | B39: =E7 -> 11783425 | C39: =D7 -> 10504577 | D39: =_xlfn.RANK.EQ(B39,$B$39:$B$66)+COUNTIF($B$39:$B$66,B39)-1 -> 12 | E39: =INDEX($A$39:$B$66,MATCH(ROW()-38,$D$39:$D$66,0),1) -> Bahía de Algeciras | F39: =LOOKUP(E39,$A$39:$A$66,$B$39:$B$66) -> 99377930 | G39: =LOOKUP(E39,$A$39:$A$66,$C$39:$C$66) -> 1.035959e+08
A40: =A8 -> Alicante | B40: =E8 -> 2634274 | C40: =D8 -> 2715164 | D40: =_xlfn.RANK.EQ(B40,$B$39:$B$66)+COUNTIF($B$39:$B$66,B40)-1 -> 23 | E40: =INDEX($A$39:$B$66,MATCH(ROW()-38,$D$39:$D$66,0),1) -> Valencia | F40: =LOOKUP(E40,$A$39:$A$66,$B$39:$B$66) -> 84850755 | G40: =LOOKUP(E40,$A$39:$A$66,$C$39:$C$66) -> 80544637
A41: =A9 -> Almería | B41: =E9 -> 5780252 | C41: =D9 -> 4782425 | D41: =_xlfn.RANK.EQ(B41,$B$39:$B$66)+COUNTIF($B$39:$B$66,B41)-1 -> 16 | E41: =INDEX($A$39:$B$66,MATCH(ROW()-38,$D$39:$D$66,0),1) -> Barcelona | F41: =LOOKUP(E41,$A$39:$A$66,$B$39:$B$66) -> 64973291 | G41: =LOOKUP(E41,$A$39:$A$66,$C$39:$C$66) -> 58471200
A42: =A10 -> Avilés | B42: =E10 -> 4619678 | C42: =D10 -> 4050774 | D42: =_xlfn.RANK.EQ(B42,$B$39:$B$66)+COUNTIF($B$39:$B$66,B42)-1 -> 19 | E42: =INDEX($A$39:$B$66,MATCH(ROW()-38,$D$39:$D$66,0),1) -> Bilbao | F42: =LOOKUP(E42,$A$39:$A$66,$B$39:$B$66) -> 31182511 | G42: =LOOKUP(E42,$A$39:$A$66,$C$39:$C$66) -> 29544082
A43: =A11 -> Bahía de Algeciras | B43: =E11 -> 99377930 | C43: =D11 -> 1.035959e+08 | D43: =_xlfn.RANK.EQ(B43,$B$39:$B$66)+COUNTIF($B$39:$B$66,B43)-1 -> 1 | E43: =INDEX($A$39:$B$66,MATCH(ROW()-38,$D$39:$D$66,0),1) -> Tarragona | F43: =LOOKUP(E43,$A$39:$A$66,$B$39:$B$66) -> 31168041 | G43: =LOOKUP(E43,$A$39:$A$66,$C$39:$C$66) -> 26341217
A44: =A12 -> Bahía de Cádiz | B44: =E12 -> 4826995 | C44: =D12 -> 4360698.7 | D44: =_xlfn.RANK.EQ(B44,$B$39:$B$66)+COUNTIF($B$39:$B$66,B44)-1 -> 17 | E44: =INDEX($A$39:$B$66,MATCH(ROW()-38,$D$39:$D$66,0),1) -> Cartagena | F44: =LOOKUP(E44,$A$39:$A$66,$B$39:$B$66) -> 31035919 | G44: =LOOKUP(E44,$A$39:$A$66,$C$39:$C$66) -> 32708473
A45: =A13 -> Baleares | B45: =E13 -> 13727359 | C45: =D13 -> 12327169 | D45: =_xlfn.RANK.EQ(B45,$B$39:$B$66)+COUNTIF($B$39:$B$66,B45)-1 -> 11 | E45: =INDEX($A$39:$B$66,MATCH(ROW()-38,$D$39:$D$66,0),1) -> Huelva | F45: =LOOKUP(E45,$A$39:$A$66,$B$39:$B$66) -> 30401726 | G45: =LOOKUP(E45,$A$39:$A$66,$C$39:$C$66) -> 29672943
A46: =A14 -> Barcelona | B46: =E14 -> 64973291 | C46: =D14 -> 58471200 | D46: =_xlfn.RANK.EQ(B46,$B$39:$B$66)+COUNTIF($B$39:$B$66,B46)-1 -> 3 | E46: =INDEX($A$39:$B$66,MATCH(ROW()-38,$D$39:$D$66,0),1) -> Las Palmas | F46: =LOOKUP(E46,$A$39:$A$66,$B$39:$B$66) -> 25929254 | G46: =LOOKUP(E46,$A$39:$A$66,$C$39:$C$66) -> 23437158
A47: =A15 -> Bilbao | B47: =E15 -> 31182511 | C47: =D15 -> 29544082 | D47: =_xlfn.RANK.EQ(B47,$B$39:$B$66)+COUNTIF($B$39:$B$66,B47)-1 -> 4 | E47: =INDEX($A$39:$B$66,MATCH(ROW()-38,$D$39:$D$66,0),1) -> Castellón | F47: =LOOKUP(E47,$A$39:$A$66,$B$39:$B$66) -> 21202092 | G47: =LOOKUP(E47,$A$39:$A$66,$C$39:$C$66) -> 18506727
A48: =A16 -> Cartagena | B48: =E16 -> 31035919 | C48: =D16 -> 32708473 | D48: =_xlfn.RANK.EQ(B48,$B$39:$B$66)+COUNTIF($B$39:$B$66,B48)-1 -> 6 | E48: =INDEX($A$39:$B$66,MATCH(ROW()-38,$D$39:$D$66,0),1) -> Gijón | F48: =LOOKUP(E48,$A$39:$A$66,$B$39:$B$66) -> 16618684 | G48: =LOOKUP(E48,$A$39:$A$66,$C$39:$C$66) -> 16103154
A49: =A17 -> Castellón | B49: =E17 -> 21202092 | C49: =D17 -> 18506727 | D49: =_xlfn.RANK.EQ(B49,$B$39:$B$66)+COUNTIF($B$39:$B$66,B49)-1 -> 9 | E49: =INDEX($A$39:$B$66,MATCH(ROW()-38,$D$39:$D$66,0),1) -> Baleares | F49: =LOOKUP(E49,$A$39:$A$66,$B$39:$B$66) -> 13727359 | G49: =LOOKUP(E49,$A$39:$A$66,$C$39:$C$66) -> 12327169
A50: =A18 -> Ceuta | B50: =E18 -> 1094162 | C50: =D18 -> 1295641 | D50: =_xlfn.RANK.EQ(B50,$B$39:$B$66)+COUNTIF($B$39:$B$66,B50)-1 -> 27 | E50: =INDEX($A$39:$B$66,MATCH(ROW()-38,$D$39:$D$66,0),1) -> A Coruña | F50: =LOOKUP(E50,$A$39:$A$66,$B$39:$B$66) -> 11783425 | G50: =LOOKUP(E50,$A$39:$A$66,$C$39:$C$66) -> 10504577
... A66: =A34 -> Vilagarcía | B66: =E34 -> 1503591 | C66: =D34 -> 1204573 | D66: =_xlfn.RANK.EQ(B66,$B$39:$B$66)+COUNTIF($B$39:$B$66,B66)-1 -> 26 | E66: =INDEX($A$39:$B$66,MATCH(ROW()-38,$D$39:$D$66,0),1) -> Melilla | F66: =LOOKUP(E66,$A$39:$A$66,$B$39:$B$66) -> 595430 | G66: =LOOKUP(E66,$A$39:$A$66,$C$39:$C$66) -> 620552

Sheet Líquidos
F1: 2. GRANELES LÍQUIDOS (toneladas)
A5: Autoridad Portuaria | B5: ='Resumen general'!D6 -> Mes diciembre | D5: ='Resumen general'!F6 -> Acumulado desde enero | L5: ='Resumen general'!I4 -> Fecha: 30/01/2023
B6: ='Resumen general'!D7 -> 2020 | C6: ='Resumen general'!E7 -> 2021 | D6: ='Resumen general'!F7 -> 2020 | E6: ='Resumen general'!G7 -> 2021 | F6: Var. (%)
A7: A Coruña | B7: 611239 | C7: 884293 | D7: 7116313 | E7: 7996655 | F7: =((E7*100)/D7)-100 -> 12.37076
A8: Alicante | B8: 4976 | C8: 3593 | D8: 34480 | E8: 42237 | F8: =((E8*100)/D8)-100 -> 22.4971
A9: Almería | B9: 3384 | C9: 18511 | D9: 107351 | E9: 140628 | F9: =((E9*100)/D9)-100 -> 30.998314
A10: Avilés | B10: 59135 | C10: 52680 | D10: 675125 | E10: 601941 | F10: =((E10*100)/D10)-100 -> -10.840067
A11: Bahía de Algeciras | B11: 2654203 | C11: 2240445 | D11: 28312085 | E11: 28126069 | F11: =((E11*100)/D11)-100 -> -0.65701979
A12: Bahía de Cádiz | B12: 70855 | C12: 127733 | D12: 1271350.3 | E12: 1080865 | F12: =((E12*100)/D12)-100 -> -14.982912
A13: Baleares | B13: 73474 | C13: 87879 | D13: 979245 | E13: 1114658 | F13: =((E13*100)/D13)-100 -> 13.828307
A14: Barcelona | B14: 1153670 | C14: 991816 | D14: 12862069 | E14: 12344965 | F14: =((E14*100)/D14)-100 -> -4.0203824
A15: Bilbao | B15: 1037311 | C15: 1678452 | D15: 18156750 | E15: 17764532 | F15: =((E15*100)/D15)-100 -> -2.1601773
A16: Cartagena | B16: 2122024 | C16: 2092111 | D16: 25161498 | E16: 24047180 | F16: =((E16*100)/D16)-100 -> -4.4286627
A17: Castellón | B17: 826522 | C17: 628842 | D17: 9801550.4 | E17: 9912711 | F17: =((E17*100)/D17)-100 -> 1.1341124
A18: Ceuta | B18: 47481 | C18: 34334 | D18: 714554 | E18: 479227 | F18: =((E18*100)/D18)-100 -> -32.93341
... A34: Vilagarcía | B34: 40993 | C34: 25282 | D34: 233458.5 | E34: 273548 | F34: =((E34*100)/D34)-100 -> 17.172003
A35: Total | B35: =SUM(B7:B34) -> 13745088 | C35: =SUM(C7:C34) -> 14827296 | D35: =SUM(D7:D34) -> 1.6699112e+08 | E35: =SUM(E7:E34) -> 170857145 | F35: =((E35*100)/D35)-100 -> 2.3151084
A36: Incluye cargas, descargas, tránsitos y transbordos.
B38: =E6 -> 2021 | C38: =D6 -> 2020 | F38: =B38 -> 2021 | G38: =C38 -> 2020
A39: =A7 -> A Coruña | B39: =E7 -> 7996655 | C39: =D7 -> 7116313 | D39: =_xlfn.RANK.EQ(B39,$B$39:$B$66)+COUNTIF($B$39:$B$66,B39)-1 -> 9 | E39: =INDEX($A$39:$B$66,MATCH(ROW()-38,$D$39:$D$66,0),1) -> Bahía de Algeciras | F39: =LOOKUP(E39,$A$39:$A$66,$B$39:$B$66) -> 28126069 | G39: =LOOKUP(E39,$A$39:$A$66,$C$39:$C$66) -> 28312085
A40: =A8 -> Alicante | B40: =E8 -> 42237 | C40: =D8 -> 34480 | D40: =_xlfn.RANK.EQ(B40,$B$39:$B$66)+COUNTIF($B$39:$B$66,B40)-1 -> 26 | E40: =INDEX($A$39:$B$66,MATCH(ROW()-38,$D$39:$D$66,0),1) -> Huelva | F40: =LOOKUP(E40,$A$39:$A$66,$B$39:$B$66) -> 24181628 | G40: =LOOKUP(E40,$A$39:$A$66,$C$39:$C$66) -> 23486206
A41: =A9 -> Almería | B41: =E9 -> 140628 | C41: =D9 -> 107351 | D41: =_xlfn.RANK.EQ(B41,$B$39:$B$66)+COUNTIF($B$39:$B$66,B41)-1 -> 23 | E41: =INDEX($A$39:$B$66,MATCH(ROW()-38,$D$39:$D$66,0),1) -> Cartagena | F41: =LOOKUP(E41,$A$39:$A$66,$B$39:$B$66) -> 24047180 | G41: =LOOKUP(E41,$A$39:$A$66,$C$39:$C$66) -> 25161498
A42: =A10 -> Avilés | B42: =E10 -> 601941 | C42: =D10 -> 675125 | D42: =_xlfn.RANK.EQ(B42,$B$39:$B$66)+COUNTIF($B$39:$B$66,B42)-1 -> 17 | E42: =INDEX($A$39:$B$66,MATCH(ROW()-38,$D$39:$D$66,0),1) -> Tarragona | F42: =LOOKUP(E42,$A$39:$A$66,$B$39:$B$66) -> 21141198 | G42: =LOOKUP(E42,$A$39:$A$66,$C$39:$C$66) -> 18319624
A43: =A11 -> Bahía de Algeciras | B43: =E11 -> 28126069 | C43: =D11 -> 28312085 | D43: =_xlfn.RANK.EQ(B43,$B$39:$B$66)+COUNTIF($B$39:$B$66,B43)-1 -> 1 | E43: =INDEX($A$39:$B$66,MATCH(ROW()-38,$D$39:$D$66,0),1) -> Bilbao | F43: =LOOKUP(E43,$A$39:$A$66,$B$39:$B$66) -> 17764532 | G43: =LOOKUP(E43,$A$39:$A$66,$C$39:$C$66) -> 18156750
A44: =A12 -> Bahía de Cádiz | B44: =E12 -> 1080865 | C44: =D12 -> 1271350.3 | D44: =_xlfn.RANK.EQ(B44,$B$39:$B$66)+COUNTIF($B$39:$B$66,B44)-1 -> 15 | E44: =INDEX($A$39:$B$66,MATCH(ROW()-38,$D$39:$D$66,0),1) -> Barcelona | F44: =LOOKUP(E44,$A$39:$A$66,$B$39:$B$66) -> 12344965 | G44: =LOOKUP(E44,$A$39:$A$66,$C$39:$C$66) -> 12862069
A45: =A13 -> Baleares | B45: =E13 -> 1114658 | C45: =D13 -> 979245 | D45: =_xlfn.RANK.EQ(B45,$B$39:$B$66)+COUNTIF($B$39:$B$66,B45)-1 -> 14 | E45: =INDEX($A$39:$B$66,MATCH(ROW()-38,$D$39:$D$66,0),1) -> Castellón | F45: =LOOKUP(E45,$A$39:$A$66,$B$39:$B$66) -> 9912711 | G45: =LOOKUP(E45,$A$39:$A$66,$C$39:$C$66) -> 9801550.4
A46: =A14 -> Barcelona | B46: =E14 -> 12344965 | C46: =D14 -> 12862069 | D46: =_xlfn.RANK.EQ(B46,$B$39:$B$66)+COUNTIF($B$39:$B$66,B46)-1 -> 6 | E46: =INDEX($A$39:$B$66,MATCH(ROW()-38,$D$39:$D$66,0),1) -> Las Palmas | F46: =LOOKUP(E46,$A$39:$A$66,$B$39:$B$66) -> 8256892 | G46: =LOOKUP(E46,$A$39:$A$66,$C$39:$C$66) -> 7817669
A47: =A15 -> Bilbao | B47: =E15 -> 17764532 | C47: =D15 -> 18156750 | D47: =_xlfn.RANK.EQ(B47,$B$39:$B$66)+COUNTIF($B$39:$B$66,B47)-1 -> 5 | E47: =INDEX($A$39:$B$66,MATCH(ROW()-38,$D$39:$D$66,0),1) -> A Coruña | F47: =LOOKUP(E47,$A$39:$A$66,$B$39:$B$66) -> 7996655 | G47: =LOOKUP(E47,$A$39:$A$66,$C$39:$C$66) -> 7116313
A48: =A16 -> Cartagena | B48: =E16 -> 24047180 | C48: =D16 -> 25161498 | D48: =_xlfn.RANK.EQ(B48,$B$39:$B$66)+COUNTIF($B$39:$B$66,B48)-1 -> 3 | E48: =INDEX($A$39:$B$66,MATCH(ROW()-38,$D$39:$D$66,0),1) -> Valencia | F48: =LOOKUP(E48,$A$39:$A$66,$B$39:$B$66) -> 3867779 | G48: =LOOKUP(E48,$A$39:$A$66,$C$39:$C$66) -> 2673188
A49: =A17 -> Castellón | B49: =E17 -> 9912711 | C49: =D17 -> 9801550.4 | D49: =_xlfn.RANK.EQ(B49,$B$39:$B$66)+COUNTIF($B$39:$B$66,B49)-1 -> 7 | E49: =INDEX($A$39:$B$66,MATCH(ROW()-38,$D$39:$D$66,0),1) -> Ferrol-San Cibrao | F49: =LOOKUP(E49,$A$39:$A$66,$B$39:$B$66) -> 3172235 | G49: =LOOKUP(E49,$A$39:$A$66,$C$39:$C$66) -> 2936160
A50: =A18 -> Ceuta | B50: =E18 -> 479227 | C50: =D18 -> 714554 | D50: =_xlfn.RANK.EQ(B50,$B$39:$B$66)+COUNTIF($B$39:$B$66,B50)-1 -> 18 | E50: =INDEX($A$39:$B$66,MATCH(ROW()-38,$D$39:$D$66,0),1) -> Santa Cruz de Tenerife | F50: =LOOKUP(E50,$A$39:$A$66,$B$39:$B$66) -> 3035070 | G50: =LOOKUP(E50,$A$39:$A$66,$C$39:$C$66) -> 3397370
... A66: =A34 -> Vilagarcía | B66: =E34 -> 273548 | C66: =D34 -> 233458.5 | D66: =_xlfn.RANK.EQ(B66,$B$39:$B$66)+COUNTIF($B$39:$B$66,B66)-1 -> 20 | E66: =INDEX($A$39:$B$66,MATCH(ROW()-38,$D$39:$D$66,0),1) -> Marín y Ría de Pontevedra | F66: =LOOKUP(E66,$A$39:$A$66,$B$39:$B$66) -> 0 | G66: =LOOKUP(E66,$A$39:$A$66,$C$39:$C$66) -> 0

Sheet Sólidos
F1: 3. GRANELES SÓLIDOS (toneladas)
A5: Autoridad Portuaria | B5: ='Resumen general'!D6 -> Mes diciembre | D5: ='Resumen general'!F6 -> Acumulado desde enero | L5: ='Resumen general'!I4 -> Fecha: 30/01/2023
B6: ='Resumen general'!D7 -> 2020 | C6: ='Resumen general'!E7 -> 2021 | D6: ='Resumen general'!F7 -> 2020 | E6: ='Resumen general'!G7 -> 2021 | F6: Var. (%)
A7: A Coruña | B7: 104929 | C7: 325609 | D7: 2548387 | E7: 2934090 | F7: =((E7*100)/D7)-100 -> 15.135182
A8: Alicante | B8: 167648 | C8: 146214 | D8: 1396877 | E8: 1300401 | F8: =((E8*100)/D8)-100 -> -6.9065494
A9: Almería | B9: 326081 | C9: 321761 | D9: 3460895 | E9: 4188630 | F9: =((E9*100)/D9)-100 -> 21.027364
A10: Avilés | B10: 198915 | C10: 226194 | D10: 2519254 | E10: 2879791 | F10: =((E10*100)/D10)-100 -> 14.31126
A11: Bahía de Algeciras | B11: 58727 | C11: 51447 | D11: 552762.14 | E11: 664448 | F11: =((E11*100)/D11)-100 -> 20.20505
A12: Bahía de Cádiz | B12: 105704 | C12: 190829 | D12: 1443545.4 | E12: 1308133 | F12: =((E12*100)/D12)-100 -> -9.3805432
A13: Baleares | B13: 62769 | C13: 32726 | D13: 524598 | E13: 356648 | F13: =((E13*100)/D13)-100 -> -32.014991
A14: Barcelona | B14: 412430 | C14: 414896 | D14: 4012866.7 | E14: 4459744 | F14: =((E14*100)/D14)-100 -> 11.13611
A15: Bilbao | B15: 155458 | C15: 266416 | D15: 3667962 | E15: 4651321 | F15: =((E15*100)/D15)-100 -> 26.809411
A16: Cartagena | B16: 824507 | C16: 603993 | D16: 6469064.8 | E16: 6021397 | F16: =((E16*100)/D16)-100 -> -6.9201323
A17: Castellón | B17: 522442 | C17: 932922 | D17: 6727253 | E17: 9385244 | F17: =((E17*100)/D17)-100 -> 39.510793
A18: Ceuta | B18: 0 | C18: 1400 | D18: 20697 | E18: 15911 | F18: =((E18*100)/D18)-100 -> -23.124124
... A34: Vilagarcía | B34: 14602 | C34: 49179 | D34: 314246.5 | E34: 425965 | F34: =((E34*100)/D34)-100 -> 35.551231
A35: Total | B35: =SUM(B7:B34) -> 6165562 | C35: =SUM(C7:C34) -> 7356730 | D35: =SUM(D7:D34) -> 77071498 | E35: =SUM(E7:E34) -> 84980689 | F35: =((E35*100)/D35)-100 -> 10.262148
A36: Incluye cargas, descargas, tránsitos y transbordos.
B38: =E6 -> 2021 | C38: =D6 -> 2020 | F38: =B38 -> 2021 | G38: =C38 -> 2020
A39: =A7 -> A Coruña | B39: =E7 -> 2934090 | C39: =D7 -> 2548387 | D39: =_xlfn.RANK.EQ(B39,$B$39:$B$66)+COUNTIF($B$39:$B$66,B39)-1 -> 11 | E39: =INDEX($A$39:$B$66,MATCH(ROW()-38,$D$39:$D$66,0),1) -> Gijón | F39: =LOOKUP(E39,$A$39:$A$66,$B$39:$B$66) -> 14209772 | G39: =LOOKUP(E39,$A$39:$A$66,$C$39:$C$66) -> 13616321
A40: =A8 -> Alicante | B40: =E8 -> 1300401 | C40: =D8 -> 1396877 | D40: =_xlfn.RANK.EQ(B40,$B$39:$B$66)+COUNTIF($B$39:$B$66,B40)-1 -> 17 | E40: =INDEX($A$39:$B$66,MATCH(ROW()-38,$D$39:$D$66,0),1) -> Castellón | F40: =LOOKUP(E40,$A$39:$A$66,$B$39:$B$66) -> 9385244 | G40: =LOOKUP(E40,$A$39:$A$66,$C$39:$C$66) -> 6727253
A41: =A9 -> Almería | B41: =E9 -> 4188630 | C41: =D9 -> 3460895 | D41: =_xlfn.RANK.EQ(B41,$B$39:$B$66)+COUNTIF($B$39:$B$66,B41)-1 -> 9 | E41: =INDEX($A$39:$B$66,MATCH(ROW()-38,$D$39:$D$66,0),1) -> Tarragona | F41: =LOOKUP(E41,$A$39:$A$66,$B$39:$B$66) -> 7744291 | G41: =LOOKUP(E41,$A$39:$A$66,$C$39:$C$66) -> 6480982
A42: =A10 -> Avilés | B42: =E10 -> 2879791 | C42: =D10 -> 2519254 | D42: =_xlfn.RANK.EQ(B42,$B$39:$B$66)+COUNTIF($B$39:$B$66,B42)-1 -> 12 | E42: =INDEX($A$39:$B$66,MATCH(ROW()-38,$D$39:$D$66,0),1) -> Cartagena | F42: =LOOKUP(E42,$A$39:$A$66,$B$39:$B$66) -> 6021397 | G42: =LOOKUP(E42,$A$39:$A$66,$C$39:$C$66) -> 6469064.8
A43: =A11 -> Bahía de Algeciras | B43: =E11 -> 664448 | C43: =D11 -> 552762.14 | D43: =_xlfn.RANK.EQ(B43,$B$39:$B$66)+COUNTIF($B$39:$B$66,B43)-1 -> 21 | E43: =INDEX($A$39:$B$66,MATCH(ROW()-38,$D$39:$D$66,0),1) -> Ferrol-San Cibrao | F43: =LOOKUP(E43,$A$39:$A$66,$B$39:$B$66) -> 5994200 | G43: =LOOKUP(E43,$A$39:$A$66,$C$39:$C$66) -> 6371480
A44: =A12 -> Bahía de Cádiz | B44: =E12 -> 1308133 | C44: =D12 -> 1443545.4 | D44: =_xlfn.RANK.EQ(B44,$B$39:$B$66)+COUNTIF($B$39:$B$66,B44)-1 -> 16 | E44: =INDEX($A$39:$B$66,MATCH(ROW()-38,$D$39:$D$66,0),1) -> Huelva | F44: =LOOKUP(E44,$A$39:$A$66,$B$39:$B$66) -> 5029739 | G44: =LOOKUP(E44,$A$39:$A$66,$C$39:$C$66) -> 4886834
A45: =A13 -> Baleares | B45: =E13 -> 356648 | C45: =D13 -> 524598 | D45: =_xlfn.RANK.EQ(B45,$B$39:$B$66)+COUNTIF($B$39:$B$66,B45)-1 -> 25 | E45: =INDEX($A$39:$B$66,MATCH(ROW()-38,$D$39:$D$66,0),1) -> Bilbao | F45: =LOOKUP(E45,$A$39:$A$66,$B$39:$B$66) -> 4651321 | G45: =LOOKUP(E45,$A$39:$A$66,$C$39:$C$66) -> 3667962
A46: =A14 -> Barcelona | B46: =E14 -> 4459744 | C46: =D14 -> 4012866.7 | D46: =_xlfn.RANK.EQ(B46,$B$39:$B$66)+COUNTIF($B$39:$B$66,B46)-1 -> 8 | E46: =INDEX($A$39:$B$66,MATCH(ROW()-38,$D$39:$D$66,0),1) -> Barcelona | F46: =LOOKUP(E46,$A$39:$A$66,$B$39:$B$66) -> 4459744 | G46: =LOOKUP(E46,$A$39:$A$66,$C$39:$C$66) -> 4012866.7
A47: =A15 -> Bilbao | B47: =E15 -> 4651321 | C47: =D15 -> 3667962 | D47: =_xlfn.RANK.EQ(B47,$B$39:$B$66)+COUNTIF($B$39:$B$66,B47)-1 -> 7 | E47: =INDEX($A$39:$B$66,MATCH(ROW()-38,$D$39:$D$66,0),1) -> Almería | F47: =LOOKUP(E47,$A$39:$A$66,$B$39:$B$66) -> 4188630 | G47: =LOOKUP(E47,$A$39:$A$66,$C$39:$C$66) -> 3460895
A48: =A16 -> Cartagena | B48: =E16 -> 6021397 | C48: =D16 -> 6469064.8 | D48: =_xlfn.RANK.EQ(B48,$B$39:$B$66)+COUNTIF($B$39:$B$66,B48)-1 -> 4 | E48: =INDEX($A$39:$B$66,MATCH(ROW()-38,$D$39:$D$66,0),1) -> Santander | F48: =LOOKUP(E48,$A$39:$A$66,$B$39:$B$66) -> 3537849 | G48: =LOOKUP(E48,$A$39:$A$66,$C$39:$C$66) -> 3026140
A49: =A17 -> Castellón | B49: =E17 -> 9385244 | C49: =D17 -> 6727253 | D49: =_xlfn.RANK.EQ(B49,$B$39:$B$66)+COUNTIF($B$39:$B$66,B49)-1 -> 2 | E49: =INDEX($A$39:$B$66,MATCH(ROW()-38,$D$39:$D$66,0),1) -> A Coruña | F49: =LOOKUP(E49,$A$39:$A$66,$B$39:$B$66) -> 2934090 | G49: =LOOKUP(E49,$A$39:$A$66,$C$39:$C$66) -> 2548387
A50: =A18 -> Ceuta | B50: =E18 -> 15911 | C50: =D18 -> 20697 | D50: =_xlfn.RANK.EQ(B50,$B$39:$B$66)+COUNTIF($B$39:$B$66,B50)-1 -> 28 | E50: =INDEX($A$39:$B$66,MATCH(ROW()-38,$D$39:$D$66,0),1) -> Avilés | F50: =LOOKUP(E50,$A$39:$A$66,$B$39:$B$66) -> 2879791 | G50: =LOOKUP(E50,$A$39:$A$66,$C$39:$C$66) -> 2519254
... A66: =A34 -> Vilagarcía | B66: =E34 -> 425965 | C66: =D34 -> 314246.5 | D66: =_xlfn.RANK.EQ(B66,$B$39:$B$66)+COUNTIF($B$39:$B$66,B66)-1 -> 23 | E66: =INDEX($A$39:$B$66,MATCH(ROW()-38,$D$39:$D$66,0),1) -> Ceuta | F66: =LOOKUP(E66,$A$39:$A$66,$B$39:$B$66) -> 15911 | G66: =LOOKUP(E66,$A$39:$A$66,$C$39:$C$66) -> 20697

Sheet Mercancía general
F1: 4. MERCANCÍA GENERAL (toneladas)
A5: Autoridad Portuaria | B5: ='Resumen general'!D6 -> Mes diciembre | D5: ='Resumen general'!F6 -> Acumulado desde enero | L5: ='Resumen general'!I4 -> Fecha: 30/01/2023
B6: ='Resumen general'!D7 -> 2020 | C6: ='Resumen general'!E7 -> 2021 | D6: ='Resumen general'!F7 -> 2020 | E6: ='Resumen general'!G7 -> 2021 | F6: Var. (%)
A7: A Coruña | B7: 61306 | C7: 71682 | D7: 839877 | E7: 852680 | F7: =((E7*100)/D7)-100 -> 1.5243899
A8: Alicante | B8: 118986 | C8: 150574 | D8: 1283807 | E8: 1291636 | F8: =((E8*100)/D8)-100 -> 0.60982687
A9: Almería | B9: 124455 | C9: 135183 | D9: 1214179 | E9: 1450994 | F9: =((E9*100)/D9)-100 -> 19.504126
A10: Avilés | B10: 47685 | C10: 138640 | D10: 856395 | E10: 1137946 | F10: =((E10*100)/D10)-100 -> 32.876301
A11: Bahía de Algeciras | B11: 6117453 | C11: 6064369 | D11: 74731049 | E11: 70587413 | F11: =((E11*100)/D11)-100 -> -5.5447313
A12: Bahía de Cádiz | B12: 219515 | C12: 199443 | D12: 1645803 | E12: 2437997 | F12: =((E12*100)/D12)-100 -> 48.134193
A13: Baleares | B13: 865657 | C13: 1033060 | D13: 10823326 | E13: 12256053 | F13: =((E13*100)/D13)-100 -> 13.2374
A14: Barcelona | B14: 4305657 | C14: 4083188 | D14: 41596264 | E14: 48168582 | F14: =((E14*100)/D14)-100 -> 15.800259
A15: Bilbao | B15: 436746 | C15: 675843 | D15: 7719370 | E15: 8766658 | F15: =((E15*100)/D15)-100 -> 13.567014
A16: Cartagena | B16: 69716 | C16: 79209 | D16: 1077909.9 | E16: 967342 | F16: =((E16*100)/D16)-100 -> -10.257621
A17: Castellón | B17: 167187 | C17: 140870 | D17: 1977924 | E17: 1904137 | F17: =((E17*100)/D17)-100 -> -3.7305276
A18: Ceuta | B18: 48364 | C18: 47810 | D18: 560390 | E18: 599024 | F18: =((E18*100)/D18)-100 -> 6.8941273
... A34: Vilagarcía | B34: 55398 | C34: 53457 | D34: 656868 | E34: 804078 | F34: =((E34*100)/D34)-100 -> 22.410895
A35: Total | B35: =SUM(B7:B34) -> 23129018 | C35: =SUM(C7:C34) -> 23101926 | D35: =SUM(D7:D34) -> 2.6151445e+08 | E35: =SUM(E7:E34) -> 276231168 | F35: =((E35*100)/D35)-100 -> 5.6274955
A36: Incluye cargas, descargas, tránsitos y transbordos.
B38: =E6 -> 2021 | C38: =D6 -> 2020 | F38: =B38 -> 2021 | G38: =C38 -> 2020
A39: =A7 -> A Coruña | B39: =E7 -> 852680 | C39: =D7 -> 839877 | D39: =_xlfn.RANK.EQ(B39,$B$39:$B$66)+COUNTIF($B$39:$B$66,B39)-1 -> 23 | E39: =INDEX($A$39:$B$66,MATCH(ROW()-38,$D$39:$D$66,0),1) -> Valencia | F39: =LOOKUP(E39,$A$39:$A$66,$B$39:$B$66) -> 78823912 | G39: =LOOKUP(E39,$A$39:$A$66,$C$39:$C$66) -> 76011953
A40: =A8 -> Alicante | B40: =E8 -> 1291636 | C40: =D8 -> 1283807 | D40: =_xlfn.RANK.EQ(B40,$B$39:$B$66)+COUNTIF($B$39:$B$66,B40)-1 -> 18 | E40: =INDEX($A$39:$B$66,MATCH(ROW()-38,$D$39:$D$66,0),1) -> Bahía de Algeciras | F40: =LOOKUP(E40,$A$39:$A$66,$B$39:$B$66) -> 70587413 | G40: =LOOKUP(E40,$A$39:$A$66,$C$39:$C$66) -> 74731049
A41: =A9 -> Almería | B41: =E9 -> 1450994 | C41: =D9 -> 1214179 | D41: =_xlfn.RANK.EQ(B41,$B$39:$B$66)+COUNTIF($B$39:$B$66,B41)-1 -> 17 | E41: =INDEX($A$39:$B$66,MATCH(ROW()-38,$D$39:$D$66,0),1) -> Barcelona | F41: =LOOKUP(E41,$A$39:$A$66,$B$39:$B$66) -> 48168582 | G41: =LOOKUP(E41,$A$39:$A$66,$C$39:$C$66) -> 41596264
A42: =A10 -> Avilés | B42: =E10 -> 1137946 | C42: =D10 -> 856395 | D42: =_xlfn.RANK.EQ(B42,$B$39:$B$66)+COUNTIF($B$39:$B$66,B42)-1 -> 21 | E42: =INDEX($A$39:$B$66,MATCH(ROW()-38,$D$39:$D$66,0),1) -> Las Palmas | F42: =LOOKUP(E42,$A$39:$A$66,$B$39:$B$66) -> 17248633 | G42: =LOOKUP(E42,$A$39:$A$66,$C$39:$C$66) -> 15222571
A43: =A11 -> Bahía de Algeciras | B43: =E11 -> 70587413 | C43: =D11 -> 74731049 | D43: =_xlfn.RANK.EQ(B43,$B$39:$B$66)+COUNTIF($B$39:$B$66,B43)-1 -> 2 | E43: =INDEX($A$39:$B$66,MATCH(ROW()-38,$D$39:$D$66,0),1) -> Baleares | F43: =LOOKUP(E43,$A$39:$A$66,$B$39:$B$66) -> 12256053 | G43: =LOOKUP(E43,$A$39:$A$66,$C$39:$C$66) -> 10823326
A44: =A12 -> Bahía de Cádiz | B44: =E12 -> 2437997 | C44: =D12 -> 1645803 | D44: =_xlfn.RANK.EQ(B44,$B$39:$B$66)+COUNTIF($B$39:$B$66,B44)-1 -> 11 | E44: =INDEX($A$39:$B$66,MATCH(ROW()-38,$D$39:$D$66,0),1) -> Bilbao | F44: =LOOKUP(E44,$A$39:$A$66,$B$39:$B$66) -> 8766658 | G44: =LOOKUP(E44,$A$39:$A$66,$C$39:$C$66) -> 7719370
A45: =A13 -> Baleares | B45: =E13 -> 12256053 | C45: =D13 -> 10823326 | D45: =_xlfn.RANK.EQ(B45,$B$39:$B$66)+COUNTIF($B$39:$B$66,B45)-1 -> 5 | E45: =INDEX($A$39:$B$66,MATCH(ROW()-38,$D$39:$D$66,0),1) -> Santa Cruz de Tenerife | F45: =LOOKUP(E45,$A$39:$A$66,$B$39:$B$66) -> 7196030 | G45: =LOOKUP(E45,$A$39:$A$66,$C$39:$C$66) -> 6671139
A46: =A14 -> Barcelona | B46: =E14 -> 48168582 | C46: =D14 -> 41596264 | D46: =_xlfn.RANK.EQ(B46,$B$39:$B$66)+COUNTIF($B$39:$B$66,B46)-1 -> 3 | E46: =INDEX($A$39:$B$66,MATCH(ROW()-38,$D$39:$D$66,0),1) -> Vigo | F46: =LOOKUP(E46,$A$39:$A$66,$B$39:$B$66) -> 4253658 | G46: =LOOKUP(E46,$A$39:$A$66,$C$39:$C$66) -> 3978247.8
A47: =A15 -> Bilbao | B47: =E15 -> 8766658 | C47: =D15 -> 7719370 | D47: =_xlfn.RANK.EQ(B47,$B$39:$B$66)+COUNTIF($B$39:$B$66,B47)-1 -> 6 | E47: =INDEX($A$39:$B$66,MATCH(ROW()-38,$D$39:$D$66,0),1) -> Santander | F47: =LOOKUP(E47,$A$39:$A$66,$B$39:$B$66) -> 2990965 | G47: =LOOKUP(E47,$A$39:$A$66,$C$39:$C$66) -> 2597898
A48: =A16 -> Cartagena | B48: =E16 -> 967342 | C48: =D16 -> 1077909.9 | D48: =_xlfn.RANK.EQ(B48,$B$39:$B$66)+COUNTIF($B$39:$B$66,B48)-1 -> 22 | E48: =INDEX($A$39:$B$66,MATCH(ROW()-38,$D$39:$D$66,0),1) -> Málaga | F48: =LOOKUP(E48,$A$39:$A$66,$B$39:$B$66) -> 2690740 | G48: =LOOKUP(E48,$A$39:$A$66,$C$39:$C$66) -> 1061609
A49: =A17 -> Castellón | B49: =E17 -> 1904137 | C49: =D17 -> 1977924 | D49: =_xlfn.RANK.EQ(B49,$B$39:$B$66)+COUNTIF($B$39:$B$66,B49)-1 -> 14 | E49: =INDEX($A$39:$B$66,MATCH(ROW()-38,$D$39:$D$66,0),1) -> Bahía de Cádiz | F49: =LOOKUP(E49,$A$39:$A$66,$B$39:$B$66) -> 2437997 | G49: =LOOKUP(E49,$A$39:$A$66,$C$39:$C$66) -> 1645803
A50: =A18 -> Ceuta | B50: =E18 -> 599024 | C50: =D18 -> 560390 | D50: =_xlfn.RANK.EQ(B50,$B$39:$B$66)+COUNTIF($B$39:$B$66,B50)-1 -> 26 | E50: =INDEX($A$39:$B$66,MATCH(ROW()-38,$D$39:$D$66,0),1) -> Pasaia | F50: =LOOKUP(E50,$A$39:$A$66,$B$39:$B$66) -> 2389843 | G50: =LOOKUP(E50,$A$39:$A$66,$C$39:$C$66) -> 1984246
... A66: =A34 -> Vilagarcía | B66: =E34 -> 804078 | C66: =D34 -> 656868 | D66: =_xlfn.RANK.EQ(B66,$B$39:$B$66)+COUNTIF($B$39:$B$66,B66)-1 -> 24 | E66: =INDEX($A$39:$B$66,MATCH(ROW()-38,$D$39:$D$66,0),1) -> Motril | F66: =LOOKUP(E66,$A$39:$A$66,$B$39:$B$66) -> 171550 | G66: =LOOKUP(E66,$A$39:$A$66,$C$39:$C$66) -> 256389

Sheet Mercancías contenedores
F1: 4.1. MERCANCÍAS EN CONTENEDORES (toneladas)
A5: Autoridad Portuaria | B5: ='Resumen general'!D6 -> Mes diciembre | D5: ='Resumen general'!F6 -> Acumulado desde enero | L5: ='Resumen general'!I4 -> Fecha: 30/01/2023
B6: ='Resumen general'!D7 -> 2020 | C6: ='Resumen general'!E7 -> 2021 | D6: ='Resumen general'!F7 -> 2020 | E6: ='Resumen general'!G7 -> 2021 | F6: Var. (%)
A7: A Coruña | B7: 0 | C7: 0 | D7: 17 | E7: 29 | F7: =((E7*100)/D7)-100 -> 70.588235
A8: Alicante | B8: 88968 | C8: 144569 | D8: 1080125 | E8: 1171488 | F8: =((E8*100)/D8)-100 -> 8.458558
A9: Almería | B9: 39360 | C9: 27847 | D9: 417620 | E9: 407382 | F9: =((E9*100)/D9)-100 -> -2.4515109
A10: Avilés | B10: 0 | C10: 0 | D10: 0 | E10: 469 | F10: =((E10*100)/D10)-100 -> #DIV/0!
A11: Bahía de Algeciras | B11: 5215301 | C11: 4804042 | D11: 65434200 | E11: 58728590 | F11: =((E11*100)/D11)-100 -> -10.247868
A12: Bahía de Cádiz | B12: 176762 | C12: 141850 | D12: 937299.5 | E12: 1748766 | F12: =((E12*100)/D12)-100 -> 86.574942
A13: Baleares | B13: 27565 | C13: 30282 | D13: 347050 | E13: 449154 | F13: =((E13*100)/D13)-100 -> 29.420545
A14: Barcelona | B14: 3490520 | C14: 3248195 | D14: 31975633 | E14: 37455575 | F14: =((E14*100)/D14)-100 -> 17.137869
A15: Bilbao | B15: 337206 | C15: 455488 | D15: 5182838 | E15: 5656436 | F15: =((E15*100)/D15)-100 -> 9.1378121
A16: Cartagena | B16: 50248 | C16: 40611 | D16: 738739.07 | E16: 613474 | F16: =((E16*100)/D16)-100 -> -16.956605
A17: Castellón | B17: 153504 | C17: 131324 | D17: 1850193 | E17: 1713789 | F17: =((E17*100)/D17)-100 -> -7.3724201
A18: Ceuta | B18: 7510 | C18: 6065 | D18: 74717 | E18: 74736 | F18: =((E18*100)/D18)-100 -> 0.025429287
... A34: Vilagarcía | B34: 26837 | C34: 21619 | D34: 312361 | E34: 294080 | F34: =((E34*100)/D34)-100 -> -5.8525232
A35: Total | B35: =SUM(B7:B34) -> 17404768 | C35: =SUM(C7:C34) -> 16422542 | D35: =SUM(D7:D34) -> 1.9378288e+08 | E35: =SUM(E7:E34) -> 198282966 | F35: =((E35*100)/D35)-100 -> 2.3222303
A36: Incluye cargas, descargas, tránsitos y transbordos.
B38: =E6 -> 2021 | C38: =D6 -> 2020 | F38: =B38 -> 2021 | G38: =C38 -> 2020
A39: =A7 -> A Coruña | B39: =E7 -> 29 | C39: =D7 -> 17 | D39: =_xlfn.RANK.EQ(B39,$B$39:$B$66)+COUNTIF($B$39:$B$66,B39)-1 -> 26 | E39: =INDEX($A$39:$B$66,MATCH(ROW()-38,$D$39:$D$66,0),1) -> Valencia | F39: =LOOKUP(E39,$A$39:$A$66,$B$39:$B$66) -> 64017231 | G39: =LOOKUP(E39,$A$39:$A$66,$C$39:$C$66) -> 63264401
A40: =A8 -> Alicante | B40: =E8 -> 1171488 | C40: =D8 -> 1080125 | D40: =_xlfn.RANK.EQ(B40,$B$39:$B$66)+COUNTIF($B$39:$B$66,B40)-1 -> 11 | E40: =INDEX($A$39:$B$66,MATCH(ROW()-38,$D$39:$D$66,0),1) -> Bahía de Algeciras | F40: =LOOKUP(E40,$A$39:$A$66,$B$39:$B$66) -> 58728590 | G40: =LOOKUP(E40,$A$39:$A$66,$C$39:$C$66) -> 65434200
A41: =A9 -> Almería | B41: =E9 -> 407382 | C41: =D9 -> 417620 | D41: =_xlfn.RANK.EQ(B41,$B$39:$B$66)+COUNTIF($B$39:$B$66,B41)-1 -> 20 | E41: =INDEX($A$39:$B$66,MATCH(ROW()-38,$D$39:$D$66,0),1) -> Barcelona | F41: =LOOKUP(E41,$A$39:$A$66,$B$39:$B$66) -> 37455575 | G41: =LOOKUP(E41,$A$39:$A$66,$C$39:$C$66) -> 31975633
A42: =A10 -> Avilés | B42: =E10 -> 469 | C42: =D10 -> 0 | D42: =_xlfn.RANK.EQ(B42,$B$39:$B$66)+COUNTIF($B$39:$B$66,B42)-1 -> 25 | E42: =INDEX($A$39:$B$66,MATCH(ROW()-38,$D$39:$D$66,0),1) -> Las Palmas | F42: =LOOKUP(E42,$A$39:$A$66,$B$39:$B$66) -> 13060685 | G42: =LOOKUP(E42,$A$39:$A$66,$C$39:$C$66) -> 11445173
A43: =A11 -> Bahía de Algeciras | B43: =E11 -> 58728590 | C43: =D11 -> 65434200 | D43: =_xlfn.RANK.EQ(B43,$B$39:$B$66)+COUNTIF($B$39:$B$66,B43)-1 -> 2 | E43: =INDEX($A$39:$B$66,MATCH(ROW()-38,$D$39:$D$66,0),1) -> Bilbao | F43: =LOOKUP(E43,$A$39:$A$66,$B$39:$B$66) -> 5656436 | G43: =LOOKUP(E43,$A$39:$A$66,$C$39:$C$66) -> 5182838
A44: =A12 -> Bahía de Cádiz | B44: =E12 -> 1748766 | C44: =D12 -> 937299.5 | D44: =_xlfn.RANK.EQ(B44,$B$39:$B$66)+COUNTIF($B$39:$B$66,B44)-1 -> 9 | E44: =INDEX($A$39:$B$66,MATCH(ROW()-38,$D$39:$D$66,0),1) -> Santa Cruz de Tenerife | F44: =LOOKUP(E44,$A$39:$A$66,$B$39:$B$66) -> 3611406 | G44: =LOOKUP(E44,$A$39:$A$66,$C$39:$C$66) -> 3202652
A45: =A13 -> Baleares | B45: =E13 -> 449154 | C45: =D13 -> 347050 | D45: =_xlfn.RANK.EQ(B45,$B$39:$B$66)+COUNTIF($B$39:$B$66,B45)-1 -> 18 | E45: =INDEX($A$39:$B$66,MATCH(ROW()-38,$D$39:$D$66,0),1) -> Vigo | F45: =LOOKUP(E45,$A$39:$A$66,$B$39:$B$66) -> 2986304 | G45: =LOOKUP(E45,$A$39:$A$66,$C$39:$C$66) -> 2780286.8
A46: =A14 -> Barcelona | B46: =E14 -> 37455575 | C46: =D14 -> 31975633 | D46: =_xlfn.RANK.EQ(B46,$B$39:$B$66)+COUNTIF($B$39:$B$66,B46)-1 -> 3 | E46: =INDEX($A$39:$B$66,MATCH(ROW()-38,$D$39:$D$66,0),1) -> Málaga | F46: =LOOKUP(E46,$A$39:$A$66,$B$39:$B$66) -> 2252411 | G46: =LOOKUP(E46,$A$39:$A$66,$C$39:$C$66) -> 617003
A47: =A15 -> Bilbao | B47: =E15 -> 5656436 | C47: =D15 -> 5182838 | D47: =_xlfn.RANK.EQ(B47,$B$39:$B$66)+COUNTIF($B$39:$B$66,B47)-1 -> 5 | E47: =INDEX($A$39:$B$66,MATCH(ROW()-38,$D$39:$D$66,0),1) -> Bahía de Cádiz | F47: =LOOKUP(E47,$A$39:$A$66,$B$39:$B$66) -> 1748766 | G47: =LOOKUP(E47,$A$39:$A$66,$C$39:$C$66) -> 937299.5
A48: =A16 -> Cartagena | B48: =E16 -> 613474 | C48: =D16 -> 738739.07 | D48: =_xlfn.RANK.EQ(B48,$B$39:$B$66)+COUNTIF($B$39:$B$66,B48)-1 -> 14 | E48: =INDEX($A$39:$B$66,MATCH(ROW()-38,$D$39:$D$66,0),1) -> Castellón | F48: =LOOKUP(E48,$A$39:$A$66,$B$39:$B$66) -> 1713789 | G48: =LOOKUP(E48,$A$39:$A$66,$C$39:$C$66) -> 1850193
A49: =A17 -> Castellón | B49: =E17 -> 1713789 | C49: =D17 -> 1850193 | D49: =_xlfn.RANK.EQ(B49,$B$39:$B$66)+COUNTIF($B$39:$B$66,B49)-1 -> 10 | E49: =INDEX($A$39:$B$66,MATCH(ROW()-38,$D$39:$D$66,0),1) -> Alicante | F49: =LOOKUP(E49,$A$39:$A$66,$B$39:$B$66) -> 1171488 | G49: =LOOKUP(E49,$A$39:$A$66,$C$39:$C$66) -> 1080125
A50: =A18 -> Ceuta | B50: =E18 -> 74736 | C50: =D18 -> 74717 | D50: =_xlfn.RANK.EQ(B50,$B$39:$B$66)+COUNTIF($B$39:$B$66,B50)-1 -> 23 | E50: =INDEX($A$39:$B$66,MATCH(ROW()-38,$D$39:$D$66,0),1) -> Sevilla | F50: =LOOKUP(E50,$A$39:$A$66,$B$39:$B$66) -> 999941 | G50: =LOOKUP(E50,$A$39:$A$66,$C$39:$C$66) -> 896657
... A66: =A34 -> Vilagarcía | B66: =E34 -> 294080 | C66: =D34 -> 312361 | D66: =_xlfn.RANK.EQ(B66,$B$39:$B$66)+COUNTIF($B$39:$B$66,B66)-1 -> 21 | E66: =INDEX($A$39:$B$66,MATCH(ROW()-38,$D$39:$D$66,0),1) -> Motril | F66: =LOOKUP(E66,$A$39:$A$66,$B$39:$B$66) -> 0 | G66: =LOOKUP(E66,$A$39:$A$66,$C$39:$C$66) -> 506

Sheet Pesca
F1: 5. PESCA (toneladas)
A5: Autoridad Portuaria | B5: ='Resumen general'!D6 -> Mes diciembre | D5: ='Resumen general'!F6 -> Acumulado desde enero | L5: ='Resumen general'!I4 -> Fecha: 30/01/2023
B6: ='Resumen general'!D7 -> 2020 | C6: ='Resumen general'!E7 -> 2021 | D6: ='Resumen general'!F7 -> 2020 | E6: ='Resumen general'!G7 -> 2021 | F6: Var. (%)
A7: A Coruña | B7: 1730 | C7: 1319 | D7: 33299 | E7: 28331 | F7: =((E7*100)/D7)-100 -> -14.919367
A8: Alicante | B8: 37 | C8: 24 | D8: 1281.555 | E8: 714 | F8: =((E8*100)/D8)-100 -> -44.286433
A9: Almería | B9: 140 | C9: 221 | D9: 3914.926 | E9: 3923 | F9: =((E9*100)/D9)-100 -> 0.20623634
A10: Avilés | B10: 501 | C10: 559 | D10: 17811.315 | E10: 18702 | F10: =((E10*100)/D10)-100 -> 5.0006695
A11: Bahía de Algeciras | B11: 72 | C11: 36 | D11: 887.56 | E11: 911 | F11: =((E11*100)/D11)-100 -> 2.6409482
A12: Bahía de Cádiz | B12: 915 | C12: 944 | D12: 14026.361 | E12: 14155 | F12: =((E12*100)/D12)-100 -> 0.91712312
A13: Baleares | B13: 129 | C13: 125 | D13: 2458.326 | E13: 2114 | F13: =((E13*100)/D13)-100 -> -14.006523
A14: Barcelona | B14: 51 | C14: 34 | D14: 2187.445 | E14: 2168 | F14: =((E14*100)/D14)-100 -> -0.88893664
A15: Bilbao | B15: 0 | C15: 0 | D15: 0 | E15: 0 | F15: =((E15*100)/D15)-100 -> #DIV/0!
A16: Cartagena | B16: 22 | C16: 27 | D16: 504.067 | E16: 423 | F16: =((E16*100)/D16)-100 -> -16.082584
A17: Castellón | B17: 73 | C17: 92 | D17: 3275.111 | E17: 3003 | F17: =((E17*100)/D17)-100 -> -8.3084512
A18: Ceuta | B18: 1 | C18: 2 | D18: 54.322 | E18: 44 | F18: =((E18*100)/D18)-100 -> -19.00151
... A34: Vilagarcía | B34: 0 | C34: 0 | D34: 0 | E34: 0 | F34: =((E34*100)/D34)-100 -> #DIV/0!
A35: Total | B35: =SUM(B7:B34) -> 9125 | C35: =SUM(C7:C34) -> 8712 | D35: =SUM(D7:D34) -> 163355.93 | E35: =SUM(E7:E34) -> 162962 | F35: =((E35*100)/D35)-100 -> -0.24115015
B38: =E6 -> 2021 | C38: =D6 -> 2020 | F38: =B38 -> 2021 | G38: =C38 -> 2020
A39: =A7 -> A Coruña | B39: =E7 -> 28331 | C39: =D7 -> 33299 | D39: =_xlfn.RANK.EQ(B39,$B$39:$B$66)+COUNTIF($B$39:$B$66,B39)-1 -> 2 | E39: =INDEX($A$39:$B$66,MATCH(ROW()-38,$D$39:$D$66,0),1) -> Vigo | F39: =LOOKUP(E39,$A$39:$A$66,$B$39:$B$66) -> 36581 | G39: =LOOKUP(E39,$A$39:$A$66,$C$39:$C$66) -> 36796.39
A40: =A8 -> Alicante | B40: =E8 -> 714 | C40: =D8 -> 1281.555 | D40: =_xlfn.RANK.EQ(B40,$B$39:$B$66)+COUNTIF($B$39:$B$66,B40)-1 -> 19 | E40: =INDEX($A$39:$B$66,MATCH(ROW()-38,$D$39:$D$66,0),1) -> A Coruña | F40: =LOOKUP(E40,$A$39:$A$66,$B$39:$B$66) -> 28331 | G40: =LOOKUP(E40,$A$39:$A$66,$C$39:$C$66) -> 33299
A41: =A9 -> Almería | B41: =E9 -> 3923 | C41: =D9 -> 3914.926 | D41: =_xlfn.RANK.EQ(B41,$B$39:$B$66)+COUNTIF($B$39:$B$66,B41)-1 -> 8 | E41: =INDEX($A$39:$B$66,MATCH(ROW()-38,$D$39:$D$66,0),1) -> Pasaia | F41: =LOOKUP(E41,$A$39:$A$66,$B$39:$B$66) -> 18811 | G41: =LOOKUP(E41,$A$39:$A$66,$C$39:$C$66) -> 20461.645
A42: =A10 -> Avilés | B42: =E10 -> 18702 | C42: =D10 -> 17811.315 | D42: =_xlfn.RANK.EQ(B42,$B$39:$B$66)+COUNTIF($B$39:$B$66,B42)-1 -> 4 | E42: =INDEX($A$39:$B$66,MATCH(ROW()-38,$D$39:$D$66,0),1) -> Avilés | F42: =LOOKUP(E42,$A$39:$A$66,$B$39:$B$66) -> 18702 | G42: =LOOKUP(E42,$A$39:$A$66,$C$39:$C$66) -> 17811.315
A43: =A11 -> Bahía de Algeciras | B43: =E11 -> 911 | C43: =D11 -> 887.56 | D43: =_xlfn.RANK.EQ(B43,$B$39:$B$66)+COUNTIF($B$39:$B$66,B43)-1 -> 18 | E43: =INDEX($A$39:$B$66,MATCH(ROW()-38,$D$39:$D$66,0),1) -> Gijón | F43: =LOOKUP(E43,$A$39:$A$66,$B$39:$B$66) -> 14882 | G43: =LOOKUP(E43,$A$39:$A$66,$C$39:$C$66) -> 8922.341
A44: =A12 -> Bahía de Cádiz | B44: =E12 -> 14155 | C44: =D12 -> 14026.361 | D44: =_xlfn.RANK.EQ(B44,$B$39:$B$66)+COUNTIF($B$39:$B$66,B44)-1 -> 6 | E44: =INDEX($A$39:$B$66,MATCH(ROW()-38,$D$39:$D$66,0),1) -> Bahía de Cádiz | F44: =LOOKUP(E44,$A$39:$A$66,$B$39:$B$66) -> 14155 | G44: =LOOKUP(E44,$A$39:$A$66,$C$39:$C$66) -> 14026.361
A45: =A13 -> Baleares | B45: =E13 -> 2114 | C45: =D13 -> 2458.326 | D45: =_xlfn.RANK.EQ(B45,$B$39:$B$66)+COUNTIF($B$39:$B$66,B45)-1 -> 13 | E45: =INDEX($A$39:$B$66,MATCH(ROW()-38,$D$39:$D$66,0),1) -> Santander | F45: =LOOKUP(E45,$A$39:$A$66,$B$39:$B$66) -> 5366 | G45: =LOOKUP(E45,$A$39:$A$66,$C$39:$C$66) -> 4493.567
A46: =A14 -> Barcelona | B46: =E14 -> 2168 | C46: =D14 -> 2187.445 | D46: =_xlfn.RANK.EQ(B46,$B$39:$B$66)+COUNTIF($B$39:$B$66,B46)-1 -> 12 | E46: =INDEX($A$39:$B$66,MATCH(ROW()-38,$D$39:$D$66,0),1) -> Almería | F46: =LOOKUP(E46,$A$39:$A$66,$B$39:$B$66) -> 3923 | G46: =LOOKUP(E46,$A$39:$A$66,$C$39:$C$66) -> 3914.926
A47: =A15 -> Bilbao | B47: =E15 -> 0 | C47: =D15 -> 0 | D47: =_xlfn.RANK.EQ(B47,$B$39:$B$66)+COUNTIF($B$39:$B$66,B47)-1 -> 28 | E47: =INDEX($A$39:$B$66,MATCH(ROW()-38,$D$39:$D$66,0),1) -> Santa Cruz de Tenerife | F47: =LOOKUP(E47,$A$39:$A$66,$B$39:$B$66) -> 3502 | G47: =LOOKUP(E47,$A$39:$A$66,$C$39:$C$66) -> 4546.905
A48: =A16 -> Cartagena | B48: =E16 -> 423 | C48: =D16 -> 504.067 | D48: =_xlfn.RANK.EQ(B48,$B$39:$B$66)+COUNTIF($B$39:$B$66,B48)-1 -> 21 | E48: =INDEX($A$39:$B$66,MATCH(ROW()-38,$D$39:$D$66,0),1) -> Castellón | F48: =LOOKUP(E48,$A$39:$A$66,$B$39:$B$66) -> 3003 | G48: =LOOKUP(E48,$A$39:$A$66,$C$39:$C$66) -> 3275.111
A49: =A17 -> Castellón | B49: =E17 -> 3003 | C49: =D17 -> 3275.111 | D49: =_xlfn.RANK.EQ(B49,$B$39:$B$66)+COUNTIF($B$39:$B$66,B49)-1 -> 10 | E49: =INDEX($A$39:$B$66,MATCH(ROW()-38,$D$39:$D$66,0),1) -> Marín y Ría de Pontevedra | F49: =LOOKUP(E49,$A$39:$A$66,$B$39:$B$66) -> 2731 | G49: =LOOKUP(E49,$A$39:$A$66,$C$39:$C$66) -> 1895.263
A50: =A18 -> Ceuta | B50: =E18 -> 44 | C50: =D18 -> 54.322 | D50: =_xlfn.RANK.EQ(B50,$B$39:$B$66)+COUNTIF($B$39:$B$66,B50)-1 -> 24 | E50: =INDEX($A$39:$B$66,MATCH(ROW()-38,$D$39:$D$66,0),1) -> Barcelona | F50: =LOOKUP(E50,$A$39:$A$66,$B$39:$B$66) -> 2168 | G50: =LOOKUP(E50,$A$39:$A$66,$C$39:$C$66) -> 2187.445
... A66: =A34 -> Vilagarcía | B66: =E34 -> 0 | C66: =D34 -> 0 | D66: =_xlfn.RANK.EQ(B66,$B$39:$B$66)+COUNTIF($B$39:$B$66,B66)-1 -> 28 | E66: =INDEX($A$39:$B$66,MATCH(ROW()-38,$D$39:$D$66,0),1) -> Bilbao | F66: =LOOKUP(E66,$A$39:$A$66,$B$39:$B$66) -> 0 | G66: =LOOKUP(E66,$A$39:$A$66,$C$39:$C$66) -> 0

Sheet Avituallamiento
F1: 6. AVITUALLAMIENTO (toneladas)
A5: Autoridad Portuaria | B5: ='Resumen general'!D6 -> Mes diciembre | D5: ='Resumen general'!F6 -> Acumulado desde enero | L5: ='Resumen general'!I4 -> Fecha: 30/01/2023
B6: ='Resumen general'!D7 -> 2020 | C6: ='Resumen general'!E7 -> 2021 | D6: ='Resumen general'!F7 -> 2020 | E6: ='Resumen general'!G7 -> 2021 | F6: Var. (%)
A7: A Coruña | B7: 21205 | C7: 26634 | D7: 61164 | E7: 65672 | F7: =((E7*100)/D7)-100 -> 7.3703486
A8: Alicante | B8: 1616 | C8: 1792 | D8: 14635 | E8: 12494 | F8: =((E8*100)/D8)-100 -> -14.629313
A9: Almería | B9: 2804 | C9: 4433 | D9: 40747 | E9: 44833 | F9: =((E9*100)/D9)-100 -> 10.027732
A10: Avilés | B10: 3622 | C10: 4009 | D10: 53086 | E10: 56726 | F10: =((E10*100)/D10)-100 -> 6.8567984
A11: Bahía de Algeciras | B11: 179530 | C11: 319683 | D11: 1982166 | E11: 3108689 | F11: =((E11*100)/D11)-100 -> 56.832929
A12: Bahía de Cádiz | B12: 5167 | C12: 6780 | D12: 74594 | E12: 101904 | F12: =((E12*100)/D12)-100 -> 36.611524
A13: Baleares | B13: 2766 | C13: 3683 | D13: 37533 | E13: 43275 | F13: =((E13*100)/D13)-100 -> 15.298537
A14: Barcelona | B14: 95691 | C14: 102519 | D14: 1024041.2 | E14: 1435122 | F14: =((E14*100)/D14)-100 -> 40.14299
A15: Bilbao | B15: 6083 | C15: 8108 | D15: 101056 | E15: 116474 | F15: =((E15*100)/D15)-100 -> 15.256887
A16: Cartagena | B16: 14854 | C16: 17799 | D16: 185950 | E16: 177157 | F16: =((E16*100)/D16)-100 -> -4.7286905
A17: Castellón | B17: 2728 | C17: 2028 | D17: 31537 | E17: 32233 | F17: =((E17*100)/D17)-100 -> 2.2069315
A18: Ceuta | B18: 42580 | C18: 58162 | D18: 555985 | E18: 478899 | F18: =((E18*100)/D18)-100 -> -13.864763
... A34: Vilagarcía | B34: 605 | C34: 749 | D34: 5249 | E34: 7778 | F34: =((E34*100)/D34)-100 -> 48.180606
A35: Total | B35: =SUM(B7:B34) -> 685366 | C35: =SUM(C7:C34) -> 921937 | D35: =SUM(D7:D34) -> 7898640.2 | E35: =SUM(E7:E34) -> 9505988 | F35: =((E35*100)/D35)-100 -> 20.349677
B38: =E6 -> 2021 | C38: =D6 -> 2020 | F38: =B38 -> 2021 | G38: =C38 -> 2020
A39: =A7 -> A Coruña | B39: =E7 -> 65672 | C39: =D7 -> 61164 | D39: =_xlfn.RANK.EQ(B39,$B$39:$B$66)+COUNTIF($B$39:$B$66,B39)-1 -> 13 | E39: =INDEX($A$39:$B$66,MATCH(ROW()-38,$D$39:$D$66,0),1) -> Bahía de Algeciras | F39: =LOOKUP(E39,$A$39:$A$66,$B$39:$B$66) -> 3108689 | G39: =LOOKUP(E39,$A$39:$A$66,$C$39:$C$66) -> 1982166
A40: =A8 -> Alicante | B40: =E8 -> 12494 | C40: =D8 -> 14635 | D40: =_xlfn.RANK.EQ(B40,$B$39:$B$66)+COUNTIF($B$39:$B$66,B40)-1 -> 26 | E40: =INDEX($A$39:$B$66,MATCH(ROW()-38,$D$39:$D$66,0),1) -> Las Palmas | F40: =LOOKUP(E40,$A$39:$A$66,$B$39:$B$66) -> 2278145 | G40: =LOOKUP(E40,$A$39:$A$66,$C$39:$C$66) -> 2329507
A41: =A9 -> Almería | B41: =E9 -> 44833 | C41: =D9 -> 40747 | D41: =_xlfn.RANK.EQ(B41,$B$39:$B$66)+COUNTIF($B$39:$B$66,B41)-1 -> 16 | E41: =INDEX($A$39:$B$66,MATCH(ROW()-38,$D$39:$D$66,0),1) -> Barcelona | F41: =LOOKUP(E41,$A$39:$A$66,$B$39:$B$66) -> 1435122 | G41: =LOOKUP(E41,$A$39:$A$66,$C$39:$C$66) -> 1024041.2
A42: =A10 -> Avilés | B42: =E10 -> 56726 | C42: =D10 -> 53086 | D42: =_xlfn.RANK.EQ(B42,$B$39:$B$66)+COUNTIF($B$39:$B$66,B42)-1 -> 15 | E42: =INDEX($A$39:$B$66,MATCH(ROW()-38,$D$39:$D$66,0),1) -> Ceuta | F42: =LOOKUP(E42,$A$39:$A$66,$B$39:$B$66) -> 478899 | G42: =LOOKUP(E42,$A$39:$A$66,$C$39:$C$66) -> 555985
