Workbook
Name CABECERA: Cruceros!$A$5:$F$6
Name CONCEPTO: 'Resumen general'!$A$6
Name LblRes00_Acum: 'Resumen general'!$F$6:$G$6
Name LblRes00_Mes: 'Resumen general'!$D$6:$E$6
Name LblRes00_Var: 'Resumen general'!$H$6:$I$6
Name LblRes01_1_Acum: 'Total presentación'!$D$5:$F$5
Name LblRes01_1_Mes: 'Total presentación'!$B$5:$C$5
Name LblRes01_Acum: 'Automóviles régimen mercancía'!$D$5:$F$5
Name LblRes01_Acum: 'Ro-Ro remolques'!$D$5:$F$5
Name LblRes01_Acum: 'Total tráfico'!$D$5:$F$5
Name LblRes01_Mes: 'Automóviles régimen mercancía'!$B$5:$C$5
Name LblRes01_Mes: 'Ro-Ro remolques'!$B$5:$C$5
Name LblRes01_Mes: 'Total tráfico'!$B$5:$C$5
Name LblRes02_Acum: Líquidos!$D$5:$F$5
Name LblRes02_Mes: Líquidos!$B$5:$C$5
Name LblRes03_Acum: Sólidos!$D$5:$F$5
Name LblRes03_Mes: Sólidos!$B$5:$C$5
Name LblRes04_Acum: 'Mercancía general'!$D$5:$F$5
Name LblRes04_Mes: 'Mercancía general'!$B$5:$C$5
Name LblRes05_Acum: Pesca!$D$5:$F$5
Name LblRes05_Mes: Pesca!$B$5:$C$5
Name LblRes06_Acum: Avituallamiento!$D$5:$F$5
Name LblRes06_Mes: Avituallamiento!$B$5:$C$5
Name LblRes07_1_Acum: 'Mercan. contene. tránsito'!$D$5:$F$5
Name LblRes07_1_Mes: 'Mercan. contene. tránsito'!$B$5:$C$5
Name LblRes07_Acum: 'Mercancías tránsito'!$D$5:$F$5
Name LblRes07_Mes: 'Mercancías tránsito'!$B$5:$C$5
Name LblRes08_Acum: 'Mercancías contenedores'!$D$5:$F$5
Name LblRes08_Mes: 'Mercancías contenedores'!$B$5:$C$5
Name LblRes09_Acum: 'Ro-Ro'!$D$5:$F$5
Name LblRes09_Mes: 'Ro-Ro'!$B$5:$C$5
Name LblRes10_1_Acum: 'TEUS tránsito'!$D$5:$F$5
Name LblRes10_1_Mes: 'TEUS tránsito'!$B$5:$C$5
Name LblRes10_2_Acum: 'TEUS nacional'!$D$5:$F$5
Name LblRes10_2_Mes: 'TEUS nacional'!$B$5:$C$5
Name LblRes10_3_Acum: 'TEUS exterior'!$D$5:$F$5
Name LblRes10_3_Mes: 'TEUS exterior'!$B$5:$C$5
Name LblRes10_4_Acum: 'TEUS nacional y exterior'!$D$5:$F$5
Name LblRes10_4_Mes: 'TEUS nacional y exterior'!$B$5:$C$5
Name LblRes10_Acum: TEUS!$D$5:$F$5
Name LblRes10_Mes: TEUS!$B$5:$C$5
Name LblRes11_1_Acum: 'Pasajeros crucero'!$D$5:$F$5
Name LblRes11_1_Mes: 'Pasajeros crucero'!$B$5:$C$5
Name LblRes11_2_Acum: 'Automóviles régimen pasaje'!$D$5:$F$5
Name LblRes11_2_Mes: 'Automóviles régimen pasaje'!$B$5:$C$5
Name LblRes11_Acum: 'Pasajeros total'!$D$5:$F$5
Name LblRes11_Mes: 'Pasajeros total'!$B$5:$C$5
Name LblRes12_1_Acum: 'Buques número'!$D$5:$F$5
Name LblRes12_1_Mes: 'Buques número'!$B$5:$C$5
Name LblRes12_2_Acum: 'Buques GT'!$D$5:$F$5
Name LblRes12_2_Mes: 'Buques GT'!$B$5:$C$5
Name LblRes12_3_Acum: Cruceros!$D$5:$F$5
Name LblRes12_3_Mes: Cruceros!$B$5:$C$5
Name PROVINCIAS: Cruceros!$A$5:$A$35
Name TxtFecha: Cruceros!$L$5

Sheet Portada
I1: Dirección de Planificación y Desarrollo
I2: Departamento de Estadística
G15: RESUMEN GENERAL DEL TRÁFICO PORTUARIO*
G16: Diciembre 2019
K29: * DATOS DE CIERRE DEFINITIVOS

Sheet Indice
F5: ÍNDICE
B7: ="0." -> 0. | C7: RESUMEN GENERAL DEL TRÁFICO PORTUARIO
B8: ="1." -> 1. | C8: TRÁFICO PORTUARIO
B9: 1.1. | C9: MERCANCÍAS SEGÚN SU FORMA DE PRESENTACIÓN
B10: ="2." -> 2. | C10: GRANELES LÍQUIDOS
B11: ="3." -> 3. | C11: GRANELES SÓLIDOS
B12: ="4." -> 4. | C12: MERCANCÍA GENERAL
B13: 4.1. | C13: MERCANCÍAS EN CONTENEDORES
B14: ="5." -> 5. | C14: PESCA
B15: ="6." -> 6. | C15: AVITUALLAMIENTO
B16: 6.1. | C16: AVITUALLAMIENTO COMBUSTIBLES LÍQUIDOS
B17: ="7." -> 7. | C17: TRÁFICO INTERIOR
B18: ="8." -> 8. | C18: MERCANCÍAS EN TRÁNSITO
B19: 8.1. | C19: MERCANCÍAS EN CONTENEDORES EN TRÁNSITO
B20: ="9." -> 9. | C20: TRÁFICO RO-RO
B21: 9.1. | C21: TRÁFICO RO-RO DE REMOLQUES, SEMIRREMOLQUES Y PLATAFORMAS (unidades)
B22: ="10." -> 10. | C22: CONTENEDORES (TEUS)
B23: 10.1. | C23: CONTENEDORES EN TRÁNSITO (TEUS)
B24: 10.2. | C24: CONTENEDORES ENTRADAS-SALIDAS NACIONAL (TEUS)
B25: 10.3. | C25: CONTENEDORES IMPORTACIÓN-EXPORTACIÓN EXTERIOR (TEUS)
B26: 10.4. | C26: CONTENEDORES NACIONAL Y EXTERIOR (TEUS)
B27: ="11." -> 11. | C27: PASAJEROS EN RÉGIMEN DE TRANSPORTE Y DE CRUCERO (número)
B28: 11.1. | C28: PASAJEROS DE CRUCERO (número)
B29: 12.1. | C29: AUTOMÓVILES EN REGIMEN DE PASAJE (unidades)
B30: 12.2. | C30: TURISMOS, AUTOBUSES Y CAMIONES EN REGIMEN DE MERCANCÍA (unidades)
B31: ="13." -> 13. | C31: BUQUES MERCANTES (unidades)
B32: 13.1. | C32: BUQUES MERCANTES (unidades de arqueo bruto)
B33: 13.2. | C33: CRUCEROS (unidades)

Sheet Resumen general
D1: 00. RESUMEN GENERAL DEL TRÁFICO PORTUARIO
I4: Fecha: 5/10/2020
A6: CONCEPTO | D6: Mes diciembre | F6: Acumulado desde enero | H6: Variación
D7: 2018 | E7: 2019 | F7: 2018 | G7: 2019 | H7: Diferencia | I7: %
A8: MERCANCÍAS SEGÚN SU PRESENTACIÓN | B8: GRANELES | C8: LÍQUIDOS | D8: =Líquidos!B35 -> 15990554 | E8: 15178422 | F8: =Líquidos!D35 -> 1.807193e+08 | G8: =Líquidos!E35 -> 1.8708969e+08 | H8: =G8-F8 -> 6370393.3 | I8: =((G8*100/F8)-100) -> 3.5250211
C9: SÓLIDOS | D9: =Sólidos!B35 -> 9252149 | E9: 6896712 | F9: =Sólidos!D35 -> 1.023661e+08 | G9: =Sólidos!E35 -> 90843677 | H9: =G9-F9 -> -11522418 | I9: =((G9*100/F9)-100) -> -11.256089
B10: MERCANCÍA GRAL. | C10: CONVENCIONAL | D10: =D12-D11 -> 5826515 | E10: 5823463 | F10: =F12-F11 -> 76344302 | G10: =G12-G11 -> 78722689 | H10: =G10-F10 -> 2378386.9 | I10: =((G10*100/F10)-100) -> 3.1153431
C11: EN CONTENEDORES | D11: ='Mercancías contenedores'!B35 -> 15741882 | E11: 15120388 | F11: ='Mercancías contenedores'!D35 -> 1.9102825e+08 | G11: ='Mercancías contenedores'!E35 -> 1.9528963e+08 | H11: =G11-F11 -> 4261374 | I11: =((G11*100/F11)-100) -> 2.2307559
C12: TOTAL | D12: ='Mercancía general'!B35 -> 21568397 | E12: 20943851 | F12: ='Mercancía general'!D35 -> 2.6737255e+08 | G12: ='Mercancía general'!E35 -> 2.7401231e+08 | H12: =G12-F12 -> 6639760.9 | I12: =((G12*100/F12)-100) -> 2.4833368
C13: TOTAL | D13: =+D8+D9+D12 -> 46811100 | E13: =+E8+E9+E12 -> 43018985 | F13: =+F8+F9+F12 -> 5.5045794e+08 | G13: =+G8+G9+G12 -> 5.5194568e+08 | H13: =G13-F13 -> 1487735.9 | I13: =((G13*100/F13)-100) -> 0.2702724
A14: OTRAS MERCANCÍAS | B14: PESCA | C14: TOTAL PESCA | D14: =Pesca!B35 -> 18385 | E14: 17353 | F14: =Pesca!D35 -> 224013.83 | G14: =Pesca!E35 -> 205394.17 | H14: =G14-F14 -> -18619.669 | I14: =((G14*100/F14)-100) -> -8.3118387
B15: AVITUALLAMIENTO | C15: COMBUSTIBLES LÍQUIDOS | D15: ='Avi. combustibles'!B35 -> 664863 | E15: 685668 | F15: ='Avi. combustibles'!D35 -> 8153155 | G15: ='Avi. combustibles'!E35 -> 7988860 | H15: =G15-F15 -> -164294.98 | I15: =((G15*100/F15)-100) -> -2.0151092
C16: OTROS | D16: =Avituallamiento!B35-'Resumen general'!D15 -> 176648 | E16: 178536 | F16: =Avituallamiento!D35-'Resumen general'!F15 -> 2142339.2 | G16: =Avituallamiento!E35-'Resumen general'!G15 -> 2058455 | H16: =G16-F16 -> -83884.153 | I16: =((G16*100/F16)-100) -> -3.9155403
B17: TRAFICO INTERIOR | C17: TOTAL TRAFICO INTERIOR | D17: ='Tráfico interior'!B35 -> 236834 | E17: 148433 | F17: ='Tráfico interior'!D35 -> 2579158.2 | G17: ='Tráfico interior'!E35 -> 2305650.5 | H17: =G17-F17 -> -273507.79 | I17: =((G17*100/F17)-100) -> -10.604537
C18: TOTAL | D18: =+D14+D15+D16+D17 -> 1096730 | E18: =+E14+E15+E16+E17 -> 1029990 | F18: =+F14+F15+F16+F17 -> 13098666 | G18: =+G14+G15+G16+G17 -> 12558360 | H18: =G18-F18 -> -540306.59 | I18: =((G18*100/F18)-100) -> -4.1248978
C19: TOTAL TRÁFICO PORTUARIO (*) | D19: =+D13+D18 -> 47907830 | E19: =+E13+E18 -> 44048975 | F19: =+F13+F18 -> 5.6355661e+08 | G19: =+G13+G18 -> 5.6450404e+08 | H19: =G19-F19 -> 947429.33 | I19: =((G19*100/F19)-100) -> 0.16811609
A21: OTRAS INFORMACIONES | B21: MERCANCÍAS | C21: EN TRÁNSITO | D21: ='Mercancías tránsito'!B35 -> 13091845 | E21: 11957820 | F21: ='Mercancías tránsito'!D35 -> 1.4808752e+08 | G21: ='Mercancías tránsito'!E35 -> 1.5465606e+08 | H21: =G21-F21 -> 6568541.5 | I21: =((G21*100/F21)-100) -> 4.4355807
C22: EN CONTENEDORES EN TRÁNSITO | D22: ='Mercan. contene. tránsito'!B35 -> 9761738 | E22: 9203403 | F22: ='Mercan. contene. tránsito'!D35 -> 1.1597859e+08 | G22: ='Mercan. contene. tránsito'!E35 -> 1.1923651e+08 | H22: =G22-F22 -> 3257917.4 | I22: =((G22*100/F22)-100) -> 2.8090678
B23: TRÁFICO RO-RO | C23: TOTAL TRÁFICO RO-RO | D23: ='Ro-Ro'!B35 -> 4686273 | E23: 4798098 | F23: ='Ro-Ro'!D35 -> 62677883 | G23: ='Ro-Ro'!E35 -> 65778392 | H23: =G23-F23 -> 3100509.8 | I23: =((G23*100/F23)-100) -> 4.9467367
C24: REMOLQUES, SEMIRR. Y PLATAF. (uds.) | D24: ='Ro-Ro remolques'!B35 -> 112701 | E24: 115861 | F24: ='Ro-Ro remolques'!D35 -> 1154507 | G24: ='Ro-Ro remolques'!E35 -> 1335400 | H24: =G24-F24 -> 180893 | I24: =((G24*100/F24)-100) -> 15.66842
B25: CONTENEDORES | C25: TOTAL CONTENEDORES (TEUS) | D25: =TEUS!B35 -> 1422034 | E25: 1342375 | F25: =TEUS!D35 -> 17203134 | G25: =TEUS!E35 -> 17509574 | H25: =G25-F25 -> 306440.47 | I25: =((G25*100/F25)-100) -> 1.7813061
C26: EN TRÁNSITO (TEUS) | D26: ='TEUS tránsito'!B35 -> 785454 | E26: 732334 | F26: ='TEUS tránsito'!D35 -> 9267925.3 | G26: ='TEUS tránsito'!E35 -> 9406165 | H26: =G26-F26 -> 138239.68 | I26: =((G26*100/F26)-100) -> 1.4915925
C27: ENTRADAS-SALIDAS NACIONAL (TEUS) | D27: ='TEUS nacional'!B35 -> 160049 | E27: 157086 | F27: ='TEUS nacional'!D35 -> 2028712 | G27: ='TEUS nacional'!E35 -> 2009908 | H27: =G27-F27 -> -18804 | I27: =((G27*100/F27)-100) -> -0.92689352
C28: IMPORT-EXPORT EXTERIOR (TEUS) | D28: ='TEUS exterior'!B35 -> 476508 | E28: 452956 | F28: ='TEUS exterior'!D35 -> 5900137.7 | G28: ='TEUS exterior'!E35 -> 6057927 | H28: =G28-F28 -> 157789.33 | I28: =((G28*100/F28)-100) -> 2.674333
C29: NACIONAL Y EXTERIOR (TEUS) | D29: ='TEUS nacional y exterior'!B35 -> 636558 | E29: 610041 | F29: ='TEUS nacional y exterior'!D35 -> 7928850.9 | G29: ='TEUS nacional y exterior'!E35 -> 8067835 | H29: =G29-F29 -> 138984.08 | I29: =((G29*100/F29)-100) -> 1.7528906
B30: PASAJEROS | C30: REG. TRANSPORTE Y DE CRUCERO (nº) | D30: ='Pasajeros total'!B35 -> 2229352 | E30: 2305879 | F30: ='Pasajeros total'!D35 -> 36100685 | G30: ='Pasajeros total'!E35 -> 37607449 | H30: =G30-F30 -> 1506764 | I30: =((G30*100/F30)-100) -> 4.1737823
C31: DE CRUCERO (nº) | D31: ='Pasajeros crucero'!B35 -> 610538 | E31: 656832 | F31: ='Pasajeros crucero'!D35 -> 10170379 | G31: ='Pasajeros crucero'!E35 -> 10664581 | H31: =G31-F31 -> 494202 | I31: =((G31*100/F31)-100) -> 4.8592289
B32: AUTOMÓVILES | C32: EN RÉGIMEN DE PASAJE (uds) | D32: ='Automóviles régimen pasaje'!B35 -> 398311 | E32: 419757 | F32: ='Automóviles régimen pasaje'!D35 -> 5512090 | G32: ='Automóviles régimen pasaje'!E35 -> 5917910 | H32: =G32-F32 -> 405820 | I32: =((G32*100/F32)-100) -> 7.3623616
C33: EN RÉGIMEN DE MERCANCÍA (**) | D33: ='Automóviles régimen mercancía'!B35 -> 277884 | E33: 268947 | F33: ='Automóviles régimen mercancía'!D35 -> 3493656 | G33: ='Automóviles régimen mercancía'!E35 -> 3405324 | H33: =G33-F33 -> -88332 | I33: =((G33*100/F33)-100) -> -2.5283543
B34: BUQUES MERCANTES | C34: TOTAL BUQUES MERCANTES (uds) | D34: ='Buques número'!B35 -> 12342 | E34: 12064 | F34: ='Buques número'!D35 -> 167119 | G34: ='Buques número'!E35 -> 170944 | H34: =G34-F34 -> 3825 | I34: =((G34*100/F34)-100) -> 2.2887882
C35: UDS. ARQUEO BRUTO (G.T.) | D35: ='Buques GT'!B35 -> 186839318 | E35: 187717688 | F35: ='Buques GT'!D35 -> 2.303282e+09 | G35: ='Buques GT'!E35 -> 2391606805 | H35: =G35-F35 -> 88324806 | I35: =((G35*100/F35)-100) -> 3.8347369
C36: CRUCEROS (uds) | D36: =Cruceros!B35 -> 299 | E36: 289 | F36: =Cruceros!D35 -> 4361 | G36: =Cruceros!E35 -> 4236 | H36: =G36-F36 -> -125 | I36: =((G36*100/F36)-100) -> -2.8663151
A37: (*) Incluye cargas, descargas, tránsitos y transbordos.
A38: (**) Solo turismos, autobuses y camiones

Sheet Total tráfico
F1: 1. TRÁFICO PORTUARIO (toneladas)
A5: Autoridad Portuaria | B5: ='Resumen general'!D6 -> Mes diciembre | D5: ='Resumen general'!F6 -> Acumulado desde enero | L5: ='Resumen general'!I4 -> Fecha: 5/10/2020
B6: ='Resumen general'!D7 -> 2018 | C6: ='Resumen general'!E7 -> 2019 | D6: ='Resumen general'!F7 -> 2018 | E6: ='Resumen general'!G7 -> 2019 | F6: Var. (%)
A7: A CORUÑA | B7: 1118796 | C7: 1092898 | D7: 15703803 | E7: 13696828 | F7: =((E7*100)/D7)-100 -> -12.780188
A8: ALICANTE | B8: 260530 | C8: 261497 | D8: 3191163.4 | E8: 2919012.5 | F8: =((E8*100)/D8)-100 -> -8.5282678
A9: ALMERÍA | B9: 382908 | C9: 364801 | D9: 7060554.6 | E9: 5639603.9 | F9: =((E9*100)/D9)-100 -> -20.1252
A10: AVILÉS | B10: 489207 | C10: 409720 | D10: 5024862.9 | E10: 5146026.4 | F10: =((E10*100)/D10)-100 -> 2.4112812
A11: BAHÍA DE ALGECIRAS | B11: 8736644 | C11: 8419518 | D11: 1.0736103e+08 | E11: 1.0941505e+08 | F11: =((E11*100)/D11)-100 -> 1.9131921
A12: BAHÍA DE CÁDIZ | B12: 321599 | C12: 492495 | D12: 3955515.2 | E12: 4443392 | F12: =((E12*100)/D12)-100 -> 12.33409
A13: BALEARES | B13: 1053762 | C13: 981426 | D13: 16453613 | E13: 16812167 | F13: =((E13*100)/D13)-100 -> 2.1791817
A14: BARCELONA | B14: 5677581 | C14: 4989084 | D14: 67756258 | E14: 67693385 | F14: =((E14*100)/D14)-100 -> -0.092793448
A15: BILBAO | B15: 2790535 | C15: 2864644 | D15: 35695400 | E15: 35561022 | F15: =((E15*100)/D15)-100 -> -0.37645887
A16: CARTAGENA | B16: 3048788 | C16: 3027734 | D16: 33941690 | E16: 34282141 | F16: =((E16*100)/D16)-100 -> 1.0030457
A17: CASTELLÓN | B17: 1729062 | C17: 1553950 | D17: 21137627 | E17: 20720852 | F17: =((E17*100)/D17)-100 -> -1.9717219
A18: CEUTA | B18: 173686 | C18: 195755 | D18: 2448437.9 | E18: 2501971.6 | F18: =((E18*100)/D18)-100 -> 2.1864465
... A34: VILAGARCÍA | B34: 100915 | C34: 109068 | D34: 1211306 | E34: 1320702 | F34: =((E34*100)/D34)-100 -> 9.031244
A35: Total | B35: =SUM(B7:B34) -> 47907830 | C35: 44048975 | D35: =SUM(D7:D34) -> 5.6355661e+08 | E35: =SUM(E7:E34) -> 5.6450404e+08 | F35: =((E35*100)/D35)-100 -> 0.16811609
A36: Incluye cargas, descargas, tránsitos y transbordos.
B38: =E6 -> 2019 | C38: =D6 -> 2018 | F38: =B38 -> 2019 | G38: =C38 -> 2018
A39: =A7 -> A CORUÑA | B39: =E7 -> 13696828 | C39: =D7 -> 15703803 | D39: =_xlfn.RANK.EQ(B39,$B$39:$B$66)+COUNTIF($B$39:$B$66,B39)-1 -> 12 | E39: =INDEX($A$39:$B$66,MATCH(ROW()-38,$D$39:$D$66,0),1) -> BAHÍA DE ALGECIRAS | F39: =LOOKUP(E39,$A$39:$A$66,$B$39:$B$66) -> 1.0941505e+08 | G39: =LOOKUP(E39,$A$39:$A$66,$C$39:$C$66) -> 1.0736103e+08
A40: =A8 -> ALICANTE | B40: =E8 -> 2919012.5 | C40: =D8 -> 3191163.4 | D40: =_xlfn.RANK.EQ(B40,$B$39:$B$66)+COUNTIF($B$39:$B$66,B40)-1 -> 23 | E40: =INDEX($A$39:$B$66,MATCH(ROW()-38,$D$39:$D$66,0),1) -> VALENCIA | F40: =LOOKUP(E40,$A$39:$A$66,$B$39:$B$66) -> 81063555 | G40: =LOOKUP(E40,$A$39:$A$66,$C$39:$C$66) -> 76621101
A41: =A9 -> ALMERÍA | B41: =E9 -> 5639603.9 | C41: =D9 -> 7060554.6 | D41: =_xlfn.RANK.EQ(B41,$B$39:$B$66)+COUNTIF($B$39:$B$66,B41)-1 -> 16 | E41: =INDEX($A$39:$B$66,MATCH(ROW()-38,$D$39:$D$66,0),1) -> BARCELONA | F41: =LOOKUP(E41,$A$39:$A$66,$B$39:$B$66) -> 67693385 | G41: =LOOKUP(E41,$A$39:$A$66,$C$39:$C$66) -> 67756258
A42: =A10 -> AVILÉS | B42: =E10 -> 5146026.4 | C42: =D10 -> 5024862.9 | D42: =_xlfn.RANK.EQ(B42,$B$39:$B$66)+COUNTIF($B$39:$B$66,B42)-1 -> 17 | E42: =INDEX($A$39:$B$66,MATCH(ROW()-38,$D$39:$D$66,0),1) -> BILBAO | F42: =LOOKUP(E42,$A$39:$A$66,$B$39:$B$66) -> 35561022 | G42: =LOOKUP(E42,$A$39:$A$66,$C$39:$C$66) -> 35695400
A43: =A11 -> BAHÍA DE ALGECIRAS | B43: =E11 -> 1.0941505e+08 | C43: =D11 -> 1.0736103e+08 | D43: =_xlfn.RANK.EQ(B43,$B$39:$B$66)+COUNTIF($B$39:$B$66,B43)-1 -> 1 | E43: =INDEX($A$39:$B$66,MATCH(ROW()-38,$D$39:$D$66,0),1) -> CARTAGENA | F43: =LOOKUP(E43,$A$39:$A$66,$B$39:$B$66) -> 34282141 | G43: =LOOKUP(E43,$A$39:$A$66,$C$39:$C$66) -> 33941690
A44: =A12 -> BAHÍA DE CÁDIZ | B44: =E12 -> 4443392 | C44: =D12 -> 3955515.2 | D44: =_xlfn.RANK.EQ(B44,$B$39:$B$66)+COUNTIF($B$39:$B$66,B44)-1 -> 18 | E44: =INDEX($A$39:$B$66,MATCH(ROW()-38,$D$39:$D$66,0),1) -> HUELVA | F44: =LOOKUP(E44,$A$39:$A$66,$B$39:$B$66) -> 33813726 | G44: =LOOKUP(E44,$A$39:$A$66,$C$39:$C$66) -> 32966864
A45: =A13 -> BALEARES | B45: =E13 -> 16812167 | C45: =D13 -> 16453613 | D45: =_xlfn.RANK.EQ(B45,$B$39:$B$66)+COUNTIF($B$39:$B$66,B45)-1 -> 11 | E45: =INDEX($A$39:$B$66,MATCH(ROW()-38,$D$39:$D$66,0),1) -> TARRAGONA | F45: =LOOKUP(E45,$A$39:$A$66,$B$39:$B$66) -> 32802075 | G45: =LOOKUP(E45,$A$39:$A$66,$C$39:$C$66) -> 32084325
A46: =A14 -> BARCELONA | B46: =E14 -> 67693385 | C46: =D14 -> 67756258 | D46: =_xlfn.RANK.EQ(B46,$B$39:$B$66)+COUNTIF($B$39:$B$66,B46)-1 -> 3 | E46: =INDEX($A$39:$B$66,MATCH(ROW()-38,$D$39:$D$66,0),1) -> LAS PALMAS | F46: =LOOKUP(E46,$A$39:$A$66,$B$39:$B$66) -> 26690343 | G46: =LOOKUP(E46,$A$39:$A$66,$C$39:$C$66) -> 26974184
A47: =A15 -> BILBAO | B47: =E15 -> 35561022 | C47: =D15 -> 35695400 | D47: =_xlfn.RANK.EQ(B47,$B$39:$B$66)+COUNTIF($B$39:$B$66,B47)-1 -> 4 | E47: =INDEX($A$39:$B$66,MATCH(ROW()-38,$D$39:$D$66,0),1) -> CASTELLÓN | F47: =LOOKUP(E47,$A$39:$A$66,$B$39:$B$66) -> 20720852 | G47: =LOOKUP(E47,$A$39:$A$66,$C$39:$C$66) -> 21137627
A48: =A16 -> CARTAGENA | B48: =E16 -> 34282141 | C48: =D16 -> 33941690 | D48: =_xlfn.RANK.EQ(B48,$B$39:$B$66)+COUNTIF($B$39:$B$66,B48)-1 -> 5 | E48: =INDEX($A$39:$B$66,MATCH(ROW()-38,$D$39:$D$66,0),1) -> GIJÓN | F48: =LOOKUP(E48,$A$39:$A$66,$B$39:$B$66) -> 17392019 | G48: =LOOKUP(E48,$A$39:$A$66,$C$39:$C$66) -> 19699445
A49: =A17 -> CASTELLÓN | B49: =E17 -> 20720852 | C49: =D17 -> 21137627 | D49: =_xlfn.RANK.EQ(B49,$B$39:$B$66)+COUNTIF($B$39:$B$66,B49)-1 -> 9 | E49: =INDEX($A$39:$B$66,MATCH(ROW()-38,$D$39:$D$66,0),1) -> BALEARES | F49: =LOOKUP(E49,$A$39:$A$66,$B$39:$B$66) -> 16812167 | G49: =LOOKUP(E49,$A$39:$A$66,$C$39:$C$66) -> 16453613
A50: =A18 -> CEUTA | B50: =E18 -> 2501971.6 | C50: =D18 -> 2448437.9 | D50: =_xlfn.RANK.EQ(B50,$B$39:$B$66)+COUNTIF($B$39:$B$66,B50)-1 -> 25 | E50: =INDEX($A$39:$B$66,MATCH(ROW()-38,$D$39:$D$66,0),1) -> A CORUÑA | F50: =LOOKUP(E50,$A$39:$A$66,$B$39:$B$66) -> 13696828 | G50: =LOOKUP(E50,$A$39:$A$66,$C$39:$C$66) -> 15703803
... A66: =A34 -> VILAGARCÍA | B66: =E34 -> 1320702 | C66: =D34 -> 1211306 | D66: =_xlfn.RANK.EQ(B66,$B$39:$B$66)+COUNTIF($B$39:$B$66,B66)-1 -> 27 | E66: =INDEX($A$39:$B$66,MATCH(ROW()-38,$D$39:$D$66,0),1) -> MELILLA | F66: =LOOKUP(E66,$A$39:$A$66,$B$39:$B$66) -> 863501 | G66: =LOOKUP(E66,$A$39:$A$66,$C$39:$C$66) -> 873527.5

Sheet Total presentación
F1: 1.1. MERCANCÍAS SEGÚN SU FORMA DE PRESENTACIÓN
I2: (toneladas)
A5: Autoridad Portuaria | B5: ='Resumen general'!D6 -> Mes diciembre | D5: ='Resumen general'!F6 -> Acumulado desde enero | L5: ='Resumen general'!I4 -> Fecha: 5/10/2020
B6: ='Resumen general'!D7 -> 2018 | C6: ='Resumen general'!E7 -> 2019 | D6: ='Resumen general'!F7 -> 2018 | E6: ='Resumen general'!G7 -> 2019 | F6: Var. (%)
A7: A CORUÑA | B7: 1075221 | C7: 1064760 | D7: 15292088 | E7: 13451055 | F7: =((E7*100)/D7)-100 -> -12.039121
A8: ALICANTE | B8: 259075 | C8: 259685 | D8: 3161348.6 | E8: 2896152.9 | F8: =((E8*100)/D8)-100 -> -8.388689
A9: ALMERÍA | B9: 375246 | C9: 360049 | D9: 6965332 | E9: 5557531 | F9: =((E9*100)/D9)-100 -> -20.211542
A10: AVILÉS | B10: 487606 | C10: 405886 | D10: 4967563.9 | E10: 5087740 | F10: =((E10*100)/D10)-100 -> 2.419216
A11: BAHÍA DE ALGECIRAS | B11: 8295572 | C11: 8087948 | D11: 1.0254393e+08 | E11: 1.0488205e+08 | F11: =((E11*100)/D11)-100 -> 2.2801167
A12: BAHÍA DE CÁDIZ | B12: 317396 | C12: 488250 | D12: 3838664 | E12: 4342232 | F12: =((E12*100)/D12)-100 -> 13.118314
A13: BALEARES | B13: 1045025 | C13: 975077 | D13: 16206802 | E13: 16523691 | F13: =((E13*100)/D13)-100 -> 1.9552814
A14: BARCELONA | B14: 5557081 | C14: 4880929 | D14: 65895125 | E14: 65958085 | F14: =((E14*100)/D14)-100 -> 0.095545238
A15: BILBAO | B15: 2782323 | C15: 2855960 | D15: 35583490 | E15: 35446290 | F15: =((E15*100)/D15)-100 -> -0.38557067
A16: CARTAGENA | B16: 3029756 | C16: 3005561 | D16: 33733288 | E16: 34098945 | F16: =((E16*100)/D16)-100 -> 1.0839649
A17: CASTELLÓN | B17: 1727987 | C17: 1553018 | D17: 21107757 | E17: 20697211 | F17: =((E17*100)/D17)-100 -> -1.9449999
A18: CEUTA | B18: 117777 | C18: 134801 | D18: 1711404 | E18: 1729387 | F18: =((E18*100)/D18)-100 -> 1.0507747
... A34: VILAGARCÍA | B34: 100451 | C34: 108723 | D34: 1207577 | E34: 1315419 | F34: =((E34*100)/D34)-100 -> 8.930445
A35: Total | B35: =SUM(B7:B34) -> 46811100 | C35: 43018985 | D35: =SUM(D7:D34) -> 5.5045794e+08 | E35: =SUM(E7:E34) -> 5.5194568e+08 | F35: =((E35*100)/D35)-100 -> 0.2702724
A36: Incluye cargas, descargas, tránsitos y transbordos.
B38: =E6 -> 2019 | C38: =D6 -> 2018 | F38: =B38 -> 2019 | G38: =C38 -> 2018
A39: =A7 -> A CORUÑA | B39: =E7 -> 13451055 | C39: =D7 -> 15292088 | D39: =_xlfn.RANK.EQ(B39,$B$39:$B$66)+COUNTIF($B$39:$B$66,B39)-1 -> 12 | E39: =INDEX($A$39:$B$66,MATCH(ROW()-38,$D$39:$D$66,0),1) -> BAHÍA DE ALGECIRAS | F39: =LOOKUP(E39,$A$39:$A$66,$B$39:$B$66) -> 1.0488205e+08 | G39: =LOOKUP(E39,$A$39:$A$66,$C$39:$C$66) -> 1.0254393e+08
A40: =A8 -> ALICANTE | B40: =E8 -> 2896152.9 | C40: =D8 -> 3161348.6 | D40: =_xlfn.RANK.EQ(B40,$B$39:$B$66)+COUNTIF($B$39:$B$66,B40)-1 -> 23 | E40: =INDEX($A$39:$B$66,MATCH(ROW()-38,$D$39:$D$66,0),1) -> VALENCIA | F40: =LOOKUP(E40,$A$39:$A$66,$B$39:$B$66) -> 80727739 | G40: =LOOKUP(E40,$A$39:$A$66,$C$39:$C$66) -> 76425510
A41: =A9 -> ALMERÍA | B41: =E9 -> 5557531 | C41: =D9 -> 6965332 | D41: =_xlfn.RANK.EQ(B41,$B$39:$B$66)+COUNTIF($B$39:$B$66,B41)-1 -> 16 | E41: =INDEX($A$39:$B$66,MATCH(ROW()-38,$D$39:$D$66,0),1) -> BARCELONA | F41: =LOOKUP(E41,$A$39:$A$66,$B$39:$B$66) -> 65958085 | G41: =LOOKUP(E41,$A$39:$A$66,$C$39:$C$66) -> 65895125
A42: =A10 -> AVILÉS | B42: =E10 -> 5087740 | C42: =D10 -> 4967563.9 | D42: =_xlfn.RANK.EQ(B42,$B$39:$B$66)+COUNTIF($B$39:$B$66,B42)-1 -> 17 | E42: =INDEX($A$39:$B$66,MATCH(ROW()-38,$D$39:$D$66,0),1) -> BILBAO | F42: =LOOKUP(E42,$A$39:$A$66,$B$39:$B$66) -> 35446290 | G42: =LOOKUP(E42,$A$39:$A$66,$C$39:$C$66) -> 35583490
A43: =A11 -> BAHÍA DE ALGECIRAS | B43: =E11 -> 1.0488205e+08 | C43: =D11 -> 1.0254393e+08 | D43: =_xlfn.RANK.EQ(B43,$B$39:$B$66)+COUNTIF($B$39:$B$66,B43)-1 -> 1 | E43: =INDEX($A$39:$B$66,MATCH(ROW()-38,$D$39:$D$66,0),1) -> CARTAGENA | F43: =LOOKUP(E43,$A$39:$A$66,$B$39:$B$66) -> 34098945 | G43: =LOOKUP(E43,$A$39:$A$66,$C$39:$C$66) -> 33733288
A44: =A12 -> BAHÍA DE CÁDIZ | B44: =E12 -> 4342232 | C44: =D12 -> 3838664 | D44: =_xlfn.RANK.EQ(B44,$B$39:$B$66)+COUNTIF($B$39:$B$66,B44)-1 -> 19 | E44: =INDEX($A$39:$B$66,MATCH(ROW()-38,$D$39:$D$66,0),1) -> HUELVA | F44: =LOOKUP(E44,$A$39:$A$66,$B$39:$B$66) -> 33576756 | G44: =LOOKUP(E44,$A$39:$A$66,$C$39:$C$66) -> 32767084
A45: =A13 -> BALEARES | B45: =E13 -> 16523691 | C45: =D13 -> 16206802 | D45: =_xlfn.RANK.EQ(B45,$B$39:$B$66)+COUNTIF($B$39:$B$66,B45)-1 -> 11 | E45: =INDEX($A$39:$B$66,MATCH(ROW()-38,$D$39:$D$66,0),1) -> TARRAGONA | F45: =LOOKUP(E45,$A$39:$A$66,$B$39:$B$66) -> 32707994 | G45: =LOOKUP(E45,$A$39:$A$66,$C$39:$C$66) -> 32001014
A46: =A14 -> BARCELONA | B46: =E14 -> 65958085 | C46: =D14 -> 65895125 | D46: =_xlfn.RANK.EQ(B46,$B$39:$B$66)+COUNTIF($B$39:$B$66,B46)-1 -> 3 | E46: =INDEX($A$39:$B$66,MATCH(ROW()-38,$D$39:$D$66,0),1) -> LAS PALMAS | F46: =LOOKUP(E46,$A$39:$A$66,$B$39:$B$66) -> 24169380 | G46: =LOOKUP(E46,$A$39:$A$66,$C$39:$C$66) -> 24342597
A47: =A15 -> BILBAO | B47: =E15 -> 35446290 | C47: =D15 -> 35583490 | D47: =_xlfn.RANK.EQ(B47,$B$39:$B$66)+COUNTIF($B$39:$B$66,B47)-1 -> 4 | E47: =INDEX($A$39:$B$66,MATCH(ROW()-38,$D$39:$D$66,0),1) -> CASTELLÓN | F47: =LOOKUP(E47,$A$39:$A$66,$B$39:$B$66) -> 20697211 | G47: =LOOKUP(E47,$A$39:$A$66,$C$39:$C$66) -> 21107757
A48: =A16 -> CARTAGENA | B48: =E16 -> 34098945 | C48: =D16 -> 33733288 | D48: =_xlfn.RANK.EQ(B48,$B$39:$B$66)+COUNTIF($B$39:$B$66,B48)-1 -> 5 | E48: =INDEX($A$39:$B$66,MATCH(ROW()-38,$D$39:$D$66,0),1) -> GIJÓN | F48: =LOOKUP(E48,$A$39:$A$66,$B$39:$B$66) -> 17370929 | G48: =LOOKUP(E48,$A$39:$A$66,$C$39:$C$66) -> 19653524
A49: =A17 -> CASTELLÓN | B49: =E17 -> 20697211 | C49: =D17 -> 21107757 | D49: =_xlfn.RANK.EQ(B49,$B$39:$B$66)+COUNTIF($B$39:$B$66,B49)-1 -> 9 | E49: =INDEX($A$39:$B$66,MATCH(ROW()-38,$D$39:$D$66,0),1) -> BALEARES | F49: =LOOKUP(E49,$A$39:$A$66,$B$39:$B$66) -> 16523691 | G49: =LOOKUP(E49,$A$39:$A$66,$C$39:$C$66) -> 16206802
A50: =A18 -> CEUTA | B50: =E18 -> 1729387 | C50: =D18 -> 1711404 | D50: =_xlfn.RANK.EQ(B50,$B$39:$B$66)+COUNTIF($B$39:$B$66,B50)-1 -> 26 | E50: =INDEX($A$39:$B$66,MATCH(ROW()-38,$D$39:$D$66,0),1) -> A CORUÑA | F50: =LOOKUP(E50,$A$39:$A$66,$B$39:$B$66) -> 13451055 | G50: =LOOKUP(E50,$A$39:$A$66,$C$39:$C$66) -> 15292088
... A66: =A34 -> VILAGARCÍA | B66: =E34 -> 1315419 | C66: =D34 -> 1207577 | D66: =_xlfn.RANK.EQ(B66,$B$39:$B$66)+COUNTIF($B$39:$B$66,B66)-1 -> 27 | E66: =INDEX($A$39:$B$66,MATCH(ROW()-38,$D$39:$D$66,0),1) -> MELILLA | F66: =LOOKUP(E66,$A$39:$A$66,$B$39:$B$66) -> 858875 | G66: =LOOKUP(E66,$A$39:$A$66,$C$39:$C$66) -> 868060.5

Sheet Líquidos
F1: 2. GRANELES LÍQUIDOS (toneladas)
A5: Autoridad Portuaria | B5: ='Resumen general'!D6 -> Mes diciembre | D5: ='Resumen general'!F6 -> Acumulado desde enero | L5: ='Resumen general'!I4 -> Fecha: 5/10/2020
B6: ='Resumen general'!D7 -> 2018 | C6: ='Resumen general'!E7 -> 2019 | D6: ='Resumen general'!F7 -> 2018 | E6: ='Resumen general'!G7 -> 2019 | F6: Var. (%)
A7: A CORUÑA | B7: 589337 | C7: 749787 | D7: 9337317 | E7: 8970330 | F7: =((E7*100)/D7)-100 -> -3.930326
A8: ALICANTE | B8: 6978 | C8: 2096 | D8: 60761.65 | E8: 31578.82 | F8: =((E8*100)/D8)-100 -> -48.02837
A9: ALMERÍA | B9: 3300 | C9: 4003 | D9: 43811 | E9: 56707 | F9: =((E9*100)/D9)-100 -> 29.43553
A10: AVILÉS | B10: 62085 | C10: 93311 | D10: 620106 | E10: 717949 | F10: =((E10*100)/D10)-100 -> 15.778431
A11: BAHÍA DE ALGECIRAS | B11: 2770244 | C11: 2356577 | D11: 31763061 | E11: 30577074 | F11: =((E11*100)/D11)-100 -> -3.7338572
A12: BAHÍA DE CÁDIZ | B12: 50918 | C12: 90481 | D12: 686986 | E12: 1331878 | F12: =((E12*100)/D12)-100 -> 93.872655
A13: BALEARES | B13: 71943 | C13: 23817 | D13: 1695567.4 | E13: 1543505 | F13: =((E13*100)/D13)-100 -> -8.9682309
A14: BARCELONA | B14: 1501748 | C14: 1196919 | D14: 15298349 | E14: 16132219 | F14: =((E14*100)/D14)-100 -> 5.4507199
A15: BILBAO | B15: 1751866 | C15: 1846114 | D15: 20490544 | E15: 20821508 | F15: =((E15*100)/D15)-100 -> 1.6152061
A16: CARTAGENA | B16: 2138891 | C16: 2216060 | D16: 25676174 | E16: 26007858 | F16: =((E16*100)/D16)-100 -> 1.2917968
A17: CASTELLÓN | B17: 948197 | C17: 862814 | D17: 10393834 | E17: 10601850 | F17: =((E17*100)/D17)-100 -> 2.001346
A18: CEUTA | B18: 48967 | C18: 84298 | D18: 834100 | E18: 872261 | F18: =((E18*100)/D18)-100 -> 4.5751109
... A34: VILAGARCÍA | B34: 2097 | C34: 11126 | D34: 167809 | E34: 182544 | F34: =((E34*100)/D34)-100 -> 8.7808163
A35: Total | B35: =SUM(B7:B34) -> 15990554 | C35: =SUM(C7:C34) -> 15178422 | D35: =SUM(D7:D34) -> 1.807193e+08 | E35: =SUM(E7:E34) -> 1.8708969e+08 | F35: =((E35*100)/D35)-100 -> 3.5250211
A36: Incluye cargas, descargas, tránsitos y transbordos.
B38: =E6 -> 2019 | C38: =D6 -> 2018 | F38: =B38 -> 2019 | G38: =C38 -> 2018
A39: =A7 -> A CORUÑA | B39: =E7 -> 8970330 | C39: =D7 -> 9337317 | D39: =_xlfn.RANK.EQ(B39,$B$39:$B$66)+COUNTIF($B$39:$B$66,B39)-1 -> 8 | E39: =INDEX($A$39:$B$66,MATCH(ROW()-38,$D$39:$D$66,0),1) -> BAHÍA DE ALGECIRAS | F39: =LOOKUP(E39,$A$39:$A$66,$B$39:$B$66) -> 30577074 | G39: =LOOKUP(E39,$A$39:$A$66,$C$39:$C$66) -> 31763061
A40: =A8 -> ALICANTE | B40: =E8 -> 31578.82 | C40: =D8 -> 60761.65 | D40: =_xlfn.RANK.EQ(B40,$B$39:$B$66)+COUNTIF($B$39:$B$66,B40)-1 -> 26 | E40: =INDEX($A$39:$B$66,MATCH(ROW()-38,$D$39:$D$66,0),1) -> HUELVA | F40: =LOOKUP(E40,$A$39:$A$66,$B$39:$B$66) -> 26675733 | G40: =LOOKUP(E40,$A$39:$A$66,$C$39:$C$66) -> 25119931
A41: =A9 -> ALMERÍA | B41: =E9 -> 56707 | C41: =D9 -> 43811 | D41: =_xlfn.RANK.EQ(B41,$B$39:$B$66)+COUNTIF($B$39:$B$66,B41)-1 -> 24 | E41: =INDEX($A$39:$B$66,MATCH(ROW()-38,$D$39:$D$66,0),1) -> CARTAGENA | F41: =LOOKUP(E41,$A$39:$A$66,$B$39:$B$66) -> 26007858 | G41: =LOOKUP(E41,$A$39:$A$66,$C$39:$C$66) -> 25676174
A42: =A10 -> AVILÉS | B42: =E10 -> 717949 | C42: =D10 -> 620106 | D42: =_xlfn.RANK.EQ(B42,$B$39:$B$66)+COUNTIF($B$39:$B$66,B42)-1 -> 18 | E42: =INDEX($A$39:$B$66,MATCH(ROW()-38,$D$39:$D$66,0),1) -> TARRAGONA | F42: =LOOKUP(E42,$A$39:$A$66,$B$39:$B$66) -> 21210546 | G42: =LOOKUP(E42,$A$39:$A$66,$C$39:$C$66) -> 19844376
A43: =A11 -> BAHÍA DE ALGECIRAS | B43: =E11 -> 30577074 | C43: =D11 -> 31763061 | D43: =_xlfn.RANK.EQ(B43,$B$39:$B$66)+COUNTIF($B$39:$B$66,B43)-1 -> 1 | E43: =INDEX($A$39:$B$66,MATCH(ROW()-38,$D$39:$D$66,0),1) -> BILBAO | F43: =LOOKUP(E43,$A$39:$A$66,$B$39:$B$66) -> 20821508 | G43: =LOOKUP(E43,$A$39:$A$66,$C$39:$C$66) -> 20490544
A44: =A12 -> BAHÍA DE CÁDIZ | B44: =E12 -> 1331878 | C44: =D12 -> 686986 | D44: =_xlfn.RANK.EQ(B44,$B$39:$B$66)+COUNTIF($B$39:$B$66,B44)-1 -> 14 | E44: =INDEX($A$39:$B$66,MATCH(ROW()-38,$D$39:$D$66,0),1) -> BARCELONA | F44: =LOOKUP(E44,$A$39:$A$66,$B$39:$B$66) -> 16132219 | G44: =LOOKUP(E44,$A$39:$A$66,$C$39:$C$66) -> 15298349
A45: =A13 -> BALEARES | B45: =E13 -> 1543505 | C45: =D13 -> 1695567.4 | D45: =_xlfn.RANK.EQ(B45,$B$39:$B$66)+COUNTIF($B$39:$B$66,B45)-1 -> 13 | E45: =INDEX($A$39:$B$66,MATCH(ROW()-38,$D$39:$D$66,0),1) -> CASTELLÓN | F45: =LOOKUP(E45,$A$39:$A$66,$B$39:$B$66) -> 10601850 | G45: =LOOKUP(E45,$A$39:$A$66,$C$39:$C$66) -> 10393834
A46: =A14 -> BARCELONA | B46: =E14 -> 16132219 | C46: =D14 -> 15298349 | D46: =_xlfn.RANK.EQ(B46,$B$39:$B$66)+COUNTIF($B$39:$B$66,B46)-1 -> 6 | E46: =INDEX($A$39:$B$66,MATCH(ROW()-38,$D$39:$D$66,0),1) -> A CORUÑA | F46: =LOOKUP(E46,$A$39:$A$66,$B$39:$B$66) -> 8970330 | G46: =LOOKUP(E46,$A$39:$A$66,$C$39:$C$66) -> 9337317
A47: =A15 -> BILBAO | B47: =E15 -> 20821508 | C47: =D15 -> 20490544 | D47: =_xlfn.RANK.EQ(B47,$B$39:$B$66)+COUNTIF($B$39:$B$66,B47)-1 -> 5 | E47: =INDEX($A$39:$B$66,MATCH(ROW()-38,$D$39:$D$66,0),1) -> LAS PALMAS | F47: =LOOKUP(E47,$A$39:$A$66,$B$39:$B$66) -> 8070275 | G47: =LOOKUP(E47,$A$39:$A$66,$C$39:$C$66) -> 7148462
A48: =A16 -> CARTAGENA | B48: =E16 -> 26007858 | C48: =D16 -> 25676174 | D48: =_xlfn.RANK.EQ(B48,$B$39:$B$66)+COUNTIF($B$39:$B$66,B48)-1 -> 3 | E48: =INDEX($A$39:$B$66,MATCH(ROW()-38,$D$39:$D$66,0),1) -> SANTA CRUZ DE TENERIFE | F48: =LOOKUP(E48,$A$39:$A$66,$B$39:$B$66) -> 4811479 | G48: =LOOKUP(E48,$A$39:$A$66,$C$39:$C$66) -> 4501835
A49: =A17 -> CASTELLÓN | B49: =E17 -> 10601850 | C49: =D17 -> 10393834 | D49: =_xlfn.RANK.EQ(B49,$B$39:$B$66)+COUNTIF($B$39:$B$66,B49)-1 -> 7 | E49: =INDEX($A$39:$B$66,MATCH(ROW()-38,$D$39:$D$66,0),1) -> VALENCIA | F49: =LOOKUP(E49,$A$39:$A$66,$B$39:$B$66) -> 3120013 | G49: =LOOKUP(E49,$A$39:$A$66,$C$39:$C$66) -> 1909692
A50: =A18 -> CEUTA | B50: =E18 -> 872261 | C50: =D18 -> 834100 | D50: =_xlfn.RANK.EQ(B50,$B$39:$B$66)+COUNTIF($B$39:$B$66,B50)-1 -> 17 | E50: =INDEX($A$39:$B$66,MATCH(ROW()-38,$D$39:$D$66,0),1) -> FERROL-SAN CIBRAO | F50: =LOOKUP(E50,$A$39:$A$66,$B$39:$B$66) -> 2311900 | G50: =LOOKUP(E50,$A$39:$A$66,$C$39:$C$66) -> 2155622.9
... A66: =A34 -> VILAGARCÍA | B66: =E34 -> 182544 | C66: =D34 -> 167809 | D66: =_xlfn.RANK.EQ(B66,$B$39:$B$66)+COUNTIF($B$39:$B$66,B66)-1 -> 21 | E66: =INDEX($A$39:$B$66,MATCH(ROW()-38,$D$39:$D$66,0),1) -> PASAIA | F66: =LOOKUP(E66,$A$39:$A$66,$B$39:$B$66) -> 0 | G66: =LOOKUP(E66,$A$39:$A$66,$C$39:$C$66) -> 0

Sheet Sólidos
F1: 3. GRANELES SÓLIDOS (toneladas)
A5: Autoridad Portuaria | B5: ='Resumen general'!D6 -> Mes diciembre | D5: ='Resumen general'!F6 -> Acumulado desde enero | L5: ='Resumen general'!I4 -> Fecha: 5/10/2020
B6: ='Resumen general'!D7 -> 2018 | C6: ='Resumen general'!E7 -> 2019 | D6: ='Resumen general'!F7 -> 2018 | E6: ='Resumen general'!G7 -> 2019 | F6: Var. (%)
A7: A CORUÑA | B7: 419264 | C7: 243206 | D7: 4853062 | E7: 3474568 | F7: =((E7*100)/D7)-100 -> -28.404624
A8: ALICANTE | B8: 123012 | C8: 141759 | D8: 1592670.8 | E8: 1441065.7 | F8: =((E8*100)/D8)-100 -> -9.5189203
A9: ALMERÍA | B9: 302847 | C9: 243478 | D9: 6337016 | E9: 4411930 | F9: =((E9*100)/D9)-100 -> -30.37843
A10: AVILÉS | B10: 317489 | C10: 193927 | D10: 3173814.5 | E10: 2797355 | F10: =((E10*100)/D10)-100 -> -11.861421
A11: BAHÍA DE ALGECIRAS | B11: 31155 | C11: 13074 | D11: 1718439 | E11: 973830.09 | F11: =((E11*100)/D11)-100 -> -43.330541
A12: BAHÍA DE CÁDIZ | B12: 161597 | C12: 301050 | D12: 1736215 | E12: 1859008 | F12: =((E12*100)/D12)-100 -> 7.0724536
A13: BALEARES | B13: 95185 | C13: 85025 | D13: 1415401 | E13: 1223606 | F13: =((E13*100)/D13)-100 -> -13.550577
A14: BARCELONA | B14: 359227 | C14: 286367 | D14: 4257025.3 | E14: 4071383.9 | F14: =((E14*100)/D14)-100 -> -4.3608234
A15: BILBAO | B15: 273904 | C15: 328390 | D15: 4757894 | E15: 4681191 | F15: =((E15*100)/D15)-100 -> -1.6121208
A16: CARTAGENA | B16: 807828 | C16: 707044 | D16: 6596763 | E16: 6835599 | F16: =((E16*100)/D16)-100 -> 3.620503
A17: CASTELLÓN | B17: 544527 | C17: 491787 | D17: 7425415 | E17: 7097480.1 | F17: =((E17*100)/D17)-100 -> -4.4163849
A18: CEUTA | B18: 2500 | C18: 0 | D18: 31893 | E18: 24625 | F18: =((E18*100)/D18)-100 -> -22.7887
... A34: VILAGARCÍA | B34: 51336 | C34: 52996 | D34: 448216 | E34: 479972 | F34: =((E34*100)/D34)-100 -> 7.0849769
A35: Total | B35: =SUM(B7:B34) -> 9252149 | C35: 6896712 | D35: =SUM(D7:D34) -> 1.023661e+08 | E35: =SUM(E7:E34) -> 90843677 | F35: =((E35*100)/D35)-100 -> -11.256089
A36: Incluye cargas, descargas, tránsitos y transbordos.
B38: =E6 -> 2019 | C38: =D6 -> 2018 | F38: =B38 -> 2019 | G38: =C38 -> 2018
A39: =A7 -> A CORUÑA | B39: =E7 -> 3474568 | C39: =D7 -> 4853062 | D39: =_xlfn.RANK.EQ(B39,$B$39:$B$66)+COUNTIF($B$39:$B$66,B39)-1 -> 11 | E39: =INDEX($A$39:$B$66,MATCH(ROW()-38,$D$39:$D$66,0),1) -> GIJÓN | F39: =LOOKUP(E39,$A$39:$A$66,$B$39:$B$66) -> 14589033 | G39: =LOOKUP(E39,$A$39:$A$66,$C$39:$C$66) -> 17193269
A40: =A8 -> ALICANTE | B40: =E8 -> 1441065.7 | C40: =D8 -> 1592670.8 | D40: =_xlfn.RANK.EQ(B40,$B$39:$B$66)+COUNTIF($B$39:$B$66,B40)-1 -> 17 | E40: =INDEX($A$39:$B$66,MATCH(ROW()-38,$D$39:$D$66,0),1) -> TARRAGONA | F40: =LOOKUP(E40,$A$39:$A$66,$B$39:$B$66) -> 9718750 | G40: =LOOKUP(E40,$A$39:$A$66,$C$39:$C$66) -> 9988264
A41: =A9 -> ALMERÍA | B41: =E9 -> 4411930 | C41: =D9 -> 6337016 | D41: =_xlfn.RANK.EQ(B41,$B$39:$B$66)+COUNTIF($B$39:$B$66,B41)-1 -> 8 | E41: =INDEX($A$39:$B$66,MATCH(ROW()-38,$D$39:$D$66,0),1) -> FERROL-SAN CIBRAO | F41: =LOOKUP(E41,$A$39:$A$66,$B$39:$B$66) -> 8095030 | G41: =LOOKUP(E41,$A$39:$A$66,$C$39:$C$66) -> 10756980
A42: =A10 -> AVILÉS | B42: =E10 -> 2797355 | C42: =D10 -> 3173814.5 | D42: =_xlfn.RANK.EQ(B42,$B$39:$B$66)+COUNTIF($B$39:$B$66,B42)-1 -> 12 | E42: =INDEX($A$39:$B$66,MATCH(ROW()-38,$D$39:$D$66,0),1) -> CASTELLÓN | F42: =LOOKUP(E42,$A$39:$A$66,$B$39:$B$66) -> 7097480.1 | G42: =LOOKUP(E42,$A$39:$A$66,$C$39:$C$66) -> 7425415
A43: =A11 -> BAHÍA DE ALGECIRAS | B43: =E11 -> 973830.09 | C43: =D11 -> 1718439 | D43: =_xlfn.RANK.EQ(B43,$B$39:$B$66)+COUNTIF($B$39:$B$66,B43)-1 -> 20 | E43: =INDEX($A$39:$B$66,MATCH(ROW()-38,$D$39:$D$66,0),1) -> CARTAGENA | F43: =LOOKUP(E43,$A$39:$A$66,$B$39:$B$66) -> 6835599 | G43: =LOOKUP(E43,$A$39:$A$66,$C$39:$C$66) -> 6596763
A44: =A12 -> BAHÍA DE CÁDIZ | B44: =E12 -> 1859008 | C44: =D12 -> 1736215 | D44: =_xlfn.RANK.EQ(B44,$B$39:$B$66)+COUNTIF($B$39:$B$66,B44)-1 -> 15 | E44: =INDEX($A$39:$B$66,MATCH(ROW()-38,$D$39:$D$66,0),1) -> HUELVA | F44: =LOOKUP(E44,$A$39:$A$66,$B$39:$B$66) -> 5755664 | G44: =LOOKUP(E44,$A$39:$A$66,$C$39:$C$66) -> 6662398.8
A45: =A13 -> BALEARES | B45: =E13 -> 1223606 | C45: =D13 -> 1415401 | D45: =_xlfn.RANK.EQ(B45,$B$39:$B$66)+COUNTIF($B$39:$B$66,B45)-1 -> 18 | E45: =INDEX($A$39:$B$66,MATCH(ROW()-38,$D$39:$D$66,0),1) -> BILBAO | F45: =LOOKUP(E45,$A$39:$A$66,$B$39:$B$66) -> 4681191 | G45: =LOOKUP(E45,$A$39:$A$66,$C$39:$C$66) -> 4757894
A46: =A14 -> BARCELONA | B46: =E14 -> 4071383.9 | C46: =D14 -> 4257025.3 | D46: =_xlfn.RANK.EQ(B46,$B$39:$B$66)+COUNTIF($B$39:$B$66,B46)-1 -> 9 | E46: =INDEX($A$39:$B$66,MATCH(ROW()-38,$D$39:$D$66,0),1) -> ALMERÍA | F46: =LOOKUP(E46,$A$39:$A$66,$B$39:$B$66) -> 4411930 | G46: =LOOKUP(E46,$A$39:$A$66,$C$39:$C$66) -> 6337016
A47: =A15 -> BILBAO | B47: =E15 -> 4681191 | C47: =D15 -> 4757894 | D47: =_xlfn.RANK.EQ(B47,$B$39:$B$66)+COUNTIF($B$39:$B$66,B47)-1 -> 7 | E47: =INDEX($A$39:$B$66,MATCH(ROW()-38,$D$39:$D$66,0),1) -> BARCELONA | F47: =LOOKUP(E47,$A$39:$A$66,$B$39:$B$66) -> 4071383.9 | G47: =LOOKUP(E47,$A$39:$A$66,$C$39:$C$66) -> 4257025.3
A48: =A16 -> CARTAGENA | B48: =E16 -> 6835599 | C48: =D16 -> 6596763 | D48: =_xlfn.RANK.EQ(B48,$B$39:$B$66)+COUNTIF($B$39:$B$66,B48)-1 -> 5 | E48: =INDEX($A$39:$B$66,MATCH(ROW()-38,$D$39:$D$66,0),1) -> SANTANDER | F48: =LOOKUP(E48,$A$39:$A$66,$B$39:$B$66) -> 3646528 | G48: =LOOKUP(E48,$A$39:$A$66,$C$39:$C$66) -> 3313907.5
A49: =A17 -> CASTELLÓN | B49: =E17 -> 7097480.1 | C49: =D17 -> 7425415 | D49: =_xlfn.RANK.EQ(B49,$B$39:$B$66)+COUNTIF($B$39:$B$66,B49)-1 -> 4 | E49: =INDEX($A$39:$B$66,MATCH(ROW()-38,$D$39:$D$66,0),1) -> A CORUÑA | F49: =LOOKUP(E49,$A$39:$A$66,$B$39:$B$66) -> 3474568 | G49: =LOOKUP(E49,$A$39:$A$66,$C$39:$C$66) -> 4853062
A50: =A18 -> CEUTA | B50: =E18 -> 24625 | C50: =D18 -> 31893 | D50: =_xlfn.RANK.EQ(B50,$B$39:$B$66)+COUNTIF($B$39:$B$66,B50)-1 -> 27 | E50: =INDEX($A$39:$B$66,MATCH(ROW()-38,$D$39:$D$66,0),1) -> AVILÉS | F50: =LOOKUP(E50,$A$39:$A$66,$B$39:$B$66) -> 2797355 | G50: =LOOKUP(E50,$A$39:$A$66,$C$39:$C$66) -> 3173814.5
... A66: =A34 -> VILAGARCÍA | B66: =E34 -> 479972 | C66: =D34 -> 448216 | D66: =_xlfn.RANK.EQ(B66,$B$39:$B$66)+COUNTIF($B$39:$B$66,B66)-1 -> 23 | E66: =INDEX($A$39:$B$66,MATCH(ROW()-38,$D$39:$D$66,0),1) -> MELILLA | F66: =LOOKUP(E66,$A$39:$A$66,$B$39:$B$66) -> 7100 | G66: =LOOKUP(E66,$A$39:$A$66,$C$39:$C$66) -> 5250

Sheet Mercancía general
F1: 4. MERCANCÍA GENERAL (toneladas)
A5: Autoridad Portuaria | B5: ='Resumen general'!D6 -> Mes diciembre | D5: ='Resumen general'!F6 -> Acumulado desde enero | L5: ='Resumen general'!I4 -> Fecha: 5/10/2020
B6: ='Resumen general'!D7 -> 2018 | C6: ='Resumen general'!E7 -> 2019 | D6: ='Resumen general'!F7 -> 2018 | E6: ='Resumen general'!G7 -> 2019 | F6: Var. (%)
A7: A CORUÑA | B7: 66620 | C7: 71767 | D7: 1101709 | E7: 1006157 | F7: =((E7*100)/D7)-100 -> -8.6730707
A8: ALICANTE | B8: 129085 | C8: 115830 | D8: 1507916.2 | E8: 1423508.4 | F8: =((E8*100)/D8)-100 -> -5.5976461
A9: ALMERÍA | B9: 69099 | C9: 112568 | D9: 584505 | E9: 1088894 | F9: =((E9*100)/D9)-100 -> 86.293359
A10: AVILÉS | B10: 108032 | C10: 118648 | D10: 1173643.4 | E10: 1572436 | F10: =((E10*100)/D10)-100 -> 33.979026
A11: BAHÍA DE ALGECIRAS | B11: 5494173 | C11: 5718297 | D11: 69062429 | E11: 73331147 | F11: =((E11*100)/D11)-100 -> 6.1809548
A12: BAHÍA DE CÁDIZ | B12: 104881 | C12: 96719 | D12: 1415463 | E12: 1151346 | F12: =((E12*100)/D12)-100 -> -18.659407
A13: BALEARES | B13: 877897 | C13: 866235 | D13: 13095834 | E13: 13756580 | F13: =((E13*100)/D13)-100 -> 5.0454671
A14: BARCELONA | B14: 3696106 | C14: 3397643 | D14: 46339751 | E14: 45754482 | F14: =((E14*100)/D14)-100 -> -1.2629959
A15: BILBAO | B15: 756553 | C15: 681456 | D15: 10335052 | E15: 9943591 | F15: =((E15*100)/D15)-100 -> -3.7877023
A16: CARTAGENA | B16: 83037 | C16: 82457 | D16: 1460351 | E16: 1255488 | F16: =((E16*100)/D16)-100 -> -14.02834
A17: CASTELLÓN | B17: 235263 | C17: 198417 | D17: 3288508.5 | E17: 2997881 | F17: =((E17*100)/D17)-100 -> -8.8376696
A18: CEUTA | B18: 66310 | C18: 50503 | D18: 845411 | E18: 832501 | F18: =((E18*100)/D18)-100 -> -1.5270679
... A34: VILAGARCÍA | B34: 47018 | C34: 44601 | D34: 591552 | E34: 652903 | F34: =((E34*100)/D34)-100 -> 10.371193
A35: Total | B35: =SUM(B7:B34) -> 21568397 | C35: 20943851 | D35: =SUM(D7:D34) -> 2.6737255e+08 | E35: =SUM(E7:E34) -> 2.7401231e+08 | F35: =((E35*100)/D35)-100 -> 2.4833368
A36: Incluye cargas, descargas, tránsitos y transbordos.
B38: =E6 -> 2019 | C38: =D6 -> 2018 | F38: =B38 -> 2019 | G38: =C38 -> 2018
A39: =A7 -> A CORUÑA | B39: =E7 -> 1006157 | C39: =D7 -> 1101709 | D39: =_xlfn.RANK.EQ(B39,$B$39:$B$66)+COUNTIF($B$39:$B$66,B39)-1 -> 23 | E39: =INDEX($A$39:$B$66,MATCH(ROW()-38,$D$39:$D$66,0),1) -> VALENCIA | F39: =LOOKUP(E39,$A$39:$A$66,$B$39:$B$66) -> 75417608 | G39: =LOOKUP(E39,$A$39:$A$66,$C$39:$C$66) -> 71971743
A40: =A8 -> ALICANTE | B40: =E8 -> 1423508.4 | C40: =D8 -> 1507916.2 | D40: =_xlfn.RANK.EQ(B40,$B$39:$B$66)+COUNTIF($B$39:$B$66,B40)-1 -> 18 | E40: =INDEX($A$39:$B$66,MATCH(ROW()-38,$D$39:$D$66,0),1) -> BAHÍA DE ALGECIRAS | F40: =LOOKUP(E40,$A$39:$A$66,$B$39:$B$66) -> 73331147 | G40: =LOOKUP(E40,$A$39:$A$66,$C$39:$C$66) -> 69062429
A41: =A9 -> ALMERÍA | B41: =E9 -> 1088894 | C41: =D9 -> 584505 | D41: =_xlfn.RANK.EQ(B41,$B$39:$B$66)+COUNTIF($B$39:$B$66,B41)-1 -> 22 | E41: =INDEX($A$39:$B$66,MATCH(ROW()-38,$D$39:$D$66,0),1) -> BARCELONA | F41: =LOOKUP(E41,$A$39:$A$66,$B$39:$B$66) -> 45754482 | G41: =LOOKUP(E41,$A$39:$A$66,$C$39:$C$66) -> 46339751
A42: =A10 -> AVILÉS | B42: =E10 -> 1572436 | C42: =D10 -> 1173643.4 | D42: =_xlfn.RANK.EQ(B42,$B$39:$B$66)+COUNTIF($B$39:$B$66,B42)-1 -> 16 | E42: =INDEX($A$39:$B$66,MATCH(ROW()-38,$D$39:$D$66,0),1) -> LAS PALMAS | F42: =LOOKUP(E42,$A$39:$A$66,$B$39:$B$66) -> 15645803 | G42: =LOOKUP(E42,$A$39:$A$66,$C$39:$C$66) -> 16719921
A43: =A11 -> BAHÍA DE ALGECIRAS | B43: =E11 -> 73331147 | C43: =D11 -> 69062429 | D43: =_xlfn.RANK.EQ(B43,$B$39:$B$66)+COUNTIF($B$39:$B$66,B43)-1 -> 2 | E43: =INDEX($A$39:$B$66,MATCH(ROW()-38,$D$39:$D$66,0),1) -> BALEARES | F43: =LOOKUP(E43,$A$39:$A$66,$B$39:$B$66) -> 13756580 | G43: =LOOKUP(E43,$A$39:$A$66,$C$39:$C$66) -> 13095834
A44: =A12 -> BAHÍA DE CÁDIZ | B44: =E12 -> 1151346 | C44: =D12 -> 1415463 | D44: =_xlfn.RANK.EQ(B44,$B$39:$B$66)+COUNTIF($B$39:$B$66,B44)-1 -> 20 | E44: =INDEX($A$39:$B$66,MATCH(ROW()-38,$D$39:$D$66,0),1) -> BILBAO | F44: =LOOKUP(E44,$A$39:$A$66,$B$39:$B$66) -> 9943591 | G44: =LOOKUP(E44,$A$39:$A$66,$C$39:$C$66) -> 10335052
A45: =A13 -> BALEARES | B45: =E13 -> 13756580 | C45: =D13 -> 13095834 | D45: =_xlfn.RANK.EQ(B45,$B$39:$B$66)+COUNTIF($B$39:$B$66,B45)-1 -> 5 | E45: =INDEX($A$39:$B$66,MATCH(ROW()-38,$D$39:$D$66,0),1) -> SANTA CRUZ DE TENERIFE | F45: =LOOKUP(E45,$A$39:$A$66,$B$39:$B$66) -> 7207721 | G45: =LOOKUP(E45,$A$39:$A$66,$C$39:$C$66) -> 7411423.2
A46: =A14 -> BARCELONA | B46: =E14 -> 45754482 | C46: =D14 -> 46339751 | D46: =_xlfn.RANK.EQ(B46,$B$39:$B$66)+COUNTIF($B$39:$B$66,B46)-1 -> 3 | E46: =INDEX($A$39:$B$66,MATCH(ROW()-38,$D$39:$D$66,0),1) -> VIGO | F46: =LOOKUP(E46,$A$39:$A$66,$B$39:$B$66) -> 3819996 | G46: =LOOKUP(E46,$A$39:$A$66,$C$39:$C$66) -> 3770116.4
A47: =A15 -> BILBAO | B47: =E15 -> 9943591 | C47: =D15 -> 10335052 | D47: =_xlfn.RANK.EQ(B47,$B$39:$B$66)+COUNTIF($B$39:$B$66,B47)-1 -> 6 | E47: =INDEX($A$39:$B$66,MATCH(ROW()-38,$D$39:$D$66,0),1) -> CASTELLÓN | F47: =LOOKUP(E47,$A$39:$A$66,$B$39:$B$66) -> 2997881 | G47: =LOOKUP(E47,$A$39:$A$66,$C$39:$C$66) -> 3288508.5
A48: =A16 -> CARTAGENA | B48: =E16 -> 1255488 | C48: =D16 -> 1460351 | D48: =_xlfn.RANK.EQ(B48,$B$39:$B$66)+COUNTIF($B$39:$B$66,B48)-1 -> 19 | E48: =INDEX($A$39:$B$66,MATCH(ROW()-38,$D$39:$D$66,0),1) -> SANTANDER | F48: =LOOKUP(E48,$A$39:$A$66,$B$39:$B$66) -> 2586787 | G48: =LOOKUP(E48,$A$39:$A$66,$C$39:$C$66) -> 2303697.5
A49: =A17 -> CASTELLÓN | B49: =E17 -> 2997881 | C49: =D17 -> 3288508.5 | D49: =_xlfn.RANK.EQ(B49,$B$39:$B$66)+COUNTIF($B$39:$B$66,B49)-1 -> 9 | E49: =INDEX($A$39:$B$66,MATCH(ROW()-38,$D$39:$D$66,0),1) -> PASAIA | F49: =LOOKUP(E49,$A$39:$A$66,$B$39:$B$66) -> 2166602 | G49: =LOOKUP(E49,$A$39:$A$66,$C$39:$C$66) -> 2085553
A50: =A18 -> CEUTA | B50: =E18 -> 832501 | C50: =D18 -> 845411 | D50: =_xlfn.RANK.EQ(B50,$B$39:$B$66)+COUNTIF($B$39:$B$66,B50)-1 -> 24 | E50: =INDEX($A$39:$B$66,MATCH(ROW()-38,$D$39:$D$66,0),1) -> MÁLAGA | F50: =LOOKUP(E50,$A$39:$A$66,$B$39:$B$66) -> 1937823 | G50: =LOOKUP(E50,$A$39:$A$66,$C$39:$C$66) -> 1438344.7
... A66: =A34 -> VILAGARCÍA | B66: =E34 -> 652903 | C66: =D34 -> 591552 | D66: =_xlfn.RANK.EQ(B66,$B$39:$B$66)+COUNTIF($B$39:$B$66,B66)-1 -> 28 | E66: =INDEX($A$39:$B$66,MATCH(ROW()-38,$D$39:$D$66,0),1) -> VILAGARCÍA | F66: =LOOKUP(E66,$A$39:$A$66,$B$39:$B$66) -> 652903 | G66: =LOOKUP(E66,$A$39:$A$66,$C$39:$C$66) -> 591552

Sheet Mercancías contenedores
F1: 4.1. MERCANCÍAS EN CONTENEDORES (toneladas)
A5: Autoridad Portuaria | B5: ='Resumen general'!D6 -> Mes diciembre | D5: ='Resumen general'!F6 -> Acumulado desde enero | L5: ='Resumen general'!I4 -> Fecha: 5/10/2020
B6: ='Resumen general'!D7 -> 2018 | C6: ='Resumen general'!E7 -> 2019 | D6: ='Resumen general'!F7 -> 2018 | E6: ='Resumen general'!G7 -> 2019 | F6: Var. (%)
A7: A CORUÑA | B7: 34 | C7: 0 | D7: 54 | E7: 35 | F7: =((E7*100)/D7)-100 -> -35.185185
A8: ALICANTE | B8: 99867 | C8: 93544 | D8: 1245245.5 | E8: 1237828 | F8: =((E8*100)/D8)-100 -> -0.59566328
A9: ALMERÍA | B9: 13349 | C9: 33111 | D9: 92720 | E9: 385694 | F9: =((E9*100)/D9)-100 -> 315.97714
A10: AVILÉS | B10: 0 | C10: 0 | D10: 52 | E10: 2 | F10: =((E10*100)/D10)-100 -> -96.153846
A11: BAHÍA DE ALGECIRAS | B11: 4765020 | C11: 4911254 | D11: 60593409 | E11: 64283309 | F11: =((E11*100)/D11)-100 -> 6.0896065
A12: BAHÍA DE CÁDIZ | B12: 36869 | C12: 28650 | D12: 483037 | E12: 367850 | F12: =((E12*100)/D12)-100 -> -23.846413
A13: BALEARES | B13: 26556 | C13: 27310 | D13: 661073 | E13: 459002 | F13: =((E13*100)/D13)-100 -> -30.567123
A14: BARCELONA | B14: 2921946 | C14: 2555072 | D14: 34790080 | E14: 34182740 | F14: =((E14*100)/D14)-100 -> -1.7457256
A15: BILBAO | B15: 519778 | C15: 509578 | D15: 6807692 | E15: 6717568 | F15: =((E15*100)/D15)-100 -> -1.3238554
A16: CARTAGENA | B16: 64463 | C16: 60328 | D16: 1129557 | E16: 889187 | F16: =((E16*100)/D16)-100 -> -21.280024
A17: CASTELLÓN | B17: 213044 | C17: 188952 | D17: 3048975 | E17: 2763036 | F17: =((E17*100)/D17)-100 -> -9.3782009
A18: CEUTA | B18: 9397 | C18: 7416 | D18: 118282 | E18: 114973 | F18: =((E18*100)/D18)-100 -> -2.7975516
... A34: VILAGARCÍA | B34: 28799 | C34: 26807 | D34: 304282 | E34: 340978 | F34: =((E34*100)/D34)-100 -> 12.059866
A35: Total | B35: =SUM(B7:B34) -> 15741882 | C35: =SUM(C7:C34) -> 15120388 | D35: =SUM(D7:D34) -> 1.9102825e+08 | E35: =SUM(E7:E34) -> 1.9528963e+08 | F35: =((E35*100)/D35)-100 -> 2.2307559
A36: Incluye cargas, descargas, tránsitos y transbordos.
B38: =E6 -> 2019 | C38: =D6 -> 2018 | F38: =B38 -> 2019 | G38: =C38 -> 2018
A39: =A7 -> A CORUÑA | B39: =E7 -> 35 | C39: =D7 -> 54 | D39: =_xlfn.RANK.EQ(B39,$B$39:$B$66)+COUNTIF($B$39:$B$66,B39)-1 -> 26 | E39: =INDEX($A$39:$B$66,MATCH(ROW()-38,$D$39:$D$66,0),1) -> BAHÍA DE ALGECIRAS | F39: =LOOKUP(E39,$A$39:$A$66,$B$39:$B$66) -> 64283309 | G39: =LOOKUP(E39,$A$39:$A$66,$C$39:$C$66) -> 60593409
A40: =A8 -> ALICANTE | B40: =E8 -> 1237828 | C40: =D8 -> 1245245.5 | D40: =_xlfn.RANK.EQ(B40,$B$39:$B$66)+COUNTIF($B$39:$B$66,B40)-1 -> 10 | E40: =INDEX($A$39:$B$66,MATCH(ROW()-38,$D$39:$D$66,0),1) -> VALENCIA | F40: =LOOKUP(E40,$A$39:$A$66,$B$39:$B$66) -> 60831738 | G40: =LOOKUP(E40,$A$39:$A$66,$C$39:$C$66) -> 57885808
A41: =A9 -> ALMERÍA | B41: =E9 -> 385694 | C41: =D9 -> 92720 | D41: =_xlfn.RANK.EQ(B41,$B$39:$B$66)+COUNTIF($B$39:$B$66,B41)-1 -> 18 | E41: =INDEX($A$39:$B$66,MATCH(ROW()-38,$D$39:$D$66,0),1) -> BARCELONA | F41: =LOOKUP(E41,$A$39:$A$66,$B$39:$B$66) -> 34182740 | G41: =LOOKUP(E41,$A$39:$A$66,$C$39:$C$66) -> 34790080
A42: =A10 -> AVILÉS | B42: =E10 -> 2 | C42: =D10 -> 52 | D42: =_xlfn.RANK.EQ(B42,$B$39:$B$66)+COUNTIF($B$39:$B$66,B42)-1 -> 27 | E42: =INDEX($A$39:$B$66,MATCH(ROW()-38,$D$39:$D$66,0),1) -> LAS PALMAS | F42: =LOOKUP(E42,$A$39:$A$66,$B$39:$B$66) -> 10984193 | G42: =LOOKUP(E42,$A$39:$A$66,$C$39:$C$66) -> 12238328
A43: =A11 -> BAHÍA DE ALGECIRAS | B43: =E11 -> 64283309 | C43: =D11 -> 60593409 | D43: =_xlfn.RANK.EQ(B43,$B$39:$B$66)+COUNTIF($B$39:$B$66,B43)-1 -> 1 | E43: =INDEX($A$39:$B$66,MATCH(ROW()-38,$D$39:$D$66,0),1) -> BILBAO | F43: =LOOKUP(E43,$A$39:$A$66,$B$39:$B$66) -> 6717568 | G43: =LOOKUP(E43,$A$39:$A$66,$C$39:$C$66) -> 6807692
A44: =A12 -> BAHÍA DE CÁDIZ | B44: =E12 -> 367850 | C44: =D12 -> 483037 | D44: =_xlfn.RANK.EQ(B44,$B$39:$B$66)+COUNTIF($B$39:$B$66,B44)-1 -> 19 | E44: =INDEX($A$39:$B$66,MATCH(ROW()-38,$D$39:$D$66,0),1) -> SANTA CRUZ DE TENERIFE | F44: =LOOKUP(E44,$A$39:$A$66,$B$39:$B$66) -> 3312267 | G44: =LOOKUP(E44,$A$39:$A$66,$C$39:$C$66) -> 3631763
A45: =A13 -> BALEARES | B45: =E13 -> 459002 | C45: =D13 -> 661073 | D45: =_xlfn.RANK.EQ(B45,$B$39:$B$66)+COUNTIF($B$39:$B$66,B45)-1 -> 16 | E45: =INDEX($A$39:$B$66,MATCH(ROW()-38,$D$39:$D$66,0),1) -> CASTELLÓN | F45: =LOOKUP(E45,$A$39:$A$66,$B$39:$B$66) -> 2763036 | G45: =LOOKUP(E45,$A$39:$A$66,$C$39:$C$66) -> 3048975
A46: =A14 -> BARCELONA | B46: =E14 -> 34182740 | C46: =D14 -> 34790080 | D46: =_xlfn.RANK.EQ(B46,$B$39:$B$66)+COUNTIF($B$39:$B$66,B46)-1 -> 3 | E46: =INDEX($A$39:$B$66,MATCH(ROW()-38,$D$39:$D$66,0),1) -> VIGO | F46: =LOOKUP(E46,$A$39:$A$66,$B$39:$B$66) -> 2659602 | G46: =LOOKUP(E46,$A$39:$A$66,$C$39:$C$66) -> 2667879.7
A47: =A15 -> BILBAO | B47: =E15 -> 6717568 | C47: =D15 -> 6807692 | D47: =_xlfn.RANK.EQ(B47,$B$39:$B$66)+COUNTIF($B$39:$B$66,B47)-1 -> 5 | E47: =INDEX($A$39:$B$66,MATCH(ROW()-38,$D$39:$D$66,0),1) -> MÁLAGA | F47: =LOOKUP(E47,$A$39:$A$66,$B$39:$B$66) -> 1431971 | G47: =LOOKUP(E47,$A$39:$A$66,$C$39:$C$66) -> 935756.7
A48: =A16 -> CARTAGENA | B48: =E16 -> 889187 | C48: =D16 -> 1129557 | D48: =_xlfn.RANK.EQ(B48,$B$39:$B$66)+COUNTIF($B$39:$B$66,B48)-1 -> 13 | E48: =INDEX($A$39:$B$66,MATCH(ROW()-38,$D$39:$D$66,0),1) -> ALICANTE | F48: =LOOKUP(E48,$A$39:$A$66,$B$39:$B$66) -> 1237828 | G48: =LOOKUP(E48,$A$39:$A$66,$C$39:$C$66) -> 1245245.5
A49: =A17 -> CASTELLÓN | B49: =E17 -> 2763036 | C49: =D17 -> 3048975 | D49: =_xlfn.RANK.EQ(B49,$B$39:$B$66)+COUNTIF($B$39:$B$66,B49)-1 -> 7 | E49: =INDEX($A$39:$B$66,MATCH(ROW()-38,$D$39:$D$66,0),1) -> GIJÓN | F49: =LOOKUP(E49,$A$39:$A$66,$B$39:$B$66) -> 1003424 | G49: =LOOKUP(E49,$A$39:$A$66,$C$39:$C$66) -> 965284
A50: =A18 -> CEUTA | B50: =E18 -> 114973 | C50: =D18 -> 118282 | D50: =_xlfn.RANK.EQ(B50,$B$39:$B$66)+COUNTIF($B$39:$B$66,B50)-1 -> 23 | E50: =INDEX($A$39:$B$66,MATCH(ROW()-38,$D$39:$D$66,0),1) -> SEVILLA | F50: =LOOKUP(E50,$A$39:$A$66,$B$39:$B$66) -> 988769 | G50: =LOOKUP(E50,$A$39:$A$66,$C$39:$C$66) -> 983126
... A66: =A34 -> VILAGARCÍA | B66: =E34 -> 340978 | C66: =D34 -> 304282 | D66: =_xlfn.RANK.EQ(B66,$B$39:$B$66)+COUNTIF($B$39:$B$66,B66)-1 -> 20 | E66: =INDEX($A$39:$B$66,MATCH(ROW()-38,$D$39:$D$66,0),1) -> PASAIA | F66: =LOOKUP(E66,$A$39:$A$66,$B$39:$B$66) -> 0 | G66: =LOOKUP(E66,$A$39:$A$66,$C$39:$C$66) -> 98

Sheet Pesca
F1: 5. PESCA (toneladas)
A5: Autoridad Portuaria | B5: ='Resumen general'!D6 -> Mes diciembre | D5: ='Resumen general'!F6 -> Acumulado desde enero | L5: ='Resumen general'!I4 -> Fecha: 5/10/2020
B6: ='Resumen general'!D7 -> 2018 | C6: ='Resumen general'!E7 -> 2019 | D6: ='Resumen general'!F7 -> 2018 | E6: ='Resumen general'!G7 -> 2019 | F6: Var. (%)
A7: A CORUÑA | B7: 2488 | C7: 1780 | D7: 42358.264 | E7: 35923.74 | F7: =((E7*100)/D7)-100 -> -15.190718
A8: ALICANTE | B8: 28 | C8: 6 | D8: 2005.872 | E8: 867.159 | F8: =((E8*100)/D8)-100 -> -56.768976
A9: ALMERÍA | B9: 283 | C9: 283 | D9: 4263.563 | E9: 4163.8616 | F9: =((E9*100)/D9)-100 -> -2.3384526
A10: AVILÉS | B10: 579 | C10: 493 | D10: 12545.967 | E10: 12495.439 | F10: =((E10*100)/D10)-100 -> -0.40274297
A11: BAHÍA DE ALGECIRAS | B11: 39 | C11: 77 | D11: 878.58 | E11: 937.32 | F11: =((E11*100)/D11)-100 -> 6.6857884
A12: BAHÍA DE CÁDIZ | B12: 1056 | C12: 1252 | D12: 17693.197 | E12: 15919.009 | F12: =((E12*100)/D12)-100 -> -10.027514
A13: BALEARES | B13: 188 | C13: 110 | D13: 2903.317 | E13: 2585.835 | F13: =((E13*100)/D13)-100 -> -10.935148
A14: BARCELONA | B14: 59 | C14: 51 | D14: 3171.9987 | E14: 3575.179 | F14: =((E14*100)/D14)-100 -> 12.710608
A15: BILBAO | B15: 0 | C15: 0 | D15: 0 | E15: 0 | F15: =((E15*100)/D15)-100 -> #DIV/0!
A16: CARTAGENA | B16: 27 | C16: 24 | D16: 479.924 | E16: 591.571 | F16: =((E16*100)/D16)-100 -> 23.263475
A17: CASTELLÓN | B17: 108 | C17: 89 | D17: 5415.152 | E17: 3610.779 | F17: =((E17*100)/D17)-100 -> -33.320819
A18: CEUTA | B18: 0 | C18: 0 | D18: 40.863 | E18: 32.647 | F18: =((E18*100)/D18)-100 -> -20.106209
... A34: VILAGARCÍA | B34: 0 | C34: 0 | D34: 0 | E34: 0 | F34: =((E34*100)/D34)-100 -> #DIV/0!
A35: Total | B35: =SUM(B7:B34) -> 18385 | C35: 17353 | D35: =SUM(D7:D34) -> 224013.83 | E35: =SUM(E7:E34) -> 205394.17 | F35: =((E35*100)/D35)-100 -> -8.3118387
B38: =E6 -> 2019 | C38: =D6 -> 2018 | F38: =B38 -> 2019 | G38: =C38 -> 2018
A39: =A7 -> A CORUÑA | B39: =E7 -> 35923.74 | C39: =D7 -> 42358.264 | D39: =_xlfn.RANK.EQ(B39,$B$39:$B$66)+COUNTIF($B$39:$B$66,B39)-1 -> 2 | E39: =INDEX($A$39:$B$66,MATCH(ROW()-38,$D$39:$D$66,0),1) -> VIGO | F39: =LOOKUP(E39,$A$39:$A$66,$B$39:$B$66) -> 79803.375 | G39: =LOOKUP(E39,$A$39:$A$66,$C$39:$C$66) -> 78168.629
A40: =A8 -> ALICANTE | B40: =E8 -> 867.159 | C40: =D8 -> 2005.872 | D40: =_xlfn.RANK.EQ(B40,$B$39:$B$66)+COUNTIF($B$39:$B$66,B40)-1 -> 19 | E40: =INDEX($A$39:$B$66,MATCH(ROW()-38,$D$39:$D$66,0),1) -> A CORUÑA | F40: =LOOKUP(E40,$A$39:$A$66,$B$39:$B$66) -> 35923.74 | G40: =LOOKUP(E40,$A$39:$A$66,$C$39:$C$66) -> 42358.264
A41: =A9 -> ALMERÍA | B41: =E9 -> 4163.8616 | C41: =D9 -> 4263.563 | D41: =_xlfn.RANK.EQ(B41,$B$39:$B$66)+COUNTIF($B$39:$B$66,B41)-1 -> 8 | E41: =INDEX($A$39:$B$66,MATCH(ROW()-38,$D$39:$D$66,0),1) -> PASAIA | F41: =LOOKUP(E41,$A$39:$A$66,$B$39:$B$66) -> 21889.257 | G41: =LOOKUP(E41,$A$39:$A$66,$C$39:$C$66) -> 24638.1
A42: =A10 -> AVILÉS | B42: =E10 -> 12495.439 | C42: =D10 -> 12545.967 | D42: =_xlfn.RANK.EQ(B42,$B$39:$B$66)+COUNTIF($B$39:$B$66,B42)-1 -> 5 | E42: =INDEX($A$39:$B$66,MATCH(ROW()-38,$D$39:$D$66,0),1) -> BAHÍA DE CÁDIZ | F42: =LOOKUP(E42,$A$39:$A$66,$B$39:$B$66) -> 15919.009 | G42: =LOOKUP(E42,$A$39:$A$66,$C$39:$C$66) -> 17693.197
A43: =A11 -> BAHÍA DE ALGECIRAS | B43: =E11 -> 937.32 | C43: =D11 -> 878.58 | D43: =_xlfn.RANK.EQ(B43,$B$39:$B$66)+COUNTIF($B$39:$B$66,B43)-1 -> 18 | E43: =INDEX($A$39:$B$66,MATCH(ROW()-38,$D$39:$D$66,0),1) -> AVILÉS | F43: =LOOKUP(E43,$A$39:$A$66,$B$39:$B$66) -> 12495.439 | G43: =LOOKUP(E43,$A$39:$A$66,$C$39:$C$66) -> 12545.967
A44: =A12 -> BAHÍA DE CÁDIZ | B44: =E12 -> 15919.009 | C44: =D12 -> 17693.197 | D44: =_xlfn.RANK.EQ(B44,$B$39:$B$66)+COUNTIF($B$39:$B$66,B44)-1 -> 4 | E44: =INDEX($A$39:$B$66,MATCH(ROW()-38,$D$39:$D$66,0),1) -> SANTA CRUZ DE TENERIFE | F44: =LOOKUP(E44,$A$39:$A$66,$B$39:$B$66) -> 5143.699 | G44: =LOOKUP(E44,$A$39:$A$66,$C$39:$C$66) -> 5485.807
A45: =A13 -> BALEARES | B45: =E13 -> 2585.835 | C45: =D13 -> 2903.317 | D45: =_xlfn.RANK.EQ(B45,$B$39:$B$66)+COUNTIF($B$39:$B$66,B45)-1 -> 13 | E45: =INDEX($A$39:$B$66,MATCH(ROW()-38,$D$39:$D$66,0),1) -> GIJÓN | F45: =LOOKUP(E45,$A$39:$A$66,$B$39:$B$66) -> 4867.008 | G45: =LOOKUP(E45,$A$39:$A$66,$C$39:$C$66) -> 5070.093
A46: =A14 -> BARCELONA | B46: =E14 -> 3575.179 | C46: =D14 -> 3171.9987 | D46: =_xlfn.RANK.EQ(B46,$B$39:$B$66)+COUNTIF($B$39:$B$66,B46)-1 -> 10 | E46: =INDEX($A$39:$B$66,MATCH(ROW()-38,$D$39:$D$66,0),1) -> ALMERÍA | F46: =LOOKUP(E46,$A$39:$A$66,$B$39:$B$66) -> 4163.8616 | G46: =LOOKUP(E46,$A$39:$A$66,$C$39:$C$66) -> 4263.563
A47: =A15 -> BILBAO | B47: =E15 -> 0 | C47: =D15 -> 0 | D47: =_xlfn.RANK.EQ(B47,$B$39:$B$66)+COUNTIF($B$39:$B$66,B47)-1 -> 28 | E47: =INDEX($A$39:$B$66,MATCH(ROW()-38,$D$39:$D$66,0),1) -> CASTELLÓN | F47: =LOOKUP(E47,$A$39:$A$66,$B$39:$B$66) -> 3610.779 | G47: =LOOKUP(E47,$A$39:$A$66,$C$39:$C$66) -> 5415.152
A48: =A16 -> CARTAGENA | B48: =E16 -> 591.571 | C48: =D16 -> 479.924 | D48: =_xlfn.RANK.EQ(B48,$B$39:$B$66)+COUNTIF($B$39:$B$66,B48)-1 -> 21 | E48: =INDEX($A$39:$B$66,MATCH(ROW()-38,$D$39:$D$66,0),1) -> BARCELONA | F48: =LOOKUP(E48,$A$39:$A$66,$B$39:$B$66) -> 3575.179 | G48: =LOOKUP(E48,$A$39:$A$66,$C$39:$C$66) -> 3171.9987
A49: =A17 -> CASTELLÓN | B49: =E17 -> 3610.779 | C49: =D17 -> 5415.152 | D49: =_xlfn.RANK.EQ(B49,$B$39:$B$66)+COUNTIF($B$39:$B$66,B49)-1 -> 9 | E49: =INDEX($A$39:$B$66,MATCH(ROW()-38,$D$39:$D$66,0),1) -> SANTANDER | F49: =LOOKUP(E49,$A$39:$A$66,$B$39:$B$66) -> 3471.8241 | G49: =LOOKUP(E49,$A$39:$A$66,$C$39:$C$66) -> 5069.545
A50: =A18 -> CEUTA | B50: =E18 -> 32.647 | C50: =D18 -> 40.863 | D50: =_xlfn.RANK.EQ(B50,$B$39:$B$66)+COUNTIF($B$39:$B$66,B50)-1 -> 24 | E50: =INDEX($A$39:$B$66,MATCH(ROW()-38,$D$39:$D$66,0),1) -> TARRAGONA | F50: =LOOKUP(E50,$A$39:$A$66,$B$39:$B$66) -> 2933.443 | G50: =LOOKUP(E50,$A$39:$A$66,$C$39:$C$66) -> 3626.433
... A66: =A34 -> VILAGARCÍA | B66: =E34 -> 0 | C66: =D34 -> 0 | D66: =_xlfn.RANK.EQ(B66,$B$39:$B$66)+COUNTIF($B$39:$B$66,B66)-1 -> 28 | E66: =INDEX($A$39:$B$66,MATCH(ROW()-38,$D$39:$D$66,0),1) -> BILBAO | F66: =LOOKUP(E66,$A$39:$A$66,$B$39:$B$66) -> 0 | G66: =LOOKUP(E66,$A$39:$A$66,$C$39:$C$66) -> 0

Sheet Avituallamiento
F1: 6. AVITUALLAMIENTO (toneladas)
A5: Autoridad Portuaria | B5: ='Resumen general'!D6 -> Mes diciembre | D5: ='Resumen general'!F6 -> Acumulado desde enero | L5: ='Resumen general'!I4 -> Fecha: 5/10/2020
B6: ='Resumen general'!D7 -> 2018 | C6: ='Resumen general'!E7 -> 2019 | D6: ='Resumen general'!F7 -> 2018 | E6: ='Resumen general'!G7 -> 2019 | F6: Var. (%)
A7: A CORUÑA | B7: 26117 | C7: 26358 | D7: 83873 | E7: 76142 | F7: =((E7*100)/D7)-100 -> -9.2175074
A8: ALICANTE | B8: 1427 | C8: 1806 | D8: 27809 | E8: 21965 | F8: =((E8*100)/D8)-100 -> -21.014779
A9: ALMERÍA | B9: 7379 | C9: 4469 | D9: 90959 | E9: 77909 | F9: =((E9*100)/D9)-100 -> -14.347123
A10: AVILÉS | B10: 1022 | C10: 3341 | D10: 44753 | E10: 45791 | F10: =((E10*100)/D10)-100 -> 2.3193976
A11: BAHÍA DE ALGECIRAS | B11: 220957 | C11: 183225 | D11: 2541866 | E11: 2398322 | F11: =((E11*100)/D11)-100 -> -5.6471899
A12: BAHÍA DE CÁDIZ | B12: 3144 | C12: 2993 | D12: 99158 | E12: 85241 | F12: =((E12*100)/D12)-100 -> -14.035176
A13: BALEARES | B13: 8417 | C13: 6239 | D13: 243907 | E13: 285890 | F13: =((E13*100)/D13)-100 -> 17.212708
A14: BARCELONA | B14: 120441 | C14: 108104 | D14: 1857961.2 | E14: 1731725 | F14: =((E14*100)/D14)-100 -> -6.7943401
A15: BILBAO | B15: 8212 | C15: 8684 | D15: 111691 | E15: 114732 | F15: =((E15*100)/D15)-100 -> 2.7226903
A16: CARTAGENA | B16: 19005 | C16: 22149 | D16: 207922 | E16: 182604 | F16: =((E16*100)/D16)-100 -> -12.176682
A17: CASTELLÓN | B17: 967 | C17: 843 | D17: 24455 | E17: 20030 | F17: =((E17*100)/D17)-100 -> -18.094459
A18: CEUTA | B18: 55909 | C18: 60954 | D18: 736993 | E18: 772552 | F18: =((E18*100)/D18)-100 -> 4.8248762
... A34: VILAGARCÍA | B34: 464 | C34: 345 | D34: 3729 | E34: 5283 | F34: =((E34*100)/D34)-100 -> 41.673371
A35: Total | B35: =SUM(B7:B34) -> 841511 | C35: 864204 | D35: =SUM(D7:D34) -> 10295494 | E35: =SUM(E7:E34) -> 10047315 | F35: =((E35*100)/D35)-100 -> -2.4105607
B38: =E6 -> 2019 | C38: =D6 -> 2018 | F38: =B38 -> 2019 | G38: =C38 -> 2018
A39: =A7 -> A CORUÑA | B39: =E7 -> 76142 | C39: =D7 -> 83873 | D39: =_xlfn.RANK.EQ(B39,$B$39:$B$66)+COUNTIF($B$39:$B$66,B39)-1 -> 16 | E39: =INDEX($A$39:$B$66,MATCH(ROW()-38,$D$39:$D$66,0),1) -> LAS PALMAS | F39: =LOOKUP(E39,$A$39:$A$66,$B$39:$B$66) -> 2519563 | G39: =LOOKUP(E39,$A$39:$A$66,$C$39:$C$66) -> 2630374.4
A40: =A8 -> ALICANTE | B40: =E8 -> 21965 | C40: =D8 -> 27809 | D40: =_xlfn.RANK.EQ(B40,$B$39:$B$66)+COUNTIF($B$39:$B$66,B40)-1 -> 23 | E40: =INDEX($A$39:$B$66,MATCH(ROW()-38,$D$39:$D$66,0),1) -> BAHÍA DE ALGECIRAS | F40: =LOOKUP(E40,$A$39:$A$66,$B$39:$B$66) -> 2398322 | G40: =LOOKUP(E40,$A$39:$A$66,$C$39:$C$66) -> 2541866
A41: =A9 -> ALMERÍA | B41: =E9 -> 77909 | C41: =D9 -> 90959 | D41: =_xlfn.RANK.EQ(B41,$B$39:$B$66)+COUNTIF($B$39:$B$66,B41)-1 -> 14 | E41: =INDEX($A$39:$B$66,MATCH(ROW()-38,$D$39:$D$66,0),1) -> BARCELONA | F41: =LOOKUP(E41,$A$39:$A$66,$B$39:$B$66) -> 1731725 | G41: =LOOKUP(E41,$A$39:$A$66,$C$39:$C$66) -> 1857961.2
A42: =A10 -> AVILÉS | B42: =E10 -> 45791 | C42: =D10 -> 44753 | D42: =_xlfn.RANK.EQ(B42,$B$39:$B$66)+COUNTIF($B$39:$B$66,B42)-1 -> 17 | E42: =INDEX($A$39:$B$66,MATCH(ROW()-38,$D$39:$D$66,0),1) -> CEUTA | F42: =LOOKUP(E42,$A$39:$A$66,$B$39:$B$66) -> 772552 | G42: =LOOKUP(E42,$A$39:$A$66,$C$39:$C$66) -> 736993
A43: =A11 -> BAHÍA DE ALGECIRAS | B43: =E11 -> 2398322 | C43: =D11 -> 2541866 | D43: =_xlfn.RANK.EQ(B43,$B$39:$B$66)+COUNTIF($B$39:$B$66,B43)-1 -> 2 | E43: =INDEX($A$39:$B$66,MATCH(ROW()-38,$D$39:$D$66,0),1) -> SANTA CRUZ DE TENERIFE | F43: =LOOKUP(E43,$A$39:$A$66,$B$39:$B$66) -> 646957 | G43: =LOOKUP(E43,$A$39:$A$66,$C$39:$C$66) -> 685587
A44: =A12 -> BAHÍA DE CÁDIZ | B44: =E12 -> 85241 | C44: =D12 -> 99158 | D44: =_xlfn.RANK.EQ(B44,$B$39:$B$66)+COUNTIF($B$39:$B$66,B44)-1 -> 13 | E44: =INDEX($A$39:$B$66,MATCH(ROW()-38,$D$39:$D$66,0),1) -> VALENCIA | F44: =LOOKUP(E44,$A$39:$A$66,$B$39:$B$66) -> 334321 | G44: =LOOKUP(E44,$A$39:$A$66,$C$39:$C$66) -> 192697
A45: =A13 -> BALEARES | B45: =E13 -> 285890 | C45: =D13 -> 243907 | D45: =_xlfn.RANK.EQ(B45,$B$39:$B$66)+COUNTIF($B$39:$B$66,B45)-1 -> 7 | E45: =INDEX($A$39:$B$66,MATCH(ROW()-38,$D$39:$D$66,0),1) -> BALEARES | F45: =LOOKUP(E45,$A$39:$A$66,$B$39:$B$66) -> 285890 | G45: =LOOKUP(E45,$A$39:$A$66,$C$39:$C$66) -> 243907
A46: =A14 -> BARCELONA | B46: =E14 -> 1731725 | C46: =D14 -> 1857961.2 | D46: =_xlfn.RANK.EQ(B46,$B$39:$B$66)+COUNTIF($B$39:$B$66,B46)-1 -> 3 | E46: =INDEX($A$39:$B$66,MATCH(ROW()-38,$D$39:$D$66,0),1) -> HUELVA | F46: =LOOKUP(E46,$A$39:$A$66,$B$39:$B$66) -> 216606 | G46: =LOOKUP(E46,$A$39:$A$66,$C$39:$C$66) -> 184903
A47: =A15 -> BILBAO | B47: =E15 -> 114732 | C47: =D15 -> 111691 | D47: =_xlfn.RANK.EQ(B47,$B$39:$B$66)+COUNTIF($B$39:$B$66,B47)-1 -> 11 | E47: =INDEX($A$39:$B$66,MATCH(ROW()-38,$D$39:$D$66,0),1) -> CARTAGENA | F47: =LOOKUP(E47,$A$39:$A$66,$B$39:$B$66) -> 182604 | G47: =LOOKUP(E47,$A$39:$A$66,$C$39:$C$66) -> 207922
A48: =A16 -> CARTAGENA | B48: =E16 -> 182604 | C48: =D16 -> 207922 | D48: =_xlfn.RANK.EQ(B48,$B$39:$B$66)+COUNTIF($B$39:$B$66,B48)-1 -> 9 | E48: =INDEX($A$39:$B$66,MATCH(ROW()-38,$D$39:$D$66,0),1) -> VIGO | F48: =LOOKUP(E48,$A$39:$A$66,$B$39:$B$66) -> 142862 | G48: =LOOKUP(E48,$A$39:$A$66,$C$39:$C$66) -> 148447.53
A49: =A17 -> CASTELLÓN | B49: =E17 -> 20030 | C49: =D17 -> 24455 | D49: =_xlfn.RANK.EQ(B49,$B$39:$B$66)+COUNTIF($B$39:$B$66,B49)-1 -> 24 | E49: =INDEX($A$39:$B$66,MATCH(ROW()-38,$D$39:$D$66,0),1) -> BILBAO | F49: =LOOKUP(E49,$A$39:$A$66,$B$39:$B$66) -> 114732 | G49: =LOOKUP(E49,$A$39:$A$66,$C$39:$C$66) -> 111691
A50: =A18 -> CEUTA | B50: =E18 -> 772552 | C50: =D18 -> 736993 | D50: =_xlfn.RANK.EQ(B50,$B$39:$B$66)+COUNTIF($B$39:$B$66,B50)-1 -> 4 | E50: =INDEX($A$39:$B$66,MATCH(ROW()-38,$D$39:$D$66,0),1) -> MÁLAGA | F50: =LOOKUP(E50,$A$39:$A$66,$B$39:$B$66) -> 103181 | G50: =LOOKUP(E50,$A$39:$A$66,$C$39:$C$66) -> 97594
... A66: =A34 -> VILAGARCÍA | B66: =E34 -> 5283 | C66: =D34 -> 3729 | D66: =_xlfn.RANK.EQ(B66,$B$39:$B$66)+COUNTIF($B$39:$B$66,B66)-1 -> 27 | E66: =INDEX($A$39:$B$66,MATCH(ROW()-38,$D$39:$D$66,0),1) -> MELILLA | F66: =LOOKUP(E66,$A$39:$A$66,$B$39:$B$66) -> 4626 | G66: =LOOKUP(E66,$A$39:$A$66,$C$39:$C$66) -> 5467

Sheet Avi. combustibles
F1: 6.1. AVITUALLAMIENTO DE COMBUSTIBLES LÍQUIDOS
I2: (toneladas)
A5: Autoridad Portuaria | B5: ='Resumen general'!D6 -> Mes diciembre | D5: ='Resumen general'!F6 -> Acumulado desde enero | L5: ='Resumen general'!I4 -> Fecha: 5/10/2020
B6: ='Resumen general'!D7 -> 2018 | C6: ='Resumen general'!E7 -> 2019 | D6: ='Resumen general'!F7 -> 2018 | E6: ='Resumen general'!G7 -> 2019 | F6: Var. (%)
A7: A CORUÑA | B7: 2247 | C7: 2561 | D7: 32195 | E7: 30957 | F7: =((E7*100)/D7)-100 -> -3.8453176
A8: ALICANTE | B8: 230 | C8: 359 | D8: 4689 | E8: 3210 | F8: =((E8*100)/D8)-100 -> -31.541907
A9: ALMERÍA | B9: 3290 | C9: 2595 | D9: 44873 | E9: 42961 | F9: =((E9*100)/D9)-100 -> -4.2609141
A10: AVILÉS | B10: 0 | C10: 1055 | D10: 8920 | E10: 11255 | F10: =((E10*100)/D10)-100 -> 26.17713
A11: BAHÍA DE ALGECIRAS | B11: 207672 | C11: 170124 | D11: 2383455 | E11: 2190274 | F11: =((E11*100)/D11)-100 -> -8.1050827
A12: BAHÍA DE CÁDIZ | B12: 0 | C12: 1482 | D12: 0 | E12: 13251 | F12: =((E12*100)/D12)-100 -> #DIV/0!
A13: BALEARES | B13: 275 | C13: 673 | D13: 5854 | E13: 6408 | F13: =((E13*100)/D13)-100 -> 9.4636146
A14: BARCELONA | B14: 102378 | C14: 91230 | D14: 1492671.1 | E14: 1413757 | F14: =((E14*100)/D14)-100 -> -5.2867676
A15: BILBAO | B15: 4927 | C15: 4602 | D15: 69175 | E15: 62956 | F15: =((E15*100)/D15)-100 -> -8.9902421
A16: CARTAGENA | B16: 819 | C16: 2383 | D16: 9359 | E16: 12276 | F16: =((E16*100)/D16)-100 -> 31.16786
A17: CASTELLÓN | B17: 0 | C17: 0 | D17: 0 | E17: 0 | F17: =((E17*100)/D17)-100 -> #DIV/0!
A18: CEUTA | B18: 54158 | C18: 58713 | D18: 715174 | E18: 750777 | F18: =((E18*100)/D18)-100 -> 4.9782291
... A34: VILAGARCÍA | B34: 94 | C34: 52 | D34: 604 | E34: 939 | F34: =((E34*100)/D34)-100 -> 55.463576
A35: Total | B35: =SUM(B7:B34) -> 664863 | C35: =SUM(C7:C34) -> 685668 | D35: =SUM(D7:D34) -> 8153155 | E35: =SUM(E7:E34) -> 7988860 | F35: =((E35*100)/D35)-100 -> -2.0151092
B38: =E6 -> 2019 | C38: =D6 -> 2018 | F38: =B38 -> 2019 | G38: =C38 -> 2018
A39: =A7 -> A CORUÑA | B39: =E7 -> 30957 | C39: =D7 -> 32195 | D39: =_xlfn.RANK.EQ(B39,$B$39:$B$66)+COUNTIF($B$39:$B$66,B39)-1 -> 12 | E39: =INDEX($A$39:$B$66,MATCH(ROW()-38,$D$39:$D$66,0),1) -> LAS PALMAS | F39: =LOOKUP(E39,$A$39:$A$66,$B$39:$B$66) -> 2275822 | G39: =LOOKUP(E39,$A$39:$A$66,$C$39:$C$66) -> 2336124.4
A40: =A8 -> ALICANTE | B40: =E8 -> 3210 | C40: =D8 -> 4689 | D40: =_xlfn.RANK.EQ(B40,$B$39:$B$66)+COUNTIF($B$39:$B$66,B40)-1 -> 25 | E40: =INDEX($A$39:$B$66,MATCH(ROW()-38,$D$39:$D$66,0),1) -> BAHÍA DE ALGECIRAS | F40: =LOOKUP(E40,$A$39:$A$66,$B$39:$B$66) -> 2190274 | G40: =LOOKUP(E40,$A$39:$A$66,$C$39:$C$66) -> 2383455
A41: =A9 -> ALMERÍA | B41: =E9 -> 42961 | C41: =D9 -> 44873 | D41: =_xlfn.RANK.EQ(B41,$B$39:$B$66)+COUNTIF($B$39:$B$66,B41)-1 -> 10 | E41: =INDEX($A$39:$B$66,MATCH(ROW()-38,$D$39:$D$66,0),1) -> BARCELONA | F41: =LOOKUP(E41,$A$39:$A$66,$B$39:$B$66) -> 1413757 | G41: =LOOKUP(E41,$A$39:$A$66,$C$39:$C$66) -> 1492671.1
A42: =A10 -> AVILÉS | B42: =E10 -> 11255 | C42: =D10 -> 8920 | D42: =_xlfn.RANK.EQ(B42,$B$39:$B$66)+COUNTIF($B$39:$B$66,B42)-1 -> 20 | E42: =INDEX($A$39:$B$66,MATCH(ROW()-38,$D$39:$D$66,0),1) -> CEUTA | F42: =LOOKUP(E42,$A$39:$A$66,$B$39:$B$66) -> 750777 | G42: =LOOKUP(E42,$A$39:$A$66,$C$39:$C$66) -> 715174
A43: =A11 -> BAHÍA DE ALGECIRAS | B43: =E11 -> 2190274 | C43: =D11 -> 2383455 | D43: =_xlfn.RANK.EQ(B43,$B$39:$B$66)+COUNTIF($B$39:$B$66,B43)-1 -> 2 | E43: =INDEX($A$39:$B$66,MATCH(ROW()-38,$D$39:$D$66,0),1) -> SANTA CRUZ DE TENERIFE | F43: =LOOKUP(E43,$A$39:$A$66,$B$39:$B$66) -> 521561 | G43: =LOOKUP(E43,$A$39:$A$66,$C$39:$C$66) -> 562603
A44: =A12 -> BAHÍA DE CÁDIZ | B44: =E12 -> 13251 | C44: =D12 -> 0 | D44: =_xlfn.RANK.EQ(B44,$B$39:$B$66)+COUNTIF($B$39:$B$66,B44)-1 -> 17 | E44: =INDEX($A$39:$B$66,MATCH(ROW()-38,$D$39:$D$66,0),1) -> VALENCIA | F44: =LOOKUP(E44,$A$39:$A$66,$B$39:$B$66) -> 252059 | G44: =LOOKUP(E44,$A$39:$A$66,$C$39:$C$66) -> 113866
A45: =A13 -> BALEARES | B45: =E13 -> 6408 | C45: =D13 -> 5854 | D45: =_xlfn.RANK.EQ(B45,$B$39:$B$66)+COUNTIF($B$39:$B$66,B45)-1 -> 23 | E45: =INDEX($A$39:$B$66,MATCH(ROW()-38,$D$39:$D$66,0),1) -> HUELVA | F45: =LOOKUP(E45,$A$39:$A$66,$B$39:$B$66) -> 186428 | G45: =LOOKUP(E45,$A$39:$A$66,$C$39:$C$66) -> 163869
A46: =A14 -> BARCELONA | B46: =E14 -> 1413757 | C46: =D14 -> 1492671.1 | D46: =_xlfn.RANK.EQ(B46,$B$39:$B$66)+COUNTIF($B$39:$B$66,B46)-1 -> 3 | E46: =INDEX($A$39:$B$66,MATCH(ROW()-38,$D$39:$D$66,0),1) -> VIGO | F46: =LOOKUP(E46,$A$39:$A$66,$B$39:$B$66) -> 70229 | G46: =LOOKUP(E46,$A$39:$A$66,$C$39:$C$66) -> 67139.528
A47: =A15 -> BILBAO | B47: =E15 -> 62956 | C47: =D15 -> 69175 | D47: =_xlfn.RANK.EQ(B47,$B$39:$B$66)+COUNTIF($B$39:$B$66,B47)-1 -> 9 | E47: =INDEX($A$39:$B$66,MATCH(ROW()-38,$D$39:$D$66,0),1) -> BILBAO | F47: =LOOKUP(E47,$A$39:$A$66,$B$39:$B$66) -> 62956 | G47: =LOOKUP(E47,$A$39:$A$66,$C$39:$C$66) -> 69175
A48: =A16 -> CARTAGENA | B48: =E16 -> 12276 | C48: =D16 -> 9359 | D48: =_xlfn.RANK.EQ(B48,$B$39:$B$66)+COUNTIF($B$39:$B$66,B48)-1 -> 18 | E48: =INDEX($A$39:$B$66,MATCH(ROW()-38,$D$39:$D$66,0),1) -> ALMERÍA | F48: =LOOKUP(E48,$A$39:$A$66,$B$39:$B$66) -> 42961 | G48: =LOOKUP(E48,$A$39:$A$66,$C$39:$C$66) -> 44873
A49: =A17 -> CASTELLÓN | B49: =E17 -> 0 | C49: =D17 -> 0 | D49: =_xlfn.RANK.EQ(B49,$B$39:$B$66)+COUNTIF($B$39:$B$66,B49)-1 -> 28 | E49: =INDEX($A$39:$B$66,MATCH(ROW()-38,$D$39:$D$66,0),1) -> MÁLAGA | F49: =LOOKUP(E49,$A$39:$A$66,$B$39:$B$66) -> 38661 | G49: =LOOKUP(E49,$A$39:$A$66,$C$39:$C$66) -> 33105
A50: =A18 -> CEUTA | B50: =E18 -> 750777 | C50: =D18 -> 715174 | D50: =_xlfn.RANK.EQ(B50,$B$39:$B$66)+COUNTIF($B$39:$B$66,B50)-1 -> 4 | E50: =INDEX($A$39:$B$66,MATCH(ROW()-38,$D$39:$D$66,0),1) -> A CORUÑA | F50: =LOOKUP(E50,$A$39:$A$66,$B$39:$B$66) -> 30957 | G50: =LOOKUP(E50,$A$39:$A$66,$C$39:$C$66) -> 32195
... A66: =A34 -> VILAGARCÍA | B66: =E34 -> 939 | C66: =D34 -> 604 | D66: =_xlfn.RANK.EQ(B66,$B$39:$B$66)+COUNTIF($B$39:$B$66,B66)-1 -> 26 | E66: =INDEX($A$39:$B$66,MATCH(ROW()-38,$D$39:$D$66,0),1) -> CASTELLÓN | F66: =LOOKUP(E66,$A$39:$A$66,$B$39:$B$66) -> 0 | G66: =LOOKUP(E66,$A$39:$A$66,$C$39:$C$66) -> 0

Sheet Tráfico interior
F1: 7. TRÁFICO INTERIOR (toneladas)
A5: Autoridad Portuaria | B5: ='Resumen general'!D6 -> Mes diciembre | D5: ='Resumen general'!F6 -> Acumulado desde enero | L5: ='Resumen general'!I4 -> Fecha: 5/10/2020
B6: ='Resumen general'!D7 -> 2018 | C6: ='Resumen general'!E7 -> 2019 | D6: ='Resumen general'!F7 -> 2018 | E6: ='Resumen general'!G7 -> 2019 | F6: Var. (%)
A7: A CORUÑA | B7: 14970 | C7: 0 | D7: 285484 | E7: 133707 | F7: =((E7*100)/D7)-100 -> -53.164801
A8: ALICANTE | B8: 0 | C8: 0 | D8: 0 | E8: 27.45 | F8: =((E8*100)/D8)-100 -> #DIV/0!
A9: ALMERÍA | B9: 0 | C9: 0 | D9: 0 | E9: 0 | F9: =((E9*100)/D9)-100 -> #DIV/0!
A10: AVILÉS | B10: 0 | C10: 0 | D10: 0 | E10: 0 | F10: =((E10*100)/D10)-100 -> #DIV/0!
A11: BAHÍA DE ALGECIRAS | B11: 220076 | C11: 148268 | D11: 2274355.3 | E11: 2133742 | F11: =((E11*100)/D11)-100 -> -6.1825554
A12: BAHÍA DE CÁDIZ | B12: 3 | C12: 0 | D12: 0 | E12: 0 | F12: =((E12*100)/D12)-100 -> #DIV/0!
A13: BALEARES | B13: 132 | C13: 0 | D13: 0 | E13: 0 | F13: =((E13*100)/D13)-100 -> #DIV/0!
A14: BARCELONA | B14: 0 | C14: 0 | D14: 0 | E14: 0 | F14: =((E14*100)/D14)-100 -> #DIV/0!
A15: BILBAO | B15: 0 | C15: 0 | D15: 220 | E15: 0 | F15: =((E15*100)/D15)-100 -> -100
A16: CARTAGENA | B16: 0 | C16: 0 | D16: 0 | E16: 0 | F16: =((E16*100)/D16)-100 -> #DIV/0!
A17: CASTELLÓN | B17: 0 | C17: 0 | D17: 0 | E17: 0 | F17: =((E17*100)/D17)-100 -> #DIV/0!
A18: CEUTA | B18: 0 | C18: 0 | D18: 0 | E18: 0 | F18: =((E18*100)/D18)-100 -> #DIV/0!
... A34: VILAGARCÍA | B34: 0 | C34: 0 | D34: 0 | E34: 0 | F34: =((E34*100)/D34)-100 -> #DIV/0!
A35: Total | B35: =SUM(B7:B34) -> 236834 | C35: =SUM(C7:C34) -> 148433 | D35: =SUM(D7:D34) -> 2579158.2 | E35: =SUM(E7:E34) -> 2305650.5 | F35: =((E35*100)/D35)-100 -> -10.604537
A36: Incluye cargas, descargas, tránsitos y transbordos.
B38: =E6 -> 2019 | C38: =D6 -> 2018 | F38: =B38 -> 2019 | G38: =C38 -> 2018
A39: =A7 -> A CORUÑA | B39: =E7 -> 133707 | C39: =D7 -> 285484 | D39: =_xlfn.RANK.EQ(B39,$B$39:$B$66)+COUNTIF($B$39:$B$66,B39)-1 -> 2 | E39: =INDEX($A$39:$B$66,MATCH(ROW()-38,$D$39:$D$66,0),1) -> BAHÍA DE ALGECIRAS | F39: =LOOKUP(E39,$A$39:$A$66,$B$39:$B$66) -> 2133742 | G39: =LOOKUP(E39,$A$39:$A$66,$C$39:$C$66) -> 2274355.3
A40: =A8 -> ALICANTE | B40: =E8 -> 27.45 | C40: =D8 -> 0 | D40: =_xlfn.RANK.EQ(B40,$B$39:$B$66)+COUNTIF($B$39:$B$66,B40)-1 -> 7 | E40: =INDEX($A$39:$B$66,MATCH(ROW()-38,$D$39:$D$66,0),1) -> A CORUÑA | F40: =LOOKUP(E40,$A$39:$A$66,$B$39:$B$66) -> 133707 | G40: =LOOKUP(E40,$A$39:$A$66,$C$39:$C$66) -> 285484
A41: =A9 -> ALMERÍA | B41: =E9 -> 0 | C41: =D9 -> 0 | D41: =_xlfn.RANK.EQ(B41,$B$39:$B$66)+COUNTIF($B$39:$B$66,B41)-1 -> 28 | E41: =INDEX($A$39:$B$66,MATCH(ROW()-38,$D$39:$D$66,0),1) -> HUELVA | F41: =LOOKUP(E41,$A$39:$A$66,$B$39:$B$66) -> 20156 | G41: =LOOKUP(E41,$A$39:$A$66,$C$39:$C$66) -> 12974.25
A42: =A10 -> AVILÉS | B42: =E10 -> 0 | C42: =D10 -> 0 | D42: =_xlfn.RANK.EQ(B42,$B$39:$B$66)+COUNTIF($B$39:$B$66,B42)-1 -> 28 | E42: =INDEX($A$39:$B$66,MATCH(ROW()-38,$D$39:$D$66,0),1) -> TARRAGONA | F42: =LOOKUP(E42,$A$39:$A$66,$B$39:$B$66) -> 14472 | G42: =LOOKUP(E42,$A$39:$A$66,$C$39:$C$66) -> 0
A43: =A11 -> BAHÍA DE ALGECIRAS | B43: =E11 -> 2133742 | C43: =D11 -> 2274355.3 | D43: =_xlfn.RANK.EQ(B43,$B$39:$B$66)+COUNTIF($B$39:$B$66,B43)-1 -> 1 | E43: =INDEX($A$39:$B$66,MATCH(ROW()-38,$D$39:$D$66,0),1) -> FERROL-SAN CIBRAO | F43: =LOOKUP(E43,$A$39:$A$66,$B$39:$B$66) -> 2766 | G43: =LOOKUP(E43,$A$39:$A$66,$C$39:$C$66) -> 4818.72
A44: =A12 -> BAHÍA DE CÁDIZ | B44: =E12 -> 0 | C44: =D12 -> 0 | D44: =_xlfn.RANK.EQ(B44,$B$39:$B$66)+COUNTIF($B$39:$B$66,B44)-1 -> 28 | E44: =INDEX($A$39:$B$66,MATCH(ROW()-38,$D$39:$D$66,0),1) -> SANTA CRUZ DE TENERIFE | F44: =LOOKUP(E44,$A$39:$A$66,$B$39:$B$66) -> 773 | G44: =LOOKUP(E44,$A$39:$A$66,$C$39:$C$66) -> 498
A45: =A13 -> BALEARES | B45: =E13 -> 0 | C45: =D13 -> 0 | D45: =_xlfn.RANK.EQ(B45,$B$39:$B$66)+COUNTIF($B$39:$B$66,B45)-1 -> 28 | E45: =INDEX($A$39:$B$66,MATCH(ROW()-38,$D$39:$D$66,0),1) -> ALICANTE | F45: =LOOKUP(E45,$A$39:$A$66,$B$39:$B$66) -> 27.45 | G45: =LOOKUP(E45,$A$39:$A$66,$C$39:$C$66) -> 0
A46: =A14 -> BARCELONA | B46: =E14 -> 0 | C46: =D14 -> 0 | D46: =_xlfn.RANK.EQ(B46,$B$39:$B$66)+COUNTIF($B$39:$B$66,B46)-1 -> 28 | E46: =INDEX($A$39:$B$66,MATCH(ROW()-38,$D$39:$D$66,0),1) -> LAS PALMAS | F46: =LOOKUP(E46,$A$39:$A$66,$B$39:$B$66) -> 7 | G46: =LOOKUP(E46,$A$39:$A$66,$C$39:$C$66) -> 8
A47: =A15 -> BILBAO | B47: =E15 -> 0 | C47: =D15 -> 220 | D47: =_xlfn.RANK.EQ(B47,$B$39:$B$66)+COUNTIF($B$39:$B$66,B47)-1 -> 28 | E47: =INDEX($A$39:$B$66,MATCH(ROW()-38,$D$39:$D$66,0),1) -> #N/A | F47: =LOOKUP(E47,$A$39:$A$66,$B$39:$B$66) -> #N/A | G47: =LOOKUP(E47,$A$39:$A$66,$C$39:$C$66) -> #N/A
A48: =A16 -> CARTAGENA | B48: =E16 -> 0 | C48: =D16 -> 0 | D48: =_xlfn.RANK.EQ(B48,$B$39:$B$66)+COUNTIF($B$39:$B$66,B48)-1 -> 28 | E48: MELILLA | F48: =LOOKUP(E48,$A$39:$A$66,$B$39:$B$66) -> 0 | G48: =LOOKUP(E48,$A$39:$A$66,$C$39:$C$66) -> 0
A49: =A17 -> CASTELLÓN | B49: =E17 -> 0 | C49: =D17 -> 0 | D49: =_xlfn.RANK.EQ(B49,$B$39:$B$66)+COUNTIF($B$39:$B$66,B49)-1 -> 28 | E49: =INDEX($A$39:$B$66,MATCH(ROW()-38,$D$39:$D$66,0),1) -> #N/A | F49: =LOOKUP(E49,$A$39:$A$66,$B$39:$B$66) -> #N/A | G49: =LOOKUP(E49,$A$39:$A$66,$C$39:$C$66) -> #N/A
A50: =A18 -> CEUTA | B50: =E18 -> 0 | C50: =D18 -> 0 | D50: =_xlfn.RANK.EQ(B50,$B$39:$B$66)+COUNTIF($B$39:$B$66,B50)-1 -> 28 | E50: =INDEX($A$39:$B$66,MATCH(ROW()-38,$D$39:$D$66,0),1) -> #N/A | F50: =LOOKUP(E50,$A$39:$A$66,$B$39:$B$66) -> #N/A | G50: =LOOKUP(E50,$A$39:$A$66,$C$39:$C$66) -> #N/A
A51: =A19 -> FERROL-SAN CIBRAO | B51: =E19 -> 2766 | C51: =D19 -> 4818.72 | D51: =_xlfn.RANK.EQ(B51,$B$39:$B$66)+COUNTIF($B$39:$B$66,B51)-1 -> 5 | E51: =INDEX($A$39:$B$66,MATCH(ROW()-38,$D$39:$D$66,0),1) -> #N/A | F51: =LOOKUP(E51,$A$39:$A$66,$B$39:$B$66) -> #N/A | G51: =LOOKUP(E51,$A$39:$A$66,$C$39:$C$66) -> #N/A
A52: =A20 -> GIJÓN | B52: =E20 -> 0 | C52: =D20 -> 800 | D52: =_xlfn.RANK.EQ(B52,$B$39:$B$66)+COUNTIF($B$39:$B$66,B52)-1 -> 28 | E52: =INDEX($A$39:$B$66,MATCH(ROW()-38,$D$39:$D$66,0),1) -> #N/A | F52: =LOOKUP(E52,$A$39:$A$66,$B$39:$B$66) -> #N/A | G52: =LOOKUP(E52,$A$39:$A$66,$C$39:$C$66) -> #N/A
A53: =A21 -> HUELVA | B53: =E21 -> 20156 | C53: =D21 -> 12974.25 | D53: =_xlfn.RANK.EQ(B53,$B$39:$B$66)+COUNTIF($B$39:$B$66,B53)-1 -> 3 | E53: =INDEX($A$39:$B$66,MATCH(ROW()-38,$D$39:$D$66,0),1) -> #N/A | F53: =LOOKUP(E53,$A$39:$A$66,$B$39:$B$66) -> #N/A | G53: =LOOKUP(E53,$A$39:$A$66,$C$39:$C$66) -> #N/A
A54: =A22 -> LAS PALMAS | B54: =E22 -> 7 | C54: =D22 -> 8 | D54: =_xlfn.RANK.EQ(B54,$B$39:$B$66)+COUNTIF($B$39:$B$66,B54)-1 -> 8 | E54: =INDEX($A$39:$B$66,MATCH(ROW()-38,$D$39:$D$66,0),1) -> #N/A | F54: =LOOKUP(E54,$A$39:$A$66,$B$39:$B$66) -> #N/A | G54: =LOOKUP(E54,$A$39:$A$66,$C$39:$C$66) -> #N/A
A55: =A23 -> MÁLAGA | B55: =E23 -> 0 | C55: =D23 -> 0 | D55: =_xlfn.RANK.EQ(B55,$B$39:$B$66)+COUNTIF($B$39:$B$66,B55)-1 -> 28 | E55: =INDEX($A$39:$B$66,MATCH(ROW()-38,$D$39:$D$66,0),1) -> #N/A | F55: =LOOKUP(E55,$A$39:$A$66,$B$39:$B$66) -> #N/A | G55: =LOOKUP(E55,$A$39:$A$66,$C$39:$C$66) -> #N/A
A56: =A24 -> MARÍN Y RÍA DE PONTEVEDRA | B56: =E24 -> 0 | C56: =D24 -> 0 | D56: =_xlfn.RANK.EQ(B56,$B$39:$B$66)+COUNTIF($B$39:$B$66,B56)-1 -> 28 | E56: =INDEX($A$39:$B$66,MATCH(ROW()-38,$D$39:$D$66,0),1) -> #N/A | F56: =LOOKUP(E56,$A$39:$A$66,$B$39:$B$66) -> #N/A | G56: =LOOKUP(E56,$A$39:$A$66,$C$39:$C$66) -> #N/A
A57: =A25 -> MELILLA | B57: =E25 -> 0 | C57: =D25 -> 0 | D57: =_xlfn.RANK.EQ(B57,$B$39:$B$66)+COUNTIF($B$39:$B$66,B57)-1 -> 28 | E57: =INDEX($A$39:$B$66,MATCH(ROW()-38,$D$39:$D$66,0),1) -> #N/A | F57: =LOOKUP(E57,$A$39:$A$66,$B$39:$B$66) -> #N/A | G57: =LOOKUP(E57,$A$39:$A$66,$C$39:$C$66) -> #N/A
A58: =A26 -> MOTRIL | B58: =E26 -> 0 | C58: =D26 -> 0 | D58: =_xlfn.RANK.EQ(B58,$B$39:$B$66)+COUNTIF($B$39:$B$66,B58)-1 -> 28 | E58: =INDEX($A$39:$B$66,MATCH(ROW()-38,$D$39:$D$66,0),1) -> #N/A | F58: =LOOKUP(E58,$A$39:$A$66,$B$39:$B$66) -> #N/A | G58: =LOOKUP(E58,$A$39:$A$66,$C$39:$C$66) -> #N/A
A59: =A27 -> PASAIA | B59: =E27 -> 0 | C59: =D27 -> 0 | D59: =_xlfn.RANK.EQ(B59,$B$39:$B$66)+COUNTIF($B$39:$B$66,B59)-1 -> 28 | E59: =INDEX($A$39:$B$66,MATCH(ROW()-38,$D$39:$D$66,0),1) -> #N/A | F59: =LOOKUP(E59,$A$39:$A$66,$B$39:$B$66) -> #N/A | G59: =LOOKUP(E59,$A$39:$A$66,$C$39:$C$66) -> #N/A
A60: =A28 -> SANTA CRUZ DE TENERIFE | B60: =E28 -> 773 | C60: =D28 -> 498 | D60: =_xlfn.RANK.EQ(B60,$B$39:$B$66)+COUNTIF($B$39:$B$66,B60)-1 -> 6 | E60: =INDEX($A$39:$B$66,MATCH(ROW()-38,$D$39:$D$66,0),1) -> #N/A | F60: =LOOKUP(E60,$A$39:$A$66,$B$39:$B$66) -> #N/A | G60: =LOOKUP(E60,$A$39:$A$66,$C$39:$C$66) -> #N/A
... A66: =A34 -> VILAGARCÍA | B66: =E34 -> 0 | C66: =D34 -> 0 | D66: =_xlfn.RANK.EQ(B66,$B$39:$B$66)+COUNTIF($B$39:$B$66,B66)-1 -> 28 | E66: =INDEX($A$39:$B$66,MATCH(ROW()-38,$D$39:$D$66,0),1) -> ALMERÍA | F66: =LOOKUP(E66,$A$39:$A$66,$B$39:$B$66) -> 0 | G66: =LOOKUP(E66,$A$39:$A$66,$C$39:$C$66) -> 0

Sheet Mercancías tránsito
F1: 8. MERCANCÍAS EN TRÁNSITO (toneladas)
A5: Autoridad Portuaria | B5: ='Resumen general'!D6 -> Mes diciembre | D5: ='Resumen general'!F6 -> Acumulado desde enero | L5: ='Resumen general'!I4 -> Fecha: 5/10/2020
B6: ='Resumen general'!D7 -> 2018 | C6: ='Resumen general'!E7 -> 2019 | D6: ='Resumen general'!F7 -> 2018 | E6: ='Resumen general'!G7 -> 2019 | F6: Var. (%)
A7: A CORUÑA | B7: 5403 | C7: 0 | D7: 14482 | E7: 42793 | F7: =((E7*100)/D7)-100 -> 195.49095
A8: ALICANTE | B8: 1433 | C8: 0 | D8: 11333.6 | E8: 6794.24 | F8: =((E8*100)/D8)-100 -> -40.052234
A9: ALMERÍA | B9: 0 | C9: 6 | D9: 0 | E9: 364 | F9: =((E9*100)/D9)-100 -> #DIV/0!
A10: AVILÉS | B10: 5226 | C10: 0 | D10: 52007 | E10: 24061 | F10: =((E10*100)/D10)-100 -> -53.735074
A11: BAHÍA DE ALGECIRAS | B11: 5712626 | C11: 5646123 | D11: 69737890 | E11: 73685757 | F11: =((E11*100)/D11)-100 -> 5.6610077
A12: BAHÍA DE CÁDIZ | B12: 43321 | C12: 92557 | D12: 665863 | E12: 1383034 | F12: =((E12*100)/D12)-100 -> 107.70549
A13: BALEARES | B13: 424 | C13: 22 | D13: 6069 | E13: 5785.98 | F13: =((E13*100)/D13)-100 -> -4.6633712
A14: BARCELONA | B14: 2029254 | C14: 1654683 | D14: 22325353 | E14: 22513486 | F14: =((E14*100)/D14)-100 -> 0.84268593
A15: BILBAO | B15: 1482 | C15: 7167 | D15: 26224 | E15: 27064 | F15: =((E15*100)/D15)-100 -> 3.2031727
A16: CARTAGENA | B16: 22 | C16: 0 | D16: 302 | E16: 52390 | F16: =((E16*100)/D16)-100 -> 17247.682
A17: CASTELLÓN | B17: 9304 | C17: 537 | D17: 90157 | E17: 115250.98 | F17: =((E17*100)/D17)-100 -> 27.833646
A18: CEUTA | B18: 0 | C18: 113 | D18: 1675 | E18: 412 | F18: =((E18*100)/D18)-100 -> -75.402985
... A34: VILAGARCÍA | B34: 50 | C34: 0 | D34: 178 | E34: 2202 | F34: =((E34*100)/D34)-100 -> 1137.0787
A35: Total | B35: =SUM(B7:B34) -> 13091845 | C35: 11957820 | D35: =SUM(D7:D34) -> 1.4808752e+08 | E35: =SUM(E7:E34) -> 1.5465606e+08 | F35: =((E35*100)/D35)-100 -> 4.4355807
A36: No incluye transbordos.
B38: =E6 -> 2019 | C38: =D6 -> 2018 | F38: =B38 -> 2019 | G38: =C38 -> 2018
A39: =A7 -> A CORUÑA | B39: =E7 -> 42793 | C39: =D7 -> 14482 | D39: =_xlfn.RANK.EQ(B39,$B$39:$B$66)+COUNTIF($B$39:$B$66,B39)-1 -> 14 | E39: =INDEX($A$39:$B$66,MATCH(ROW()-38,$D$39:$D$66,0),1) -> BAHÍA DE ALGECIRAS | F39: =LOOKUP(E39,$A$39:$A$66,$B$39:$B$66) -> 73685757 | G39: =LOOKUP(E39,$A$39:$A$66,$C$39:$C$66) -> 69737890
A40: =A8 -> ALICANTE | B40: =E8 -> 6794.24 | C40: =D8 -> 11333.6 | D40: =_xlfn.RANK.EQ(B40,$B$39:$B$66)+COUNTIF($B$39:$B$66,B40)-1 -> 21 | E40: =INDEX($A$39:$B$66,MATCH(ROW()-38,$D$39:$D$66,0),1) -> VALENCIA | F40: =LOOKUP(E40,$A$39:$A$66,$B$39:$B$66) -> 36707918 | G40: =LOOKUP(E40,$A$39:$A$66,$C$39:$C$66) -> 35313050
A41: =A9 -> ALMERÍA | B41: =E9 -> 364 | C41: =D9 -> 0 | D41: =_xlfn.RANK.EQ(B41,$B$39:$B$66)+COUNTIF($B$39:$B$66,B41)-1 -> 26 | E41: =INDEX($A$39:$B$66,MATCH(ROW()-38,$D$39:$D$66,0),1) -> BARCELONA | F41: =LOOKUP(E41,$A$39:$A$66,$B$39:$B$66) -> 22513486 | G41: =LOOKUP(E41,$A$39:$A$66,$C$39:$C$66) -> 22325353
A42: =A10 -> AVILÉS | B42: =E10 -> 24061 | C42: =D10 -> 52007 | D42: =_xlfn.RANK.EQ(B42,$B$39:$B$66)+COUNTIF($B$39:$B$66,B42)-1 -> 20 | E42: =INDEX($A$39:$B$66,MATCH(ROW()-38,$D$39:$D$66,0),1) -> LAS PALMAS | F42: =LOOKUP(E42,$A$39:$A$66,$B$39:$B$66) -> 10934460 | G42: =LOOKUP(E42,$A$39:$A$66,$C$39:$C$66) -> 11013891
A43: =A11 -> BAHÍA DE ALGECIRAS | B43: =E11 -> 73685757 | C43: =D11 -> 69737890 | D43: =_xlfn.RANK.EQ(B43,$B$39:$B$66)+COUNTIF($B$39:$B$66,B43)-1 -> 1 | E43: =INDEX($A$39:$B$66,MATCH(ROW()-38,$D$39:$D$66,0),1) -> HUELVA | F43: =LOOKUP(E43,$A$39:$A$66,$B$39:$B$66) -> 3465484 | G43: =LOOKUP(E43,$A$39:$A$66,$C$39:$C$66) -> 4579905.5
A44: =A12 -> BAHÍA DE CÁDIZ | B44: =E12 -> 1383034 | C44: =D12 -> 665863 | D44: =_xlfn.RANK.EQ(B44,$B$39:$B$66)+COUNTIF($B$39:$B$66,B44)-1 -> 7 | E44: =INDEX($A$39:$B$66,MATCH(ROW()-38,$D$39:$D$66,0),1) -> TARRAGONA | F44: =LOOKUP(E44,$A$39:$A$66,$B$39:$B$66) -> 3170265.2 | G44: =LOOKUP(E44,$A$39:$A$66,$C$39:$C$66) -> 2668018.5
A45: =A13 -> BALEARES | B45: =E13 -> 5785.98 | C45: =D13 -> 6069 | D45: =_xlfn.RANK.EQ(B45,$B$39:$B$66)+COUNTIF($B$39:$B$66,B45)-1 -> 22 | E45: =INDEX($A$39:$B$66,MATCH(ROW()-38,$D$39:$D$66,0),1) -> BAHÍA DE CÁDIZ | F45: =LOOKUP(E45,$A$39:$A$66,$B$39:$B$66) -> 1383034 | G45: =LOOKUP(E45,$A$39:$A$66,$C$39:$C$66) -> 665863
A46: =A14 -> BARCELONA | B46: =E14 -> 22513486 | C46: =D14 -> 22325353 | D46: =_xlfn.RANK.EQ(B46,$B$39:$B$66)+COUNTIF($B$39:$B$66,B46)-1 -> 3 | E46: =INDEX($A$39:$B$66,MATCH(ROW()-38,$D$39:$D$66,0),1) -> MÁLAGA | F46: =LOOKUP(E46,$A$39:$A$66,$B$39:$B$66) -> 1004496 | G46: =LOOKUP(E46,$A$39:$A$66,$C$39:$C$66) -> 567839.46
A47: =A15 -> BILBAO | B47: =E15 -> 27064 | C47: =D15 -> 26224 | D47: =_xlfn.RANK.EQ(B47,$B$39:$B$66)+COUNTIF($B$39:$B$66,B47)-1 -> 19 | E47: =INDEX($A$39:$B$66,MATCH(ROW()-38,$D$39:$D$66,0),1) -> GIJÓN | F47: =LOOKUP(E47,$A$39:$A$66,$B$39:$B$66) -> 896128 | G47: =LOOKUP(E47,$A$39:$A$66,$C$39:$C$66) -> 152751
A48: =A16 -> CARTAGENA | B48: =E16 -> 52390 | C48: =D16 -> 302 | D48: =_xlfn.RANK.EQ(B48,$B$39:$B$66)+COUNTIF($B$39:$B$66,B48)-1 -> 13 | E48: =INDEX($A$39:$B$66,MATCH(ROW()-38,$D$39:$D$66,0),1) -> VIGO | F48: =LOOKUP(E48,$A$39:$A$66,$B$39:$B$66) -> 243326.98 | G48: =LOOKUP(E48,$A$39:$A$66,$C$39:$C$66) -> 244720.3
A49: =A17 -> CASTELLÓN | B49: =E17 -> 115250.98 | C49: =D17 -> 90157 | D49: =_xlfn.RANK.EQ(B49,$B$39:$B$66)+COUNTIF($B$39:$B$66,B49)-1 -> 12 | E49: =INDEX($A$39:$B$66,MATCH(ROW()-38,$D$39:$D$66,0),1) -> SANTA CRUZ DE TENERIFE | F49: =LOOKUP(E49,$A$39:$A$66,$B$39:$B$66) -> 236088 | G49: =LOOKUP(E49,$A$39:$A$66,$C$39:$C$66) -> 529094
A50: =A18 -> CEUTA | B50: =E18 -> 412 | C50: =D18 -> 1675 | D50: =_xlfn.RANK.EQ(B50,$B$39:$B$66)+COUNTIF($B$39:$B$66,B50)-1 -> 25 | E50: =INDEX($A$39:$B$66,MATCH(ROW()-38,$D$39:$D$66,0),1) -> CASTELLÓN | F50: =LOOKUP(E50,$A$39:$A$66,$B$39:$B$66) -> 115250.98 | G50: =LOOKUP(E50,$A$39:$A$66,$C$39:$C$66) -> 90157
... A66: =A34 -> VILAGARCÍA | B66: =E34 -> 2202 | C66: =D34 -> 178 | D66: =_xlfn.RANK.EQ(B66,$B$39:$B$66)+COUNTIF($B$39:$B$66,B66)-1 -> 23 | E66: =INDEX($A$39:$B$66,MATCH(ROW()-38,$D$39:$D$66,0),1) -> MELILLA | F66: =LOOKUP(E66,$A$39:$A$66,$B$39:$B$66) -> 0 | G66: =LOOKUP(E66,$A$39:$A$66,$C$39:$C$66) -> 0

Sheet Mercan. contene. tránsito
F1: 8.1. MERCANCÍAS EN CONTENEDORES EN TRÁNSITO (toneladas)
A5: Autoridad Portuaria | B5: ='Resumen general'!D6 -> Mes diciembre | D5: ='Resumen general'!F6 -> Acumulado desde enero | L5: ='Resumen general'!I4 -> Fecha: 5/10/2020
B6: ='Resumen general'!D7 -> 2018 | C6: ='Resumen general'!E7 -> 2019 | D6: ='Resumen general'!F7 -> 2018 | E6: ='Resumen general'!G7 -> 2019 | F6: Var. (%)
A7: A CORUÑA | B7: 0 | C7: 0 | D7: 0 | E7: 0 | F7: =((E7*100)/D7)-100 -> #DIV/0!
A8: ALICANTE | B8: 1433 | C8: 0 | D8: 11333.6 | E8: 6794.24 | F8: =((E8*100)/D8)-100 -> -40.052234
A9: ALMERÍA | B9: 0 | C9: 6 | D9: 0 | E9: 364 | F9: =((E9*100)/D9)-100 -> #DIV/0!
A10: AVILÉS | B10: 0 | C10: 0 | D10: 0 | E10: 0 | F10: =((E10*100)/D10)-100 -> #DIV/0!
A11: BAHÍA DE ALGECIRAS | B11: 4345279 | C11: 4484454 | D11: 55288011 | E11: 58429318 | F11: =((E11*100)/D11)-100 -> 5.6817149
A12: BAHÍA DE CÁDIZ | B12: 0 | C12: 0 | D12: 6582 | E12: 1724.49 | F12: =((E12*100)/D12)-100 -> -73.799909
A13: BALEARES | B13: 0 | C13: 0 | D13: 179.2 | E13: 118.49 | F13: =((E13*100)/D13)-100 -> -33.878348
A14: BARCELONA | B14: 1459589 | C14: 1177849 | D14: 16642509 | E14: 16290295 | F14: =((E14*100)/D14)-100 -> -2.1163536
A15: BILBAO | B15: 1482 | C15: 3524 | D15: 20867 | E15: 22168 | F15: =((E15*100)/D15)-100 -> 6.2347247
A16: CARTAGENA | B16: 22 | C16: 0 | D16: 300 | E16: 270 | F16: =((E16*100)/D16)-100 -> -10
A17: CASTELLÓN | B17: 9304 | C17: 537 | D17: 89925 | E17: 109076.49 | F17: =((E17*100)/D17)-100 -> 21.297181
A18: CEUTA | B18: 0 | C18: 77 | D18: 1248 | E18: 204 | F18: =((E18*100)/D18)-100 -> -83.653846
... A34: VILAGARCÍA | B34: 50 | C34: 0 | D34: 178 | E34: 138 | F34: =((E34*100)/D34)-100 -> -22.47191
A35: Total | B35: =SUM(B7:B34) -> 9761738 | C35: =SUM(C7:C34) -> 9203403 | D35: =SUM(D7:D34) -> 1.1597859e+08 | E35: =SUM(E7:E34) -> 1.1923651e+08 | F35: =((E35*100)/D35)-100 -> 2.8090678
A36: No incluye transbordos.
B38: =E6 -> 2019 | C38: =D6 -> 2018 | F38: =B38 -> 2019 | G38: =C38 -> 2018
A39: =A7 -> A CORUÑA | B39: =E7 -> 0 | C39: =D7 -> 0 | D39: =_xlfn.RANK.EQ(B39,$B$39:$B$66)+COUNTIF($B$39:$B$66,B39)-1 -> 28 | E39: =INDEX($A$39:$B$66,MATCH(ROW()-38,$D$39:$D$66,0),1) -> BAHÍA DE ALGECIRAS | F39: =LOOKUP(E39,$A$39:$A$66,$B$39:$B$66) -> 58429318 | G39: =LOOKUP(E39,$A$39:$A$66,$C$39:$C$66) -> 55288011
A40: =A8 -> ALICANTE | B40: =E8 -> 6794.24 | C40: =D8 -> 11333.6 | D40: =_xlfn.RANK.EQ(B40,$B$39:$B$66)+COUNTIF($B$39:$B$66,B40)-1 -> 11 | E40: =INDEX($A$39:$B$66,MATCH(ROW()-38,$D$39:$D$66,0),1) -> VALENCIA | F40: =LOOKUP(E40,$A$39:$A$66,$B$39:$B$66) -> 36298284 | G40: =LOOKUP(E40,$A$39:$A$66,$C$39:$C$66) -> 34704310
A41: =A9 -> ALMERÍA | B41: =E9 -> 364 | C41: =D9 -> 0 | D41: =_xlfn.RANK.EQ(B41,$B$39:$B$66)+COUNTIF($B$39:$B$66,B41)-1 -> 14 | E41: =INDEX($A$39:$B$66,MATCH(ROW()-38,$D$39:$D$66,0),1) -> BARCELONA | F41: =LOOKUP(E41,$A$39:$A$66,$B$39:$B$66) -> 16290295 | G41: =LOOKUP(E41,$A$39:$A$66,$C$39:$C$66) -> 16642509
A42: =A10 -> AVILÉS | B42: =E10 -> 0 | C42: =D10 -> 0 | D42: =_xlfn.RANK.EQ(B42,$B$39:$B$66)+COUNTIF($B$39:$B$66,B42)-1 -> 28 | E42: =INDEX($A$39:$B$66,MATCH(ROW()-38,$D$39:$D$66,0),1) -> LAS PALMAS | F42: =LOOKUP(E42,$A$39:$A$66,$B$39:$B$66) -> 6690560.5 | G42: =LOOKUP(E42,$A$39:$A$66,$C$39:$C$66) -> 7914994
A43: =A11 -> BAHÍA DE ALGECIRAS | B43: =E11 -> 58429318 | C43: =D11 -> 55288011 | D43: =_xlfn.RANK.EQ(B43,$B$39:$B$66)+COUNTIF($B$39:$B$66,B43)-1 -> 1 | E43: =INDEX($A$39:$B$66,MATCH(ROW()-38,$D$39:$D$66,0),1) -> MÁLAGA | F43: =LOOKUP(E43,$A$39:$A$66,$B$39:$B$66) -> 1003294 | G43: =LOOKUP(E43,$A$39:$A$66,$C$39:$C$66) -> 549180.33
A44: =A12 -> BAHÍA DE CÁDIZ | B44: =E12 -> 1724.49 | C44: =D12 -> 6582 | D44: =_xlfn.RANK.EQ(B44,$B$39:$B$66)+COUNTIF($B$39:$B$66,B44)-1 -> 12 | E44: =INDEX($A$39:$B$66,MATCH(ROW()-38,$D$39:$D$66,0),1) -> SANTA CRUZ DE TENERIFE | F44: =LOOKUP(E44,$A$39:$A$66,$B$39:$B$66) -> 208017 | G44: =LOOKUP(E44,$A$39:$A$66,$C$39:$C$66) -> 521020.5
A45: =A13 -> BALEARES | B45: =E13 -> 118.49 | C45: =D13 -> 179.2 | D45: =_xlfn.RANK.EQ(B45,$B$39:$B$66)+COUNTIF($B$39:$B$66,B45)-1 -> 18 | E45: =INDEX($A$39:$B$66,MATCH(ROW()-38,$D$39:$D$66,0),1) -> VIGO | F45: =LOOKUP(E45,$A$39:$A$66,$B$39:$B$66) -> 141407.49 | G45: =LOOKUP(E45,$A$39:$A$66,$C$39:$C$66) -> 166283.12
A46: =A14 -> BARCELONA | B46: =E14 -> 16290295 | C46: =D14 -> 16642509 | D46: =_xlfn.RANK.EQ(B46,$B$39:$B$66)+COUNTIF($B$39:$B$66,B46)-1 -> 3 | E46: =INDEX($A$39:$B$66,MATCH(ROW()-38,$D$39:$D$66,0),1) -> CASTELLÓN | F46: =LOOKUP(E46,$A$39:$A$66,$B$39:$B$66) -> 109076.49 | G46: =LOOKUP(E46,$A$39:$A$66,$C$39:$C$66) -> 89925
A47: =A15 -> BILBAO | B47: =E15 -> 22168 | C47: =D15 -> 20867 | D47: =_xlfn.RANK.EQ(B47,$B$39:$B$66)+COUNTIF($B$39:$B$66,B47)-1 -> 10 | E47: =INDEX($A$39:$B$66,MATCH(ROW()-38,$D$39:$D$66,0),1) -> MARÍN Y RÍA DE PONTEVEDRA | F47: =LOOKUP(E47,$A$39:$A$66,$B$39:$B$66) -> 33611 | G47: =LOOKUP(E47,$A$39:$A$66,$C$39:$C$66) -> 43407
A48: =A16 -> CARTAGENA | B48: =E16 -> 270 | C48: =D16 -> 300 | D48: =_xlfn.RANK.EQ(B48,$B$39:$B$66)+COUNTIF($B$39:$B$66,B48)-1 -> 15 | E48: =INDEX($A$39:$B$66,MATCH(ROW()-38,$D$39:$D$66,0),1) -> BILBAO | F48: =LOOKUP(E48,$A$39:$A$66,$B$39:$B$66) -> 22168 | G48: =LOOKUP(E48,$A$39:$A$66,$C$39:$C$66) -> 20867
A49: =A17 -> CASTELLÓN | B49: =E17 -> 109076.49 | C49: =D17 -> 89925 | D49: =_xlfn.RANK.EQ(B49,$B$39:$B$66)+COUNTIF($B$39:$B$66,B49)-1 -> 8 | E49: =INDEX($A$39:$B$66,MATCH(ROW()-38,$D$39:$D$66,0),1) -> ALICANTE | F49: =LOOKUP(E49,$A$39:$A$66,$B$39:$B$66) -> 6794.24 | G49: =LOOKUP(E49,$A$39:$A$66,$C$39:$C$66) -> 11333.6
A50: =A18 -> CEUTA | B50: =E18 -> 204 | C50: =D18 -> 1248 | D50: =_xlfn.RANK.EQ(B50,$B$39:$B$66)+COUNTIF($B$39:$B$66,B50)-1 -> 16 | E50: =INDEX($A$39:$B$66,MATCH(ROW()-38,$D$39:$D$66,0),1) -> BAHÍA DE CÁDIZ | F50: =LOOKUP(E50,$A$39:$A$66,$B$39:$B$66) -> 1724.49 | G50: =LOOKUP(E50,$A$39:$A$66,$C$39:$C$66) -> 6582
... A66: =A34 -> VILAGARCÍA | B66: =E34 -> 138 | C66: =D34 -> 178 | D66: =_xlfn.RANK.EQ(B66,$B$39:$B$66)+COUNTIF($B$39:$B$66,B66)-1 -> 17 | E66: =INDEX($A$39:$B$66,MATCH(ROW()-38,$D$39:$D$66,0),1) -> A CORUÑA | F66: =LOOKUP(E66,$A$39:$A$66,$B$39:$B$66) -> 0 | G66: =LOOKUP(E66,$A$39:$A$66,$C$39:$C$66) -> 0

Sheet Ro-Ro
F1: 9. TRÁFICO RO-RO (toneladas)
A5: Autoridad Portuaria | B5: ='Resumen general'!D6 -> Mes diciembre | D5: ='Resumen general'!F6 -> Acumulado desde enero | L5: ='Resumen general'!I4 -> Fecha: 5/10/2020
B6: ='Resumen general'!D7 -> 2018 | C6: ='Resumen general'!E7 -> 2019 | D6: ='Resumen general'!F7 -> 2018 | E6: ='Resumen general'!G7 -> 2019 | F6: Var. (%)
A7: A CORUÑA | B7: 0 | C7: 0 | D7: 0 | E7: 0 | F7: =((E7*100)/D7)-100 -> #DIV/0!
A8: ALICANTE | B8: 9823 | C8: 275 | D8: 94654.77 | E8: 28352.96 | F8: =((E8*100)/D8)-100 -> -70.045926
A9: ALMERÍA | B9: 53512 | C9: 72651 | D9: 431601 | E9: 648984 | F9: =((E9*100)/D9)-100 -> 50.366658
A10: AVILÉS | B10: 0 | C10: 0 | D10: 908 | E10: 0 | F10: =((E10*100)/D10)-100 -> -100
A11: BAHÍA DE ALGECIRAS | B11: 751570 | C11: 786340 | D11: 8336434.1 | E11: 9045985 | F11: =((E11*100)/D11)-100 -> 8.5114436
A12: BAHÍA DE CÁDIZ | B12: 78172 | C12: 74397 | D12: 909794 | E12: 858369 | F12: =((E12*100)/D12)-100 -> -5.6523785
A13: BALEARES | B13: 874866 | C13: 851774 | D13: 12988879 | E13: 13638188 | F13: =((E13*100)/D13)-100 -> 4.998961
A14: BARCELONA | B14: 696149 | C14: 771743 | D14: 11613911 | E14: 11557123 | F14: =((E14*100)/D14)-100 -> -0.48895898
A15: BILBAO | B15: 53059 | C15: 51234 | D15: 861173 | E15: 841741 | F15: =((E15*100)/D15)-100 -> -2.2564572
A16: CARTAGENA | B16: 0 | C16: 0 | D16: 0 | E16: 0 | F16: =((E16*100)/D16)-100 -> #DIV/0!
A17: CASTELLÓN | B17: 40065 | C17: 14898 | D17: 397406 | E17: 351300 | F17: =((E17*100)/D17)-100 -> -11.601737
A18: CEUTA | B18: 65936 | C18: 50500 | D18: 845411 | E18: 832491 | F18: =((E18*100)/D18)-100 -> -1.5282508
... A34: VILAGARCÍA | B34: 0 | C34: 0 | D34: 0 | E34: 0 | F34: =((E34*100)/D34)-100 -> #DIV/0!
A35: Total | B35: =SUM(B7:B34) -> 4686273 | C35: =SUM(C7:C34) -> 4798098 | D35: =SUM(D7:D34) -> 62677883 | E35: =SUM(E7:E34) -> 65778392 | F35: =((E35*100)/D35)-100 -> 4.9467367
A36: Incluye cargas, descargas, tránsitos y transbordos.
B38: =E6 -> 2019 | C38: =D6 -> 2018 | F38: =B38 -> 2019 | G38: =C38 -> 2018
A39: =A7 -> A CORUÑA | B39: =E7 -> 0 | C39: =D7 -> 0 | D39: =_xlfn.RANK.EQ(B39,$B$39:$B$66)+COUNTIF($B$39:$B$66,B39)-1 -> 28 | E39: =INDEX($A$39:$B$66,MATCH(ROW()-38,$D$39:$D$66,0),1) -> BALEARES | F39: =LOOKUP(E39,$A$39:$A$66,$B$39:$B$66) -> 13638188 | G39: =LOOKUP(E39,$A$39:$A$66,$C$39:$C$66) -> 12988879
A40: =A8 -> ALICANTE | B40: =E8 -> 28352.96 | C40: =D8 -> 94654.77 | D40: =_xlfn.RANK.EQ(B40,$B$39:$B$66)+COUNTIF($B$39:$B$66,B40)-1 -> 22 | E40: =INDEX($A$39:$B$66,MATCH(ROW()-38,$D$39:$D$66,0),1) -> VALENCIA | F40: =LOOKUP(E40,$A$39:$A$66,$B$39:$B$66) -> 12580586 | G40: =LOOKUP(E40,$A$39:$A$66,$C$39:$C$66) -> 11829219
A41: =A9 -> ALMERÍA | B41: =E9 -> 648984 | C41: =D9 -> 431601 | D41: =_xlfn.RANK.EQ(B41,$B$39:$B$66)+COUNTIF($B$39:$B$66,B41)-1 -> 14 | E41: =INDEX($A$39:$B$66,MATCH(ROW()-38,$D$39:$D$66,0),1) -> BARCELONA | F41: =LOOKUP(E41,$A$39:$A$66,$B$39:$B$66) -> 11557123 | G41: =LOOKUP(E41,$A$39:$A$66,$C$39:$C$66) -> 11613911
A42: =A10 -> AVILÉS | B42: =E10 -> 0 | C42: =D10 -> 908 | D42: =_xlfn.RANK.EQ(B42,$B$39:$B$66)+COUNTIF($B$39:$B$66,B42)-1 -> 28 | E42: =INDEX($A$39:$B$66,MATCH(ROW()-38,$D$39:$D$66,0),1) -> BAHÍA DE ALGECIRAS | F42: =LOOKUP(E42,$A$39:$A$66,$B$39:$B$66) -> 9045985 | G42: =LOOKUP(E42,$A$39:$A$66,$C$39:$C$66) -> 8336434.1
A43: =A11 -> BAHÍA DE ALGECIRAS | B43: =E11 -> 9045985 | C43: =D11 -> 8336434.1 | D43: =_xlfn.RANK.EQ(B43,$B$39:$B$66)+COUNTIF($B$39:$B$66,B43)-1 -> 4 | E43: =INDEX($A$39:$B$66,MATCH(ROW()-38,$D$39:$D$66,0),1) -> LAS PALMAS | F43: =LOOKUP(E43,$A$39:$A$66,$B$39:$B$66) -> 4451973 | G43: =LOOKUP(E43,$A$39:$A$66,$C$39:$C$66) -> 4246705
A44: =A12 -> BAHÍA DE CÁDIZ | B44: =E12 -> 858369 | C44: =D12 -> 909794 | D44: =_xlfn.RANK.EQ(B44,$B$39:$B$66)+COUNTIF($B$39:$B$66,B44)-1 -> 9 | E44: =INDEX($A$39:$B$66,MATCH(ROW()-38,$D$39:$D$66,0),1) -> SANTA CRUZ DE TENERIFE | F44: =LOOKUP(E44,$A$39:$A$66,$B$39:$B$66) -> 4074015 | G44: =LOOKUP(E44,$A$39:$A$66,$C$39:$C$66) -> 3886955
A45: =A13 -> BALEARES | B45: =E13 -> 13638188 | C45: =D13 -> 12988879 | D45: =_xlfn.RANK.EQ(B45,$B$39:$B$66)+COUNTIF($B$39:$B$66,B45)-1 -> 1 | E45: =INDEX($A$39:$B$66,MATCH(ROW()-38,$D$39:$D$66,0),1) -> SANTANDER | F45: =LOOKUP(E45,$A$39:$A$66,$B$39:$B$66) -> 2187266 | G45: =LOOKUP(E45,$A$39:$A$66,$C$39:$C$66) -> 1839238
A46: =A14 -> BARCELONA | B46: =E14 -> 11557123 | C46: =D14 -> 11613911 | D46: =_xlfn.RANK.EQ(B46,$B$39:$B$66)+COUNTIF($B$39:$B$66,B46)-1 -> 3 | E46: =INDEX($A$39:$B$66,MATCH(ROW()-38,$D$39:$D$66,0),1) -> VIGO | F46: =LOOKUP(E46,$A$39:$A$66,$B$39:$B$66) -> 1126119 | G46: =LOOKUP(E46,$A$39:$A$66,$C$39:$C$66) -> 1065467
A47: =A15 -> BILBAO | B47: =E15 -> 841741 | C47: =D15 -> 861173 | D47: =_xlfn.RANK.EQ(B47,$B$39:$B$66)+COUNTIF($B$39:$B$66,B47)-1 -> 10 | E47: =INDEX($A$39:$B$66,MATCH(ROW()-38,$D$39:$D$66,0),1) -> BAHÍA DE CÁDIZ | F47: =LOOKUP(E47,$A$39:$A$66,$B$39:$B$66) -> 858369 | G47: =LOOKUP(E47,$A$39:$A$66,$C$39:$C$66) -> 909794
A48: =A16 -> CARTAGENA | B48: =E16 -> 0 | C48: =D16 -> 0 | D48: =_xlfn.RANK.EQ(B48,$B$39:$B$66)+COUNTIF($B$39:$B$66,B48)-1 -> 28 | E48: =INDEX($A$39:$B$66,MATCH(ROW()-38,$D$39:$D$66,0),1) -> BILBAO | F48: =LOOKUP(E48,$A$39:$A$66,$B$39:$B$66) -> 841741 | G48: =LOOKUP(E48,$A$39:$A$66,$C$39:$C$66) -> 861173
A49: =A17 -> CASTELLÓN | B49: =E17 -> 351300 | C49: =D17 -> 397406 | D49: =_xlfn.RANK.EQ(B49,$B$39:$B$66)+COUNTIF($B$39:$B$66,B49)-1 -> 18 | E49: =INDEX($A$39:$B$66,MATCH(ROW()-38,$D$39:$D$66,0),1) -> CEUTA | F49: =LOOKUP(E49,$A$39:$A$66,$B$39:$B$66) -> 832491 | G49: =LOOKUP(E49,$A$39:$A$66,$C$39:$C$66) -> 845411
A50: =A18 -> CEUTA | B50: =E18 -> 832491 | C50: =D18 -> 845411 | D50: =_xlfn.RANK.EQ(B50,$B$39:$B$66)+COUNTIF($B$39:$B$66,B50)-1 -> 11 | E50: =INDEX($A$39:$B$66,MATCH(ROW()-38,$D$39:$D$66,0),1) -> MELILLA | F50: =LOOKUP(E50,$A$39:$A$66,$B$39:$B$66) -> 717549 | G50: =LOOKUP(E50,$A$39:$A$66,$C$39:$C$66) -> 689038
... A66: =A34 -> VILAGARCÍA | B66: =E34 -> 0 | C66: =D34 -> 0 | D66: =_xlfn.RANK.EQ(B66,$B$39:$B$66)+COUNTIF($B$39:$B$66,B66)-1 -> 28 | E66: =INDEX($A$39:$B$66,MATCH(ROW()-38,$D$39:$D$66,0),1) -> A CORUÑA | F66: =LOOKUP(E66,$A$39:$A$66,$B$39:$B$66) -> 0 | G66: =LOOKUP(E66,$A$39:$A$66,$C$39:$C$66) -> 0

Sheet Ro-Ro remolques
E1: 9.1. TRÁFICO RO-RO DE REMOLQUES, SEMIRREMOLQUES Y PLATAFORMAS
I2: (unidades)
A5: Autoridad Portuaria | B5: ='Resumen general'!D6 -> Mes diciembre | D5: ='Resumen general'!F6 -> Acumulado desde enero | L5: ='Resumen general'!I4 -> Fecha: 5/10/2020
B6: ='Resumen general'!D7 -> 2018 | C6: ='Resumen general'!E7 -> 2019 | D6: ='Resumen general'!F7 -> 2018 | E6: ='Resumen general'!G7 -> 2019 | F6: Var. (%)
A7: A CORUÑA | B7: 0 | C7: 0 | D7: 0 | E7: 0 | F7: =((E7*100)/D7)-100 -> #DIV/0!
A8: ALICANTE | B8: 369 | C8: 6 | D8: 3166 | E8: 227 | F8: =((E8*100)/D8)-100 -> -92.830069
A9: ALMERÍA | B9: 1198 | C9: 1641 | D9: 10875 | E9: 16777 | F9: =((E9*100)/D9)-100 -> 54.271264
A10: AVILÉS | B10: 0 | C10: 0 | D10: 0 | E10: 0 | F10: =((E10*100)/D10)-100 -> #DIV/0!
A11: BAHÍA DE ALGECIRAS | B11: 18302 | C11: 19999 | D11: 109877 | E11: 239088 | F11: =((E11*100)/D11)-100 -> 117.59604
A12: BAHÍA DE CÁDIZ | B12: 2272 | C12: 2093 | D12: 30305 | E12: 23710 | F12: =((E12*100)/D12)-100 -> -21.762085
A13: BALEARES | B13: 19350 | C13: 17274 | D13: 30491 | E13: 31852 | F13: =((E13*100)/D13)-100 -> 4.4636122
A14: BARCELONA | B14: 12957 | C14: 15195 | D14: 203204 | E14: 206421 | F14: =((E14*100)/D14)-100 -> 1.5831381
A15: BILBAO | B15: 1410 | C15: 1350 | D15: 17172 | E15: 17828 | F15: =((E15*100)/D15)-100 -> 3.8201724
A16: CARTAGENA | B16: 0 | C16: 0 | D16: 0 | E16: 0 | F16: =((E16*100)/D16)-100 -> #DIV/0!
A17: CASTELLÓN | B17: 0 | C17: 0 | D17: 0 | E17: 0 | F17: =((E17*100)/D17)-100 -> #DIV/0!
A18: CEUTA | B18: 1875 | C18: 1180 | D18: 23366 | E18: 23467 | F18: =((E18*100)/D18)-100 -> 0.43225199
... A34: VILAGARCÍA | B34: 0 | C34: 0 | D34: 0 | E34: 0 | F34: =((E34*100)/D34)-100 -> #DIV/0!
A35: Total | B35: =SUM(B7:B34) -> 112701 | C35: =SUM(C7:C34) -> 115861 | D35: =SUM(D7:D34) -> 1154507 | E35: =SUM(E7:E34) -> 1335400 | F35: =((E35*100)/D35)-100 -> 15.66842
A36: Incluye cargas, descargas, tránsitos y transbordos.
B38: =E6 -> 2019 | C38: =D6 -> 2018 | F38: =B38 -> 2019 | G38: =C38 -> 2018
A39: =A7 -> A CORUÑA | B39: =E7 -> 0 | C39: =D7 -> 0 | D39: =_xlfn.RANK.EQ(B39,$B$39:$B$66)+COUNTIF($B$39:$B$66,B39)-1 -> 28 | E39: =INDEX($A$39:$B$66,MATCH(ROW()-38,$D$39:$D$66,0),1) -> VALENCIA | F39: =LOOKUP(E39,$A$39:$A$66,$B$39:$B$66) -> 317993 | G39: =LOOKUP(E39,$A$39:$A$66,$C$39:$C$66) -> 293081
A40: =A8 -> ALICANTE | B40: =E8 -> 227 | C40: =D8 -> 3166 | D40: =_xlfn.RANK.EQ(B40,$B$39:$B$66)+COUNTIF($B$39:$B$66,B40)-1 -> 19 | E40: =INDEX($A$39:$B$66,MATCH(ROW()-38,$D$39:$D$66,0),1) -> BAHÍA DE ALGECIRAS | F40: =LOOKUP(E40,$A$39:$A$66,$B$39:$B$66) -> 239088 | G40: =LOOKUP(E40,$A$39:$A$66,$C$39:$C$66) -> 109877
A41: =A9 -> ALMERÍA | B41: =E9 -> 16777 | C41: =D9 -> 10875 | D41: =_xlfn.RANK.EQ(B41,$B$39:$B$66)+COUNTIF($B$39:$B$66,B41)-1 -> 16 | E41: =INDEX($A$39:$B$66,MATCH(ROW()-38,$D$39:$D$66,0),1) -> BARCELONA | F41: =LOOKUP(E41,$A$39:$A$66,$B$39:$B$66) -> 206421 | G41: =LOOKUP(E41,$A$39:$A$66,$C$39:$C$66) -> 203204
A42: =A10 -> AVILÉS | B42: =E10 -> 0 | C42: =D10 -> 0 | D42: =_xlfn.RANK.EQ(B42,$B$39:$B$66)+COUNTIF($B$39:$B$66,B42)-1 -> 28 | E42: =INDEX($A$39:$B$66,MATCH(ROW()-38,$D$39:$D$66,0),1) -> LAS PALMAS | F42: =LOOKUP(E42,$A$39:$A$66,$B$39:$B$66) -> 166034 | G42: =LOOKUP(E42,$A$39:$A$66,$C$39:$C$66) -> 154707
A43: =A11 -> BAHÍA DE ALGECIRAS | B43: =E11 -> 239088 | C43: =D11 -> 109877 | D43: =_xlfn.RANK.EQ(B43,$B$39:$B$66)+COUNTIF($B$39:$B$66,B43)-1 -> 2 | E43: =INDEX($A$39:$B$66,MATCH(ROW()-38,$D$39:$D$66,0),1) -> SANTA CRUZ DE TENERIFE | F43: =LOOKUP(E43,$A$39:$A$66,$B$39:$B$66) -> 133218 | G43: =LOOKUP(E43,$A$39:$A$66,$C$39:$C$66) -> 146874
A44: =A12 -> BAHÍA DE CÁDIZ | B44: =E12 -> 23710 | C44: =D12 -> 30305 | D44: =_xlfn.RANK.EQ(B44,$B$39:$B$66)+COUNTIF($B$39:$B$66,B44)-1 -> 10 | E44: =INDEX($A$39:$B$66,MATCH(ROW()-38,$D$39:$D$66,0),1) -> SANTANDER | F44: =LOOKUP(E44,$A$39:$A$66,$B$39:$B$66) -> 32059 | G44: =LOOKUP(E44,$A$39:$A$66,$C$39:$C$66) -> 22285
A45: =A13 -> BALEARES | B45: =E13 -> 31852 | C45: =D13 -> 30491 | D45: =_xlfn.RANK.EQ(B45,$B$39:$B$66)+COUNTIF($B$39:$B$66,B45)-1 -> 7 | E45: =INDEX($A$39:$B$66,MATCH(ROW()-38,$D$39:$D$66,0),1) -> BALEARES | F45: =LOOKUP(E45,$A$39:$A$66,$B$39:$B$66) -> 31852 | G45: =LOOKUP(E45,$A$39:$A$66,$C$39:$C$66) -> 30491
A46: =A14 -> BARCELONA | B46: =E14 -> 206421 | C46: =D14 -> 203204 | D46: =_xlfn.RANK.EQ(B46,$B$39:$B$66)+COUNTIF($B$39:$B$66,B46)-1 -> 3 | E46: =INDEX($A$39:$B$66,MATCH(ROW()-38,$D$39:$D$66,0),1) -> MOTRIL | F46: =LOOKUP(E46,$A$39:$A$66,$B$39:$B$66) -> 27636 | G46: =LOOKUP(E46,$A$39:$A$66,$C$39:$C$66) -> 30052
A47: =A15 -> BILBAO | B47: =E15 -> 17828 | C47: =D15 -> 17172 | D47: =_xlfn.RANK.EQ(B47,$B$39:$B$66)+COUNTIF($B$39:$B$66,B47)-1 -> 14 | E47: =INDEX($A$39:$B$66,MATCH(ROW()-38,$D$39:$D$66,0),1) -> MELILLA | F47: =LOOKUP(E47,$A$39:$A$66,$B$39:$B$66) -> 27153 | G47: =LOOKUP(E47,$A$39:$A$66,$C$39:$C$66) -> 25862
A48: =A16 -> CARTAGENA | B48: =E16 -> 0 | C48: =D16 -> 0 | D48: =_xlfn.RANK.EQ(B48,$B$39:$B$66)+COUNTIF($B$39:$B$66,B48)-1 -> 28 | E48: =INDEX($A$39:$B$66,MATCH(ROW()-38,$D$39:$D$66,0),1) -> BAHÍA DE CÁDIZ | F48: =LOOKUP(E48,$A$39:$A$66,$B$39:$B$66) -> 23710 | G48: =LOOKUP(E48,$A$39:$A$66,$C$39:$C$66) -> 30305
A49: =A17 -> CASTELLÓN | B49: =E17 -> 0 | C49: =D17 -> 0 | D49: =_xlfn.RANK.EQ(B49,$B$39:$B$66)+COUNTIF($B$39:$B$66,B49)-1 -> 28 | E49: =INDEX($A$39:$B$66,MATCH(ROW()-38,$D$39:$D$66,0),1) -> CEUTA | F49: =LOOKUP(E49,$A$39:$A$66,$B$39:$B$66) -> 23467 | G49: =LOOKUP(E49,$A$39:$A$66,$C$39:$C$66) -> 23366
A50: =A18 -> CEUTA | B50: =E18 -> 23467 | C50: =D18 -> 23366 | D50: =_xlfn.RANK.EQ(B50,$B$39:$B$66)+COUNTIF($B$39:$B$66,B50)-1 -> 11 | E50: =INDEX($A$39:$B$66,MATCH(ROW()-38,$D$39:$D$66,0),1) -> MÁLAGA | F50: =LOOKUP(E50,$A$39:$A$66,$B$39:$B$66) -> 21189 | G50: =LOOKUP(E50,$A$39:$A$66,$C$39:$C$66) -> 18938
... A66: =A34 -> VILAGARCÍA | B66: =E34 -> 0 | C66: =D34 -> 0 | D66: =_xlfn.RANK.EQ(B66,$B$39:$B$66)+COUNTIF($B$39:$B$66,B66)-1 -> 28 | E66: =INDEX($A$39:$B$66,MATCH(ROW()-38,$D$39:$D$66,0),1) -> A CORUÑA | F66: =LOOKUP(E66,$A$39:$A$66,$B$39:$B$66) -> 0 | G66: =LOOKUP(E66,$A$39:$A$66,$C$39:$C$66) -> 0

Sheet TEUS
F1: 10. CONTENEDORES (TEUS)
A5: Autoridad Portuaria | B5: ='Resumen general'!D6 -> Mes diciembre | D5: ='Resumen general'!F6 -> Acumulado desde enero | L5: ='Resumen general'!I4 -> Fecha: 5/10/2020
B6: ='Resumen general'!D7 -> 2018 | C6: ='Resumen general'!E7 -> 2019 | D6: ='Resumen general'!F7 -> 2018 | E6: ='Resumen general'!G7 -> 2019 | F6: Var. (%)
A7: A CORUÑA | B7: 17 | C7: 0 | D7: 27 | E7: 6 | F7: =((E7*100)/D7)-100 -> -77.777778
A8: ALICANTE | B8: 13399 | C8: 13320 | D8: 162571 | E8: 171270 | F8: =((E8*100)/D8)-100 -> 5.3508928
A9: ALMERÍA | B9: 1108 | C9: 2146 | D9: 9360.75 | E9: 23476 | F9: =((E9*100)/D9)-100 -> 150.79187
A10: AVILÉS | B10: 0 | C10: 0 | D10: 5 | E10: 4 | F10: =((E10*100)/D10)-100 -> -20
A11: BAHÍA DE ALGECIRAS | B11: 377618 | C11: 393897 | D11: 4773158 | E11: 5125385 | F11: =((E11*100)/D11)-100 -> 7.3793283
A12: BAHÍA DE CÁDIZ | B12: 5712 | C12: 4249 | D12: 68544 | E12: 57839 | F12: =((E12*100)/D12)-100 -> -15.617705
A13: BALEARES | B13: 7494 | C13: 7082 | D13: 121437 | E13: 120400 | F13: =((E13*100)/D13)-100 -> -0.85394073
A14: BARCELONA | B14: 293952 | C14: 244306 | D14: 3422978.4 | E14: 3324651 | F14: =((E14*100)/D14)-100 -> -2.8725678
A15: BILBAO | B15: 48452 | C15: 47161 | D15: 638447 | E15: 628426 | F15: =((E15*100)/D15)-100 -> -1.56959
A16: CARTAGENA | B16: 4730 | C16: 4973 | D16: 84156 | E16: 67606 | F16: =((E16*100)/D16)-100 -> -19.665859
A17: CASTELLÓN | B17: 14403 | C17: 13768 | D17: 229093 | E17: 202828 | F17: =((E17*100)/D17)-100 -> -11.464776
A18: CEUTA | B18: 924 | C18: 645 | D18: 11129 | E18: 10798 | F18: =((E18*100)/D18)-100 -> -2.9742115
... A34: VILAGARCÍA | B34: 3133 | C34: 3338 | D34: 35039 | E34: 41257 | F34: =((E34*100)/D34)-100 -> 17.74594
A35: Total | B35: =SUM(B7:B34) -> 1422034 | C35: 1342375 | D35: =SUM(D7:D34) -> 17203134 | E35: =SUM(E7:E34) -> 17509574 | F35: =((E35*100)/D35)-100 -> 1.7813061
A36: Incluye cargas, descargas, tránsitos y transbordos.
B38: =E6 -> 2019 | C38: =D6 -> 2018 | F38: =B38 -> 2019 | G38: =C38 -> 2018
A39: =A7 -> A CORUÑA | B39: =E7 -> 6 | C39: =D7 -> 27 | D39: =_xlfn.RANK.EQ(B39,$B$39:$B$66)+COUNTIF($B$39:$B$66,B39)-1 -> 26 | E39: =INDEX($A$39:$B$66,MATCH(ROW()-38,$D$39:$D$66,0),1) -> VALENCIA | F39: =LOOKUP(E39,$A$39:$A$66,$B$39:$B$66) -> 5439827 | G39: =LOOKUP(E39,$A$39:$A$66,$C$39:$C$66) -> 5182665
A40: =A8 -> ALICANTE | B40: =E8 -> 171270 | C40: =D8 -> 162571 | D40: =_xlfn.RANK.EQ(B40,$B$39:$B$66)+COUNTIF($B$39:$B$66,B40)-1 -> 10 | E40: =INDEX($A$39:$B$66,MATCH(ROW()-38,$D$39:$D$66,0),1) -> BAHÍA DE ALGECIRAS | F40: =LOOKUP(E40,$A$39:$A$66,$B$39:$B$66) -> 5125385 | G40: =LOOKUP(E40,$A$39:$A$66,$C$39:$C$66) -> 4773158
A41: =A9 -> ALMERÍA | B41: =E9 -> 23476 | C41: =D9 -> 9360.75 | D41: =_xlfn.RANK.EQ(B41,$B$39:$B$66)+COUNTIF($B$39:$B$66,B41)-1 -> 20 | E41: =INDEX($A$39:$B$66,MATCH(ROW()-38,$D$39:$D$66,0),1) -> BARCELONA | F41: =LOOKUP(E41,$A$39:$A$66,$B$39:$B$66) -> 3324651 | G41: =LOOKUP(E41,$A$39:$A$66,$C$39:$C$66) -> 3422978.4
A42: =A10 -> AVILÉS | B42: =E10 -> 4 | C42: =D10 -> 5 | D42: =_xlfn.RANK.EQ(B42,$B$39:$B$66)+COUNTIF($B$39:$B$66,B42)-1 -> 27 | E42: =INDEX($A$39:$B$66,MATCH(ROW()-38,$D$39:$D$66,0),1) -> LAS PALMAS | F42: =LOOKUP(E42,$A$39:$A$66,$B$39:$B$66) -> 1006853 | G42: =LOOKUP(E42,$A$39:$A$66,$C$39:$C$66) -> 1140545
A43: =A11 -> BAHÍA DE ALGECIRAS | B43: =E11 -> 5125385 | C43: =D11 -> 4773158 | D43: =_xlfn.RANK.EQ(B43,$B$39:$B$66)+COUNTIF($B$39:$B$66,B43)-1 -> 2 | E43: =INDEX($A$39:$B$66,MATCH(ROW()-38,$D$39:$D$66,0),1) -> BILBAO | F43: =LOOKUP(E43,$A$39:$A$66,$B$39:$B$66) -> 628426 | G43: =LOOKUP(E43,$A$39:$A$66,$C$39:$C$66) -> 638447
A44: =A12 -> BAHÍA DE CÁDIZ | B44: =E12 -> 57839 | C44: =D12 -> 68544 | D44: =_xlfn.RANK.EQ(B44,$B$39:$B$66)+COUNTIF($B$39:$B$66,B44)-1 -> 17 | E44: =INDEX($A$39:$B$66,MATCH(ROW()-38,$D$39:$D$66,0),1) -> SANTA CRUZ DE TENERIFE | F44: =LOOKUP(E44,$A$39:$A$66,$B$39:$B$66) -> 410968 | G44: =LOOKUP(E44,$A$39:$A$66,$C$39:$C$66) -> 508891
A45: =A13 -> BALEARES | B45: =E13 -> 120400 | C45: =D13 -> 121437 | D45: =_xlfn.RANK.EQ(B45,$B$39:$B$66)+COUNTIF($B$39:$B$66,B45)-1 -> 12 | E45: =INDEX($A$39:$B$66,MATCH(ROW()-38,$D$39:$D$66,0),1) -> VIGO | F45: =LOOKUP(E45,$A$39:$A$66,$B$39:$B$66) -> 216500 | G45: =LOOKUP(E45,$A$39:$A$66,$C$39:$C$66) -> 220466
A46: =A14 -> BARCELONA | B46: =E14 -> 3324651 | C46: =D14 -> 3422978.4 | D46: =_xlfn.RANK.EQ(B46,$B$39:$B$66)+COUNTIF($B$39:$B$66,B46)-1 -> 3 | E46: =INDEX($A$39:$B$66,MATCH(ROW()-38,$D$39:$D$66,0),1) -> MÁLAGA | F46: =LOOKUP(E46,$A$39:$A$66,$B$39:$B$66) -> 209226 | G46: =LOOKUP(E46,$A$39:$A$66,$C$39:$C$66) -> 125035
A47: =A15 -> BILBAO | B47: =E15 -> 628426 | C47: =D15 -> 638447 | D47: =_xlfn.RANK.EQ(B47,$B$39:$B$66)+COUNTIF($B$39:$B$66,B47)-1 -> 5 | E47: =INDEX($A$39:$B$66,MATCH(ROW()-38,$D$39:$D$66,0),1) -> CASTELLÓN | F47: =LOOKUP(E47,$A$39:$A$66,$B$39:$B$66) -> 202828 | G47: =LOOKUP(E47,$A$39:$A$66,$C$39:$C$66) -> 229093
A48: =A16 -> CARTAGENA | B48: =E16 -> 67606 | C48: =D16 -> 84156 | D48: =_xlfn.RANK.EQ(B48,$B$39:$B$66)+COUNTIF($B$39:$B$66,B48)-1 -> 16 | E48: =INDEX($A$39:$B$66,MATCH(ROW()-38,$D$39:$D$66,0),1) -> ALICANTE | F48: =LOOKUP(E48,$A$39:$A$66,$B$39:$B$66) -> 171270 | G48: =LOOKUP(E48,$A$39:$A$66,$C$39:$C$66) -> 162571
A49: =A17 -> CASTELLÓN | B49: =E17 -> 202828 | C49: =D17 -> 229093 | D49: =_xlfn.RANK.EQ(B49,$B$39:$B$66)+COUNTIF($B$39:$B$66,B49)-1 -> 9 | E49: =INDEX($A$39:$B$66,MATCH(ROW()-38,$D$39:$D$66,0),1) -> SEVILLA | F49: =LOOKUP(E49,$A$39:$A$66,$B$39:$B$66) -> 136627 | G49: =LOOKUP(E49,$A$39:$A$66,$C$39:$C$66) -> 138130
A50: =A18 -> CEUTA | B50: =E18 -> 10798 | C50: =D18 -> 11129 | D50: =_xlfn.RANK.EQ(B50,$B$39:$B$66)+COUNTIF($B$39:$B$66,B50)-1 -> 23 | E50: =INDEX($A$39:$B$66,MATCH(ROW()-38,$D$39:$D$66,0),1) -> BALEARES | F50: =LOOKUP(E50,$A$39:$A$66,$B$39:$B$66) -> 120400 | G50: =LOOKUP(E50,$A$39:$A$66,$C$39:$C$66) -> 121437
... A66: =A34 -> VILAGARCÍA | B66: =E34 -> 41257 | C66: =D34 -> 35039 | D66: =_xlfn.RANK.EQ(B66,$B$39:$B$66)+COUNTIF($B$39:$B$66,B66)-1 -> 19 | E66: =INDEX($A$39:$B$66,MATCH(ROW()-38,$D$39:$D$66,0),1) -> PASAIA | F66: =LOOKUP(E66,$A$39:$A$66,$B$39:$B$66) -> 0 | G66: =LOOKUP(E66,$A$39:$A$66,$C$39:$C$66) -> 15

Sheet TEUS tránsito
F1: 10.1. CONTENEDORES EN TRÁNSITO (TEUS)
A5: Autoridad Portuaria | B5: ='Resumen general'!D6 -> Mes diciembre | D5: ='Resumen general'!F6 -> Acumulado desde enero | L5: ='Resumen general'!I4 -> Fecha: 5/10/2020
B6: ='Resumen general'!D7 -> 2018 | C6: ='Resumen general'!E7 -> 2019 | D6: ='Resumen general'!F7 -> 2018 | E6: ='Resumen general'!G7 -> 2019 | F6: Var. (%)
A7: A CORUÑA | B7: 0 | C7: 0 | D7: 0 | E7: 0 | F7: =((E7*100)/D7)-100 -> #DIV/0!
A8: ALICANTE | B8: 126 | C8: 0 | D8: 785 | E8: 525 | F8: =((E8*100)/D8)-100 -> -33.121019
A9: ALMERÍA | B9: 0 | C9: 3 | D9: 0 | E9: 85 | F9: =((E9*100)/D9)-100 -> #DIV/0!
A10: AVILÉS | B10: 0 | C10: 0 | D10: 0 | E10: 0 | F10: =((E10*100)/D10)-100 -> #DIV/0!
A11: BAHÍA DE ALGECIRAS | B11: 327309 | C11: 340989 | D11: 4195368 | E11: 4416235 | F11: =((E11*100)/D11)-100 -> 5.2645441
A12: BAHÍA DE CÁDIZ | B12: 0 | C12: 0 | D12: 518 | E12: 773 | F12: =((E12*100)/D12)-100 -> 49.227799
A13: BALEARES | B13: 0 | C13: 0 | D13: 33 | E13: 24 | F13: =((E13*100)/D13)-100 -> -27.272727
A14: BARCELONA | B14: 133517 | C14: 103891 | D14: 1443956.3 | E14: 1397541 | F14: =((E14*100)/D14)-100 -> -3.2144544
A15: BILBAO | B15: 115 | C15: 288 | D15: 1495 | E15: 1731 | F15: =((E15*100)/D15)-100 -> 15.785953
A16: CARTAGENA | B16: 1 | C16: 0 | D16: 131 | E16: 135 | F16: =((E16*100)/D16)-100 -> 3.0534351
A17: CASTELLÓN | B17: 736 | C17: 42 | D17: 7186 | E17: 7688 | F17: =((E17*100)/D17)-100 -> 6.9858057
A18: CEUTA | B18: 0 | C18: 7 | D18: 92 | E18: 19 | F18: =((E18*100)/D18)-100 -> -79.347826
... A34: VILAGARCÍA | B34: 4 | C34: 0 | D34: 34 | E34: 29 | F34: =((E34*100)/D34)-100 -> -14.705882
A35: Total | B35: =SUM(B7:B34) -> 785454 | C35: =SUM(C7:C34) -> 732334 | D35: =SUM(D7:D34) -> 9267925.3 | E35: =SUM(E7:E34) -> 9406165 | F35: =((E35*100)/D35)-100 -> 1.4915925
A36: No incluye transbordos.
B38: =E6 -> 2019 | C38: =D6 -> 2018 | F38: =B38 -> 2019 | G38: =C38 -> 2018
A39: =A7 -> A CORUÑA | B39: =E7 -> 0 | C39: =D7 -> 0 | D39: =_xlfn.RANK.EQ(B39,$B$39:$B$66)+COUNTIF($B$39:$B$66,B39)-1 -> 28 | E39: =INDEX($A$39:$B$66,MATCH(ROW()-38,$D$39:$D$66,0),1) -> BAHÍA DE ALGECIRAS | F39: =LOOKUP(E39,$A$39:$A$66,$B$39:$B$66) -> 4416235 | G39: =LOOKUP(E39,$A$39:$A$66,$C$39:$C$66) -> 4195368
A40: =A8 -> ALICANTE | B40: =E8 -> 525 | C40: =D8 -> 785 | D40: =_xlfn.RANK.EQ(B40,$B$39:$B$66)+COUNTIF($B$39:$B$66,B40)-1 -> 12 | E40: =INDEX($A$39:$B$66,MATCH(ROW()-38,$D$39:$D$66,0),1) -> VALENCIA | F40: =LOOKUP(E40,$A$39:$A$66,$B$39:$B$66) -> 2936739 | G40: =LOOKUP(E40,$A$39:$A$66,$C$39:$C$66) -> 2826222
A41: =A9 -> ALMERÍA | B41: =E9 -> 85 | C41: =D9 -> 0 | D41: =_xlfn.RANK.EQ(B41,$B$39:$B$66)+COUNTIF($B$39:$B$66,B41)-1 -> 14 | E41: =INDEX($A$39:$B$66,MATCH(ROW()-38,$D$39:$D$66,0),1) -> BARCELONA | F41: =LOOKUP(E41,$A$39:$A$66,$B$39:$B$66) -> 1397541 | G41: =LOOKUP(E41,$A$39:$A$66,$C$39:$C$66) -> 1443956.3
A42: =A10 -> AVILÉS | B42: =E10 -> 0 | C42: =D10 -> 0 | D42: =_xlfn.RANK.EQ(B42,$B$39:$B$66)+COUNTIF($B$39:$B$66,B42)-1 -> 28 | E42: =INDEX($A$39:$B$66,MATCH(ROW()-38,$D$39:$D$66,0),1) -> LAS PALMAS | F42: =LOOKUP(E42,$A$39:$A$66,$B$39:$B$66) -> 447412 | G42: =LOOKUP(E42,$A$39:$A$66,$C$39:$C$66) -> 583735
A43: =A11 -> BAHÍA DE ALGECIRAS | B43: =E11 -> 4416235 | C43: =D11 -> 4195368 | D43: =_xlfn.RANK.EQ(B43,$B$39:$B$66)+COUNTIF($B$39:$B$66,B43)-1 -> 1 | E43: =INDEX($A$39:$B$66,MATCH(ROW()-38,$D$39:$D$66,0),1) -> MÁLAGA | F43: =LOOKUP(E43,$A$39:$A$66,$B$39:$B$66) -> 170304 | G43: =LOOKUP(E43,$A$39:$A$66,$C$39:$C$66) -> 85654
A44: =A12 -> BAHÍA DE CÁDIZ | B44: =E12 -> 773 | C44: =D12 -> 518 | D44: =_xlfn.RANK.EQ(B44,$B$39:$B$66)+COUNTIF($B$39:$B$66,B44)-1 -> 11 | E44: =INDEX($A$39:$B$66,MATCH(ROW()-38,$D$39:$D$66,0),1) -> SANTA CRUZ DE TENERIFE | F44: =LOOKUP(E44,$A$39:$A$66,$B$39:$B$66) -> 12530 | G44: =LOOKUP(E44,$A$39:$A$66,$C$39:$C$66) -> 103608
A45: =A13 -> BALEARES | B45: =E13 -> 24 | C45: =D13 -> 33 | D45: =_xlfn.RANK.EQ(B45,$B$39:$B$66)+COUNTIF($B$39:$B$66,B45)-1 -> 17 | E45: =INDEX($A$39:$B$66,MATCH(ROW()-38,$D$39:$D$66,0),1) -> VIGO | F45: =LOOKUP(E45,$A$39:$A$66,$B$39:$B$66) -> 9320 | G45: =LOOKUP(E45,$A$39:$A$66,$C$39:$C$66) -> 10805
A46: =A14 -> BARCELONA | B46: =E14 -> 1397541 | C46: =D14 -> 1443956.3 | D46: =_xlfn.RANK.EQ(B46,$B$39:$B$66)+COUNTIF($B$39:$B$66,B46)-1 -> 3 | E46: =INDEX($A$39:$B$66,MATCH(ROW()-38,$D$39:$D$66,0),1) -> CASTELLÓN | F46: =LOOKUP(E46,$A$39:$A$66,$B$39:$B$66) -> 7688 | G46: =LOOKUP(E46,$A$39:$A$66,$C$39:$C$66) -> 7186
A47: =A15 -> BILBAO | B47: =E15 -> 1731 | C47: =D15 -> 1495 | D47: =_xlfn.RANK.EQ(B47,$B$39:$B$66)+COUNTIF($B$39:$B$66,B47)-1 -> 10 | E47: =INDEX($A$39:$B$66,MATCH(ROW()-38,$D$39:$D$66,0),1) -> MARÍN Y RÍA DE PONTEVEDRA | F47: =LOOKUP(E47,$A$39:$A$66,$B$39:$B$66) -> 5002 | G47: =LOOKUP(E47,$A$39:$A$66,$C$39:$C$66) -> 6952
A48: =A16 -> CARTAGENA | B48: =E16 -> 135 | C48: =D16 -> 131 | D48: =_xlfn.RANK.EQ(B48,$B$39:$B$66)+COUNTIF($B$39:$B$66,B48)-1 -> 13 | E48: =INDEX($A$39:$B$66,MATCH(ROW()-38,$D$39:$D$66,0),1) -> BILBAO | F48: =LOOKUP(E48,$A$39:$A$66,$B$39:$B$66) -> 1731 | G48: =LOOKUP(E48,$A$39:$A$66,$C$39:$C$66) -> 1495
A49: =A17 -> CASTELLÓN | B49: =E17 -> 7688 | C49: =D17 -> 7186 | D49: =_xlfn.RANK.EQ(B49,$B$39:$B$66)+COUNTIF($B$39:$B$66,B49)-1 -> 8 | E49: =INDEX($A$39:$B$66,MATCH(ROW()-38,$D$39:$D$66,0),1) -> BAHÍA DE CÁDIZ | F49: =LOOKUP(E49,$A$39:$A$66,$B$39:$B$66) -> 773 | G49: =LOOKUP(E49,$A$39:$A$66,$C$39:$C$66) -> 518
A50: =A18 -> CEUTA | B50: =E18 -> 19 | C50: =D18 -> 92 | D50: =_xlfn.RANK.EQ(B50,$B$39:$B$66)+COUNTIF($B$39:$B$66,B50)-1 -> 18 | E50: =INDEX($A$39:$B$66,MATCH(ROW()-38,$D$39:$D$66,0),1) -> ALICANTE | F50: =LOOKUP(E50,$A$39:$A$66,$B$39:$B$66) -> 525 | G50: =LOOKUP(E50,$A$39:$A$66,$C$39:$C$66) -> 785
... A66: =A34 -> VILAGARCÍA | B66: =E34 -> 29 | C66: =D34 -> 34 | D66: =_xlfn.RANK.EQ(B66,$B$39:$B$66)+COUNTIF($B$39:$B$66,B66)-1 -> 16 | E66: =INDEX($A$39:$B$66,MATCH(ROW()-38,$D$39:$D$66,0),1) -> A CORUÑA | F66: =LOOKUP(E66,$A$39:$A$66,$B$39:$B$66) -> 0 | G66: =LOOKUP(E66,$A$39:$A$66,$C$39:$C$66) -> 0

Sheet TEUS nacional
F1: 10.2. CONTENEDORES ENTRADA-SALIDA NACIONAL (TEUS)
A5: Autoridad Portuaria | B5: ='Resumen general'!D6 -> Mes diciembre | D5: ='Resumen general'!F6 -> Acumulado desde enero | L5: ='Resumen general'!I4 -> Fecha: 5/10/2020
B6: ='Resumen general'!D7 -> 2018 | C6: ='Resumen general'!E7 -> 2019 | D6: ='Resumen general'!F7 -> 2018 | E6: ='Resumen general'!G7 -> 2019 | F6: Var. (%)
A7: A CORUÑA | B7: 0 | C7: 0 | D7: 1 | E7: 0 | F7: =((E7*100)/D7)-100 -> -100
A8: ALICANTE | B8: 12225 | C8: 11153 | D8: 147907 | E8: 151246 | F8: =((E8*100)/D8)-100 -> 2.2574996
A9: ALMERÍA | B9: 309 | C9: 303 | D9: 2845 | E9: 2498 | F9: =((E9*100)/D9)-100 -> -12.196837
A10: AVILÉS | B10: 0 | C10: 0 | D10: 0 | E10: 0 | F10: =((E10*100)/D10)-100 -> #DIV/0!
A11: BAHÍA DE ALGECIRAS | B11: 23 | C11: 0 | D11: 1462 | E11: 402 | F11: =((E11*100)/D11)-100 -> -72.50342
A12: BAHÍA DE CÁDIZ | B12: 5232 | C12: 3650 | D12: 56355 | E12: 47301 | F12: =((E12*100)/D12)-100 -> -16.06601
A13: BALEARES | B13: 7492 | C13: 7081 | D13: 121169 | E13: 120301 | F13: =((E13*100)/D13)-100 -> -0.71635484
A14: BARCELONA | B14: 17254 | C14: 16231 | D14: 236648 | E14: 233140 | F14: =((E14*100)/D14)-100 -> -1.4823704
A15: BILBAO | B15: 5352 | C15: 4943 | D15: 70313 | E15: 74676 | F15: =((E15*100)/D15)-100 -> 6.2051114
A16: CARTAGENA | B16: 726 | C16: 690 | D16: 16084 | E16: 13721 | F16: =((E16*100)/D16)-100 -> -14.691619
A17: CASTELLÓN | B17: 329 | C17: 100 | D17: 8048 | E17: 3182 | F17: =((E17*100)/D17)-100 -> -60.462227
A18: CEUTA | B18: 684 | C18: 553 | D18: 8539 | E18: 8169 | F18: =((E18*100)/D18)-100 -> -4.3330601
... A34: VILAGARCÍA | B34: 2981 | C34: 3223 | D34: 33622 | E34: 39738 | F34: =((E34*100)/D34)-100 -> 18.190471
A35: Total | B35: =SUM(B7:B34) -> 160049 | C35: =SUM(C7:C34) -> 157086 | D35: =SUM(D7:D34) -> 2028712 | E35: =SUM(E7:E34) -> 2009908 | F35: =((E35*100)/D35)-100 -> -0.92689352
A36: No incluye tránsitos ni transbordos. Navegación de cabotaje.
B38: =E6 -> 2019 | C38: =D6 -> 2018 | F38: =B38 -> 2019 | G38: =C38 -> 2018
A39: =A7 -> A CORUÑA | B39: =E7 -> 0 | C39: =D7 -> 1 | D39: =_xlfn.RANK.EQ(B39,$B$39:$B$66)+COUNTIF($B$39:$B$66,B39)-1 -> 28 | E39: =INDEX($A$39:$B$66,MATCH(ROW()-38,$D$39:$D$66,0),1) -> LAS PALMAS | F39: =LOOKUP(E39,$A$39:$A$66,$B$39:$B$66) -> 475189 | G39: =LOOKUP(E39,$A$39:$A$66,$C$39:$C$66) -> 474211
A40: =A8 -> ALICANTE | B40: =E8 -> 151246 | C40: =D8 -> 147907 | D40: =_xlfn.RANK.EQ(B40,$B$39:$B$66)+COUNTIF($B$39:$B$66,B40)-1 -> 5 | E40: =INDEX($A$39:$B$66,MATCH(ROW()-38,$D$39:$D$66,0),1) -> SANTA CRUZ DE TENERIFE | F40: =LOOKUP(E40,$A$39:$A$66,$B$39:$B$66) -> 358432 | G40: =LOOKUP(E40,$A$39:$A$66,$C$39:$C$66) -> 358250
A41: =A9 -> ALMERÍA | B41: =E9 -> 2498 | C41: =D9 -> 2845 | D41: =_xlfn.RANK.EQ(B41,$B$39:$B$66)+COUNTIF($B$39:$B$66,B41)-1 -> 21 | E41: =INDEX($A$39:$B$66,MATCH(ROW()-38,$D$39:$D$66,0),1) -> BARCELONA | F41: =LOOKUP(E41,$A$39:$A$66,$B$39:$B$66) -> 233140 | G41: =LOOKUP(E41,$A$39:$A$66,$C$39:$C$66) -> 236648
A42: =A10 -> AVILÉS | B42: =E10 -> 0 | C42: =D10 -> 0 | D42: =_xlfn.RANK.EQ(B42,$B$39:$B$66)+COUNTIF($B$39:$B$66,B42)-1 -> 28 | E42: =INDEX($A$39:$B$66,MATCH(ROW()-38,$D$39:$D$66,0),1) -> VALENCIA | F42: =LOOKUP(E42,$A$39:$A$66,$B$39:$B$66) -> 212958 | G42: =LOOKUP(E42,$A$39:$A$66,$C$39:$C$66) -> 222075
A43: =A11 -> BAHÍA DE ALGECIRAS | B43: =E11 -> 402 | C43: =D11 -> 1462 | D43: =_xlfn.RANK.EQ(B43,$B$39:$B$66)+COUNTIF($B$39:$B$66,B43)-1 -> 22 | E43: =INDEX($A$39:$B$66,MATCH(ROW()-38,$D$39:$D$66,0),1) -> ALICANTE | F43: =LOOKUP(E43,$A$39:$A$66,$B$39:$B$66) -> 151246 | G43: =LOOKUP(E43,$A$39:$A$66,$C$39:$C$66) -> 147907
A44: =A12 -> BAHÍA DE CÁDIZ | B44: =E12 -> 47301 | C44: =D12 -> 56355 | D44: =_xlfn.RANK.EQ(B44,$B$39:$B$66)+COUNTIF($B$39:$B$66,B44)-1 -> 10 | E44: =INDEX($A$39:$B$66,MATCH(ROW()-38,$D$39:$D$66,0),1) -> SEVILLA | F44: =LOOKUP(E44,$A$39:$A$66,$B$39:$B$66) -> 132789 | G44: =LOOKUP(E44,$A$39:$A$66,$C$39:$C$66) -> 132113
A45: =A13 -> BALEARES | B45: =E13 -> 120301 | C45: =D13 -> 121169 | D45: =_xlfn.RANK.EQ(B45,$B$39:$B$66)+COUNTIF($B$39:$B$66,B45)-1 -> 7 | E45: =INDEX($A$39:$B$66,MATCH(ROW()-38,$D$39:$D$66,0),1) -> BALEARES | F45: =LOOKUP(E45,$A$39:$A$66,$B$39:$B$66) -> 120301 | G45: =LOOKUP(E45,$A$39:$A$66,$C$39:$C$66) -> 121169
A46: =A14 -> BARCELONA | B46: =E14 -> 233140 | C46: =D14 -> 236648 | D46: =_xlfn.RANK.EQ(B46,$B$39:$B$66)+COUNTIF($B$39:$B$66,B46)-1 -> 3 | E46: =INDEX($A$39:$B$66,MATCH(ROW()-38,$D$39:$D$66,0),1) -> BILBAO | F46: =LOOKUP(E46,$A$39:$A$66,$B$39:$B$66) -> 74676 | G46: =LOOKUP(E46,$A$39:$A$66,$C$39:$C$66) -> 70313
A47: =A15 -> BILBAO | B47: =E15 -> 74676 | C47: =D15 -> 70313 | D47: =_xlfn.RANK.EQ(B47,$B$39:$B$66)+COUNTIF($B$39:$B$66,B47)-1 -> 8 | E47: =INDEX($A$39:$B$66,MATCH(ROW()-38,$D$39:$D$66,0),1) -> HUELVA | F47: =LOOKUP(E47,$A$39:$A$66,$B$39:$B$66) -> 59313 | G47: =LOOKUP(E47,$A$39:$A$66,$C$39:$C$66) -> 50454
A48: =A16 -> CARTAGENA | B48: =E16 -> 13721 | C48: =D16 -> 16084 | D48: =_xlfn.RANK.EQ(B48,$B$39:$B$66)+COUNTIF($B$39:$B$66,B48)-1 -> 15 | E48: =INDEX($A$39:$B$66,MATCH(ROW()-38,$D$39:$D$66,0),1) -> BAHÍA DE CÁDIZ | F48: =LOOKUP(E48,$A$39:$A$66,$B$39:$B$66) -> 47301 | G48: =LOOKUP(E48,$A$39:$A$66,$C$39:$C$66) -> 56355
A49: =A17 -> CASTELLÓN | B49: =E17 -> 3182 | C49: =D17 -> 8048 | D49: =_xlfn.RANK.EQ(B49,$B$39:$B$66)+COUNTIF($B$39:$B$66,B49)-1 -> 20 | E49: =INDEX($A$39:$B$66,MATCH(ROW()-38,$D$39:$D$66,0),1) -> VILAGARCÍA | F49: =LOOKUP(E49,$A$39:$A$66,$B$39:$B$66) -> 39738 | G49: =LOOKUP(E49,$A$39:$A$66,$C$39:$C$66) -> 33622
A50: =A18 -> CEUTA | B50: =E18 -> 8169 | C50: =D18 -> 8539 | D50: =_xlfn.RANK.EQ(B50,$B$39:$B$66)+COUNTIF($B$39:$B$66,B50)-1 -> 18 | E50: =INDEX($A$39:$B$66,MATCH(ROW()-38,$D$39:$D$66,0),1) -> GIJÓN | F50: =LOOKUP(E50,$A$39:$A$66,$B$39:$B$66) -> 19749 | G50: =LOOKUP(E50,$A$39:$A$66,$C$39:$C$66) -> 21077
... A66: =A34 -> VILAGARCÍA | B66: =E34 -> 39738 | C66: =D34 -> 33622 | D66: =_xlfn.RANK.EQ(B66,$B$39:$B$66)+COUNTIF($B$39:$B$66,B66)-1 -> 11 | E66: =INDEX($A$39:$B$66,MATCH(ROW()-38,$D$39:$D$66,0),1) -> A CORUÑA | F66: =LOOKUP(E66,$A$39:$A$66,$B$39:$B$66) -> 0 | G66: =LOOKUP(E66,$A$39:$A$66,$C$39:$C$66) -> 1

Sheet TEUS exterior
F1: 10.3. CONTENEDORES IMPORTACIÓN-EXPORTACIÓN EXTERIOR (TEUS)
A5: Autoridad Portuaria | B5: ='Resumen general'!D6 -> Mes diciembre | D5: ='Resumen general'!F6 -> Acumulado desde enero | L5: ='Resumen general'!I4 -> Fecha: 5/10/2020
B6: ='Resumen general'!D7 -> 2018 | C6: ='Resumen general'!E7 -> 2019 | D6: ='Resumen general'!F7 -> 2018 | E6: ='Resumen general'!G7 -> 2019 | F6: Var. (%)
A7: A CORUÑA | B7: 17 | C7: 0 | D7: 26 | E7: 6 | F7: =((E7*100)/D7)-100 -> -76.923077
A8: ALICANTE | B8: 1048 | C8: 2167 | D8: 13879 | E8: 19493 | F8: =((E8*100)/D8)-100 -> 40.4496
A9: ALMERÍA | B9: 799 | C9: 1840 | D9: 6516 | E9: 20893 | F9: =((E9*100)/D9)-100 -> 220.6415
A10: AVILÉS | B10: 0 | C10: 0 | D10: 5 | E10: 4 | F10: =((E10*100)/D10)-100 -> -20
A11: BAHÍA DE ALGECIRAS | B11: 50286 | C11: 52908 | D11: 576352 | E11: 708750 | F11: =((E11*100)/D11)-100 -> 22.971726
A12: BAHÍA DE CÁDIZ | B12: 480 | C12: 599 | D12: 11673 | E12: 9765 | F12: =((E12*100)/D12)-100 -> -16.345412
A13: BALEARES | B13: 2 | C13: 1 | D13: 51 | E13: 75 | F13: =((E13*100)/D13)-100 -> 47.058824
A14: BARCELONA | B14: 143181 | C14: 124185 | D14: 1735258.5 | E14: 1693867 | F14: =((E14*100)/D14)-100 -> -2.385323
A15: BILBAO | B15: 42985 | C15: 41930 | D15: 566640.25 | E15: 552019 | F15: =((E15*100)/D15)-100 -> -2.5803409
A16: CARTAGENA | B16: 4003 | C16: 4283 | D16: 67928 | E16: 53750 | F16: =((E16*100)/D16)-100 -> -20.8721
A17: CASTELLÓN | B17: 13338 | C17: 13626 | D17: 213859 | E17: 191958 | F17: =((E17*100)/D17)-100 -> -10.24086
A18: CEUTA | B18: 240 | C18: 85 | D18: 2427 | E18: 2609 | F18: =((E18*100)/D18)-100 -> 7.4989699
... A34: VILAGARCÍA | B34: 148 | C34: 115 | D34: 1383 | E34: 1490 | F34: =((E34*100)/D34)-100 -> 7.736804
A35: Total | B35: =SUM(B7:B34) -> 476508 | C35: 452956 | D35: =SUM(D7:D34) -> 5900137.7 | E35: =SUM(E7:E34) -> 6057927 | F35: =((E35*100)/D35)-100 -> 2.674333
A36: No incluye tránsitos ni transbordos. Navegación de exterior.
B38: =E6 -> 2019 | C38: =D6 -> 2018 | F38: =B38 -> 2019 | G38: =C38 -> 2018
A39: =A7 -> A CORUÑA | B39: =E7 -> 6 | C39: =D7 -> 26 | D39: =_xlfn.RANK.EQ(B39,$B$39:$B$66)+COUNTIF($B$39:$B$66,B39)-1 -> 26 | E39: =INDEX($A$39:$B$66,MATCH(ROW()-38,$D$39:$D$66,0),1) -> VALENCIA | F39: =LOOKUP(E39,$A$39:$A$66,$B$39:$B$66) -> 2290130 | G39: =LOOKUP(E39,$A$39:$A$66,$C$39:$C$66) -> 2134368
A40: =A8 -> ALICANTE | B40: =E8 -> 19493 | C40: =D8 -> 13879 | D40: =_xlfn.RANK.EQ(B40,$B$39:$B$66)+COUNTIF($B$39:$B$66,B40)-1 -> 15 | E40: =INDEX($A$39:$B$66,MATCH(ROW()-38,$D$39:$D$66,0),1) -> BARCELONA | F40: =LOOKUP(E40,$A$39:$A$66,$B$39:$B$66) -> 1693867 | G40: =LOOKUP(E40,$A$39:$A$66,$C$39:$C$66) -> 1735258.5
A41: =A9 -> ALMERÍA | B41: =E9 -> 20893 | C41: =D9 -> 6516 | D41: =_xlfn.RANK.EQ(B41,$B$39:$B$66)+COUNTIF($B$39:$B$66,B41)-1 -> 14 | E41: =INDEX($A$39:$B$66,MATCH(ROW()-38,$D$39:$D$66,0),1) -> BAHÍA DE ALGECIRAS | F41: =LOOKUP(E41,$A$39:$A$66,$B$39:$B$66) -> 708750 | G41: =LOOKUP(E41,$A$39:$A$66,$C$39:$C$66) -> 576352
A42: =A10 -> AVILÉS | B42: =E10 -> 4 | C42: =D10 -> 5 | D42: =_xlfn.RANK.EQ(B42,$B$39:$B$66)+COUNTIF($B$39:$B$66,B42)-1 -> 27 | E42: =INDEX($A$39:$B$66,MATCH(ROW()-38,$D$39:$D$66,0),1) -> BILBAO | F42: =LOOKUP(E42,$A$39:$A$66,$B$39:$B$66) -> 552019 | G42: =LOOKUP(E42,$A$39:$A$66,$C$39:$C$66) -> 566640.25
A43: =A11 -> BAHÍA DE ALGECIRAS | B43: =E11 -> 708750 | C43: =D11 -> 576352 | D43: =_xlfn.RANK.EQ(B43,$B$39:$B$66)+COUNTIF($B$39:$B$66,B43)-1 -> 3 | E43: =INDEX($A$39:$B$66,MATCH(ROW()-38,$D$39:$D$66,0),1) -> CASTELLÓN | F43: =LOOKUP(E43,$A$39:$A$66,$B$39:$B$66) -> 191958 | G43: =LOOKUP(E43,$A$39:$A$66,$C$39:$C$66) -> 213859
A44: =A12 -> BAHÍA DE CÁDIZ | B44: =E12 -> 9765 | C44: =D12 -> 11673 | D44: =_xlfn.RANK.EQ(B44,$B$39:$B$66)+COUNTIF($B$39:$B$66,B44)-1 -> 18 | E44: =INDEX($A$39:$B$66,MATCH(ROW()-38,$D$39:$D$66,0),1) -> VIGO | F44: =LOOKUP(E44,$A$39:$A$66,$B$39:$B$66) -> 157367 | G44: =LOOKUP(E44,$A$39:$A$66,$C$39:$C$66) -> 189566
A45: =A13 -> BALEARES | B45: =E13 -> 75 | C45: =D13 -> 51 | D45: =_xlfn.RANK.EQ(B45,$B$39:$B$66)+COUNTIF($B$39:$B$66,B45)-1 -> 25 | E45: =INDEX($A$39:$B$66,MATCH(ROW()-38,$D$39:$D$66,0),1) -> LAS PALMAS | F45: =LOOKUP(E45,$A$39:$A$66,$B$39:$B$66) -> 84252 | G45: =LOOKUP(E45,$A$39:$A$66,$C$39:$C$66) -> 83611
A46: =A14 -> BARCELONA | B46: =E14 -> 1693867 | C46: =D14 -> 1735258.5 | D46: =_xlfn.RANK.EQ(B46,$B$39:$B$66)+COUNTIF($B$39:$B$66,B46)-1 -> 2 | E46: =INDEX($A$39:$B$66,MATCH(ROW()-38,$D$39:$D$66,0),1) -> MARÍN Y RÍA DE PONTEVEDRA | F46: =LOOKUP(E46,$A$39:$A$66,$B$39:$B$66) -> 65849 | G46: =LOOKUP(E46,$A$39:$A$66,$C$39:$C$66) -> 74378
A47: =A15 -> BILBAO | B47: =E15 -> 552019 | C47: =D15 -> 566640.25 | D47: =_xlfn.RANK.EQ(B47,$B$39:$B$66)+COUNTIF($B$39:$B$66,B47)-1 -> 4 | E47: =INDEX($A$39:$B$66,MATCH(ROW()-38,$D$39:$D$66,0),1) -> GIJÓN | F47: =LOOKUP(E47,$A$39:$A$66,$B$39:$B$66) -> 55938 | G47: =LOOKUP(E47,$A$39:$A$66,$C$39:$C$66) -> 58275
A48: =A16 -> CARTAGENA | B48: =E16 -> 53750 | C48: =D16 -> 67928 | D48: =_xlfn.RANK.EQ(B48,$B$39:$B$66)+COUNTIF($B$39:$B$66,B48)-1 -> 10 | E48: =INDEX($A$39:$B$66,MATCH(ROW()-38,$D$39:$D$66,0),1) -> CARTAGENA | F48: =LOOKUP(E48,$A$39:$A$66,$B$39:$B$66) -> 53750 | G48: =LOOKUP(E48,$A$39:$A$66,$C$39:$C$66) -> 67928
A49: =A17 -> CASTELLÓN | B49: =E17 -> 191958 | C49: =D17 -> 213859 | D49: =_xlfn.RANK.EQ(B49,$B$39:$B$66)+COUNTIF($B$39:$B$66,B49)-1 -> 5 | E49: =INDEX($A$39:$B$66,MATCH(ROW()-38,$D$39:$D$66,0),1) -> SANTA CRUZ DE TENERIFE | F49: =LOOKUP(E49,$A$39:$A$66,$B$39:$B$66) -> 40006 | G49: =LOOKUP(E49,$A$39:$A$66,$C$39:$C$66) -> 47011
A50: =A18 -> CEUTA | B50: =E18 -> 2609 | C50: =D18 -> 2427 | D50: =_xlfn.RANK.EQ(B50,$B$39:$B$66)+COUNTIF($B$39:$B$66,B50)-1 -> 22 | E50: =INDEX($A$39:$B$66,MATCH(ROW()-38,$D$39:$D$66,0),1) -> TARRAGONA | F50: =LOOKUP(E50,$A$39:$A$66,$B$39:$B$66) -> 39384 | G50: =LOOKUP(E50,$A$39:$A$66,$C$39:$C$66) -> 48548
... A66: =A34 -> VILAGARCÍA | B66: =E34 -> 1490 | C66: =D34 -> 1383 | D66: =_xlfn.RANK.EQ(B66,$B$39:$B$66)+COUNTIF($B$39:$B$66,B66)-1 -> 23 | E66: =INDEX($A$39:$B$66,MATCH(ROW()-38,$D$39:$D$66,0),1) -> PASAIA | F66: =LOOKUP(E66,$A$39:$A$66,$B$39:$B$66) -> 0 | G66: =LOOKUP(E66,$A$39:$A$66,$C$39:$C$66) -> 15

Sheet TEUS nacional y exterior
F1: 10.4. CONTENEDORES NACIONAL Y EXTERIOR (TEUS)
A5: Autoridad Portuaria | B5: ='Resumen general'!D6 -> Mes diciembre | D5: ='Resumen general'!F6 -> Acumulado desde enero | L5: ='Resumen general'!I4 -> Fecha: 5/10/2020
B6: ='Resumen general'!D7 -> 2018 | C6: ='Resumen general'!E7 -> 2019 | D6: ='Resumen general'!F7 -> 2018 | E6: ='Resumen general'!G7 -> 2019 | F6: Var. (%)
A7: A CORUÑA | B7: 17 | C7: 0 | D7: 27 | E7: 6 | F7: =((E7*100)/D7)-100 -> -77.777778
A8: ALICANTE | B8: 13273 | C8: 13320 | D8: 161786 | E8: 170739 | F8: =((E8*100)/D8)-100 -> 5.5338534
A9: ALMERÍA | B9: 1108 | C9: 2143 | D9: 9360.75 | E9: 23391 | F9: =((E9*100)/D9)-100 -> 149.88382
A10: AVILÉS | B10: 0 | C10: 0 | D10: 5 | E10: 4 | F10: =((E10*100)/D10)-100 -> -20
A11: BAHÍA DE ALGECIRAS | B11: 50309 | C11: 52908 | D11: 577814 | E11: 709152 | F11: =((E11*100)/D11)-100 -> 22.730152
A12: BAHÍA DE CÁDIZ | B12: 5712 | C12: 4249 | D12: 68028 | E12: 57066 | F12: =((E12*100)/D12)-100 -> -16.113953
A13: BALEARES | B13: 7494 | C13: 7082 | D13: 121220 | E13: 120376 | F13: =((E13*100)/D13)-100 -> -0.69625474
A14: BARCELONA | B14: 160435 | C14: 140415 | D14: 1971906 | E14: 1927007 | F14: =((E14*100)/D14)-100 -> -2.2769351
A15: BILBAO | B15: 48337 | C15: 46873 | D15: 636952.75 | E15: 626695 | F15: =((E15*100)/D15)-100 -> -1.6104413
A16: CARTAGENA | B16: 4729 | C16: 4973 | D16: 84012 | E16: 67471 | F16: =((E16*100)/D16)-100 -> -19.688854
A17: CASTELLÓN | B17: 13667 | C17: 13726 | D17: 221907 | E17: 195140 | F17: =((E17*100)/D17)-100 -> -12.06226
A18: CEUTA | B18: 924 | C18: 638 | D18: 10966 | E18: 10778 | F18: =((E18*100)/D18)-100 -> -1.7143899
... A34: VILAGARCÍA | B34: 3129 | C34: 3338 | D34: 35005 | E34: 41228 | F34: =((E34*100)/D34)-100 -> 17.77746
A35: Total | B35: =SUM(B7:B34) -> 636558 | C35: 610041 | D35: =SUM(D7:D34) -> 7928850.9 | E35: =SUM(E7:E34) -> 8067835 | F35: =((E35*100)/D35)-100 -> 1.7528906
A36: No incluye tránsitos ni transbordos. Navegación de cabotaje y exterior.
B38: =E6 -> 2019 | C38: =D6 -> 2018 | F38: =B38 -> 2019 | G38: =C38 -> 2018
A39: =A7 -> A CORUÑA | B39: =E7 -> 6 | C39: =D7 -> 27 | D39: =_xlfn.RANK.EQ(B39,$B$39:$B$66)+COUNTIF($B$39:$B$66,B39)-1 -> 26 | E39: =INDEX($A$39:$B$66,MATCH(ROW()-38,$D$39:$D$66,0),1) -> VALENCIA | F39: =LOOKUP(E39,$A$39:$A$66,$B$39:$B$66) -> 2503088 | G39: =LOOKUP(E39,$A$39:$A$66,$C$39:$C$66) -> 2356443
A40: =A8 -> ALICANTE | B40: =E8 -> 170739 | C40: =D8 -> 161786 | D40: =_xlfn.RANK.EQ(B40,$B$39:$B$66)+COUNTIF($B$39:$B$66,B40)-1 -> 9 | E40: =INDEX($A$39:$B$66,MATCH(ROW()-38,$D$39:$D$66,0),1) -> BARCELONA | F40: =LOOKUP(E40,$A$39:$A$66,$B$39:$B$66) -> 1927007 | G40: =LOOKUP(E40,$A$39:$A$66,$C$39:$C$66) -> 1971906
A41: =A9 -> ALMERÍA | B41: =E9 -> 23391 | C41: =D9 -> 9360.75 | D41: =_xlfn.RANK.EQ(B41,$B$39:$B$66)+COUNTIF($B$39:$B$66,B41)-1 -> 20 | E41: =INDEX($A$39:$B$66,MATCH(ROW()-38,$D$39:$D$66,0),1) -> BAHÍA DE ALGECIRAS | F41: =LOOKUP(E41,$A$39:$A$66,$B$39:$B$66) -> 709152 | G41: =LOOKUP(E41,$A$39:$A$66,$C$39:$C$66) -> 577814
A42: =A10 -> AVILÉS | B42: =E10 -> 4 | C42: =D10 -> 5 | D42: =_xlfn.RANK.EQ(B42,$B$39:$B$66)+COUNTIF($B$39:$B$66,B42)-1 -> 27 | E42: =INDEX($A$39:$B$66,MATCH(ROW()-38,$D$39:$D$66,0),1) -> BILBAO | F42: =LOOKUP(E42,$A$39:$A$66,$B$39:$B$66) -> 626695 | G42: =LOOKUP(E42,$A$39:$A$66,$C$39:$C$66) -> 636952.75
A43: =A11 -> BAHÍA DE ALGECIRAS | B43: =E11 -> 709152 | C43: =D11 -> 577814 | D43: =_xlfn.RANK.EQ(B43,$B$39:$B$66)+COUNTIF($B$39:$B$66,B43)-1 -> 3 | E43: =INDEX($A$39:$B$66,MATCH(ROW()-38,$D$39:$D$66,0),1) -> LAS PALMAS | F43: =LOOKUP(E43,$A$39:$A$66,$B$39:$B$66) -> 559441 | G43: =LOOKUP(E43,$A$39:$A$66,$C$39:$C$66) -> 557822
A44: =A12 -> BAHÍA DE CÁDIZ | B44: =E12 -> 57066 | C44: =D12 -> 68028 | D44: =_xlfn.RANK.EQ(B44,$B$39:$B$66)+COUNTIF($B$39:$B$66,B44)-1 -> 16 | E44: =INDEX($A$39:$B$66,MATCH(ROW()-38,$D$39:$D$66,0),1) -> SANTA CRUZ DE TENERIFE | F44: =LOOKUP(E44,$A$39:$A$66,$B$39:$B$66) -> 398438 | G44: =LOOKUP(E44,$A$39:$A$66,$C$39:$C$66) -> 405261
A45: =A13 -> BALEARES | B45: =E13 -> 120376 | C45: =D13 -> 121220 | D45: =_xlfn.RANK.EQ(B45,$B$39:$B$66)+COUNTIF($B$39:$B$66,B45)-1 -> 11 | E45: =INDEX($A$39:$B$66,MATCH(ROW()-38,$D$39:$D$66,0),1) -> CASTELLÓN | F45: =LOOKUP(E45,$A$39:$A$66,$B$39:$B$66) -> 195140 | G45: =LOOKUP(E45,$A$39:$A$66,$C$39:$C$66) -> 221907
A46: =A14 -> BARCELONA | B46: =E14 -> 1927007 | C46: =D14 -> 1971906 | D46: =_xlfn.RANK.EQ(B46,$B$39:$B$66)+COUNTIF($B$39:$B$66,B46)-1 -> 2 | E46: =INDEX($A$39:$B$66,MATCH(ROW()-38,$D$39:$D$66,0),1) -> VIGO | F46: =LOOKUP(E46,$A$39:$A$66,$B$39:$B$66) -> 171917 | G46: =LOOKUP(E46,$A$39:$A$66,$C$39:$C$66) -> 209689
A47: =A15 -> BILBAO | B47: =E15 -> 626695 | C47: =D15 -> 636952.75 | D47: =_xlfn.RANK.EQ(B47,$B$39:$B$66)+COUNTIF($B$39:$B$66,B47)-1 -> 4 | E47: =INDEX($A$39:$B$66,MATCH(ROW()-38,$D$39:$D$66,0),1) -> ALICANTE | F47: =LOOKUP(E47,$A$39:$A$66,$B$39:$B$66) -> 170739 | G47: =LOOKUP(E47,$A$39:$A$66,$C$39:$C$66) -> 161786
A48: =A16 -> CARTAGENA | B48: =E16 -> 67471 | C48: =D16 -> 84012 | D48: =_xlfn.RANK.EQ(B48,$B$39:$B$66)+COUNTIF($B$39:$B$66,B48)-1 -> 15 | E48: =INDEX($A$39:$B$66,MATCH(ROW()-38,$D$39:$D$66,0),1) -> SEVILLA | F48: =LOOKUP(E48,$A$39:$A$66,$B$39:$B$66) -> 136627 | G48: =LOOKUP(E48,$A$39:$A$66,$C$39:$C$66) -> 138130
A49: =A17 -> CASTELLÓN | B49: =E17 -> 195140 | C49: =D17 -> 221907 | D49: =_xlfn.RANK.EQ(B49,$B$39:$B$66)+COUNTIF($B$39:$B$66,B49)-1 -> 7 | E49: =INDEX($A$39:$B$66,MATCH(ROW()-38,$D$39:$D$66,0),1) -> BALEARES | F49: =LOOKUP(E49,$A$39:$A$66,$B$39:$B$66) -> 120376 | G49: =LOOKUP(E49,$A$39:$A$66,$C$39:$C$66) -> 121220
A50: =A18 -> CEUTA | B50: =E18 -> 10778 | C50: =D18 -> 10966 | D50: =_xlfn.RANK.EQ(B50,$B$39:$B$66)+COUNTIF($B$39:$B$66,B50)-1 -> 23 | E50: =INDEX($A$39:$B$66,MATCH(ROW()-38,$D$39:$D$66,0),1) -> GIJÓN | F50: =LOOKUP(E50,$A$39:$A$66,$B$39:$B$66) -> 75687 | G50: =LOOKUP(E50,$A$39:$A$66,$C$39:$C$66) -> 79352
... A66: =A34 -> VILAGARCÍA | B66: =E34 -> 41228 | C66: =D34 -> 35005 | D66: =_xlfn.RANK.EQ(B66,$B$39:$B$66)+COUNTIF($B$39:$B$66,B66)-1 -> 18 | E66: =INDEX($A$39:$B$66,MATCH(ROW()-38,$D$39:$D$66,0),1) -> PASAIA | F66: =LOOKUP(E66,$A$39:$A$66,$B$39:$B$66) -> 0 | G66: =LOOKUP(E66,$A$39:$A$66,$C$39:$C$66) -> 15

Sheet Pasajeros total
F1: 11. PASAJEROS EN RÉGIMEN DE TRANSPORTE Y DE CRUCERO
I2: (número)
A5: Autoridad Portuaria | B5: ='Resumen general'!D6 -> Mes diciembre | D5: ='Resumen general'!F6 -> Acumulado desde enero | L5: ='Resumen general'!I4 -> Fecha: 5/10/2020
B6: ='Resumen general'!D7 -> 2018 | C6: ='Resumen general'!E7 -> 2019 | D6: ='Resumen general'!F7 -> 2018 | E6: ='Resumen general'!G7 -> 2019 | F6: Var. (%)
A7: A CORUÑA | B7: 3002 | C7: 0 | D7: 178965 | E7: 160256 | F7: =((E7*100)/D7)-100 -> -10.453999
A8: ALICANTE | B8: 12171 | C8: 6859 | D8: 227297 | E8: 206457 | F8: =((E8*100)/D8)-100 -> -9.1686208
A9: ALMERÍA | B9: 52165 | C9: 51747 | D9: 963907 | E9: 958384 | F9: =((E9*100)/D9)-100 -> -0.57298059
A10: AVILÉS | B10: 0 | C10: 0 | D10: 1986 | E10: 4544 | F10: =((E10*100)/D10)-100 -> 128.80161
A11: BAHÍA DE ALGECIRAS | B11: 376264 | C11: 385428 | D11: 5952840 | E11: 6102657 | F11: =((E11*100)/D11)-100 -> 2.5167315
A12: BAHÍA DE CÁDIZ | B12: 26648 | C12: 26697 | D12: 447545 | E12: 499710 | F12: =((E12*100)/D12)-100 -> 11.655811
A13: BALEARES | B13: 308609 | C13: 300830 | D13: 8942434 | E13: 9524740 | F13: =((E13*100)/D13)-100 -> 6.5117171
A14: BARCELONA | B14: 173576 | C14: 147128 | D14: 4493646 | E14: 4628562 | F14: =((E14*100)/D14)-100 -> 3.0023727
A15: BILBAO | B15: 4655 | C15: 5085 | D15: 200631 | E15: 160544 | F15: =((E15*100)/D15)-100 -> -19.980462
A16: CARTAGENA | B16: 11664 | C16: 9283 | D16: 229313 | E16: 250058 | F16: =((E16*100)/D16)-100 -> 9.046587
A17: CASTELLÓN | B17: 0 | C17: 0 | D17: 568 | E17: 5462 | F17: =((E17*100)/D17)-100 -> 861.61972
A18: CEUTA | B18: 159909 | C18: 165366 | D18: 2012467 | E18: 2110304 | F18: =((E18*100)/D18)-100 -> 4.8615456
... A34: VILAGARCÍA | B34: 0 | C34: 0 | D34: 1158 | E34: 890 | F34: =((E34*100)/D34)-100 -> -23.143351
A35: Total | B35: =SUM(B7:B34) -> 2229352 | C35: =SUM(C7:C34) -> 2305879 | D35: =SUM(D7:D34) -> 36100685 | E35: =SUM(E7:E34) -> 37607449 | F35: =((E35*100)/D35)-100 -> 4.1737823
A36: Incluye embarques, desembarques y en tránsito.
B38: =E6 -> 2019 | C38: =D6 -> 2018 | F38: =B38 -> 2019 | G38: =C38 -> 2018
A39: =A7 -> A CORUÑA | B39: =E7 -> 160256 | C39: =D7 -> 178965 | D39: =_xlfn.RANK.EQ(B39,$B$39:$B$66)+COUNTIF($B$39:$B$66,B39)-1 -> 17 | E39: =INDEX($A$39:$B$66,MATCH(ROW()-38,$D$39:$D$66,0),1) -> BALEARES | F39: =LOOKUP(E39,$A$39:$A$66,$B$39:$B$66) -> 9524740 | G39: =LOOKUP(E39,$A$39:$A$66,$C$39:$C$66) -> 8942434
A40: =A8 -> ALICANTE | B40: =E8 -> 206457 | C40: =D8 -> 227297 | D40: =_xlfn.RANK.EQ(B40,$B$39:$B$66)+COUNTIF($B$39:$B$66,B40)-1 -> 15 | E40: =INDEX($A$39:$B$66,MATCH(ROW()-38,$D$39:$D$66,0),1) -> SANTA CRUZ DE TENERIFE | F40: =LOOKUP(E40,$A$39:$A$66,$B$39:$B$66) -> 6305604 | G40: =LOOKUP(E40,$A$39:$A$66,$C$39:$C$66) -> 6084062
A41: =A9 -> ALMERÍA | B41: =E9 -> 958384 | C41: =D9 -> 963907 | D41: =_xlfn.RANK.EQ(B41,$B$39:$B$66)+COUNTIF($B$39:$B$66,B41)-1 -> 8 | E41: =INDEX($A$39:$B$66,MATCH(ROW()-38,$D$39:$D$66,0),1) -> BAHÍA DE ALGECIRAS | F41: =LOOKUP(E41,$A$39:$A$66,$B$39:$B$66) -> 6102657 | G41: =LOOKUP(E41,$A$39:$A$66,$C$39:$C$66) -> 5952840
A42: =A10 -> AVILÉS | B42: =E10 -> 4544 | C42: =D10 -> 1986 | D42: =_xlfn.RANK.EQ(B42,$B$39:$B$66)+COUNTIF($B$39:$B$66,B42)-1 -> 25 | E42: =INDEX($A$39:$B$66,MATCH(ROW()-38,$D$39:$D$66,0),1) -> BARCELONA | F42: =LOOKUP(E42,$A$39:$A$66,$B$39:$B$66) -> 4628562 | G42: =LOOKUP(E42,$A$39:$A$66,$C$39:$C$66) -> 4493646
A43: =A11 -> BAHÍA DE ALGECIRAS | B43: =E11 -> 6102657 | C43: =D11 -> 5952840 | D43: =_xlfn.RANK.EQ(B43,$B$39:$B$66)+COUNTIF($B$39:$B$66,B43)-1 -> 3 | E43: =INDEX($A$39:$B$66,MATCH(ROW()-38,$D$39:$D$66,0),1) -> LAS PALMAS | F43: =LOOKUP(E43,$A$39:$A$66,$B$39:$B$66) -> 3001046 | G43: =LOOKUP(E43,$A$39:$A$66,$C$39:$C$66) -> 2704456
A44: =A12 -> BAHÍA DE CÁDIZ | B44: =E12 -> 499710 | C44: =D12 -> 447545 | D44: =_xlfn.RANK.EQ(B44,$B$39:$B$66)+COUNTIF($B$39:$B$66,B44)-1 -> 11 | E44: =INDEX($A$39:$B$66,MATCH(ROW()-38,$D$39:$D$66,0),1) -> CEUTA | F44: =LOOKUP(E44,$A$39:$A$66,$B$39:$B$66) -> 2110304 | G44: =LOOKUP(E44,$A$39:$A$66,$C$39:$C$66) -> 2012467
A45: =A13 -> BALEARES | B45: =E13 -> 9524740 | C45: =D13 -> 8942434 | D45: =_xlfn.RANK.EQ(B45,$B$39:$B$66)+COUNTIF($B$39:$B$66,B45)-1 -> 1 | E45: =INDEX($A$39:$B$66,MATCH(ROW()-38,$D$39:$D$66,0),1) -> VALENCIA | F45: =LOOKUP(E45,$A$39:$A$66,$B$39:$B$66) -> 1112727 | G45: =LOOKUP(E45,$A$39:$A$66,$C$39:$C$66) -> 1071963
A46: =A14 -> BARCELONA | B46: =E14 -> 4628562 | C46: =D14 -> 4493646 | D46: =_xlfn.RANK.EQ(B46,$B$39:$B$66)+COUNTIF($B$39:$B$66,B46)-1 -> 4 | E46: =INDEX($A$39:$B$66,MATCH(ROW()-38,$D$39:$D$66,0),1) -> ALMERÍA | F46: =LOOKUP(E46,$A$39:$A$66,$B$39:$B$66) -> 958384 | G46: =LOOKUP(E46,$A$39:$A$66,$C$39:$C$66) -> 963907
A47: =A15 -> BILBAO | B47: =E15 -> 160544 | C47: =D15 -> 200631 | D47: =_xlfn.RANK.EQ(B47,$B$39:$B$66)+COUNTIF($B$39:$B$66,B47)-1 -> 16 | E47: =INDEX($A$39:$B$66,MATCH(ROW()-38,$D$39:$D$66,0),1) -> MÁLAGA | F47: =LOOKUP(E47,$A$39:$A$66,$B$39:$B$66) -> 889024 | G47: =LOOKUP(E47,$A$39:$A$66,$C$39:$C$66) -> 873866
A48: =A16 -> CARTAGENA | B48: =E16 -> 250058 | C48: =D16 -> 229313 | D48: =_xlfn.RANK.EQ(B48,$B$39:$B$66)+COUNTIF($B$39:$B$66,B48)-1 -> 12 | E48: =INDEX($A$39:$B$66,MATCH(ROW()-38,$D$39:$D$66,0),1) -> MELILLA | F48: =LOOKUP(E48,$A$39:$A$66,$B$39:$B$66) -> 842983 | G48: =LOOKUP(E48,$A$39:$A$66,$C$39:$C$66) -> 828659
A49: =A17 -> CASTELLÓN | B49: =E17 -> 5462 | C49: =D17 -> 568 | D49: =_xlfn.RANK.EQ(B49,$B$39:$B$66)+COUNTIF($B$39:$B$66,B49)-1 -> 24 | E49: =INDEX($A$39:$B$66,MATCH(ROW()-38,$D$39:$D$66,0),1) -> BAHÍA DE CÁDIZ | F49: =LOOKUP(E49,$A$39:$A$66,$B$39:$B$66) -> 499710 | G49: =LOOKUP(E49,$A$39:$A$66,$C$39:$C$66) -> 447545
A50: =A18 -> CEUTA | B50: =E18 -> 2110304 | C50: =D18 -> 2012467 | D50: =_xlfn.RANK.EQ(B50,$B$39:$B$66)+COUNTIF($B$39:$B$66,B50)-1 -> 6 | E50: =INDEX($A$39:$B$66,MATCH(ROW()-38,$D$39:$D$66,0),1) -> CARTAGENA | F50: =LOOKUP(E50,$A$39:$A$66,$B$39:$B$66) -> 250058 | G50: =LOOKUP(E50,$A$39:$A$66,$C$39:$C$66) -> 229313
... A66: =A34 -> VILAGARCÍA | B66: =E34 -> 890 | C66: =D34 -> 1158 | D66: =_xlfn.RANK.EQ(B66,$B$39:$B$66)+COUNTIF($B$39:$B$66,B66)-1 -> 26 | E66: =INDEX($A$39:$B$66,MATCH(ROW()-38,$D$39:$D$66,0),1) -> MARÍN Y RÍA DE PONTEVEDRA | F66: =LOOKUP(E66,$A$39:$A$66,$B$39:$B$66) -> 0 | G66: =LOOKUP(E66,$A$39:$A$66,$C$39:$C$66) -> 0

Sheet Pasajeros crucero
F1: 11.1. PASAJEROS DE CRUCERO (número)
A5: Autoridad Portuaria | B5: ='Resumen general'!D6 -> Mes diciembre | D5: ='Resumen general'!F6 -> Acumulado desde enero | L5: ='Resumen general'!I4 -> Fecha: 5/10/2020
B6: ='Resumen general'!D7 -> 2018 | C6: ='Resumen general'!E7 -> 2019 | D6: ='Resumen general'!F7 -> 2018 | E6: ='Resumen general'!G7 -> 2019 | F6: Var. (%)
A7: A CORUÑA | B7: 3002 | C7: 0 | D7: 178965 | E7: 160256 | F7: =((E7*100)/D7)-100 -> -10.453999
A8: ALICANTE | B8: 7514 | C8: 0 | D8: 100752 | E8: 63088 | F8: =((E8*100)/D8)-100 -> -37.382881
A9: ALMERÍA | B9: 581 | C9: 0 | D9: 29384 | E9: 7177 | F9: =((E9*100)/D9)-100 -> -75.575143
A10: AVILÉS | B10: 0 | C10: 0 | D10: 1986 | E10: 4544 | F10: =((E10*100)/D10)-100 -> 128.80161
A11: BAHÍA DE ALGECIRAS | B11: 0 | C11: 0 | D11: 0 | E11: 0 | F11: =((E11*100)/D11)-100 -> #DIV/0!
A12: BAHÍA DE CÁDIZ | B12: 24942 | C12: 25182 | D12: 424900 | E12: 477392 | F12: =((E12*100)/D12)-100 -> 12.353966
A13: BALEARES | B13: 49517 | C13: 63416 | D13: 2430149 | E13: 2663692 | F13: =((E13*100)/D13)-100 -> 9.6102338
A14: BARCELONA | B14: 97406 | C14: 76042 | D14: 3041963 | E14: 3137918 | F14: =((E14*100)/D14)-100 -> 3.1543776
A15: BILBAO | B15: 0 | C15: 0 | D15: 84157 | E15: 55448 | F15: =((E15*100)/D15)-100 -> -34.113621
A16: CARTAGENA | B16: 11664 | C16: 9283 | D16: 229313 | E16: 250058 | F16: =((E16*100)/D16)-100 -> 9.046587
A17: CASTELLÓN | B17: 0 | C17: 0 | D17: 568 | E17: 5462 | F17: =((E17*100)/D17)-100 -> 861.61972
A18: CEUTA | B18: 0 | C18: 0 | D18: 15861 | E18: 9374 | F18: =((E18*100)/D18)-100 -> -40.899061
... A34: VILAGARCÍA | B34: 0 | C34: 0 | D34: 1158 | E34: 890 | F34: =((E34*100)/D34)-100 -> -23.143351
A35: Total | B35: =SUM(B7:B34) -> 610538 | C35: =SUM(C7:C34) -> 656832 | D35: =SUM(D7:D34) -> 10170379 | E35: =SUM(E7:E34) -> 10664581 | F35: =((E35*100)/D35)-100 -> 4.8592289
A36: Incluye embarques (inicio de línea), desembarques (fin de línea) y en tránsito.
B38: =E6 -> 2019 | C38: =D6 -> 2018 | F38: =B38 -> 2019 | G38: =C38 -> 2018
A39: =A7 -> A CORUÑA | B39: =E7 -> 160256 | C39: =D7 -> 178965 | D39: =_xlfn.RANK.EQ(B39,$B$39:$B$66)+COUNTIF($B$39:$B$66,B39)-1 -> 9 | E39: =INDEX($A$39:$B$66,MATCH(ROW()-38,$D$39:$D$66,0),1) -> BARCELONA | F39: =LOOKUP(E39,$A$39:$A$66,$B$39:$B$66) -> 3137918 | G39: =LOOKUP(E39,$A$39:$A$66,$C$39:$C$66) -> 3041963
A40: =A8 -> ALICANTE | B40: =E8 -> 63088 | C40: =D8 -> 100752 | D40: =_xlfn.RANK.EQ(B40,$B$39:$B$66)+COUNTIF($B$39:$B$66,B40)-1 -> 12 | E40: =INDEX($A$39:$B$66,MATCH(ROW()-38,$D$39:$D$66,0),1) -> BALEARES | F40: =LOOKUP(E40,$A$39:$A$66,$B$39:$B$66) -> 2663692 | G40: =LOOKUP(E40,$A$39:$A$66,$C$39:$C$66) -> 2430149
A41: =A9 -> ALMERÍA | B41: =E9 -> 7177 | C41: =D9 -> 29384 | D41: =_xlfn.RANK.EQ(B41,$B$39:$B$66)+COUNTIF($B$39:$B$66,B41)-1 -> 20 | E41: =INDEX($A$39:$B$66,MATCH(ROW()-38,$D$39:$D$66,0),1) -> LAS PALMAS | F41: =LOOKUP(E41,$A$39:$A$66,$B$39:$B$66) -> 1486281 | G41: =LOOKUP(E41,$A$39:$A$66,$C$39:$C$66) -> 1332556
A42: =A10 -> AVILÉS | B42: =E10 -> 4544 | C42: =D10 -> 1986 | D42: =_xlfn.RANK.EQ(B42,$B$39:$B$66)+COUNTIF($B$39:$B$66,B42)-1 -> 22 | E42: =INDEX($A$39:$B$66,MATCH(ROW()-38,$D$39:$D$66,0),1) -> SANTA CRUZ DE TENERIFE | F42: =LOOKUP(E42,$A$39:$A$66,$B$39:$B$66) -> 1067440 | G42: =LOOKUP(E42,$A$39:$A$66,$C$39:$C$66) -> 1020128
A43: =A11 -> BAHÍA DE ALGECIRAS | B43: =E11 -> 0 | C43: =D11 -> 0 | D43: =_xlfn.RANK.EQ(B43,$B$39:$B$66)+COUNTIF($B$39:$B$66,B43)-1 -> 28 | E43: =INDEX($A$39:$B$66,MATCH(ROW()-38,$D$39:$D$66,0),1) -> BAHÍA DE CÁDIZ | F43: =LOOKUP(E43,$A$39:$A$66,$B$39:$B$66) -> 477392 | G43: =LOOKUP(E43,$A$39:$A$66,$C$39:$C$66) -> 424900
A44: =A12 -> BAHÍA DE CÁDIZ | B44: =E12 -> 477392 | C44: =D12 -> 424900 | D44: =_xlfn.RANK.EQ(B44,$B$39:$B$66)+COUNTIF($B$39:$B$66,B44)-1 -> 5 | E44: =INDEX($A$39:$B$66,MATCH(ROW()-38,$D$39:$D$66,0),1) -> MÁLAGA | F44: =LOOKUP(E44,$A$39:$A$66,$B$39:$B$66) -> 476973 | G44: =LOOKUP(E44,$A$39:$A$66,$C$39:$C$66) -> 507421
A45: =A13 -> BALEARES | B45: =E13 -> 2663692 | C45: =D13 -> 2430149 | D45: =_xlfn.RANK.EQ(B45,$B$39:$B$66)+COUNTIF($B$39:$B$66,B45)-1 -> 2 | E45: =INDEX($A$39:$B$66,MATCH(ROW()-38,$D$39:$D$66,0),1) -> VALENCIA | F45: =LOOKUP(E45,$A$39:$A$66,$B$39:$B$66) -> 435616 | G45: =LOOKUP(E45,$A$39:$A$66,$C$39:$C$66) -> 421518
A46: =A14 -> BARCELONA | B46: =E14 -> 3137918 | C46: =D14 -> 3041963 | D46: =_xlfn.RANK.EQ(B46,$B$39:$B$66)+COUNTIF($B$39:$B$66,B46)-1 -> 1 | E46: =INDEX($A$39:$B$66,MATCH(ROW()-38,$D$39:$D$66,0),1) -> CARTAGENA | F46: =LOOKUP(E46,$A$39:$A$66,$B$39:$B$66) -> 250058 | G46: =LOOKUP(E46,$A$39:$A$66,$C$39:$C$66) -> 229313
A47: =A15 -> BILBAO | B47: =E15 -> 55448 | C47: =D15 -> 84157 | D47: =_xlfn.RANK.EQ(B47,$B$39:$B$66)+COUNTIF($B$39:$B$66,B47)-1 -> 13 | E47: =INDEX($A$39:$B$66,MATCH(ROW()-38,$D$39:$D$66,0),1) -> A CORUÑA | F47: =LOOKUP(E47,$A$39:$A$66,$B$39:$B$66) -> 160256 | G47: =LOOKUP(E47,$A$39:$A$66,$C$39:$C$66) -> 178965
A48: =A16 -> CARTAGENA | B48: =E16 -> 250058 | C48: =D16 -> 229313 | D48: =_xlfn.RANK.EQ(B48,$B$39:$B$66)+COUNTIF($B$39:$B$66,B48)-1 -> 8 | E48: =INDEX($A$39:$B$66,MATCH(ROW()-38,$D$39:$D$66,0),1) -> VIGO | F48: =LOOKUP(E48,$A$39:$A$66,$B$39:$B$66) -> 141704 | G48: =LOOKUP(E48,$A$39:$A$66,$C$39:$C$66) -> 158449
A49: =A17 -> CASTELLÓN | B49: =E17 -> 5462 | C49: =D17 -> 568 | D49: =_xlfn.RANK.EQ(B49,$B$39:$B$66)+COUNTIF($B$39:$B$66,B49)-1 -> 21 | E49: =INDEX($A$39:$B$66,MATCH(ROW()-38,$D$39:$D$66,0),1) -> TARRAGONA | F49: =LOOKUP(E49,$A$39:$A$66,$B$39:$B$66) -> 128089 | G49: =LOOKUP(E49,$A$39:$A$66,$C$39:$C$66) -> 98141
A50: =A18 -> CEUTA | B50: =E18 -> 9374 | C50: =D18 -> 15861 | D50: =_xlfn.RANK.EQ(B50,$B$39:$B$66)+COUNTIF($B$39:$B$66,B50)-1 -> 19 | E50: =INDEX($A$39:$B$66,MATCH(ROW()-38,$D$39:$D$66,0),1) -> ALICANTE | F50: =LOOKUP(E50,$A$39:$A$66,$B$39:$B$66) -> 63088 | G50: =LOOKUP(E50,$A$39:$A$66,$C$39:$C$66) -> 100752
... A66: =A34 -> VILAGARCÍA | B66: =E34 -> 890 | C66: =D34 -> 1158 | D66: =_xlfn.RANK.EQ(B66,$B$39:$B$66)+COUNTIF($B$39:$B$66,B66)-1 -> 24 | E66: =INDEX($A$39:$B$66,MATCH(ROW()-38,$D$39:$D$66,0),1) -> BAHÍA DE ALGECIRAS | F66: =LOOKUP(E66,$A$39:$A$66,$B$39:$B$66) -> 0 | G66: =LOOKUP(E66,$A$39:$A$66,$C$39:$C$66) -> 0

Sheet Automóviles régimen pasaje
F1: 12.1. AUTOMÓVILES EN RÉGIMEN DE PASAJE (unidades)
A5: Autoridad Portuaria | B5: ='Resumen general'!D6 -> Mes diciembre | D5: ='Resumen general'!F6 -> Acumulado desde enero | L5: ='Resumen general'!I4 -> Fecha: 5/10/2020
B6: ='Resumen general'!D7 -> 2018 | C6: ='Resumen general'!E7 -> 2019 | D6: ='Resumen general'!F7 -> 2018 | E6: ='Resumen general'!G7 -> 2019 | F6: Var. (%)
A7: A CORUÑA | B7: 0 | C7: 0 | D7: 0 | E7: 0 | F7: =((E7*100)/D7)-100 -> #DIV/0!
A8: ALICANTE | B8: 1432 | C8: 2587 | D8: 34978 | E8: 41790 | F8: =((E8*100)/D8)-100 -> 19.475099
A9: ALMERÍA | B9: 13254 | C9: 13434 | D9: 216658 | E9: 226259 | F9: =((E9*100)/D9)-100 -> 4.431408
A10: AVILÉS | B10: 0 | C10: 0 | D10: 0 | E10: 0 | F10: =((E10*100)/D10)-100 -> #DIV/0!
A11: BAHÍA DE ALGECIRAS | B11: 75986 | C11: 77056 | D11: 1213451 | E11: 1223572 | F11: =((E11*100)/D11)-100 -> 0.83406747
A12: BAHÍA DE CÁDIZ | B12: 996 | C12: 904 | D12: 12081 | E12: 11975 | F12: =((E12*100)/D12)-100 -> -0.87741081
A13: BALEARES | B13: 52229 | C13: 48923 | D13: 730953 | E13: 872645 | F13: =((E13*100)/D13)-100 -> 19.384557
A14: BARCELONA | B14: 22295 | C14: 21250 | D14: 395643 | E14: 405828 | F14: =((E14*100)/D14)-100 -> 2.5742905
A15: BILBAO | B15: 2147 | C15: 2280 | D15: 51493 | E15: 47069 | F15: =((E15*100)/D15)-100 -> -8.591459
A16: CARTAGENA | B16: 0 | C16: 0 | D16: 0 | E16: 0 | F16: =((E16*100)/D16)-100 -> #DIV/0!
A17: CASTELLÓN | B17: 0 | C17: 0 | D17: 0 | E17: 0 | F17: =((E17*100)/D17)-100 -> #DIV/0!
A18: CEUTA | B18: 34039 | C18: 36280 | D18: 427892 | E18: 449962 | F18: =((E18*100)/D18)-100 -> 5.1578436
... A34: VILAGARCÍA | B34: 0 | C34: 0 | D34: 0 | E34: 0 | F34: =((E34*100)/D34)-100 -> #DIV/0!
A35: Total | B35: =SUM(B7:B34) -> 398311 | C35: =SUM(C7:C34) -> 419757 | D35: =SUM(D7:D34) -> 5512090 | E35: =SUM(E7:E34) -> 5917910 | F35: =((E35*100)/D35)-100 -> 7.3623616
A36: Incluye embarques, desembarques y en tránsito.
B38: =E6 -> 2019 | C38: =D6 -> 2018 | F38: =B38 -> 2019 | G38: =C38 -> 2018
A39: =A7 -> A CORUÑA | B39: =E7 -> 0 | C39: =D7 -> 0 | D39: =_xlfn.RANK.EQ(B39,$B$39:$B$66)+COUNTIF($B$39:$B$66,B39)-1 -> 28 | E39: =INDEX($A$39:$B$66,MATCH(ROW()-38,$D$39:$D$66,0),1) -> SANTA CRUZ DE TENERIFE | F39: =LOOKUP(E39,$A$39:$A$66,$B$39:$B$66) -> 1471088 | G39: =LOOKUP(E39,$A$39:$A$66,$C$39:$C$66) -> 1366723
A40: =A8 -> ALICANTE | B40: =E8 -> 41790 | C40: =D8 -> 34978 | D40: =_xlfn.RANK.EQ(B40,$B$39:$B$66)+COUNTIF($B$39:$B$66,B40)-1 -> 14 | E40: =INDEX($A$39:$B$66,MATCH(ROW()-38,$D$39:$D$66,0),1) -> BAHÍA DE ALGECIRAS | F40: =LOOKUP(E40,$A$39:$A$66,$B$39:$B$66) -> 1223572 | G40: =LOOKUP(E40,$A$39:$A$66,$C$39:$C$66) -> 1213451
A41: =A9 -> ALMERÍA | B41: =E9 -> 226259 | C41: =D9 -> 216658 | D41: =_xlfn.RANK.EQ(B41,$B$39:$B$66)+COUNTIF($B$39:$B$66,B41)-1 -> 7 | E41: =INDEX($A$39:$B$66,MATCH(ROW()-38,$D$39:$D$66,0),1) -> BALEARES | F41: =LOOKUP(E41,$A$39:$A$66,$B$39:$B$66) -> 872645 | G41: =LOOKUP(E41,$A$39:$A$66,$C$39:$C$66) -> 730953
A42: =A10 -> AVILÉS | B42: =E10 -> 0 | C42: =D10 -> 0 | D42: =_xlfn.RANK.EQ(B42,$B$39:$B$66)+COUNTIF($B$39:$B$66,B42)-1 -> 28 | E42: =INDEX($A$39:$B$66,MATCH(ROW()-38,$D$39:$D$66,0),1) -> LAS PALMAS | F42: =LOOKUP(E42,$A$39:$A$66,$B$39:$B$66) -> 594184 | G42: =LOOKUP(E42,$A$39:$A$66,$C$39:$C$66) -> 515605
A43: =A11 -> BAHÍA DE ALGECIRAS | B43: =E11 -> 1223572 | C43: =D11 -> 1213451 | D43: =_xlfn.RANK.EQ(B43,$B$39:$B$66)+COUNTIF($B$39:$B$66,B43)-1 -> 2 | E43: =INDEX($A$39:$B$66,MATCH(ROW()-38,$D$39:$D$66,0),1) -> CEUTA | F43: =LOOKUP(E43,$A$39:$A$66,$B$39:$B$66) -> 449962 | G43: =LOOKUP(E43,$A$39:$A$66,$C$39:$C$66) -> 427892
A44: =A12 -> BAHÍA DE CÁDIZ | B44: =E12 -> 11975 | C44: =D12 -> 12081 | D44: =_xlfn.RANK.EQ(B44,$B$39:$B$66)+COUNTIF($B$39:$B$66,B44)-1 -> 16 | E44: =INDEX($A$39:$B$66,MATCH(ROW()-38,$D$39:$D$66,0),1) -> BARCELONA | F44: =LOOKUP(E44,$A$39:$A$66,$B$39:$B$66) -> 405828 | G44: =LOOKUP(E44,$A$39:$A$66,$C$39:$C$66) -> 395643
A45: =A13 -> BALEARES | B45: =E13 -> 872645 | C45: =D13 -> 730953 | D45: =_xlfn.RANK.EQ(B45,$B$39:$B$66)+COUNTIF($B$39:$B$66,B45)-1 -> 3 | E45: =INDEX($A$39:$B$66,MATCH(ROW()-38,$D$39:$D$66,0),1) -> ALMERÍA | F45: =LOOKUP(E45,$A$39:$A$66,$B$39:$B$66) -> 226259 | G45: =LOOKUP(E45,$A$39:$A$66,$C$39:$C$66) -> 216658
A46: =A14 -> BARCELONA | B46: =E14 -> 405828 | C46: =D14 -> 395643 | D46: =_xlfn.RANK.EQ(B46,$B$39:$B$66)+COUNTIF($B$39:$B$66,B46)-1 -> 6 | E46: =INDEX($A$39:$B$66,MATCH(ROW()-38,$D$39:$D$66,0),1) -> VALENCIA | F46: =LOOKUP(E46,$A$39:$A$66,$B$39:$B$66) -> 175743 | G46: =LOOKUP(E46,$A$39:$A$66,$C$39:$C$66) -> 158475
A47: =A15 -> BILBAO | B47: =E15 -> 47069 | C47: =D15 -> 51493 | D47: =_xlfn.RANK.EQ(B47,$B$39:$B$66)+COUNTIF($B$39:$B$66,B47)-1 -> 13 | E47: =INDEX($A$39:$B$66,MATCH(ROW()-38,$D$39:$D$66,0),1) -> MELILLA | F47: =LOOKUP(E47,$A$39:$A$66,$B$39:$B$66) -> 163742 | G47: =LOOKUP(E47,$A$39:$A$66,$C$39:$C$66) -> 155188
A48: =A16 -> CARTAGENA | B48: =E16 -> 0 | C48: =D16 -> 0 | D48: =_xlfn.RANK.EQ(B48,$B$39:$B$66)+COUNTIF($B$39:$B$66,B48)-1 -> 28 | E48: =INDEX($A$39:$B$66,MATCH(ROW()-38,$D$39:$D$66,0),1) -> SANTANDER | F48: =LOOKUP(E48,$A$39:$A$66,$B$39:$B$66) -> 85846 | G48: =LOOKUP(E48,$A$39:$A$66,$C$39:$C$66) -> 101333
A49: =A17 -> CASTELLÓN | B49: =E17 -> 0 | C49: =D17 -> 0 | D49: =_xlfn.RANK.EQ(B49,$B$39:$B$66)+COUNTIF($B$39:$B$66,B49)-1 -> 28 | E49: =INDEX($A$39:$B$66,MATCH(ROW()-38,$D$39:$D$66,0),1) -> MÁLAGA | F49: =LOOKUP(E49,$A$39:$A$66,$B$39:$B$66) -> 70266 | G49: =LOOKUP(E49,$A$39:$A$66,$C$39:$C$66) -> 53488
A50: =A18 -> CEUTA | B50: =E18 -> 449962 | C50: =D18 -> 427892 | D50: =_xlfn.RANK.EQ(B50,$B$39:$B$66)+COUNTIF($B$39:$B$66,B50)-1 -> 5 | E50: =INDEX($A$39:$B$66,MATCH(ROW()-38,$D$39:$D$66,0),1) -> MOTRIL | F50: =LOOKUP(E50,$A$39:$A$66,$B$39:$B$66) -> 53863 | G50: =LOOKUP(E50,$A$39:$A$66,$C$39:$C$66) -> 56070
... A66: =A34 -> VILAGARCÍA | B66: =E34 -> 0 | C66: =D34 -> 0 | D66: =_xlfn.RANK.EQ(B66,$B$39:$B$66)+COUNTIF($B$39:$B$66,B66)-1 -> 28 | E66: =INDEX($A$39:$B$66,MATCH(ROW()-38,$D$39:$D$66,0),1) -> A CORUÑA | F66: =LOOKUP(E66,$A$39:$A$66,$B$39:$B$66) -> 0 | G66: =LOOKUP(E66,$A$39:$A$66,$C$39:$C$66) -> 0

Sheet Automóviles régimen mercancía
E1: 12.2. TURISMOS, AUTOBUSES Y CAMIONES EN RÉGIMEN DE MERCANCÍA
H2: (unidades)
A5: Autoridad Portuaria | B5: ='Resumen general'!D6 -> Mes diciembre | D5: ='Resumen general'!F6 -> Acumulado desde enero | L5: ='Resumen general'!I4 -> Fecha: 5/10/2020
B6: ='Resumen general'!D7 -> 2018 | C6: ='Resumen general'!E7 -> 2019 | D6: ='Resumen general'!F7 -> 2018 | E6: ='Resumen general'!G7 -> 2019 | F6: Var. (%)
A7: A CORUÑA | B7: 0 | C7: 0 | D7: 0 | E7: 0 | F7: =((E7*100)/D7)-100 -> #DIV/0!
A8: ALICANTE | B8: 0 | C8: 0 | D8: 3115 | E8: 4442 | F8: =((E8*100)/D8)-100 -> 42.600321
A9: ALMERÍA | B9: 51 | C9: 107 | D9: 321 | E9: 1260 | F9: =((E9*100)/D9)-100 -> 292.52336
A10: AVILÉS | B10: 0 | C10: 0 | D10: 0 | E10: 0 | F10: =((E10*100)/D10)-100 -> #DIV/0!
A11: BAHÍA DE ALGECIRAS | B11: 538 | C11: 393 | D11: 4077 | E11: 4435 | F11: =((E11*100)/D11)-100 -> 8.7809664
A12: BAHÍA DE CÁDIZ | B12: 1261 | C12: 1115 | D12: 16599 | E12: 15872 | F12: =((E12*100)/D12)-100 -> -4.3797819
A13: BALEARES | B13: 8536 | C13: 7851 | D13: 184426 | E13: 180795 | F13: =((E13*100)/D13)-100 -> -1.9688113
A14: BARCELONA | B14: 60674 | C14: 60999 | D14: 809354 | E14: 777178 | F14: =((E14*100)/D14)-100 -> -3.9755163
A15: BILBAO | B15: 690 | C15: 536 | D15: 12472 | E15: 12054 | F15: =((E15*100)/D15)-100 -> -3.3515074
A16: CARTAGENA | B16: 0 | C16: 0 | D16: 0 | E16: 0 | F16: =((E16*100)/D16)-100 -> #DIV/0!
A17: CASTELLÓN | B17: 2 | C17: 9 | D17: 489 | E17: 851 | F17: =((E17*100)/D17)-100 -> 74.02863
A18: CEUTA | B18: 116 | C18: 142 | D18: 1156 | E18: 1469 | F18: =((E18*100)/D18)-100 -> 27.076125
... A34: VILAGARCÍA | B34: 0 | C34: 5 | D34: 0 | E34: 0 | F34: =((E34*100)/D34)-100 -> #DIV/0!
A35: Total | B35: =SUM(B7:B34) -> 277884 | C35: =SUM(C7:C34) -> 268947 | D35: =SUM(D7:D34) -> 3493656 | E35: =SUM(E7:E34) -> 3405324 | F35: =((E35*100)/D35)-100 -> -2.5283543
A36: Incluye cargas, descargas, tránsitos y transbordos. Sólo turismos, autobuses y camiones.
B38: =E6 -> 2019 | C38: =D6 -> 2018 | F38: =B38 -> 2019 | G38: =C38 -> 2018
A39: =A7 -> A CORUÑA | B39: =E7 -> 0 | C39: =D7 -> 0 | D39: =_xlfn.RANK.EQ(B39,$B$39:$B$66)+COUNTIF($B$39:$B$66,B39)-1 -> 28 | E39: =INDEX($A$39:$B$66,MATCH(ROW()-38,$D$39:$D$66,0),1) -> BARCELONA | F39: =LOOKUP(E39,$A$39:$A$66,$B$39:$B$66) -> 777178 | G39: =LOOKUP(E39,$A$39:$A$66,$C$39:$C$66) -> 809354
A40: =A8 -> ALICANTE | B40: =E8 -> 4442 | C40: =D8 -> 3115 | D40: =_xlfn.RANK.EQ(B40,$B$39:$B$66)+COUNTIF($B$39:$B$66,B40)-1 -> 13 | E40: =INDEX($A$39:$B$66,MATCH(ROW()-38,$D$39:$D$66,0),1) -> VALENCIA | F40: =LOOKUP(E40,$A$39:$A$66,$B$39:$B$66) -> 720857 | G40: =LOOKUP(E40,$A$39:$A$66,$C$39:$C$66) -> 818225
A41: =A9 -> ALMERÍA | B41: =E9 -> 1260 | C41: =D9 -> 321 | D41: =_xlfn.RANK.EQ(B41,$B$39:$B$66)+COUNTIF($B$39:$B$66,B41)-1 -> 18 | E41: =INDEX($A$39:$B$66,MATCH(ROW()-38,$D$39:$D$66,0),1) -> VIGO | F41: =LOOKUP(E41,$A$39:$A$66,$B$39:$B$66) -> 482640 | G41: =LOOKUP(E41,$A$39:$A$66,$C$39:$C$66) -> 450350
A42: =A10 -> AVILÉS | B42: =E10 -> 0 | C42: =D10 -> 0 | D42: =_xlfn.RANK.EQ(B42,$B$39:$B$66)+COUNTIF($B$39:$B$66,B42)-1 -> 28 | E42: =INDEX($A$39:$B$66,MATCH(ROW()-38,$D$39:$D$66,0),1) -> SANTANDER | F42: =LOOKUP(E42,$A$39:$A$66,$B$39:$B$66) -> 466158 | G42: =LOOKUP(E42,$A$39:$A$66,$C$39:$C$66) -> 489641
A43: =A11 -> BAHÍA DE ALGECIRAS | B43: =E11 -> 4435 | C43: =D11 -> 4077 | D43: =_xlfn.RANK.EQ(B43,$B$39:$B$66)+COUNTIF($B$39:$B$66,B43)-1 -> 14 | E43: =INDEX($A$39:$B$66,MATCH(ROW()-38,$D$39:$D$66,0),1) -> PASAIA | F43: =LOOKUP(E43,$A$39:$A$66,$B$39:$B$66) -> 273275 | G43: =LOOKUP(E43,$A$39:$A$66,$C$39:$C$66) -> 254673
A44: =A12 -> BAHÍA DE CÁDIZ | B44: =E12 -> 15872 | C44: =D12 -> 16599 | D44: =_xlfn.RANK.EQ(B44,$B$39:$B$66)+COUNTIF($B$39:$B$66,B44)-1 -> 11 | E44: =INDEX($A$39:$B$66,MATCH(ROW()-38,$D$39:$D$66,0),1) -> TARRAGONA | F44: =LOOKUP(E44,$A$39:$A$66,$B$39:$B$66) -> 211210 | G44: =LOOKUP(E44,$A$39:$A$66,$C$39:$C$66) -> 194738
A45: =A13 -> BALEARES | B45: =E13 -> 180795 | C45: =D13 -> 184426 | D45: =_xlfn.RANK.EQ(B45,$B$39:$B$66)+COUNTIF($B$39:$B$66,B45)-1 -> 7 | E45: =INDEX($A$39:$B$66,MATCH(ROW()-38,$D$39:$D$66,0),1) -> BALEARES | F45: =LOOKUP(E45,$A$39:$A$66,$B$39:$B$66) -> 180795 | G45: =LOOKUP(E45,$A$39:$A$66,$C$39:$C$66) -> 184426
A46: =A14 -> BARCELONA | B46: =E14 -> 777178 | C46: =D14 -> 809354 | D46: =_xlfn.RANK.EQ(B46,$B$39:$B$66)+COUNTIF($B$39:$B$66,B46)-1 -> 1 | E46: =INDEX($A$39:$B$66,MATCH(ROW()-38,$D$39:$D$66,0),1) -> LAS PALMAS | F46: =LOOKUP(E46,$A$39:$A$66,$B$39:$B$66) -> 96835 | G46: =LOOKUP(E46,$A$39:$A$66,$C$39:$C$66) -> 106589
A47: =A15 -> BILBAO | B47: =E15 -> 12054 | C47: =D15 -> 12472 | D47: =_xlfn.RANK.EQ(B47,$B$39:$B$66)+COUNTIF($B$39:$B$66,B47)-1 -> 12 | E47: =INDEX($A$39:$B$66,MATCH(ROW()-38,$D$39:$D$66,0),1) -> SANTA CRUZ DE TENERIFE | F47: =LOOKUP(E47,$A$39:$A$66,$B$39:$B$66) -> 75999 | G47: =LOOKUP(E47,$A$39:$A$66,$C$39:$C$66) -> 75418
A48: =A16 -> CARTAGENA | B48: =E16 -> 0 | C48: =D16 -> 0 | D48: =_xlfn.RANK.EQ(B48,$B$39:$B$66)+COUNTIF($B$39:$B$66,B48)-1 -> 28 | E48: =INDEX($A$39:$B$66,MATCH(ROW()-38,$D$39:$D$66,0),1) -> MÁLAGA | F48: =LOOKUP(E48,$A$39:$A$66,$B$39:$B$66) -> 74493 | G48: =LOOKUP(E48,$A$39:$A$66,$C$39:$C$66) -> 64315
A49: =A17 -> CASTELLÓN | B49: =E17 -> 851 | C49: =D17 -> 489 | D49: =_xlfn.RANK.EQ(B49,$B$39:$B$66)+COUNTIF($B$39:$B$66,B49)-1 -> 19 | E49: =INDEX($A$39:$B$66,MATCH(ROW()-38,$D$39:$D$66,0),1) -> BAHÍA DE CÁDIZ | F49: =LOOKUP(E49,$A$39:$A$66,$B$39:$B$66) -> 15872 | G49: =LOOKUP(E49,$A$39:$A$66,$C$39:$C$66) -> 16599
A50: =A18 -> CEUTA | B50: =E18 -> 1469 | C50: =D18 -> 1156 | D50: =_xlfn.RANK.EQ(B50,$B$39:$B$66)+COUNTIF($B$39:$B$66,B50)-1 -> 16 | E50: =INDEX($A$39:$B$66,MATCH(ROW()-38,$D$39:$D$66,0),1) -> BILBAO | F50: =LOOKUP(E50,$A$39:$A$66,$B$39:$B$66) -> 12054 | G50: =LOOKUP(E50,$A$39:$A$66,$C$39:$C$66) -> 12472
... A66: =A34 -> VILAGARCÍA | B66: =E34 -> 0 | C66: =D34 -> 0 | D66: =_xlfn.RANK.EQ(B66,$B$39:$B$66)+COUNTIF($B$39:$B$66,B66)-1 -> 28 | E66: =INDEX($A$39:$B$66,MATCH(ROW()-38,$D$39:$D$66,0),1) -> A CORUÑA | F66: =LOOKUP(E66,$A$39:$A$66,$B$39:$B$66) -> 0 | G66: =LOOKUP(E66,$A$39:$A$66,$C$39:$C$66) -> 0

Sheet Buques número
F1: 13. BUQUES MERCANTES (unidades)
A5: Autoridad Portuaria | B5: ='Resumen general'!D6 -> Mes diciembre | D5: ='Resumen general'!F6 -> Acumulado desde enero | L5: ='Resumen general'!I4 -> Fecha: 5/10/2020
B6: ='Resumen general'!D7 -> 2018 | C6: ='Resumen general'!E7 -> 2019 | D6: ='Resumen general'!F7 -> 2018 | E6: ='Resumen general'!G7 -> 2019 | F6: Var. (%)
A7: A CORUÑA | B7: 97 | C7: 105 | D7: 1221 | E7: 1213 | F7: =((E7*100)/D7)-100 -> -0.65520066
A8: ALICANTE | B8: 56 | C8: 61 | D8: 732 | E8: 696 | F8: =((E8*100)/D8)-100 -> -4.9180328
A9: ALMERÍA | B9: 132 | C9: 142 | D9: 1972 | E9: 2128 | F9: =((E9*100)/D9)-100 -> 7.9107505
A10: AVILÉS | B10: 63 | C10: 62 | D10: 823 | E10: 795 | F10: =((E10*100)/D10)-100 -> -3.4021871
A11: BAHÍA DE ALGECIRAS | B11: 2412 | C11: 2221 | D11: 28913 | E11: 29070 | F11: =((E11*100)/D11)-100 -> 0.54300834
A12: BAHÍA DE CÁDIZ | B12: 82 | C12: 95 | D12: 1197 | E12: 1193 | F12: =((E12*100)/D12)-100 -> -0.33416876
A13: BALEARES | B13: 2665 | C13: 2550 | D13: 50366 | E13: 52936 | F13: =((E13*100)/D13)-100 -> 5.1026486
A14: BARCELONA | B14: 665 | C14: 659 | D14: 9038 | E14: 8901 | F14: =((E14*100)/D14)-100 -> -1.5158221
A15: BILBAO | B15: 218 | C15: 211 | D15: 2925 | E15: 2818 | F15: =((E15*100)/D15)-100 -> -3.6581197
A16: CARTAGENA | B16: 185 | C16: 167 | D16: 2203 | E16: 2169 | F16: =((E16*100)/D16)-100 -> -1.54335
A17: CASTELLÓN | B17: 135 | C17: 135 | D17: 1856 | E17: 1759 | F17: =((E17*100)/D17)-100 -> -5.2262931
A18: CEUTA | B18: 875 | C18: 902 | D18: 11147 | E18: 11084 | F18: =((E18*100)/D18)-100 -> -0.56517449
... A34: VILAGARCÍA | B34: 24 | C34: 22 | D34: 336 | E34: 355 | F34: =((E34*100)/D34)-100 -> 5.6547619
A35: Total | B35: =SUM(B7:B34) -> 12342 | C35: =SUM(C7:C34) -> 12064 | D35: =SUM(D7:D34) -> 167119 | E35: =SUM(E7:E34) -> 170944 | F35: =((E35*100)/D35)-100 -> 2.2887882
A36: Incluye tanques, graneleros, de carga general, ro-ro, solo de pasaje, cruceros, portacontenedores y otros buques mercantes.
B38: =E6 -> 2019 | C38: =D6 -> 2018 | F38: =B38 -> 2019 | G38: =C38 -> 2018
A39: =A7 -> A CORUÑA | B39: =E7 -> 1213 | C39: =D7 -> 1221 | D39: =_xlfn.RANK.EQ(B39,$B$39:$B$66)+COUNTIF($B$39:$B$66,B39)-1 -> 19 | E39: =INDEX($A$39:$B$66,MATCH(ROW()-38,$D$39:$D$66,0),1) -> BALEARES | F39: =LOOKUP(E39,$A$39:$A$66,$B$39:$B$66) -> 52936 | G39: =LOOKUP(E39,$A$39:$A$66,$C$39:$C$66) -> 50366
A40: =A8 -> ALICANTE | B40: =E8 -> 696 | C40: =D8 -> 732 | D40: =_xlfn.RANK.EQ(B40,$B$39:$B$66)+COUNTIF($B$39:$B$66,B40)-1 -> 26 | E40: =INDEX($A$39:$B$66,MATCH(ROW()-38,$D$39:$D$66,0),1) -> BAHÍA DE ALGECIRAS | F40: =LOOKUP(E40,$A$39:$A$66,$B$39:$B$66) -> 29070 | G40: =LOOKUP(E40,$A$39:$A$66,$C$39:$C$66) -> 28913
A41: =A9 -> ALMERÍA | B41: =E9 -> 2128 | C41: =D9 -> 1972 | D41: =_xlfn.RANK.EQ(B41,$B$39:$B$66)+COUNTIF($B$39:$B$66,B41)-1 -> 12 | E41: =INDEX($A$39:$B$66,MATCH(ROW()-38,$D$39:$D$66,0),1) -> SANTA CRUZ DE TENERIFE | F41: =LOOKUP(E41,$A$39:$A$66,$B$39:$B$66) -> 16132 | G41: =LOOKUP(E41,$A$39:$A$66,$C$39:$C$66) -> 16400
A42: =A10 -> AVILÉS | B42: =E10 -> 795 | C42: =D10 -> 823 | D42: =_xlfn.RANK.EQ(B42,$B$39:$B$66)+COUNTIF($B$39:$B$66,B42)-1 -> 25 | E42: =INDEX($A$39:$B$66,MATCH(ROW()-38,$D$39:$D$66,0),1) -> LAS PALMAS | F42: =LOOKUP(E42,$A$39:$A$66,$B$39:$B$66) -> 13959 | G42: =LOOKUP(E42,$A$39:$A$66,$C$39:$C$66) -> 12283
A43: =A11 -> BAHÍA DE ALGECIRAS | B43: =E11 -> 29070 | C43: =D11 -> 28913 | D43: =_xlfn.RANK.EQ(B43,$B$39:$B$66)+COUNTIF($B$39:$B$66,B43)-1 -> 2 | E43: =INDEX($A$39:$B$66,MATCH(ROW()-38,$D$39:$D$66,0),1) -> CEUTA | F43: =LOOKUP(E43,$A$39:$A$66,$B$39:$B$66) -> 11084 | G43: =LOOKUP(E43,$A$39:$A$66,$C$39:$C$66) -> 11147
A44: =A12 -> BAHÍA DE CÁDIZ | B44: =E12 -> 1193 | C44: =D12 -> 1197 | D44: =_xlfn.RANK.EQ(B44,$B$39:$B$66)+COUNTIF($B$39:$B$66,B44)-1 -> 20 | E44: =INDEX($A$39:$B$66,MATCH(ROW()-38,$D$39:$D$66,0),1) -> BARCELONA | F44: =LOOKUP(E44,$A$39:$A$66,$B$39:$B$66) -> 8901 | G44: =LOOKUP(E44,$A$39:$A$66,$C$39:$C$66) -> 9038
A45: =A13 -> BALEARES | B45: =E13 -> 52936 | C45: =D13 -> 50366 | D45: =_xlfn.RANK.EQ(B45,$B$39:$B$66)+COUNTIF($B$39:$B$66,B45)-1 -> 1 | E45: =INDEX($A$39:$B$66,MATCH(ROW()-38,$D$39:$D$66,0),1) -> VALENCIA | F45: =LOOKUP(E45,$A$39:$A$66,$B$39:$B$66) -> 7891 | G45: =LOOKUP(E45,$A$39:$A$66,$C$39:$C$66) -> 7722
A46: =A14 -> BARCELONA | B46: =E14 -> 8901 | C46: =D14 -> 9038 | D46: =_xlfn.RANK.EQ(B46,$B$39:$B$66)+COUNTIF($B$39:$B$66,B46)-1 -> 6 | E46: =INDEX($A$39:$B$66,MATCH(ROW()-38,$D$39:$D$66,0),1) -> BILBAO | F46: =LOOKUP(E46,$A$39:$A$66,$B$39:$B$66) -> 2818 | G46: =LOOKUP(E46,$A$39:$A$66,$C$39:$C$66) -> 2925
A47: =A15 -> BILBAO | B47: =E15 -> 2818 | C47: =D15 -> 2925 | D47: =_xlfn.RANK.EQ(B47,$B$39:$B$66)+COUNTIF($B$39:$B$66,B47)-1 -> 8 | E47: =INDEX($A$39:$B$66,MATCH(ROW()-38,$D$39:$D$66,0),1) -> TARRAGONA | F47: =LOOKUP(E47,$A$39:$A$66,$B$39:$B$66) -> 2545 | G47: =LOOKUP(E47,$A$39:$A$66,$C$39:$C$66) -> 2554
A48: =A16 -> CARTAGENA | B48: =E16 -> 2169 | C48: =D16 -> 2203 | D48: =_xlfn.RANK.EQ(B48,$B$39:$B$66)+COUNTIF($B$39:$B$66,B48)-1 -> 11 | E48: =INDEX($A$39:$B$66,MATCH(ROW()-38,$D$39:$D$66,0),1) -> HUELVA | F48: =LOOKUP(E48,$A$39:$A$66,$B$39:$B$66) -> 2491 | G48: =LOOKUP(E48,$A$39:$A$66,$C$39:$C$66) -> 2396
A49: =A17 -> CASTELLÓN | B49: =E17 -> 1759 | C49: =D17 -> 1856 | D49: =_xlfn.RANK.EQ(B49,$B$39:$B$66)+COUNTIF($B$39:$B$66,B49)-1 -> 14 | E49: =INDEX($A$39:$B$66,MATCH(ROW()-38,$D$39:$D$66,0),1) -> CARTAGENA | F49: =LOOKUP(E49,$A$39:$A$66,$B$39:$B$66) -> 2169 | G49: =LOOKUP(E49,$A$39:$A$66,$C$39:$C$66) -> 2203
A50: =A18 -> CEUTA | B50: =E18 -> 11084 | C50: =D18 -> 11147 | D50: =_xlfn.RANK.EQ(B50,$B$39:$B$66)+COUNTIF($B$39:$B$66,B50)-1 -> 5 | E50: =INDEX($A$39:$B$66,MATCH(ROW()-38,$D$39:$D$66,0),1) -> ALMERÍA | F50: =LOOKUP(E50,$A$39:$A$66,$B$39:$B$66) -> 2128 | G50: =LOOKUP(E50,$A$39:$A$66,$C$39:$C$66) -> 1972
... A66: =A34 -> VILAGARCÍA | B66: =E34 -> 355 | C66: =D34 -> 336 | D66: =_xlfn.RANK.EQ(B66,$B$39:$B$66)+COUNTIF($B$39:$B$66,B66)-1 -> 28 | E66: =INDEX($A$39:$B$66,MATCH(ROW()-38,$D$39:$D$66,0),1) -> VILAGARCÍA | F66: =LOOKUP(E66,$A$39:$A$66,$B$39:$B$66) -> 355 | G66: =LOOKUP(E66,$A$39:$A$66,$C$39:$C$66) -> 336

Sheet Buques GT
F1: 13.1. BUQUES MERCANTES (unidades de arqueo bruto)
A5: Autoridad Portuaria | B5: ='Resumen general'!D6 -> Mes diciembre | D5: ='Resumen general'!F6 -> Acumulado desde enero | L5: ='Resumen general'!I4 -> Fecha: 5/10/2020
B6: ='Resumen general'!D7 -> 2018 | C6: ='Resumen general'!E7 -> 2019 | D6: ='Resumen general'!F7 -> 2018 | E6: ='Resumen general'!G7 -> 2019 | F6: Var. (%)
A7: A CORUÑA | B7: 1171835 | C7: 1243877 | D7: 21996116 | E7: 20494711 | F7: =((E7*100)/D7)-100 -> -6.8257732
A8: ALICANTE | B8: 819901 | C8: 583609 | D8: 11752887 | E8: 10164321 | F8: =((E8*100)/D8)-100 -> -13.51639
A9: ALMERÍA | B9: 2438950 | C9: 2407646 | D9: 35858425 | E9: 37050513 | F9: =((E9*100)/D9)-100 -> 3.3244293
A10: AVILÉS | B10: 496045 | C10: 388831 | D10: 5734788 | E10: 5500365 | F10: =((E10*100)/D10)-100 -> -4.0877361
A11: BAHÍA DE ALGECIRAS | B11: 34888913 | C11: 33058515 | D11: 410703181 | E11: 416804261 | F11: =((E11*100)/D11)-100 -> 1.4855205
A12: BAHÍA DE CÁDIZ | B12: 1646635 | C12: 1975315 | D12: 26763560 | E12: 29301300 | F12: =((E12*100)/D12)-100 -> 9.4820719
A13: BALEARES | B13: 15109651 | C13: 13634525 | D13: 241035323 | E13: 263597604 | F13: =((E13*100)/D13)-100 -> 9.3605704
A14: BARCELONA | B14: 23250477 | C14: 23174994 | D14: 344143018 | E14: 344730742 | F14: =((E14*100)/D14)-100 -> 0.170779
A15: BILBAO | B15: 3365998 | C15: 3574671 | D15: 47997435 | E15: 48183949 | F15: =((E15*100)/D15)-100 -> 0.3885916
A16: CARTAGENA | B16: 3535764 | C16: 3378279 | D16: 43509822 | E16: 44450811 | F16: =((E16*100)/D16)-100 -> 2.1627048
A17: CASTELLÓN | B17: 2361893 | C17: 2188128 | D17: 29054321 | E17: 28995171 | F17: =((E17*100)/D17)-100 -> -0.20358418
A18: CEUTA | B18: 5436633 | C18: 5970799 | D18: 70169573 | E18: 76227245 | F18: =((E18*100)/D18)-100 -> 8.6329042
... A34: VILAGARCÍA | B34: 190351 | C34: 171654 | D34: 2698826 | E34: 2557541 | F34: =((E34*100)/D34)-100 -> -5.2350541
A35: Total | B35: =SUM(B7:B34) -> 186839318 | C35: =SUM(C7:C34) -> 187717688 | D35: =SUM(D7:D34) -> 2.303282e+09 | E35: =SUM(E7:E34) -> 2391606805 | F35: =((E35*100)/D35)-100 -> 3.8347369
A36: Unidades de arqueo bruto en G.T.
B38: =E6 -> 2019 | C38: =D6 -> 2018 | F38: =B38 -> 2019 | G38: =C38 -> 2018
A39: =A7 -> A CORUÑA | B39: =E7 -> 20494711 | C39: =D7 -> 21996116 | D39: =_xlfn.RANK.EQ(B39,$B$39:$B$66)+COUNTIF($B$39:$B$66,B39)-1 -> 19 | E39: =INDEX($A$39:$B$66,MATCH(ROW()-38,$D$39:$D$66,0),1) -> BAHÍA DE ALGECIRAS | F39: =LOOKUP(E39,$A$39:$A$66,$B$39:$B$66) -> 416804261 | G39: =LOOKUP(E39,$A$39:$A$66,$C$39:$C$66) -> 410703181
A40: =A8 -> ALICANTE | B40: =E8 -> 10164321 | C40: =D8 -> 11752887 | D40: =_xlfn.RANK.EQ(B40,$B$39:$B$66)+COUNTIF($B$39:$B$66,B40)-1 -> 23 | E40: =INDEX($A$39:$B$66,MATCH(ROW()-38,$D$39:$D$66,0),1) -> BARCELONA | F40: =LOOKUP(E40,$A$39:$A$66,$B$39:$B$66) -> 344730742 | G40: =LOOKUP(E40,$A$39:$A$66,$C$39:$C$66) -> 344143018
A41: =A9 -> ALMERÍA | B41: =E9 -> 37050513 | C41: =D9 -> 35858425 | D41: =_xlfn.RANK.EQ(B41,$B$39:$B$66)+COUNTIF($B$39:$B$66,B41)-1 -> 13 | E41: =INDEX($A$39:$B$66,MATCH(ROW()-38,$D$39:$D$66,0),1) -> LAS PALMAS | F41: =LOOKUP(E41,$A$39:$A$66,$B$39:$B$66) -> 277268966 | G41: =LOOKUP(E41,$A$39:$A$66,$C$39:$C$66) -> 248917445
A42: =A10 -> AVILÉS | B42: =E10 -> 5500365 | C42: =D10 -> 5734788 | D42: =_xlfn.RANK.EQ(B42,$B$39:$B$66)+COUNTIF($B$39:$B$66,B42)-1 -> 25 | E42: =INDEX($A$39:$B$66,MATCH(ROW()-38,$D$39:$D$66,0),1) -> VALENCIA | F42: =LOOKUP(E42,$A$39:$A$66,$B$39:$B$66) -> 273704772 | G42: =LOOKUP(E42,$A$39:$A$66,$C$39:$C$66) -> 262922154
A43: =A11 -> BAHÍA DE ALGECIRAS | B43: =E11 -> 416804261 | C43: =D11 -> 410703181 | D43: =_xlfn.RANK.EQ(B43,$B$39:$B$66)+COUNTIF($B$39:$B$66,B43)-1 -> 1 | E43: =INDEX($A$39:$B$66,MATCH(ROW()-38,$D$39:$D$66,0),1) -> BALEARES | F43: =LOOKUP(E43,$A$39:$A$66,$B$39:$B$66) -> 263597604 | G43: =LOOKUP(E43,$A$39:$A$66,$C$39:$C$66) -> 241035323
A44: =A12 -> BAHÍA DE CÁDIZ | B44: =E12 -> 29301300 | C44: =D12 -> 26763560 | D44: =_xlfn.RANK.EQ(B44,$B$39:$B$66)+COUNTIF($B$39:$B$66,B44)-1 -> 17 | E44: =INDEX($A$39:$B$66,MATCH(ROW()-38,$D$39:$D$66,0),1) -> SANTA CRUZ DE TENERIFE | F44: =LOOKUP(E44,$A$39:$A$66,$B$39:$B$66) -> 198007130 | G44: =LOOKUP(E44,$A$39:$A$66,$C$39:$C$66) -> 198822227
A45: =A13 -> BALEARES | B45: =E13 -> 263597604 | C45: =D13 -> 241035323 | D45: =_xlfn.RANK.EQ(B45,$B$39:$B$66)+COUNTIF($B$39:$B$66,B45)-1 -> 5 | E45: =INDEX($A$39:$B$66,MATCH(ROW()-38,$D$39:$D$66,0),1) -> CEUTA | F45: =LOOKUP(E45,$A$39:$A$66,$B$39:$B$66) -> 76227245 | G45: =LOOKUP(E45,$A$39:$A$66,$C$39:$C$66) -> 70169573
A46: =A14 -> BARCELONA | B46: =E14 -> 344730742 | C46: =D14 -> 344143018 | D46: =_xlfn.RANK.EQ(B46,$B$39:$B$66)+COUNTIF($B$39:$B$66,B46)-1 -> 2 | E46: =INDEX($A$39:$B$66,MATCH(ROW()-38,$D$39:$D$66,0),1) -> MÁLAGA | F46: =LOOKUP(E46,$A$39:$A$66,$B$39:$B$66) -> 54355578 | G46: =LOOKUP(E46,$A$39:$A$66,$C$39:$C$66) -> 44831999
A47: =A15 -> BILBAO | B47: =E15 -> 48183949 | C47: =D15 -> 47997435 | D47: =_xlfn.RANK.EQ(B47,$B$39:$B$66)+COUNTIF($B$39:$B$66,B47)-1 -> 10 | E47: =INDEX($A$39:$B$66,MATCH(ROW()-38,$D$39:$D$66,0),1) -> TARRAGONA | F47: =LOOKUP(E47,$A$39:$A$66,$B$39:$B$66) -> 48987812 | G47: =LOOKUP(E47,$A$39:$A$66,$C$39:$C$66) -> 46336398
A48: =A16 -> CARTAGENA | B48: =E16 -> 44450811 | C48: =D16 -> 43509822 | D48: =_xlfn.RANK.EQ(B48,$B$39:$B$66)+COUNTIF($B$39:$B$66,B48)-1 -> 11 | E48: =INDEX($A$39:$B$66,MATCH(ROW()-38,$D$39:$D$66,0),1) -> BILBAO | F48: =LOOKUP(E48,$A$39:$A$66,$B$39:$B$66) -> 48183949 | G48: =LOOKUP(E48,$A$39:$A$66,$C$39:$C$66) -> 47997435
A49: =A17 -> CASTELLÓN | B49: =E17 -> 28995171 | C49: =D17 -> 29054321 | D49: =_xlfn.RANK.EQ(B49,$B$39:$B$66)+COUNTIF($B$39:$B$66,B49)-1 -> 18 | E49: =INDEX($A$39:$B$66,MATCH(ROW()-38,$D$39:$D$66,0),1) -> CARTAGENA | F49: =LOOKUP(E49,$A$39:$A$66,$B$39:$B$66) -> 44450811 | G49: =LOOKUP(E49,$A$39:$A$66,$C$39:$C$66) -> 43509822
A50: =A18 -> CEUTA | B50: =E18 -> 76227245 | C50: =D18 -> 70169573 | D50: =_xlfn.RANK.EQ(B50,$B$39:$B$66)+COUNTIF($B$39:$B$66,B50)-1 -> 7 | E50: =INDEX($A$39:$B$66,MATCH(ROW()-38,$D$39:$D$66,0),1) -> HUELVA | F50: =LOOKUP(E50,$A$39:$A$66,$B$39:$B$66) -> 41533239 | G50: =LOOKUP(E50,$A$39:$A$66,$C$39:$C$66) -> 36843807
... A66: =A34 -> VILAGARCÍA | B66: =E34 -> 2557541 | C66: =D34 -> 2698826 | D66: =_xlfn.RANK.EQ(B66,$B$39:$B$66)+COUNTIF($B$39:$B$66,B66)-1 -> 28 | E66: =INDEX($A$39:$B$66,MATCH(ROW()-38,$D$39:$D$66,0),1) -> VILAGARCÍA | F66: =LOOKUP(E66,$A$39:$A$66,$B$39:$B$66) -> 2557541 | G66: =LOOKUP(E66,$A$39:$A$66,$C$39:$C$66) -> 2698826

Sheet Cruceros
F1: 13.2. CRUCEROS (unidades)
A5: Autoridad Portuaria | B5: ='Resumen general'!D6 -> Mes diciembre | D5: ='Resumen general'!F6 -> Acumulado desde enero | L5: ='Resumen general'!I4 -> Fecha: 5/10/2020
B6: ='Resumen general'!D7 -> 2018 | C6: ='Resumen general'!E7 -> 2019 | D6: ='Resumen general'!F7 -> 2018 | E6: ='Resumen general'!G7 -> 2019 | F6: Var. (%)
A7: A CORUÑA | B7: 1 | C7: 1 | D7: 94 | E7: 108 | F7: =((E7*100)/D7)-100 -> 14.893617
A8: ALICANTE | B8: 4 | C8: 0 | D8: 54 | E8: 43 | F8: =((E8*100)/D8)-100 -> -20.37037
A9: ALMERÍA | B9: 1 | C9: 0 | D9: 38 | E9: 25 | F9: =((E9*100)/D9)-100 -> -34.210526
A10: AVILÉS | B10: 0 | C10: 0 | D10: 4 | E10: 6 | F10: =((E10*100)/D10)-100 -> 50
A11: BAHÍA DE ALGECIRAS | B11: 0 | C11: 0 | D11: 0 | E11: 0 | F11: =((E11*100)/D11)-100 -> #DIV/0!
A12: BAHÍA DE CÁDIZ | B12: 18 | C12: 18 | D12: 334 | E12: 315 | F12: =((E12*100)/D12)-100 -> -5.6886228
A13: BALEARES | B13: 14 | C13: 13 | D13: 860 | E13: 820 | F13: =((E13*100)/D13)-100 -> -4.6511628
A14: BARCELONA | B14: 28 | C14: 22 | D14: 829 | E14: 800 | F14: =((E14*100)/D14)-100 -> -3.4981906
A15: BILBAO | B15: 0 | C15: 0 | D15: 59 | E15: 50 | F15: =((E15*100)/D15)-100 -> -15.254237
A16: CARTAGENA | B16: 7 | C16: 5 | D16: 151 | E16: 167 | F16: =((E16*100)/D16)-100 -> 10.596026
A17: CASTELLÓN | B17: 0 | C17: 0 | D17: 1 | E17: 5 | F17: =((E17*100)/D17)-100 -> 400
A18: CEUTA | B18: 25 | C18: 0 | D18: 11 | E18: 7 | F18: =((E18*100)/D18)-100 -> -36.363636
... A34: VILAGARCÍA | B34: 0 | C34: 0 | D34: 5 | E34: 3 | F34: =((E34*100)/D34)-100 -> -40
A35: Total | B35: =SUM(B7:B34) -> 299 | C35: =SUM(C7:C34) -> 289 | D35: =SUM(D7:D34) -> 4361 | E35: =SUM(E7:E34) -> 4236 | F35: =((E35*100)/D35)-100 -> -2.8663151
B38: =E6 -> 2019 | C38: =D6 -> 2018 | F38: =B38 -> 2019 | G38: =C38 -> 2018
A39: =A7 -> A CORUÑA | B39: =E7 -> 108 | C39: =D7 -> 94 | D39: =_xlfn.RANK.EQ(B39,$B$39:$B$66)+COUNTIF($B$39:$B$66,B39)-1 -> 9 | E39: =INDEX($A$39:$B$66,MATCH(ROW()-38,$D$39:$D$66,0),1) -> BALEARES | F39: =LOOKUP(E39,$A$39:$A$66,$B$39:$B$66) -> 820 | G39: =LOOKUP(E39,$A$39:$A$66,$C$39:$C$66) -> 860
A40: =A8 -> ALICANTE | B40: =E8 -> 43 | C40: =D8 -> 54 | D40: =_xlfn.RANK.EQ(B40,$B$39:$B$66)+COUNTIF($B$39:$B$66,B40)-1 -> 14 | E40: =INDEX($A$39:$B$66,MATCH(ROW()-38,$D$39:$D$66,0),1) -> BARCELONA | F40: =LOOKUP(E40,$A$39:$A$66,$B$39:$B$66) -> 800 | G40: =LOOKUP(E40,$A$39:$A$66,$C$39:$C$66) -> 829
A41: =A9 -> ALMERÍA | B41: =E9 -> 25 | C41: =D9 -> 38 | D41: =_xlfn.RANK.EQ(B41,$B$39:$B$66)+COUNTIF($B$39:$B$66,B41)-1 -> 16 | E41: =INDEX($A$39:$B$66,MATCH(ROW()-38,$D$39:$D$66,0),1) -> LAS PALMAS | F41: =LOOKUP(E41,$A$39:$A$66,$B$39:$B$66) -> 560 | G41: =LOOKUP(E41,$A$39:$A$66,$C$39:$C$66) -> 586
A42: =A10 -> AVILÉS | B42: =E10 -> 6 | C42: =D10 -> 4 | D42: =_xlfn.RANK.EQ(B42,$B$39:$B$66)+COUNTIF($B$39:$B$66,B42)-1 -> 22 | E42: =INDEX($A$39:$B$66,MATCH(ROW()-38,$D$39:$D$66,0),1) -> SANTA CRUZ DE TENERIFE | F42: =LOOKUP(E42,$A$39:$A$66,$B$39:$B$66) -> 511 | G42: =LOOKUP(E42,$A$39:$A$66,$C$39:$C$66) -> 549
A43: =A11 -> BAHÍA DE ALGECIRAS | B43: =E11 -> 0 | C43: =D11 -> 0 | D43: =_xlfn.RANK.EQ(B43,$B$39:$B$66)+COUNTIF($B$39:$B$66,B43)-1 -> 28 | E43: =INDEX($A$39:$B$66,MATCH(ROW()-38,$D$39:$D$66,0),1) -> BAHÍA DE CÁDIZ | F43: =LOOKUP(E43,$A$39:$A$66,$B$39:$B$66) -> 315 | G43: =LOOKUP(E43,$A$39:$A$66,$C$39:$C$66) -> 334
A44: =A12 -> BAHÍA DE CÁDIZ | B44: =E12 -> 315 | C44: =D12 -> 334 | D44: =_xlfn.RANK.EQ(B44,$B$39:$B$66)+COUNTIF($B$39:$B$66,B44)-1 -> 5 | E44: =INDEX($A$39:$B$66,MATCH(ROW()-38,$D$39:$D$66,0),1) -> MÁLAGA | F44: =LOOKUP(E44,$A$39:$A$66,$B$39:$B$66) -> 288 | G44: =LOOKUP(E44,$A$39:$A$66,$C$39:$C$66) -> 299
A45: =A13 -> BALEARES | B45: =E13 -> 820 | C45: =D13 -> 860 | D45: =_xlfn.RANK.EQ(B45,$B$39:$B$66)+COUNTIF($B$39:$B$66,B45)-1 -> 1 | E45: =INDEX($A$39:$B$66,MATCH(ROW()-38,$D$39:$D$66,0),1) -> VALENCIA | F45: =LOOKUP(E45,$A$39:$A$66,$B$39:$B$66) -> 203 | G45: =LOOKUP(E45,$A$39:$A$66,$C$39:$C$66) -> 194
A46: =A14 -> BARCELONA | B46: =E14 -> 800 | C46: =D14 -> 829 | D46: =_xlfn.RANK.EQ(B46,$B$39:$B$66)+COUNTIF($B$39:$B$66,B46)-1 -> 2 | E46: =INDEX($A$39:$B$66,MATCH(ROW()-38,$D$39:$D$66,0),1) -> CARTAGENA | F46: =LOOKUP(E46,$A$39:$A$66,$B$39:$B$66) -> 167 | G46: =LOOKUP(E46,$A$39:$A$66,$C$39:$C$66) -> 151
A47: =A15 -> BILBAO | B47: =E15 -> 50 | C47: =D15 -> 59 | D47: =_xlfn.RANK.EQ(B47,$B$39:$B$66)+COUNTIF($B$39:$B$66,B47)-1 -> 13 | E47: =INDEX($A$39:$B$66,MATCH(ROW()-38,$D$39:$D$66,0),1) -> A CORUÑA | F47: =LOOKUP(E47,$A$39:$A$66,$B$39:$B$66) -> 108 | G47: =LOOKUP(E47,$A$39:$A$66,$C$39:$C$66) -> 94
A48: =A16 -> CARTAGENA | B48: =E16 -> 167 | C48: =D16 -> 151 | D48: =_xlfn.RANK.EQ(B48,$B$39:$B$66)+COUNTIF($B$39:$B$66,B48)-1 -> 8 | E48: =INDEX($A$39:$B$66,MATCH(ROW()-38,$D$39:$D$66,0),1) -> SEVILLA | F48: =LOOKUP(E48,$A$39:$A$66,$B$39:$B$66) -> 95 | G48: =LOOKUP(E48,$A$39:$A$66,$C$39:$C$66) -> 75
A49: =A17 -> CASTELLÓN | B49: =E17 -> 5 | C49: =D17 -> 1 | D49: =_xlfn.RANK.EQ(B49,$B$39:$B$66)+COUNTIF($B$39:$B$66,B49)-1 -> 23 | E49: =INDEX($A$39:$B$66,MATCH(ROW()-38,$D$39:$D$66,0),1) -> VIGO | F49: =LOOKUP(E49,$A$39:$A$66,$B$39:$B$66) -> 71 | G49: =LOOKUP(E49,$A$39:$A$66,$C$39:$C$66) -> 70
A50: =A18 -> CEUTA | B50: =E18 -> 7 | C50: =D18 -> 11 | D50: =_xlfn.RANK.EQ(B50,$B$39:$B$66)+COUNTIF($B$39:$B$66,B50)-1 -> 21 | E50: =INDEX($A$39:$B$66,MATCH(ROW()-38,$D$39:$D$66,0),1) -> TARRAGONA | F50: =LOOKUP(E50,$A$39:$A$66,$B$39:$B$66) -> 63 | G50: =LOOKUP(E50,$A$39:$A$66,$C$39:$C$66) -> 57
... A66: =A34 -> VILAGARCÍA | B66: =E34 -> 3 | C66: =D34 -> 5 | D66: =_xlfn.RANK.EQ(B66,$B$39:$B$66)+COUNTIF($B$39:$B$66,B66)-1 -> 25 | E66: =INDEX($A$39:$B$66,MATCH(ROW()-38,$D$39:$D$66,0),1) -> BAHÍA DE ALGECIRAS | F66: =LOOKUP(E66,$A$39:$A$66,$B$39:$B$66) -> 0 | G66: =LOOKUP(E66,$A$39:$A$66,$C$39:$C$66) -> 0
