Workbook
Name CABECERA: Cruceros!$A$5:$F$6
Name CONCEPTO: 'Resumen general'!$A$6
Name LblRes00_Acum: 'Resumen general'!$F$6:$G$6
Name LblRes00_Mes: 'Resumen general'!$D$6:$E$6
Name LblRes00_Var: 'Resumen general'!$H$6:$I$6
Name LblRes01_1_Acum: 'Total presentación'!$D$5:$F$5
Name LblRes01_1_Mes: 'Total presentación'!$B$5:$C$5
Name LblRes01_Acum: 'Automóviles régimen mercancía'!$D$5:$F$5
Name LblRes01_Acum: 'Ro-Ro remolques'!$D$5:$F$5
Name LblRes01_Acum: 'Total tráfico'!$D$5:$F$5
Name LblRes01_Mes: 'Automóviles régimen mercancía'!$B$5:$C$5
Name LblRes01_Mes: 'Ro-Ro remolques'!$B$5:$C$5
Name LblRes01_Mes: 'Total tráfico'!$B$5:$C$5
Name LblRes02_Acum: Líquidos!$D$5:$F$5
Name LblRes02_Mes: Líquidos!$B$5:$C$5
Name LblRes03_Acum: Sólidos!$D$5:$F$5
Name LblRes03_Mes: Sólidos!$B$5:$C$5
Name LblRes04_Acum: 'Mercancía general'!$D$5:$F$5
Name LblRes04_Mes: 'Mercancía general'!$B$5:$C$5
Name LblRes05_Acum: Pesca!$D$5:$F$5
Name LblRes05_Mes: Pesca!$B$5:$C$5
Name LblRes06_Acum: Avituallamiento!$D$5:$F$5
Name LblRes06_Mes: Avituallamiento!$B$5:$C$5
Name LblRes07_1_Acum: 'Mercan. contene. tránsito'!$D$5:$F$5
Name LblRes07_1_Mes: 'Mercan. contene. tránsito'!$B$5:$C$5
Name LblRes07_Acum: 'Mercancías tránsito'!$D$5:$F$5
Name LblRes07_Mes: 'Mercancías tránsito'!$B$5:$C$5
Name LblRes08_Acum: 'Mercancías contenedores'!$D$5:$F$5
Name LblRes08_Mes: 'Mercancías contenedores'!$B$5:$C$5
Name LblRes09_Acum: 'Ro-Ro'!$D$5:$F$5
Name LblRes09_Mes: 'Ro-Ro'!$B$5:$C$5
Name LblRes10_1_Acum: 'TEUS tránsito'!$D$5:$F$5
Name LblRes10_1_Mes: 'TEUS tránsito'!$B$5:$C$5
Name LblRes10_2_Acum: 'TEUS nacional'!$D$5:$F$5
Name LblRes10_2_Mes: 'TEUS nacional'!$B$5:$C$5
Name LblRes10_3_Acum: 'TEUS exterior'!$D$5:$F$5
Name LblRes10_3_Mes: 'TEUS exterior'!$B$5:$C$5
Name LblRes10_4_Acum: 'TEUS nacional y exterior'!$D$5:$F$5
Name LblRes10_4_Mes: 'TEUS nacional y exterior'!$B$5:$C$5
Name LblRes10_Acum: TEUS!$D$5:$F$5
Name LblRes10_Mes: TEUS!$B$5:$C$5
Name LblRes11_1_Acum: 'Pasajeros crucero'!$D$5:$F$5
Name LblRes11_1_Mes: 'Pasajeros crucero'!$B$5:$C$5
Name LblRes11_2_Acum: 'Automóviles régimen pasaje'!$D$5:$F$5
Name LblRes11_2_Mes: 'Automóviles régimen pasaje'!$B$5:$C$5
Name LblRes11_Acum: 'Pasajeros total'!$D$5:$F$5
Name LblRes11_Mes: 'Pasajeros total'!$B$5:$C$5
Name LblRes12_1_Acum: 'Buques número'!$D$5:$F$5
Name LblRes12_1_Mes: 'Buques número'!$B$5:$C$5
Name LblRes12_2_Acum: 'Buques GT'!$D$5:$F$5
Name LblRes12_2_Mes: 'Buques GT'!$B$5:$C$5
Name LblRes12_3_Acum: Cruceros!$D$5:$F$5
Name LblRes12_3_Mes: Cruceros!$B$5:$C$5
Name PROVINCIAS: Cruceros!$A$5:$A$35
Name TxtFecha: Cruceros!$L$5

Sheet Portada
I1: Dirección de Planificación y Desarrollo
I2: Departamento de Estadística
G15: RESUMEN GENERAL DEL TRÁFICO PORTUARIO*
G16: Diciembre 2019
K29: * DATOS DE CIERRE DEFINITIVOS

Sheet Indice
F5: ÍNDICE
B7: ="0." -> 0. | C7: RESUMEN GENERAL DEL TRÁFICO PORTUARIO
B8: ="1." -> 1. | C8: TRÁFICO PORTUARIO
B9: 1.1. | C9: MERCANCÍAS SEGÚN SU FORMA DE PRESENTACIÓN
B10: ="2." -> 2. | C10: GRANELES LÍQUIDOS
B11: ="3." -> 3. | C11: GRANELES SÓLIDOS
B12: ="4." -> 4. | C12: MERCANCÍA GENERAL
B13: 4.1. | C13: MERCANCÍAS EN CONTENEDORES
B14: ="5." -> 5. | C14: PESCA
B15: ="6." -> 6. | C15: AVITUALLAMIENTO
B16: 6.1. | C16: AVITUALLAMIENTO COMBUSTIBLES LÍQUIDOS
B17: ="7." -> 7. | C17: TRÁFICO INTERIOR
B18: ="8." -> 8. | C18: MERCANCÍAS EN TRÁNSITO
B19: 8.1. | C19: MERCANCÍAS EN CONTENEDORES EN TRÁNSITO
B20: ="9." -> 9. | C20: TRÁFICO RO-RO
B21: 9.1. | C21: TRÁFICO RO-RO DE REMOLQUES, SEMIRREMOLQUES Y PLATAFORMAS (unidades)
B22: ="10." -> 10. | C22: CONTENEDORES (TEUS)
B23: 10.1. | C23: CONTENEDORES EN TRÁNSITO (TEUS)
B24: 10.2. | C24: CONTENEDORES ENTRADAS-SALIDAS NACIONAL (TEUS)
B25: 10.3. | C25: CONTENEDORES IMPORTACIÓN-EXPORTACIÓN EXTERIOR (TEUS)
B26: 10.4. | C26: CONTENEDORES NACIONAL Y EXTERIOR (TEUS)
B27: ="11." -> 11. | C27: PASAJEROS EN RÉGIMEN DE TRANSPORTE Y DE CRUCERO (número)
B28: 11.1. | C28: PASAJEROS DE CRUCERO (número)
B29: 12.1. | C29: AUTOMÓVILES EN REGIMEN DE PASAJE (unidades)
B30: 12.2. | C30: TURISMOS, AUTOBUSES Y CAMIONES EN REGIMEN DE MERCANCÍA (unidades)
B31: ="13." -> 13. | C31: BUQUES MERCANTES (unidades)
B32: 13.1. | C32: BUQUES MERCANTES (unidades de arqueo bruto)
B33: 13.2. | C33: CRUCEROS (unidades)

Sheet Resumen general
D1: 00. RESUMEN GENERAL DEL TRÁFICO PORTUARIO
I4: Fecha: 5/10/2020
A6: CONCEPTO | D6: Mes diciembre | F6: Acumulado desde enero | H6: Variación
D7: 2018 | E7: 2019 | F7: 2018 | G7: 2019 | H7: Diferencia | I7: %
A8: MERCANCÍAS SEGÚN SU PRESENTACIÓN | B8: GRANELES | C8: LÍQUIDOS | D8: =Líquidos!B35 -> 15990554 | E8: 15178422 | F8: =Líquidos!D35 -> 1.807193e+08 | G8: =Líquidos!E35 -> 1.8708969e+08 | H8: =G8-F8 -> 6370393.3 | I8: =((G8*100/F8)-100) -> 3.5250211
C9: SÓLIDOS | D9: =Sólidos!B35 -> 9252149 | E9: 6896712 | F9: =Sólidos!D35 -> 1.023661e+08 | G9: =Sólidos!E35 -> 90843677 | H9: =G9-F9 -> -11522418 | I9: =((G9*100/F9)-100) -> -11.256089
B10: MERCANCÍA GRAL. | C10: CONVENCIONAL | D10: =D12-D11 -> 5826515 | E10: 5823463 | F10: =F12-F11 -> 76344302 | G10: =G12-G11 -> 78722689 | H10: =G10-F10 -> 2378386.9 | I10: =((G10*100/F10)-100) -> 3.1153431
C11: EN CONTENEDORES | D11: ='Mercancías contenedores'!B35 -> 15741882 | E11: 15120388 | F11: ='Mercancías contenedores'!D35 -> 1.9102825e+08 | G11: ='Mercancías contenedores'!E35 -> 1.9528963e+08 | H11: =G11-F11 -> 4261374 | I11: =((G11*100/F11)-100) -> 2.2307559
C12: TOTAL | D12: ='Mercancía general'!B35 -> 21568397 | E12: 20943851 | F12: ='Mercancía general'!D35 -> 2.6737255e+08 | G12: ='Mercancía general'!E35 -> 2.7401231e+08 | H12: =G12-F12 -> 6639760.9 | I12: =((G12*100/F12)-100) -> 2.4833368
C13: TOTAL | D13: =+D8+D9+D12 -> 46811100 | E13: =+E8+E9+E12 -> 43018985 | F13: =+F8+F9+F12 -> 5.5045794e+08 | G13: =+G8+G9+G12 -> 5.5194568e+08 | H13: =G13-F13 -> 1487735.9 | I13: =((G13*100/F13)-100) -> 0.2702724
A14: OTRAS MERCANCÍAS | B14: PESCA | C14: TOTAL PESCA | D14: =Pesca!B35 -> 18385 | E14: 17353 | F14: =Pesca!D35 -> 224013.83 | G14: =Pesca!E35 -> 205394.17 | H14: =G14-F14 -> -18619.669 | I14: =((G14*100/F14)-100) -> -8.3118387
B15: AVITUALLAMIENTO | C15: COMBUSTIBLES LÍQUIDOS | D15: ='Avi. combustibles'!B35 -> 664863 | E15: 685668 | F15: ='Avi. combustibles'!D35 -> 8153155 | G15: ='Avi. combustibles'!E35 -> 7988860 | H15: =G15-F15 -> -164294.98 | I15: =((G15*100/F15)-100) -> -2.0151092
C16: OTROS | D16: =Avituallamiento!B35-'Resumen general'!D15 -> 176648 | E16: 178536 | F16: =Avituallamiento!D35-'Resumen general'!F15 -> 2142339.2 | G16: =Avituallamiento!E35-'Resumen general'!G15 -> 2058455 | H16: =G16-F16 -> -83884.153 | I16: =((G16*100/F16)-100) -> -3.9155403
B17: TRAFICO INTERIOR | C17: TOTAL TRAFICO INTERIOR | D17: ='Tráfico interior'!B35 -> 236834 | E17: 148433 | F17: ='Tráfico interior'!D35 -> 2579158.2 | G17: ='Tráfico interior'!E35 -> 2305650.5 | H17: =G17-F17 -> -273507.79 | I17: =((G17*100/F17)-100) -> -10.604537
C18: TOTAL | D18: =+D14+D15+D16+D17 -> 1096730 | E18: =+E14+E15+E16+E17 -> 1029990 | F18: =+F14+F15+F16+F17 -> 13098666 | G18: =+G14+G15+G16+G17 -> 12558360 | H18: =G18-F18 -> -540306.59 | I18: =((G18*100/F18)-100) -> -4.1248978
C19: TOTAL TRÁFICO PORTUARIO (*) | D19: =+D13+D18 -> 47907830 | E19: =+E13+E18 -> 44048975 | F19: =+F13+F18 -> 5.6355661e+08 | G19: =+G13+G18 -> 5.6450404e+08 | H19: =G19-F19 -> 947429.33 | I19: =((G19*100/F19)-100) -> 0.16811609
A21: OTRAS INFORMACIONES | B21: MERCANCÍAS | C21: EN TRÁNSITO | D21: ='Mercancías tránsito'!B35 -> 13091845 | E21: 11957820 | F21: ='Mercancías tránsito'!D35 -> 1.4808752e+08 | G21: ='Mercancías tránsito'!E35 -> 1.5465606e+08 | H21: =G21-F21 -> 6568541.5 | I21: =((G21*100/F21)-100) -> 4.4355807
C22: EN CONTENEDORES EN TRÁNSITO | D22: ='Mercan. contene. tránsito'!B35 -> 9761738 | E22: 9203403 | F22: ='Mercan. contene. tránsito'!D35 -> 1.1597859e+08 | G22: ='Mercan. contene. tránsito'!E35 -> 1.1923651e+08 | H22: =G22-F22 -> 3257917.4 | I22: =((G22*100/F22)-100) -> 2.8090678
B23: TRÁFICO RO-RO | C23: TOTAL TRÁFICO RO-RO | D23: ='Ro-Ro'!B35 -> 4686273 | E23: 4798098 | F23: ='Ro-Ro'!D35 -> 62677883 | G23: ='Ro-Ro'!E35 -> 65778392 | H23: =G23-F23 -> 3100509.8 | I23: =((G23*100/F23)-100) -> 4.9467367
C24: REMOLQUES, SEMIRR. Y PLATAF. (uds.) | D24: ='Ro-Ro remolques'!B35 -> 112701 | E24: 115861 | F24: ='Ro-Ro remolques'!D35 -> 1154507 | G24: ='Ro-Ro remolques'!E35 -> 1335400 | H24: =G24-F24 -> 180893 | I24: =((G24*100/F24)-100) -> 15.66842
B25: CONTENEDORES | C25: TOTAL CONTENEDORES (TEUS) | D25: =TEUS!B35 -> 1422034 | E25: 1342375 | F25: =TEUS!D35 -> 17203134 | G25: =TEUS!E35 -> 17509574 | H25: =G25-F25 -> 306440.47 | I25: =((G25*100/F25)-100) -> 1.7813061
C26: EN TRÁNSITO (TEUS) | D26: ='TEUS tránsito'!B35 -> 785454 | E26: 732334 | F26: ='TEUS tránsito'!D35 -> 9267925.3 | G26: ='TEUS tránsito'!E35 -> 9406165 | H26: =G26-F26 -> 138239.68 | I26: =((G26*100/F26)-100) -> 1.4915925
C27: ENTRADAS-SALIDAS NACIONAL (TEUS) | D27: ='TEUS nacional'!B35 -> 160049 | E27: 157086 | F27: ='TEUS nacional'!D35 -> 2028712 | G27: ='TEUS nacional'!E35 -> 2009908 | H27: =G27-F27 -> -18804 | I27: =((G27*100/F27)-100) -> -0.92689352
C28: IMPORT-EXPORT EXTERIOR (TEUS) | D28: ='TEUS exterior'!B35 -> 476508 | E28: 452956 | F28: ='TEUS exterior'!D35 -> 5900137.7 | G28: ='TEUS exterior'!E35 -> 6057927 | H28: =G28-F28 -> 157789.33 | I28: =((G28*100/F28)-100) -> 2.674333
C29: NACIONAL Y EXTERIOR (TEUS) | D29: ='TEUS nacional y exterior'!B35 -> 636558 | E29: 610041 | F29: ='TEUS nacional y exterior'!D35 -> 7928850.9 | G29: ='TEUS nacional y exterior'!E35 -> 8067835 | H29: =G29-F29 -> 138984.08 | I29: =((G29*100/F29)-100) -> 1.7528906
B30: PASAJEROS | C30: REG. TRANSPORTE Y DE CRUCERO (nº) | D30: ='Pasajeros total'!B35 -> 2229352 | E30: 2305879 | F30: ='Pasajeros total'!D35 -> 36100685 | G30: ='Pasajeros total'!E35 -> 37607449 | H30: =G30-F30 -> 1506764 | I30: =((G30*100/F30)-100) -> 4.1737823
C31: DE CRUCERO (nº) | D31: ='Pasajeros crucero'!B35 -> 610538 | E31: 656832 | F31: ='Pasajeros crucero'!D35 -> 10170379 | G31: ='Pasajeros crucero'!E35 -> 10664581 | H31: =G31-F31 -> 494202 | I31: =((G31*100/F31)-100) -> 4.8592289
B32: AUTOMÓVILES | C32: EN RÉGIMEN DE PASAJE (uds) | D32: ='Automóviles régimen pasaje'!B35 -> 398311 | E32: 419757 | F32: ='Automóviles régimen pasaje'!D35 -> 5512090 | G32: ='Automóviles régimen pasaje'!E35 -> 5917910 | H32: =G32-F32 -> 405820 | I32: =((G32*100/F32)-100) -> 7.3623616
C33: EN RÉGIMEN DE MERCANCÍA (**) | D33: ='Automóviles régimen mercancía'!B35 -> 277884 | E33: 268947 | F33: ='Automóviles régimen mercancía'!D35 -> 3493656 | G33: ='Automóviles régimen mercancía'!E35 -> 3405324 | H33: =G33-F33 -> -88332 | I33: =((G33*100/F33)-100) -> -2.5283543
B34: BUQUES MERCANTES | C34: TOTAL BUQUES MERCANTES (uds) | D34: ='Buques número'!B35 -> 12342 | E34: 12064 | F34: ='Buques número'!D35 -> 167119 | G34: ='Buques número'!E35 -> 170944 | H34: =G34-F34 -> 3825 | I34: =((G34*100/F34)-100) -> 2.2887882
C35: UDS. ARQUEO BRUTO (G.T.) | D35: ='Buques GT'!B35 -> 186839318 | E35: 187717688 | F35: ='Buques GT'!D35 -> 2.303282e+09 | G35: ='Buques GT'!E35 -> 2391606805 | H35: =G35-F35 -> 88324806 | I35: =((G35*100/F35)-100) -> 3.8347369
C36: CRUCEROS (uds) | D36: =Cruceros!B35 -> 299 | E36: 289 | F36: =Cruceros!D35 -> 4361 | G36: =Cruceros!E35 -> 4236 | H36: =G36-F36 -> -125 | I36: =((G36*100/F36)-100) -> -2.8663151
A37: (*) Incluye cargas, descargas, tránsitos y transbordos.
A38: (**) Solo turismos, autobuses y camiones

Sheet Total tráfico
F1: 1. TRÁFICO PORTUARIO (toneladas)
A5: Autoridad Portuaria | B5: ='Resumen general'!D6 -> Mes diciembre | D5: ='Resumen general'!F6 -> Acumulado desde enero | L5: ='Resumen general'!I4 -> Fecha: 5/10/2020
B6: ='Resumen general'!D7 -> 2018 | C6: ='Resumen general'!E7 -> 2019 | D6: ='Resumen general'!F7 -> 2018 | E6: ='Resumen general'!G7 -> 2019 | F6: Var. (%)
A7: A CORUÑA | B7: 1118796 | C7: 1092898 | D7: 15703803 | E7: 13696828 | F7: =((E7*100)/D7)-100 -> -12.780188
A8: ALICANTE | B8: 260530 | C8: 261497 | D8: 3191163.4 | E8: 2919012.5 | F8: =((E8*100)/D8)-100 -> -8.5282678
A9: ALMERÍA | B9: 382908 | C9: 364801 | D9: 7060554.6 | E9: 5639603.9 | F9: =((E9*100)/D9)-100 -> -20.1252
A10: AVILÉS | B10: 489207 | C10: 409720 | D10: 5024862.9 | E10: 5146026.4 | F10: =((E10*100)/D10)-100 -> 2.4112812
A11: BAHÍA DE ALGECIRAS | B11: 8736644 | C11: 8419518 | D11: 1.0736103e+08 | E11: 1.0941505e+08 | F11: =((E11*100)/D11)-100 -> 1.9131921
A12: BAHÍA DE CÁDIZ | B12: 321599 | C12: 492495 | D12: 3955515.2 | E12: 4443392 | F12: =((E12*100)/D12)-100 -> 12.33409
A13: BALEARES | B13: 1053762 | C13: 981426 | D13: 16453613 | E13: 16812167 | F13: =((E13*100)/D13)-100 -> 2.1791817
A14: BARCELONA | B14: 5677581 | C14: 4989084 | D14: 67756258 | E14: 67693385 | F14: =((E14*100)/D14)-100 -> -0.092793448
A15: BILBAO | B15: 2790535 | C15: 2864644 | D15: 35695400 | E15: 35561022 | F15: =((E15*100)/D15)-100 -> -0.37645887
A16: CARTAGENA | B16: 3048788 | C16: 3027734 | D16: 33941690 | E16: 34282141 | F16: =((E16*100)/D16)-100 -> 1.0030457
A17: CASTELLÓN | B17: 1729062 | C17: 1553950 | D17: 21137627 | E17: 20720852 | F17: =((E17*100)/D17)-100 -> -1.9717219
A18: CEUTA | B18: 173686 | C18: 195755 | D18: 2448437.9 | E18: 2501971.6 | F18: =((E18*100)/D18)-100 -> 2.1864465
... A34: VILAGARCÍA | B34: 100915 | C34: 109068 | D34: 1211306 | E34: 1320702 | F34: =((E34*100)/D34)-100 -> 9.031244
A35: Total | B35: =SUM(B7:B34) -> 47907830 | C35: 44048975 | D35: =SUM(D7:D34) -> 5.6355661e+08 | E35: =SUM(E7:E34) -> 5.6450404e+08 | F35: =((E35*100)/D35)-100 -> 0.16811609
A36: Incluye cargas, descargas, tránsitos y transbordos.
B38: =E6 -> 2019 | C38: =D6 -> 2018 | F38: =B38 -> 2019 | G38: =C38 -> 2018
A39: =A7 -> A CORUÑA | B39: =E7 -> 13696828 | C39: =D7 -> 15703803 | D39: =_xlfn.RANK.EQ(B39,$B$39:$B$66)+COUNTIF($B$39:$B$66,B39)-1 -> 12 | E39: =INDEX($A$39:$B$66,MATCH(ROW()-38,$D$39:$D$66,0),1) -> BAHÍA DE ALGECIRAS | F39: =LOOKUP(E39,$A$39:$A$66,$B$39:$B$66) -> 1.0941505e+08 | G39: =LOOKUP(E39,$A$39:$A$66,$C$39:$C$66) -> 1.0736103e+08
A40: =A8 -> ALICANTE | B40: =E8 -> 2919012.5 | C40: =D8 -> 3191163.4 | D40: =_xlfn.RANK.EQ(B40,$B$39:$B$66)+COUNTIF($B$39:$B$66,B40)-1 -> 23 | E40: =INDEX($A$39:$B$66,MATCH(ROW()-38,$D$39:$D$66,0),1) -> VALENCIA | F40: =LOOKUP(E40,$A$39:$A$66,$B$39:$B$66) -> 81063555 | G40: =LOOKUP(E40,$A$39:$A$66,$C$39:$C$66) -> 76621101
A41: =A9 -> ALMERÍA | B41: =E9 -> 5639603.9 | C41: =D9 -> 7060554.6 | D41: =_xlfn.RANK.EQ(B41,$B$39:$B$66)+COUNTIF($B$39:$B$66,B41)-1 -> 16 | E41: =INDEX($A$39:$B$66,MATCH(ROW()-38,$D$39:$D$66,0),1) -> BARCELONA | F41: =LOOKUP(E41,$A$39:$A$66,$B$39:$B$66) -> 67693385 | G41: =LOOKUP(E41,$A$39:$A$66,$C$39:$C$66) -> 67756258
A42: =A10 -> AVILÉS | B42: =E10 -> 5146026.4 | C42: =D10 -> 5024862.9 | D42: =_xlfn.RANK.EQ(B42,$B$39:$B$66)+COUNTIF($B$39:$B$66,B42)-1 -> 17 | E42: =INDEX($A$39:$B$66,MATCH(ROW()-38,$D$39:$D$66,0),1) -> BILBAO | F42: =LOOKUP(E42,$A$39:$A$66,$B$39:$B$66) -> 35561022 | G42: =LOOKUP(E42,$A$39:$A$66,$C$39:$C$66) -> 35695400
A43: =A11 -> BAHÍA DE ALGECIRAS | B43: =E11 -> 1.0941505e+08 | C43: =D11 -> 1.0736103e+08 | D43: =_xlfn.RANK.EQ(B43,$B$39:$B$66)+COUNTIF($B$39:$B$66,B43)-1 -> 1 | E43: =INDEX($A$39:$B$66,MATCH(ROW()-38,$D$39:$D$66,0),1) -> CARTAGENA | F43: =LOOKUP(E43,$A$39:$A$66,$B$39:$B$66) -> 34282141 | G43: =LOOKUP(E43,$A$39:$A$66,$C$39:$C$66) -> 33941690
A44: =A12 -> BAHÍA DE CÁDIZ | B44: =E12 -> 4443392 | C44: =D12 -> 3955515.2 | D44: =_xlfn.RANK.EQ(B44,$B$39:$B$66)+COUNTIF($B$39:$B$66,B44)-1 -> 18 | E44: =INDEX($A$39:$B$66,MATCH(ROW()-38,$D$39:$D$66,0),1) -> HUELVA | F44: =LOOKUP(E44,$A$39:$A$66,$B$39:$B$66) -> 33813726 | G44: =LOOKUP(E44,$A$39:$A$66,$C$39:$C$66) -> 32966864
A45: =A13 -> BALEARES | B45: =E13 -> 16812167 | C45: =D13 -> 16453613 | D45: =_xlfn.RANK.EQ(B45,$B$39:$B$66)+COUNTIF($B$39:$B$66,B45)-1 -> 11 | E45: =INDEX($A$39:$B$66,MATCH(ROW()-38,$D$39:$D$66,0),1) -> TARRAGONA | F45: =LOOKUP(E45,$A$39:$A$66,$B$39:$B$66) -> 32802075 | G45: =LOOKUP(E45,$A$39:$A$66,$C$39:$C$66) -> 32084325
A46: =A14 -> BARCELONA | B46: =E14 -> 67693385 | C46: =D14 -> 67756258 | D46: =_xlfn.RANK.EQ(B46,$B$39:$B$66)+COUNTIF($B$39:$B$66,B46)-1 -> 3 | E46: =INDEX($A$39:$B$66,MATCH(ROW()-38,$D$39:$D$66,0),1) -> LAS PALMAS | F46: =LOOKUP(E46,$A$39:$A$66,$B$39:$B$66) -> 26690343 | G46: =LOOKUP(E46,$A$39:$A$66,$C$39:$C$66) -> 26974184
A47: =A15 -> BILBAO | B47: =E15 -> 35561022 | C47: =D15 -> 35695400 | D47: =_xlfn.RANK.EQ(B47,$B$39:$B$66)+COUNTIF($B$39:$B$66,B47)-1 -> 4 | E47: =INDEX($A$39:$B$66,MATCH(ROW()-38,$D$39:$D$66,0),1) -> CASTELLÓN | F47: =LOOKUP(E47,$A$39:$A$66,$B$39:$B$66) -> 20720852 | G47: =LOOKUP(E47,$A$39:$A$66,$C$39:$C$66) -> 21137627
A48: =A16 -> CARTAGENA | B48: =E16 -> 34282141 | C48: =D16 -> 33941690 | D48: =_xlfn.RANK.EQ(B48,$B$39:$B$66)+COUNTIF($B$39:$B$66,B48)-1 -> 5 | E48: =INDEX($A$39:$B$66,MATCH(ROW()-38,$D$39:$D$66,0),1) -> GIJÓN | F48: =LOOKUP(E48,$A$39:$A$66,$B$39:$B$66) -> 17392019 | G48: =LOOKUP(E48,$A$39:$A$66,$C$39:$C$66) -> 19699445
A49: =A17 -> CASTELLÓN | B49: =E17 -> 20720852 | C49: =D17 -> 21137627 | D49: =_xlfn.RANK.EQ(B49,$B$39:$B$66)+COUNTIF($B$39:$B$66,B49)-1 -> 9 | E49: =INDEX($A$39:$B$66,MATCH(ROW()-38,$D$39:$D$66,0),1) -> BALEARES | F49: =LOOKUP(E49,$A$39:$A$66,$B$39:$B$66) -> 16812167 | G49: =LOOKUP(E49,$A$39:$A$66,$C$39:$C$66) -> 16453613
A50: =A18 -> CEUTA | B50: =E18 -> 2501971.6 | C50: =D18 -> 2448437.9 | D50: =_xlfn.RANK.EQ(B50,$B$39:$B$66)+COUNTIF($B$39:$B$66,B50)-1 -> 25 | E50: =INDEX($A$39:$B$66,MATCH(ROW()-38,$D$39:$D$66,0),1) -> A CORUÑA | F50: =LOOKUP(E50,$A$39:$A$66,$B$39:$B$66) -> 13696828 | G50: =LOOKUP(E50,$A$39:$A$66,$C$39:$C$66) -> 15703803
... A66: =A34 -> VILAGARCÍA | B66: =E34 -> 1320702 | C66: =D34 -> 1211306 | D66: =_xlfn.RANK.EQ(B66,$B$39:$B$66)+COUNTIF($B$39:$B$66,B66)-1 -> 27 | E66: =INDEX($A$39:$B$66,MATCH(ROW()-38,$D$39:$D$66,0),1) -> MELILLA | F66: =LOOKUP(E66,$A$39:$A$66,$B$39:$B$66) -> 863501 | G66: =LOOKUP(E66,$A$39:$A$66,$C$39:$C$66) -> 873527.5

Sheet Total presentación
F1: 1.1. MERCANCÍAS SEGÚN SU FORMA DE PRESENTACIÓN
I2: (toneladas)
A5: Autoridad Portuaria | B5: ='Resumen general'!D6 -> Mes diciembre | D5: ='Resumen general'!F6 -> Acumulado desde enero | L5: ='Resumen general'!I4 -> Fecha: 5/10/2020
B6: ='Resumen general'!D7 -> 2018 | C6: ='Resumen general'!E7 -> 2019 | D6: ='Resumen general'!F7 -> 2018 | E6: ='Resumen general'!G7 -> 2019 | F6: Var. (%)
A7: A CORUÑA | B7: 1075221 | C7: 1064760 | D7: 15292088 | E7: 13451055 | F7: =((E7*100)/D7)-100 -> -12.039121
A8: ALICANTE | B8: 259075 | C8: 259685 | D8: 3161348.6 | E8: 2896152.9 | F8: =((E8*100)/D8)-100 -> -8.388689
A9: ALMERÍA | B9: 375246 | C9: 360049 | D9: 6965332 | E9: 5557531 | F9: =((E9*100)/D9)-100 -> -20.211542
A10: AVILÉS | B10: 487606 | C10: 405886 | D10: 4967563.9 | E10: 5087740 | F10: =((E10*100)/D10)-100 -> 2.419216
A11: BAHÍA DE ALGECIRAS | B11: 8295572 | C11: 8087948 | D11: 1.0254393e+08 | E11: 1.0488205e+08 | F11: =((E11*100)/D11)-100 -> 2.2801167
A12: BAHÍA DE CÁDIZ | B12: 317396 | C12: 488250 | D12: 3838664 | E12: 4342232 | F12: =((E12*100)/D12)-100 -> 13.118314
A13: BALEARES | B13: 1045025 | C13: 975077 | D13: 16206802 | E13: 16523691 | F13: =((E13*100)/D13)-100 -> 1.9552814
A14: BARCELONA | B14: 5557081 | C14: 4880929 | D14: 65895125 | E14: 65958085 | F14: =((E14*100)/D14)-100 -> 0.095545238
A15: BILBAO | B15: 2782323 | C15: 2855960 | D15: 35583490 | E15: 35446290 | F15: =((E15*100)/D15)-100 -> -0.38557067
A16: CARTAGENA | B16: 3029756 | C16: 3005561 | D16: 33733288 | E16: 34098945 | F16: =((E16*100)/D16)-100 -> 1.0839649
A17: CASTELLÓN | B17: 1727987 | C17: 1553018 | D17: 21107757 | E17: 20697211 | F17: =((E17*100)/D17)-100 -> -1.9449999
A18: CEUTA | B18: 117777 | C18: 134801 | D18: 1711404 | E18: 1729387 | F18: =((E18*100)/D18)-100 -> 1.0507747
... A34: VILAGARCÍA | B34: 100451 | C34: 108723 | D34: 1207577 | E34: 1315419 | F34: =((E34*100)/D34)-100 -> 8.930445
A35: Total | B35: =SUM(B7:B34) -> 46811100 | C35: 43018985 | D35: =SUM(D7:D34) -> 5.5045794e+08 | E35: =SUM(E7:E34) -> 5.5194568e+08 | F35: =((E35*100)/D35)-100 -> 0.2702724
A36: Incluye cargas, descargas, tránsitos y transbordos.
B38: =E6 -> 2019 | C38: =D6 -> 2018 | F38: =B38 -> 2019 | G38: =C38 -> 2018
A39: =A7 -> A CORUÑA | B39: =E7 -> 13451055 | C39: =D7 -> 15292088 | D39: =_xlfn.RANK.EQ(B39,$B$39:$B$66)+COUNTIF($B$39:$B$66,B39)-1 -> 12 | E39: =INDEX($A$39:$B$66,MATCH(ROW()-38,$D$39:$D$66,0),1) -> BAHÍA DE ALGECIRAS | F39: =LOOKUP(E39,$A$39:$A$66,$B$39:$B$66) -> 1.0488205e+08 | G39: =LOOKUP(E39,$A$39:$A$66,$C$39:$C$66) -> 1.0254393e+08
A40: =A8 -> ALICANTE | B40: =E8 -> 2896152.9 | C40: =D8 -> 3161348.6 | D40: =_xlfn.RANK.EQ(B40,$B$39:$B$66)+COUNTIF($B$39:$B$66,B40)-1 -> 23 | E40: =INDEX($A$39:$B$66,MATCH(ROW()-38,$D$39:$D$66,0),1) -> VALENCIA | F40: =LOOKUP(E40,$A$39:$A$66,$B$39:$B$66) -> 80727739 | G40: =LOOKUP(E40,$A$39:$A$66,$C$39:$C$66) -> 76425510
A41: =A9 -> ALMERÍA | B41: =E9 -> 5557531 | C41: =D9 -> 6965332 | D41: =_xlfn.RANK.EQ(B41,$B$39:$B$66)+COUNTIF($B$39:$B$66,B41)-1 -> 16 | E41: =INDEX($A$39:$B$66,MATCH(ROW()-38,$D$39:$D$66,0),1) -> BARCELONA | F41: =LOOKUP(E41,$A$39:$A$66,$B$39:$B$66) -> 65958085 | G41: =LOOKUP(E41,$A$39:$A$66,$C$39:$C$66) -> 65895125
A42: =A10 -> AVILÉS | B42: =E10 -> 5087740 | C42: =D10 -> 4967563.9 | D42: =_xlfn.RANK.EQ(B42,$B$39:$B$66)+COUNTIF($B$39:$B$66,B42)-1 -> 17 | E42: =INDEX($A$39:$B$66,MATCH(ROW()-38,$D$39:$D$66,0),1) -> BILBAO | F42: =LOOKUP(E42,$A$39:$A$66,$B$39:$B$66) -> 35446290 | G42: =LOOKUP(E42,$A$39:$A$66,$C$39:$C$66) -> 35583490
A43: =A11 -> BAHÍA DE ALGECIRAS | B43: =E11 -> 1.0488205e+08 | C43: =D11 -> 1.0254393e+08 | D43: =_xlfn.RANK.EQ(B43,$B$39:$B$66)+COUNTIF($B$39:$B$66,B43)-1 -> 1 | E43: =INDEX($A$39:$B$66,MATCH(ROW()-38,$D$39:$D$66,0),1) -> CARTAGENA | F43: =LOOKUP(E43,$A$39:$A$66,$B$39:$B$66) -> 34098945 | G43: =LOOKUP(E43,$A$39:$A$66,$C$39:$C$66) -> 33733288
A44: =A12 -> BAHÍA DE CÁDIZ | B44: =E12 -> 4342232 | C44: =D12 -> 3838664 | D44: =_xlfn.RANK.EQ(B44,$B$39:$B$66)+COUNTIF($B$39:$B$66,B44)-1 -> 19 | E44: =INDEX($A$39:$B$66,MATCH(ROW()-38,$D$39:$D$66,0),1) -> HUELVA | F44: =LOOKUP(E44,$A$39:$A$66,$B$39:$B$66) -> 33576756 | G44: =LOOKUP(E44,$A$39:$A$66,$C$39:$C$66) -> 32767084
A45: =A13 -> BALEARES | B45: =E13 -> 16523691 | C45: =D13 -> 16206802 | D45: =_xlfn.RANK.EQ(B45,$B$39:$B$66)+COUNTIF($B$39:$B$66,B45)-1 -> 11 | E45: =INDEX($A$39:$B$66,MATCH(ROW()-38,$D$39:$D$66,0),1) -> TARRAGONA | F45: =LOOKUP(E45,$A$39:$A$66,$B$39:$B$66) -> 32707994 | G45: =LOOKUP(E45,$A$39:$A$66,$C$39:$C$66) -> 32001014
A46: =A14 -> BARCELONA | B46: =E14 -> 65958085 | C46: =D14 -> 65895125 | D46: =_xlfn.RANK.EQ(B46,$B$39:$B$66)+COUNTIF($B$39:$B$66,B46)-1 -> 3 | E46: =INDEX($A$39:$B$66,MATCH(ROW()-38,$D$39:$D$66,0),1) -> LAS PALMAS | F46: =LOOKUP(E46,$A$39:$A$66,$B$39:$B$66) -> 24169380 | G46: =LOOKUP(E46,$A$39:$A$66,$C$39:$C$66) -> 24342597
A47: =A15 -> BILBAO | B47: =E15 -> 35446290 | C47: =D15 -> 35583490 | D47: =_xlfn.RANK.EQ(B47,$B$39:$B$66)+COUNTIF($B$39:$B$66,B47)-1 -> 4 | E47: =INDEX($A$39:$B$66,MATCH(ROW()-38,$D$39:$D$66,0),1) -> CASTELLÓN | F47: =LOOKUP(E47,$A$39:$A$66,$B$39:$B$66) -> 20697211 | G47: =LOOKUP(E47,$A$39:$A$66,$C$39:$C$66) -> 21107757
A48: =A16 -> CARTAGENA | B48: =E16 -> 34098945 | C48: =D16 -> 33733288 | D48: =_xlfn.RANK.EQ(B48,$B$39:$B$66)+COUNTIF($B$39:$B$66,B48)-1 -> 5 | E48: =INDEX($A$39:$B$66,MATCH(ROW()-38,$D$39:$D$66,0),1) -> GIJÓN | F48: =LOOKUP(E48,$A$39:$A$66,$B$39:$B$66) -> 17370929 | G48: =LOOKUP(E48,$A$39:$A$66,$C$39:$C$66) -> 19653524
A49: =A17 -> CASTELLÓN | B49: =E17 -> 20697211 | C49: =D17 -> 21107757 | D49: =_xlfn.RANK.EQ(B49,$B$39:$B$66)+COUNTIF($B$39:$B$66,B49)-1 -> 9 | E49: =INDEX($A$39:$B$66,MATCH(ROW()-38,$D$39:$D$66,0),1) -> BALEARES | F49: =LOOKUP(E49,$A$39:$A$66,$B$39:$B$66) -> 16523691 | G49: =LOOKUP(E49,$A$39:$A$66,$C$39:$C$66) -> 16206802
A50: =A18 -> CEUTA | B50: =E18 -> 1729387 | C50: =D18 -> 1711404 | D50: =_xlfn.RANK.EQ(B50,$B$39:$B$66)+COUNTIF($B$39:$B$66,B50)-1 -> 26 | E50: =INDEX($A$39:$B$66,MATCH(ROW()-38,$D$39:$D$66,0),1) -> A CORUÑA | F50: =LOOKUP(E50,$A$39:$A$66,$B$39:$B$66) -> 13451055 | G50: =LOOKUP(E50,$A$39:$A$66,$C$39:$C$66) -> 15292088
... A66: =A34 -> VILAGARCÍA | B66: =E34 -> 1315419 | C66: =D34 -> 1207577 | D66: =_xlfn.RANK.EQ(B66,$B$39:$B$66)+COUNTIF($B$39:$B$66,B66)-1 -> 27 | E66: =INDEX($A$39:$B$66,MATCH(ROW()-38,$D$39:$D$66,0),1) -> MELILLA | F66: =LOOKUP(E66,$A$39:$A$66,$B$39:$B$66) -> 858875 | G66: =LOOKUP(E66,$A$39:$A$66,$C$39:$C$66) -> 868060.5

Sheet Líquidos
F1: 2. GRANELES LÍQUIDOS (toneladas)
A5: Autoridad Portuaria | B5: ='Resumen general'!D6 -> Mes diciembre | D5: ='Resumen general'!F6 -> Acumulado desde enero | L5: ='Resumen general'!I4 -> Fecha: 5/10/2020
B6: ='Resumen general'!D7 -> 2018 | C6: ='Resumen general'!E7 -> 2019 | D6: ='Resumen general'!F7 -> 2018 | E6: ='Resumen general'!G7 -> 2019 | F6: Var. (%)
A7: A CORUÑA | B7: 589337 | C7: 749787 | D7: 9337317 | E7: 8970330 | F7: =((E7*100)/D7)-100 -> -3.930326
A8: ALICANTE | B8: 6978 | C8: 2096 | D8: 60761.65 | E8: 31578.82 | F8: =((E8*100)/D8)-100 -> -48.02837
A9: ALMERÍA | B9: 3300 | C9: 4003 | D9: 43811 | E9: 56707 | F9: =((E9*100)/D9)-100 -> 29.43553
A10: AVILÉS | B10: 62085 | C10: 93311 | D10: 620106 | E10: 717949 | F10: =((E10*100)/D10)-100 -> 15.778431
A11: BAHÍA DE ALGECIRAS | B11: 2770244 | C11: 2356577 | D11: 31763061 | E11: 30577074 | F11: =((E11*100)/D11)-100 -> -3.7338572
A12: BAHÍA DE CÁDIZ | B12: 50918 | C12: 90481 | D12: 686986 | E12: 1331878 | F12: =((E12*100)/D12)-100 -> 93.872655
A13: BALEARES | B13: 71943 | C13: 23817 | D13: 1695567.4 | E13: 1543505 | F13: =((E13*100)/D13)-100 -> -8.9682309
A14: BARCELONA | B14: 1501748 | C14: 1196919 | D14: 15298349 | E14: 16132219 | F14: =((E14*100)/D14)-100 -> 5.4507199
A15: BILBAO | B15: 1751866 | C15: 1846114 | D15: 20490544 | E15: 20821508 | F15: =((E15*100)/D15)-100 -> 1.6152061
A16: CARTAGENA | B16: 2138891 | C16: 2216060 | D16: 25676174 | E16: 26007858 | F16: =((E16*100)/D16)-100 -> 1.2917968
A17: CASTELLÓN | B17: 948197 | C17: 862814 | D17: 10393834 | E17: 10601850 | F17: =((E17*100)/D17)-100 -> 2.001346
A18: CEUTA | B18: 48967 | C18: 84298 | D18: 834100 | E18: 872261 | F18: =((E18*100)/D18)-100 -> 4.5751109
... A34: VILAGARCÍA | B34: 2097 | C34: 11126 | D34: 167809 | E34: 182544 | F34: =((E34*100)/D34)-100 -> 8.7808163
A35: Total | B35: =SUM(B7:B34) -> 15990554 | C35: =SUM(C7:C34) -> 15178422 | D35: =SUM(D7:D34) -> 1.807193e+08 | E35: =SUM(E7:E34) -> 1.8708969e+08 | F35: =((E35*100)/D35)-100 -> 3.5250211
A36: Incluye cargas, descargas, tránsitos y transbordos.
B38: =E6 -> 2019 | C38: =D6 -> 2018 | F38: =B38 -> 2019 | G38: =C38 -> 2018
A39: =A7 -> A CORUÑA | B39: =E7 -> 8970330 | C39: =D7 -> 9337317 | D39: =_xlfn.RANK.EQ(B39,$B$39:$B$66)+COUNTIF($B$39:$B$66,B39)-1 -> 8 | E39: =INDEX($A$39:$B$66,MATCH(ROW()-38,$D$39:$D$66,0),1) -> BAHÍA DE ALGECIRAS | F39: =LOOKUP(E39,$A$39:$A$66,$B$39:$B$66) -> 30577074 | G39: =LOOKUP(E39,$A$39:$A$66,$C$39:$C$66) -> 31763061
A40: =A8 -> ALICANTE | B40: =E8 -> 31578.82 | C40: =D8 -> 60761.65 | D40: =_xlfn.RANK.EQ(B40,$B$39:$B$66)+COUNTIF($B$39:$B$66,B40)-1 -> 26 | E40: =INDEX($A$39:$B$66,MATCH(ROW()-38,$D$39:$D$66,0),1) -> HUELVA | F40: =LOOKUP(E40,$A$39:$A$66,$B$39:$B$66) -> 26675733 | G40: =LOOKUP(E40,$A$39:$A$66,$C$39:$C$66) -> 25119931
A41: =A9 -> ALMERÍA | B41: =E9 -> 56707 | C41: =D9 -> 43811 | D41: =_xlfn.RANK.EQ(B41,$B$39:$B$66)+COUNTIF($B$39:$B$66,B41)-1 -> 24 | E41: =INDEX($A$39:$B$66,MATCH(ROW()-38,$D$39:$D$66,0),1) -> CARTAGENA | F41: =LOOKUP(E41,$A$39:$A$66,$B$39:$B$66) -> 26007858 | G41: =LOOKUP(E41,$A$39:$A$66,$C$39:$C$66) -> 25676174
A42: =A10 -> AVILÉS | B42: =E10 -> 717949 | C42: =D10 -> 620106 | D42: =_xlfn.RANK.EQ(B42,$B$39:$B$66)+COUNTIF($B$39:$B$66,B42)-1 -> 18 | E42: =INDEX($A$39:$B$66,MATCH(ROW()-38,$D$39:$D$66,0),1) -> TARRAGONA | F42: =LOOKUP(E42,$A$39:$A$66,$B$39:$B$66) -> 21210546 | G42: =LOOKUP(E42,$A$39:$A$66,$C$39:$C$66) -> 19844376
A43: =A11 -> BAHÍA DE ALGECIRAS | B43: =E11 -> 30577074 | C43: =D11 -> 31763061 | D43: =_xlfn.RANK.EQ(B43,$B$39:$B$66)+COUNTIF($B$39:$B$66,B43)-1 -> 1 | E43: =INDEX($A$39:$B$66,MATCH(ROW()-38,$D$39:$D$66,0),1) -> BILBAO | F43: =LOOKUP(E43,$A$39:$A$66,$B$39:$B$66) -> 20821508 | G43: =LOOKUP(E43,$A$39:$A$66,$C$39:$C$66) -> 20490544
A44: =A12 -> BAHÍA DE CÁDIZ | B44: =E12 -> 1331878 | C44: =D12 -> 686986 | D44: =_xlfn.RANK.EQ(B44,$B$39:$B$66)+COUNTIF($B$39:$B$66,B44)-1 -> 14 | E44: =INDEX($A$39:$B$66,MATCH(ROW()-38,$D$39:$D$66,0),1) -> BARCELONA | F44: =LOOKUP(E44,$A$39:$A$66,$B$39:$B$66) -> 16132219 | G44: =LOOKUP(E44,$A$39:$A$66,$C$39:$C$66) -> 15298349
A45: =A13 -> BALEARES | B45: =E13 -> 1543505 | C45: =D13 -> 1695567.4 | D45: =_xlfn.RANK.EQ(B45,$B$39:$B$66)+COUNTIF($B$39:$B$66,B45)-1 -> 13 | E45: =INDEX($A$39:$B$66,MATCH(ROW()-38,$D$39:$D$66,0),1) -> CASTELLÓN | F45: =LOOKUP(E45,$A$39:$A$66,$B$39:$B$66) -> 10601850 | G45: =LOOKUP(E45,$A$39:$A$66,$C$39:$C$66) -> 10393834
A46: =A14 -> BARCELONA | B46: =E14 -> 16132219 | C46: =D14 -> 15298349 | D46: =_xlfn.RANK.EQ(B46,$B$39:$B$66)+COUNTIF($B$39:$B$66,B46)-1 -> 6 | E46: =INDEX($A$39:$B$66,MATCH(ROW()-38,$D$39:$D$66,0),1) -> A CORUÑA | F46: =LOOKUP(E46,$A$39:$A$66,$B$39:$B$66) -> 8970330 | G46: =LOOKUP(E46,$A$39:$A$66,$C$39:$C$66) -> 9337317
A47: =A15 -> BILBAO | B47: =E15 -> 20821508 | C47: =D15 -> 20490544 | D47: =_xlfn.RANK.EQ(B47,$B$39:$B$66)+COUNTIF($B$39:$B$66,B47)-1 -> 5 | E47: =INDEX($A$39:$B$66,MATCH(ROW()-38,$D$39:$D$66,0),1) -> LAS PALMAS | F47: =LOOKUP(E47,$A$39:$A$66,$B$39:$B$66) -> 8070275 | G47: =LOOKUP(E47,$A$39:$A$66,$C$39:$C$66) -> 7148462
A48: =A16 -> CARTAGENA | B48: =E16 -> 26007858 | C48: =D16 -> 25676174 | D48: =_xlfn.RANK.EQ(B48,$B$39:$B$66)+COUNTIF($B$39:$B$66,B48)-1 -> 3 | E48: =INDEX($A$39:$B$66,MATCH(ROW()-38,$D$39:$D$66,0),1) -> SANTA CRUZ DE TENERIFE | F48: =LOOKUP(E48,$A$39:$A$66,$B$39:$B$66) -> 4811479 | G48: =LOOKUP(E48,$A$39:$A$66,$C$39:$C$66) -> 4501835
A49: =A17 -> CASTELLÓN | B49: =E17 -> 10601850 | C49: =D17 -> 10393834 | D49: =_xlfn.RANK.EQ(B49,$B$39:$B$66)+COUNTIF($B$39:$B$66,B49)-1 -> 7 | E49: =INDEX($A$39:$B$66,MATCH(ROW()-38,$D$39:$D$66,0),1) -> VALENCIA | F49: =LOOKUP(E49,$A$39:$A$66,$B$39:$B$66) -> 3120013 | G49: =LOOKUP(E49,$A$39:$A$66,$C$39:$C$66) -> 1909692
A50: =A18 -> CEUTA | B50: =E18 -> 872261 | C50: =D18 -> 834100 | D50: =_xlfn.RANK.EQ(B50,$B$39:$B$66)+COUNTIF($B$39:$B$66,B50)-1 -> 17 | E50: =INDEX($A$39:$B$66,MATCH(ROW()-38,$D$39:$D$66,0),1) -> FERROL-SAN CIBRAO | F50: =LOOKUP(E50,$A$39:$A$66,$B$39:$B$66) -> 2311900 | G50: =LOOKUP(E50,$A$39:$A$66,$C$39:$C$66) -> 2155622.9
... A66: =A34 -> VILAGARCÍA | B66: =E34 -> 182544 | C66: =D34 -> 167809 | D66: =_xlfn.RANK.EQ(B66,$B$39:$B$66)+COUNTIF($B$39:$B$66,B66)-1 -> 21 | E66: =INDEX($A$39:$B$66,MATCH(ROW()-38,$D$39:$D$66,0),1) -> PASAIA | F66: =LOOKUP(E66,$A$39:$A$66,$B$39:$B$66) -> 0 | G66: =LOOKUP(E66,$A$39:$A$66,$C$39:$C$66) -> 0

Sheet Sólidos
F1: 3. GRANELES SÓLIDOS (toneladas)
A5: Autoridad Portuaria | B5: ='Resumen general'!D6 -> Mes diciembre | D5: ='Resumen general'!F6 -> Acumulado desde enero | L5: ='Resumen general'!I4 -> Fecha: 5/10/2020
B6: ='Resumen general'!D7 -> 2018 | C6: ='Resumen general'!E7 -> 2019 | D6: ='Resumen general'!F7 -> 2018 | E6: ='Resumen general'!G7 -> 2019 | F6: Var. (%)
A7: A CORUÑA | B7: 419264 | C7: 243206 | D7: 4853062 | E7: 3474568 | F7: =((E7*100)/D7)-100 -> -28.404624
A8: ALICANTE | B8: 123012 | C8: 141759 | D8: 1592670.8 | E8: 1441065.7 | F8: =((E8*100)/D8)-100 -> -9.5189203
A9: ALMERÍA | B9: 302847 | C9: 243478 | D9: 6337016 | E9: 4411930 | F9: =((E9*100)/D9)-100 -> -30.37843
A10: AVILÉS | B10: 317489 | C10: 193927 | D10: 3173814.5 | E10: 2797355 | F10: =((E10*100)/D10)-100 -> -11.861421
A11: BAHÍA DE ALGECIRAS | B11: 31155 | C11: 13074 | D11: 1718439 | E11: 973830.09 | F11: =((E11*100)/D11)-100 -> -43.330541
A12: BAHÍA DE CÁDIZ | B12: 161597 | C12: 301050 | D12: 1736215 | E12: 1859008 | F12: =((E12*100)/D12)-100 -> 7.0724536
A13: BALEARES | B13: 95185 | C13: 85025 | D13: 1415401 | E13: 1223606 | F13: =((E13*100)/D13)-100 -> -13.550577
A14: BARCELONA | B14: 359227 | C14: 286367 | D14: 4257025.3 | E14: 4071383.9 | F14: =((E14*100)/D14)-100 -> -4.3608234
A15: BILBAO | B15: 273904 | C15: 328390 | D15: 4757894 | E15: 4681191 | F15: =((E15*100)/D15)-100 -> -1.6121208
A16: CARTAGENA | B16: 807828 | C16: 707044 | D16: 6596763 | E16: 6835599 | F16: =((E16*100)/D16)-100 -> 3.620503
A17: CASTELLÓN | B17: 544527 | C17: 491787 | D17: 7425415 | E17: 7097480.1 | F17: =((E17*100)/D17)-100 -> -4.4163849
A18: CEUTA | B18: 2500 | C18: 0 | D18: 31893 | E18: 24625 | F18: =((E18*100)/D18)-100 -> -22.7887
... A34: VILAGARCÍA | B34: 51336 | C34: 52996 | D34: 448216 | E34: 479972 | F34: =((E34*100)/D34)-100 -> 7.0849769
A35: Total | B35: =SUM(B7:B34) -> 9252149 | C35: 6896712 | D35: =SUM(D7:D34) -> 1.023661e+08 | E35: =SUM(E7:E34) -> 90843677 | F35: =((E35*100)/D35)-100 -> -11.256089
A36: Incluye cargas, descargas, tránsitos y transbordos.
B38: =E6 -> 2019 | C38: =D6 -> 2018 | F38: =B38 -> 2019 | G38: =C38 -> 2018
A39: =A7 -> A CORUÑA | B39: =E7 -> 3474568 | C39: =D7 -> 4853062 | D39: =_xlfn.RANK.EQ(B39,$B$39:$B$66)+COUNTIF($B$39:$B$66,B39)-1 -> 11 | E39: =INDEX($A$39:$B$66,MATCH(ROW()-38,$D$39:$D$66,0),1) -> GIJÓN | F39: =LOOKUP(E39,$A$39:$A$66,$B$39:$B$66) -> 14589033 | G39: =LOOKUP(E39,$A$39:$A$66,$C$39:$C$66) -> 17193269
A40: =A8 -> ALICANTE | B40: =E8 -> 1441065.7 | C40: =D8 -> 1592670.8 | D40: =_xlfn.RANK.EQ(B40,$B$39:$B$66)+COUNTIF($B$39:$B$66,B40)-1 -> 17 | E40: =INDEX($A$39:$B$66,MATCH(ROW()-38,$D$39:$D$66,0),1) -> TARRAGONA | F40: =LOOKUP(E40,$A$39:$A$66,$B$39:$B$66) -> 9718750 | G40: =LOOKUP(E40,$A$39:$A$66,$C$39:$C$66) -> 9988264
A41: =A9 -> ALMERÍA | B41: =E9 -> 4411930 | C41: =D9 -> 6337016 | D41: =_xlfn.RANK.EQ(B41,$B$39:$B$66)+COUNTIF($B$39:$B$66,B41)-1 -> 8 | E41: =INDEX($A$39:$B$66,MATCH(ROW()-38,$D$39:$D$66,0),1) -> FERROL-SAN CIBRAO | F41: =LOOKUP(E41,$A$39:$A$66,$B$39:$B$66) -> 8095030 | G41: =LOOKUP(E41,$A$39:$A$66,$C$39:$C$66) -> 10756980
A42: =A10 -> AVILÉS | B42: =E10 -> 2797355 | C42: =D10 -> 3173814.5 | D42: =_xlfn.RANK.EQ(B42,$B$39:$B$66)+COUNTIF($B$39:$B$66,B42)-1 -> 12 | E42: =INDEX($A$39:$B$66,MATCH(ROW()-38,$D$39:$D$66,0),1) -> CASTELLÓN | F42: =LOOKUP(E42,$A$39:$A$66,$B$39:$B$66) -> 7097480.1 | G42: =LOOKUP(E42,$A$39:$A$66,$C$39:$C$66) -> 7425415
A43: =A11 -> BAHÍA DE ALGECIRAS | B43: =E11 -> 973830.09 | C43: =D11 -> 1718439 | D43: =_xlfn.RANK.EQ(B43,$B$39:$B$66)+COUNTIF($B$39:$B$66,B43)-1 -> 20 | E43: =INDEX($A$39:$B$66,MATCH(ROW()-38,$D$39:$D$66,0),1) -> CARTAGENA | F43: =LOOKUP(E43,$A$39:$A$66,$B$39:$B$66) -> 6835599 | G43: =LOOKUP(E43,$A$39:$A$66,$C$39:$C$66) -> 6596763
A44: =A12 -> BAHÍA DE CÁDIZ | B44: =E12 -> 1859008 | C44: =D12 -> 1736215 | D44: =_xlfn.RANK.EQ(B44,$B$39:$B$66)+COUNTIF($B$39:$B$66,B44)-1 -> 15 | E44: =INDEX($A$39:$B$66,MATCH(ROW()-38,$D$39:$D$66,0),1) -> HUELVA | F44: =LOOKUP(E44,$A$39:$A$66,$B$39:$B$66) -> 5755664 | G44: =LOOKUP(E44,$A$39:$A$66,$C$39:$C$66) -> 6662398.8
A45: =A13 -> BALEARES | B45: =E13 -> 1223606 | C45: =D13 -> 1415401 | D45: =_xlfn.RANK.EQ(B45,$B$39:$B$66)+COUNTIF($B$39:$B$66,B45)-1 -> 18 | E45: =INDEX($A$39:$B$66,MATCH(ROW()-38,$D$39:$D$66,0),1) -> BILBAO | F45: =LOOKUP(E45,$A$39:$A$66,$B$39:$B$66) -> 4681191 | G45: =LOOKUP(E45,$A$39:$A$66,$C$39:$C$66) -> 4757894
A46: =A14 -> BARCELONA | B46: =E14 -> 4071383.9 | C46: =D14 -> 4257025.3 | D46: =_xlfn.RANK.EQ(B46,$B$39:$B$66)+COUNTIF($B$39:$B$66,B46)-1 -> 9 | E46: =INDEX($A$39:$B$66,MATCH(ROW()-38,$D$39:$D$66,0),1) -> ALMERÍA | F46: =LOOKUP(E46,$A$39:$A$66,$B$39:$B$66) -> 4411930 | G46: =LOOKUP(E46,$A$39:$A$66,$C$39:$C$66) -> 6337016
A47: =A15 -> BILBAO | B47: =E15 -> 4681191 | C47: =D15 -> 4757894 | D47: =_xlfn.RANK.EQ(B47,$B$39:$B$66)+COUNTIF($B$39:$B$66,B47)-1 -> 7 | E47: =INDEX($A$39:$B$66,MATCH(ROW()-38,$D$39:$D$66,0),1) -> BARCELONA | F47: =LOOKUP(E47,$A$39:$A$66,$B$39:$B$66) -> 4071383.9 | G47: =LOOKUP(E47,$A$39:$A$66,$C$39:$C$66) -> 4257025.3
A48: =A16 -> CARTAGENA | B48: =E16 -> 6835599 | C48: =D16 -> 6596763 | D48: =_xlfn.RANK.EQ(B48,$B$39:$B$66)+COUNTIF($B$39:$B$66,B48)-1 -> 5 | E48: =INDEX($A$39:$B$66,MATCH(ROW()-38,$D$39:$D$66,0),1) -> SANTANDER | F48: =LOOKUP(E48,$A$39:$A$66,$B$39:$B$66) -> 3646528 | G48: =LOOKUP(E48,$A$39:$A$66,$C$39:$C$66) -> 3313907.5
A49: =A17 -> CASTELLÓN | B49: =E17 -> 7097480.1 | C49: =D17 -> 7425415 | D49: =_xlfn.RANK.EQ(B49,$B$39:$B$66)+COUNTIF($B$39:$B$66,B49)-1 -> 4 | E49: =INDEX($A$39:$B$66,MATCH(ROW()-38,$D$39:$D$66,0),1) -> A CORUÑA | F49: =LOOKUP(E49,$A$39:$A$66,$B$39:$B$66) -> 3474568 | G49: =LOOKUP(E49,$A$39:$A$66,$C$39:$C$66) -> 4853062
A50: =A18 -> CEUTA | B50: =E18 -> 24625 | C50: =D18 -> 31893 | D50: =_xlfn.RANK.EQ(B50,$B$39:$B$66)+COUNTIF($B$39:$B$66,B50)-1 -> 27 | E50: =INDEX($A$39:$B$66,MATCH(ROW()-38,$D$39:$D$66,0),1) -> AVILÉS | F50: =LOOKUP(E50,$A$39:$A$66,$B$39:$B$66) -> 2797355 | G50: =LOOKUP(E50,$A$39:$A$66,$C$39:$C$66) -> 3173814.5
... A66: =A34 -> VILAGARCÍA | B66: =E34 -> 479972 | C66: =D34 -> 448216 | D66: =_xlfn.RANK.EQ(B66,$B$39:$B$66)+COUNTIF($B$39:$B$66,B66)-1 -> 23 | E66: =INDEX($A$39:$B$66,MATCH(ROW()-38,$D$39:$D$66,0),1) -> MELILLA | F66: =LOOKUP(E66,$A$39:$A$66,$B$39:$B$66) -> 7100 | G66: =LOOKUP(E66,$A$39:$A$66,$C$39:$C$66) -> 5250

Sheet Mercancía general
F1: 4. MERCANCÍA GENERAL (toneladas)
A5: Autoridad Portuaria | B5: ='Resumen general'!D6 -> Mes diciembre | D5: ='Resumen general'!F6 -> Acumulado desde enero | L5: ='Resumen general'!I4 -> Fecha: 5/10/2020
B6: ='Resumen general'!D7 -> 2018 | C6: ='Resumen general'!E7 -> 2019 | D6: ='Resumen general'!F7 -> 2018 | E6: ='Resumen general'!G7 -> 2019 | F6: Var. (%)
A7: A CORUÑA | B7: 66620 | C7: 71767 | D7: 1101709 | E7: 1006157 | F7: =((E7*100)/D7)-100 -> -8.6730707
A8: ALICANTE | B8: 129085 | C8: 115830 | D8: 1507916.2 | E8: 1423508.4 | F8: =((E8*100)/D8)-100 -> -5.5976461
A9: ALMERÍA | B9: 69099 | C9: 112568 | D9: 584505 | E9: 1088894 | F9: =((E9*100)/D9)-100 -> 86.293359
A10: AVILÉS | B10: 108032 | C10: 118648 | D10: 1173643.4 | E10: 1572436 | F10: =((E10*100)/D10)-100 -> 33.979026
A11: BAHÍA DE ALGECIRAS | B11: 5494173 | C11: 5718297 | D11: 69062429 | E11: 73331147 | F11: =((E11*100)/D11)-100 -> 6.1809548
A12: BAHÍA DE CÁDIZ | B12: 104881 | C12: 96719 | D12: 1415463 | E12: 1151346 | F12: =((E12*100)/D12)-100 -> -18.659407
A13: BALEARES | B13: 877897 | C13: 866235 | D13: 13095834 | E13: 13756580 | F13: =((E13*100)/D13)-100 -> 5.0454671
A14: BARCELONA | B14: 3696106 | C14: 3397643 | D14: 46339751 | E14: 45754482 | F14: =((E14*100)/D14)-100 -> -1.2629959
A15: BILBAO | B15: 756553 | C15: 681456 | D15: 10335052 | E15: 9943591 | F15: =((E15*100)/D15)-100 -> -3.7877023
A16: CARTAGENA | B16: 83037 | C16: 82457 | D16: 1460351 | E16: 1255488 | F16: =((E16*100)/D16)-100 -> -14.02834
A17: CASTELLÓN | B17: 235263 | C17: 198417 | D17: 3288508.5 | E17: 2997881 | F17: =((E17*100)/D17)-100 -> -8.8376696
A18: CEUTA | B18: 66310 | C18: 50503 | D18: 845411 | E18: 832501 | F18: =((E18*100)/D18)-100 -> -1.5270679
... A34: VILAGARCÍA | B34: 47018 | C34: 44601 | D34: 591552 | E34: 652903 | F34: =((E34*100)/D34)-100 -> 10.371193
A35: Total | B35: =SUM(B7:B34) -> 21568397 | C35: 20943851 | D35: =SUM(D7:D34) -> 2.6737255e+08 | E35: =SUM(E7:E34) -> 2.7401231e+08 | F35: =((E35*100)/D35)-100 -> 2.4833368
A36: Incluye cargas, descargas, tránsitos y transbordos.
B38: =E6 -> 2019 | C38: =D6 -> 2018 | F38: =B38 -> 2019 | G38: =C38 -> 2018
A39: =A7 -> A CORUÑA | B39: =E7 -> 1006157 | C39: =D7 -> 1101709 | D39: =_xlfn.RANK.EQ(B39,$B$39:$B$66)+COUNTIF($B$39:$B$66,B39)-1 -> 23 | E39: =INDEX($A$39:$B$66,MATCH(ROW()-38,$D$39:$D$66,0),1) -> VALENCIA | F39: =LOOKUP(E39,$A$39:$A$66,$B$39:$B$66) -> 75417608 | G39: =LOOKUP(E39,$A$39:$A$66,$C$39:$C$66) -> 71971743
A40: =A8 -> ALICANTE | B40: =E8 -> 1423508.4 | C40: =D8 -> 1507916.2 | D40: =_xlfn.RANK.EQ(B40,$B$39:$B$66)+COUNTIF($B$39:$B$66,B40)-1 -> 18 | E40: =INDEX($A$39:$B$66,MATCH(ROW()-38,$D$39:$D$66,0),1) -> BAHÍA DE ALGECIRAS | F40: =LOOKUP(E40,$A$39:$A$66,$B$39:$B$66) -> 73331147 | G40: =LOOKUP(E40,$A$39:$A$66,$C$39:$C$66) -> 69062429
A41: =A9 -> ALMERÍA | B41: =E9 -> 1088894 | C41: =D9 -> 584505 | D41: =_xlfn.RANK.EQ(B41,$B$39:$B$66)+COUNTIF($B$39:$B$66,B41)-1 -> 22 | E41: =INDEX($A$39:$B$66,MATCH(ROW()-38,$D$39:$D$66,0),1) -> BARCELONA | F41: =LOOKUP(E41,$A$39:$A$66,$B$39:$B$66) -> 45754482 | G41: =LOOKUP(E41,$A$39:$A$66,$C$39:$C$66) -> 46339751
A42: =A10 -> AVILÉS | B42: =E10 -> 1572436 | C42: =D10 -> 1173643.4 | D42: =_xlfn.RANK.EQ(B42,$B$39:$B$66)+COUNTIF($B$39:$B$66,B42)-1 -> 16 | E42: =INDEX($A$39:$B$66,MATCH(ROW()-38,$D$39:$D$66,0),1) -> LAS PALMAS | F42: =LOOKUP(E42,$A$39:$A$66,$B$39:$B$66) -> 15645803 | G42: =LOOKUP(E42,$A$39:$A$66,$C$39:$C$66) -> 16719921
A43: =A11 -> BAHÍA DE ALGECIRAS | B43: =E11 -> 73331147 | C43: =D11 -> 69062429 | D43: =_xlfn.RANK.EQ(B43,$B$39:$B$66)+COUNTIF($B$39:$B$66,B43)-1 -> 2 | E43: =INDEX($A$39:$B$66,MATCH(ROW()-38,$D$39:$D$66,0),1) -> BALEARES | F43: =LOOKUP(E43,$A$39:$A$66,$B$39:$B$66) -> 13756580 | G43: =LOOKUP(E43,$A$39:$A$66,$C$39:$C$66) -> 13095834
A44: =A12 -> BAHÍA DE CÁDIZ | B44: =E12 -> 1151346 | C44: =D12 -> 1415463 | D44: =_xlfn.RANK.EQ(B44,$B$39:$B$66)+COUNTIF($B$39:$B$66,B44)-1 -> 20 | E44: =INDEX($A$39:$B$66,MATCH(ROW()-38,$D$39:$D$66,0),1) -> BILBAO | F44: =LOOKUP(E44,$A$39:$A$66,$B$39:$B$66) -> 9943591 | G44: =LOOKUP(E44,$A$39:$A$66,$C$39:$C$66) -> 10335052
A45: =A13 -> BALEARES | B45: =E13 -> 13756580 | C45: =D13 -> 13095834 | D45: =_xlfn.RANK.EQ(B45,$B$39:$B$66)+COUNTIF($B$39:$B$66,B45)-1 -> 5 | E45: =INDEX($A$39:$B$66,MATCH(ROW()-38,$D$39:$D$66,0),1) -> SANTA CRUZ DE TENERIFE | F45: =LOOKUP(E45,$A$39:$A$66,$B$39:$B$66) -> 7207721 | G45: =LOOKUP(E45,$A$39:$A$66,$C$39:$C$66) -> 7411423.2
A46: =A14 -> BARCELONA | B46: =E14 -> 45754482 | C46: =D14 -> 46339751 | D46: =_xlfn.RANK.EQ(B46,$B$39:$B$66)+COUNTIF($B$39:$B$66,B46)-1 -> 3 | E46: =INDEX($A$39:$B$66,MATCH(ROW()-38,$D$39:$D$66,0),1) -> VIGO | F46: =LOOKUP(E46,$A$39:$A$66,$B$39:$B$66) -> 3819996 | G46: =LOOKUP(E46,$A$39:$A$66,$C$39:$C$66) -> 3770116.4
A47: =A15 -> BILBAO | B47: =E15 -> 9943591 | C47: =D15 -> 10335052 | D47: =_xlfn.RANK.EQ(B47,$B$39:$B$66)+COUNTIF($B$39:$B$66,B47)-1 -> 6 | E47: =INDEX($A$39:$B$66,MATCH(ROW()-38,$D$39:$D$66,0),1) -> CASTELLÓN | F47: =LOOKUP(E47,$A$39:$A$66,$B$39:$B$66) -> 2997881 | G47: =LOOKUP(E47,$A$39:$A$66,$C$39:$C$66) -> 3288508.5
A48: =A16 -> CARTAGENA | B48: =E16 -> 1255488 | C48: =D16 -> 1460351 | D48: =_xlfn.RANK.EQ(B48,$B$39:$B$66)+COUNTIF($B$39:$B$66,B48)-1 -> 19 | E48: =INDEX($A$39:$B$66,MATCH(ROW()-38,$D$39:$D$66,0),1) -> SANTANDER | F48: =LOOKUP(E48,$A$39:$A$66,$B$39:$B$66) -> 2586787 | G48: =LOOKUP(E48,$A$39:$A$66,$C$39:$C$66) -> 2303697.5
A49: =A17 -> CASTELLÓN | B49: =E17 -> 2997881 | C49: =D17 -> 3288508.5 | D49: =_xlfn.RANK.EQ(B49,$B$39:$B$66)+COUNTIF($B$39:$B$66,B49)-1 -> 9 | E49: =INDEX($A$39:$B$66,MATCH(ROW()-38,$D$39:$D$66,0),1) -> PASAIA | F49: =LOOKUP(E49,$A$39:$A$66,$B$39:$B$66) -> 2166602 | G49: =LOOKUP(E49,$A$39:$A$66,$C$39:$C$66) -> 2085553
A50: =A18 -> CEUTA | B50: =E18 -> 832501 | C50: =D18 -> 845411 | D50: =_xlfn.RANK.EQ(B50,$B$39:$B$66)+COUNTIF($B$39:$B$66,B50)-1 -> 24 | E50: =INDEX($A$39:$B$66,MATCH(ROW()-38,$D$39:$D$66,0),1) -> MÁLAGA | F50: =LOOKUP(E50,$A$39:$A$66,$B$39:$B$66) -> 1937823 | G50: =LOOKUP(E50,$A$39:$A$66,$C$39:$C$66) -> 1438344.7
... A66: =A34 -> VILAGARCÍA | B66: =E34 -> 652903 | C66: =D34 -> 591552 | D66: =_xlfn.RANK.EQ(B66,$B$39:$B$66)+COUNTIF($B$39:$B$66,B66)-1 -> 28 | E66: =INDEX($A$39:$B$66,MATCH(ROW()-38,$D$39:$D$66,0),1) -> VILAGARCÍA | F66: =LOOKUP(E66,$A$39:$A$66,$B$39:$B$66) -> 652903 | G66: =LOOKUP(E66,$A$39:$A$66,$C$39:$C$66) -> 591552

Sheet Mercancías contenedores
F1: 4.1. MERCANCÍAS EN CONTENEDORES (toneladas)
A5: Autoridad Portuaria | B5: ='Resumen general'!D6 -> Mes diciembre | D5: ='Resumen general'!F6 -> Acumulado desde enero | L5: ='Resumen general'!I4 -> Fecha: 5/10/2020
B6: ='Resumen general'!D7 -> 2018 | C6: ='Resumen general'!E7 -> 2019 | D6: ='Resumen general'!F7 -> 2018 | E6: ='Resumen general'!G7 -> 2019 | F6: Var. (%)
A7: A CORUÑA | B7: 34 | C7: 0 | D7: 54 | E7: 35 | F7: =((E7*100)/D7)-100 -> -35.185185
A8: ALICANTE | B8: 99867 | C8: 93544 | D8: 1245245.5 | E8: 1237828 | F8: =((E8*100)/D8)-100 -> -0.59566328
A9: ALMERÍA | B9: 13349 | C9: 33111 | D9: 92720 | E9: 385694 | F9: =((E9*100)/D9)-100 -> 315.97714
A10: AVILÉS | B10: 0 | C10: 0 | D10: 52 | E10: 2 | F10: =((E10*100)/D10)-100 -> -96.153846
A11: BAHÍA DE ALGECIRAS | B11: 4765020 | C11: 4911254 | D11: 60593409 | E11: 64283309 | F11: =((E11*100)/D11)-100 -> 6.0896065
A12: BAHÍA DE CÁDIZ | B12: 36869 | C12: 28650 | D12: 483037 | E12: 367850 | F12: =((E12*100)/D12)-100 -> -23.846413
A13: BALEARES | B13: 26556 | C13: 27310 | D13: 661073 | E13: 459002 | F13: =((E13*100)/D13)-100 -> -30.567123
A14: BARCELONA | B14: 2921946 | C14: 2555072 | D14: 34790080 | E14: 34182740 | F14: =((E14*100)/D14)-100 -> -1.7457256
A15: BILBAO | B15: 519778 | C15: 509578 | D15: 6807692 | E15: 6717568 | F15: =((E15*100)/D15)-100 -> -1.3238554
A16: CARTAGENA | B16: 64463 | C16: 60328 | D16: 1129557 | E16: 889187 | F16: =((E16*100)/D16)-100 -> -21.280024
A17: CASTELLÓN | B17: 213044 | C17: 188952 | D17: 3048975 | E17: 2763036 | F17: =((E17*100)/D17)-100 -> -9.3782009
A18: CEUTA | B18: 9397 | C18: 7416 | D18: 118282 | E18: 114973 | F18: =((E18*100)/D18)-100 -> -2.7975516
... A34: VILAGARCÍA | B34: 28799 | C34: 26807 | D34: 304282 | E34: 340978 | F34: =((E34*100)/D34)-100 -> 12.059866
A35: Total | B35: =SUM(B7:B34) -> 15741882 | C35: =SUM(C7:C34) -> 15120388 | D35: =SUM(D7:D34) -> 1.9102825e+08 | E35: =SUM(E7:E34) -> 1.9528963e+08 | F35: =((E35*100)/D35)-100 -> 2.2307559
A36: Incluye cargas, descargas, tránsitos y transbordos.
B38: =E6 -> 2019 | C38: =D6 -> 2018 | F38: =B38 -> 2019 | G38: =C38 -> 2018
A39: =A7 -> A CORUÑA | B39: =E7 -> 35 | C39: =D7 -> 54 | D39: =_xlfn.RANK.EQ(B39,$B$39:$B$66)+COUNTIF($B$39:$B$66,B39)-1 -> 26 | E39: =INDEX($A$39:$B$66,MATCH(ROW()-38,$D$39:$D$66,0),1) -> BAHÍA DE ALGECIRAS | F39: =LOOKUP(E39,$A$39:$A$66,$B$39:$B$66) -> 64283309 | G39: =LOOKUP(E39,$A$39:$A$66,$C$39:$C$66) -> 60593409
A40: =A8 -> ALICANTE | B40: =E8 -> 1237828 | C40: =D8 -> 1245245.5 | D40: =_xlfn.RANK.EQ(B40,$B$39:$B$66)+COUNTIF($B$39:$B$66,B40)-1 -> 10 | E40: =INDEX($A$39:$B$66,MATCH(ROW()-38,$D$39:$D$66,0),1) -> VALENCIA | F40: =LOOKUP(E40,$A$39:$A$66,$B$39:$B$66) -> 60831738 | G40: =LOOKUP(E40,$A$39:$A$66,$C$39:$C$66) -> 57885808
A41: =A9 -> ALMERÍA | B41: =E9 -> 385694 | C41: =D9 -> 92720 | D41: =_xlfn.RANK.EQ(B41,$B$39:$B$66)+COUNTIF($B$39:$B$66,B41)-1 -> 18 | E41: =INDEX($A$39:$B$66,MATCH(ROW()-38,$D$39:$D$66,0),1) -> BARCELONA | F41: =LOOKUP(E41,$A$39:$A$66,$B$39:$B$66) -> 34182740 | G41: =LOOKUP(E41,$A$39:$A$66,$C$39:$C$66) -> 34790080
A42: =A10 -> AVILÉS | B42: =E10 -> 2 | C42: =D10 -> 52 | D42: =_xlfn.RANK.EQ(B42,$B$39:$B$66)+COUNTIF($B$39:$B$66,B42)-1 -> 27 | E42: =INDEX($A$39:$B$66,MATCH(ROW()-38,$D$39:$D$66,0),1) -> LAS PALMAS | F42: =LOOKUP(E42,$A$39:$A$66,$B$39:$B$66) -> 10984193 | G42: =LOOKUP(E42,$A$39:$A$66,$C$39:$C$66) -> 12238328
A43: =A11 -> BAHÍA DE ALGECIRAS | B43: =E11 -> 64283309 | C43: =D11 -> 60593409 | D43: =_xlfn.RANK.EQ(B43,$B$39:$B$66)+COUNTIF($B$39:$B$66,B43)-1 -> 1 | E43: =INDEX($A$39:$B$66,MATCH(ROW()-38,$D$39:$D$66,0),1) -> BILBAO | F43: =LOOKUP(E43,$A$39:$A$66,$B$39:$B$66) -> 6717568 | G43: =LOOKUP(E43,$A$39:$A$66,$C$39:$C$66) -> 6807692
A44: =A12 -> BAHÍA DE CÁDIZ | B44: =E12 -> 367850 | C44: =D12 -> 483037 | D44: =_xlfn.RANK.EQ(B44,$B$39:$B$66)+COUNTIF($B$39:$B$66,B44)-1 -> 19 | E44: =INDEX($A$39:$B$66,MATCH(ROW()-38,$D$39:$D$66,0),1) -> SANTA CRUZ DE TENERIFE | F44: =LOOKUP(E44,$A$39:$A$66,$B$39:$B$66) -> 3312267 | G44: =LOOKUP(E44,$A$39:$A$66,$C$39:$C$66) -> 3631763
A45: =A13 -> BALEARES | B45: =E13 -> 459002 | C45: =D13 -> 661073 | D45: =_xlfn.RANK.EQ(B45,$B$39:$B$66)+COUNTIF($B$39:$B$66,B45)-1 -> 16 | E45: =INDEX($A$39:$B$66,MATCH(ROW()-38,$D$39:$D$66,0),1) -> CASTELLÓN | F45: =LOOKUP(E45,$A$39:$A$66,$B$39:$B$66) -> 2763036 | G45: =LOOKUP(E45,$A$39:$A$66,$C$39:$C$66) -> 3048975
A46: =A14 -> BARCELONA | B46: =E14 -> 34182740 | C46: =D14 -> 34790080 | D46: =_xlfn.RANK.EQ(B46,$B$39:$B$66)+COUNTIF($B$39:$B$66,B46)-1 -> 3 | E46: =INDEX($A$39:$B$66,MATCH(ROW()-38,$D$39:$D$66,0),1) -> VIGO | F46: =LOOKUP(E46,$A$39:$A$66,$B$39:$B$66) -> 2659602 | G46: =LOOKUP(E46,$A$39:$A$66,$C$39:$C$66) -> 2667879.7
A47: =A15 -> BILBAO | B47: =E15 -> 6717568 | C47: =D15 -> 6807692 | D47: =_xlfn.RANK.EQ(B47,$B$39:$B$66)+COUNTIF($B$39:$B$66,B47)-1 -> 5 | E47: =INDEX($A$39:$B$66,MATCH(ROW()-38,$D$39:$D$66,0),1) -> MÁLAGA | F47: =LOOKUP(E47,$A$39:$A$66,$B$39:$B$66) -> 1431971 | G47: =LOOKUP(E47,$A$39:$A$66,$C$39:$C$66) -> 935756.7
A48: =A16 -> CARTAGENA | B48: =E16 -> 889187 | C48: =D16 -> 1129557 | D48: =_xlfn.RANK.EQ(B48,$B$39:$B$66)+COUNTIF($B$39:$B$66,B48)-1 -> 13 | E48: =INDEX($A$39:$B$66,MATCH(ROW()-38,$D$39:$D$66,0),1) -> ALICANTE | F48: =LOOKUP(E48,$A$39:$A$66,$B$39:$B$66) -> 1237828 | G48: =LOOKUP(E48,$A$39:$A$66,$C$39:$C$66) -> 1245245.5
A49: =A17 -> CASTELLÓN | B49: =E17 -> 2763036 | C49: =D17 -> 3048975 | D49: =_xlfn.RANK.EQ(B49,$B$39:$B$66)+COUNTIF($B$39:$B$66,B49)-1 -> 7 | E49: =INDEX($A$39:$B$66,MATCH(ROW()-38,$D$39:$D$66,0),1) -> GIJÓN | F49: =LOOKUP(E49,$A$39:$A$66,$B$39:$B$66) -> 1003424 | G49: =LOOKUP(E49,$A$39:$A$66,$C$39:$C$66) -> 965284
A50: =A18 -> CEUTA | B50: =E18 -> 114973 | C50: =D18 -> 118282 | D50: =_xlfn.RANK.EQ(B50,$B$39:$B$66)+COUNTIF($B$39:$B$66,B50)-1 -> 23 | E50: =INDEX($A$39:$B$66,MATCH(ROW()-38,$D$39:$D$66,0),1) -> SEVILLA | F50: =LOOKUP(E50,$A$39:$A$66,$B$39:$B$66) -> 988769 | G50: =LOOKUP(E50,$A$39:$A$66,$C$39:$C$66) -> 983126
... A66: =A34 -> VILAGARCÍA | B66: =E34 -> 340978 | C66: =D34 -> 304282 | D66: =_xlfn.RANK.EQ(B66,$B$39:$B$66)+COUNTIF($B$39:$B$66,B66)-1 -> 20 | E66: =INDEX($A$39:$B$66,MATCH(ROW()-38,$D$39:$D$66,0),1) -> PASAIA | F66: =LOOKUP(E66,$A$39:$A$66,$B$39:$B$66) -> 0 | G66: =LOOKUP(E66,$A$39:$A$66,$C$39:$C$66) -> 98

Sheet Pesca
F1: 5. PESCA (toneladas)
A5: Autoridad Portuaria | B5: ='Resumen general'!D6 -> Mes diciembre | D5: ='Resumen general'!F6 -> Acumulado desde enero | L5: ='Resumen general'!I4 -> Fecha: 5/10/2020
B6: ='Resumen general'!D7 -> 2018 | C6: ='Resumen general'!E7 -> 2019 | D6: ='Resumen general'!F7 -> 2018 | E6: ='Resumen general'!G7 -> 2019 | F6: Var. (%)
A7: A CORUÑA | B7: 2488 | C7: 1780 | D7: 42358.264 | E7: 35923.74 | F7: =((E7*100)/D7)-100 -> -15.190718
A8: ALICANTE | B8: 28 | C8: 6 | D8: 2005.872 | E8: 867.159 | F8: =((E8*100)/D8)-100 -> -56.768976
A9: ALMERÍA | B9: 283 | C9: 283 | D9: 4263.563 | E9: 4163.8616 | F9: =((E9*100)/D9)-100 -> -2.3384526
A10: AVILÉS | B10: 579 | C10: 493 | D10: 12545.967 | E10: 12495.439 | F10: =((E10*100)/D10)-100 -> -0.40274297
A11: BAHÍA DE ALGECIRAS | B11: 39 | C11: 77 | D11: 878.58 | E11: 937.32 | F11: =((E11*100)/D11)-100 -> 6.6857884
A12: BAHÍA DE CÁDIZ | B12: 1056 | C12: 1252 | D12: 17693.197 | E12: 15919.009 | F12: =((E12*100)/D12)-100 -> -10.027514
A13: BALEARES | B13: 188 | C13: 110 | D13: 2903.317 | E13: 2585.835 | F13: =((E13*100)/D13)-100 -> -10.935148
A14: BARCELONA | B14: 59 | C14: 51 | D14: 3171.9987 | E14: 3575.179 | F14: =((E14*100)/D14)-100 -> 12.710608
A15: BILBAO | B15: 0 | C15: 0 | D15: 0 | E15: 0 | F15: =((E15*100)/D15)-100 -> #DIV/0!
A16: CARTAGENA | B16: 27 | C16: 24 | D16: 479.924 | E16: 591.571 | F16: =((E16*100)/D16)-100 -> 23.263475
A17: CASTELLÓN | B17: 108 | C17: 89 | D17: 5415.152 | E17: 3610.779 | F17: =((E17*100)/D17)-100 -> -33.320819
A18: CEUTA | B18: 0 | C18: 0 | D18: 40.863 | E18: 32.647 | F18: =((E18*100)/D18)-100 -> -20.106209
... A34: VILAGARCÍA | B34: 0 | C34: 0 | D34: 0 | E34: 0 | F34: =((E34*100)/D34)-100 -> #DIV/0!
A35: Total | B35: =SUM(B7:B34) -> 18385 | C35: 17353 | D35: =SUM(D7:D34) -> 224013.83 | E35: =SUM(E7:E34) -> 205394.17 | F35: =((E35*100)/D35)-100 -> -8.3118387
B38: =E6 -> 2019 | C38: =D6 -> 2018 | F38: =B38 -> 2019 | G38: =C38 -> 2018
A39: =A7 -> A CORUÑA | B39: =E7 -> 35923.74 | C39: =D7 -> 42358.264 | D39: =_xlfn.RANK.EQ(B39,$B$39:$B$66)+COUNTIF($B$39:$B$66,B39)-1 -> 2 | E39: =INDEX($A$39:$B$66,MATCH(ROW()-38,$D$39:$D$66,0),1) -> VIGO | F39: =LOOKUP(E39,$A$39:$A$66,$B$39:$B$66) -> 79803.375 | G39: =LOOKUP(E39,$A$39:$A$66,$C$39:$C$66) -> 78168.629
A40: =A8 -> ALICANTE | B40: =E8 -> 867.159 | C40: =D8 -> 2005.872 | D40: =_xlfn.RANK.EQ(B40,$B$39:$B$66)+COUNTIF($B$39:$B$66,B40)-1 -> 19 | E40: =INDEX($A$39:$B$66,MATCH(ROW()-38,$D$39:$D$66,0),1) -> A CORUÑA | F40: =LOOKUP(E40,$A$39:$A$66,$B$39:$B$66) -> 35923.74 | G40: =LOOKUP(E40,$A$39:$A$66,$C$39:$C$66) -> 42358.264
A41: =A9 -> ALMERÍA | B41: =E9 -> 4163.8616 | C41: =D9 -> 4263.563 | D41: =_xlfn.RANK.EQ(B41,$B$39:$B$66)+COUNTIF($B$39:$B$66,B41)-1 -> 8 | E41: =INDEX($A$39:$B$66,MATCH(ROW()-38,$D$39:$D$66,0),1) -> PASAIA | F41: =LOOKUP(E41,$A$39:$A$66,$B$39:$B$66) -> 21889.257 | G41: =LOOKUP(E41,$A$39:$A$66,$C$39:$C$66) -> 24638.1
A42: =A10 -> AVILÉS | B42: =E10 -> 12495.439 | C42: =D10 -> 12545.967 | D42: =_xlfn.RANK.EQ(B42,$B$39:$B$66)+COUNTIF($B$39:$B$66,B42)-1 -> 5 | E42: =INDEX($A$39:$B$66,MATCH(ROW()-38,$D$39:$D$66,0),1) -> BAHÍA DE CÁDIZ | F42: =LOOKUP(E42,$A$39:$A$66,$B$39:$B$66) -> 15919.009 | G42: =LOOKUP(E42,$A$39:$A$66,$C$39:$C$66) -> 17693.197
A43: =A11 -> BAHÍA DE ALGECIRAS | B43: =E11 -> 937.32 | C43: =D11 -> 878.58 | D43: =_xlfn.RANK.EQ(B43,$B$39:$B$66)+COUNTIF($B$39:$B$66,B43)-1 -> 18 | E43: =INDEX($A$39:$B$66,MATCH(ROW()-38,$D$39:$D$66,0),1) -> AVILÉS | F43: =LOOKUP(E43,$A$39:$A$66,$B$39:$B$66) -> 12495.439 | G43: =LOOKUP(E43,$A$39:$A$66,$C$39:$C$66) -> 12545.967
A44: =A12 -> BAHÍA DE CÁDIZ | B44: =E12 -> 15919.009 | C44: =D12 -> 17693.197 | D44: =_xlfn.RANK.EQ(B44,$B$39:$B$66)+COUNTIF($B$39:$B$66,B44)-1 -> 4 | E44: =INDEX($A$39:$B$66,MATCH(ROW()-38,$D$39:$D$66,0),1) -> SANTA CRUZ DE TENERIFE | F44: =LOOKUP(E44,$A$39:$A$66,$B$39:$B$66) -> 5143.699 | G44: =LOOKUP(E44,$A$39:$A$66,$C$39:$C$66) -> 5485.807
A45: =A13 -> BALEARES | B45: =E13 -> 2585.835 | C45: =D13 -> 2903.317 | D45: =_xlfn.RANK.EQ(B45,$B$39:$B$66)+COUNTIF($B$39:$B$66,B45)-1 -> 13 | E45: =INDEX($A$39:$B$66,MATCH(ROW()-38,$D$39:$D$66,0),1) -> GIJÓN | F45: =LOOKUP(E45,$A$39:$A$66,$B$39:$B$66) -> 4867.008 | G45: =LOOKUP(E45,$A$39:$A$66,$C$39:$C$66) -> 5070.093
A46: =A14 -> BARCELONA | B46: =E14 -> 3575.179 | C46: =D14 -> 3171.9987 | D46: =_xlfn.RANK.EQ(B46,$B$39:$B$66)+COUNTIF($B$39:$B$66,B46)-1 -> 10 | E46: =INDEX($A$39:$B$66,MATCH(ROW()-38,$D$39:$D$66,0),1) -> ALMERÍA | F46: =LOOKUP(E46,$A$39:$A$66,$B$39:$B$66) -> 4163.8616 | G46: =LOOKUP(E46,$A$39:$A$66,$C$39:$C$66) -> 4263.563
A47: =A15 -> BILBAO | B47: =E15 -> 0 | C47: =D15 -> 0 | D47: =_xlfn.RANK.EQ(B47,$B$39:$B$66)+COUNTIF($B$39:$B$66,B47)-1 -> 28 | E47: =INDEX($A$39:$B$66,MATCH(ROW()-38,$D$39:$D$66,0),1) -> CASTELLÓN | F47: =LOOKUP(E47,$A$39:$A$66,$B$39:$B$66) -> 3610.779 | G47: =LOOKUP(E47,$A$39:$A$66,$C$39:$C$66) -> 5415.152
A48: =A16 -> CARTAGENA | B48: =E16 -> 591.571 | C48: =D16 -> 479.924 | D48: =_xlfn.RANK.EQ(B48,$B$39:$B$66)+COUNTIF($B$39:$B$66,B48)-1 -> 21 | E48: =INDEX($A$39:$B$66,MATCH(ROW()-38,$D$39:$D$66,0),1) -> BARCELONA | F48: =LOOKUP(E48,$A$39:$A$66,$B$39:$B$66) -> 3575.179 | G48: =LOOKUP(E48,$A$39:$A$66,$C$39:$C$66) -> 3171.9987
A49: =A17 -> CASTELLÓN | B49: =E17 -> 3610.779 | C49: =D17 -> 5415.152 | D49: =_xlfn.RANK.EQ(B49,$B$39:$B$66)+COUNTIF($B$39:$B$66,B49)-1 -> 9 | E49: =INDEX($A$39:$B$66,MATCH(ROW()-38,$D$39:$D$66,0),1) -> SANTANDER | F49: =LOOKUP(E49,$A$39:$A$66,$B$39:$B$66) -> 3471.8241 | G49: =LOOKUP(E49,$A$39:$A$66,$C$39:$C$66) -> 5069.545
A50: =A18 -> CEUTA | B50: =E18 -> 32.647 | C50: =D18 -> 40.863 | D50: =_xlfn.RANK.EQ(B50,$B$39:$B$66)+COUNTIF($B$39:$B$66,B50)-1 -> 24 | E50: =INDEX($A$39:$B$66,MATCH(ROW()-38,$D$39:$D$66,0),1) -> TARRAGONA | F50: =LOOKUP(E50,$A$39:$A$66,$B$39:$B$66) -> 2933.443 | G50: =LOOKUP(E50,$A$39:$A$66,$C$39:$C$66) -> 3626.433
... A66: =A34 -> VILAGARCÍA | B66: =E34 -> 0 | C66: =D34 -> 0 | D66: =_xlfn.RANK.EQ(B66,$B$39:$B$66)+COUNTIF($B$39:$B$66,B66)-1 -> 28 | E66: =INDEX($A$39:$B$66,MATCH(ROW()-38,$D$39:$D$66,0),1) -> BILBAO | F66: =LOOKUP(E66,$A$39:$A$66,$B$39:$B$66) -> 0 | G66: =LOOKUP(E66,$A$39:$A$66,$C$39:$C$66) -> 0

Sheet Avituallamiento
F1: 6. AVITUALLAMIENTO (toneladas)
A5: Autoridad Portuaria | B5: ='Resumen general'!D6 -> Mes diciembre | D5: ='Resumen general'!F6 -> Acumulado desde enero | L5: ='Resumen general'!I4 -> Fecha: 5/10/2020
B6: ='Resumen general'!D7 -> 2018 | C6: ='Resumen general'!E7 -> 2019 | D6: ='Resumen general'!F7 -> 2018 | E6: ='Resumen general'!G7 -> 2019 | F6: Var. (%)
A7: A CORUÑA | B7: 26117 | C7: 26358 | D7: 83873 | E7: 76142 | F7: =((E7*100)/D7)-100 -> -9.2175074
A8: ALICANTE | B8: 1427 | C8: 1806 | D8: 27809 | E8: 21965 | F8: =((E8*100)/D8)-100 -> -21.014779
A9: ALMERÍA | B9: 7379 | C9: 4469 | D9: 90959 | E9: 77909 | F9: =((E9*100)/D9)-100 -> -14.347123
A10: AVILÉS | B10: 1022 | C10: 3341 | D10: 44753 | E10: 45791 | F10: =((E10*100)/D10)-100 -> 2.3193976
A11: BAHÍA DE ALGECIRAS | B11: 220957 | C11: 183225 | D11: 2541866 | E11: 2398322 | F11: =((E11*100)/D11)-100 -> -5.6471899
A12: BAHÍA DE CÁDIZ | B12: 3144 | C12: 2993 | D12: 99158 | E12: 85241 | F12: =((E12*100)/D12)-100 -> -14.035176
A13: BALEARES | B13: 8417 | C13: 6239 | D13: 243907 | E13: 285890 | F13: =((E13*100)/D13)-100 -> 17.212708
A14: BARCELONA | B14: 120441 | C14: 108104 | D14: 1857961.2 | E14: 1731725 | F14: =((E14*100)/D14)-100 -> -6.7943401
A15: BILBAO | B15: 8212 | C15: 8684 | D15: 111691 | E15: 114732 | F15: =((E15*100)/D15)-100 -> 2.7226903
A16: CARTAGENA | B16: 19005 | C16: 22149 | D16: 207922 | E16: 182604 | F16: =((E16*100)/D16)-100 -> -12.176682
A17: CASTELLÓN | B17: 967 | C17: 843 | D17: 24455 | E17: 20030 | F17: =((E17*100)/D17)-100 -> -18.094459
A18: CEUTA | B18: 55909 | C18: 60954 | D18: 736993 | E18: 772552 | F18: =((E18*100)/D18)-100 -> 4.8248762
... A34: VILAGARCÍA | B34: 464 | C34: 345 | D34: 3729 | E34: 5283 | F34: =((E34*100)/D34)-100 -> 41.673371
A35: Total | B35: =SUM(B7:B34) -> 841511 | C35: 864204 | D35: =SUM(D7:D34) -> 10295494 | E35: =SUM(E7:E34) -> 10047315 | F35: =((E35*100)/D35)-100 -> -2.4105607
B38: =E6 -> 2019 | C38: =D6 -> 2018 | F38: =B38 -> 2019 | G38: =C38 -> 2018
A39: =A7 -> A CORUÑA | B39: =E7 -> 76142 | C39: =D7 -> 83873 | D39: =_xlfn.RANK.EQ(B39,$B$39:$B$66)+COUNTIF($B$39:$B$66,B39)-1 -> 16 | E39: =INDEX($A$39:$B$66,MATCH(ROW()-38,$D$39:$D$66,0),1) -> LAS PALMAS | F39: =LOOKUP(E39,$A$39:$A$66,$B$39:$B$66) -> 2519563 | G39: =LOOKUP(E39,$A$39:$A$66,$C$39:$C$66) -> 2630374.4
A40: =A8 -> ALICANTE | B40: =E8 -> 21965 | C40: =D8 -> 27809 | D40: =_xlfn.RANK.EQ(B40,$B$39:$B$66)+COUNTIF($B$39:$B$66,B40)-1 -> 23 | E40: =INDEX($A$39:$B$66,MATCH(ROW()-38,$D$39:$D$66,0),1) -> BAHÍA DE ALGECIRAS | F40: =LOOKUP(E40,$A$39:$A$66,$B$39:$B$66) -> 2398322 | G40: =LOOKUP(E40,$A$39:$A$66,$C$39:$C$66) -> 2541866
A41: =A9 -> ALMERÍA | B41: =E9 -> 77909 | C41: =D9 -> 90959 | D41: =_xlfn.RANK.EQ(B41,$B$39:$B$66)+COUNTIF($B$39:$B$66,B41)-1 -> 14 | E41: =INDEX($A$39:$B$66,MATCH(ROW()-38,$D$39:$D$66,0),1) -> BARCELONA | F41: =LOOKUP(E41,$A$39:$A$66,$B$39:$B$66) -> 1731725 | G41: =LOOKUP(E41,$A$39:$A$66,$C$39:$C$66) -> 1857961.2
A42: =A10 -> AVILÉS | B42: =E10 -> 45791 | C42: =D10 -> 44753 | D42: =_xlfn.RANK.EQ(B42,$B$39:$B$66)+COUNTIF($B$39:$B$66,B42)-1 -> 17 | E42: =INDEX($A$39:$B$66,MATCH(ROW()-38,$D$39:$D$66,0),1) -> CEUTA | F42: =LOOKUP(E42,$A$39:$A$66,$B$39:$B$66) -> 772552 | G42: =LOOKUP(E42,$A$39:$A$66,$C$39:$C$66) -> 736993
A43: =A11 -> BAHÍA DE ALGECIRAS | B43: =E11 -> 2398322 | C43: =D11 -> 2541866 | D43: =_xlfn.RANK.EQ(B43,$B$39:$B$66)+COUNTIF($B$39:$B$66,B43)-1 -> 2 | E43: =INDEX($A$39:$B$66,MATCH(ROW()-38,$D$39:$D$66,0),1) -> SANTA CRUZ DE TENERIFE | F43: =LOOKUP(E43,$A$39:$A$66,$B$39:$B$66) -> 646957 | G43: =LOOKUP(E43,$A$39:$A$66,$C$39:$C$66) -> 685587
A44: =A12 -> BAHÍA DE CÁDIZ | B44: =E12 -> 85241 | C44: =D12 -> 99158 | D44: =_xlfn.RANK.EQ(B44,$B$39:$B$66)+COUNTIF($B$39:$B$66,B44)-1 -> 13 | E44: =INDEX($A$39:$B$66,MATCH(ROW()-38,$D$39:$D$66,0),1) -> VALENCIA | F44: =LOOKUP(E44,$A$39:$A$66,$B$39:$B$66) -> 334321 | G44: =LOOKUP(E44,$A$39:$A$66,$C$39:$C$66) -> 192697
