Workbook
Name CABECERA: #REF!
Name CONCEPTO: #REF!
Name LblRes00_Acum: #REF!
Name LblRes00_Mes: #REF!
Name LblRes00_Var: #REF!
Name LblRes01_1_Acum: #REF!
Name LblRes01_1_Mes: #REF!
Name LblRes01_Acum: #REF!
Name LblRes01_Mes: #REF!
Name LblRes02_Acum: #REF!
Name LblRes02_Mes: #REF!
Name LblRes03_Acum: #REF!
Name LblRes03_Mes: #REF!
Name LblRes04_Acum: #REF!
Name LblRes04_Mes: #REF!
Name LblRes05_Acum: #REF!
Name LblRes05_Mes: #REF!
Name LblRes06_Acum: #REF!
Name LblRes06_Mes: #REF!
Name LblRes07_1_Acum: #REF!
Name LblRes07_1_Mes: #REF!
Name LblRes07_Acum: #REF!
Name LblRes07_Mes: #REF!
Name LblRes08_Acum: #REF!
Name LblRes08_Mes: #REF!
Name LblRes09_Acum: #REF!
Name LblRes09_Mes: #REF!
Name LblRes10_1_Acum: #REF!
Name LblRes10_1_Mes: #REF!
Name LblRes10_2_Acum: #REF!
Name LblRes10_2_Mes: #REF!
Name LblRes10_3_Acum: #REF!
Name LblRes10_3_Mes: #REF!
Name LblRes10_4_Acum: #REF!
Name LblRes10_4_Mes: #REF!
Name LblRes10_Acum: #REF!
Name LblRes10_Mes: #REF!
Name LblRes11_1_Acum: #REF!
Name LblRes11_1_Mes: #REF!
Name LblRes11_2_Acum: #REF!
Name LblRes11_2_Mes: #REF!
Name LblRes11_Acum: #REF!
Name LblRes11_Mes: #REF!
Name LblRes12_1_Acum: #REF!
Name LblRes12_1_Mes: #REF!
Name LblRes12_2_Acum: #REF!
Name LblRes12_2_Mes: #REF!
Name LblRes12_3_Acum: #REF!
Name LblRes12_3_Mes: #REF!
Name PROVINCIAS: #REF!
Name TxtFecha: #REF!

Sheet Portada
A28: Septiembre de 2026

Sheet Cálculo

Sheet Resumen general
A1: RESUMEN DEL TRÁFICO PORTUARIO
A4: Datos en toneladas salvo indicación expresa | I4: Fecha: 21/10/2026
A5: CONCEPTO | D5: Septiembre | F5: Acumulado desde Enero | H5: Variación
D6: 2025 | E6: 2026 | F6: 2025 | G6: 2026 | H6: Diferencia | I6: %
A7: MERCANCÍAS SEGÚN SU PRESENTACIÓN | B7: Graneles líquidos | C7: Total | D7: {=Líquidos!B35:E35} -> 15028821 | E7: 15406530 | F7: 133515462 | G7: 138373706 | H7: =G7-F7 -> 4858244 | I7: =((G7*100/F7)-100) -> 3.6387126
B8: Graneles sólidos | C8: Total | D8: {=Sólidos!B35:E35} -> 7778514 | E8: 7317025 | F8: 60312594 | G8: 60127781 | H8: =G8-F8 -> -184813 | I8: =((G8*100/F8)-100) -> -0.30642522
B9: Mercancía general | C9: Total | D9: {='Mercancía general'!B35:E35} -> 22623218 | E9: 23131798 | F9: 210161638 | G9: 209754514 | H9: =G9-F9 -> -407124 | I9: =((G9*100/F9)-100) -> -0.19371946
C10: En contenedores | D10: {='Mercancías contenedores'!B35:E35} -> 15311828 | E10: 15807882 | F10: 143801762 | G10: 142671155 | H10: =G10-F10 -> -1130607 | I10: =((G10*100/F10)-100) -> -0.78622611
C11: Convencional | D11: =D9-D10 -> 7311390 | E11: =E9-E10 -> 7323916 | F11: =F9-F10 -> 66359876 | G11: =G9-G10 -> 67083359 | H11: =G11-F11 -> 723483 | I11: =((G11*100/F11)-100) -> 1.0902416
C12: SUBTOTAL | D12: =SUM(D7,D8,D9) -> 45430553 | E12: =SUM(E7,E8,E9) -> 45855353 | F12: =SUM(F7,F8,F9) -> 403989694 | G12: =SUM(G7,G8,G9) -> 408256001 | H12: =G12-F12 -> 4266307 | I12: =((G12*100/F12)-100) -> 1.0560435
A13: OTRAS MERCANCÍAS | B13: Pesca | C13: Total | D13: {=Pesca!B35:E35} -> 10320.248 | E13: 10923.047 | F13: 106666.73 | G13: 95341.47 | H13: =G13-F13 -> -11325.261 | I13: =((G13*100/F13)-100) -> -10.617426
B14: Avituallamiento | C14: Total | D14: {=Avituallamiento!B35:E35} -> 968630 | E14: 1102294 | F14: 8614122 | G14: 9135132 | H14: =G14-F14 -> 521010 | I14: =((G14*100/F14)-100) -> 6.0483239
C15: Combustibles líquidos | D15: {='Avi. combustibles'!B35:E35} -> 797691 | E15: 938261 | F15: 7130914 | G15: 7593216 | H15: =G15-F15 -> 462302 | I15: =((G15*100/F15)-100) -> 6.4830679
B16: Trafico interior | C16: Total | D16: {='Tráfico interior'!B35:E35} -> 314581 | E16: 457237 | F16: 2764971 | G16: 3137119 | H16: =G16-F16 -> 372148 | I16: =((G16*100/F16)-100) -> 13.459382
C17: SUBTOTAL | D17: =SUM(D13,D14,D16) -> 1293531.2 | E17: =SUM(E13,E14,E16) -> 1570454 | F17: =SUM(F13,F14,F16) -> 11485760 | G17: =SUM(G13,G14,G16) -> 12367592 | H17: =G17-F17 -> 881832.74 | I17: =((G17*100/F17)-100) -> 7.6776178
A18: TRÁFICO PORTUARIO TOTAL (*) | D18: =D12+D17 -> 46724084 | E18: =E12+E17 -> 47425807 | F18: =F12+F17 -> 4.1547545e+08 | G18: =G12+G17 -> 4.2062359e+08 | H18: =G18-F18 -> 5148139.7 | I18: =((G18*100/F18)-100) -> 1.239096
A20: OTROS DATOS DE TRÁFICO | B20: Mercancías en tránsito | C20: Total | D20: {='Mercancías tránsito'!B35:E35} -> 12042993 | E20: 12286680 | F20: 111857719 | G20: 110610620 | H20: =G20-F20 -> -1247099 | I20: =((G20*100/F20)-100) -> -1.1148976
C21: En contenedores | D21: {='Mercan. contene. tránsito'!B35:E35} -> 8901682 | E21: 9225033 | F21: 84517112 | G21: 83103496 | H21: =G21-F21 -> -1413616 | I21: =((G21*100/F21)-100) -> -1.6725796
B22: Tráfico ro-ro | C22: Total (t) | D22: {='Ro-Ro'!B35:E35} -> 6067001 | E22: 6171142 | F22: 56536603 | G22: 56741559 | H22: =G22-F22 -> 204956 | I22: =((G22*100/F22)-100) -> 0.36251913
C23: UTIS (uds.) | D23: {='Ro-Ro UTIS'!B35:E35} -> 257447 | E23: 260586 | F23: 2429514 | G23: 2421051 | H23: =G23-F23 -> -8463 | I23: =((G23*100/F23)-100) -> -0.34834127
B24: Contenedores (TEUS) | C24: Total | D24: {=TEUS!B35:E35} -> 1553011.8 | E24: 1582391.5 | F24: 14029806 | G24: 14178081 | H24: =G24-F24 -> 148275.25 | I24: =((G24*100/F24)-100) -> 1.0568589
C25: En tránsito | D25: {='TEUS tránsito'!B35:E35} -> 801246.75 | E25: 797027.5 | F25: 7293005.2 | G25: 7271172.2 | H25: =G25-F25 -> -21833 | I25: =((G25*100/F25)-100) -> -0.29936904
C26: Origen-destino nacional | D26: {='TEUS nacional'!B35:E35} -> 170325 | E26: 182532.75 | F26: 1591635.2 | G26: 1640906.2 | H26: =G26-F26 -> 49271 | I26: =((G26*100/F26)-100) -> 3.0956213
C27: Import-Export | D27: {='TEUS exterior'!B35:E35} -> 581440 | E27: 602831.25 | F27: 5145165 | G27: 5266002.2 | H27: =G27-F27 -> 120837.25 | I27: =((G27*100/F27)-100) -> 2.3485593
B28: Buques mercantes | C28: Total número | D28: {='Buques número'!B35:E35} -> 14768 | E28: 14762 | F28: 124669 | G28: 123237 | H28: =G28-F28 -> -1432 | I28: =((G28*100/F28)-100) -> -1.1486416
C29: Total GT | D29: {='Buques GT'!B35:E35} -> 235958734 | E29: 238478809 | F29: 2035067628 | G29: 2046819227 | H29: =G29-F29 -> 11751599 | I29: =((G29*100/F29)-100) -> 0.57745496
C30: Cruceros (nº) | D30: {=Cruceros!B35:E35} -> 457 | E30: 452 | F30: 3607 | G30: 3738 | H30: =G30-F30 -> 131 | I30: =((G30*100/F30)-100) -> 3.631827
B31: Pasajeros (nº) | C31: Total | D31: {='Pasajeros total'!B35:E35} -> 4025938 | E31: 3883493 | F31: 33366726 | G31: 32998746 | H31: =G31-F31 -> -367980 | I31: =((G31*100/F31)-100) -> -1.1028352
C32: En régimen de transporte | D32: {='Pasajeros regulares'!B35:E35} -> 2722442 | E32: 2677802 | F32: 23146814 | G32: 22569468 | H32: =G32-F32 -> -577346 | I32: =((G32*100/F32)-100) -> -2.4942785
C33: De crucero | D33: {='Pasajeros crucero'!B35:E35} -> 1303496 | E33: 1205691 | F33: 10219912 | G33: 10429278 | H33: =G33-F33 -> 209366 | I33: =((G33*100/F33)-100) -> 2.0486086
B34: Automóviles (uds.) | C34: En régimen de pasaje | D34: {='Automóviles régimen pasaje'!B35:E35} -> 704903 | E34: 713138 | F34: 5927660 | G34: 5870181 | H34: =G34-F34 -> -57479 | I34: =((G34*100/F34)-100) -> -0.96967437
C35: En régimen de mercancía | D35: {='Automóviles régimen mercancía'!B35:E35} -> 297269 | E35: 317429 | F35: 2582094 | G35: 2635734 | H35: =G35-F35 -> 53640 | I35: =((G35*100/F35)-100) -> 2.0773837
A36: (*) Incluye cargas, descargas, tránsito, transbordo y taras

Sheet Resumen naturalezas3
A1: RESUMEN DE MERCANCÍAS SEGÚN SU NATURALEZA Y PRESENTACIÓN
A4: Datos en toneladas | N4: Fecha: 21/10/2026
C5: GRANELES LÍQUIDOS | G5: GRANELES SÓLIDOS | K5: MERCANCÍA GENERAL
A6: MERCANCÍAS SEGÚN SU NATURALEZA | C6: Acumulado desde enero | E6: Variación | G6: Acumulado desde enero | I6: Variación | K6: Acumulado desde enero | M6: Variación
C7: 2025 | D7: 2026 | E7: Diferencia | F7: % | G7: 2025 | H7: 2026 | I7: Diferencia | J7: % | K7: 2025 | L7: 2026 | M7: Diferencia | N7: %
A8: Grupo energético | B8: Petróleo crudo | E8: =D8-C8 -> 0 | F8: =((D8*100/C8)-100) -> #DIV/0! | I8: =H8-G8 -> 0 | J8: =((H8*100/G8)-100) -> #DIV/0! | M8: =L8-K8 -> 0 | N8: =((L8*100/K8)-100) -> #DIV/0!
B9: Fueloil | E9: =D9-C9 -> 0 | F9: =((D9*100/C9)-100) -> #DIV/0! | I9: =H9-G9 -> 0 | J9: =((H9*100/G9)-100) -> #DIV/0! | M9: =L9-K9 -> 0 | N9: =((L9*100/K9)-100) -> #DIV/0!
B10: Gasoil | E10: =D10-C10 -> 0 | F10: =((D10*100/C10)-100) -> #DIV/0! | I10: =H10-G10 -> 0 | J10: =((H10*100/G10)-100) -> #DIV/0! | M10: =L10-K10 -> 0 | N10: =((L10*100/K10)-100) -> #DIV/0!
B11: Gasolina | E11: =D11-C11 -> 0 | F11: =((D11*100/C11)-100) -> #DIV/0! | I11: =H11-G11 -> 0 | J11: =((H11*100/G11)-100) -> #DIV/0! | M11: =L11-K11 -> 0 | N11: =((L11*100/K11)-100) -> #DIV/0!
B12: Otros productos petrolíferos | E12: =D12-C12 -> 0 | F12: =((D12*100/C12)-100) -> #DIV/0! | I12: =H12-G12 -> 0 | J12: =((H12*100/G12)-100) -> #DIV/0! | M12: =L12-K12 -> 0 | N12: =((L12*100/K12)-100) -> #DIV/0!
B13: Gases energéticos de petróleo | E13: =D13-C13 -> 0 | F13: =((D13*100/C13)-100) -> #DIV/0! | I13: =H13-G13 -> 0 | J13: =((H13*100/G13)-100) -> #DIV/0! | M13: =L13-K13 -> 0 | N13: =((L13*100/K13)-100) -> #DIV/0!
B14: Carbón y coque de petróleo | E14: =D14-C14 -> 0 | F14: =((D14*100/C14)-100) -> #DIV/0! | I14: =H14-G14 -> 0 | J14: =((H14*100/G14)-100) -> #DIV/0! | M14: =L14-K14 -> 0 | N14: =((L14*100/K14)-100) -> #DIV/0!
B15: Gas natural | E15: =D15-C15 -> 0 | F15: =((D15*100/C15)-100) -> #DIV/0! | I15: =H15-G15 -> 0 | J15: =((H15*100/G15)-100) -> #DIV/0! | M15: =L15-K15 -> 0 | N15: =((L15*100/K15)-100) -> #DIV/0!
B16: Biocombustibles | E16: =D16-C16 -> 0 | F16: =((D16*100/C16)-100) -> #DIV/0! | I16: =H16-G16 -> 0 | J16: =((H16*100/G16)-100) -> #DIV/0! | M16: =L16-K16 -> 0 | N16: =((L16*100/K16)-100) -> #DIV/0!
A17: Grupo siderometalúrgico | B17: Mineral de hierro | E17: =D17-C17 -> 0 | F17: =((D17*100/C17)-100) -> #DIV/0! | I17: =H17-G17 -> 0 | J17: =((H17*100/G17)-100) -> #DIV/0! | M17: =L17-K17 -> 0 | N17: =((L17*100/K17)-100) -> #DIV/0!
B18: Otros minerales y residuos metálicos | E18: =D18-C18 -> 0 | F18: =((D18*100/C18)-100) -> #DIV/0! | I18: =H18-G18 -> 0 | J18: =((H18*100/G18)-100) -> #DIV/0! | M18: =L18-K18 -> 0 | N18: =((L18*100/K18)-100) -> #DIV/0!
B19: Chatarra de hierro | E19: =D19-C19 -> 0 | F19: =((D19*100/C19)-100) -> #DIV/0! | I19: =H19-G19 -> 0 | J19: =((H19*100/G19)-100) -> #DIV/0! | M19: =L19-K19 -> 0 | N19: =((L19*100/K19)-100) -> #DIV/0!
B20: Productos siderúrgicos | E20: =D20-C20 -> 0 | F20: =((D20*100/C20)-100) -> #DIV/0! | I20: =H20-G20 -> 0 | J20: =((H20*100/G20)-100) -> #DIV/0! | M20: =L20-K20 -> 0 | N20: =((L20*100/K20)-100) -> #DIV/0!
B21: Otros productos metalúrgicos | E21: =D21-C21 -> 0 | F21: =((D21*100/C21)-100) -> #DIV/0! | I21: =H21-G21 -> 0 | J21: =((H21*100/G21)-100) -> #DIV/0! | M21: =L21-K21 -> 0 | N21: =((L21*100/K21)-100) -> #DIV/0!
A22: Grupo minerales no metálicos | B22: Sal común | E22: =D22-C22 -> 0 | F22: =((D22*100/C22)-100) -> #DIV/0! | I22: =H22-G22 -> 0 | J22: =((H22*100/G22)-100) -> #DIV/0! | M22: =L22-K22 -> 0 | N22: =((L22*100/K22)-100) -> #DIV/0!
B23: Otros minerales no metálicos | E23: =D23-C23 -> 0 | F23: =((D23*100/C23)-100) -> #DIV/0! | I23: =H23-G23 -> 0 | J23: =((H23*100/G23)-100) -> #DIV/0! | M23: =L23-K23 -> 0 | N23: =((L23*100/K23)-100) -> #DIV/0!
A24: Grupo abonos | B24: Fosfatos | E24: =D24-C24 -> 0 | F24: =((D24*100/C24)-100) -> #DIV/0! | I24: =H24-G24 -> 0 | J24: =((H24*100/G24)-100) -> #DIV/0! | M24: =L24-K24 -> 0 | N24: =((L24*100/K24)-100) -> #DIV/0!
B25: Potasas | E25: =D25-C25 -> 0 | F25: =((D25*100/C25)-100) -> #DIV/0! | I25: =H25-G25 -> 0 | J25: =((H25*100/G25)-100) -> #DIV/0! | M25: =L25-K25 -> 0 | N25: =((L25*100/K25)-100) -> #DIV/0!
B26: Abonos naturales y artificiales | E26: =D26-C26 -> 0 | F26: =((D26*100/C26)-100) -> #DIV/0! | I26: =H26-G26 -> 0 | J26: =((H26*100/G26)-100) -> #DIV/0! | M26: =L26-K26 -> 0 | N26: =((L26*100/K26)-100) -> #DIV/0!
A27: Grupo productos químicos | B27: Productos químicos | E27: =D27-C27 -> 0 | F27: =((D27*100/C27)-100) -> #DIV/0! | I27: =H27-G27 -> 0 | J27: =((H27*100/G27)-100) -> #DIV/0! | M27: =L27-K27 -> 0 | N27: =((L27*100/K27)-100) -> #DIV/0!
A28: Grupo materiales de construcción | B28: Asfalto | E28: =D28-C28 -> 0 | F28: =((D28*100/C28)-100) -> #DIV/0! | I28: =H28-G28 -> 0 | J28: =((H28*100/G28)-100) -> #DIV/0! | M28: =L28-K28 -> 0 | N28: =((L28*100/K28)-100) -> #DIV/0!
B29: Cemento y clínker | E29: =D29-C29 -> 0 | F29: =((D29*100/C29)-100) -> #DIV/0! | I29: =H29-G29 -> 0 | J29: =((H29*100/G29)-100) -> #DIV/0! | M29: =L29-K29 -> 0 | N29: =((L29*100/K29)-100) -> #DIV/0!
B30: Materiales de construcción elaborados | E30: =D30-C30 -> 0 | F30: =((D30*100/C30)-100) -> #DIV/0! | I30: =H30-G30 -> 0 | J30: =((H30*100/G30)-100) -> #DIV/0! | M30: =L30-K30 -> 0 | N30: =((L30*100/K30)-100) -> #DIV/0!
A31: Grupo agroganadero y alimentario | B31: Cereales y sus harinas | E31: =D31-C31 -> 0 | F31: =((D31*100/C31)-100) -> #DIV/0! | I31: =H31-G31 -> 0 | J31: =((H31*100/G31)-100) -> #DIV/0! | M31: =L31-K31 -> 0 | N31: =((L31*100/K31)-100) -> #DIV/0!
B32: Habas de soja | E32: =D32-C32 -> 0 | F32: =((D32*100/C32)-100) -> #DIV/0! | I32: =H32-G32 -> 0 | J32: =((H32*100/G32)-100) -> #DIV/0! | M32: =L32-K32 -> 0 | N32: =((L32*100/K32)-100) -> #DIV/0!
B33: Frutas, hortalizas y legumbres | E33: =D33-C33 -> 0 | F33: =((D33*100/C33)-100) -> #DIV/0! | I33: =H33-G33 -> 0 | J33: =((H33*100/G33)-100) -> #DIV/0! | M33: =L33-K33 -> 0 | N33: =((L33*100/K33)-100) -> #DIV/0!
B34: Vinos, bebidas, alcoholes y derivados | E34: =D34-C34 -> 0 | F34: =((D34*100/C34)-100) -> #DIV/0! | I34: =H34-G34 -> 0 | J34: =((H34*100/G34)-100) -> #DIV/0! | M34: =L34-K34 -> 0 | N34: =((L34*100/K34)-100) -> #DIV/0!
B35: Conservas | E35: =D35-C35 -> 0 | F35: =((D35*100/C35)-100) -> #DIV/0! | I35: =H35-G35 -> 0 | J35: =((H35*100/G35)-100) -> #DIV/0! | M35: =L35-K35 -> 0 | N35: =((L35*100/K35)-100) -> #DIV/0!
B36: Tabaco, cacao, café y especias | E36: =D36-C36 -> 0 | F36: =((D36*100/C36)-100) -> #DIV/0! | I36: =H36-G36 -> 0 | J36: =((H36*100/G36)-100) -> #DIV/0! | M36: =L36-K36 -> 0 | N36: =((L36*100/K36)-100) -> #DIV/0!
B37: Aceites y grasas | E37: =D37-C37 -> 0 | F37: =((D37*100/C37)-100) -> #DIV/0! | I37: =H37-G37 -> 0 | J37: =((H37*100/G37)-100) -> #DIV/0! | M37: =L37-K37 -> 0 | N37: =((L37*100/K37)-100) -> #DIV/0!
B38: Otros productos alimenticios | E38: =D38-C38 -> 0 | F38: =((D38*100/C38)-100) -> #DIV/0! | I38: =H38-G38 -> 0 | J38: =((H38*100/G38)-100) -> #DIV/0! | M38: =L38-K38 -> 0 | N38: =((L38*100/K38)-100) -> #DIV/0!
B39: Pescado congelado y refrigerado | E39: =D39-C39 -> 0 | F39: =((D39*100/C39)-100) -> #DIV/0! | I39: =H39-G39 -> 0 | J39: =((H39*100/G39)-100) -> #DIV/0! | M39: =L39-K39 -> 0 | N39: =((L39*100/K39)-100) -> #DIV/0!
B40: Piensos y forrajes | E40: =D40-C40 -> 0 | F40: =((D40*100/C40)-100) -> #DIV/0! | I40: =H40-G40 -> 0 | J40: =((H40*100/G40)-100) -> #DIV/0! | M40: =L40-K40 -> 0 | N40: =((L40*100/K40)-100) -> #DIV/0!
A41: Grupo otras mercancías | B41: Maderas y corcho | E41: =D41-C41 -> 0 | F41: =((D41*100/C41)-100) -> #DIV/0! | I41: =H41-G41 -> 0 | J41: =((H41*100/G41)-100) -> #DIV/0! | M41: =L41-K41 -> 0 | N41: =((L41*100/K41)-100) -> #DIV/0!
B42: Papel y pasta | E42: =D42-C42 -> 0 | F42: =((D42*100/C42)-100) -> #DIV/0! | I42: =H42-G42 -> 0 | J42: =((H42*100/G42)-100) -> #DIV/0! | M42: =L42-K42 -> 0 | N42: =((L42*100/K42)-100) -> #DIV/0!
...

Sheet Resumen naturalezas
A1: RESUMEN DE MERCANCÍAS SEGÚN SU NATURALEZA Y PRESENTACIÓN
A4: Datos en toneladas | N4: Fecha: 21/10/2026
C5: GRANELES LÍQUIDOS | G5: GRANELES SÓLIDOS | K5: MERCANCÍA GENERAL
A6: MERCANCÍAS SEGÚN SU NATURALEZA | C6: Acumulado desde enero | E6: Variación | G6: Acumulado desde enero | I6: Variación | K6: Acumulado desde enero | M6: Variación
C7: 2025 | D7: 2026 | E7: Diferencia | F7: % | G7: 2025 | H7: 2026 | I7: Diferencia | J7: % | K7: 2025 | L7: 2026 | M7: Diferencia | N7: %
A8: Grupo energético | B8: Petróleo crudo | C8: 44899681 | D8: 45658725 | E8: 759044 | F8: 1.6905332 | G8: 0 | H8: 0 | I8: 0 | K8: 5471 | L8: 2962 | M8: -2509 | N8: -45.859989
A9: Grupo energético | B9: Fueloil | C9: 8608238 | D9: 9264210 | E9: 655972 | F9: 7.6202819 | G9: 0 | H9: 0 | I9: 0 | K9: 349576 | L9: 391333 | M9: 41757 | N9: 11.945042
A10: Grupo energético | B10: Gasoil | C10: 18743529 | D10: 17825662 | E10: -917867 | F10: -4.8969807 | G10: 0 | H10: 0 | I10: 0 | K10: 31618 | L10: 41451 | M10: 9833 | N10: 31.099374
A11: Grupo energético | B11: Gasolina | C11: 15963837 | D11: 17506956 | E11: 1543119 | F11: 9.6663415 | G11: 0 | H11: 0 | I11: 0 | K11: 13561 | L11: 9340 | M11: -4221 | N11: -31.126023
A12: Grupo energético | B12: Otros productos petrolíferos | C12: 4378593 | D12: 4590785 | E12: 212192 | F12: 4.8461229 | G12: 0 | H12: 0 | I12: 0 | K12: 280920 | L12: 317384 | M12: 36464 | N12: 12.980208
A13: Grupo energético | B13: Gases energéticos de petróleo | C13: 1934145 | D13: 1855025 | E13: -79120 | F13: -4.0906964 | G13: 0 | H13: 0 | I13: 0 | K13: 88005 | L13: 49873 | M13: -38132 | N13: -43.329356
A14: Grupo energético | B14: Carbón y coque de petróleo | C14: 0 | D14: 0 | E14: 0 | G14: 6559284 | H14: 5453718 | I14: -1105566 | J14: -16.85498 | K14: 234513 | L14: 287036 | M14: 52523 | N14: 22.396626
A15: Grupo energético | B15: Gas natural | C15: 12556013 | D15: 11648153 | E15: -907860 | F15: -7.2304799 | G15: 0 | H15: 0 | I15: 0 | K15: 1143 | L15: 3064 | M15: 1921 | N15: 168.06649
A16: Grupo energético | B16: Biocombustibles | C16: 2816001 | D16: 3185072 | E16: 369071 | F16: 13.10621 | G16: 1226 | H16: 0 | I16: -1226 | J16: -100 | K16: 798359 | L16: 813272 | M16: 14913 | N16: 1.8679566
A17: Grupo siderometalúrgico | B17: Mineral de hierro | C17: 0 | D17: 0 | E17: 0 | G17: 5782683 | H17: 4129793 | I17: -1652890 | J17: -28.583445 | K17: 33953 | L17: 107041 | M17: 73088 | N17: 215.26227
A18: Grupo siderometalúrgico | B18: Otros minerales y residuos metálicos | C18: 0 | D18: 0 | E18: 0 | G18: 4242314 | H18: 4380302 | I18: 137988 | J18: 3.2526588 | K18: 1567067 | L18: 1588646 | M18: 21579 | N18: 1.3770311
A19: Grupo siderometalúrgico | B19: Chatarra de hierro | C19: 0 | D19: 0 | E19: 0 | G19: 1443414 | H19: 1180050 | I19: -263364 | J19: -18.245909 | K19: 913684 | L19: 1015312 | M19: 101628 | N19: 11.122883
A20: Grupo siderometalúrgico | B20: Productos siderúrgicos | C20: 0 | D20: 0 | E20: 0 | G20: 317398 | H20: 281507 | I20: -35891 | J20: -11.307885 | K20: 11665256 | L20: 11849544 | M20: 184288 | N20: 1.5798024
A21: Grupo siderometalúrgico | B21: Otros productos metalúrgicos | C21: 0 | D21: 0 | E21: 0 | G21: 0 | H21: 0 | I21: 0 | K21: 2748841 | L21: 2715389 | M21: -33452 | N21: -1.2169493
A22: Grupo minerales no metálicos | B22: Sal común | C22: 0 | D22: 0 | E22: 0 | G22: 436498 | H22: 459382 | I22: 22884 | J22: 5.2426357 | K22: 240737 | L22: 198688 | M22: -42049 | N22: -17.466779
A23: Grupo minerales no metálicos | B23: Otros minerales no metálicos | C23: 57966 | D23: 58031 | E23: 65 | F23: 0.1121347 | G23: 11955708 | H23: 12446402 | I23: 490694 | J23: 4.1042655 | K23: 2319017 | L23: 2252066 | M23: -66951 | N23: -2.8870422
A24: Grupo abonos | B24: Fosfatos | C24: 0 | D24: 0 | E24: 0 | G24: 272175 | H24: 240542 | I24: -31633 | J24: -11.622302 | K24: 18898 | L24: 17291 | M24: -1607 | N24: -8.5035453
A25: Grupo abonos | B25: Potasas | C25: 0 | D25: 0 | E25: 0 | G25: 493900 | H25: 597698 | I25: 103798 | J25: 21.015995 | K25: 186593 | L25: 138233 | M25: -48360 | N25: -25.917371
A26: Grupo abonos | B26: Abonos naturales y artificiales | C26: 252833 | D26: 148250 | E26: -104583 | F26: -41.364458 | G26: 2351593 | H26: 2321331 | I26: -30262 | J26: -1.2868723 | K26: 1970626 | L26: 2012680 | M26: 42054 | N26: 2.1340427
A27: Grupo productos químicos | B27: Productos químicos | C27: 18250134 | D27: 20579338 | E27: 2329204 | F27: 12.762668 | G27: 1865544 | H27: 1692252 | I27: -173292 | J27: -9.2890867 | K27: 18981724 | L27: 17573124 | M27: -1408600 | N27: -7.4208223
A28: Grupo materiales de construcción | B28: Asfalto | C28: 1665045 | D28: 1614036 | E28: -51009 | F28: -3.0635208 | G28: 99042 | H28: 68958 | I28: -30084 | J28: -30.374992 | K28: 81974 | L28: 90376 | M28: 8402 | N28: 10.249591
A29: Grupo materiales de construcción | B29: Cemento y clínker | C29: 0 | D29: 0 | E29: 0 | G29: 6002244 | H29: 5553259 | I29: -448985 | J29: -7.4802857 | K29: 941075 | L29: 833504 | M29: -107571 | N29: -11.430651
A30: Grupo materiales de construcción | B30: Materiales de construcción elaborados | C30: 0 | D30: 0 | E30: 0 | G30: 824360 | H30: 1105756 | I30: 281396 | J30: 34.135087 | K30: 14007169 | L30: 13643317 | M30: -363852 | N30: -2.5976127
A31: Grupo agroganadero y alimentario | B31: Cereales y sus harinas | C31: 0 | D31: 0 | E31: 0 | G31: 10779306 | H31: 13071306 | I31: 2292000 | J31: 21.262964 | K31: 1796769 | L31: 1918303 | M31: 121534 | N31: 6.7640303
A32: Grupo agroganadero y alimentario | B32: Habas de soja | C32: 0 | D32: 0 | E32: 0 | G32: 2424993 | H32: 2651570 | I32: 226577 | J32: 9.3434084 | K32: 176031 | L32: 68211 | M32: -107820 | N32: -61.250575
A33: Grupo agroganadero y alimentario | B33: Frutas, hortalizas y legumbres | C33: 0 | D33: 0 | E33: 0 | G33: 30427 | H33: 92122 | I33: 61695 | J33: 202.76399 | K33: 7695085 | L33: 8765442 | M33: 1070357 | N33: 13.909619
A34: Grupo agroganadero y alimentario | B34: Vinos, bebidas, alcoholes y derivados | C34: 74193 | D34: 110607 | E34: 36414 | F34: 49.080102 | G34: 0 | H34: 0 | I34: 0 | K34: 7051888 | L34: 6436409 | M34: -615479 | N34: -8.7278612
A35: Grupo agroganadero y alimentario | B35: Conservas | C35: 0 | D35: 0 | E35: 0 | G35: 0 | H35: 0 | I35: 0 | K35: 2744920 | L35: 2948009 | M35: 203089 | N35: 7.398722
A36: Grupo agroganadero y alimentario | B36: Tabaco, cacao, café y especias | C36: 0 | D36: 0 | E36: 0 | G36: 0 | H36: 0 | I36: 0 | K36: 2795113 | L36: 3002676 | M36: 207563 | N36: 7.4259252
A37: Grupo agroganadero y alimentario | B37: Aceites y grasas | C37: 3175844 | D37: 4182560 | E37: 1006716 | F37: 31.699164 | G37: 0 | H37: 0 | I37: 0 | K37: 2078501 | L37: 2292360 | M37: 213859 | N37: 10.289098
A38: Grupo agroganadero y alimentario | B38: Otros productos alimenticios | C38: 130418 | D38: 125933 | E38: -4485 | F38: -3.4389425 | G38: 185003 | H38: 244732 | I38: 59729 | J38: 32.285422 | K38: 16715853 | L38: 16397329 | M38: -318524 | N38: -1.9055205
A39: Grupo agroganadero y alimentario | B39: Pescado congelado y refrigerado | C39: 0 | D39: 0 | E39: 0 | G39: 231 | H39: 362 | I39: 131 | J39: 56.709957 | K39: 3150981 | L39: 3590739 | M39: 439758 | N39: 13.956225
A40: Grupo agroganadero y alimentario | B40: Piensos y forrajes | C40: 6234 | D40: 17807 | E40: 11573 | F40: 185.64325 | G40: 3764735 | H40: 3801382 | I40: 36647 | J40: 0.97342841 | K40: 3609124 | L40: 3403766 | M40: -205358 | N40: -5.689968
A41: Grupo otras mercancías | B41: Maderas y corcho | C41: 0 | D41: 0 | E41: 0 | G41: 392945 | H41: 235164 | I41: -157781 | J41: -40.153457 | K41: 3911371 | L41: 4165785 | M41: 254414 | N41: 6.5044712
A42: Grupo otras mercancías | B42: Papel y pasta | C42: 0 | D42: 0 | E42: 0 | G42: 0 | H42: 0 | I42: 0 | K42: 8096608 | L42: 7462196 | M42: -634412 | N42: -7.8355282
...

Sheet Total tráfico
A1: 1. TRÁFICO PORTUARIO TOTAL | AA1: ="Acumulado "&E6 -> Acumulado 2026
AA2: ="Acumulado "&D6 -> Acumulado 2025
A4: Datos en toneladas
A5: Autoridad Portuaria | B5: Septiembre | D5: Acumulado desde Enero | N5: Fecha: 21/10/2026
B6: 2025 | C6: 2026 | D6: 2025 | E6: 2026 | F6: Var. (%)
A7: A Coruña | B7: 1209652.6 | C7: 1384789.1 | D7: 10202600 | E7: 10230531 | F7: 0.27376527
A8: Alicante | B8: 282732 | C8: 281899 | D8: 2109045 | E8: 2525663 | F8: 19.753871
A9: Almería | B9: 428036.22 | C9: 402807.02 | D9: 4487970 | E9: 4649555 | F9: 3.6004025
A10: Avilés | B10: 445629.82 | C10: 295067.73 | D10: 3509380.8 | E10: 3263294 | F10: -7.0122564
A11: Bahía de Algeciras | B11: 7782162.3 | C11: 8681066.1 | D11: 75440520 | E11: 76247827 | F11: 1.0701233
A12: Bahía de Cádiz | B12: 660552.59 | C12: 401878.13 | D12: 4118580.9 | E12: 4267315.9 | F12: 3.6113187
A13: Baleares | B13: 1629106.5 | C13: 1508847.7 | D13: 13737302 | E13: 13551056 | F13: -1.3557721
A14: Barcelona | B14: 5432665.2 | C14: 5136047.5 | D14: 52263810 | E14: 52787176 | F14: 1.0013913
A15: Bilbao | B15: 2815235 | C15: 2681166 | D15: 23813217 | E15: 25310847 | F15: 6.2890705
A16: Cartagena | B16: 2830490.6 | C16: 3099152.6 | D16: 24978047 | E16: 26447708 | F16: 5.8838094
A17: Castellón | B17: 1809693.5 | C17: 1458909.3 | D17: 13924112 | E17: 14926878 | F17: 7.2016502
A18: Ceuta | B18: 235098.17 | C18: 238219 | D18: 1635576.6 | E18: 1725982.7 | F18: 5.5274753
... A34: Vilagarcía | B34: 138567 | C34: 142354 | D34: 1166696 | E34: 1194783 | F34: 2.4073966
A35: TOTAL | B35: =SUM(B7:B34) -> 46724084 | C35: =SUM(C7:C34) -> 47425807 | D35: =SUM(D7:D34) -> 4.1547545e+08 | E35: =SUM(E7:E34) -> 4.2062359e+08 | F35: =E35*100/D35-100 -> 1.239096
A36: Incluye cargas, descargas, tránsito, transbordo y taras

Sheet Total presentación
A1: 1.1. MERCANCÍAS SEGÚN SU PRESENTACIÓN
A2: (graneles líquidos, graneles sólidos y mercancía general)
A4: Datos en toneladas
A5: Autoridad Portuaria | B5: Septiembre | D5: Acumulado desde Enero | N5: Fecha: 21/10/2026
B6: 2025 | C6: 2026 | D6: 2025 | E6: 2026 | F6: Var. (%)
A7: A Coruña | B7: 1197240 | C7: 1375518 | D7: 10127024 | E7: 10170430 | F7: 0.42861555
A8: Alicante | B8: 278046 | C8: 280623 | D8: 2088350 | E8: 2508209 | F8: 20.10482
A9: Almería | B9: 419585 | C9: 394062 | D9: 4418472 | E9: 4579504 | F9: 3.6445178
A10: Avilés | B10: 441177 | C10: 290549 | D10: 3447774 | E10: 3209931 | F10: -6.898451
A11: Bahía de Algeciras | B11: 7201548 | C11: 7840643 | D11: 70618097 | E11: 70770871 | F11: 0.21633831
A12: Bahía de Cádiz | B12: 644645 | C12: 388233 | D12: 4014206 | E12: 4154052 | F12: 3.4837774
A13: Baleares | B13: 1616350 | C13: 1497908 | D13: 13630485 | E13: 13460241 | F13: -1.2489944
A14: Barcelona | B14: 5282212 | C14: 4965688 | D14: 50949220 | E14: 51325800 | F14: 0.7391281
A15: Bilbao | B15: 2813407 | C15: 2678286 | D15: 23794355 | E15: 25266716 | F15: 6.1878584
A16: Cartagena | B16: 2816877 | C16: 3075614 | D16: 24801789 | E16: 26232893 | F16: 5.7701644
A17: Castellón | B17: 1807120 | C17: 1456711 | D17: 13904365 | E17: 14904674 | F17: 7.1942084
A18: Ceuta | B18: 167173 | C18: 184995 | D18: 1070352 | E18: 1167409 | F18: 9.0677646
... A34: Vilagarcía | B34: 138130 | C34: 141586 | D34: 1161408 | E34: 1187691 | F34: 2.263029
A35: TOTAL | B35: =SUM(B7:B34) -> 45430553 | C35: =SUM(C7:C34) -> 45855353 | D35: =SUM(D7:D34) -> 403989694 | E35: =SUM(E7:E34) -> 408256001 | F35: =E35*100/D35-100 -> 1.0560435
A36: Incluye cargas, descargas, tránsito, transbordo y taras

Sheet Líquidos
A1: 2. GRANELES LÍQUIDOS
A4: Datos en toneladas
A5: Autoridad Portuaria | B5: Septiembre | D5: Acumulado desde Enero | N5: Fecha: 21/10/2026
B6: 2025 | C6: 2026 | D6: 2025 | E6: 2026 | F6: Var. (%)
A7: A Coruña | B7: 766120 | C7: 880339 | D7: 6993865 | E7: 7071425 | F7: 1.1089719
A8: Alicante | B8: 5011 | C8: 5054 | D8: 41271 | E8: 69743 | F8: 68.987909
A9: Almería | B9: 12174 | C9: 12300 | D9: 74074 | E9: 110584 | F9: 49.288549
A10: Avilés | B10: 43366 | C10: 55142 | D10: 442604 | E10: 466612 | F10: 5.4242619
A11: Bahía de Algeciras | B11: 2096756 | C11: 2347842 | D11: 21147894 | E11: 21762893 | F11: 2.9080863
A12: Bahía de Cádiz | B12: 179705 | C12: 79707 | D12: 846436 | E12: 630412 | F12: -25.521599
A13: Baleares | B13: 231495 | C13: 132772 | D13: 1350841 | E13: 1270758 | F13: -5.9283809
A14: Barcelona | B14: 1224876 | C14: 1196787 | D14: 12247543 | E14: 12510547 | F14: 2.1474021
A15: Bilbao | B15: 1646585 | C15: 1681033 | D15: 14150155 | E15: 16255597 | F15: 14.879286
A16: Cartagena | B16: 2174122 | C16: 2163316 | D16: 19257205 | E16: 19151019 | F16: -0.5514092
A17: Castellón | B17: 986489 | C17: 640262 | D17: 7017612 | E17: 6990202 | F17: -0.39058871
A18: Ceuta | B18: 115806 | C18: 118022 | D18: 617183 | E18: 689681 | F18: 11.746597
... A23: Málaga | B23: 3661 | C23: 13569 | D23: 55818 | E23: 82872 | F23: 48.468236
A24: Marín y Ría de Pontevedra | B24: 0 | C24: 0 | D24: 0 | E24: 0
A25: Melilla | B25: 5206 | C25: 7832 | D25: 49574 | E25: 60938 | F25: 22.923307
A26: Motril | B26: 179874 | C26: 83242 | D26: 1147154 | E26: 1015542 | F26: -11.472915
A27: Pasaia | B27: 0 | C27: 0 | D27: 0 | E27: 0
A28: Santa Cruz de Tenerife | B28: 358940 | C28: 320052 | D28: 2900635 | E28: 2813294 | F28: -3.0110993
A29: Santander | B29: 21705 | C29: 16860 | D29: 172315 | E29: 156227 | F29: -9.3363898
A30: Sevilla | B30: 61627 | C30: 31782 | D30: 389500 | E30: 441602 | F30: 13.376637
A31: Tarragona | B31: 1564256 | C31: 1739053 | D31: 14003493 | E31: 14852091 | F31: 6.0599023
A32: Valencia | B32: 402386 | C32: 273794 | D32: 2898522 | E32: 2937281 | F32: 1.3371988
A33: Vigo | B33: 3800 | C33: 2920 | D33: 23354 | E33: 27900 | F33: 19.465616
A34: Vilagarcía | B34: 14018 | C34: 23620 | D34: 249791 | E34: 179986 | F34: -27.945362
A35: TOTAL | B35: =SUM(B7:B34) -> 15028821 | C35: =SUM(C7:C34) -> 15406530 | D35: =SUM(D7:D34) -> 133515462 | E35: =SUM(E7:E34) -> 138373706 | F35: =E35*100/D35-100 -> 3.6387126
A36: Incluye cargas, descargas, tránsito y transbordo

Sheet Sólidos
A1: 3. GRANELES SÓLIDOS
A4: Datos en toneladas
A5: Autoridad Portuaria | B5: Septiembre | D5: Acumulado desde Enero | N5: Fecha: 21/10/2026
B6: 2025 | C6: 2026 | D6: 2025 | E6: 2026 | F6: Var. (%)
A7: A Coruña | B7: 383184 | C7: 462489 | D7: 2788503 | E7: 2703985 | F7: -3.0309453
A8: Alicante | B8: 161974 | C8: 124560 | D8: 1020474 | E8: 963022 | F8: -5.6299328
A9: Almería | B9: 294965 | C9: 298230 | D9: 3088453 | E9: 3294448 | F9: 6.6698441
A10: Avilés | B10: 292503 | C10: 125714 | D10: 2029673 | E10: 1775482 | F10: -12.523742
A11: Bahía de Algeciras | B11: 16834 | C11: 18713 | D11: 221428 | E11: 196012 | F11: -11.478223
A12: Bahía de Cádiz | B12: 269006 | C12: 115066 | D12: 1342105 | E12: 1689759 | F12: 25.903636
A13: Baleares | B13: 21499 | C13: 32172 | D13: 252021 | E13: 230642 | F13: -8.4830232
A14: Barcelona | B14: 386526 | C14: 225450 | D14: 2990002 | E14: 2907880 | F14: -2.7465533
A15: Bilbao | B15: 419839 | C15: 331761 | D15: 3361844 | E15: 2876504 | F15: -14.43672
A16: Cartagena | B16: 558692 | C16: 842217 | D16: 4823574 | E16: 6448797 | F16: 33.693336
A17: Castellón | B17: 726878 | C17: 670779 | D17: 5947745 | E17: 6517939 | F17: 9.5867257
A18: Ceuta | B18: 0 | C18: 0 | D18: 5300 | E18: 4907 | F18: -7.4150943
... A34: Vilagarcía | B34: 48408 | C34: 34902 | D34: 297771 | E34: 298875 | F34: 0.37075471
A35: TOTAL | B35: =SUM(B7:B34) -> 7778514 | C35: =SUM(C7:C34) -> 7317025 | D35: =SUM(D7:D34) -> 60312594 | E35: =SUM(E7:E34) -> 60127781 | F35: =E35*100/D35-100 -> -0.30642522
A36: Incluye cargas, descargas, tránsito y transbordo

Sheet Mercancía general
A1: 4. MERCANCÍA GENERAL
A4: Datos en toneladas
A5: Autoridad Portuaria | B5: Septiembre | D5: Acumulado desde Enero | N5: Fecha: 21/10/2026
B6: 2025 | C6: 2026 | D6: 2025 | E6: 2026 | F6: Var. (%)
A7: A Coruña | B7: 47936 | C7: 32690 | D7: 344656 | E7: 395020 | F7: 14.612831
A8: Alicante | B8: 111061 | C8: 151009 | D8: 1026605 | E8: 1475444 | F8: 43.72071
A9: Almería | B9: 112446 | C9: 83532 | D9: 1255945 | E9: 1174472 | F9: -6.4869879
A10: Avilés | B10: 105308 | C10: 109693 | D10: 975497 | E10: 967837 | F10: -0.78524075
A11: Bahía de Algeciras | B11: 5087958 | C11: 5474088 | D11: 49248775 | E11: 48811966 | F11: -0.88694389
A12: Bahía de Cádiz | B12: 195934 | C12: 193460 | D12: 1825665 | E12: 1833881 | F12: 0.4500278
A13: Baleares | B13: 1363356 | C13: 1332964 | D13: 12027623 | E13: 11958841 | F13: -0.57186694
A14: Barcelona | B14: 3670810 | C14: 3543451 | D14: 35711675 | E14: 35907373 | F14: 0.54799446
A15: Bilbao | B15: 746983 | C15: 665492 | D15: 6282356 | E15: 6134615 | F15: -2.3516814
A16: Cartagena | B16: 84063 | C16: 70081 | D16: 721010 | E16: 633077 | F16: -12.195809
A17: Castellón | B17: 93753 | C17: 145670 | D17: 939008 | E17: 1396533 | F17: 48.724292
A18: Ceuta | B18: 51367 | C18: 66973 | D18: 447869 | E18: 472821 | F18: 5.571272
... A34: Vilagarcía | B34: 75704 | C34: 83064 | D34: 613846 | E34: 708830 | F34: 15.473588
A35: TOTAL | B35: =SUM(B7:B34) -> 22623218 | C35: =SUM(C7:C34) -> 23131798 | D35: =SUM(D7:D34) -> 210161638 | E35: =SUM(E7:E34) -> 209754514 | F35: =E35*100/D35-100 -> -0.19371946
A36: Incluye cargas, descargas, tránsito, transbordo y taras

Sheet Mercancías contenedores
A1: 4.1. MERCANCÍA GENERAL EN CONTENEDORES
A4: Datos en toneladas
A5: Autoridad Portuaria | B5: Septiembre | D5: Acumulado desde Enero | N5: Fecha: 21/10/2026
B6: 2025 | C6: 2026 | D6: 2025 | E6: 2026 | F6: Var. (%)
A7: A Coruña | B7: 27 | C7: 0 | D7: 47 | E7: 0 | F7: -100
A8: Alicante | B8: 102431 | C8: 146073 | D8: 928122 | E8: 1357607 | F8: 46.274628
A9: Almería | B9: 22067 | C9: 8343 | D9: 230802 | E9: 111557 | F9: -51.665497
A10: Avilés | B10: 0 | C10: 0 | D10: 0 | E10: 74
A11: Bahía de Algeciras | B11: 4269836 | C11: 4537731 | D11: 39873743 | E11: 39143916 | F11: -1.8303448
A12: Bahía de Cádiz | B12: 124994 | C12: 121858 | D12: 1193939 | E12: 1152098 | F12: -3.5044504
A13: Baleares | B13: 24856 | C13: 29339 | D13: 229568 | E13: 240602 | F13: 4.806419
A14: Barcelona | B14: 2642898 | C14: 2534340 | D14: 26736405 | E14: 26856108 | F14: 0.44771539
A15: Bilbao | B15: 407559 | C15: 376252 | D15: 3558497 | E15: 3663614 | F15: 2.9539719
A16: Cartagena | B16: 53670 | C16: 42753 | D16: 450403 | E16: 413471 | F16: -8.1997678
A17: Castellón | B17: 89839 | C17: 139123 | D17: 920492 | E17: 1361563 | F17: 47.916875
A18: Ceuta | B18: 5974 | C18: 7853 | D18: 50788 | E18: 60422 | F18: 18.969048
A19: Ferrol-San Cibrao | B19: 6644 | C19: 1581 | D19: 216208 | E19: 99541 | F19: -53.960538
A20: Gijón | B20: 80985 | C20: 67033 | D20: 741837 | E20: 753969 | F20: 1.6353997
A21: Huelva | B21: 73173 | C21: 63524 | D21: 809828 | E21: 672263 | F21: -16.98694
A22: Las Palmas | B22: 1518783 | C22: 1651184 | D22: 12551618 | E22: 12695340 | F22: 1.1450476
... A34: Vilagarcía | B34: 34265 | C34: 33443 | D34: 232323 | E34: 273196 | F34: 17.593178
A35: TOTAL | B35: =SUM(B7:B34) -> 15311828 | C35: =SUM(C7:C34) -> 15807882 | D35: =SUM(D7:D34) -> 143801762 | E35: =SUM(E7:E34) -> 142671155 | F35: =E35*100/D35-100 -> -0.78622611
A36: Incluye cargas, descargas, tránsito, transbordo y taras

Sheet Pesca
A1: 5. PESCA
A4: Datos en toneladas
A5: Autoridad Portuaria | B5: Septiembre | D5: Acumulado desde Enero | N5: Fecha: 21/10/2026
B6: 2025 | C6: 2026 | D6: 2025 | E6: 2026 | F6: Var. (%)
A7: A Coruña | B7: 2339.647 | C7: 2774.096 | D7: 21547.503 | E7: 19948.677 | F7: -7.4200059
A8: Alicante | B8: 0 | C8: 0 | D8: 555.953 | E8: 217.972 | F8: -60.793089
A9: Almería | B9: 441.217 | C9: 710.023 | D9: 3847.97 | E9: 3284.955 | F9: -14.631481
A10: Avilés | B10: 549.822 | C10: 829.729 | D10: 9593.828 | E10: 7839.045 | F10: -18.290749
A11: Bahía de Algeciras | B11: 158.268 | C11: 92.131 | D11: 1019.923 | E11: 700.505 | F11: -31.317854
A12: Bahía de Cádiz | B12: 1079.587 | C12: 843.128 | D12: 9443.869 | E12: 7487.949 | F12: -20.711003
A13: Baleares | B13: 199.509 | C13: 191.674 | D13: 1577.129 | E13: 1180.621 | F13: -25.141127
A14: Barcelona | B14: 115.152 | C14: 159.51 | D14: 1202.403 | E14: 1215.629 | F14: 1.099964
A15: Bilbao | B15: 0 | C15: 0 | D15: 0 | E15: 0
A16: Cartagena | B16: 43.633 | C16: 70.576 | D16: 331.243 | E16: 206.944 | F16: -37.525019
A17: Castellón | B17: 205.457 | C17: 301.323 | D17: 1764.357 | E17: 2142.218 | F17: 21.416357
A18: Ceuta | B18: 6.165 | C18: 0 | D18: 28.614 | E18: 6.707 | F18: -76.560425
A19: Ferrol-San Cibrao | B19: 6.132 | C19: 3.441 | D19: 89.084 | E19: 51.567 | F19: -42.114184
A20: Gijón | B20: 352.271 | C20: 635.779 | D20: 11787.48 | E20: 10518.902 | F20: -10.76208
A21: Huelva | B21: 5.614 | C21: 3.27 | D21: 100.14 | E21: 99.906 | F21: -0.23367286
A22: Las Palmas | B22: 89.725 | C22: 123.002 | D22: 636.566 | E22: 704.857 | F22: 10.728031
A23: Málaga | B23: 0.207 | C23: 0 | D23: 14.57 | E23: 13.868 | F23: -4.8181194
A24: Marín y Ría de Pontevedra | B24: 305.129 | C24: 249.466 | D24: 1550.176 | E24: 1622.654 | F24: 4.6754691
A25: Melilla | B25: 0 | C25: 0 | D25: 0 | E25: 0
A26: Motril | B26: 70.057 | C26: 62.493 | D26: 666.141 | E26: 572.94 | F26: -13.991182
A27: Pasaia | B27: 1021.764 | C27: 1010.603 | D27: 13790.28 | E27: 11350.067 | F27: -17.695166
A28: Santa Cruz de Tenerife | B28: 162.003 | C28: 26.553 | D28: 1422.321 | E28: 1200.501 | F28: -15.595636
A29: Santander | B29: 243.62 | C29: 182.093 | D29: 2494.538 | E29: 1720.988 | F29: -31.00975
A30: Sevilla | B30: 0 | C30: 0 | D30: 0 | E30: 0
A31: Tarragona | B31: 95.072 | C31: 108.661 | D31: 971.377 | E31: 1252.242 | F31: 28.914109
A32: Valencia | B32: 52.103 | C32: 55.797 | D32: 681.455 | E32: 838.078 | F32: 22.983616
A33: Vigo | B33: 2778.094 | C33: 2489.699 | D33: 21549.811 | E33: 21163.678 | F33: -1.7918162
A34: Vilagarcía | B34: 0 | C34: 0 | D34: 0 | E34: 0
A35: TOTAL | B35: =SUM(B7:B34) -> 10320.248 | C35: =SUM(C7:C34) -> 10923.047 | D35: =SUM(D7:D34) -> 106666.73 | E35: =SUM(E7:E34) -> 95341.47 | F35: =E35*100/D35-100 -> -10.617426
A36: Incluye descargas de peces, moluscos, crustáceos y otros productos

Sheet Avituallamiento
A1: 6. AVITUALLAMIENTO
A4: Datos en toneladas
A5: Autoridad Portuaria | B5: Septiembre | D5: Acumulado desde Enero | N5: Fecha: 21/10/2026
B6: 2025 | C6: 2026 | D6: 2025 | E6: 2026 | F6: Var. (%)
A7: A Coruña | B7: 10073 | C7: 6497 | D7: 54028 | E7: 40152 | F7: -25.682979
A8: Alicante | B8: 4686 | C8: 1276 | D8: 20139 | E8: 17236 | F8: -14.414817
A9: Almería | B9: 8010 | C9: 8035 | D9: 65650 | E9: 66766 | F9: 1.6999238
A10: Avilés | B10: 3903 | C10: 3689 | D10: 37313 | E10: 35524 | F10: -4.7945756
A11: Bahía de Algeciras | B11: 286597 | C11: 389246 | D11: 2378687 | E11: 2550450 | F11: 7.2209164
A12: Bahía de Cádiz | B12: 14828 | C12: 12802 | D12: 94931 | E12: 105776 | F12: 11.424087
A13: Baleares | B13: 12557 | C13: 10748 | D13: 105240 | E13: 89610 | F13: -14.851767
A14: Barcelona | B14: 150338 | C14: 170200 | D14: 1313388 | E14: 1460160 | F14: 11.175068
A15: Bilbao | B15: 1828 | C15: 2880 | D15: 18862 | E15: 22592 | F15: 19.775209
A16: Cartagena | B16: 13570 | C16: 23468 | D16: 175927 | E16: 209666 | F16: 19.177841
A17: Castellón | B17: 2368 | C17: 1897 | D17: 17983 | E17: 20062 | F17: 11.560919
A18: Ceuta | B18: 67919 | C18: 53224 | D18: 565196 | E18: 558567 | F18: -1.1728675
... A34: Vilagarcía | B34: 437 | C34: 768 | D34: 5288 | E34: 7092 | F34: 34.114977
A35: TOTAL | B35: =SUM(B7:B34) -> 968630 | C35: =SUM(C7:C34) -> 1102294 | D35: =SUM(D7:D34) -> 8614122 | E35: =SUM(E7:E34) -> 9135132 | F35: =E35*100/D35-100 -> 6.0483239
A36: Incluye cargas de combustibles líquidos, agua, hielo, provisiones y varios

Sheet Avi. combustibles
A1: 6.1. AVITUALLAMIENTO DE COMBUSTIBLES LÍQUIDOS
A4: Datos en toneladas
A5: Autoridad Portuaria | B5: Septiembre | D5: Acumulado desde Enero | N5: Fecha: 21/10/2026
B6: 2025 | C6: 2026 | D6: 2025 | E6: 2026 | F6: Var. (%)
A7: A Coruña | B7: 3371 | C7: 2727 | D7: 27899 | E7: 24082 | F7: -13.681494
A8: Alicante | B8: 132 | C8: 109 | D8: 1208 | E8: 1406 | F8: 16.390728
A9: Almería | B9: 3359 | C9: 3678 | D9: 28237 | E9: 27946 | F9: -1.0305627
A10: Avilés | B10: 522 | C10: 1406 | D10: 9494 | E10: 10468 | F10: 10.259111
A11: Bahía de Algeciras | B11: 272903 | C11: 377161 | D11: 2273218 | E11: 2435326 | F11: 7.1312122
A12: Bahía de Cádiz | B12: 1322 | C12: 1345 | D12: 20799 | E12: 24967 | F12: 20.039425
A13: Baleares | B13: 45 | C13: 32 | D13: 234 | E13: 368 | F13: 57.264957
A14: Barcelona | B14: 118812 | C14: 140180 | D14: 1060897 | E14: 1190097 | F14: 12.178374
A15: Bilbao | B15: 1509 | C15: 2373 | D15: 15594 | E15: 18496 | F15: 18.609722
A16: Cartagena | B16: 1154 | C16: 1972 | D16: 20168 | E16: 19708 | F16: -2.2808409
A17: Castellón | B17: 0 | C17: 0 | D17: 0 | E17: 0
A18: Ceuta | B18: 64845 | C18: 51555 | D18: 538580 | E18: 542340 | F18: 0.69813213
A19: Ferrol-San Cibrao | B19: 601 | C19: 896 | D19: 6575 | E19: 6213 | F19: -5.5057034
A20: Gijón | B20: 0 | C20: 0 | D20: 18124 | E20: 10259 | F20: -43.395498
A21: Huelva | B21: 7222 | C21: 1419 | D21: 74380 | E21: 91322 | F21: 22.777628
A22: Las Palmas | B22: 196354 | C22: 215626 | D22: 1994827 | E22: 1952896 | F22: -2.1019868
A23: Málaga | B23: 7787 | C23: 4887 | D23: 28832 | E23: 64284 | F23: 122.9606
A24: Marín y Ría de Pontevedra | B24: 794 | C24: 1159 | D24: 11701 | E24: 11063 | F24: -5.4525254
A25: Melilla | B25: 0 | C25: 0 | D25: 0 | E25: 0
A26: Motril | B26: 1851 | C26: 754 | D26: 14014 | E26: 7293 | F26: -47.959184
A27: Pasaia | B27: 1059 | C27: 1080 | D27: 7836 | E27: 8863 | F27: 13.106177
A28: Santa Cruz de Tenerife | B28: 53813 | C28: 81011 | D28: 480769 | E28: 660778 | F28: 37.44189
A29: Santander | B29: 2698 | C29: 2775 | D29: 23827 | E29: 23535 | F29: -1.2255005
A30: Sevilla | B30: 1646 | C30: 1921 | D30: 12596 | E30: 11185 | F30: -11.201969
A31: Tarragona | B31: 2052 | C31: 2541 | D31: 28152 | E31: 22927 | F31: -18.55996
A32: Valencia | B32: 47329 | C32: 40065 | D32: 379430 | E32: 388068 | F32: 2.2765728
A33: Vigo | B33: 6391 | C33: 1564 | D33: 51949 | E33: 39168 | F33: -24.602976
A34: Vilagarcía | B34: 120 | C34: 25 | D34: 1574 | E34: 158 | F34: -89.961881
A35: TOTAL | B35: =SUM(B7:B34) -> 797691 | C35: =SUM(C7:C34) -> 938261 | D35: =SUM(D7:D34) -> 7130914 | E35: =SUM(E7:E34) -> 7593216 | F35: =E35*100/D35-100 -> 6.4830679
A36: Incluye cargas de combustibles líquidos

Sheet Tráfico interior
A1: 7. TRÁFICO INTERIOR
A4: Datos en toneladas
A5: Autoridad Portuaria | B5: Septiembre | D5: Acumulado desde Enero | N5: Fecha: 21/10/2026
B6: 2025 | C6: 2026 | D6: 2025 | E6: 2026 | F6: Var. (%)
A7: A Coruña | B7: 0 | C7: 0 | D7: 0 | E7: 0
A8: Alicante | B8: 0 | C8: 0 | D8: 0 | E8: 0
A9: Almería | B9: 0 | C9: 0 | D9: 0 | E9: 0
A10: Avilés | B10: 0 | C10: 0 | D10: 14700 | E10: 10000 | F10: -31.972789
A11: Bahía de Algeciras | B11: 293859 | C11: 451085 | D11: 2442716 | E11: 2925805 | F11: 19.776716
A12: Bahía de Cádiz | B12: 0 | C12: 0 | D12: 0 | E12: 0
A13: Baleares | B13: 0 | C13: 0 | D13: 0 | E13: 24
A14: Barcelona | B14: 0 | C14: 0 | D14: 0 | E14: 0
A15: Bilbao | B15: 0 | C15: 0 | D15: 0 | E15: 21539
A16: Cartagena | B16: 0 | C16: 0 | D16: 0 | E16: 4942
A17: Castellón | B17: 0 | C17: 0 | D17: 0 | E17: 0
A18: Ceuta | B18: 0 | C18: 0 | D18: 0 | E18: 0
A19: Ferrol-San Cibrao | B19: 0 | C19: 0 | D19: 5151 | E19: 10797 | F19: 109.60978
A20: Gijón | B20: 0 | C20: 0 | D20: 0 | E20: 0
A21: Huelva | B21: 18557 | C21: 5978 | D21: 204410 | E21: 147743 | F21: -27.722225
A22: Las Palmas | B22: 0 | C22: 0 | D22: 0 | E22: 9
A23: Málaga | B23: 0 | C23: 0 | D23: 0 | E23: 0
A24: Marín y Ría de Pontevedra | B24: 0 | C24: 0 | D24: 0 | E24: 0
A25: Melilla | B25: 0 | C25: 0 | D25: 0 | E25: 0
A26: Motril | B26: 0 | C26: 0 | D26: 0 | E26: 0
A27: Pasaia | B27: 0 | C27: 0 | D27: 0 | E27: 0
A28: Santa Cruz de Tenerife | B28: 168 | C28: 123 | D28: 1505 | E28: 887 | F28: -41.063123
A29: Santander | B29: 0 | C29: 0 | D29: 0 | E29: 1
A30: Sevilla | B30: 0 | C30: 0 | D30: 0 | E30: 0
A31: Tarragona | B31: 1997 | C31: 0 | D31: 96405 | E31: 15321 | F31: -84.107671
A32: Valencia | B32: 0 | C32: 0 | D32: 0 | E32: 0
A33: Vigo | B33: 0 | C33: 51 | D33: 84 | E33: 51 | F33: -39.285714
A34: Vilagarcía | B34: 0 | C34: 0 | D34: 0 | E34: 0
A35: TOTAL | B35: =SUM(B7:B34) -> 314581 | C35: =SUM(C7:C34) -> 457237 | D35: =SUM(D7:D34) -> 2764971 | E35: =SUM(E7:E34) -> 3137119 | F35: =E35*100/D35-100 -> 13.459382
A36: Incluye cargas, descargas, tránsito, transbordo y taras

Sheet Mercancías tránsito
A1: 8. MERCANCÍAS EN TRÁNSITO
A4: Datos en toneladas
A5: Autoridad Portuaria | B5: Septiembre | D5: Acumulado desde Enero | N5: Fecha: 21/10/2026
B6: 2025 | C6: 2026 | D6: 2025 | E6: 2026 | F6: Var. (%)
A7: A Coruña | B7: 22022 | C7: 0 | D7: 203981 | E7: 20400 | F7: -89.999069
A8: Alicante | B8: 1254 | C8: 31035 | D8: 10873 | E8: 352375 | F8: 3140.8259
A9: Almería | B9: 0 | C9: 0 | D9: 197 | E9: 0 | F9: -100
A10: Avilés | B10: 0 | C10: 0 | D10: 16768 | E10: 51828 | F10: 209.08874
A11: Bahía de Algeciras | B11: 4871549 | C11: 5327595 | D11: 46020325 | E11: 45382760 | F11: -1.3853987
A12: Bahía de Cádiz | B12: 206205 | C12: 78194 | D12: 1006809 | E12: 834059 | F12: -17.15817
A13: Baleares | B13: 1307 | C13: 1179 | D13: 11434 | E13: 48514 | F13: 324.29596
A14: Barcelona | B14: 1715358 | C14: 1615829 | D14: 18130679 | E14: 19237298 | F14: 6.1035717
A15: Bilbao | B15: 1246 | C15: 13572 | D15: 50757 | E15: 272693 | F15: 437.252
A16: Cartagena | B16: 0 | C16: 8094 | D16: 12582 | E16: 304163 | F16: 2317.4456
A17: Castellón | B17: 13138 | C17: 31713 | D17: 93358 | E17: 473211 | F17: 406.87783
A18: Ceuta | B18: 0 | C18: 0 | D18: 0 | E18: 1701
A19: Ferrol-San Cibrao | B19: 4985 | C19: 18560 | D19: 261324 | E19: 111650 | F19: -57.27526
A20: Gijón | B20: 47686 | C20: 86924 | D20: 409933 | E20: 453160 | F20: 10.544894
A21: Huelva | B21: 218453 | C21: 217728 | D21: 1994855 | E21: 2400450 | F21: 20.332054
A22: Las Palmas | B22: 1651625 | C22: 1767051 | D22: 13811437 | E22: 13330050 | F22: -3.485423
A23: Málaga | B23: 319379 | C23: 333138 | D23: 2614346 | E23: 2708715 | F23: 3.6096599
A24: Marín y Ría de Pontevedra | B24: 16 | C24: 29 | D24: 709 | E24: 64694 | F24: 9024.6827
A25: Melilla | B25: 0 | C25: 0 | D25: 0 | E25: 0
A26: Motril | B26: 0 | C26: 3119 | D26: 25559 | E26: 53846 | F26: 110.67334
A27: Pasaia | B27: 1343 | C27: 1490 | D27: 19130 | E27: 29681 | F27: 55.154208
A28: Santa Cruz de Tenerife | B28: 88027 | C28: 22192 | D28: 863100 | E28: 504736 | F28: -41.520565
A29: Santander | B29: 47175 | C29: 48057 | D29: 270496 | E29: 356569 | F29: 31.820434
A30: Sevilla | B30: 1 | C30: 0 | D30: 1 | E30: 1354 | F30: 135300
A31: Tarragona | B31: 343752 | C31: 179324 | D31: 1635430 | E31: 1527697 | F31: -6.5874418
A32: Valencia | B32: 2438846 | C32: 2480952 | D32: 24027253 | E32: 21825354 | F32: -9.1641729
A33: Vigo | B33: 35393 | C33: 20050 | D33: 331367 | E33: 262124 | F33: -20.896166
A34: Vilagarcía | B34: 14233 | C34: 855 | D34: 35016 | E34: 1538 | F34: -95.607722
A35: TOTAL | B35: =SUM(B7:B34) -> 12042993 | C35: =SUM(C7:C34) -> 12286680 | D35: =SUM(D7:D34) -> 111857719 | E35: =SUM(E7:E34) -> 110610620 | F35: =E35*100/D35-100 -> -1.1148976
A36: Incluye cargas y descargas en tránsito y taras

Sheet Mercan. contene. tránsito
A1: 8.1. MERCANCÍAS EN TRÁNSITO EN CONTENEDORES
A4: Datos en toneladas
A5: Autoridad Portuaria | B5: Septiembre | D5: Acumulado desde Enero | N5: Fecha: 21/10/2026
B6: 2025 | C6: 2026 | D6: 2025 | E6: 2026 | F6: Var. (%)
A7: A Coruña | B7: 0 | C7: 0 | D7: 0 | E7: 0
A8: Alicante | B8: 1254 | C8: 31035 | D8: 10873 | E8: 352375 | F8: 3140.8259
A9: Almería | B9: 0 | C9: 0 | D9: 197 | E9: 0 | F9: -100
A10: Avilés | B10: 0 | C10: 0 | D10: 0 | E10: 0
A11: Bahía de Algeciras | B11: 3710050 | C11: 4036725 | D11: 35186207 | E11: 34685779 | F11: -1.4222277
A12: Bahía de Cádiz | B12: 23375 | C12: 12764 | D12: 178965 | E12: 160598 | F12: -10.262901
A13: Baleares | B13: 0 | C13: 0 | D13: 46 | E13: 13 | F13: -71.73913
A14: Barcelona | B14: 1116229 | C14: 971211 | D14: 11845466 | E14: 12409800 | F14: 4.7641351
A15: Bilbao | B15: 1246 | C15: 2347 | D15: 24635 | E15: 246339 | F15: 899.95535
A16: Cartagena | B16: 0 | C16: 52 | D16: 1445 | E16: 13259 | F16: 817.57785
A17: Castellón | B17: 13138 | C17: 31713 | D17: 93358 | E17: 473192 | F17: 406.85747
A18: Ceuta | B18: 0 | C18: 0 | D18: 0 | E18: 0
A19: Ferrol-San Cibrao | B19: 10 | C19: 0 | D19: 107965 | E19: 90954 | F19: -15.756032
A20: Gijón | B20: 81 | C20: 4 | D20: 615 | E20: 794 | F20: 29.105691
A21: Huelva | B21: 23533 | C21: 19180 | D21: 274634 | E21: 272813 | F21: -0.6630643
A22: Las Palmas | B22: 1159210 | C22: 1261834 | D22: 9244812 | E22: 9236810 | F22: -0.086556655
A23: Málaga | B23: 319379 | C23: 326311 | D23: 2601419 | E23: 2695866 | F23: 3.6305955
A24: Marín y Ría de Pontevedra | B24: 16 | C24: 29 | D24: 623 | E24: 64624 | F24: 10273.034
A25: Melilla | B25: 0 | C25: 0 | D25: 0 | E25: 0
A26: Motril | B26: 0 | C26: 0 | D26: 0 | E26: 0
A27: Pasaia | B27: 0 | C27: 0 | D27: 0 | E27: 0
A28: Santa Cruz de Tenerife | B28: 72754 | C28: 20620 | D28: 816232 | E28: 451636 | F28: -44.668183
A29: Santander | B29: 33787 | C29: 46655 | D29: 248556 | E29: 351807 | F29: 41.540337
A30: Sevilla | B30: 0 | C30: 0 | D30: 0 | E30: 8
A31: Tarragona | B31: 0 | C31: 0 | D31: 0 | E31: 487
A32: Valencia | B32: 2396670 | C32: 2451220 | D32: 23633750 | E32: 21414127 | F32: -9.3917512
A33: Vigo | B33: 21007 | C33: 12478 | D33: 237298 | E33: 180677 | F33: -23.860715
A34: Vilagarcía | B34: 9943 | C34: 855 | D34: 10016 | E34: 1538 | F34: -84.644569
A35: TOTAL | B35: =SUM(B7:B34) -> 8901682 | C35: =SUM(C7:C34) -> 9225033 | D35: =SUM(D7:D34) -> 84517112 | E35: =SUM(E7:E34) -> 83103496 | F35: =E35*100/D35-100 -> -1.6725796
A36: Incluye cargas y descargas en tránsito y taras

Sheet Ro-Ro
A1: 9. TRÁFICO RO-RO
A4: Datos en toneladas
A5: Autoridad Portuaria | B5: Septiembre | D5: Acumulado desde Enero | N5: Fecha: 21/10/2026
B6: 2025 | C6: 2026 | D6: 2025 | E6: 2026 | F6: Var. (%)
A7: A Coruña | B7: 0 | C7: 0 | D7: 0 | E7: 109
A8: Alicante | B8: 6530 | C8: 5036 | D8: 61520 | E8: 79328 | F8: 28.946684
A9: Almería | B9: 65043 | C9: 60120 | D9: 752809 | E9: 837232 | F9: 11.214398
A10: Avilés | B10: 0 | C10: 0 | D10: 0 | E10: 0
A11: Bahía de Algeciras | B11: 813517 | C11: 922870 | D11: 9318274 | E11: 9545574 | F11: 2.4392929
A12: Bahía de Cádiz | B12: 79449 | C12: 78639 | D12: 687637 | E12: 712621 | F12: 3.6333123
A13: Baleares | B13: 1357740 | C13: 1321268 | D13: 11964344 | E13: 11889692 | F13: -0.62395398
A14: Barcelona | B14: 994777 | C14: 1010038 | D14: 8991549 | E14: 9189021 | F14: 2.1961956
A15: Bilbao | B15: 98624 | C15: 86974 | D15: 953081 | E15: 796780 | F15: -16.399551
A16: Cartagena | B16: 0 | C16: 0 | D16: 366 | E16: 0 | F16: -100
A17: Castellón | B17: 0 | C17: 0 | D17: 231 | E17: 382 | F17: 65.367965
A18: Ceuta | B18: 50317 | C18: 66523 | D18: 439792 | E18: 468807 | F18: 6.597437
A19: Ferrol-San Cibrao | B19: 916 | C19: 774 | D19: 12759 | E19: 10630 | F19: -16.686261
A20: Gijón | B20: 0 | C20: 0 | D20: 0 | E20: 0
A21: Huelva | B21: 43889 | C21: 42959 | D21: 462807 | E21: 417396 | F21: -9.8120815
A22: Las Palmas | B22: 482935 | C22: 509737 | D22: 4322185 | E22: 4516909 | F22: 4.5052213
A23: Málaga | B23: 40949 | C23: 31372 | D23: 330215 | E23: 326426 | F23: -1.1474342
A24: Marín y Ría de Pontevedra | B24: 0 | C24: 0 | D24: 0 | E24: 0
A25: Melilla | B25: 35617 | C25: 40212 | D25: 340126 | E25: 347343 | F25: 2.1218607
A26: Motril | B26: 30608 | C26: 10215 | D26: 406492 | E26: 54501 | F26: -86.592356
A27: Pasaia | B27: 49926 | C27: 45693 | D27: 393405 | E27: 394062 | F27: 0.16700347
A28: Santa Cruz de Tenerife | B28: 386714 | C28: 385225 | D28: 3506100 | E28: 3516696 | F28: 0.30221614
A29: Santander | B29: 181559 | C29: 179841 | D29: 1593778 | E29: 1529132 | F29: -4.0561483
A30: Sevilla | B30: 13773 | C30: 11033 | D30: 123869 | E30: 102743 | F30: -17.055115
A31: Tarragona | B31: 24321 | C31: 17043 | D31: 256557 | E31: 261710 | F31: 2.0085205
A32: Valencia | B32: 1155070 | C32: 1193983 | D32: 10495991 | E32: 10497167 | F32: 0.011204278
A33: Vigo | B33: 125541 | C33: 116544 | D33: 1023883 | E33: 972202 | F33: -5.0475494
A34: Vilagarcía | B34: 29186 | C34: 35043 | D34: 98833 | E34: 275096 | F34: 178.34428
A35: TOTAL | B35: =SUM(B7:B34) -> 6067001 | C35: =SUM(C7:C34) -> 6171142 | D35: =SUM(D7:D34) -> 56536603 | E35: =SUM(E7:E34) -> 56741559 | F35: =E35*100/D35-100 -> 0.36251913
A36: Incluye cargas, descargas, tránsito, transbordo y taras

Sheet Ro-Ro UTIS
A1: 9.1. UNIDADES DE TRANSPORTE INTERMODAL RO-RO
A4: Datos en unidades
A5: Autoridad Portuaria | B5: Septiembre | D5: Acumulado desde Enero | N5: Fecha: 21/10/2026
B6: 2025 | C6: 2026 | D6: 2025 | E6: 2026 | F6: Var. (%)
A7: A Coruña | B7: 0 | C7: 0 | D7: 0 | E7: 0
A8: Alicante | B8: 185 | C8: 249 | D8: 1579 | E8: 2114 | F8: 33.882204
A9: Almería | B9: 3869 | C9: 2759 | D9: 40271 | E9: 39636 | F9: -1.5768171
A10: Avilés | B10: 0 | C10: 0 | D10: 0 | E10: 0
A11: Bahía de Algeciras | B11: 35863 | C11: 39144 | D11: 393023 | E11: 399207 | F11: 1.5734448
A12: Bahía de Cádiz | B12: 3084 | C12: 2982 | D12: 25420 | E12: 27178 | F12: 6.9158143
A13: Baleares | B13: 58661 | C13: 60664 | D13: 551874 | E13: 559344 | F13: 1.3535698
A14: Barcelona | B14: 36239 | C14: 37210 | D14: 328115 | E14: 338010 | F14: 3.015711
A15: Bilbao | B15: 3394 | C15: 3128 | D15: 35263 | E15: 28880 | F15: -18.101126
A16: Cartagena | B16: 0 | C16: 0 | D16: 0 | E16: 0
A17: Castellón | B17: 0 | C17: 0 | D17: 0 | E17: 0
A18: Ceuta | B18: 2683 | C18: 3227 | D18: 24243 | E18: 24633 | F18: 1.6087118
A19: Ferrol-San Cibrao | B19: 0 | C19: 7 | D19: 26 | E19: 53 | F19: 103.84615
A20: Gijón | B20: 0 | C20: 0 | D20: 0 | E20: 0
A21: Huelva | B21: 2426 | C21: 2124 | D21: 25343 | E21: 20806 | F21: -17.902379
A22: Las Palmas | B22: 29614 | C22: 29514 | D22: 263999 | E22: 266091 | F22: 0.79242724
A23: Málaga | B23: 1802 | C23: 1783 | D23: 16163 | E23: 15641 | F23: -3.2295985
A24: Marín y Ría de Pontevedra | B24: 0 | C24: 0 | D24: 0 | E24: 0
A25: Melilla | B25: 2264 | C25: 2574 | D25: 21439 | E25: 21604 | F25: 0.76962545
A26: Motril | B26: 1371 | C26: 256 | D26: 17468 | E26: 2362 | F26: -86.478131
A27: Pasaia | B27: 294 | C27: 237 | D27: 2366 | E27: 2349 | F27: -0.71851226
A28: Santa Cruz de Tenerife | B28: 24950 | C28: 24805 | D28: 225554 | E28: 226704 | F28: 0.50985573
A29: Santander | B29: 3865 | C29: 3786 | D29: 35188 | E29: 31110 | F29: -11.589178
A30: Sevilla | B30: 753 | C30: 593 | D30: 6594 | E30: 5655 | F30: -14.240218
A31: Tarragona | B31: 0 | C31: 0 | D31: 0 | E31: 0
A32: Valencia | B32: 43560 | C32: 43118 | D32: 399647 | E32: 388970 | F32: -2.6716077
A33: Vigo | B33: 1711 | C33: 1408 | D33: 13119 | E33: 12389 | F33: -5.5644485
A34: Vilagarcía | B34: 859 | C34: 1018 | D34: 2820 | E34: 8315 | F34: 194.85816
A35: TOTAL | B35: =SUM(B7:B34) -> 257447 | C35: =SUM(C7:C34) -> 260586 | D35: =SUM(D7:D34) -> 2429514 | E35: =SUM(E7:E34) -> 2421051 | F35: =E35*100/D35-100 -> -0.34834127
A36: Incluye camiones, remolques, semirremolques, plataformas, cabezas tractoras, furgones y otros equipos

Sheet TEUS
A1: 10. CONTENEDORES
A4: Datos en TEUS
A5: Autoridad Portuaria | B5: Septiembre | D5: Acumulado desde Enero | N5: Fecha: 21/10/2026
B6: 2025 | C6: 2026 | D6: 2025 | E6: 2026 | F6: Var. (%)
A7: A Coruña | B7: 4 | C7: 0 | D7: 7 | E7: 0 | F7: -100
A8: Alicante | B8: 16646.5 | C8: 22755.75 | D8: 142536 | E8: 190214.5 | F8: 33.450146
A9: Almería | B9: 1339 | C9: 727 | D9: 15589 | E9: 9474 | F9: -39.226378
A10: Avilés | B10: 0 | C10: 0 | D10: 0 | E10: 8
A11: Bahía de Algeciras | B11: 416676 | C11: 410478 | D11: 3545798 | E11: 3566055 | F11: 0.57129594
A12: Bahía de Cádiz | B12: 16876.5 | C12: 16736 | D12: 158605 | E12: 157564.25 | F12: -0.65618991
A13: Baleares | B13: 7509 | C13: 7714 | D13: 65516 | E13: 68584 | F13: 4.6828256
A14: Barcelona | B14: 293692.5 | C14: 270483.5 | D14: 2829224.2 | E14: 2817979.5 | F14: -0.39744994
A15: Bilbao | B15: 35660.25 | C15: 33253.25 | D15: 317833.25 | E15: 318350.5 | F15: 0.16274257
A16: Cartagena | B16: 3818 | C16: 2971 | D16: 33295 | E16: 31477 | F16: -5.4602793
A17: Castellón | B17: 7790.5 | C17: 11309.25 | D17: 78208.25 | E17: 108837.75 | F17: 39.164027
A18: Ceuta | B18: 491 | C18: 1136.5 | D18: 4163 | E18: 7776.75 | F18: 86.80639
A19: Ferrol-San Cibrao | B19: 877 | C19: 598 | D19: 20957.75 | E19: 7735.75 | F19: -63.088833
A20: Gijón | B20: 5808 | C20: 5124 | D20: 52255 | E20: 51009 | F20: -2.3844608
A21: Huelva | B21: 10097.5 | C21: 8819 | D21: 120322.75 | E21: 86531.75 | F21: -28.083633
A22: Las Palmas | B22: 138590 | C22: 143868 | D22: 1157431 | E22: 1207475 | F22: 4.3237135
... A34: Vilagarcía | B34: 3767 | C34: 4157.75 | D34: 27511.75 | E34: 33046.25 | F34: 20.116859
A35: TOTAL | B35: =SUM(B7:B34) -> 1553011.8 | C35: =SUM(C7:C34) -> 1582391.5 | D35: =SUM(D7:D34) -> 14029806 | E35: =SUM(E7:E34) -> 14178081 | F35: =E35*100/D35-100 -> 1.0568589
A36: Incluye cargas, descargas, tránsito y transbordo

Sheet TEUS tránsito
A1: 10.1. CONTENEDORES EN TRÁNSITO
A4: Datos en TEUS
A5: Autoridad Portuaria | B5: Septiembre | D5: Acumulado desde Enero | N5: Fecha: 21/10/2026
B6: 2025 | C6: 2026 | D6: 2025 | E6: 2026 | F6: Var. (%)
A7: A Coruña | B7: 0 | C7: 0 | D7: 0 | E7: 0
A8: Alicante | B8: 121 | C8: 5104.5 | D8: 1133 | E8: 35085.5 | F8: 2996.6902
A9: Almería | B9: 0 | C9: 0 | D9: 90 | E9: 0 | F9: -100
A10: Avilés | B10: 0 | C10: 0 | D10: 0 | E10: 0
A11: Bahía de Algeciras | B11: 353891 | C11: 358096 | D11: 3057885 | E11: 3084840 | F11: 0.88149162
A12: Bahía de Cádiz | B12: 2237.75 | C12: 1099 | D12: 15119 | E12: 14757.5 | F12: -2.3910312
A13: Baleares | B13: 0 | C13: 0 | D13: 10 | E13: 6 | F13: -40
A14: Barcelona | B14: 116712.5 | C14: 92366.5 | D14: 1165299.5 | E14: 1173566 | F14: 0.70938844
A15: Bilbao | B15: 124.5 | C15: 181.75 | D15: 2232.5 | E15: 18158.75 | F15: 713.38186
A16: Cartagena | B16: 0 | C16: 26 | D16: 202 | E16: 1130 | F16: 459.40594
A17: Castellón | B17: 1232.25 | C17: 1848 | D17: 7691.75 | E17: 33040 | F17: 329.55114
A18: Ceuta | B18: 0 | C18: 0 | D18: 0 | E18: 0
A19: Ferrol-San Cibrao | B19: 2 | C19: 0 | D19: 8389.25 | E19: 5705 | F19: -31.996305
A20: Gijón | B20: 15 | C20: 2 | D20: 186 | E20: 332 | F20: 78.494624
A21: Huelva | B21: 2285.75 | C21: 1816.25 | D21: 26099.75 | E21: 25095.25 | F21: -3.8486959
A22: Las Palmas | B22: 88870 | C22: 93151 | D22: 710166 | E22: 738328 | F22: 3.9655517
A23: Málaga | B23: 19457.5 | C23: 33987.25 | D23: 228425.25 | E23: 270894.5 | F23: 18.592187
A24: Marín y Ría de Pontevedra | B24: 2 | C24: 2 | D24: 273 | E24: 6100 | F24: 2134.4322
A25: Melilla | B25: 0 | C25: 0 | D25: 0 | E25: 0
A26: Motril | B26: 0 | C26: 0 | D26: 0 | E26: 0
A27: Pasaia | B27: 0 | C27: 0 | D27: 0 | E27: 0
A28: Santa Cruz de Tenerife | B28: 4446 | C28: 1471 | D28: 60276 | E28: 31718 | F28: -47.378725
A29: Santander | B29: 2771 | C29: 3733.25 | D29: 20161.75 | E29: 29670.25 | F29: 47.161085
A30: Sevilla | B30: 0 | C30: 0 | D30: 0 | E30: 1
A31: Tarragona | B31: 0 | C31: 0 | D31: 0 | E31: 216
A32: Valencia | B32: 206877 | C32: 203205 | D32: 1970580 | E32: 1788604 | F32: -9.2346416
A33: Vigo | B33: 1372 | C33: 897 | D33: 17934 | E33: 13800 | F33: -23.051188
A34: Vilagarcía | B34: 829.5 | C34: 41 | D34: 851.5 | E34: 124.5 | F34: -85.378743
A35: TOTAL | B35: =SUM(B7:B34) -> 801246.75 | C35: =SUM(C7:C34) -> 797027.5 | D35: =SUM(D7:D34) -> 7293005.2 | E35: =SUM(E7:E34) -> 7271172.2 | F35: =E35*100/D35-100 -> -0.29936904
A36: Incluye cargas y descargas en tránsito y taras

Sheet TEUS nacional
A1: 10.2. CONTENEDORES ORIGEN-DESTINO NACIONAL
A4: Datos en TEUS
A5: Autoridad Portuaria | B5: Septiembre | D5: Acumulado desde Enero | N5: Fecha: 21/10/2026
B6: 2025 | C6: 2026 | D6: 2025 | E6: 2026 | F6: Var. (%)
A7: A Coruña | B7: 0 | C7: 0 | D7: 0 | E7: 0
A8: Alicante | B8: 13491.25 | C8: 14066.25 | D8: 117454.75 | E8: 128700.5 | F8: 9.5745383
A9: Almería | B9: 156 | C9: 252.25 | D9: 3735 | E9: 3148.25 | F9: -15.709505
A10: Avilés | B10: 0 | C10: 0 | D10: 0 | E10: 0
A11: Bahía de Algeciras | B11: 0 | C11: 0 | D11: 0 | E11: 0
A12: Bahía de Cádiz | B12: 12481.5 | C12: 12677.25 | D12: 121770.25 | E12: 119356.25 | F12: -1.9824218
A13: Baleares | B13: 7509 | C13: 7708 | D13: 65466 | E13: 68514 | F13: 4.6558519
A14: Barcelona | B14: 16401 | C14: 17100.5 | D14: 167103.25 | E14: 170216 | F14: 1.8627705
A15: Bilbao | B15: 1365.5 | C15: 1823.75 | D15: 13169.75 | E15: 11226.75 | F15: -14.753507
A16: Cartagena | B16: 706 | C16: 355 | D16: 5010 | E16: 4394.5 | F16: -12.285429
A17: Castellón | B17: 424.25 | C17: 437.25 | D17: 6883.25 | E17: 8537.5 | F17: 24.032979
A18: Ceuta | B18: 478 | C18: 1116.5 | D18: 4050 | E18: 7665.5 | F18: 89.271605
A19: Ferrol-San Cibrao | B19: 338.75 | C19: 0 | D19: 3721.25 | E19: 0 | F19: -100
A20: Gijón | B20: 605 | C20: 447 | D20: 8059 | E20: 3876 | F20: -51.904703
A21: Huelva | B21: 6565.75 | C21: 6679 | D21: 65685.75 | E21: 56606.5 | F21: -13.822252
A22: Las Palmas | B22: 42198 | C22: 43900 | D22: 383756 | E22: 394738 | F22: 2.8617142
A23: Málaga | B23: 621 | C23: 1675 | D23: 6236.5 | E23: 8918 | F23: 42.996873
... A25: Melilla | B25: 313 | C25: 354 | D25: 3352.75 | E25: 2823.5 | F25: -15.785549
A26: Motril | B26: 0 | C26: 0 | D26: 0 | E26: 0
